Workbook
Name Analyst: 'Base Data'!$C$2
Name Cap_AWSC: Capacity!$A$38
Name Cap_ItoI_Cap: Capacity!$B$25:$B$29
Name Cap_ItoI_Speed: Capacity!$A$25:$A$29
Name Cap_Mnln_Cap: Capacity!$B$8:$B$14
Name Cap_Mnln_Spd: Capacity!$A$8:$A$14
Name Cap_Sig_Cap: Capacity!$E$37:$E$38
Name Cap_Sig_RorU: Capacity!$D$37:$D$38
Name Closure: 'Base Data'!$C$1
Name Contract: 'Base Data'!$G$2
Name Date: 'Base Data'!$E$2
Name RuralUrban: 'Base Data'!$C$3

Sheet Start Here
A1: Instructions for using the Detour Route Spreadsheet
A2: 1) Begin in the "Base Data" tab

Sheet Base Data
B1: Closure: | C1: <Road From & Direction> to <Road To & Direction>, Ramp <Letter from Interchange Book> | L1: Key: | M1: Retrieved from Elsewhere in Workbook
B2: Analyst: | D2: Date: | F2: Contract #: | M2: Requires Copied/Entered Data
B3: Rural/Urban: | D3: Month of Work: | F3: Adj. Factor: | G3: =IFERROR(INDEX($S$9:$T$20,MATCH($E$3,$R$9:$R$20,0),MATCH($C$3,$S$8:$T$8,0)),1) -> 1 | M3: Automatic Calculations
B4: <Link Name> | C4: <Link Name> | D4: <Link Name> | E4: <Link Name> | F4: <Link Name> | G4: <Link Name> | H4: <Link Name> | I4: <Link Name> | M4: Time Of Interest
B5: Closed Ramp | C5: Detour: Link 1 | D5: Detour: Link 2 | E5: Detour: Link 3 | F5: Detour: Link 4 | G5: Detour: Link 5 | H5: Detour: Link 6 | I5: Detour: Link 7
A6: # Lanes | L6: Time of Proposed Closure | R6: Interstate Seasonal Adjustment Factors
A7: Speed | L7: Type: | M7: Weekday or Night-time Only | R7: Source: | S7: Latest INDOT Traffic Adjustment Factors
A8: Time | B8: Select Link Type | C8: Select Link Type | D8: Select Link Type | E8: Select Link Type | F8: Select Link Type | G8: Select Link Type | H8: Select Link Type | I8: Select Link Type | L8: Time | M8: Monday-Thursday | N8: Friday | O8: Saturday | P8: Sunday | R8: Month | S8: Urban | T8: Rural
A9: 12 | L9: 12 | R9: January | S9: 1.155 | T9: 1.257
A10: 1 | L10: 1 | R10: February | S10: 1.094 | T10: 1.182
A11: 2 | L11: 2 | R11: March | S11: 1.02 | T11: 1.056
A12: 3 | L12: 3 | R12: April | S12: 0.988 | T12: 1.015
A13: 4 | L13: 4 | R13: May | S13: 0.968 | T13: 0.955
A14: 5 | L14: 5 | R14: June | S14: 0.95 | T14: 0.901
A15: 6 | L15: 6 | R15: July | S15: 0.946 | T15: 0.865
A16: 7 | L16: 7 | R16: August | S16: 0.939 | T16: 0.895
A17: 8 | L17: 8 | R17: September | S17: 0.982 | T17: 0.986
A18: 9 | L18: 9 | R18: October | S18: 0.971 | T18: 0.972
A19: 10 | L19: 10 | R19: November | S19: 1.01 | T19: 1.004
A20: 11 | L20: 11 | R20: December | S20: 1.058 | T20: 1.089
A21: 12 | L21: 12
A22: 1 | L22: 1
A23: 2 | L23: 2
A24: 3 | L24: 3
A25: 4 | L25: 4
A26: 5 | L26: 5
A27: 6 | L27: 6
A28: 7 | L28: 7
A29: 8 | L29: 8
A30: 9 | L30: 9
A31: 10 | L31: 10
A32: 11 | L32: 11

Sheet Weekday
A1: ="Traffic Analysis of Burden on Detour Route as a Result of"&CHAR(10)&"Closure of "&Closure&": "&RIGHT(CELL("Filename",A1),LEN(CELL("Filename",A1))-FIND("]",CELL("Filename",A1))) -> Traffic Analysis of Burden on Detour Route as a Result of Closure of <Road From & Direction> to <Road To & Direction>, Ramp <Letter from Interchange Book>: Weekday
A3: Time | B3: ='Base Data'!B4 -> <Link Name> | C3: ='Base Data'!C4 -> <Link Name> | E3: ='Base Data'!D4 -> <Link Name> | G3: ='Base Data'!E4 -> <Link Name> | I3: ='Base Data'!F4 -> <Link Name> | K3: ='Base Data'!G4 -> <Link Name> | M3: ='Base Data'!H4 -> <Link Name> | O3: ='Base Data'!I4 -> <Link Name>
B4: ='Base Data'!B5 -> Closed Ramp | C4: ='Base Data'!C5 -> Detour: Link 1 | E4: ='Base Data'!D5 -> Detour: Link 2 | G4: ='Base Data'!E5 -> Detour: Link 3 | I4: ='Base Data'!F5 -> Detour: Link 4 | K4: ='Base Data'!G5 -> Detour: Link 5 | M4: ='Base Data'!H5 -> Detour: Link 6 | O4: ='Base Data'!I5 -> Detour: Link 7
B5: ='Base Data'!B8 -> Select Link Type | C5: ='Base Data'!C8 -> Select Link Type | E5: ='Base Data'!D8 -> Select Link Type | G5: ='Base Data'!E8 -> Select Link Type | I5: ='Base Data'!F8 -> Select Link Type | K5: ='Base Data'!G8 -> Select Link Type | M5: ='Base Data'!H8 -> Select Link Type | O5: ='Base Data'!I8 -> Select Link Type
B6: Base (Weekday Detour) BRCW | C6: Link 1 Base B1W | D6: Link 1 Weekday Total B1W + BRCW | E6: Link 2 Base B2W | F6: Link 2 Weekday Total B2W + BRCW | G6: Link 3 Base B3W | H6: Link 3 Weekday Total B3W + BRCW | I6: Link 4 Base B4W | J6: Link 4 Weekday Total B4W + BRCW | K6: Link 5 Base B5W | L6: Link 5 Weekday Total B5W + BRCW | M6: Link 6 Base B6W | N6: Link 6 Weekday Total B6W + BRCW | O6: Link 7 Base B7W | P6: Link 7 Weekday Total B7W + BRCW
A7: 12 | B7: ='Base Data'!B9/'Base Data'!$G$3 -> 0 | C7: ='Base Data'!C9/'Base Data'!$G$3 -> 0 | D7: =$B7+C7 -> 0 | E7: ='Base Data'!D9/'Base Data'!$G$3 -> 0 | F7: =$B7+E7 -> 0 | G7: ='Base Data'!E9/'Base Data'!$G$3 -> 0 | H7: =$B7+G7 -> 0 | I7: ='Base Data'!F9/'Base Data'!$G$3 -> 0 | J7: =$B7+I7 -> 0 | K7: ='Base Data'!G9/'Base Data'!$G$3 -> 0 | L7: =$B7+K7 -> 0 | M7: ='Base Data'!H9/'Base Data'!$G$3 -> 0 | N7: =$B7+M7 -> 0 | O7: ='Base Data'!I9/'Base Data'!$G$3 -> 0 | P7: =$B7+O7 -> 0
A8: 1 | B8: ='Base Data'!B10/'Base Data'!$G$3 -> 0 | C8: ='Base Data'!C10/'Base Data'!$G$3 -> 0 | D8: =$B8+C8 -> 0 | E8: ='Base Data'!D10/'Base Data'!$G$3 -> 0 | F8: =$B8+E8 -> 0 | G8: ='Base Data'!E10/'Base Data'!$G$3 -> 0 | H8: =$B8+G8 -> 0 | I8: ='Base Data'!F10/'Base Data'!$G$3 -> 0 | J8: =$B8+I8 -> 0 | K8: ='Base Data'!G10/'Base Data'!$G$3 -> 0 | L8: =$B8+K8 -> 0 | M8: ='Base Data'!H10/'Base Data'!$G$3 -> 0 | N8: =$B8+M8 -> 0 | O8: ='Base Data'!I10/'Base Data'!$G$3 -> 0 | P8: =$B8+O8 -> 0
A9: 2 | B9: ='Base Data'!B11/'Base Data'!$G$3 -> 0 | C9: ='Base Data'!C11/'Base Data'!$G$3 -> 0 | D9: =$B9+C9 -> 0 | E9: ='Base Data'!D11/'Base Data'!$G$3 -> 0 | F9: =$B9+E9 -> 0 | G9: ='Base Data'!E11/'Base Data'!$G$3 -> 0 | H9: =$B9+G9 -> 0 | I9: ='Base Data'!F11/'Base Data'!$G$3 -> 0 | J9: =$B9+I9 -> 0 | K9: ='Base Data'!G11/'Base Data'!$G$3 -> 0 | L9: =$B9+K9 -> 0 | M9: ='Base Data'!H11/'Base Data'!$G$3 -> 0 | N9: =$B9+M9 -> 0 | O9: ='Base Data'!I11/'Base Data'!$G$3 -> 0 | P9: =$B9+O9 -> 0
A10: 3 | B10: ='Base Data'!B12/'Base Data'!$G$3 -> 0 | C10: ='Base Data'!C12/'Base Data'!$G$3 -> 0 | D10: =$B10+C10 -> 0 | E10: ='Base Data'!D12/'Base Data'!$G$3 -> 0 | F10: =$B10+E10 -> 0 | G10: ='Base Data'!E12/'Base Data'!$G$3 -> 0 | H10: =$B10+G10 -> 0 | I10: ='Base Data'!F12/'Base Data'!$G$3 -> 0 | J10: =$B10+I10 -> 0 | K10: ='Base Data'!G12/'Base Data'!$G$3 -> 0 | L10: =$B10+K10 -> 0 | M10: ='Base Data'!H12/'Base Data'!$G$3 -> 0 | N10: =$B10+M10 -> 0 | O10: ='Base Data'!I12/'Base Data'!$G$3 -> 0 | P10: =$B10+O10 -> 0
A11: 4 | B11: ='Base Data'!B13/'Base Data'!$G$3 -> 0 | C11: ='Base Data'!C13/'Base Data'!$G$3 -> 0 | D11: =$B11+C11 -> 0 | E11: ='Base Data'!D13/'Base Data'!$G$3 -> 0 | F11: =$B11+E11 -> 0 | G11: ='Base Data'!E13/'Base Data'!$G$3 -> 0 | H11: =$B11+G11 -> 0 | I11: ='Base Data'!F13/'Base Data'!$G$3 -> 0 | J11: =$B11+I11 -> 0 | K11: ='Base Data'!G13/'Base Data'!$G$3 -> 0 | L11: =$B11+K11 -> 0 | M11: ='Base Data'!H13/'Base Data'!$G$3 -> 0 | N11: =$B11+M11 -> 0 | O11: ='Base Data'!I13/'Base Data'!$G$3 -> 0 | P11: =$B11+O11 -> 0
A12: 5 | B12: ='Base Data'!B14/'Base Data'!$G$3 -> 0 | C12: ='Base Data'!C14/'Base Data'!$G$3 -> 0 | D12: =$B12+C12 -> 0 | E12: ='Base Data'!D14/'Base Data'!$G$3 -> 0 | F12: =$B12+E12 -> 0 | G12: ='Base Data'!E14/'Base Data'!$G$3 -> 0 | H12: =$B12+G12 -> 0 | I12: ='Base Data'!F14/'Base Data'!$G$3 -> 0 | J12: =$B12+I12 -> 0 | K12: ='Base Data'!G14/'Base Data'!$G$3 -> 0 | L12: =$B12+K12 -> 0 | M12: ='Base Data'!H14/'Base Data'!$G$3 -> 0 | N12: =$B12+M12 -> 0 | O12: ='Base Data'!I14/'Base Data'!$G$3 -> 0 | P12: =$B12+O12 -> 0
A13: 6 | B13: ='Base Data'!B15/'Base Data'!$G$3 -> 0 | C13: ='Base Data'!C15/'Base Data'!$G$3 -> 0 | D13: =$B13+C13 -> 0 | E13: ='Base Data'!D15/'Base Data'!$G$3 -> 0 | F13: =$B13+E13 -> 0 | G13: ='Base Data'!E15/'Base Data'!$G$3 -> 0 | H13: =$B13+G13 -> 0 | I13: ='Base Data'!F15/'Base Data'!$G$3 -> 0 | J13: =$B13+I13 -> 0 | K13: ='Base Data'!G15/'Base Data'!$G$3 -> 0 | L13: =$B13+K13 -> 0 | M13: ='Base Data'!H15/'Base Data'!$G$3 -> 0 | N13: =$B13+M13 -> 0 | O13: ='Base Data'!I15/'Base Data'!$G$3 -> 0 | P13: =$B13+O13 -> 0
A14: 7 | B14: ='Base Data'!B16/'Base Data'!$G$3 -> 0 | C14: ='Base Data'!C16/'Base Data'!$G$3 -> 0 | D14: =$B14+C14 -> 0 | E14: ='Base Data'!D16/'Base Data'!$G$3 -> 0 | F14: =$B14+E14 -> 0 | G14: ='Base Data'!E16/'Base Data'!$G$3 -> 0 | H14: =$B14+G14 -> 0 | I14: ='Base Data'!F16/'Base Data'!$G$3 -> 0 | J14: =$B14+I14 -> 0 | K14: ='Base Data'!G16/'Base Data'!$G$3 -> 0 | L14: =$B14+K14 -> 0 | M14: ='Base Data'!H16/'Base Data'!$G$3 -> 0 | N14: =$B14+M14 -> 0 | O14: ='Base Data'!I16/'Base Data'!$G$3 -> 0 | P14: =$B14+O14 -> 0
A15: 8 | B15: ='Base Data'!B17/'Base Data'!$G$3 -> 0 | C15: ='Base Data'!C17/'Base Data'!$G$3 -> 0 | D15: =$B15+C15 -> 0 | E15: ='Base Data'!D17/'Base Data'!$G$3 -> 0 | F15: =$B15+E15 -> 0 | G15: ='Base Data'!E17/'Base Data'!$G$3 -> 0 | H15: =$B15+G15 -> 0 | I15: ='Base Data'!F17/'Base Data'!$G$3 -> 0 | J15: =$B15+I15 -> 0 | K15: ='Base Data'!G17/'Base Data'!$G$3 -> 0 | L15: =$B15+K15 -> 0 | M15: ='Base Data'!H17/'Base Data'!$G$3 -> 0 | N15: =$B15+M15 -> 0 | O15: ='Base Data'!I17/'Base Data'!$G$3 -> 0 | P15: =$B15+O15 -> 0
A16: 9 | B16: ='Base Data'!B18/'Base Data'!$G$3 -> 0 | C16: ='Base Data'!C18/'Base Data'!$G$3 -> 0 | D16: =$B16+C16 -> 0 | E16: ='Base Data'!D18/'Base Data'!$G$3 -> 0 | F16: =$B16+E16 -> 0 | G16: ='Base Data'!E18/'Base Data'!$G$3 -> 0 | H16: =$B16+G16 -> 0 | I16: ='Base Data'!F18/'Base Data'!$G$3 -> 0 | J16: =$B16+I16 -> 0 | K16: ='Base Data'!G18/'Base Data'!$G$3 -> 0 | L16: =$B16+K16 -> 0 | M16: ='Base Data'!H18/'Base Data'!$G$3 -> 0 | N16: =$B16+M16 -> 0 | O16: ='Base Data'!I18/'Base Data'!$G$3 -> 0 | P16: =$B16+O16 -> 0
A17: 10 | B17: ='Base Data'!B19/'Base Data'!$G$3 -> 0 | C17: ='Base Data'!C19/'Base Data'!$G$3 -> 0 | D17: =$B17+C17 -> 0 | E17: ='Base Data'!D19/'Base Data'!$G$3 -> 0 | F17: =$B17+E17 -> 0 | G17: ='Base Data'!E19/'Base Data'!$G$3 -> 0 | H17: =$B17+G17 -> 0 | I17: ='Base Data'!F19/'Base Data'!$G$3 -> 0 | J17: =$B17+I17 -> 0 | K17: ='Base Data'!G19/'Base Data'!$G$3 -> 0 | L17: =$B17+K17 -> 0 | M17: ='Base Data'!H19/'Base Data'!$G$3 -> 0 | N17: =$B17+M17 -> 0 | O17: ='Base Data'!I19/'Base Data'!$G$3 -> 0 | P17: =$B17+O17 -> 0
A18: 11 | B18: ='Base Data'!B20/'Base Data'!$G$3 -> 0 | C18: ='Base Data'!C20/'Base Data'!$G$3 -> 0 | D18: =$B18+C18 -> 0 | E18: ='Base Data'!D20/'Base Data'!$G$3 -> 0 | F18: =$B18+E18 -> 0 | G18: ='Base Data'!E20/'Base Data'!$G$3 -> 0 | H18: =$B18+G18 -> 0 | I18: ='Base Data'!F20/'Base Data'!$G$3 -> 0 | J18: =$B18+I18 -> 0 | K18: ='Base Data'!G20/'Base Data'!$G$3 -> 0 | L18: =$B18+K18 -> 0 | M18: ='Base Data'!H20/'Base Data'!$G$3 -> 0 | N18: =$B18+M18 -> 0 | O18: ='Base Data'!I20/'Base Data'!$G$3 -> 0 | P18: =$B18+O18 -> 0
... A30: 11 | B30: ='Base Data'!B32/'Base Data'!$G$3 -> 0 | C30: ='Base Data'!C32/'Base Data'!$G$3 -> 0 | D30: =$B30+C30 -> 0 | E30: ='Base Data'!D32/'Base Data'!$G$3 -> 0 | F30: =$B30+E30 -> 0 | G30: ='Base Data'!E32/'Base Data'!$G$3 -> 0 | H30: =$B30+G30 -> 0 | I30: ='Base Data'!F32/'Base Data'!$G$3 -> 0 | J30: =$B30+I30 -> 0 | K30: ='Base Data'!G32/'Base Data'!$G$3 -> 0 | L30: =$B30+K30 -> 0 | M30: ='Base Data'!H32/'Base Data'!$G$3 -> 0 | N30: =$B30+M30 -> 0 | O30: ='Base Data'!I32/'Base Data'!$G$3 -> 0 | P30: =$B30+O30 -> 0
A31: Maximum Value (PCE/HR): | C31: =MAX(C7:C30) -> 0 | D31: {=MAX(IF($C$46:$C$69="Closed",D$7:D$30))} -> 0 | E31: =MAX(E7:E30) -> 0 | F31: {=MAX(IF($C$46:$C$69="Closed",F$7:F$30))} -> 0 | G31: =MAX(G7:G30) -> 0 | H31: {=MAX(IF($C$46:$C$69="Closed",H$7:H$30))} -> 0 | I31: =MAX(I7:I30) -> 0 | J31: {=MAX(IF($C$46:$C$69="Closed",J$7:J$30))} -> 0 | K31: =MAX(K7:K30) -> 0 | L31: {=MAX(IF($C$46:$C$69="Closed",L$7:L$30))} -> 0 | M31: =MAX(M7:M30) -> 0 | N31: {=MAX(IF($C$46:$C$69="Closed",N$7:N$30))} -> 0 | O31: =MAX(O7:O30) -> 0 | P31: {=MAX(IF($C$46:$C$69="Closed",P$7:P$30))} -> 0
A32: Number of Lanes: | C32: ='Base Data'!C$6 -> 0 | E32: ='Base Data'!D$6 -> 0 | G32: ='Base Data'!E$6 -> 0 | I32: ='Base Data'!F$6 -> 0 | K32: ='Base Data'!G$6 -> 0 | M32: ='Base Data'!H$6 -> 0 | O32: ='Base Data'!I$6 -> 0
A33: Speed Limit (mph): | C33: ='Base Data'!C$7 -> 0 | E33: ='Base Data'!D$7 -> 0 | G33: ='Base Data'!E$7 -> 0 | I33: ='Base Data'!F$7 -> 0 | K33: ='Base Data'!G$7 -> 0 | M33: ='Base Data'!H$7 -> 0 | O33: ='Base Data'!I$7 -> 0
A34: Theoretical Capacity (PCE/HR): | C34: =IF(C5="Link Type: Interstate (Mainline)", INDEX(Cap_Mnln_Cap,MATCH(C33,Cap_Mnln_Spd,0))*C32, IF(C5="Link Type: Ramp (Intertate to Interstate/C-D)", INDEX(Cap_ItoI_Cap,MATCH(C33,Cap_ItoI_Speed,-1))*C32, IF(C5="Link Type: Ramp (Signalized Intersection)", INDEX(Cap_Sig_Cap,MATCH(RuralUrban,Cap_Sig_RorU,0))*C32, IF(C5="Link Type: Ramp (AWSC Intersection)", Cap_AWSC*C32, "Manually Determine" ) ) ) ) -> Manually Determine | E34: =IF(E5="Link Type: Interstate (Mainline)",INDEX(Cap_Mnln_Cap,MATCH(E33,Cap_Mnln_Spd,0))*E32,IF(E5="Link Type: Ramp (Intertate to Interstate/C-D)",INDEX(Cap_ItoI_Cap,MATCH(E33,Cap_ItoI_Speed,-1))*E32,IF(E5="Link Type: Ramp (Signalized Intersection)",INDEX(Cap_Sig_Cap,MATCH(RuralUrban,Cap_Sig_RorU,0))*E32,IF(E5="Link Type: Ramp (AWSC Intersection)",Cap_AWSC*E32,"Manually Determine")))) -> Manually Determine | G34: =IF(G5="Link Type: Interstate (Mainline)",INDEX(Cap_Mnln_Cap,MATCH(G33,Cap_Mnln_Spd,0))*G32,IF(G5="Link Type: Ramp (Intertate to Interstate/C-D)",INDEX(Cap_ItoI_Cap,MATCH(G33,Cap_ItoI_Speed,-1))*G32,IF(G5="Link Type: Ramp (Signalized Intersection)",INDEX(Cap_Sig_Cap,MATCH(RuralUrban,Cap_Sig_RorU,0))*G32,IF(G5="Link Type: Ramp (AWSC Intersection)",Cap_AWSC*G32,"Manually Determine")))) -> Manually Determine | I34: =IF(I5="Link Type: Interstate (Mainline)",INDEX(Cap_Mnln_Cap,MATCH(I33,Cap_Mnln_Spd,0))*I32,IF(I5="Link Type: Ramp (Intertate to Interstate/C-D)",INDEX(Cap_ItoI_Cap,MATCH(I33,Cap_ItoI_Speed,-1))*I32,IF(I5="Link Type: Ramp (Signalized Intersection)",INDEX(Cap_Sig_Cap,MATCH(RuralUrban,Cap_Sig_RorU,0))*I32,IF(I5="Link Type: Ramp (AWSC Intersection)",Cap_AWSC*I32,"Manually Determine")))) -> Manually Determine | K34: =IF(K5="Link Type: Interstate (Mainline)",INDEX(Cap_Mnln_Cap,MATCH(K33,Cap_Mnln_Spd,0))*K32,IF(K5="Link Type: Ramp (Intertate to Interstate/C-D)",INDEX(Cap_ItoI_Cap,MATCH(K33,Cap_ItoI_Speed,-1))*K32,IF(K5="Link Type: Ramp (Signalized Intersection)",INDEX(Cap_Sig_Cap,MATCH(RuralUrban,Cap_Sig_RorU,0))*K32,IF(K5="Link Type: Ramp (AWSC Intersection)",Cap_AWSC*K32,"Manually Determine")))) -> Manually Determine | M34: =IF(M5="Link Type: Interstate (Mainline)",INDEX(Cap_Mnln_Cap,MATCH(M33,Cap_Mnln_Spd,0))*M32,IF(M5="Link Type: Ramp (Intertate to Interstate/C-D)",INDEX(Cap_ItoI_Cap,MATCH(M33,Cap_ItoI_Speed,-1))*M32,IF(M5="Link Type: Ramp (Signalized Intersection)",INDEX(Cap_Sig_Cap,MATCH(RuralUrban,Cap_Sig_RorU,0))*M32,IF(M5="Link Type: Ramp (AWSC Intersection)",Cap_AWSC*M32,"Manually Determine")))) -> Manually Determine | O34: =IF(O5="Link Type: Interstate (Mainline)",INDEX(Cap_Mnln_Cap,MATCH(O33,Cap_Mnln_Spd,0))*O32,IF(O5="Link Type: Ramp (Intertate to Interstate/C-D)",INDEX(Cap_ItoI_Cap,MATCH(O33,Cap_ItoI_Speed,-1))*O32,IF(O5="Link Type: Ramp (Signalized Intersection)",INDEX(Cap_Sig_Cap,MATCH(RuralUrban,Cap_Sig_RorU,0))*O32,IF(O5="Link Type: Ramp (AWSC Intersection)",Cap_AWSC*O32,"Manually Determine")))) -> Manually Determine
A35: Result: | C35: =IF(LEFT(C5,4)="Ramp",IF(AND(D31>700,D31>C31), "Potential Issue","Acceptable"),IF(D31>C31,"Potential Issue","Acceptable")) -> Acceptable | E35: =IF(LEFT(E5,4)="Ramp",IF(AND(F31>700,F31>E31), "Potential Issue","Acceptable"),IF(F31>E31,"Potential Issue","Acceptable")) -> Acceptable | G35: =IF(LEFT(G5,4)="Ramp",IF(AND(H31>700,H31>G31), "Potential Issue","Acceptable"),IF(H31>G31,"Potential Issue","Acceptable")) -> Acceptable | I35: =IF(LEFT(I5,4)="Ramp",IF(AND(J31>700,J31>I31), "Potential Issue","Acceptable"),IF(J31>I31,"Potential Issue","Acceptable")) -> Acceptable | K35: =IF(LEFT(K5,4)="Ramp",IF(AND(L31>700,L31>K31), "Potential Issue","Acceptable"),IF(L31>K31,"Potential Issue","Acceptable")) -> Acceptable | M35: =IF(LEFT(M5,4)="Ramp",IF(AND(N31>700,N31>M31), "Potential Issue","Acceptable"),IF(N31>M31,"Potential Issue","Acceptable")) -> Acceptable | O35: =IF(LEFT(O5,4)="Ramp",IF(AND(P31>700,P31>O31), "Potential Issue","Acceptable"),IF(P31>O31,"Potential Issue","Acceptable")) -> Acceptable
A36: Remark:
B38: Retrieved from Elsewhere in Workbook
B39: Requires Copied/Entered Data
B40: Automatic Calculations
B41: Time Of Interest
B43: Time of Proposed Closure
B44: Type: | C44: ='Base Data'!M7 -> Weekday or Night-time Only
B45: Time | C45: Monday-Thursday
B46: 12 | C46: =IF(ISBLANK('Base Data'!M9),"Open","Closed") -> Open
B47: 1 | C47: =IF(ISBLANK('Base Data'!M10),"Open","Closed") -> Open
B48: 2 | C48: =IF(ISBLANK('Base Data'!M11),"Open","Closed") -> Open
B49: 3 | C49: =IF(ISBLANK('Base Data'!M12),"Open","Closed") -> Open
B50: 4 | C50: =IF(ISBLANK('Base Data'!M13),"Open","Closed") -> Open
B51: 5 | C51: =IF(ISBLANK('Base Data'!M14),"Open","Closed") -> Open
B52: 6 | C52: =IF(ISBLANK('Base Data'!M15),"Open","Closed") -> Open
B53: 7 | C53: =IF(ISBLANK('Base Data'!M16),"Open","Closed") -> Open
B54: 8 | C54: =IF(ISBLANK('Base Data'!M17),"Open","Closed") -> Open
B55: 9 | C55: =IF(ISBLANK('Base Data'!M18),"Open","Closed") -> Open
B56: 10 | C56: =IF(ISBLANK('Base Data'!M19),"Open","Closed") -> Open
B57: 11 | C57: =IF(ISBLANK('Base Data'!M20),"Open","Closed") -> Open
... B69: 11 | C69: =IF(ISBLANK('Base Data'!M32),"Open","Closed") -> Open

Sheet Friday
A1: ="Traffic Analysis of Burden on Detour Route as a Result of"&CHAR(10)&"Closure of "&Closure&": "&RIGHT(CELL("Filename",A1),LEN(CELL("Filename",A1))-FIND("]",CELL("Filename",A1))) -> Traffic Analysis of Burden on Detour Route as a Result of Closure of <Road From & Direction> to <Road To & Direction>, Ramp <Letter from Interchange Book>: Friday
A3: Time | B3: ='Base Data'!B4 -> <Link Name> | E3: ='Base Data'!C4 -> <Link Name> | I3: ='Base Data'!D4 -> <Link Name> | M3: ='Base Data'!E4 -> <Link Name> | Q3: ='Base Data'!F4 -> <Link Name> | U3: ='Base Data'!G4 -> <Link Name> | Y3: ='Base Data'!H4 -> <Link Name> | AC3: ='Base Data'!I4 -> <Link Name>
B4: ='Base Data'!B5 -> Closed Ramp | E4: ='Base Data'!C5 -> Detour: Link 1 | I4: ='Base Data'!D5 -> Detour: Link 2 | M4: ='Base Data'!E5 -> Detour: Link 3 | Q4: ='Base Data'!F5 -> Detour: Link 4 | U4: ='Base Data'!G5 -> Detour: Link 5 | Y4: ='Base Data'!H5 -> Detour: Link 6 | AC4: ='Base Data'!I5 -> Detour: Link 7
B5: ='Base Data'!B8 -> Select Link Type | E5: ='Base Data'!C8 -> Select Link Type | I5: ='Base Data'!D8 -> Select Link Type | M5: ='Base Data'!E8 -> Select Link Type | Q5: ='Base Data'!F8 -> Select Link Type | U5: ='Base Data'!G8 -> Select Link Type | Y5: ='Base Data'!H8 -> Select Link Type | AC5: ='Base Data'!I8 -> Select Link Type
B6: Base (Weekday Detour) BRCW | C6: Friday Conversion Factor (I-XXX: <Seg #> <Dir>) | D6: Friday Detour BRCF | E6: Link 1 Base B1W | F6: Friday Conversion Factor (I-XXX: <Seg #> <Dir>) | G6: Link 1 Friday Base B1F | H6: Link 1 Friday Total B1F + BRCF | I6: Link 2 Base B2W | J6: Friday Conversion Factor (I-XXX: <Seg #> <Dir>) | K6: Link 2 Friday Base B2F | L6: Link 2 Friday Total B2F + BRCF | M6: Link 3 Base B3W | N6: Friday Conversion Factor (I-XXX: <Seg #> <Dir>) | O6: Link 3 Friday Base B3F | P6: Link 3 Friday Total B3F + BRCF | Q6: Link 4 Base B4W | R6: Friday Conversion Factor (I-XXX: <Seg #> <Dir>) | S6: Link 4 Friday Base B4F | T6: Link 4 Friday Total B4F + BRCF | U6: Link 5 Base B5W | V6: Friday Conversion Factor (I-XXX: <Seg #> <Dir>) | W6: Link 5 Friday Base B5F | X6: Link 5 Friday Total B5F + BRCF | Y6: Link 6 Base B6W | Z6: Friday Conversion Factor (I-XXX: <Seg #> <Dir>) | AA6: Link 6 Friday Base B6F | AB6: Link 6 Friday Total B6F + BRCF | AC6: Link 7 Base B7W | AD6: Friday Conversion Factor (I-XXX: <Seg #> <Dir>) | AE6: Link 7 Friday Base B7F | AF6: Link 7 Friday Total B7F + BRCF
A7: 12 | B7: ='Base Data'!B9/'Base Data'!$G$3 -> 0 | D7: =B7*C7 -> 0 | E7: ='Base Data'!C9/'Base Data'!$G$3 -> 0 | G7: =E7*F7 -> 0 | H7: =$D7+G7 -> 0 | I7: ='Base Data'!D9/'Base Data'!$G$3 -> 0 | K7: =I7*J7 -> 0 | L7: =$D7+K7 -> 0 | M7: ='Base Data'!E9/'Base Data'!$G$3 -> 0 | O7: =M7*N7 -> 0 | P7: =$D7+O7 -> 0 | Q7: ='Base Data'!F9/'Base Data'!$G$3 -> 0 | S7: =Q7*R7 -> 0 | T7: =$D7+S7 -> 0 | U7: ='Base Data'!G9/'Base Data'!$G$3 -> 0 | W7: =U7*V7 -> 0 | X7: =$D7+W7 -> 0 | Y7: ='Base Data'!H9/'Base Data'!$G$3 -> 0 | AA7: =Y7*Z7 -> 0 | AB7: =$D7+AA7 -> 0 | AC7: ='Base Data'!I9/'Base Data'!$G$3 -> 0 | AE7: =AC7*AD7 -> 0 | AF7: =$D7+AE7 -> 0
A8: 1 | B8: ='Base Data'!B10/'Base Data'!$G$3 -> 0 | D8: =B8*C8 -> 0 | E8: ='Base Data'!C10/'Base Data'!$G$3 -> 0 | G8: =E8*F8 -> 0 | H8: =$D8+G8 -> 0 | I8: ='Base Data'!D10/'Base Data'!$G$3 -> 0 | K8: =I8*J8 -> 0 | L8: =$D8+K8 -> 0 | M8: ='Base Data'!E10/'Base Data'!$G$3 -> 0 | O8: =M8*N8 -> 0 | P8: =$D8+O8 -> 0 | Q8: ='Base Data'!F10/'Base Data'!$G$3 -> 0 | S8: =Q8*R8 -> 0 | T8: =$D8+S8 -> 0 | U8: ='Base Data'!G10/'Base Data'!$G$3 -> 0 | W8: =U8*V8 -> 0 | X8: =$D8+W8 -> 0 | Y8: ='Base Data'!H10/'Base Data'!$G$3 -> 0 | AA8: =Y8*Z8 -> 0 | AB8: =$D8+AA8 -> 0 | AC8: ='Base Data'!I10/'Base Data'!$G$3 -> 0 | AE8: =AC8*AD8 -> 0 | AF8: =$D8+AE8 -> 0
A9: 2 | B9: ='Base Data'!B11/'Base Data'!$G$3 -> 0 | D9: =B9*C9 -> 0 | E9: ='Base Data'!C11/'Base Data'!$G$3 -> 0 | G9: =E9*F9 -> 0 | H9: =$D9+G9 -> 0 | I9: ='Base Data'!D11/'Base Data'!$G$3 -> 0 | K9: =I9*J9 -> 0 | L9: =$D9+K9 -> 0 | M9: ='Base Data'!E11/'Base Data'!$G$3 -> 0 | O9: =M9*N9 -> 0 | P9: =$D9+O9 -> 0 | Q9: ='Base Data'!F11/'Base Data'!$G$3 -> 0 | S9: =Q9*R9 -> 0 | T9: =$D9+S9 -> 0 | U9: ='Base Data'!G11/'Base Data'!$G$3 -> 0 | W9: =U9*V9 -> 0 | X9: =$D9+W9 -> 0 | Y9: ='Base Data'!H11/'Base Data'!$G$3 -> 0 | AA9: =Y9*Z9 -> 0 | AB9: =$D9+AA9 -> 0 | AC9: ='Base Data'!I11/'Base Data'!$G$3 -> 0 | AE9: =AC9*AD9 -> 0 | AF9: =$D9+AE9 -> 0
A10: 3 | B10: ='Base Data'!B12/'Base Data'!$G$3 -> 0 | D10: =B10*C10 -> 0 | E10: ='Base Data'!C12/'Base Data'!$G$3 -> 0 | G10: =E10*F10 -> 0 | H10: =$D10+G10 -> 0 | I10: ='Base Data'!D12/'Base Data'!$G$3 -> 0 | K10: =I10*J10 -> 0 | L10: =$D10+K10 -> 0 | M10: ='Base Data'!E12/'Base Data'!$G$3 -> 0 | O10: =M10*N10 -> 0 | P10: =$D10+O10 -> 0 | Q10: ='Base Data'!F12/'Base Data'!$G$3 -> 0 | S10: =Q10*R10 -> 0 | T10: =$D10+S10 -> 0 | U10: ='Base Data'!G12/'Base Data'!$G$3 -> 0 | W10: =U10*V10 -> 0 | X10: =$D10+W10 -> 0 | Y10: ='Base Data'!H12/'Base Data'!$G$3 -> 0 | AA10: =Y10*Z10 -> 0 | AB10: =$D10+AA10 -> 0 | AC10: ='Base Data'!I12/'Base Data'!$G$3 -> 0 | AE10: =AC10*AD10 -> 0 | AF10: =$D10+AE10 -> 0
A11: 4 | B11: ='Base Data'!B13/'Base Data'!$G$3 -> 0 | D11: =B11*C11 -> 0 | E11: ='Base Data'!C13/'Base Data'!$G$3 -> 0 | G11: =E11*F11 -> 0 | H11: =$D11+G11 -> 0 | I11: ='Base Data'!D13/'Base Data'!$G$3 -> 0 | K11: =I11*J11 -> 0 | L11: =$D11+K11 -> 0 | M11: ='Base Data'!E13/'Base Data'!$G$3 -> 0 | O11: =M11*N11 -> 0 | P11: =$D11+O11 -> 0 | Q11: ='Base Data'!F13/'Base Data'!$G$3 -> 0 | S11: =Q11*R11 -> 0 | T11: =$D11+S11 -> 0 | U11: ='Base Data'!G13/'Base Data'!$G$3 -> 0 | W11: =U11*V11 -> 0 | X11: =$D11+W11 -> 0 | Y11: ='Base Data'!H13/'Base Data'!$G$3 -> 0 | AA11: =Y11*Z11 -> 0 | AB11: =$D11+AA11 -> 0 | AC11: ='Base Data'!I13/'Base Data'!$G$3 -> 0 | AE11: =AC11*AD11 -> 0 | AF11: =$D11+AE11 -> 0
A12: 5 | B12: ='Base Data'!B14/'Base Data'!$G$3 -> 0 | D12: =B12*C12 -> 0 | E12: ='Base Data'!C14/'Base Data'!$G$3 -> 0 | G12: =E12*F12 -> 0 | H12: =$D12+G12 -> 0 | I12: ='Base Data'!D14/'Base Data'!$G$3 -> 0 | K12: =I12*J12 -> 0 | L12: =$D12+K12 -> 0 | M12: ='Base Data'!E14/'Base Data'!$G$3 -> 0 | O12: =M12*N12 -> 0 | P12: =$D12+O12 -> 0 | Q12: ='Base Data'!F14/'Base Data'!$G$3 -> 0 | S12: =Q12*R12 -> 0 | T12: =$D12+S12 -> 0 | U12: ='Base Data'!G14/'Base Data'!$G$3 -> 0 | W12: =U12*V12 -> 0 | X12: =$D12+W12 -> 0 | Y12: ='Base Data'!H14/'Base Data'!$G$3 -> 0 | AA12: =Y12*Z12 -> 0 | AB12: =$D12+AA12 -> 0 | AC12: ='Base Data'!I14/'Base Data'!$G$3 -> 0 | AE12: =AC12*AD12 -> 0 | AF12: =$D12+AE12 -> 0
A13: 6 | B13: ='Base Data'!B15/'Base Data'!$G$3 -> 0 | D13: =B13*C13 -> 0 | E13: ='Base Data'!C15/'Base Data'!$G$3 -> 0 | G13: =E13*F13 -> 0 | H13: =$D13+G13 -> 0 | I13: ='Base Data'!D15/'Base Data'!$G$3 -> 0 | K13: =I13*J13 -> 0 | L13: =$D13+K13 -> 0 | M13: ='Base Data'!E15/'Base Data'!$G$3 -> 0 | O13: =M13*N13 -> 0 | P13: =$D13+O13 -> 0 | Q13: ='Base Data'!F15/'Base Data'!$G$3 -> 0 | S13: =Q13*R13 -> 0 | T13: =$D13+S13 -> 0 | U13: ='Base Data'!G15/'Base Data'!$G$3 -> 0 | W13: =U13*V13 -> 0 | X13: =$D13+W13 -> 0 | Y13: ='Base Data'!H15/'Base Data'!$G$3 -> 0 | AA13: =Y13*Z13 -> 0 | AB13: =$D13+AA13 -> 0 | AC13: ='Base Data'!I15/'Base Data'!$G$3 -> 0 | AE13: =AC13*AD13 -> 0 | AF13: =$D13+AE13 -> 0
A14: 7 | B14: ='Base Data'!B16/'Base Data'!$G$3 -> 0 | D14: =B14*C14 -> 0 | E14: ='Base Data'!C16/'Base Data'!$G$3 -> 0 | G14: =E14*F14 -> 0 | H14: =$D14+G14 -> 0 | I14: ='Base Data'!D16/'Base Data'!$G$3 -> 0 | K14: =I14*J14 -> 0 | L14: =$D14+K14 -> 0 | M14: ='Base Data'!E16/'Base Data'!$G$3 -> 0 | O14: =M14*N14 -> 0 | P14: =$D14+O14 -> 0 | Q14: ='Base Data'!F16/'Base Data'!$G$3 -> 0 | S14: =Q14*R14 -> 0 | T14: =$D14+S14 -> 0 | U14: ='Base Data'!G16/'Base Data'!$G$3 -> 0 | W14: =U14*V14 -> 0 | X14: =$D14+W14 -> 0 | Y14: ='Base Data'!H16/'Base Data'!$G$3 -> 0 | AA14: =Y14*Z14 -> 0 | AB14: =$D14+AA14 -> 0 | AC14: ='Base Data'!I16/'Base Data'!$G$3 -> 0 | AE14: =AC14*AD14 -> 0 | AF14: =$D14+AE14 -> 0
A15: 8 | B15: ='Base Data'!B17/'Base Data'!$G$3 -> 0 | D15: =B15*C15 -> 0 | E15: ='Base Data'!C17/'Base Data'!$G$3 -> 0 | G15: =E15*F15 -> 0 | H15: =$D15+G15 -> 0 | I15: ='Base Data'!D17/'Base Data'!$G$3 -> 0 | K15: =I15*J15 -> 0 | L15: =$D15+K15 -> 0 | M15: ='Base Data'!E17/'Base Data'!$G$3 -> 0 | O15: =M15*N15 -> 0 | P15: =$D15+O15 -> 0 | Q15: ='Base Data'!F17/'Base Data'!$G$3 -> 0 | S15: =Q15*R15 -> 0 | T15: =$D15+S15 -> 0 | U15: ='Base Data'!G17/'Base Data'!$G$3 -> 0 | W15: =U15*V15 -> 0 | X15: =$D15+W15 -> 0 | Y15: ='Base Data'!H17/'Base Data'!$G$3 -> 0 | AA15: =Y15*Z15 -> 0 | AB15: =$D15+AA15 -> 0 | AC15: ='Base Data'!I17/'Base Data'!$G$3 -> 0 | AE15: =AC15*AD15 -> 0 | AF15: =$D15+AE15 -> 0
A16: 9 | B16: ='Base Data'!B18/'Base Data'!$G$3 -> 0 | D16: =B16*C16 -> 0 | E16: ='Base Data'!C18/'Base Data'!$G$3 -> 0 | G16: =E16*F16 -> 0 | H16: =$D16+G16 -> 0 | I16: ='Base Data'!D18/'Base Data'!$G$3 -> 0 | K16: =I16*J16 -> 0 | L16: =$D16+K16 -> 0 | M16: ='Base Data'!E18/'Base Data'!$G$3 -> 0 | O16: =M16*N16 -> 0 | P16: =$D16+O16 -> 0 | Q16: ='Base Data'!F18/'Base Data'!$G$3 -> 0 | S16: =Q16*R16 -> 0 | T16: =$D16+S16 -> 0 | U16: ='Base Data'!G18/'Base Data'!$G$3 -> 0 | W16: =U16*V16 -> 0 | X16: =$D16+W16 -> 0 | Y16: ='Base Data'!H18/'Base Data'!$G$3 -> 0 | AA16: =Y16*Z16 -> 0 | AB16: =$D16+AA16 -> 0 | AC16: ='Base Data'!I18/'Base Data'!$G$3 -> 0 | AE16: =AC16*AD16 -> 0 | AF16: =$D16+AE16 -> 0
A17: 10 | B17: ='Base Data'!B19/'Base Data'!$G$3 -> 0 | D17: =B17*C17 -> 0 | E17: ='Base Data'!C19/'Base Data'!$G$3 -> 0 | G17: =E17*F17 -> 0 | H17: =$D17+G17 -> 0 | I17: ='Base Data'!D19/'Base Data'!$G$3 -> 0 | K17: =I17*J17 -> 0 | L17: =$D17+K17 -> 0 | M17: ='Base Data'!E19/'Base Data'!$G$3 -> 0 | O17: =M17*N17 -> 0 | P17: =$D17+O17 -> 0 | Q17: ='Base Data'!F19/'Base Data'!$G$3 -> 0 | S17: =Q17*R17 -> 0 | T17: =$D17+S17 -> 0 | U17: ='Base Data'!G19/'Base Data'!$G$3 -> 0 | W17: =U17*V17 -> 0 | X17: =$D17+W17 -> 0 | Y17: ='Base Data'!H19/'Base Data'!$G$3 -> 0 | AA17: =Y17*Z17 -> 0 | AB17: =$D17+AA17 -> 0 | AC17: ='Base Data'!I19/'Base Data'!$G$3 -> 0 | AE17: =AC17*AD17 -> 0 | AF17: =$D17+AE17 -> 0
A18: 11 | B18: ='Base Data'!B20/'Base Data'!$G$3 -> 0 | D18: =B18*C18 -> 0 | E18: ='Base Data'!C20/'Base Data'!$G$3 -> 0 | G18: =E18*F18 -> 0 | H18: =$D18+G18 -> 0 | I18: ='Base Data'!D20/'Base Data'!$G$3 -> 0 | K18: =I18*J18 -> 0 | L18: =$D18+K18 -> 0 | M18: ='Base Data'!E20/'Base Data'!$G$3 -> 0 | O18: =M18*N18 -> 0 | P18: =$D18+O18 -> 0 | Q18: ='Base Data'!F20/'Base Data'!$G$3 -> 0 | S18: =Q18*R18 -> 0 | T18: =$D18+S18 -> 0 | U18: ='Base Data'!G20/'Base Data'!$G$3 -> 0 | W18: =U18*V18 -> 0 | X18: =$D18+W18 -> 0 | Y18: ='Base Data'!H20/'Base Data'!$G$3 -> 0 | AA18: =Y18*Z18 -> 0 | AB18: =$D18+AA18 -> 0 | AC18: ='Base Data'!I20/'Base Data'!$G$3 -> 0 | AE18: =AC18*AD18 -> 0 | AF18: =$D18+AE18 -> 0
... A30: 11 | B30: ='Base Data'!B32/'Base Data'!$G$3 -> 0 | D30: =B30*C30 -> 0 | E30: ='Base Data'!C32/'Base Data'!$G$3 -> 0 | G30: =E30*F30 -> 0 | H30: =$D30+G30 -> 0 | I30: ='Base Data'!D32/'Base Data'!$G$3 -> 0 | K30: =I30*J30 -> 0 | L30: =$D30+K30 -> 0 | M30: ='Base Data'!E32/'Base Data'!$G$3 -> 0 | O30: =M30*N30 -> 0 | P30: =$D30+O30 -> 0 | Q30: ='Base Data'!F32/'Base Data'!$G$3 -> 0 | S30: =Q30*R30 -> 0 | T30: =$D30+S30 -> 0 | U30: ='Base Data'!G32/'Base Data'!$G$3 -> 0 | W30: =U30*V30 -> 0 | X30: =$D30+W30 -> 0 | Y30: ='Base Data'!H32/'Base Data'!$G$3 -> 0 | AA30: =Y30*Z30 -> 0 | AB30: =$D30+AA30 -> 0 | AC30: ='Base Data'!I32/'Base Data'!$G$3 -> 0 | AE30: =AC30*AD30 -> 0 | AF30: =$D30+AE30 -> 0
A31: Maximum Value (PCE/HR): | E31: - | F31: - | G31: =MAX(G7:G30) -> 0 | H31: {=MAX(IF($C$46:$C$69="Closed",H$7:H$30))} -> 0 | I31: - | J31: - | K31: =MAX(K7:K30) -> 0 | L31: {=MAX(IF($C$46:$C$69="Closed",L$7:L$30))} -> 0 | M31: - | N31: - | O31: =MAX(O7:O30) -> 0 | P31: {=MAX(IF($C$46:$C$69="Closed",P$7:P$30))} -> 0 | Q31: - | R31: - | S31: =MAX(S7:S30) -> 0 | T31: {=MAX(IF($C$46:$C$69="Closed",T$7:T$30))} -> 0 | U31: - | V31: - | W31: =MAX(W7:W30) -> 0 | X31: {=MAX(IF($C$46:$C$69="Closed",X$7:X$30))} -> 0 | Y31: - | Z31: - | AA31: =MAX(AA7:AA30) -> 0 | AB31: {=MAX(IF($C$46:$C$69="Closed",AB$7:AB$30))} -> 0 | AC31: - | AD31: - | AE31: =MAX(AE7:AE30) -> 0 | AF31: {=MAX(IF($C$46:$C$69="Closed",AF$7:AF$30))} -> 0
A32: Number of Lanes: | E32: ='Base Data'!C$6 -> 0 | I32: ='Base Data'!D$6 -> 0 | M32: ='Base Data'!E$6 -> 0 | Q32: ='Base Data'!F$6 -> 0 | U32: ='Base Data'!G$6 -> 0 | Y32: ='Base Data'!H$6 -> 0 | AC32: ='Base Data'!I$6 -> 0
A33: Speed Limit (mph): | E33: ='Base Data'!C$7 -> 0 | I33: ='Base Data'!D$7 -> 0 | M33: ='Base Data'!E$7 -> 0 | Q33: ='Base Data'!F$7 -> 0 | U33: ='Base Data'!G$7 -> 0 | Y33: ='Base Data'!H$7 -> 0 | AC33: ='Base Data'!I$7 -> 0
A34: Theoretical Capacity (PCE/HR): | E34: =IF(E5="Link Type: Interstate (Mainline)",INDEX(Cap_Mnln_Cap,MATCH(E33,Cap_Mnln_Spd,0))*E32,IF(E5="Link Type: Ramp (Intertate to Interstate/C-D)",INDEX(Cap_ItoI_Cap,MATCH(E33,Cap_ItoI_Speed,-1))*E32,IF(E5="Link Type: Ramp (Signalized Intersection)",INDEX(Cap_Sig_Cap,MATCH(RuralUrban,Cap_Sig_RorU,0))*E32,IF(E5="Link Type: Ramp (AWSC Intersection)",Cap_AWSC*E32,"Manually Determine")))) -> Manually Determine | I34: =IF(I5="Link Type: Interstate (Mainline)",INDEX(Cap_Mnln_Cap,MATCH(I33,Cap_Mnln_Spd,0))*I32,IF(I5="Link Type: Ramp (Intertate to Interstate/C-D)",INDEX(Cap_ItoI_Cap,MATCH(I33,Cap_ItoI_Speed,-1))*I32,IF(I5="Link Type: Ramp (Signalized Intersection)",INDEX(Cap_Sig_Cap,MATCH(RuralUrban,Cap_Sig_RorU,0))*I32,IF(I5="Link Type: Ramp (AWSC Intersection)",Cap_AWSC*I32,"Manually Determine")))) -> Manually Determine | M34: =IF(M5="Link Type: Interstate (Mainline)",INDEX(Cap_Mnln_Cap,MATCH(M33,Cap_Mnln_Spd,0))*M32,IF(M5="Link Type: Ramp (Intertate to Interstate/C-D)",INDEX(Cap_ItoI_Cap,MATCH(M33,Cap_ItoI_Speed,-1))*M32,IF(M5="Link Type: Ramp (Signalized Intersection)",INDEX(Cap_Sig_Cap,MATCH(RuralUrban,Cap_Sig_RorU,0))*M32,IF(M5="Link Type: Ramp (AWSC Intersection)",Cap_AWSC*M32,"Manually Determine")))) -> Manually Determine | Q34: =IF(Q5="Link Type: Interstate (Mainline)",INDEX(Cap_Mnln_Cap,MATCH(Q33,Cap_Mnln_Spd,0))*Q32,IF(Q5="Link Type: Ramp (Intertate to Interstate/C-D)",INDEX(Cap_ItoI_Cap,MATCH(Q33,Cap_ItoI_Speed,-1))*Q32,IF(Q5="Link Type: Ramp (Signalized Intersection)",INDEX(Cap_Sig_Cap,MATCH(RuralUrban,Cap_Sig_RorU,0))*Q32,IF(Q5="Link Type: Ramp (AWSC Intersection)",Cap_AWSC*Q32,"Manually Determine")))) -> Manually Determine | U34: =IF(U5="Link Type: Interstate (Mainline)",INDEX(Cap_Mnln_Cap,MATCH(U33,Cap_Mnln_Spd,0))*U32,IF(U5="Link Type: Ramp (Intertate to Interstate/C-D)",INDEX(Cap_ItoI_Cap,MATCH(U33,Cap_ItoI_Speed,-1))*U32,IF(U5="Link Type: Ramp (Signalized Intersection)",INDEX(Cap_Sig_Cap,MATCH(RuralUrban,Cap_Sig_RorU,0))*U32,IF(U5="Link Type: Ramp (AWSC Intersection)",Cap_AWSC*U32,"Manually Determine")))) -> Manually Determine | Y34: =IF(Y5="Link Type: Interstate (Mainline)",INDEX(Cap_Mnln_Cap,MATCH(Y33,Cap_Mnln_Spd,0))*Y32,IF(Y5="Link Type: Ramp (Intertate to Interstate/C-D)",INDEX(Cap_ItoI_Cap,MATCH(Y33,Cap_ItoI_Speed,-1))*Y32,IF(Y5="Link Type: Ramp (Signalized Intersection)",INDEX(Cap_Sig_Cap,MATCH(RuralUrban,Cap_Sig_RorU,0))*Y32,IF(Y5="Link Type: Ramp (AWSC Intersection)",Cap_AWSC*Y32,"Manually Determine")))) -> Manually Determine | AC34: =IF(AC5="Link Type: Interstate (Mainline)",INDEX(Cap_Mnln_Cap,MATCH(AC33,Cap_Mnln_Spd,0))*AC32,IF(AC5="Link Type: Ramp (Intertate to Interstate/C-D)",INDEX(Cap_ItoI_Cap,MATCH(AC33,Cap_ItoI_Speed,-1))*AC32,IF(AC5="Link Type: Ramp (Signalized Intersection)",INDEX(Cap_Sig_Cap,MATCH(RuralUrban,Cap_Sig_RorU,0))*AC32,IF(AC5="Link Type: Ramp (AWSC Intersection)",Cap_AWSC*AC32,"Manually Determine")))) -> Manually Determine
A35: Result: | E35: =IF(LEFT(G5,4)="Ramp",IF(AND(H31>700,H31>G31), "Potential Issue","Acceptable"),IF(H31>G31,"Potential Issue","Acceptable")) -> Acceptable | I35: =IF(LEFT(K5,4)="Ramp",IF(AND(L31>700,L31>K31), "Potential Issue","Acceptable"),IF(L31>K31,"Potential Issue","Acceptable")) -> Acceptable | M35: =IF(LEFT(O5,4)="Ramp",IF(AND(P31>700,P31>O31), "Potential Issue","Acceptable"),IF(P31>O31,"Potential Issue","Acceptable")) -> Acceptable | Q35: =IF(LEFT(S5,4)="Ramp",IF(AND(T31>700,T31>S31), "Potential Issue","Acceptable"),IF(T31>S31,"Potential Issue","Acceptable")) -> Acceptable | U35: =IF(LEFT(W5,4)="Ramp",IF(AND(X31>700,X31>W31), "Potential Issue","Acceptable"),IF(X31>W31,"Potential Issue","Acceptable")) -> Acceptable | Y35: =IF(LEFT(AA5,4)="Ramp",IF(AND(AB31>700,AB31>AA31), "Potential Issue","Acceptable"),IF(AB31>AA31,"Potential Issue","Acceptable")) -> Acceptable | AC35: =IF(LEFT(AE5,4)="Ramp",IF(AND(AF31>700,AF31>AE31), "Potential Issue","Acceptable"),IF(AF31>AE31,"Potential Issue","Acceptable")) -> Acceptable
A36: Remark:
B38: Retrieved from Elsewhere in Workbook
B39: Requires Copied/Entered Data
B40: Automatic Calculations
B41: Time Of Interest
B43: Time of Proposed Closure
B44: Type: | C44: ='Base Data'!M7 -> Weekday or Night-time Only
B45: Time | C45: Friday
B46: 12 | C46: =IF(ISBLANK('Base Data'!N9),"Open","Closed") -> Open
B47: 1 | C47: =IF(ISBLANK('Base Data'!N10),"Open","Closed") -> Open
B48: 2 | C48: =IF(ISBLANK('Base Data'!N11),"Open","Closed") -> Open
B49: 3 | C49: =IF(ISBLANK('Base Data'!N12),"Open","Closed") -> Open
B50: 4 | C50: =IF(ISBLANK('Base Data'!N13),"Open","Closed") -> Open
B51: 5 | C51: =IF(ISBLANK('Base Data'!N14),"Open","Closed") -> Open
B52: 6 | C52: =IF(ISBLANK('Base Data'!N15),"Open","Closed") -> Open
B53: 7 | C53: =IF(ISBLANK('Base Data'!N16),"Open","Closed") -> Open
B54: 8 | C54: =IF(ISBLANK('Base Data'!N17),"Open","Closed") -> Open
B55: 9 | C55: =IF(ISBLANK('Base Data'!N18),"Open","Closed") -> Open
B56: 10 | C56: =IF(ISBLANK('Base Data'!N19),"Open","Closed") -> Open
B57: 11 | C57: =IF(ISBLANK('Base Data'!N20),"Open","Closed") -> Open
... B69: 11 | C69: =IF(ISBLANK('Base Data'!N32),"Open","Closed") -> Open

Sheet Saturday
A1: ="Traffic Analysis of Burden on Detour Route as a Result of"&CHAR(10)&"Closure of "&Closure&": "&RIGHT(CELL("Filename",A1),LEN(CELL("Filename",A1))-FIND("]",CELL("Filename",A1))) -> Traffic Analysis of Burden on Detour Route as a Result of Closure of <Road From & Direction> to <Road To & Direction>, Ramp <Letter from Interchange Book>: Saturday
A3: Time | B3: ='Base Data'!B4 -> <Link Name> | E3: ='Base Data'!C4 -> <Link Name> | I3: ='Base Data'!D4 -> <Link Name> | M3: ='Base Data'!E4 -> <Link Name> | Q3: ='Base Data'!F4 -> <Link Name> | U3: ='Base Data'!G4 -> <Link Name> | Y3: ='Base Data'!H4 -> <Link Name> | AC3: ='Base Data'!I4 -> <Link Name>
B4: ='Base Data'!B5 -> Closed Ramp | E4: ='Base Data'!C5 -> Detour: Link 1 | I4: ='Base Data'!D5 -> Detour: Link 2 | M4: ='Base Data'!E5 -> Detour: Link 3 | Q4: ='Base Data'!F5 -> Detour: Link 4 | U4: ='Base Data'!G5 -> Detour: Link 5 | Y4: ='Base Data'!H5 -> Detour: Link 6 | AC4: ='Base Data'!I5 -> Detour: Link 7
B5: ='Base Data'!B8 -> Select Link Type | E5: ='Base Data'!C8 -> Select Link Type | I5: ='Base Data'!D8 -> Select Link Type | M5: ='Base Data'!E8 -> Select Link Type | Q5: ='Base Data'!F8 -> Select Link Type | U5: ='Base Data'!G8 -> Select Link Type | Y5: ='Base Data'!H8 -> Select Link Type | AC5: ='Base Data'!I8 -> Select Link Type
B6: Base (Weekday Detour) BRCW | C6: Saturday Conversion Factor (I-XXX: <Seg #> <Dir>) | D6: Saturday Detour BRCSA | E6: Link 1 Base B1W | F6: Saturday Conversion Factor (I-XXX: <Seg #> <Dir>) | G6: Link 1 Saturday Base B1SA | H6: Link 1 Saturday Total B1SA + BRCSA | I6: Link 2 Base B2W | J6: Saturday Conversion Factor (I-XXX: <Seg #> <Dir>) | K6: Link 2 Saturday Base B2SA | L6: Link 2 Saturday Total B2SA + BRCSA | M6: Link 3 Base B3W | N6: Saturday Conversion Factor (I-XXX: <Seg #> <Dir>) | O6: Link 3 Saturday Base B3SA | P6: Link 3 Saturday Total B3SA + BRCSA | Q6: Link 4 Base B4W | R6: Saturday Conversion Factor (I-XXX: <Seg #> <Dir>) | S6: Link 4 Saturday Base B4SA | T6: Link 4 Saturday Total B4SA + BRCSA | U6: Link 5 Base B5W | V6: Saturday Conversion Factor (I-XXX: <Seg #> <Dir>) | W6: Link 5 Saturday Base B5SA | X6: Link 5 Saturday Total B5SA + BRCSA | Y6: Link 6 Base B6W | Z6: Saturday Conversion Factor (I-XXX: <Seg #> <Dir>) | AA6: Link 6 Saturday Base B6SA | AB6: Link 6 Saturday Total B6SA + BRCSA | AC6: Link 7 Base B7W | AD6: Saturday Conversion Factor (I-XXX: <Seg #> <Dir>) | AE6: Link 7 Saturday Base B7SA | AF6: Link 7 Saturday Total B7SA + BRCSA
A7: 12 | B7: ='Base Data'!B9/'Base Data'!$G$3 -> 0 | D7: =B7*C7 -> 0 | E7: ='Base Data'!C9/'Base Data'!$G$3 -> 0 | G7: =E7*F7 -> 0 | H7: =$D7+G7 -> 0 | I7: ='Base Data'!D9/'Base Data'!$G$3 -> 0 | K7: =I7*J7 -> 0 | L7: =$D7+K7 -> 0 | M7: ='Base Data'!E9/'Base Data'!$G$3 -> 0 | O7: =M7*N7 -> 0 | P7: =$D7+O7 -> 0 | Q7: ='Base Data'!F9/'Base Data'!$G$3 -> 0 | S7: =Q7*R7 -> 0 | T7: =$D7+S7 -> 0 | U7: ='Base Data'!G9/'Base Data'!$G$3 -> 0 | W7: =U7*V7 -> 0 | X7: =$D7+W7 -> 0 | Y7: ='Base Data'!H9/'Base Data'!$G$3 -> 0 | AA7: =Y7*Z7 -> 0 | AB7: =$D7+AA7 -> 0 | AC7: ='Base Data'!I9/'Base Data'!$G$3 -> 0 | AE7: =AC7*AD7 -> 0 | AF7: =$D7+AE7 -> 0
A8: 1 | B8: ='Base Data'!B10/'Base Data'!$G$3 -> 0 | D8: =B8*C8 -> 0 | E8: ='Base Data'!C10/'Base Data'!$G$3 -> 0 | G8: =E8*F8 -> 0 | H8: =$D8+G8 -> 0 | I8: ='Base Data'!D10/'Base Data'!$G$3 -> 0 | K8: =I8*J8 -> 0 | L8: =$D8+K8 -> 0 | M8: ='Base Data'!E10/'Base Data'!$G$3 -> 0 | O8: =M8*N8 -> 0 | P8: =$D8+O8 -> 0 | Q8: ='Base Data'!F10/'Base Data'!$G$3 -> 0 | S8: =Q8*R8 -> 0 | T8: =$D8+S8 -> 0 | U8: ='Base Data'!G10/'Base Data'!$G$3 -> 0 | W8: =U8*V8 -> 0 | X8: =$D8+W8 -> 0 | Y8: ='Base Data'!H10/'Base Data'!$G$3 -> 0 | AA8: =Y8*Z8 -> 0 | AB8: =$D8+AA8 -> 0 | AC8: ='Base Data'!I10/'Base Data'!$G$3 -> 0 | AE8: =AC8*AD8 -> 0 | AF8: =$D8+AE8 -> 0
A9: 2 | B9: ='Base Data'!B11/'Base Data'!$G$3 -> 0 | D9: =B9*C9 -> 0 | E9: ='Base Data'!C11/'Base Data'!$G$3 -> 0 | G9: =E9*F9 -> 0 | H9: =$D9+G9 -> 0 | I9: ='Base Data'!D11/'Base Data'!$G$3 -> 0 | K9: =I9*J9 -> 0 | L9: =$D9+K9 -> 0 | M9: ='Base Data'!E11/'Base Data'!$G$3 -> 0 | O9: =M9*N9 -> 0 | P9: =$D9+O9 -> 0 | Q9: ='Base Data'!F11/'Base Data'!$G$3 -> 0 | S9: =Q9*R9 -> 0 | T9: =$D9+S9 -> 0 | U9: ='Base Data'!G11/'Base Data'!$G$3 -> 0 | W9: =U9*V9 -> 0 | X9: =$D9+W9 -> 0 | Y9: ='Base Data'!H11/'Base Data'!$G$3 -> 0 | AA9: =Y9*Z9 -> 0 | AB9: =$D9+AA9 -> 0 | AC9: ='Base Data'!I11/'Base Data'!$G$3 -> 0 | AE9: =AC9*AD9 -> 0 | AF9: =$D9+AE9 -> 0
A10: 3 | B10: ='Base Data'!B12/'Base Data'!$G$3 -> 0 | D10: =B10*C10 -> 0 | E10: ='Base Data'!C12/'Base Data'!$G$3 -> 0 | G10: =E10*F10 -> 0 | H10: =$D10+G10 -> 0 | I10: ='Base Data'!D12/'Base Data'!$G$3 -> 0 | K10: =I10*J10 -> 0 | L10: =$D10+K10 -> 0 | M10: ='Base Data'!E12/'Base Data'!$G$3 -> 0 | O10: =M10*N10 -> 0 | P10: =$D10+O10 -> 0 | Q10: ='Base Data'!F12/'Base Data'!$G$3 -> 0 | S10: =Q10*R10 -> 0 | T10: =$D10+S10 -> 0 | U10: ='Base Data'!G12/'Base Data'!$G$3 -> 0 | W10: =U10*V10 -> 0 | X10: =$D10+W10 -> 0 | Y10: ='Base Data'!H12/'Base Data'!$G$3 -> 0 | AA10: =Y10*Z10 -> 0 | AB10: =$D10+AA10 -> 0 | AC10: ='Base Data'!I12/'Base Data'!$G$3 -> 0 | AE10: =AC10*AD10 -> 0 | AF10: =$D10+AE10 -> 0
A11: 4 | B11: ='Base Data'!B13/'Base Data'!$G$3 -> 0 | D11: =B11*C11 -> 0 | E11: ='Base Data'!C13/'Base Data'!$G$3 -> 0 | G11: =E11*F11 -> 0 | H11: =$D11+G11 -> 0 | I11: ='Base Data'!D13/'Base Data'!$G$3 -> 0 | K11: =I11*J11 -> 0 | L11: =$D11+K11 -> 0 | M11: ='Base Data'!E13/'Base Data'!$G$3 -> 0 | O11: =M11*N11 -> 0 | P11: =$D11+O11 -> 0 | Q11: ='Base Data'!F13/'Base Data'!$G$3 -> 0 | S11: =Q11*R11 -> 0 | T11: =$D11+S11 -> 0 | U11: ='Base Data'!G13/'Base Data'!$G$3 -> 0 | W11: =U11*V11 -> 0 | X11: =$D11+W11 -> 0 | Y11: ='Base Data'!H13/'Base Data'!$G$3 -> 0 | AA11: =Y11*Z11 -> 0 | AB11: =$D11+AA11 -> 0 | AC11: ='Base Data'!I13/'Base Data'!$G$3 -> 0 | AE11: =AC11*AD11 -> 0 | AF11: =$D11+AE11 -> 0
A12: 5 | B12: ='Base Data'!B14/'Base Data'!$G$3 -> 0 | D12: =B12*C12 -> 0 | E12: ='Base Data'!C14/'Base Data'!$G$3 -> 0 | G12: =E12*F12 -> 0 | H12: =$D12+G12 -> 0 | I12: ='Base Data'!D14/'Base Data'!$G$3 -> 0 | K12: =I12*J12 -> 0 | L12: =$D12+K12 -> 0 | M12: ='Base Data'!E14/'Base Data'!$G$3 -> 0 | O12: =M12*N12 -> 0 | P12: =$D12+O12 -> 0 | Q12: ='Base Data'!F14/'Base Data'!$G$3 -> 0 | S12: =Q12*R12 -> 0 | T12: =$D12+S12 -> 0 | U12: ='Base Data'!G14/'Base Data'!$G$3 -> 0 | W12: =U12*V12 -> 0 | X12: =$D12+W12 -> 0 | Y12: ='Base Data'!H14/'Base Data'!$G$3 -> 0 | AA12: =Y12*Z12 -> 0 | AB12: =$D12+AA12 -> 0 | AC12: ='Base Data'!I14/'Base Data'!$G$3 -> 0 | AE12: =AC12*AD12 -> 0 | AF12: =$D12+AE12 -> 0
A13: 6 | B13: ='Base Data'!B15/'Base Data'!$G$3 -> 0 | D13: =B13*C13 -> 0 | E13: ='Base Data'!C15/'Base Data'!$G$3 -> 0 | G13: =E13*F13 -> 0 | H13: =$D13+G13 -> 0 | I13: ='Base Data'!D15/'Base Data'!$G$3 -> 0 | K13: =I13*J13 -> 0 | L13: =$D13+K13 -> 0 | M13: ='Base Data'!E15/'Base Data'!$G$3 -> 0 | O13: =M13*N13 -> 0 | P13: =$D13+O13 -> 0 | Q13: ='Base Data'!F15/'Base Data'!$G$3 -> 0 | S13: =Q13*R13 -> 0 | T13: =$D13+S13 -> 0 | U13: ='Base Data'!G15/'Base Data'!$G$3 -> 0 | W13: =U13*V13 -> 0 | X13: =$D13+W13 -> 0 | Y13: ='Base Data'!H15/'Base Data'!$G$3 -> 0 | AA13: =Y13*Z13 -> 0 | AB13: =$D13+AA13 -> 0 | AC13: ='Base Data'!I15/'Base Data'!$G$3 -> 0 | AE13: =AC13*AD13 -> 0 | AF13: =$D13+AE13 -> 0
A14: 7 | B14: ='Base Data'!B16/'Base Data'!$G$3 -> 0 | D14: =B14*C14 -> 0 | E14: ='Base Data'!C16/'Base Data'!$G$3 -> 0 | G14: =E14*F14 -> 0 | H14: =$D14+G14 -> 0 | I14: ='Base Data'!D16/'Base Data'!$G$3 -> 0 | K14: =I14*J14 -> 0 | L14: =$D14+K14 -> 0 | M14: ='Base Data'!E16/'Base Data'!$G$3 -> 0 | O14: =M14*N14 -> 0 | P14: =$D14+O14 -> 0 | Q14: ='Base Data'!F16/'Base Data'!$G$3 -> 0 | S14: =Q14*R14 -> 0 | T14: =$D14+S14 -> 0 | U14: ='Base Data'!G16/'Base Data'!$G$3 -> 0 | W14: =U14*V14 -> 0 | X14: =$D14+W14 -> 0 | Y14: ='Base Data'!H16/'Base Data'!$G$3 -> 0 | AA14: =Y14*Z14 -> 0 | AB14: =$D14+AA14 -> 0 | AC14: ='Base Data'!I16/'Base Data'!$G$3 -> 0 | AE14: =AC14*AD14 -> 0 | AF14: =$D14+AE14 -> 0
A15: 8 | B15: ='Base Data'!B17/'Base Data'!$G$3 -> 0 | D15: =B15*C15 -> 0 | E15: ='Base Data'!C17/'Base Data'!$G$3 -> 0 | G15: =E15*F15 -> 0 | H15: =$D15+G15 -> 0 | I15: ='Base Data'!D17/'Base Data'!$G$3 -> 0 | K15: =I15*J15 -> 0 | L15: =$D15+K15 -> 0 | M15: ='Base Data'!E17/'Base Data'!$G$3 -> 0 | O15: =M15*N15 -> 0 | P15: =$D15+O15 -> 0 | Q15: ='Base Data'!F17/'Base Data'!$G$3 -> 0 | S15: =Q15*R15 -> 0 | T15: =$D15+S15 -> 0 | U15: ='Base Data'!G17/'Base Data'!$G$3 -> 0 | W15: =U15*V15 -> 0 | X15: =$D15+W15 -> 0 | Y15: ='Base Data'!H17/'Base Data'!$G$3 -> 0 | AA15: =Y15*Z15 -> 0 | AB15: =$D15+AA15 -> 0 | AC15: ='Base Data'!I17/'Base Data'!$G$3 -> 0 | AE15: =AC15*AD15 -> 0 | AF15: =$D15+AE15 -> 0
A16: 9 | B16: ='Base Data'!B18/'Base Data'!$G$3 -> 0 | D16: =B16*C16 -> 0 | E16: ='Base Data'!C18/'Base Data'!$G$3 -> 0 | G16: =E16*F16 -> 0 | H16: =$D16+G16 -> 0 | I16: ='Base Data'!D18/'Base Data'!$G$3 -> 0 | K16: =I16*J16 -> 0 | L16: =$D16+K16 -> 0 | M16: ='Base Data'!E18/'Base Data'!$G$3 -> 0 | O16: =M16*N16 -> 0 | P16: =$D16+O16 -> 0 | Q16: ='Base Data'!F18/'Base Data'!$G$3 -> 0 | S16: =Q16*R16 -> 0 | T16: =$D16+S16 -> 0 | U16: ='Base Data'!G18/'Base Data'!$G$3 -> 0 | W16: =U16*V16 -> 0 | X16: =$D16+W16 -> 0 | Y16: ='Base Data'!H18/'Base Data'!$G$3 -> 0 | AA16: =Y16*Z16 -> 0 | AB16: =$D16+AA16 -> 0 | AC16: ='Base Data'!I18/'Base Data'!$G$3 -> 0 | AE16: =AC16*AD16 -> 0 | AF16: =$D16+AE16 -> 0
A17: 10 | B17: ='Base Data'!B19/'Base Data'!$G$3 -> 0 | D17: =B17*C17 -> 0 | E17: ='Base Data'!C19/'Base Data'!$G$3 -> 0 | G17: =E17*F17 -> 0 | H17: =$D17+G17 -> 0 | I17: ='Base Data'!D19/'Base Data'!$G$3 -> 0 | K17: =I17*J17 -> 0 | L17: =$D17+K17 -> 0 | M17: ='Base Data'!E19/'Base Data'!$G$3 -> 0 | O17: =M17*N17 -> 0 | P17: =$D17+O17 -> 0 | Q17: ='Base Data'!F19/'Base Data'!$G$3 -> 0 | S17: =Q17*R17 -> 0 | T17: =$D17+S17 -> 0 | U17: ='Base Data'!G19/'Base Data'!$G$3 -> 0 | W17: =U17*V17 -> 0 | X17: =$D17+W17 -> 0 | Y17: ='Base Data'!H19/'Base Data'!$G$3 -> 0 | AA17: =Y17*Z17 -> 0 | AB17: =$D17+AA17 -> 0 | AC17: ='Base Data'!I19/'Base Data'!$G$3 -> 0 | AE17: =AC17*AD17 -> 0 | AF17: =$D17+AE17 -> 0
A18: 11 | B18: ='Base Data'!B20/'Base Data'!$G$3 -> 0 | D18: =B18*C18 -> 0 | E18: ='Base Data'!C20/'Base Data'!$G$3 -> 0 | G18: =E18*F18 -> 0 | H18: =$D18+G18 -> 0 | I18: ='Base Data'!D20/'Base Data'!$G$3 -> 0 | K18: =I18*J18 -> 0 | L18: =$D18+K18 -> 0 | M18: ='Base Data'!E20/'Base Data'!$G$3 -> 0 | O18: =M18*N18 -> 0 | P18: =$D18+O18 -> 0 | Q18: ='Base Data'!F20/'Base Data'!$G$3 -> 0 | S18: =Q18*R18 -> 0 | T18: =$D18+S18 -> 0 | U18: ='Base Data'!G20/'Base Data'!$G$3 -> 0 | W18: =U18*V18 -> 0 | X18: =$D18+W18 -> 0 | Y18: ='Base Data'!H20/'Base Data'!$G$3 -> 0 | AA18: =Y18*Z18 -> 0 | AB18: =$D18+AA18 -> 0 | AC18: ='Base Data'!I20/'Base Data'!$G$3 -> 0 | AE18: =AC18*AD18 -> 0 | AF18: =$D18+AE18 -> 0
... A30: 11 | B30: ='Base Data'!B32/'Base Data'!$G$3 -> 0 | D30: =B30*C30 -> 0 | E30: ='Base Data'!C32/'Base Data'!$G$3 -> 0 | G30: =E30*F30 -> 0 | H30: =$D30+G30 -> 0 | I30: ='Base Data'!D32/'Base Data'!$G$3 -> 0 | K30: =I30*J30 -> 0 | L30: =$D30+K30 -> 0 | M30: ='Base Data'!E32/'Base Data'!$G$3 -> 0 | O30: =M30*N30 -> 0 | P30: =$D30+O30 -> 0 | Q30: ='Base Data'!F32/'Base Data'!$G$3 -> 0 | S30: =Q30*R30 -> 0 | T30: =$D30+S30 -> 0 | U30: ='Base Data'!G32/'Base Data'!$G$3 -> 0 | W30: =U30*V30 -> 0 | X30: =$D30+W30 -> 0 | Y30: ='Base Data'!H32/'Base Data'!$G$3 -> 0 | AA30: =Y30*Z30 -> 0 | AB30: =$D30+AA30 -> 0 | AC30: ='Base Data'!I32/'Base Data'!$G$3 -> 0 | AE30: =AC30*AD30 -> 0 | AF30: =$D30+AE30 -> 0
A31: Maximum Value (PCE/HR): | E31: - | F31: - | G31: =MAX(G7:G30) -> 0 | H31: {=MAX(IF($C$46:$C$69="Closed",H$7:H$30))} -> 0 | I31: - | J31: - | K31: =MAX(K7:K30) -> 0 | L31: {=MAX(IF($C$46:$C$69="Closed",L$7:L$30))} -> 0 | M31: - | N31: - | O31: =MAX(O7:O30) -> 0 | P31: {=MAX(IF($C$46:$C$69="Closed",P$7:P$30))} -> 0 | Q31: - | R31: - | S31: =MAX(S7:S30) -> 0 | T31: {=MAX(IF($C$46:$C$69="Closed",T$7:T$30))} -> 0 | U31: - | V31: - | W31: =MAX(W7:W30) -> 0 | X31: {=MAX(IF($C$46:$C$69="Closed",X$7:X$30))} -> 0 | Y31: - | Z31: - | AA31: =MAX(AA7:AA30) -> 0 | AB31: {=MAX(IF($C$46:$C$69="Closed",AB$7:AB$30))} -> 0 | AC31: - | AD31: - | AE31: =MAX(AE7:AE30) -> 0 | AF31: {=MAX(IF($C$46:$C$69="Closed",AF$7:AF$30))} -> 0
A32: Number of Lanes: | E32: ='Base Data'!C$6 -> 0 | I32: ='Base Data'!D$6 -> 0 | M32: ='Base Data'!E$6 -> 0 | Q32: ='Base Data'!F$6 -> 0 | U32: ='Base Data'!G$6 -> 0 | Y32: ='Base Data'!H$6 -> 0 | AC32: ='Base Data'!I$6 -> 0
A33: Speed Limit (mph): | E33: ='Base Data'!C$7 -> 0 | I33: ='Base Data'!D$7 -> 0 | M33: ='Base Data'!E$7 -> 0 | Q33: ='Base Data'!F$7 -> 0 | U33: ='Base Data'!G$7 -> 0 | Y33: ='Base Data'!H$7 -> 0 | AC33: ='Base Data'!I$7 -> 0
A34: Theoretical Capacity (PCE/HR): | E34: =IF(E5="Link Type: Interstate (Mainline)",INDEX(Cap_Mnln_Cap,MATCH(E33,Cap_Mnln_Spd,0))*E32,IF(E5="Link Type: Ramp (Intertate to Interstate/C-D)",INDEX(Cap_ItoI_Cap,MATCH(E33,Cap_ItoI_Speed,-1))*E32,IF(E5="Link Type: Ramp (Signalized Intersection)",INDEX(Cap_Sig_Cap,MATCH(RuralUrban,Cap_Sig_RorU,0))*E32,IF(E5="Link Type: Ramp (AWSC Intersection)",Cap_AWSC*E32,"Manually Determine")))) -> Manually Determine | I34: =IF(I5="Link Type: Interstate (Mainline)",INDEX(Cap_Mnln_Cap,MATCH(I33,Cap_Mnln_Spd,0))*I32,IF(I5="Link Type: Ramp (Intertate to Interstate/C-D)",INDEX(Cap_ItoI_Cap,MATCH(I33,Cap_ItoI_Speed,-1))*I32,IF(I5="Link Type: Ramp (Signalized Intersection)",INDEX(Cap_Sig_Cap,MATCH(RuralUrban,Cap_Sig_RorU,0))*I32,IF(I5="Link Type: Ramp (AWSC Intersection)",Cap_AWSC*I32,"Manually Determine")))) -> Manually Determine | M34: =IF(M5="Link Type: Interstate (Mainline)",INDEX(Cap_Mnln_Cap,MATCH(M33,Cap_Mnln_Spd,0))*M32,IF(M5="Link Type: Ramp (Intertate to Interstate/C-D)",INDEX(Cap_ItoI_Cap,MATCH(M33,Cap_ItoI_Speed,-1))*M32,IF(M5="Link Type: Ramp (Signalized Intersection)",INDEX(Cap_Sig_Cap,MATCH(RuralUrban,Cap_Sig_RorU,0))*M32,IF(M5="Link Type: Ramp (AWSC Intersection)",Cap_AWSC*M32,"Manually Determine")))) -> Manually Determine | Q34: =IF(Q5="Link Type: Interstate (Mainline)",INDEX(Cap_Mnln_Cap,MATCH(Q33,Cap_Mnln_Spd,0))*Q32,IF(Q5="Link Type: Ramp (Intertate to Interstate/C-D)",INDEX(Cap_ItoI_Cap,MATCH(Q33,Cap_ItoI_Speed,-1))*Q32,IF(Q5="Link Type: Ramp (Signalized Intersection)",INDEX(Cap_Sig_Cap,MATCH(RuralUrban,Cap_Sig_RorU,0))*Q32,IF(Q5="Link Type: Ramp (AWSC Intersection)",Cap_AWSC*Q32,"Manually Determine")))) -> Manually Determine | U34: =IF(U5="Link Type: Interstate (Mainline)",INDEX(Cap_Mnln_Cap,MATCH(U33,Cap_Mnln_Spd,0))*U32,IF(U5="Link Type: Ramp (Intertate to Interstate/C-D)",INDEX(Cap_ItoI_Cap,MATCH(U33,Cap_ItoI_Speed,-1))*U32,IF(U5="Link Type: Ramp (Signalized Intersection)",INDEX(Cap_Sig_Cap,MATCH(RuralUrban,Cap_Sig_RorU,0))*U32,IF(U5="Link Type: Ramp (AWSC Intersection)",Cap_AWSC*U32,"Manually Determine")))) -> Manually Determine | Y34: =IF(Y5="Link Type: Interstate (Mainline)",INDEX(Cap_Mnln_Cap,MATCH(Y33,Cap_Mnln_Spd,0))*Y32,IF(Y5="Link Type: Ramp (Intertate to Interstate/C-D)",INDEX(Cap_ItoI_Cap,MATCH(Y33,Cap_ItoI_Speed,-1))*Y32,IF(Y5="Link Type: Ramp (Signalized Intersection)",INDEX(Cap_Sig_Cap,MATCH(RuralUrban,Cap_Sig_RorU,0))*Y32,IF(Y5="Link Type: Ramp (AWSC Intersection)",Cap_AWSC*Y32,"Manually Determine")))) -> Manually Determine | AC34: =IF(AC5="Link Type: Interstate (Mainline)",INDEX(Cap_Mnln_Cap,MATCH(AC33,Cap_Mnln_Spd,0))*AC32,IF(AC5="Link Type: Ramp (Intertate to Interstate/C-D)",INDEX(Cap_ItoI_Cap,MATCH(AC33,Cap_ItoI_Speed,-1))*AC32,IF(AC5="Link Type: Ramp (Signalized Intersection)",INDEX(Cap_Sig_Cap,MATCH(RuralUrban,Cap_Sig_RorU,0))*AC32,IF(AC5="Link Type: Ramp (AWSC Intersection)",Cap_AWSC*AC32,"Manually Determine")))) -> Manually Determine
A35: Result: | E35: =IF(LEFT(G5,4)="Ramp",IF(AND(H31>700,H31>G31), "Potential Issue","Acceptable"),IF(H31>G31,"Potential Issue","Acceptable")) -> Acceptable | I35: =IF(LEFT(K5,4)="Ramp",IF(AND(L31>700,L31>K31), "Potential Issue","Acceptable"),IF(L31>K31,"Potential Issue","Acceptable")) -> Acceptable | M35: =IF(LEFT(O5,4)="Ramp",IF(AND(P31>700,P31>O31), "Potential Issue","Acceptable"),IF(P31>O31,"Potential Issue","Acceptable")) -> Acceptable | Q35: =IF(LEFT(S5,4)="Ramp",IF(AND(T31>700,T31>S31), "Potential Issue","Acceptable"),IF(T31>S31,"Potential Issue","Acceptable")) -> Acceptable | U35: =IF(LEFT(W5,4)="Ramp",IF(AND(X31>700,X31>W31), "Potential Issue","Acceptable"),IF(X31>W31,"Potential Issue","Acceptable")) -> Acceptable | Y35: =IF(LEFT(AA5,4)="Ramp",IF(AND(AB31>700,AB31>AA31), "Potential Issue","Acceptable"),IF(AB31>AA31,"Potential Issue","Acceptable")) -> Acceptable | AC35: =IF(LEFT(AE5,4)="Ramp",IF(AND(AF31>700,AF31>AE31), "Potential Issue","Acceptable"),IF(AF31>AE31,"Potential Issue","Acceptable")) -> Acceptable
A36: Remark:
B38: Retrieved from Elsewhere in Workbook
B39: Requires Copied/Entered Data
B40: Automatic Calculations
B41: Time Of Interest
B43: Time of Proposed Closure
B44: Type: | C44: ='Base Data'!M7 -> Weekday or Night-time Only
B45: Time | C45: Saturday
B46: 12 | C46: =IF(ISBLANK('Base Data'!O9),"Open","Closed") -> Open
B47: 1 | C47: =IF(ISBLANK('Base Data'!O10),"Open","Closed") -> Open
B48: 2 | C48: =IF(ISBLANK('Base Data'!O11),"Open","Closed") -> Open
B49: 3 | C49: =IF(ISBLANK('Base Data'!O12),"Open","Closed") -> Open
B50: 4 | C50: =IF(ISBLANK('Base Data'!O13),"Open","Closed") -> Open
B51: 5 | C51: =IF(ISBLANK('Base Data'!O14),"Open","Closed") -> Open
B52: 6 | C52: =IF(ISBLANK('Base Data'!O15),"Open","Closed") -> Open
B53: 7 | C53: =IF(ISBLANK('Base Data'!O16),"Open","Closed") -> Open
B54: 8 | C54: =IF(ISBLANK('Base Data'!O17),"Open","Closed") -> Open
B55: 9 | C55: =IF(ISBLANK('Base Data'!O18),"Open","Closed") -> Open
B56: 10 | C56: =IF(ISBLANK('Base Data'!O19),"Open","Closed") -> Open
B57: 11 | C57: =IF(ISBLANK('Base Data'!O20),"Open","Closed") -> Open
... B69: 11 | C69: =IF(ISBLANK('Base Data'!O32),"Open","Closed") -> Open

Sheet Sunday
A1: ="Traffic Analysis of Burden on Detour Route as a Result of"&CHAR(10)&"Closure of "&Closure&": "&RIGHT(CELL("Filename",A1),LEN(CELL("Filename",A1))-FIND("]",CELL("Filename",A1))) -> Traffic Analysis of Burden on Detour Route as a Result of Closure of <Road From & Direction> to <Road To & Direction>, Ramp <Letter from Interchange Book>: Sunday
A3: Time | B3: ='Base Data'!B4 -> <Link Name> | E3: ='Base Data'!C4 -> <Link Name> | I3: ='Base Data'!D4 -> <Link Name> | M3: ='Base Data'!E4 -> <Link Name> | Q3: ='Base Data'!F4 -> <Link Name> | U3: ='Base Data'!G4 -> <Link Name> | Y3: ='Base Data'!H4 -> <Link Name> | AC3: ='Base Data'!I4 -> <Link Name>
B4: ='Base Data'!B5 -> Closed Ramp | E4: ='Base Data'!C5 -> Detour: Link 1 | I4: ='Base Data'!D5 -> Detour: Link 2 | M4: ='Base Data'!E5 -> Detour: Link 3 | Q4: ='Base Data'!F5 -> Detour: Link 4 | U4: ='Base Data'!G5 -> Detour: Link 5 | Y4: ='Base Data'!H5 -> Detour: Link 6 | AC4: ='Base Data'!I5 -> Detour: Link 7
B5: ='Base Data'!B8 -> Select Link Type | E5: ='Base Data'!C8 -> Select Link Type | I5: ='Base Data'!D8 -> Select Link Type | M5: ='Base Data'!E8 -> Select Link Type | Q5: ='Base Data'!F8 -> Select Link Type | U5: ='Base Data'!G8 -> Select Link Type | Y5: ='Base Data'!H8 -> Select Link Type | AC5: ='Base Data'!I8 -> Select Link Type
B6: Base (Weekday Detour) BRCW | C6: Sunday Conversion Factor (I-XXX: <Seg #> <Dir>) | D6: Sunday Detour BRCSU | E6: Link 1 Base B1W | F6: Sunday Conversion Factor (I-XXX: <Seg #> <Dir>) | G6: Link 1 Sunday Base B1SU | H6: Link 1 Sunday Total B1SU + BRCSU | I6: Link 2 Base B2W | J6: Sunday Conversion Factor (I-XXX: <Seg #> <Dir>) | K6: Link 2 Sunday Base B2SU | L6: Link 2 Sunday Total B2SU + BRCSU | M6: Link 3 Base B3W | N6: Sunday Conversion Factor (I-XXX: <Seg #> <Dir>) | O6: Link 3 Sunday Base B3SU | P6: Link 3 Sunday Total B3SU + BRCSU | Q6: Link 4 Base B4W | R6: Sunday Conversion Factor (I-XXX: <Seg #> <Dir>) | S6: Link 4 Sunday Base B4SU | T6: Link 4 Sunday Total B4SU + BRCSU | U6: Link 5 Base B5W | V6: Sunday Conversion Factor (I-XXX: <Seg #> <Dir>) | W6: Link 5 Sunday Base B5SU | X6: Link 5 Sunday Total B5SU + BRCSU | Y6: Link 6 Base B6W | Z6: Sunday Conversion Factor (I-XXX: <Seg #> <Dir>) | AA6: Link 6 Sunday Base B6SU | AB6: Link 6 Sunday Total B6SU + BRCSU | AC6: Link 7 Base B7W | AD6: Sunday Conversion Factor (I-XXX: <Seg #> <Dir>) | AE6: Link 7 Sunday Base B7SU | AF6: Link 7 Sunday Total B7SU + BRCSU
A7: 12 | B7: ='Base Data'!B9/'Base Data'!$G$3 -> 0 | D7: =B7*C7 -> 0 | E7: ='Base Data'!C9/'Base Data'!$G$3 -> 0 | G7: =E7*F7 -> 0 | H7: =$D7+G7 -> 0 | I7: ='Base Data'!D9/'Base Data'!$G$3 -> 0 | K7: =I7*J7 -> 0 | L7: =$D7+K7 -> 0 | M7: ='Base Data'!E9/'Base Data'!$G$3 -> 0 | O7: =M7*N7 -> 0 | P7: =$D7+O7 -> 0 | Q7: ='Base Data'!F9/'Base Data'!$G$3 -> 0 | S7: =Q7*R7 -> 0 | T7: =$D7+S7 -> 0 | U7: ='Base Data'!G9/'Base Data'!$G$3 -> 0 | W7: =U7*V7 -> 0 | X7: =$D7+W7 -> 0 | Y7: ='Base Data'!H9/'Base Data'!$G$3 -> 0 | AA7: =Y7*Z7 -> 0 | AB7: =$D7+AA7 -> 0 | AC7: ='Base Data'!I9/'Base Data'!$G$3 -> 0 | AE7: =AC7*AD7 -> 0 | AF7: =$D7+AE7 -> 0
A8: 1 | B8: ='Base Data'!B10/'Base Data'!$G$3 -> 0 | D8: =B8*C8 -> 0 | E8: ='Base Data'!C10/'Base Data'!$G$3 -> 0 | G8: =E8*F8 -> 0 | H8: =$D8+G8 -> 0 | I8: ='Base Data'!D10/'Base Data'!$G$3 -> 0 | K8: =I8*J8 -> 0 | L8: =$D8+K8 -> 0 | M8: ='Base Data'!E10/'Base Data'!$G$3 -> 0 | O8: =M8*N8 -> 0 | P8: =$D8+O8 -> 0 | Q8: ='Base Data'!F10/'Base Data'!$G$3 -> 0 | S8: =Q8*R8 -> 0 | T8: =$D8+S8 -> 0 | U8: ='Base Data'!G10/'Base Data'!$G$3 -> 0 | W8: =U8*V8 -> 0 | X8: =$D8+W8 -> 0 | Y8: ='Base Data'!H10/'Base Data'!$G$3 -> 0 | AA8: =Y8*Z8 -> 0 | AB8: =$D8+AA8 -> 0 | AC8: ='Base Data'!I10/'Base Data'!$G$3 -> 0 | AE8: =AC8*AD8 -> 0 | AF8: =$D8+AE8 -> 0
A9: 2 | B9: ='Base Data'!B11/'Base Data'!$G$3 -> 0 | D9: =B9*C9 -> 0 | E9: ='Base Data'!C11/'Base Data'!$G$3 -> 0 | G9: =E9*F9 -> 0 | H9: =$D9+G9 -> 0 | I9: ='Base Data'!D11/'Base Data'!$G$3 -> 0 | K9: =I9*J9 -> 0 | L9: =$D9+K9 -> 0 | M9: ='Base Data'!E11/'Base Data'!$G$3 -> 0 | O9: =M9*N9 -> 0 | P9: =$D9+O9 -> 0 | Q9: ='Base Data'!F11/'Base Data'!$G$3 -> 0 | S9: =Q9*R9 -> 0 | T9: =$D9+S9 -> 0 | U9: ='Base Data'!G11/'Base Data'!$G$3 -> 0 | W9: =U9*V9 -> 0 | X9: =$D9+W9 -> 0 | Y9: ='Base Data'!H11/'Base Data'!$G$3 -> 0 | AA9: =Y9*Z9 -> 0 | AB9: =$D9+AA9 -> 0 | AC9: ='Base Data'!I11/'Base Data'!$G$3 -> 0 | AE9: =AC9*AD9 -> 0 | AF9: =$D9+AE9 -> 0
A10: 3 | B10: ='Base Data'!B12/'Base Data'!$G$3 -> 0 | D10: =B10*C10 -> 0 | E10: ='Base Data'!C12/'Base Data'!$G$3 -> 0 | G10: =E10*F10 -> 0 | H10: =$D10+G10 -> 0 | I10: ='Base Data'!D12/'Base Data'!$G$3 -> 0 | K10: =I10*J10 -> 0 | L10: =$D10+K10 -> 0 | M10: ='Base Data'!E12/'Base Data'!$G$3 -> 0 | O10: =M10*N10 -> 0 | P10: =$D10+O10 -> 0 | Q10: ='Base Data'!F12/'Base Data'!$G$3 -> 0 | S10: =Q10*R10 -> 0 | T10: =$D10+S10 -> 0 | U10: ='Base Data'!G12/'Base Data'!$G$3 -> 0 | W10: =U10*V10 -> 0 | X10: =$D10+W10 -> 0 | Y10: ='Base Data'!H12/'Base Data'!$G$3 -> 0 | AA10: =Y10*Z10 -> 0 | AB10: =$D10+AA10 -> 0 | AC10: ='Base Data'!I12/'Base Data'!$G$3 -> 0 | AE10: =AC10*AD10 -> 0 | AF10: =$D10+AE10 -> 0
A11: 4 | B11: ='Base Data'!B13/'Base Data'!$G$3 -> 0 | D11: =B11*C11 -> 0 | E11: ='Base Data'!C13/'Base Data'!$G$3 -> 0 | G11: =E11*F11 -> 0 | H11: =$D11+G11 -> 0 | I11: ='Base Data'!D13/'Base Data'!$G$3 -> 0 | K11: =I11*J11 -> 0 | L11: =$D11+K11 -> 0 | M11: ='Base Data'!E13/'Base Data'!$G$3 -> 0 | O11: =M11*N11 -> 0 | P11: =$D11+O11 -> 0 | Q11: ='Base Data'!F13/'Base Data'!$G$3 -> 0 | S11: =Q11*R11 -> 0 | T11: =$D11+S11 -> 0 | U11: ='Base Data'!G13/'Base Data'!$G$3 -> 0 | W11: =U11*V11 -> 0 | X11: =$D11+W11 -> 0 | Y11: ='Base Data'!H13/'Base Data'!$G$3 -> 0 | AA11: =Y11*Z11 -> 0 | AB11: =$D11+AA11 -> 0 | AC11: ='Base Data'!I13/'Base Data'!$G$3 -> 0 | AE11: =AC11*AD11 -> 0 | AF11: =$D11+AE11 -> 0
A12: 5 | B12: ='Base Data'!B14/'Base Data'!$G$3 -> 0 | D12: =B12*C12 -> 0 | E12: ='Base Data'!C14/'Base Data'!$G$3 -> 0 | G12: =E12*F12 -> 0 | H12: =$D12+G12 -> 0 | I12: ='Base Data'!D14/'Base Data'!$G$3 -> 0 | K12: =I12*J12 -> 0 | L12: =$D12+K12 -> 0 | M12: ='Base Data'!E14/'Base Data'!$G$3 -> 0 | O12: =M12*N12 -> 0 | P12: =$D12+O12 -> 0 | Q12: ='Base Data'!F14/'Base Data'!$G$3 -> 0 | S12: =Q12*R12 -> 0 | T12: =$D12+S12 -> 0 | U12: ='Base Data'!G14/'Base Data'!$G$3 -> 0 | W12: =U12*V12 -> 0 | X12: =$D12+W12 -> 0 | Y12: ='Base Data'!H14/'Base Data'!$G$3 -> 0 | AA12: =Y12*Z12 -> 0 | AB12: =$D12+AA12 -> 0 | AC12: ='Base Data'!I14/'Base Data'!$G$3 -> 0 | AE12: =AC12*AD12 -> 0 | AF12: =$D12+AE12 -> 0
A13: 6 | B13: ='Base Data'!B15/'Base Data'!$G$3 -> 0 | D13: =B13*C13 -> 0 | E13: ='Base Data'!C15/'Base Data'!$G$3 -> 0 | G13: =E13*F13 -> 0 | H13: =$D13+G13 -> 0 | I13: ='Base Data'!D15/'Base Data'!$G$3 -> 0 | K13: =I13*J13 -> 0 | L13: =$D13+K13 -> 0 | M13: ='Base Data'!E15/'Base Data'!$G$3 -> 0 | O13: =M13*N13 -> 0 | P13: =$D13+O13 -> 0 | Q13: ='Base Data'!F15/'Base Data'!$G$3 -> 0 | S13: =Q13*R13 -> 0 | T13: =$D13+S13 -> 0 | U13: ='Base Data'!G15/'Base Data'!$G$3 -> 0 | W13: =U13*V13 -> 0 | X13: =$D13+W13 -> 0 | Y13: ='Base Data'!H15/'Base Data'!$G$3 -> 0 | AA13: =Y13*Z13 -> 0 | AB13: =$D13+AA13 -> 0 | AC13: ='Base Data'!I15/'Base Data'!$G$3 -> 0 | AE13: =AC13*AD13 -> 0 | AF13: =$D13+AE13 -> 0
A14: 7 | B14: ='Base Data'!B16/'Base Data'!$G$3 -> 0 | D14: =B14*C14 -> 0 | E14: ='Base Data'!C16/'Base Data'!$G$3 -> 0 | G14: =E14*F14 -> 0 | H14: =$D14+G14 -> 0 | I14: ='Base Data'!D16/'Base Data'!$G$3 -> 0 | K14: =I14*J14 -> 0 | L14: =$D14+K14 -> 0 | M14: ='Base Data'!E16/'Base Data'!$G$3 -> 0 | O14: =M14*N14 -> 0 | P14: =$D14+O14 -> 0 | Q14: ='Base Data'!F16/'Base Data'!$G$3 -> 0 | S14: =Q14*R14 -> 0 | T14: =$D14+S14 -> 0 | U14: ='Base Data'!G16/'Base Data'!$G$3 -> 0 | W14: =U14*V14 -> 0 | X14: =$D14+W14 -> 0 | Y14: ='Base Data'!H16/'Base Data'!$G$3 -> 0 | AA14: =Y14*Z14 -> 0 | AB14: =$D14+AA14 -> 0 | AC14: ='Base Data'!I16/'Base Data'!$G$3 -> 0 | AE14: =AC14*AD14 -> 0 | AF14: =$D14+AE14 -> 0
A15: 8 | B15: ='Base Data'!B17/'Base Data'!$G$3 -> 0 | D15: =B15*C15 -> 0 | E15: ='Base Data'!C17/'Base Data'!$G$3 -> 0 | G15: =E15*F15 -> 0 | H15: =$D15+G15 -> 0 | I15: ='Base Data'!D17/'Base Data'!$G$3 -> 0 | K15: =I15*J15 -> 0 | L15: =$D15+K15 -> 0 | M15: ='Base Data'!E17/'Base Data'!$G$3 -> 0 | O15: =M15*N15 -> 0 | P15: =$D15+O15 -> 0 | Q15: ='Base Data'!F17/'Base Data'!$G$3 -> 0 | S15: =Q15*R15 -> 0 | T15: =$D15+S15 -> 0 | U15: ='Base Data'!G17/'Base Data'!$G$3 -> 0 | W15: =U15*V15 -> 0 | X15: =$D15+W15 -> 0 | Y15: ='Base Data'!H17/'Base Data'!$G$3 -> 0 | AA15: =Y15*Z15 -> 0 | AB15: =$D15+AA15 -> 0 | AC15: ='Base Data'!I17/'Base Data'!$G$3 -> 0 | AE15: =AC15*AD15 -> 0 | AF15: =$D15+AE15 -> 0
A16: 9 | B16: ='Base Data'!B18/'Base Data'!$G$3 -> 0 | D16: =B16*C16 -> 0 | E16: ='Base Data'!C18/'Base Data'!$G$3 -> 0 | G16: =E16*F16 -> 0 | H16: =$D16+G16 -> 0 | I16: ='Base Data'!D18/'Base Data'!$G$3 -> 0 | K16: =I16*J16 -> 0 | L16: =$D16+K16 -> 0 | M16: ='Base Data'!E18/'Base Data'!$G$3 -> 0 | O16: =M16*N16 -> 0 | P16: =$D16+O16 -> 0 | Q16: ='Base Data'!F18/'Base Data'!$G$3 -> 0 | S16: =Q16*R16 -> 0 | T16: =$D16+S16 -> 0 | U16: ='Base Data'!G18/'Base Data'!$G$3 -> 0 | W16: =U16*V16 -> 0 | X16: =$D16+W16 -> 0 | Y16: ='Base Data'!H18/'Base Data'!$G$3 -> 0 | AA16: =Y16*Z16 -> 0 | AB16: =$D16+AA16 -> 0 | AC16: ='Base Data'!I18/'Base Data'!$G$3 -> 0 | AE16: =AC16*AD16 -> 0 | AF16: =$D16+AE16 -> 0
A17: 10 | B17: ='Base Data'!B19/'Base Data'!$G$3 -> 0 | D17: =B17*C17 -> 0 | E17: ='Base Data'!C19/'Base Data'!$G$3 -> 0 | G17: =E17*F17 -> 0 | H17: =$D17+G17 -> 0 | I17: ='Base Data'!D19/'Base Data'!$G$3 -> 0 | K17: =I17*J17 -> 0 | L17: =$D17+K17 -> 0 | M17: ='Base Data'!E19/'Base Data'!$G$3 -> 0 | O17: =M17*N17 -> 0 | P17: =$D17+O17 -> 0 | Q17: ='Base Data'!F19/'Base Data'!$G$3 -> 0 | S17: =Q17*R17 -> 0 | T17: =$D17+S17 -> 0 | U17: ='Base Data'!G19/'Base Data'!$G$3 -> 0 | W17: =U17*V17 -> 0 | X17: =$D17+W17 -> 0 | Y17: ='Base Data'!H19/'Base Data'!$G$3 -> 0 | AA17: =Y17*Z17 -> 0 | AB17: =$D17+AA17 -> 0 | AC17: ='Base Data'!I19/'Base Data'!$G$3 -> 0 | AE17: =AC17*AD17 -> 0 | AF17: =$D17+AE17 -> 0
A18: 11 | B18: ='Base Data'!B20/'Base Data'!$G$3 -> 0 | D18: =B18*C18 -> 0 | E18: ='Base Data'!C20/'Base Data'!$G$3 -> 0 | G18: =E18*F18 -> 0 | H18: =$D18+G18 -> 0 | I18: ='Base Data'!D20/'Base Data'!$G$3 -> 0 | K18: =I18*J18 -> 0 | L18: =$D18+K18 -> 0 | M18: ='Base Data'!E20/'Base Data'!$G$3 -> 0 | O18: =M18*N18 -> 0 | P18: =$D18+O18 -> 0 | Q18: ='Base Data'!F20/'Base Data'!$G$3 -> 0 | S18: =Q18*R18 -> 0 | T18: =$D18+S18 -> 0 | U18: ='Base Data'!G20/'Base Data'!$G$3 -> 0 | W18: =U18*V18 -> 0 | X18: =$D18+W18 -> 0 | Y18: ='Base Data'!H20/'Base Data'!$G$3 -> 0 | AA18: =Y18*Z18 -> 0 | AB18: =$D18+AA18 -> 0 | AC18: ='Base Data'!I20/'Base Data'!$G$3 -> 0 | AE18: =AC18*AD18 -> 0 | AF18: =$D18+AE18 -> 0
... A30: 11 | B30: ='Base Data'!B32/'Base Data'!$G$3 -> 0 | D30: =B30*C30 -> 0 | E30: ='Base Data'!C32/'Base Data'!$G$3 -> 0 | G30: =E30*F30 -> 0 | H30: =$D30+G30 -> 0 | I30: ='Base Data'!D32/'Base Data'!$G$3 -> 0 | K30: =I30*J30 -> 0 | L30: =$D30+K30 -> 0 | M30: ='Base Data'!E32/'Base Data'!$G$3 -> 0 | O30: =M30*N30 -> 0 | P30: =$D30+O30 -> 0 | Q30: ='Base Data'!F32/'Base Data'!$G$3 -> 0 | S30: =Q30*R30 -> 0 | T30: =$D30+S30 -> 0 | U30: ='Base Data'!G32/'Base Data'!$G$3 -> 0 | W30: =U30*V30 -> 0 | X30: =$D30+W30 -> 0 | Y30: ='Base Data'!H32/'Base Data'!$G$3 -> 0 | AA30: =Y30*Z30 -> 0 | AB30: =$D30+AA30 -> 0 | AC30: ='Base Data'!I32/'Base Data'!$G$3 -> 0 | AE30: =AC30*AD30 -> 0 | AF30: =$D30+AE30 -> 0
A31: Maximum Value (PCE/HR): | E31: - | F31: - | G31: =MAX(G7:G30) -> 0 | H31: {=MAX(IF($C$46:$C$69="Closed",H$7:H$30))} -> 0 | I31: - | J31: - | K31: =MAX(K7:K30) -> 0 | L31: {=MAX(IF($C$46:$C$69="Closed",L$7:L$30))} -> 0 | M31: - | N31: - | O31: =MAX(O7:O30) -> 0 | P31: {=MAX(IF($C$46:$C$69="Closed",P$7:P$30))} -> 0 | Q31: - | R31: - | S31: =MAX(S7:S30) -> 0 | T31: {=MAX(IF($C$46:$C$69="Closed",T$7:T$30))} -> 0 | U31: - | V31: - | W31: =MAX(W7:W30) -> 0 | X31: {=MAX(IF($C$46:$C$69="Closed",X$7:X$30))} -> 0 | Y31: - | Z31: - | AA31: =MAX(AA7:AA30) -> 0 | AB31: {=MAX(IF($C$46:$C$69="Closed",AB$7:AB$30))} -> 0 | AC31: - | AD31: - | AE31: =MAX(AE7:AE30) -> 0 | AF31: {=MAX(IF($C$46:$C$69="Closed",AF$7:AF$30))} -> 0
A32: Number of Lanes: | E32: ='Base Data'!C$6 -> 0 | I32: ='Base Data'!D$6 -> 0 | M32: ='Base Data'!E$6 -> 0 | Q32: ='Base Data'!F$6 -> 0 | U32: ='Base Data'!G$6 -> 0 | Y32: ='Base Data'!H$6 -> 0 | AC32: ='Base Data'!I$6 -> 0
A33: Speed Limit (mph): | E33: ='Base Data'!C$7 -> 0 | I33: ='Base Data'!D$7 -> 0 | M33: ='Base Data'!E$7 -> 0 | Q33: ='Base Data'!F$7 -> 0 | U33: ='Base Data'!G$7 -> 0 | Y33: ='Base Data'!H$7 -> 0 | AC33: ='Base Data'!I$7 -> 0
A34: Theoretical Capacity (PCE/HR): | E34: =IF(E5="Link Type: Interstate (Mainline)",INDEX(Cap_Mnln_Cap,MATCH(E33,Cap_Mnln_Spd,0))*E32,IF(E5="Link Type: Ramp (Intertate to Interstate/C-D)",INDEX(Cap_ItoI_Cap,MATCH(E33,Cap_ItoI_Speed,-1))*E32,IF(E5="Link Type: Ramp (Signalized Intersection)",INDEX(Cap_Sig_Cap,MATCH(RuralUrban,Cap_Sig_RorU,0))*E32,IF(E5="Link Type: Ramp (AWSC Intersection)",Cap_AWSC*E32,"Manually Determine")))) -> Manually Determine | I34: =IF(I5="Link Type: Interstate (Mainline)",INDEX(Cap_Mnln_Cap,MATCH(I33,Cap_Mnln_Spd,0))*I32,IF(I5="Link Type: Ramp (Intertate to Interstate/C-D)",INDEX(Cap_ItoI_Cap,MATCH(I33,Cap_ItoI_Speed,-1))*I32,IF(I5="Link Type: Ramp (Signalized Intersection)",INDEX(Cap_Sig_Cap,MATCH(RuralUrban,Cap_Sig_RorU,0))*I32,IF(I5="Link Type: Ramp (AWSC Intersection)",Cap_AWSC*I32,"Manually Determine")))) -> Manually Determine | M34: =IF(M5="Link Type: Interstate (Mainline)",INDEX(Cap_Mnln_Cap,MATCH(M33,Cap_Mnln_Spd,0))*M32,IF(M5="Link Type: Ramp (Intertate to Interstate/C-D)",INDEX(Cap_ItoI_Cap,MATCH(M33,Cap_ItoI_Speed,-1))*M32,IF(M5="Link Type: Ramp (Signalized Intersection)",INDEX(Cap_Sig_Cap,MATCH(RuralUrban,Cap_Sig_RorU,0))*M32,IF(M5="Link Type: Ramp (AWSC Intersection)",Cap_AWSC*M32,"Manually Determine")))) -> Manually Determine | Q34: =IF(Q5="Link Type: Interstate (Mainline)",INDEX(Cap_Mnln_Cap,MATCH(Q33,Cap_Mnln_Spd,0))*Q32,IF(Q5="Link Type: Ramp (Intertate to Interstate/C-D)",INDEX(Cap_ItoI_Cap,MATCH(Q33,Cap_ItoI_Speed,-1))*Q32,IF(Q5="Link Type: Ramp (Signalized Intersection)",INDEX(Cap_Sig_Cap,MATCH(RuralUrban,Cap_Sig_RorU,0))*Q32,IF(Q5="Link Type: Ramp (AWSC Intersection)",Cap_AWSC*Q32,"Manually Determine")))) -> Manually Determine | U34: =IF(U5="Link Type: Interstate (Mainline)",INDEX(Cap_Mnln_Cap,MATCH(U33,Cap_Mnln_Spd,0))*U32,IF(U5="Link Type: Ramp (Intertate to Interstate/C-D)",INDEX(Cap_ItoI_Cap,MATCH(U33,Cap_ItoI_Speed,-1))*U32,IF(U5="Link Type: Ramp (Signalized Intersection)",INDEX(Cap_Sig_Cap,MATCH(RuralUrban,Cap_Sig_RorU,0))*U32,IF(U5="Link Type: Ramp (AWSC Intersection)",Cap_AWSC*U32,"Manually Determine")))) -> Manually Determine | Y34: =IF(Y5="Link Type: Interstate (Mainline)",INDEX(Cap_Mnln_Cap,MATCH(Y33,Cap_Mnln_Spd,0))*Y32,IF(Y5="Link Type: Ramp (Intertate to Interstate/C-D)",INDEX(Cap_ItoI_Cap,MATCH(Y33,Cap_ItoI_Speed,-1))*Y32,IF(Y5="Link Type: Ramp (Signalized Intersection)",INDEX(Cap_Sig_Cap,MATCH(RuralUrban,Cap_Sig_RorU,0))*Y32,IF(Y5="Link Type: Ramp (AWSC Intersection)",Cap_AWSC*Y32,"Manually Determine")))) -> Manually Determine | AC34: =IF(AC5="Link Type: Interstate (Mainline)",INDEX(Cap_Mnln_Cap,MATCH(AC33,Cap_Mnln_Spd,0))*AC32,IF(AC5="Link Type: Ramp (Intertate to Interstate/C-D)",INDEX(Cap_ItoI_Cap,MATCH(AC33,Cap_ItoI_Speed,-1))*AC32,IF(AC5="Link Type: Ramp (Signalized Intersection)",INDEX(Cap_Sig_Cap,MATCH(RuralUrban,Cap_Sig_RorU,0))*AC32,IF(AC5="Link Type: Ramp (AWSC Intersection)",Cap_AWSC*AC32,"Manually Determine")))) -> Manually Determine
A35: Result: | E35: =IF(LEFT(G5,4)="Ramp",IF(AND(H31>700,H31>G31), "Potential Issue","Acceptable"),IF(H31>G31,"Potential Issue","Acceptable")) -> Acceptable | I35: =IF(LEFT(K5,4)="Ramp",IF(AND(L31>700,L31>K31), "Potential Issue","Acceptable"),IF(L31>K31,"Potential Issue","Acceptable")) -> Acceptable | M35: =IF(LEFT(O5,4)="Ramp",IF(AND(P31>700,P31>O31), "Potential Issue","Acceptable"),IF(P31>O31,"Potential Issue","Acceptable")) -> Acceptable | Q35: =IF(LEFT(S5,4)="Ramp",IF(AND(T31>700,T31>S31), "Potential Issue","Acceptable"),IF(T31>S31,"Potential Issue","Acceptable")) -> Acceptable | U35: =IF(LEFT(W5,4)="Ramp",IF(AND(X31>700,X31>W31), "Potential Issue","Acceptable"),IF(X31>W31,"Potential Issue","Acceptable")) -> Acceptable | Y35: =IF(LEFT(AA5,4)="Ramp",IF(AND(AB31>700,AB31>AA31), "Potential Issue","Acceptable"),IF(AB31>AA31,"Potential Issue","Acceptable")) -> Acceptable | AC35: =IF(LEFT(AE5,4)="Ramp",IF(AND(AF31>700,AF31>AE31), "Potential Issue","Acceptable"),IF(AF31>AE31,"Potential Issue","Acceptable")) -> Acceptable
A36: Remark:
B38: Retrieved from Elsewhere in Workbook
B39: Requires Copied/Entered Data
B40: Automatic Calculations
B41: Time Of Interest
B43: Time of Proposed Closure
B44: Type: | C44: ='Base Data'!M7 -> Weekday or Night-time Only
B45: Time | C45: Sunday
B46: 12 | C46: =IF(ISBLANK('Base Data'!P9),"Open","Closed") -> Open
B47: 1 | C47: =IF(ISBLANK('Base Data'!P10),"Open","Closed") -> Open
B48: 2 | C48: =IF(ISBLANK('Base Data'!P11),"Open","Closed") -> Open
B49: 3 | C49: =IF(ISBLANK('Base Data'!P12),"Open","Closed") -> Open
B50: 4 | C50: =IF(ISBLANK('Base Data'!P13),"Open","Closed") -> Open
B51: 5 | C51: =IF(ISBLANK('Base Data'!P14),"Open","Closed") -> Open
B52: 6 | C52: =IF(ISBLANK('Base Data'!P15),"Open","Closed") -> Open
B53: 7 | C53: =IF(ISBLANK('Base Data'!P16),"Open","Closed") -> Open
B54: 8 | C54: =IF(ISBLANK('Base Data'!P17),"Open","Closed") -> Open
B55: 9 | C55: =IF(ISBLANK('Base Data'!P18),"Open","Closed") -> Open
B56: 10 | C56: =IF(ISBLANK('Base Data'!P19),"Open","Closed") -> Open
B57: 11 | C57: =IF(ISBLANK('Base Data'!P20),"Open","Closed") -> Open
... B69: 11 | C69: =IF(ISBLANK('Base Data'!P32),"Open","Closed") -> Open

Sheet Capacity
A1: Theoretical Capacities for Different Segment Types
A3: Link Type: | B3: Interstate (Mainline) | D3: Link Type: | E3: Ramp w/ TWSC Intersection
A4: Source: | B4: HCM via IHCP Table C-1 | D4: Source: | E4: HCM 2010 Chapter 19
A6: Free Flow Speed | B6: Volume at Capacity | D6: Conflicting Flow Rate | E6: Approx. Capacity
A7: (mph) | B7: (PCE/HR/Ln) | D7: (PCE/HR) | E7: (PCE/HR/Ln)
A8: 45 | B8: 1900 | D8: 0 | E8: 1027
A9: 50 | B9: 2075 | D9: 200 | E9: 746
A10: 55 | B10: 2250 | D10: 400 | E10: 540
A11: 60 | B11: 2300 | D11: 600 | E11: 389
A12: 65 | B12: 2350 | D12: 800 | E12: 280
A13: 70 | B13: 2400 | D13: 1000 | E13: 200
A14: 75 | B14: 2400 | D14: 1200 | E14: 143
D15: 1400 | E15: 102
D16: 1600 | E16: 72
D17: 1800 | E17: 51
D18: 2000 | E18: 36
A20: Link Type: | B20: Ramp (Interstate to Interstate or C-D) | D20: Link Type: | E20: Ramp w/ Roundabout
A21: Source: | B21: HCM 2010 Exhibit 13-10 | D21: Source: | E21: NCHRP Report 672 Exhibit 4-6
A23: Ramp FFS Max | B23: Capacity | D23: Conflicting Flow Rate | E23: Approx. Capacity
A24: (mph) | B24: (PCE/HR/Ln) | D24: (PCE/HR) | E24: (PCE/HR/Ln)
A25: 80 | B25: 2200 | D25: 0 | E25: 1100
A26: 50 | B26: 2100 | D26: 200 | E26: 950
A27: 40 | B27: 2000 | D27: 400 | E27: 750
A28: 30 | B28: 1900 | D28: 600 | E28: 600
A29: 20 | B29: 1800 | D29: 800 | E29: 500
D30: 1000 | E30: 400
A32: Link Type: | B32: Ramp w/ AWSC Intersection | D32: Link Type: | E32: Ramp w/ Signalized Intersection
A33: Source: | B33: HCM 2010 Chapter 20 | D33: Source: | E33: HCM 2010 Exhibit 18-28
A35: Approx. Capacity | D35: Rural/ Urban | E35: Capacity
E36: (PCE/HR/Ln)
A37: (PCE/HR) | D37: Rural | E37: 580
A38: 380 | D38: Urban | E38: 640
A40: Note: Most of these capacities have been derived from calculations and conservative assumptions based on the sources cited. They should not be considered definitive, but rather as a starting point and volumes that approach these values should be scrutinized more closely.

Sheet Start Here (old)
A1: Instructions for using Detour Route Spreadsheet
A2: 1) Begin in the "Base Data" tab | K2: Link Type: Interstate (Mainline),Link Type: Ramp (Intertate to Interstate/C-D),Link Type: Ramp (Signalized Intersection),Link Type: Ramp (Roundabout Intersection),Link Type: Ramp (TWSC Intersection),Link Type: Ramp (AWSC Intersection)
A3: a) Fill out the top portion including fields for the Closure, Analyst, Date, Contract # (if applicable), whether the location is rural or urban, and the planned month for the work (the Adjustment Factor will be pulled automatically).
A4: b) Fill out the Link Names in row 4 with the same format as for the 'Closure' (<Road From & Direction> to <Road To & Direction>, Ramp <Letter from Interchange Book>). Most Detours will consist of 5 links, but more or less can be used if necessary.
A5: c) Fill out the number of lanes and speed for each link. If these values are not consistent (e.g.: a ramp widens from 1 lane to 2) then use the most relevant value for capacity determination (e.g.: if a ramp has 4 lanes, but 3 of those will be for left turns that will be used for the detour at a signal then use 3 since the capacity of left turns at a signal will be constrained by those left turns).
A6: d) Select the link type for row 8. This should be the most relevant classification based on the movements of the detouring traffic. So, if there is a signal on the route approaching an on-ramp then use the signal capacity unless there is a bypass turn lane for the relevant movement then it can be treated as an Interstate to Interstate/C-D. If there is uncertainty, consider how the route interacts with the segment/node and if the uncertainty persists, err on the side of caution.
A7: e) Copy relevant time of day counts for weekdays for each segment. These counts should be adjusted for both year and month so that they are annualized in the current year.
A8: f) Select the potential closure times in columns M-P by placing an "X" in each relevant field. (note: Monday-Thursday are considered identical for purposes of the IHCP, so if you have a closure that lasts from 9 pm Thursday to 6 am Monday, place "X"s in all of the cells between M9 and P32 except for M7 to M29).
A9: g) Data from this tab will populate most of the rest of the tabs, so ensuring that data in this tab is correct is critical.
A10: 2) Go to the "Weekday" tab
A11: a) Most of this should be done automatically based on the base data entered previously.
A12: b) However, if there are intersections with roundabouts or TWSC, consult the capacity tab and the relevant sources since cross traffic will play a role in the capacity of the movement.
A13: c) Also, signalized intersections that have volumes within 20% of the theoretical capacity should be run by the systems group at the TMC before the exception is submitted for review to ensure that the signal is capable of dealing with the additional traffic caused by the detour. Regardless, at some point in the IHCP exception process, if there is a signal, the systems group should be notified in case they would like to adjust the signal timing for the detour.
A14: d) If the typical maximum volume (without the detour) and the theoretical capacity are exceeded then it could potentially result in queuing. Changes in the detour (such as selection of a different route, use of shoulders as driving lanes, additional signing, etc.) should be considered to mitigate the burden on the system caused by the detour and reduce the chances of queuing on the interstate.
... A28: c) Typically, the "Weekday" tab will fit well on a single page, but the weekend tabs will need two pages and are setup so that columns A-D are repeated on other pages.
