{"text_format":"1","workbook":"xlsx","n_sheets":2,"sheets":["Qsc","Line or Route. Direction. Lane"],"not_rendered":{"charts":0,"images":0,"macros":1,"external_links":0,"defined_names":1,"comments":0,"pivot_tables":0},"unopened":[],"bounds":{"document_bytes":16777216,"sheet_cells":100000,"rows_first":2000,"rows_last":500,"rows_between":2000,"halvings":0,"cell_chars":16384,"cell_head_chars":4096},"cells_cut":0,"cells_raw":0,"read":"whole","date_system":"1900"}

{"sheet":"Qsc","index":0,"n_rows":3,"n_cols":4,"rows_kept":3,"cut":false,"hidden":false,"merged":[]}
[]
[null,"Calc Qsc",{"$f":"SUM(C3:C1000)","v":0},"TOTAL"]
[null,"Line or Route. Direction. Lane",0]

{"sheet":"Line or Route. Direction. Lane","index":1,"n_rows":999,"n_cols":20,"rows_kept":999,"cut":false,"hidden":false,"merged":[[34,15,34,19],[15,15,15,19],[16,15,17,19],[18,15,19,18],[18,19,19,19],[31,19,33,19],[31,15,33,15],[31,16,33,16],[31,17,33,17],[31,18,33,18],[12,10,13,12],[12,9,13,9],[8,1,8,5],[12,3,13,3],[12,5,13,5],[12,8,13,8]]}
[null,null,null," "]
[]
[]
[null,null,null,"Section",null,"Line or Route. Direction. Lane"]
[null,null,null,null,"LANE WIDTH (ft)   "]
[null,null,null,null,"PROFILE STARTING STATION   ",null,null,null,null,null,"Unit Price, U ($/SYS) =>"]
[null,null,null,null,"PROFILE ENDING STATION   "]
[]
[null,"ADJUSTMENT FOR SMOOTHNESS TOTAL QUALITY ASSURANCE    ",null,null,null,null,null,"Qs=",{"$f":"SUM(L15:L1000)","v":0},"Total for Lane  "]
[]
[]
[]
["ProVAL Starting Distance","ProVAL  Ending Distance","ProVal Output Length","START STATION",null,"END STATION",null,"MRI","Comments","PAY FACTOR FOR SMOOTHNESS, PFS","qs"]
["(feet)","(feet)","(feet)",null,null,null,null,"(in. /mile)"]
[null,null,null,{"$f":"IF($F$6=\"\",\"\",IF($F$7<$F$6,F6-50,F6+50))","v":""},null,{"$f":"IF(C15=\"\",\"\",IF($F$7<$F$6,D15-C15,D15+C15))","v":""},null,null,null,null,null,{"$f":"IF(OR($H15=\"\",$H15=\"Exemption\",H15=0),\"\",ROUND((J15-1)*$C15*F$5/9*L$6,2))","v":""}]
[null,null,null,{"$f":"+IF(A16=\"\",\"\",IF($F$7<$F$6,D15-(A16-A15),D15+(A16-A15)))","v":""},null,"",null,null,null,null,null,{"$f":"IF(OR($H16=\"\",$H16=\"Exemption\",H16=0),\"\",ROUND((J16-1)*$C16*F$5/9*L$6,2))","v":""}]
[null,null,null,"",null,"",null,null,null,null,null,"",null,null,null,"PAY FACTORS FOR SMOOTHNESS\nPosted Speed greater than 45 mph"]
[null,null,null,"",null,"",null,null,null,null,null,""]
[null,null,null,"",null,"",null,null,null,null,null,"",null,null,null,"MRI (inches per mile)",null,null,null,"Pay Factor, PFs"]
[null,null,null,"",null,"",null,null,null,null,null,""]
[null,null,null,"",null,"",null,null,null,null,null,"",null,null,null,"Over",0,"to",35,1.08]
[null,null,null,"",null,"",null,null,null,null,null,"",null,null,null,"Over",35,"to",40,1.07]
[null,null,null,"",null,"",null,null,null,null,null,"",null,null,null,"Over",40,"to",45,1.05]
[null,null,null,"",null,"",null,null,null,null,null,"",null,null,null,"Over",45,"to",50,1.03]
[null,null,null,"",null,"",null,null,null,null,null,"",null,null,null,"Over",50,"to",55,1.02]
[null,null,null,"",null,"",null,null,null,null,null,"",null,null,null,"Over",55,"to",60,1.01]
[null,null,null,"",null,"",null,null,null,null,null,"",null,null,null,"Over",60,"to",70,1]
[null,null,null,"",null,"",null,null,null,null,null,"",null,null,null,"Over",70,"to",75,0.99]
[null,null,null,"",null,"",null,null,null,null,null,{"$f":"IF(OR($H29=\"\",$H29=\"Exemption\",H29=0),\"\",ROUND((J29-1)*$C29*F$5/9*L$6,2))","v":""},null,null,null,"Over",75,"to",80,0.98]
[null,null,null,"",null,"",null,null,null,null,null,"",null,null,null,"Over",80,"to",85,0.96]
[null,null,null,"",null,"",null,null,null,null,null,"",null,null,null,"Over",85,"to",90,0.95]
[null,null,null,"",null,"",null,null,null,null,null,"",null,null,null,"Over",90,null,null,"PFs will be 0.95 and the section shall be corrected to 90 or less."]
[null,null,null,"",null,"",null,null,null,null,null,""]
[null,null,null,"",null,"",null,null,null,null,null,""]
[null,null,null,"",null,"",null,null,null,null,null,""]
[null,null,null,"",null,"",null,null,null,null,null,""]
[null,null,null,"",null,"",null,null,null,null,null,""]
[null,null,null,"",null,"",null,null,null,null,null,""]
[null,null,null,"",null,"",null,null,null,null,null,""]
[null,null,null,"",null,"",null,null,null,null,null,""]
[null,null,null,"",null,"",null,null,null,null,null,""]
[null,null,null,"",null,"",null,null,null,null,null,""]
[null,null,null,"",null,"",null,null,null,null,null,""]
[null,null,null,"",null,"",null,null,null,null,null,""]
[null,null,null,"",null,"",null,null,null,null,null,""]
[null,null,null,"",null,"",null,null,null,null,null,""]
[null,null,null,"",null,"",null,null,null,null,null,""]
[null,null,null,"",null,"",null,null,null,null,null,""]
[null,null,null,"",null,"",null,null,null,null,null,""]
[null,null,null,"",null,"",null,null,null,null,null,""]
[null,null,null,"",null,"",null,null,null,null,null,""]
[null,null,null,"",null,"",null,null,null,null,null,""]
[null,null,null,"",null,"",null,null,null,null,null,""]
[null,null,null,"",null,"",null,null,null,null,null,""]
[null,null,null,"",null,"",null,null,null,null,null,""]
[null,null,null,"",null,"",null,null,null,null,null,""]
[null,null,null,"",null,"",null,null,null,null,null,""]
[null,null,null,"",null,"",null,null,null,null,null,""]
[null,null,null,"",null,"",null,null,null,null,null,""]
[null,null,null,"",null,"",null,null,null,null,null,""]
[null,null,null,"",null,"",null,null,null,null,null,""]
[null,null,null,"",null,"",null,null,null,null,null,""]
[null,null,null,"",null,"",null,null,null,null,null,""]
[null,null,null,"",null,"",null,null,null,null,null,""]
[null,null,null,"",null,"",null,null,null,null,null,""]
[null,null,null,"",null,"",null,null,null,null,null,""]
[null,null,null,"",null,"",null,null,null,null,null,""]
[null,null,null,"",null,"",null,null,null,null,null,""]
[null,null,null,"",null,"",null,null,null,null,null,""]
[null,null,null,"",null,"",null,null,null,null,null,""]
[null,null,null,"",null,"",null,null,null,null,null,""]
[null,null,null,"",null,"",null,null,null,null,null,""]
[null,null,null,"",null,"",null,null,null,null,null,""]
[null,null,null,"",null,"",null,null,null,null,null,""]
[null,null,null,"",null,"",null,null,null,null,null,""]
[null,null,null,"",null,"",null,null,null,null,null,""]
[null,null,null,"",null,"",null,null,null,null,null,""]
[null,null,null,"",null,"",null,null,null,null,null,""]
[null,null,null,"",null,{"$f":"IF(C79=\"\",\"\",IF($F$7<$F$6,D79-C79,D79+C79))","v":""},null,null,null,null,null,""]
[null,null,null,{"$f":"+IF(A80=\"\",\"\",IF($F$7<$F$6,D79-(A80-A79),D79+(A80-A79)))","v":""},null,"",null,null,null,null,null,{"$f":"IF(OR($H80=\"\",$H80=\"Exemption\",H80=0),\"\",ROUND((J80-1)*$C80*F$5/9*L$6,2))","v":""}]
[null,null,null,"",null,"",null,null,null,null,null,""]
[null,null,null,"",null,"",null,null,null,null,null,""]
[null,null,null,"",null,"",null,null,null,null,null,""]
[null,null,null,"",null,"",null,null,null,null,null,""]
[null,null,null,"",null,"",null,null,null,null,null,""]
[null,null,null,"",null,"",null,null,null,null,null,""]
[null,null,null,"",null,"",null,null,null,null,null,""]
[null,null,null,"",null,"",null,null,null,null,null,""]
[null,null,null,"",null,"",null,null,null,null,null,""]
[null,null,null,"",null,"",null,null,null,null,null,""]
[null,null,null,"",null,"",null,null,null,null,null,""]
[null,null,null,"",null,"",null,null,null,null,null,""]
[null,null,null,"",null,"",null,null,null,null,null,""]
[null,null,null,"",null,"",null,null,null,null,null,""]
[null,null,null,"",null,"",null,null,null,null,null,""]
[null,null,null,"",null,"",null,null,null,null,null,""]
[null,null,null,"",null,"",null,null,null,null,null,""]
[null,null,null,"",null,"",null,null,null,null,null,""]
[null,null,null,"",null,"",null,null,null,null,null,""]
[null,null,null,"",null,"",null,null,null,null,null,""]
[null,null,null,"",null,"",null,null,null,null,null,""]
[null,null,null,"",null,"",null,null,null,null,null,""]
[null,null,null,"",null,"",null,null,null,null,null,""]
[null,null,null,"",null,"",null,null,null,null,null,""]
[null,null,null,"",null,"",null,null,null,null,null,""]
[null,null,null,"",null,"",null,null,null,null,null,""]
[null,null,null,"",null,"",null,null,null,null,null,""]
[null,null,null,"",null,"",null,null,null,null,null,""]
[null,null,null,"",null,"",null,null,null,null,null,""]
[null,null,null,"",null,"",null,null,null,null,null,""]
[null,null,null,"",null,"",null,null,null,null,null,""]
[null,null,null,"",null,"",null,null,null,null,null,""]
[null,null,null,"",null,"",null,null,null,null,null,""]
[null,null,null,"",null,"",null,null,null,null,null,""]
[null,null,null,"",null,"",null,null,null,null,null,""]
[null,null,null,"",null,"",null,null,null,null,null,""]
[null,null,null,"",null,"",null,null,null,null,null,""]
[null,null,null,"",null,"",null,null,null,null,null,""]
[null,null,null,"",null,"",null,null,null,null,null,""]
[null,null,null,"",null,"",null,null,null,null,null,""]
[null,null,null,"",null,"",null,null,null,null,null,""]
[null,null,null,"",null,"",null,null,null,null,null,""]
[null,null,null,"",null,"",null,null,null,null,null,""]
[null,null,null,"",null,"",null,null,null,null,null,""]
[null,null,null,"",null,"",null,null,null,null,null,""]
[null,null,null,"",null,"",null,null,null,null,null,""]
[null,null,null,"",null,"",null,null,null,null,null,""]
[null,null,null,"",null,"",null,null,null,null,null,""]
[null,null,null,"",null,"",null,null,null,null,null,""]
[null,null,null,"",null,"",null,null,null,null,null,""]
[null,null,null,"",null,"",null,null,null,null,null,""]
[null,null,null,"",null,"",null,null,null,null,null,""]
[null,null,null,"",null,"",null,null,null,null,null,""]
[null,null,null,"",null,"",null,null,null,null,null,""]
[null,null,null,"",null,"",null,null,null,null,null,""]
[null,null,null,"",null,"",null,null,null,null,null,""]
[null,null,null,"",null,"",null,null,null,null,null,""]
[null,null,null,"",null,"",null,null,null,null,null,""]
[null,null,null,"",null,"",null,null,null,null,null,""]
[null,null,null,"",null,"",null,null,null,null,null,""]
[null,null,null,"",null,"",null,null,null,null,null,""]
[null,null,null,"",null,"",null,null,null,null,null,""]
[null,null,null,"",null,{"$f":"IF(C143=\"\",\"\",IF($F$7<$F$6,D143-C143,D143+C143))","v":""},null,null,null,null,null,""]
[null,null,null,{"$f":"+IF(A144=\"\",\"\",IF($F$7<$F$6,D143-(A144-A143),D143+(A144-A143)))","v":""},null,"",null,null,null,null,null,{"$f":"IF(OR($H144=\"\",$H144=\"Exemption\",H144=0),\"\",ROUND((J144-1)*$C144*F$5/9*L$6,2))","v":""}]
[null,null,null,"",null,"",null,null,null,null,null,""]
[null,null,null,"",null,"",null,null,null,null,null,""]
[null,null,null,"",null,"",null,null,null,null,null,""]
[null,null,null,"",null,"",null,null,null,null,null,""]
[null,null,null,"",null,"",null,null,null,null,null,""]
[null,null,null,"",null,"",null,null,null,null,null,""]
[null,null,null,"",null,"",null,null,null,null,null,""]
[null,null,null,"",null,"",null,null,null,null,null,""]
[null,null,null,"",null,"",null,null,null,null,null,""]
[null,null,null,"",null,"",null,null,null,null,null,""]
[null,null,null,"",null,"",null,null,null,null,null,""]
[null,null,null,"",null,"",null,null,null,null,null,""]
[null,null,null,"",null,"",null,null,null,null,null,""]
[null,null,null,"",null,"",null,null,null,null,null,""]
[null,null,null,"",null,"",null,null,null,null,null,""]
[null,null,null,"",null,"",null,null,null,null,null,""]
[null,null,null,"",null,"",null,null,null,null,null,""]
[null,null,null,"",null,"",null,null,null,null,null,""]
[null,null,null,"",null,"",null,null,null,null,null,""]
[null,null,null,"",null,"",null,null,null,null,null,""]
[null,null,null,"",null,"",null,null,null,null,null,""]
[null,null,null,"",null,"",null,null,null,null,null,""]
[null,null,null,"",null,"",null,null,null,null,null,""]
[null,null,null,"",null,"",null,null,null,null,null,""]
[null,null,null,"",null,"",null,null,null,null,null,""]
[null,null,null,"",null,"",null,null,null,null,null,""]
[null,null,null,"",null,"",null,null,null,null,null,""]
[null,null,null,"",null,"",null,null,null,null,null,""]
[null,null,null,"",null,"",null,null,null,null,null,""]
[null,null,null,"",null,"",null,null,null,null,null,""]
[null,null,null,"",null,"",null,null,null,null,null,""]
[null,null,null,"",null,"",null,null,null,null,null,""]
[null,null,null,"",null,"",null,null,null,null,null,""]
[null,null,null,"",null,"",null,null,null,null,null,""]
[null,null,null,"",null,"",null,null,null,null,null,""]
[null,null,null,"",null,"",null,null,null,null,null,""]
[null,null,null,"",null,"",null,null,null,null,null,""]
[null,null,null,"",null,"",null,null,null,null,null,""]
[null,null,null,"",null,"",null,null,null,null,null,""]
[null,null,null,"",null,"",null,null,null,null,null,""]
[null,null,null,"",null,"",null,null,null,null,null,""]
[null,null,null,"",null,"",null,null,null,null,null,""]
[null,null,null,"",null,"",null,null,null,null,null,""]
[null,null,null,"",null,"",null,null,null,null,null,""]
[null,null,null,"",null,"",null,null,null,null,null,""]
[null,null,null,"",null,"",null,null,null,null,null,""]
[null,null,null,"",null,"",null,null,null,null,null,""]
[null,null,null,"",null,"",null,null,null,null,null,""]
[null,null,null,"",null,"",null,null,null,null,null,""]
[null,null,null,"",null,"",null,null,null,null,null,""]
[null,null,null,"",null,"",null,null,null,null,null,""]
[null,null,null,"",null,"",null,null,null,null,null,""]
[null,null,null,"",null,"",null,null,null,null,null,""]
[null,null,null,"",null,"",null,null,null,null,null,""]
[null,null,null,"",null,"",null,null,null,null,null,""]
[null,null,null,"",null,"",null,null,null,null,null,""]
[null,null,null,"",null,"",null,null,null,null,null,""]
[null,null,null,"",null,"",null,null,null,null,null,""]
[null,null,null,"",null,"",null,null,null,null,null,""]
[null,null,null,"",null,"",null,null,null,null,null,""]
[null,null,null,"",null,"",null,null,null,null,null,""]
[null,null,null,"",null,"",null,null,null,null,null,""]
[null,null,null,"",null,{"$f":"IF(C207=\"\",\"\",IF($F$7<$F$6,D207-C207,D207+C207))","v":""},null,null,null,null,null,""]
[null,null,null,{"$f":"+IF(A208=\"\",\"\",IF($F$7<$F$6,D207-(A208-A207),D207+(A208-A207)))","v":""},null,"",null,null,null,null,null,{"$f":"IF(OR($H208=\"\",$H208=\"Exemption\",H208=0),\"\",ROUND((J208-1)*$C208*F$5/9*L$6,2))","v":""}]
[null,null,null,"",null,"",null,null,null,null,null,""]
[null,null,null,"",null,"",null,null,null,null,null,""]
[null,null,null,"",null,"",null,null,null,null,null,""]
[null,null,null,"",null,"",null,null,null,null,null,""]
[null,null,null,"",null,"",null,null,null,null,null,""]
[null,null,null,"",null,"",null,null,null,null,null,""]
[null,null,null,"",null,"",null,null,null,null,null,""]
[null,null,null,"",null,"",null,null,null,null,null,""]
[null,null,null,"",null,"",null,null,null,null,null,""]
[null,null,null,"",null,"",null,null,null,null,null,""]
[null,null,null,"",null,"",null,null,null,null,null,""]
[null,null,null,"",null,"",null,null,null,null,null,""]
[null,null,null,"",null,"",null,null,null,null,null,""]
[null,null,null,"",null,"",null,null,null,null,null,""]
[null,null,null,"",null,"",null,null,null,null,null,""]
[null,null,null,"",null,"",null,null,null,null,null,""]
[null,null,null,"",null,"",null,null,null,null,null,""]
[null,null,null,"",null,"",null,null,null,null,null,""]
[null,null,null,"",null,"",null,null,null,null,null,""]
[null,null,null,"",null,"",null,null,null,null,null,""]
[null,null,null,"",null,"",null,null,null,null,null,""]
[null,null,null,"",null,"",null,null,null,null,null,""]
[null,null,null,"",null,"",null,null,null,null,null,""]
[null,null,null,"",null,"",null,null,null,null,null,""]
[null,null,null,"",null,"",null,null,null,null,null,""]
[null,null,null,"",null,"",null,null,null,null,null,""]
[null,null,null,"",null,"",null,null,null,null,null,""]
[null,null,null,"",null,"",null,null,null,null,null,""]
[null,null,null,"",null,"",null,null,null,null,null,""]
[null,null,null,"",null,"",null,null,null,null,null,""]
[null,null,null,"",null,"",null,null,null,null,null,""]
[null,null,null,"",null,"",null,null,null,null,null,""]
[null,null,null,"",null,"",null,null,null,null,null,""]
[null,null,null,"",null,"",null,null,null,null,null,""]
[null,null,null,"",null,"",null,null,null,null,null,""]
[null,null,null,"",null,"",null,null,null,null,null,""]
[null,null,null,"",null,"",null,null,null,null,null,""]
[null,null,null,"",null,"",null,null,null,null,null,""]
[null,null,null,"",null,"",null,null,null,null,null,""]
[null,null,null,"",null,"",null,null,null,null,null,""]
[null,null,null,"",null,"",null,null,null,null,null,""]
[null,null,null,"",null,"",null,null,null,null,null,""]
[null,null,null,"",null,"",null,null,null,null,null,""]
[null,null,null,"",null,"",null,null,null,null,null,""]
[null,null,null,"",null,"",null,null,null,null,null,""]
[null,null,null,"",null,"",null,null,null,null,null,""]
[null,null,null,"",null,"",null,null,null,null,null,""]
[null,null,null,"",null,"",null,null,null,null,null,""]
[null,null,null,"",null,"",null,null,null,null,null,""]
[null,null,null,"",null,"",null,null,null,null,null,""]
[null,null,null,"",null,"",null,null,null,null,null,""]
[null,null,null,"",null,"",null,null,null,null,null,""]
[null,null,null,"",null,"",null,null,null,null,null,""]
[null,null,null,"",null,"",null,null,null,null,null,""]
[null,null,null,"",null,"",null,null,null,null,null,""]
[null,null,null,"",null,"",null,null,null,null,null,""]
[null,null,null,"",null,"",null,null,null,null,null,""]
[null,null,null,"",null,"",null,null,null,null,null,""]
[null,null,null,"",null,"",null,null,null,null,null,""]
[null,null,null,"",null,"",null,null,null,null,null,""]
[null,null,null,"",null,"",null,null,null,null,null,""]
[null,null,null,"",null,"",null,null,null,null,null,""]
[null,null,null,"",null,{"$f":"IF(C271=\"\",\"\",IF($F$7<$F$6,D271-C271,D271+C271))","v":""},null,null,null,null,null,""]
[null,null,null,{"$f":"+IF(A272=\"\",\"\",IF($F$7<$F$6,D271-(A272-A271),D271+(A272-A271)))","v":""},null,"",null,null,null,null,null,{"$f":"IF(OR($H272=\"\",$H272=\"Exemption\",H272=0),\"\",ROUND((J272-1)*$C272*F$5/9*L$6,2))","v":""}]
[null,null,null,"",null,"",null,null,null,null,null,""]
[null,null,null,"",null,"",null,null,null,null,null,""]
[null,null,null,"",null,"",null,null,null,null,null,""]
[null,null,null,"",null,"",null,null,null,null,null,""]
[null,null,null,"",null,"",null,null,null,null,null,""]
[null,null,null,"",null,"",null,null,null,null,null,""]
[null,null,null,"",null,"",null,null,null,null,null,""]
[null,null,null,"",null,"",null,null,null,null,null,""]
[null,null,null,"",null,"",null,null,null,null,null,""]
[null,null,null,"",null,"",null,null,null,null,null,""]
[null,null,null,"",null,"",null,null,null,null,null,""]
[null,null,null,"",null,"",null,null,null,null,null,""]
[null,null,null,"",null,"",null,null,null,null,null,""]
[null,null,null,"",null,"",null,null,null,null,null,""]
[null,null,null,"",null,"",null,null,null,null,null,""]
[null,null,null,"",null,"",null,null,null,null,null,""]
[null,null,null,"",null,"",null,null,null,null,null,""]
[null,null,null,"",null,"",null,null,null,null,null,""]
[null,null,null,"",null,"",null,null,null,null,null,""]
[null,null,null,"",null,"",null,null,null,null,null,""]
[null,null,null,"",null,"",null,null,null,null,null,""]
[null,null,null,"",null,"",null,null,null,null,null,""]
[null,null,null,"",null,"",null,null,null,null,null,""]
[null,null,null,"",null,"",null,null,null,null,null,""]
[null,null,null,"",null,"",null,null,null,null,null,""]
[null,null,null,"",null,"",null,null,null,null,null,""]
[null,null,null,"",null,"",null,null,null,null,null,""]
[null,null,null,"",null,"",null,null,null,null,null,""]
[null,null,null,"",null,"",null,null,null,null,null,""]
[null,null,null,"",null,"",null,null,null,null,null,""]
[null,null,null,"",null,"",null,null,null,null,null,""]
[null,null,null,"",null,"",null,null,null,null,null,""]
[null,null,null,"",null,"",null,null,null,null,null,""]
[null,null,null,"",null,"",null,null,null,null,null,""]
[null,null,null,"",null,"",null,null,null,null,null,""]
[null,null,null,"",null,"",null,null,null,null,null,""]
[null,null,null,"",null,"",null,null,null,null,null,""]
[null,null,null,"",null,"",null,null,null,null,null,""]
[null,null,null,"",null,"",null,null,null,null,null,""]
[null,null,null,"",null,"",null,null,null,null,null,""]
[null,null,null,"",null,"",null,null,null,null,null,""]
[null,null,null,"",null,"",null,null,null,null,null,""]
[null,null,null,"",null,"",null,null,null,null,null,""]
[null,null,null,"",null,"",null,null,null,null,null,""]
[null,null,null,"",null,"",null,null,null,null,null,""]
[null,null,null,"",null,"",null,null,null,null,null,""]
[null,null,null,"",null,"",null,null,null,null,null,""]
[null,null,null,"",null,"",null,null,null,null,null,""]
[null,null,null,"",null,"",null,null,null,null,null,""]
[null,null,null,"",null,"",null,null,null,null,null,""]
[null,null,null,"",null,"",null,null,null,null,null,""]
[null,null,null,"",null,"",null,null,null,null,null,""]
[null,null,null,"",null,"",null,null,null,null,null,""]
[null,null,null,"",null,"",null,null,null,null,null,""]
[null,null,null,"",null,"",null,null,null,null,null,""]
[null,null,null,"",null,"",null,null,null,null,null,""]
[null,null,null,"",null,"",null,null,null,null,null,""]
[null,null,null,"",null,"",null,null,null,null,null,""]
[null,null,null,"",null,"",null,null,null,null,null,""]
[null,null,null,"",null,"",null,null,null,null,null,""]
[null,null,null,"",null,"",null,null,null,null,null,""]
[null,null,null,"",null,"",null,null,null,null,null,""]
[null,null,null,"",null,{"$f":"IF(C335=\"\",\"\",IF($F$7<$F$6,D335-C335,D335+C335))","v":""},null,null,null,null,null,""]
[null,null,null,{"$f":"+IF(A336=\"\",\"\",IF($F$7<$F$6,D335-(A336-A335),D335+(A336-A335)))","v":""},null,"",null,null,null,null,null,{"$f":"IF(OR($H336=\"\",$H336=\"Exemption\",H336=0),\"\",ROUND((J336-1)*$C336*F$5/9*L$6,2))","v":""}]
[null,null,null,"",null,"",null,null,null,null,null,""]
[null,null,null,"",null,"",null,null,null,null,null,""]
[null,null,null,"",null,"",null,null,null,null,null,""]
[null,null,null,"",null,"",null,null,null,null,null,""]
[null,null,null,"",null,"",null,null,null,null,null,""]
[null,null,null,"",null,"",null,null,null,null,null,""]
[null,null,null,"",null,"",null,null,null,null,null,""]
[null,null,null,"",null,"",null,null,null,null,null,""]
[null,null,null,"",null,"",null,null,null,null,null,""]
[null,null,null,"",null,"",null,null,null,null,null,""]
[null,null,null,"",null,"",null,null,null,null,null,""]
[null,null,null,"",null,"",null,null,null,null,null,""]
[null,null,null,"",null,"",null,null,null,null,null,""]
[null,null,null,"",null,"",null,null,null,null,null,""]
[null,null,null,"",null,"",null,null,null,null,null,""]
[null,null,null,"",null,"",null,null,null,null,null,""]
[null,null,null,"",null,"",null,null,null,null,null,""]
[null,null,null,"",null,"",null,null,null,null,null,""]
[null,null,null,"",null,"",null,null,null,null,null,""]
[null,null,null,"",null,"",null,null,null,null,null,""]
[null,null,null,"",null,"",null,null,null,null,null,""]
[null,null,null,"",null,"",null,null,null,null,null,""]
[null,null,null,"",null,"",null,null,null,null,null,""]
[null,null,null,"",null,"",null,null,null,null,null,""]
[null,null,null,"",null,"",null,null,null,null,null,""]
[null,null,null,"",null,"",null,null,null,null,null,""]
[null,null,null,"",null,"",null,null,null,null,{"$f":"IF(OR(D363=\"\",D363=\"Exemption\"),\"\",IF(#REF!=\"Consult AE\",\"Consult AE\",#REF!))","v":""},"",null,{"$f":"IF($K363=\"\",\"\",IF(#REF!<>\"\",#REF!,ROUND((($K363-1)*SUM(#REF!,#REF!,#REF!,#REF!,M363)),2)))","v":""}]
[null,null,null,"",null,"",null,null,null,null,{"$f":"IF(OR(D364=\"\",D364=\"Exemption\"),\"\",IF(#REF!=\"Consult AE\",\"Consult AE\",#REF!))","v":""},null,null,{"$f":"IF($K364=\"\",\"\",IF(#REF!<>\"\",#REF!,ROUND((($K364-1)*SUM(#REF!,#REF!,#REF!,#REF!,M364)),2)))","v":""}]
[null,null,null,"",null,"",null,null,null,null,{"$f":"IF(OR(D365=\"\",D365=\"Exemption\"),\"\",IF(#REF!=\"Consult AE\",\"Consult AE\",#REF!))","v":""},null,null,{"$f":"IF($K365=\"\",\"\",IF(#REF!<>\"\",#REF!,ROUND((($K365-1)*SUM(#REF!,#REF!,#REF!,#REF!,M365)),2)))","v":""}]
[null,null,null,"",null,"",null,null,null,null,{"$f":"IF(OR(D366=\"\",D366=\"Exemption\"),\"\",IF(#REF!=\"Consult AE\",\"Consult AE\",#REF!))","v":""},null,null,{"$f":"IF($K366=\"\",\"\",IF(#REF!<>\"\",#REF!,ROUND((($K366-1)*SUM(#REF!,#REF!,#REF!,#REF!,M366)),2)))","v":""}]
[null,null,null,"",null,"",null,null,null,null,{"$f":"IF(OR(D367=\"\",D367=\"Exemption\"),\"\",IF(#REF!=\"Consult AE\",\"Consult AE\",#REF!))","v":""},null,null,{"$f":"IF($K367=\"\",\"\",IF(#REF!<>\"\",#REF!,ROUND((($K367-1)*SUM(#REF!,#REF!,#REF!,#REF!,M367)),2)))","v":""}]
[null,null,null,"",null,"",null,null,null,null,{"$f":"IF(OR(D368=\"\",D368=\"Exemption\"),\"\",IF(#REF!=\"Consult AE\",\"Consult AE\",#REF!))","v":""},null,null,{"$f":"IF($K368=\"\",\"\",IF(#REF!<>\"\",#REF!,ROUND((($K368-1)*SUM(#REF!,#REF!,#REF!,#REF!,M368)),2)))","v":""}]
[null,null,null,"",null,"",null,null,null,null,{"$f":"IF(OR(D369=\"\",D369=\"Exemption\"),\"\",IF(#REF!=\"Consult AE\",\"Consult AE\",#REF!))","v":""},null,null,{"$f":"IF($K369=\"\",\"\",IF(#REF!<>\"\",#REF!,ROUND((($K369-1)*SUM(#REF!,#REF!,#REF!,#REF!,M369)),2)))","v":""}]
[null,null,null,"",null,"",null,null,null,null,{"$f":"IF(OR(D370=\"\",D370=\"Exemption\"),\"\",IF(#REF!=\"Consult AE\",\"Consult AE\",#REF!))","v":""},null,null,{"$f":"IF($K370=\"\",\"\",IF(#REF!<>\"\",#REF!,ROUND((($K370-1)*SUM(#REF!,#REF!,#REF!,#REF!,M370)),2)))","v":""}]
[null,null,null,"",null,"",null,null,null,null,{"$f":"IF(OR(D371=\"\",D371=\"Exemption\"),\"\",IF(#REF!=\"Consult AE\",\"Consult AE\",#REF!))","v":""},null,null,{"$f":"IF($K371=\"\",\"\",IF(#REF!<>\"\",#REF!,ROUND((($K371-1)*SUM(#REF!,#REF!,#REF!,#REF!,M371)),2)))","v":""}]
[null,null,null,"",null,"",null,null,null,null,{"$f":"IF(OR(D372=\"\",D372=\"Exemption\"),\"\",IF(#REF!=\"Consult AE\",\"Consult AE\",#REF!))","v":""},null,null,{"$f":"IF($K372=\"\",\"\",IF(#REF!<>\"\",#REF!,ROUND((($K372-1)*SUM(#REF!,#REF!,#REF!,#REF!,M372)),2)))","v":""}]
[null,null,null,"",null,"",null,null,null,null,{"$f":"IF(OR(D373=\"\",D373=\"Exemption\"),\"\",IF(#REF!=\"Consult AE\",\"Consult AE\",#REF!))","v":""},null,null,{"$f":"IF($K373=\"\",\"\",IF(#REF!<>\"\",#REF!,ROUND((($K373-1)*SUM(#REF!,#REF!,#REF!,#REF!,M373)),2)))","v":""}]
[null,null,null,"",null,"",null,null,null,null,{"$f":"IF(OR(D374=\"\",D374=\"Exemption\"),\"\",IF(#REF!=\"Consult AE\",\"Consult AE\",#REF!))","v":""},null,null,{"$f":"IF($K374=\"\",\"\",IF(#REF!<>\"\",#REF!,ROUND((($K374-1)*SUM(#REF!,#REF!,#REF!,#REF!,M374)),2)))","v":""}]
[null,null,null,"",null,"",null,null,null,null,{"$f":"IF(OR(D375=\"\",D375=\"Exemption\"),\"\",IF(#REF!=\"Consult AE\",\"Consult AE\",#REF!))","v":""},null,null,{"$f":"IF($K375=\"\",\"\",IF(#REF!<>\"\",#REF!,ROUND((($K375-1)*SUM(#REF!,#REF!,#REF!,#REF!,M375)),2)))","v":""}]
[null,null,null,"",null,"",null,null,null,null,{"$f":"IF(OR(D376=\"\",D376=\"Exemption\"),\"\",IF(#REF!=\"Consult AE\",\"Consult AE\",#REF!))","v":""},null,null,{"$f":"IF($K376=\"\",\"\",IF(#REF!<>\"\",#REF!,ROUND((($K376-1)*SUM(#REF!,#REF!,#REF!,#REF!,M376)),2)))","v":""}]
[null,null,null,"",null,"",null,null,null,null,{"$f":"IF(OR(D377=\"\",D377=\"Exemption\"),\"\",IF(#REF!=\"Consult AE\",\"Consult AE\",#REF!))","v":""},null,null,{"$f":"IF($K377=\"\",\"\",IF(#REF!<>\"\",#REF!,ROUND((($K377-1)*SUM(#REF!,#REF!,#REF!,#REF!,M377)),2)))","v":""}]
[null,null,null,"",null,"",null,null,null,null,{"$f":"IF(OR(D378=\"\",D378=\"Exemption\"),\"\",IF(#REF!=\"Consult AE\",\"Consult AE\",#REF!))","v":""},null,null,{"$f":"IF($K378=\"\",\"\",IF(#REF!<>\"\",#REF!,ROUND((($K378-1)*SUM(#REF!,#REF!,#REF!,#REF!,M378)),2)))","v":""}]
[null,null,null,"",null,"",null,null,null,null,{"$f":"IF(OR(D379=\"\",D379=\"Exemption\"),\"\",IF(#REF!=\"Consult AE\",\"Consult AE\",#REF!))","v":""},null,null,{"$f":"IF($K379=\"\",\"\",IF(#REF!<>\"\",#REF!,ROUND((($K379-1)*SUM(#REF!,#REF!,#REF!,#REF!,M379)),2)))","v":""}]
[null,null,null,"",null,"",null,null,null,null,{"$f":"IF(OR(D380=\"\",D380=\"Exemption\"),\"\",IF(#REF!=\"Consult AE\",\"Consult AE\",#REF!))","v":""},null,null,{"$f":"IF($K380=\"\",\"\",IF(#REF!<>\"\",#REF!,ROUND((($K380-1)*SUM(#REF!,#REF!,#REF!,#REF!,M380)),2)))","v":""}]
[null,null,null,"",null,"",null,null,null,null,{"$f":"IF(OR(D381=\"\",D381=\"Exemption\"),\"\",IF(#REF!=\"Consult AE\",\"Consult AE\",#REF!))","v":""},null,null,{"$f":"IF($K381=\"\",\"\",IF(#REF!<>\"\",#REF!,ROUND((($K381-1)*SUM(#REF!,#REF!,#REF!,#REF!,M381)),2)))","v":""}]
[null,null,null,"",null,"",null,null,null,null,{"$f":"IF(OR(D382=\"\",D382=\"Exemption\"),\"\",IF(#REF!=\"Consult AE\",\"Consult AE\",#REF!))","v":""},null,null,{"$f":"IF($K382=\"\",\"\",IF(#REF!<>\"\",#REF!,ROUND((($K382-1)*SUM(#REF!,#REF!,#REF!,#REF!,M382)),2)))","v":""}]
[null,null,null,"",null,"",null,null,null,null,{"$f":"IF(OR(D383=\"\",D383=\"Exemption\"),\"\",IF(#REF!=\"Consult AE\",\"Consult AE\",#REF!))","v":""},null,null,{"$f":"IF($K383=\"\",\"\",IF(#REF!<>\"\",#REF!,ROUND((($K383-1)*SUM(#REF!,#REF!,#REF!,#REF!,M383)),2)))","v":""}]
[null,null,null,"",null,"",null,null,null,null,{"$f":"IF(OR(D384=\"\",D384=\"Exemption\"),\"\",IF(#REF!=\"Consult AE\",\"Consult AE\",#REF!))","v":""},null,null,{"$f":"IF($K384=\"\",\"\",IF(#REF!<>\"\",#REF!,ROUND((($K384-1)*SUM(#REF!,#REF!,#REF!,#REF!,M384)),2)))","v":""}]
[null,null,null,"",null,"",null,null,null,null,{"$f":"IF(OR(D385=\"\",D385=\"Exemption\"),\"\",IF(#REF!=\"Consult AE\",\"Consult AE\",#REF!))","v":""},null,null,{"$f":"IF($K385=\"\",\"\",IF(#REF!<>\"\",#REF!,ROUND((($K385-1)*SUM(#REF!,#REF!,#REF!,#REF!,M385)),2)))","v":""}]
[null,null,null,"",null,"",null,null,null,null,{"$f":"IF(OR(D386=\"\",D386=\"Exemption\"),\"\",IF(#REF!=\"Consult AE\",\"Consult AE\",#REF!))","v":""},null,null,{"$f":"IF($K386=\"\",\"\",IF(#REF!<>\"\",#REF!,ROUND((($K386-1)*SUM(#REF!,#REF!,#REF!,#REF!,M386)),2)))","v":""}]
[null,null,null,"",null,"",null,null,null,null,{"$f":"IF(OR(D387=\"\",D387=\"Exemption\"),\"\",IF(#REF!=\"Consult AE\",\"Consult AE\",#REF!))","v":""},null,null,{"$f":"IF($K387=\"\",\"\",IF(#REF!<>\"\",#REF!,ROUND((($K387-1)*SUM(#REF!,#REF!,#REF!,#REF!,M387)),2)))","v":""}]
[null,null,null,"",null,"",null,null,null,null,{"$f":"IF(OR(D388=\"\",D388=\"Exemption\"),\"\",IF(#REF!=\"Consult AE\",\"Consult AE\",#REF!))","v":""},null,null,{"$f":"IF($K388=\"\",\"\",IF(#REF!<>\"\",#REF!,ROUND((($K388-1)*SUM(#REF!,#REF!,#REF!,#REF!,M388)),2)))","v":""}]
[null,null,null,"",null,"",null,null,null,null,{"$f":"IF(OR(D389=\"\",D389=\"Exemption\"),\"\",IF(#REF!=\"Consult AE\",\"Consult AE\",#REF!))","v":""},null,null,{"$f":"IF($K389=\"\",\"\",IF(#REF!<>\"\",#REF!,ROUND((($K389-1)*SUM(#REF!,#REF!,#REF!,#REF!,M389)),2)))","v":""}]
[null,null,null,"",null,"",null,null,null,null,{"$f":"IF(OR(D390=\"\",D390=\"Exemption\"),\"\",IF(#REF!=\"Consult AE\",\"Consult AE\",#REF!))","v":""},null,null,{"$f":"IF($K390=\"\",\"\",IF(#REF!<>\"\",#REF!,ROUND((($K390-1)*SUM(#REF!,#REF!,#REF!,#REF!,M390)),2)))","v":""}]
[null,null,null,"",null,"",null,null,null,null,{"$f":"IF(OR(D391=\"\",D391=\"Exemption\"),\"\",IF(#REF!=\"Consult AE\",\"Consult AE\",#REF!))","v":""},null,null,{"$f":"IF($K391=\"\",\"\",IF(#REF!<>\"\",#REF!,ROUND((($K391-1)*SUM(#REF!,#REF!,#REF!,#REF!,M391)),2)))","v":""}]
[null,null,null,"",null,"",null,null,null,null,{"$f":"IF(OR(D392=\"\",D392=\"Exemption\"),\"\",IF(#REF!=\"Consult AE\",\"Consult AE\",#REF!))","v":""},null,null,{"$f":"IF($K392=\"\",\"\",IF(#REF!<>\"\",#REF!,ROUND((($K392-1)*SUM(#REF!,#REF!,#REF!,#REF!,M392)),2)))","v":""}]
[null,null,null,"",null,"",null,null,null,null,{"$f":"IF(OR(D393=\"\",D393=\"Exemption\"),\"\",IF(#REF!=\"Consult AE\",\"Consult AE\",#REF!))","v":""},null,null,{"$f":"IF($K393=\"\",\"\",IF(#REF!<>\"\",#REF!,ROUND((($K393-1)*SUM(#REF!,#REF!,#REF!,#REF!,M393)),2)))","v":""}]
[null,null,null,"",null,"",null,null,null,null,{"$f":"IF(OR(D394=\"\",D394=\"Exemption\"),\"\",IF(#REF!=\"Consult AE\",\"Consult AE\",#REF!))","v":""},null,null,{"$f":"IF($K394=\"\",\"\",IF(#REF!<>\"\",#REF!,ROUND((($K394-1)*SUM(#REF!,#REF!,#REF!,#REF!,M394)),2)))","v":""}]
[null,null,null,"",null,"",null,null,null,null,{"$f":"IF(OR(D395=\"\",D395=\"Exemption\"),\"\",IF(#REF!=\"Consult AE\",\"Consult AE\",#REF!))","v":""},null,null,{"$f":"IF($K395=\"\",\"\",IF(#REF!<>\"\",#REF!,ROUND((($K395-1)*SUM(#REF!,#REF!,#REF!,#REF!,M395)),2)))","v":""}]
[null,null,null,"",null,"",null,null,null,null,{"$f":"IF(OR(D396=\"\",D396=\"Exemption\"),\"\",IF(#REF!=\"Consult AE\",\"Consult AE\",#REF!))","v":""},null,null,{"$f":"IF($K396=\"\",\"\",IF(#REF!<>\"\",#REF!,ROUND((($K396-1)*SUM(#REF!,#REF!,#REF!,#REF!,M396)),2)))","v":""}]
[null,null,null,"",null,"",null,null,null,null,{"$f":"IF(OR(D397=\"\",D397=\"Exemption\"),\"\",IF(#REF!=\"Consult AE\",\"Consult AE\",#REF!))","v":""},null,null,{"$f":"IF($K397=\"\",\"\",IF(#REF!<>\"\",#REF!,ROUND((($K397-1)*SUM(#REF!,#REF!,#REF!,#REF!,M397)),2)))","v":""}]
[null,null,null,"",null,"",null,null,null,null,{"$f":"IF(OR(D398=\"\",D398=\"Exemption\"),\"\",IF(#REF!=\"Consult AE\",\"Consult AE\",#REF!))","v":""},null,null,{"$f":"IF($K398=\"\",\"\",IF(#REF!<>\"\",#REF!,ROUND((($K398-1)*SUM(#REF!,#REF!,#REF!,#REF!,M398)),2)))","v":""}]
[null,null,null,"",null,{"$f":"IF(C399=\"\",\"\",IF($F$7<$F$6,D399-C399,D399+C399))","v":""},null,null,null,null,{"$f":"IF(OR(D399=\"\",D399=\"Exemption\"),\"\",IF(#REF!=\"Consult AE\",\"Consult AE\",#REF!))","v":""},null,null,{"$f":"IF($K399=\"\",\"\",IF(#REF!<>\"\",#REF!,ROUND((($K399-1)*SUM(#REF!,#REF!,#REF!,#REF!,M399)),2)))","v":""}]
[null,null,null,{"$f":"+IF(A400=\"\",\"\",IF($F$7<$F$6,D399-(A400-A399),D399+(A400-A399)))","v":""},null,"",null,null,null,null,{"$f":"IF(OR(D400=\"\",D400=\"Exemption\"),\"\",IF(#REF!=\"Consult AE\",\"Consult AE\",#REF!))","v":""},null,null,{"$f":"IF($K400=\"\",\"\",IF(#REF!<>\"\",#REF!,ROUND((($K400-1)*SUM(#REF!,#REF!,#REF!,#REF!,M400)),2)))","v":""}]
[null,null,null,"",null,"",null,null,null,null,{"$f":"IF(OR(D401=\"\",D401=\"Exemption\"),\"\",IF(#REF!=\"Consult AE\",\"Consult AE\",#REF!))","v":""},null,null,{"$f":"IF($K401=\"\",\"\",IF(#REF!<>\"\",#REF!,ROUND((($K401-1)*SUM(#REF!,#REF!,#REF!,#REF!,M401)),2)))","v":""}]
[null,null,null,"",null,"",null,null,null,null,{"$f":"IF(OR(D402=\"\",D402=\"Exemption\"),\"\",IF(#REF!=\"Consult AE\",\"Consult AE\",#REF!))","v":""},null,null,{"$f":"IF($K402=\"\",\"\",IF(#REF!<>\"\",#REF!,ROUND((($K402-1)*SUM(#REF!,#REF!,#REF!,#REF!,M402)),2)))","v":""}]
[null,null,null,"",null,"",null,null,null,null,{"$f":"IF(OR(D403=\"\",D403=\"Exemption\"),\"\",IF(#REF!=\"Consult AE\",\"Consult AE\",#REF!))","v":""},null,null,{"$f":"IF($K403=\"\",\"\",IF(#REF!<>\"\",#REF!,ROUND((($K403-1)*SUM(#REF!,#REF!,#REF!,#REF!,M403)),2)))","v":""}]
[null,null,null,"",null,"",null,null,null,null,{"$f":"IF(OR(D404=\"\",D404=\"Exemption\"),\"\",IF(#REF!=\"Consult AE\",\"Consult AE\",#REF!))","v":""},null,null,{"$f":"IF($K404=\"\",\"\",IF(#REF!<>\"\",#REF!,ROUND((($K404-1)*SUM(#REF!,#REF!,#REF!,#REF!,M404)),2)))","v":""}]
[null,null,null,"",null,"",null,null,null,null,{"$f":"IF(OR(D405=\"\",D405=\"Exemption\"),\"\",IF(#REF!=\"Consult AE\",\"Consult AE\",#REF!))","v":""},null,null,{"$f":"IF($K405=\"\",\"\",IF(#REF!<>\"\",#REF!,ROUND((($K405-1)*SUM(#REF!,#REF!,#REF!,#REF!,M405)),2)))","v":""}]
[null,null,null,"",null,"",null,null,null,null,{"$f":"IF(OR(D406=\"\",D406=\"Exemption\"),\"\",IF(#REF!=\"Consult AE\",\"Consult AE\",#REF!))","v":""},null,null,{"$f":"IF($K406=\"\",\"\",IF(#REF!<>\"\",#REF!,ROUND((($K406-1)*SUM(#REF!,#REF!,#REF!,#REF!,M406)),2)))","v":""}]
[null,null,null,"",null,"",null,null,null,null,{"$f":"IF(OR(D407=\"\",D407=\"Exemption\"),\"\",IF(#REF!=\"Consult AE\",\"Consult AE\",#REF!))","v":""},null,null,{"$f":"IF($K407=\"\",\"\",IF(#REF!<>\"\",#REF!,ROUND((($K407-1)*SUM(#REF!,#REF!,#REF!,#REF!,M407)),2)))","v":""}]
[null,null,null,"",null,"",null,null,null,null,{"$f":"IF(OR(D408=\"\",D408=\"Exemption\"),\"\",IF(#REF!=\"Consult AE\",\"Consult AE\",#REF!))","v":""},null,null,{"$f":"IF($K408=\"\",\"\",IF(#REF!<>\"\",#REF!,ROUND((($K408-1)*SUM(#REF!,#REF!,#REF!,#REF!,M408)),2)))","v":""}]
[null,null,null,"",null,"",null,null,null,null,{"$f":"IF(OR(D409=\"\",D409=\"Exemption\"),\"\",IF(#REF!=\"Consult AE\",\"Consult AE\",#REF!))","v":""},null,null,{"$f":"IF($K409=\"\",\"\",IF(#REF!<>\"\",#REF!,ROUND((($K409-1)*SUM(#REF!,#REF!,#REF!,#REF!,M409)),2)))","v":""}]
[null,null,null,"",null,"",null,null,null,null,{"$f":"IF(OR(D410=\"\",D410=\"Exemption\"),\"\",IF(#REF!=\"Consult AE\",\"Consult AE\",#REF!))","v":""},null,null,{"$f":"IF($K410=\"\",\"\",IF(#REF!<>\"\",#REF!,ROUND((($K410-1)*SUM(#REF!,#REF!,#REF!,#REF!,M410)),2)))","v":""}]
[null,null,null,"",null,"",null,null,null,null,{"$f":"IF(OR(D411=\"\",D411=\"Exemption\"),\"\",IF(#REF!=\"Consult AE\",\"Consult AE\",#REF!))","v":""},null,null,{"$f":"IF($K411=\"\",\"\",IF(#REF!<>\"\",#REF!,ROUND((($K411-1)*SUM(#REF!,#REF!,#REF!,#REF!,M411)),2)))","v":""}]
[null,null,null,"",null,"",null,null,null,null,{"$f":"IF(OR(D412=\"\",D412=\"Exemption\"),\"\",IF(#REF!=\"Consult AE\",\"Consult AE\",#REF!))","v":""},null,null,{"$f":"IF($K412=\"\",\"\",IF(#REF!<>\"\",#REF!,ROUND((($K412-1)*SUM(#REF!,#REF!,#REF!,#REF!,M412)),2)))","v":""}]
[null,null,null,"",null,"",null,null,null,null,{"$f":"IF(OR(D413=\"\",D413=\"Exemption\"),\"\",IF(#REF!=\"Consult AE\",\"Consult AE\",#REF!))","v":""},null,null,{"$f":"IF($K413=\"\",\"\",IF(#REF!<>\"\",#REF!,ROUND((($K413-1)*SUM(#REF!,#REF!,#REF!,#REF!,M413)),2)))","v":""}]
[null,null,null,"",null,"",null,null,null,null,{"$f":"IF(OR(D414=\"\",D414=\"Exemption\"),\"\",IF(#REF!=\"Consult AE\",\"Consult AE\",#REF!))","v":""},null,null,{"$f":"IF($K414=\"\",\"\",IF(#REF!<>\"\",#REF!,ROUND((($K414-1)*SUM(#REF!,#REF!,#REF!,#REF!,M414)),2)))","v":""}]
[null,null,null,"",null,"",null,null,null,null,{"$f":"IF(OR(D415=\"\",D415=\"Exemption\"),\"\",IF(#REF!=\"Consult AE\",\"Consult AE\",#REF!))","v":""},null,null,{"$f":"IF($K415=\"\",\"\",IF(#REF!<>\"\",#REF!,ROUND((($K415-1)*SUM(#REF!,#REF!,#REF!,#REF!,M415)),2)))","v":""}]
[null,null,null,"",null,"",null,null,null,null,{"$f":"IF(OR(D416=\"\",D416=\"Exemption\"),\"\",IF(#REF!=\"Consult AE\",\"Consult AE\",#REF!))","v":""},null,null,{"$f":"IF($K416=\"\",\"\",IF(#REF!<>\"\",#REF!,ROUND((($K416-1)*SUM(#REF!,#REF!,#REF!,#REF!,M416)),2)))","v":""}]
[null,null,null,"",null,"",null,null,null,null,{"$f":"IF(OR(D417=\"\",D417=\"Exemption\"),\"\",IF(#REF!=\"Consult AE\",\"Consult AE\",#REF!))","v":""},null,null,{"$f":"IF($K417=\"\",\"\",IF(#REF!<>\"\",#REF!,ROUND((($K417-1)*SUM(#REF!,#REF!,#REF!,#REF!,M417)),2)))","v":""}]
[null,null,null,"",null,"",null,null,null,null,{"$f":"IF(OR(D418=\"\",D418=\"Exemption\"),\"\",IF(#REF!=\"Consult AE\",\"Consult AE\",#REF!))","v":""},null,null,{"$f":"IF($K418=\"\",\"\",IF(#REF!<>\"\",#REF!,ROUND((($K418-1)*SUM(#REF!,#REF!,#REF!,#REF!,M418)),2)))","v":""}]
[null,null,null,"",null,"",null,null,null,null,{"$f":"IF(OR(D419=\"\",D419=\"Exemption\"),\"\",IF(#REF!=\"Consult AE\",\"Consult AE\",#REF!))","v":""},null,null,{"$f":"IF($K419=\"\",\"\",IF(#REF!<>\"\",#REF!,ROUND((($K419-1)*SUM(#REF!,#REF!,#REF!,#REF!,M419)),2)))","v":""}]
[null,null,null,"",null,"",null,null,null,null,{"$f":"IF(OR(D420=\"\",D420=\"Exemption\"),\"\",IF(#REF!=\"Consult AE\",\"Consult AE\",#REF!))","v":""},null,null,{"$f":"IF($K420=\"\",\"\",IF(#REF!<>\"\",#REF!,ROUND((($K420-1)*SUM(#REF!,#REF!,#REF!,#REF!,M420)),2)))","v":""}]
[null,null,null,"",null,"",null,null,null,null,{"$f":"IF(OR(D421=\"\",D421=\"Exemption\"),\"\",IF(#REF!=\"Consult AE\",\"Consult AE\",#REF!))","v":""},null,null,{"$f":"IF($K421=\"\",\"\",IF(#REF!<>\"\",#REF!,ROUND((($K421-1)*SUM(#REF!,#REF!,#REF!,#REF!,M421)),2)))","v":""}]
[null,null,null,"",null,"",null,null,null,null,{"$f":"IF(OR(D422=\"\",D422=\"Exemption\"),\"\",IF(#REF!=\"Consult AE\",\"Consult AE\",#REF!))","v":""},null,null,{"$f":"IF($K422=\"\",\"\",IF(#REF!<>\"\",#REF!,ROUND((($K422-1)*SUM(#REF!,#REF!,#REF!,#REF!,M422)),2)))","v":""}]
[null,null,null,"",null,"",null,null,null,null,{"$f":"IF(OR(D423=\"\",D423=\"Exemption\"),\"\",IF(#REF!=\"Consult AE\",\"Consult AE\",#REF!))","v":""},null,null,{"$f":"IF($K423=\"\",\"\",IF(#REF!<>\"\",#REF!,ROUND((($K423-1)*SUM(#REF!,#REF!,#REF!,#REF!,M423)),2)))","v":""}]
[null,null,null,"",null,"",null,null,null,null,{"$f":"IF(OR(D424=\"\",D424=\"Exemption\"),\"\",IF(#REF!=\"Consult AE\",\"Consult AE\",#REF!))","v":""},null,null,{"$f":"IF($K424=\"\",\"\",IF(#REF!<>\"\",#REF!,ROUND((($K424-1)*SUM(#REF!,#REF!,#REF!,#REF!,M424)),2)))","v":""}]
[null,null,null,"",null,"",null,null,null,null,{"$f":"IF(OR(D425=\"\",D425=\"Exemption\"),\"\",IF(#REF!=\"Consult AE\",\"Consult AE\",#REF!))","v":""},null,null,{"$f":"IF($K425=\"\",\"\",IF(#REF!<>\"\",#REF!,ROUND((($K425-1)*SUM(#REF!,#REF!,#REF!,#REF!,M425)),2)))","v":""}]
[null,null,null,"",null,"",null,null,null,null,{"$f":"IF(OR(D426=\"\",D426=\"Exemption\"),\"\",IF(#REF!=\"Consult AE\",\"Consult AE\",#REF!))","v":""},null,null,{"$f":"IF($K426=\"\",\"\",IF(#REF!<>\"\",#REF!,ROUND((($K426-1)*SUM(#REF!,#REF!,#REF!,#REF!,M426)),2)))","v":""}]
[null,null,null,"",null,"",null,null,null,null,{"$f":"IF(OR(D427=\"\",D427=\"Exemption\"),\"\",IF(#REF!=\"Consult AE\",\"Consult AE\",#REF!))","v":""},null,null,{"$f":"IF($K427=\"\",\"\",IF(#REF!<>\"\",#REF!,ROUND((($K427-1)*SUM(#REF!,#REF!,#REF!,#REF!,M427)),2)))","v":""}]
[null,null,null,"",null,"",null,null,null,null,{"$f":"IF(OR(D428=\"\",D428=\"Exemption\"),\"\",IF(#REF!=\"Consult AE\",\"Consult AE\",#REF!))","v":""},null,null,{"$f":"IF($K428=\"\",\"\",IF(#REF!<>\"\",#REF!,ROUND((($K428-1)*SUM(#REF!,#REF!,#REF!,#REF!,M428)),2)))","v":""}]
[null,null,null,"",null,"",null,null,null,null,{"$f":"IF(OR(D429=\"\",D429=\"Exemption\"),\"\",IF(#REF!=\"Consult AE\",\"Consult AE\",#REF!))","v":""},null,null,{"$f":"IF($K429=\"\",\"\",IF(#REF!<>\"\",#REF!,ROUND((($K429-1)*SUM(#REF!,#REF!,#REF!,#REF!,M429)),2)))","v":""}]
[null,null,null,"",null,"",null,null,null,null,{"$f":"IF(OR(D430=\"\",D430=\"Exemption\"),\"\",IF(#REF!=\"Consult AE\",\"Consult AE\",#REF!))","v":""},null,null,{"$f":"IF($K430=\"\",\"\",IF(#REF!<>\"\",#REF!,ROUND((($K430-1)*SUM(#REF!,#REF!,#REF!,#REF!,M430)),2)))","v":""}]
[null,null,null,"",null,"",null,null,null,null,{"$f":"IF(OR(D431=\"\",D431=\"Exemption\"),\"\",IF(#REF!=\"Consult AE\",\"Consult AE\",#REF!))","v":""},null,null,{"$f":"IF($K431=\"\",\"\",IF(#REF!<>\"\",#REF!,ROUND((($K431-1)*SUM(#REF!,#REF!,#REF!,#REF!,M431)),2)))","v":""}]
[null,null,null,"",null,"",null,null,null,null,{"$f":"IF(OR(D432=\"\",D432=\"Exemption\"),\"\",IF(#REF!=\"Consult AE\",\"Consult AE\",#REF!))","v":""},null,null,{"$f":"IF($K432=\"\",\"\",IF(#REF!<>\"\",#REF!,ROUND((($K432-1)*SUM(#REF!,#REF!,#REF!,#REF!,M432)),2)))","v":""}]
[null,null,null,"",null,"",null,null,null,null,{"$f":"IF(OR(D433=\"\",D433=\"Exemption\"),\"\",IF(#REF!=\"Consult AE\",\"Consult AE\",#REF!))","v":""},null,null,{"$f":"IF($K433=\"\",\"\",IF(#REF!<>\"\",#REF!,ROUND((($K433-1)*SUM(#REF!,#REF!,#REF!,#REF!,M433)),2)))","v":""}]
[null,null,null,"",null,"",null,null,null,null,{"$f":"IF(OR(D434=\"\",D434=\"Exemption\"),\"\",IF(#REF!=\"Consult AE\",\"Consult AE\",#REF!))","v":""},null,null,{"$f":"IF($K434=\"\",\"\",IF(#REF!<>\"\",#REF!,ROUND((($K434-1)*SUM(#REF!,#REF!,#REF!,#REF!,M434)),2)))","v":""}]
[null,null,null,"",null,"",null,null,null,null,{"$f":"IF(OR(D435=\"\",D435=\"Exemption\"),\"\",IF(#REF!=\"Consult AE\",\"Consult AE\",#REF!))","v":""},null,null,{"$f":"IF($K435=\"\",\"\",IF(#REF!<>\"\",#REF!,ROUND((($K435-1)*SUM(#REF!,#REF!,#REF!,#REF!,M435)),2)))","v":""}]
[null,null,null,"",null,"",null,null,null,null,{"$f":"IF(OR(D436=\"\",D436=\"Exemption\"),\"\",IF(#REF!=\"Consult AE\",\"Consult AE\",#REF!))","v":""},null,null,{"$f":"IF($K436=\"\",\"\",IF(#REF!<>\"\",#REF!,ROUND((($K436-1)*SUM(#REF!,#REF!,#REF!,#REF!,M436)),2)))","v":""}]
[null,null,null,"",null,"",null,null,null,null,{"$f":"IF(OR(D437=\"\",D437=\"Exemption\"),\"\",IF(#REF!=\"Consult AE\",\"Consult AE\",#REF!))","v":""},null,null,{"$f":"IF($K437=\"\",\"\",IF(#REF!<>\"\",#REF!,ROUND((($K437-1)*SUM(#REF!,#REF!,#REF!,#REF!,M437)),2)))","v":""}]
[null,null,null,"",null,"",null,null,null,null,{"$f":"IF(OR(D438=\"\",D438=\"Exemption\"),\"\",IF(#REF!=\"Consult AE\",\"Consult AE\",#REF!))","v":""},null,null,{"$f":"IF($K438=\"\",\"\",IF(#REF!<>\"\",#REF!,ROUND((($K438-1)*SUM(#REF!,#REF!,#REF!,#REF!,M438)),2)))","v":""}]
[null,null,null,"",null,"",null,null,null,null,{"$f":"IF(OR(D439=\"\",D439=\"Exemption\"),\"\",IF(#REF!=\"Consult AE\",\"Consult AE\",#REF!))","v":""},null,null,{"$f":"IF($K439=\"\",\"\",IF(#REF!<>\"\",#REF!,ROUND((($K439-1)*SUM(#REF!,#REF!,#REF!,#REF!,M439)),2)))","v":""}]
[null,null,null,"",null,"",null,null,null,null,{"$f":"IF(OR(D440=\"\",D440=\"Exemption\"),\"\",IF(#REF!=\"Consult AE\",\"Consult AE\",#REF!))","v":""},null,null,{"$f":"IF($K440=\"\",\"\",IF(#REF!<>\"\",#REF!,ROUND((($K440-1)*SUM(#REF!,#REF!,#REF!,#REF!,M440)),2)))","v":""}]
[null,null,null,"",null,"",null,null,null,null,{"$f":"IF(OR(D441=\"\",D441=\"Exemption\"),\"\",IF(#REF!=\"Consult AE\",\"Consult AE\",#REF!))","v":""},null,null,{"$f":"IF($K441=\"\",\"\",IF(#REF!<>\"\",#REF!,ROUND((($K441-1)*SUM(#REF!,#REF!,#REF!,#REF!,M441)),2)))","v":""}]
[null,null,null,"",null,"",null,null,null,null,{"$f":"IF(OR(D442=\"\",D442=\"Exemption\"),\"\",IF(#REF!=\"Consult AE\",\"Consult AE\",#REF!))","v":""},null,null,{"$f":"IF($K442=\"\",\"\",IF(#REF!<>\"\",#REF!,ROUND((($K442-1)*SUM(#REF!,#REF!,#REF!,#REF!,M442)),2)))","v":""}]
[null,null,null,"",null,"",null,null,null,null,{"$f":"IF(OR(D443=\"\",D443=\"Exemption\"),\"\",IF(#REF!=\"Consult AE\",\"Consult AE\",#REF!))","v":""},null,null,{"$f":"IF($K443=\"\",\"\",IF(#REF!<>\"\",#REF!,ROUND((($K443-1)*SUM(#REF!,#REF!,#REF!,#REF!,M443)),2)))","v":""}]
[null,null,null,"",null,"",null,null,null,null,{"$f":"IF(OR(D444=\"\",D444=\"Exemption\"),\"\",IF(#REF!=\"Consult AE\",\"Consult AE\",#REF!))","v":""},null,null,{"$f":"IF($K444=\"\",\"\",IF(#REF!<>\"\",#REF!,ROUND((($K444-1)*SUM(#REF!,#REF!,#REF!,#REF!,M444)),2)))","v":""}]
[null,null,null,"",null,"",null,null,null,null,{"$f":"IF(OR(D445=\"\",D445=\"Exemption\"),\"\",IF(#REF!=\"Consult AE\",\"Consult AE\",#REF!))","v":""},null,null,{"$f":"IF($K445=\"\",\"\",IF(#REF!<>\"\",#REF!,ROUND((($K445-1)*SUM(#REF!,#REF!,#REF!,#REF!,M445)),2)))","v":""}]
[null,null,null,"",null,"",null,null,null,null,{"$f":"IF(OR(D446=\"\",D446=\"Exemption\"),\"\",IF(#REF!=\"Consult AE\",\"Consult AE\",#REF!))","v":""},null,null,{"$f":"IF($K446=\"\",\"\",IF(#REF!<>\"\",#REF!,ROUND((($K446-1)*SUM(#REF!,#REF!,#REF!,#REF!,M446)),2)))","v":""}]
[null,null,null,"",null,"",null,null,null,null,{"$f":"IF(OR(D447=\"\",D447=\"Exemption\"),\"\",IF(#REF!=\"Consult AE\",\"Consult AE\",#REF!))","v":""},null,null,{"$f":"IF($K447=\"\",\"\",IF(#REF!<>\"\",#REF!,ROUND((($K447-1)*SUM(#REF!,#REF!,#REF!,#REF!,M447)),2)))","v":""}]
[null,null,null,"",null,"",null,null,null,null,{"$f":"IF(OR(D448=\"\",D448=\"Exemption\"),\"\",IF(#REF!=\"Consult AE\",\"Consult AE\",#REF!))","v":""},null,null,{"$f":"IF($K448=\"\",\"\",IF(#REF!<>\"\",#REF!,ROUND((($K448-1)*SUM(#REF!,#REF!,#REF!,#REF!,M448)),2)))","v":""}]
[null,null,null,"",null,"",null,null,null,null,{"$f":"IF(OR(D449=\"\",D449=\"Exemption\"),\"\",IF(#REF!=\"Consult AE\",\"Consult AE\",#REF!))","v":""},null,null,{"$f":"IF($K449=\"\",\"\",IF(#REF!<>\"\",#REF!,ROUND((($K449-1)*SUM(#REF!,#REF!,#REF!,#REF!,M449)),2)))","v":""}]
[null,null,null,"",null,"",null,null,null,null,{"$f":"IF(OR(D450=\"\",D450=\"Exemption\"),\"\",IF(#REF!=\"Consult AE\",\"Consult AE\",#REF!))","v":""},null,null,{"$f":"IF($K450=\"\",\"\",IF(#REF!<>\"\",#REF!,ROUND((($K450-1)*SUM(#REF!,#REF!,#REF!,#REF!,M450)),2)))","v":""}]
[null,null,null,"",null,"",null,null,null,null,{"$f":"IF(OR(D451=\"\",D451=\"Exemption\"),\"\",IF(#REF!=\"Consult AE\",\"Consult AE\",#REF!))","v":""},null,null,{"$f":"IF($K451=\"\",\"\",IF(#REF!<>\"\",#REF!,ROUND((($K451-1)*SUM(#REF!,#REF!,#REF!,#REF!,M451)),2)))","v":""}]
[null,null,null,"",null,"",null,null,null,null,{"$f":"IF(OR(D452=\"\",D452=\"Exemption\"),\"\",IF(#REF!=\"Consult AE\",\"Consult AE\",#REF!))","v":""},null,null,{"$f":"IF($K452=\"\",\"\",IF(#REF!<>\"\",#REF!,ROUND((($K452-1)*SUM(#REF!,#REF!,#REF!,#REF!,M452)),2)))","v":""}]
[null,null,null,"",null,"",null,null,null,null,{"$f":"IF(OR(D453=\"\",D453=\"Exemption\"),\"\",IF(#REF!=\"Consult AE\",\"Consult AE\",#REF!))","v":""},null,null,{"$f":"IF($K453=\"\",\"\",IF(#REF!<>\"\",#REF!,ROUND((($K453-1)*SUM(#REF!,#REF!,#REF!,#REF!,M453)),2)))","v":""}]
[null,null,null,"",null,"",null,null,null,null,{"$f":"IF(OR(D454=\"\",D454=\"Exemption\"),\"\",IF(#REF!=\"Consult AE\",\"Consult AE\",#REF!))","v":""},null,null,{"$f":"IF($K454=\"\",\"\",IF(#REF!<>\"\",#REF!,ROUND((($K454-1)*SUM(#REF!,#REF!,#REF!,#REF!,M454)),2)))","v":""}]
[null,null,null,"",null,"",null,null,null,null,{"$f":"IF(OR(D455=\"\",D455=\"Exemption\"),\"\",IF(#REF!=\"Consult AE\",\"Consult AE\",#REF!))","v":""},null,null,{"$f":"IF($K455=\"\",\"\",IF(#REF!<>\"\",#REF!,ROUND((($K455-1)*SUM(#REF!,#REF!,#REF!,#REF!,M455)),2)))","v":""}]
[null,null,null,"",null,"",null,null,null,null,{"$f":"IF(OR(D456=\"\",D456=\"Exemption\"),\"\",IF(#REF!=\"Consult AE\",\"Consult AE\",#REF!))","v":""},null,null,{"$f":"IF($K456=\"\",\"\",IF(#REF!<>\"\",#REF!,ROUND((($K456-1)*SUM(#REF!,#REF!,#REF!,#REF!,M456)),2)))","v":""}]
[null,null,null,"",null,"",null,null,null,null,{"$f":"IF(OR(D457=\"\",D457=\"Exemption\"),\"\",IF(#REF!=\"Consult AE\",\"Consult AE\",#REF!))","v":""},null,null,{"$f":"IF($K457=\"\",\"\",IF(#REF!<>\"\",#REF!,ROUND((($K457-1)*SUM(#REF!,#REF!,#REF!,#REF!,M457)),2)))","v":""}]
[null,null,null,"",null,"",null,null,null,null,{"$f":"IF(OR(D458=\"\",D458=\"Exemption\"),\"\",IF(#REF!=\"Consult AE\",\"Consult AE\",#REF!))","v":""},null,null,{"$f":"IF($K458=\"\",\"\",IF(#REF!<>\"\",#REF!,ROUND((($K458-1)*SUM(#REF!,#REF!,#REF!,#REF!,M458)),2)))","v":""}]
[null,null,null,"",null,"",null,null,null,null,{"$f":"IF(OR(D459=\"\",D459=\"Exemption\"),\"\",IF(#REF!=\"Consult AE\",\"Consult AE\",#REF!))","v":""},null,null,{"$f":"IF($K459=\"\",\"\",IF(#REF!<>\"\",#REF!,ROUND((($K459-1)*SUM(#REF!,#REF!,#REF!,#REF!,M459)),2)))","v":""}]
[null,null,null,"",null,"",null,null,null,null,{"$f":"IF(OR(D460=\"\",D460=\"Exemption\"),\"\",IF(#REF!=\"Consult AE\",\"Consult AE\",#REF!))","v":""},null,null,{"$f":"IF($K460=\"\",\"\",IF(#REF!<>\"\",#REF!,ROUND((($K460-1)*SUM(#REF!,#REF!,#REF!,#REF!,M460)),2)))","v":""}]
[null,null,null,"",null,"",null,null,null,null,{"$f":"IF(OR(D461=\"\",D461=\"Exemption\"),\"\",IF(#REF!=\"Consult AE\",\"Consult AE\",#REF!))","v":""},null,null,{"$f":"IF($K461=\"\",\"\",IF(#REF!<>\"\",#REF!,ROUND((($K461-1)*SUM(#REF!,#REF!,#REF!,#REF!,M461)),2)))","v":""}]
[null,null,null,"",null,"",null,null,null,null,{"$f":"IF(OR(D462=\"\",D462=\"Exemption\"),\"\",IF(#REF!=\"Consult AE\",\"Consult AE\",#REF!))","v":""},null,null,{"$f":"IF($K462=\"\",\"\",IF(#REF!<>\"\",#REF!,ROUND((($K462-1)*SUM(#REF!,#REF!,#REF!,#REF!,M462)),2)))","v":""}]
[null,null,null,"",null,{"$f":"IF(C463=\"\",\"\",IF($F$7<$F$6,D463-C463,D463+C463))","v":""},null,null,null,null,{"$f":"IF(OR(D463=\"\",D463=\"Exemption\"),\"\",IF(#REF!=\"Consult AE\",\"Consult AE\",#REF!))","v":""},null,null,{"$f":"IF($K463=\"\",\"\",IF(#REF!<>\"\",#REF!,ROUND((($K463-1)*SUM(#REF!,#REF!,#REF!,#REF!,M463)),2)))","v":""}]
[null,null,null,{"$f":"+IF(A464=\"\",\"\",IF($F$7<$F$6,D463-(A464-A463),D463+(A464-A463)))","v":""},null,"",null,null,null,null,{"$f":"IF(OR(D464=\"\",D464=\"Exemption\"),\"\",IF(#REF!=\"Consult AE\",\"Consult AE\",#REF!))","v":""},null,null,{"$f":"IF($K464=\"\",\"\",IF(#REF!<>\"\",#REF!,ROUND((($K464-1)*SUM(#REF!,#REF!,#REF!,#REF!,M464)),2)))","v":""}]
[null,null,null,"",null,"",null,null,null,null,{"$f":"IF(OR(D465=\"\",D465=\"Exemption\"),\"\",IF(#REF!=\"Consult AE\",\"Consult AE\",#REF!))","v":""},null,null,{"$f":"IF($K465=\"\",\"\",IF(#REF!<>\"\",#REF!,ROUND((($K465-1)*SUM(#REF!,#REF!,#REF!,#REF!,M465)),2)))","v":""}]
[null,null,null,"",null,"",null,null,null,null,{"$f":"IF(OR(D466=\"\",D466=\"Exemption\"),\"\",IF(#REF!=\"Consult AE\",\"Consult AE\",#REF!))","v":""},null,null,{"$f":"IF($K466=\"\",\"\",IF(#REF!<>\"\",#REF!,ROUND((($K466-1)*SUM(#REF!,#REF!,#REF!,#REF!,M466)),2)))","v":""}]
[null,null,null,"",null,"",null,null,null,null,{"$f":"IF(OR(D467=\"\",D467=\"Exemption\"),\"\",IF(#REF!=\"Consult AE\",\"Consult AE\",#REF!))","v":""},null,null,{"$f":"IF($K467=\"\",\"\",IF(#REF!<>\"\",#REF!,ROUND((($K467-1)*SUM(#REF!,#REF!,#REF!,#REF!,M467)),2)))","v":""}]
[null,null,null,"",null,"",null,null,null,null,{"$f":"IF(OR(D468=\"\",D468=\"Exemption\"),\"\",IF(#REF!=\"Consult AE\",\"Consult AE\",#REF!))","v":""},null,null,{"$f":"IF($K468=\"\",\"\",IF(#REF!<>\"\",#REF!,ROUND((($K468-1)*SUM(#REF!,#REF!,#REF!,#REF!,M468)),2)))","v":""}]
[null,null,null,"",null,"",null,null,null,null,{"$f":"IF(OR(D469=\"\",D469=\"Exemption\"),\"\",IF(#REF!=\"Consult AE\",\"Consult AE\",#REF!))","v":""},null,null,{"$f":"IF($K469=\"\",\"\",IF(#REF!<>\"\",#REF!,ROUND((($K469-1)*SUM(#REF!,#REF!,#REF!,#REF!,M469)),2)))","v":""}]
[null,null,null,"",null,"",null,null,null,null,{"$f":"IF(OR(D470=\"\",D470=\"Exemption\"),\"\",IF(#REF!=\"Consult AE\",\"Consult AE\",#REF!))","v":""},null,null,{"$f":"IF($K470=\"\",\"\",IF(#REF!<>\"\",#REF!,ROUND((($K470-1)*SUM(#REF!,#REF!,#REF!,#REF!,M470)),2)))","v":""}]
[null,null,null,"",null,"",null,null,null,null,{"$f":"IF(OR(D471=\"\",D471=\"Exemption\"),\"\",IF(#REF!=\"Consult AE\",\"Consult AE\",#REF!))","v":""},null,null,{"$f":"IF($K471=\"\",\"\",IF(#REF!<>\"\",#REF!,ROUND((($K471-1)*SUM(#REF!,#REF!,#REF!,#REF!,M471)),2)))","v":""}]
[null,null,null,"",null,"",null,null,null,null,{"$f":"IF(OR(D472=\"\",D472=\"Exemption\"),\"\",IF(#REF!=\"Consult AE\",\"Consult AE\",#REF!))","v":""},null,null,{"$f":"IF($K472=\"\",\"\",IF(#REF!<>\"\",#REF!,ROUND((($K472-1)*SUM(#REF!,#REF!,#REF!,#REF!,M472)),2)))","v":""}]
[null,null,null,"",null,"",null,null,null,null,{"$f":"IF(OR(D473=\"\",D473=\"Exemption\"),\"\",IF(#REF!=\"Consult AE\",\"Consult AE\",#REF!))","v":""},null,null,{"$f":"IF($K473=\"\",\"\",IF(#REF!<>\"\",#REF!,ROUND((($K473-1)*SUM(#REF!,#REF!,#REF!,#REF!,M473)),2)))","v":""}]
[null,null,null,"",null,"",null,null,null,null,{"$f":"IF(OR(D474=\"\",D474=\"Exemption\"),\"\",IF(#REF!=\"Consult AE\",\"Consult AE\",#REF!))","v":""},null,null,{"$f":"IF($K474=\"\",\"\",IF(#REF!<>\"\",#REF!,ROUND((($K474-1)*SUM(#REF!,#REF!,#REF!,#REF!,M474)),2)))","v":""}]
[null,null,null,"",null,"",null,null,null,null,{"$f":"IF(OR(D475=\"\",D475=\"Exemption\"),\"\",IF(#REF!=\"Consult AE\",\"Consult AE\",#REF!))","v":""},null,null,{"$f":"IF($K475=\"\",\"\",IF(#REF!<>\"\",#REF!,ROUND((($K475-1)*SUM(#REF!,#REF!,#REF!,#REF!,M475)),2)))","v":""}]
[null,null,null,"",null,"",null,null,null,null,{"$f":"IF(OR(D476=\"\",D476=\"Exemption\"),\"\",IF(#REF!=\"Consult AE\",\"Consult AE\",#REF!))","v":""},null,null,{"$f":"IF($K476=\"\",\"\",IF(#REF!<>\"\",#REF!,ROUND((($K476-1)*SUM(#REF!,#REF!,#REF!,#REF!,M476)),2)))","v":""}]
[null,null,null,"",null,"",null,null,null,null,{"$f":"IF(OR(D477=\"\",D477=\"Exemption\"),\"\",IF(#REF!=\"Consult AE\",\"Consult AE\",#REF!))","v":""},null,null,{"$f":"IF($K477=\"\",\"\",IF(#REF!<>\"\",#REF!,ROUND((($K477-1)*SUM(#REF!,#REF!,#REF!,#REF!,M477)),2)))","v":""}]
[null,null,null,"",null,"",null,null,null,null,{"$f":"IF(OR(D478=\"\",D478=\"Exemption\"),\"\",IF(#REF!=\"Consult AE\",\"Consult AE\",#REF!))","v":""},null,null,{"$f":"IF($K478=\"\",\"\",IF(#REF!<>\"\",#REF!,ROUND((($K478-1)*SUM(#REF!,#REF!,#REF!,#REF!,M478)),2)))","v":""}]
[null,null,null,"",null,"",null,null,null,null,{"$f":"IF(OR(D479=\"\",D479=\"Exemption\"),\"\",IF(#REF!=\"Consult AE\",\"Consult AE\",#REF!))","v":""},null,null,{"$f":"IF($K479=\"\",\"\",IF(#REF!<>\"\",#REF!,ROUND((($K479-1)*SUM(#REF!,#REF!,#REF!,#REF!,M479)),2)))","v":""}]
[null,null,null,"",null,"",null,null,null,null,{"$f":"IF(OR(D480=\"\",D480=\"Exemption\"),\"\",IF(#REF!=\"Consult AE\",\"Consult AE\",#REF!))","v":""},null,null,{"$f":"IF($K480=\"\",\"\",IF(#REF!<>\"\",#REF!,ROUND((($K480-1)*SUM(#REF!,#REF!,#REF!,#REF!,M480)),2)))","v":""}]
[null,null,null,"",null,"",null,null,null,null,{"$f":"IF(OR(D481=\"\",D481=\"Exemption\"),\"\",IF(#REF!=\"Consult AE\",\"Consult AE\",#REF!))","v":""},null,null,{"$f":"IF($K481=\"\",\"\",IF(#REF!<>\"\",#REF!,ROUND((($K481-1)*SUM(#REF!,#REF!,#REF!,#REF!,M481)),2)))","v":""}]
[null,null,null,"",null,"",null,null,null,null,{"$f":"IF(OR(D482=\"\",D482=\"Exemption\"),\"\",IF(#REF!=\"Consult AE\",\"Consult AE\",#REF!))","v":""},null,null,{"$f":"IF($K482=\"\",\"\",IF(#REF!<>\"\",#REF!,ROUND((($K482-1)*SUM(#REF!,#REF!,#REF!,#REF!,M482)),2)))","v":""}]
[null,null,null,"",null,"",null,null,null,null,{"$f":"IF(OR(D483=\"\",D483=\"Exemption\"),\"\",IF(#REF!=\"Consult AE\",\"Consult AE\",#REF!))","v":""},null,null,{"$f":"IF($K483=\"\",\"\",IF(#REF!<>\"\",#REF!,ROUND((($K483-1)*SUM(#REF!,#REF!,#REF!,#REF!,M483)),2)))","v":""}]
[null,null,null,"",null,"",null,null,null,null,{"$f":"IF(OR(D484=\"\",D484=\"Exemption\"),\"\",IF(#REF!=\"Consult AE\",\"Consult AE\",#REF!))","v":""},null,null,{"$f":"IF($K484=\"\",\"\",IF(#REF!<>\"\",#REF!,ROUND((($K484-1)*SUM(#REF!,#REF!,#REF!,#REF!,M484)),2)))","v":""}]
[null,null,null,"",null,"",null,null,null,null,{"$f":"IF(OR(D485=\"\",D485=\"Exemption\"),\"\",IF(#REF!=\"Consult AE\",\"Consult AE\",#REF!))","v":""},null,null,{"$f":"IF($K485=\"\",\"\",IF(#REF!<>\"\",#REF!,ROUND((($K485-1)*SUM(#REF!,#REF!,#REF!,#REF!,M485)),2)))","v":""}]
[null,null,null,"",null,"",null,null,null,null,{"$f":"IF(OR(D486=\"\",D486=\"Exemption\"),\"\",IF(#REF!=\"Consult AE\",\"Consult AE\",#REF!))","v":""},null,null,{"$f":"IF($K486=\"\",\"\",IF(#REF!<>\"\",#REF!,ROUND((($K486-1)*SUM(#REF!,#REF!,#REF!,#REF!,M486)),2)))","v":""}]
[null,null,null,"",null,"",null,null,null,null,{"$f":"IF(OR(D487=\"\",D487=\"Exemption\"),\"\",IF(#REF!=\"Consult AE\",\"Consult AE\",#REF!))","v":""},null,null,{"$f":"IF($K487=\"\",\"\",IF(#REF!<>\"\",#REF!,ROUND((($K487-1)*SUM(#REF!,#REF!,#REF!,#REF!,M487)),2)))","v":""}]
[null,null,null,"",null,"",null,null,null,null,{"$f":"IF(OR(D488=\"\",D488=\"Exemption\"),\"\",IF(#REF!=\"Consult AE\",\"Consult AE\",#REF!))","v":""},null,null,{"$f":"IF($K488=\"\",\"\",IF(#REF!<>\"\",#REF!,ROUND((($K488-1)*SUM(#REF!,#REF!,#REF!,#REF!,M488)),2)))","v":""}]
[null,null,null,"",null,"",null,null,null,null,{"$f":"IF(OR(D489=\"\",D489=\"Exemption\"),\"\",IF(#REF!=\"Consult AE\",\"Consult AE\",#REF!))","v":""},null,null,{"$f":"IF($K489=\"\",\"\",IF(#REF!<>\"\",#REF!,ROUND((($K489-1)*SUM(#REF!,#REF!,#REF!,#REF!,M489)),2)))","v":""}]
[null,null,null,"",null,"",null,null,null,null,{"$f":"IF(OR(D490=\"\",D490=\"Exemption\"),\"\",IF(#REF!=\"Consult AE\",\"Consult AE\",#REF!))","v":""},null,null,{"$f":"IF($K490=\"\",\"\",IF(#REF!<>\"\",#REF!,ROUND((($K490-1)*SUM(#REF!,#REF!,#REF!,#REF!,M490)),2)))","v":""}]
[null,null,null,"",null,"",null,null,null,null,{"$f":"IF(OR(D491=\"\",D491=\"Exemption\"),\"\",IF(#REF!=\"Consult AE\",\"Consult AE\",#REF!))","v":""},null,null,{"$f":"IF($K491=\"\",\"\",IF(#REF!<>\"\",#REF!,ROUND((($K491-1)*SUM(#REF!,#REF!,#REF!,#REF!,M491)),2)))","v":""}]
[null,null,null,"",null,"",null,null,null,null,{"$f":"IF(OR(D492=\"\",D492=\"Exemption\"),\"\",IF(#REF!=\"Consult AE\",\"Consult AE\",#REF!))","v":""},null,null,{"$f":"IF($K492=\"\",\"\",IF(#REF!<>\"\",#REF!,ROUND((($K492-1)*SUM(#REF!,#REF!,#REF!,#REF!,M492)),2)))","v":""}]
[null,null,null,"",null,"",null,null,null,null,{"$f":"IF(OR(D493=\"\",D493=\"Exemption\"),\"\",IF(#REF!=\"Consult AE\",\"Consult AE\",#REF!))","v":""},null,null,{"$f":"IF($K493=\"\",\"\",IF(#REF!<>\"\",#REF!,ROUND((($K493-1)*SUM(#REF!,#REF!,#REF!,#REF!,M493)),2)))","v":""}]
[null,null,null,"",null,"",null,null,null,null,{"$f":"IF(OR(D494=\"\",D494=\"Exemption\"),\"\",IF(#REF!=\"Consult AE\",\"Consult AE\",#REF!))","v":""},null,null,{"$f":"IF($K494=\"\",\"\",IF(#REF!<>\"\",#REF!,ROUND((($K494-1)*SUM(#REF!,#REF!,#REF!,#REF!,M494)),2)))","v":""}]
[null,null,null,"",null,"",null,null,null,null,{"$f":"IF(OR(D495=\"\",D495=\"Exemption\"),\"\",IF(#REF!=\"Consult AE\",\"Consult AE\",#REF!))","v":""},null,null,{"$f":"IF($K495=\"\",\"\",IF(#REF!<>\"\",#REF!,ROUND((($K495-1)*SUM(#REF!,#REF!,#REF!,#REF!,M495)),2)))","v":""}]
[null,null,null,"",null,"",null,null,null,null,{"$f":"IF(OR(D496=\"\",D496=\"Exemption\"),\"\",IF(#REF!=\"Consult AE\",\"Consult AE\",#REF!))","v":""},null,null,{"$f":"IF($K496=\"\",\"\",IF(#REF!<>\"\",#REF!,ROUND((($K496-1)*SUM(#REF!,#REF!,#REF!,#REF!,M496)),2)))","v":""}]
[null,null,null,"",null,"",null,null,null,null,{"$f":"IF(OR(D497=\"\",D497=\"Exemption\"),\"\",IF(#REF!=\"Consult AE\",\"Consult AE\",#REF!))","v":""},null,null,{"$f":"IF($K497=\"\",\"\",IF(#REF!<>\"\",#REF!,ROUND((($K497-1)*SUM(#REF!,#REF!,#REF!,#REF!,M497)),2)))","v":""}]
[null,null,null,"",null,"",null,null,null,null,{"$f":"IF(OR(D498=\"\",D498=\"Exemption\"),\"\",IF(#REF!=\"Consult AE\",\"Consult AE\",#REF!))","v":""},null,null,{"$f":"IF($K498=\"\",\"\",IF(#REF!<>\"\",#REF!,ROUND((($K498-1)*SUM(#REF!,#REF!,#REF!,#REF!,M498)),2)))","v":""}]
[null,null,null,"",null,"",null,null,null,null,{"$f":"IF(OR(D499=\"\",D499=\"Exemption\"),\"\",IF(#REF!=\"Consult AE\",\"Consult AE\",#REF!))","v":""},null,null,{"$f":"IF($K499=\"\",\"\",IF(#REF!<>\"\",#REF!,ROUND((($K499-1)*SUM(#REF!,#REF!,#REF!,#REF!,M499)),2)))","v":""}]
[null,null,null,"",null,"",null,null,null,null,{"$f":"IF(OR(D500=\"\",D500=\"Exemption\"),\"\",IF(#REF!=\"Consult AE\",\"Consult AE\",#REF!))","v":""},null,null,{"$f":"IF($K500=\"\",\"\",IF(#REF!<>\"\",#REF!,ROUND((($K500-1)*SUM(#REF!,#REF!,#REF!,#REF!,M500)),2)))","v":""}]
[null,null,null,"",null,"",null,null,null,null,{"$f":"IF(OR(D501=\"\",D501=\"Exemption\"),\"\",IF(#REF!=\"Consult AE\",\"Consult AE\",#REF!))","v":""},null,null,{"$f":"IF($K501=\"\",\"\",IF(#REF!<>\"\",#REF!,ROUND((($K501-1)*SUM(#REF!,#REF!,#REF!,#REF!,M501)),2)))","v":""}]
[null,null,null,"",null,"",null,null,null,null,{"$f":"IF(OR(D502=\"\",D502=\"Exemption\"),\"\",IF(#REF!=\"Consult AE\",\"Consult AE\",#REF!))","v":""},null,null,{"$f":"IF($K502=\"\",\"\",IF(#REF!<>\"\",#REF!,ROUND((($K502-1)*SUM(#REF!,#REF!,#REF!,#REF!,M502)),2)))","v":""}]
[null,null,null,"",null,"",null,null,null,null,{"$f":"IF(OR(D503=\"\",D503=\"Exemption\"),\"\",IF(#REF!=\"Consult AE\",\"Consult AE\",#REF!))","v":""},null,null,{"$f":"IF($K503=\"\",\"\",IF(#REF!<>\"\",#REF!,ROUND((($K503-1)*SUM(#REF!,#REF!,#REF!,#REF!,M503)),2)))","v":""}]
[null,null,null,"",null,"",null,null,null,null,{"$f":"IF(OR(D504=\"\",D504=\"Exemption\"),\"\",IF(#REF!=\"Consult AE\",\"Consult AE\",#REF!))","v":""},null,null,{"$f":"IF($K504=\"\",\"\",IF(#REF!<>\"\",#REF!,ROUND((($K504-1)*SUM(#REF!,#REF!,#REF!,#REF!,M504)),2)))","v":""}]
[null,null,null,"",null,"",null,null,null,null,{"$f":"IF(OR(D505=\"\",D505=\"Exemption\"),\"\",IF(#REF!=\"Consult AE\",\"Consult AE\",#REF!))","v":""},null,null,{"$f":"IF($K505=\"\",\"\",IF(#REF!<>\"\",#REF!,ROUND((($K505-1)*SUM(#REF!,#REF!,#REF!,#REF!,M505)),2)))","v":""}]
[null,null,null,"",null,"",null,null,null,null,{"$f":"IF(OR(D506=\"\",D506=\"Exemption\"),\"\",IF(#REF!=\"Consult AE\",\"Consult AE\",#REF!))","v":""},null,null,{"$f":"IF($K506=\"\",\"\",IF(#REF!<>\"\",#REF!,ROUND((($K506-1)*SUM(#REF!,#REF!,#REF!,#REF!,M506)),2)))","v":""}]
[null,null,null,"",null,"",null,null,null,null,{"$f":"IF(OR(D507=\"\",D507=\"Exemption\"),\"\",IF(#REF!=\"Consult AE\",\"Consult AE\",#REF!))","v":""},null,null,{"$f":"IF($K507=\"\",\"\",IF(#REF!<>\"\",#REF!,ROUND((($K507-1)*SUM(#REF!,#REF!,#REF!,#REF!,M507)),2)))","v":""}]
[null,null,null,"",null,"",null,null,null,null,{"$f":"IF(OR(D508=\"\",D508=\"Exemption\"),\"\",IF(#REF!=\"Consult AE\",\"Consult AE\",#REF!))","v":""},null,null,{"$f":"IF($K508=\"\",\"\",IF(#REF!<>\"\",#REF!,ROUND((($K508-1)*SUM(#REF!,#REF!,#REF!,#REF!,M508)),2)))","v":""}]
[null,null,null,"",null,"",null,null,null,null,{"$f":"IF(OR(D509=\"\",D509=\"Exemption\"),\"\",IF(#REF!=\"Consult AE\",\"Consult AE\",#REF!))","v":""},null,null,{"$f":"IF($K509=\"\",\"\",IF(#REF!<>\"\",#REF!,ROUND((($K509-1)*SUM(#REF!,#REF!,#REF!,#REF!,M509)),2)))","v":""}]
[null,null,null,"",null,"",null,null,null,null,{"$f":"IF(OR(D510=\"\",D510=\"Exemption\"),\"\",IF(#REF!=\"Consult AE\",\"Consult AE\",#REF!))","v":""},null,null,{"$f":"IF($K510=\"\",\"\",IF(#REF!<>\"\",#REF!,ROUND((($K510-1)*SUM(#REF!,#REF!,#REF!,#REF!,M510)),2)))","v":""}]
[null,null,null,"",null,"",null,null,null,null,{"$f":"IF(OR(D511=\"\",D511=\"Exemption\"),\"\",IF(#REF!=\"Consult AE\",\"Consult AE\",#REF!))","v":""},null,null,{"$f":"IF($K511=\"\",\"\",IF(#REF!<>\"\",#REF!,ROUND((($K511-1)*SUM(#REF!,#REF!,#REF!,#REF!,M511)),2)))","v":""}]
[null,null,null,"",null,"",null,null,null,null,{"$f":"IF(OR(D512=\"\",D512=\"Exemption\"),\"\",IF(#REF!=\"Consult AE\",\"Consult AE\",#REF!))","v":""},null,null,{"$f":"IF($K512=\"\",\"\",IF(#REF!<>\"\",#REF!,ROUND((($K512-1)*SUM(#REF!,#REF!,#REF!,#REF!,M512)),2)))","v":""}]
[null,null,null,"",null,"",null,null,null,null,{"$f":"IF(OR(D513=\"\",D513=\"Exemption\"),\"\",IF(#REF!=\"Consult AE\",\"Consult AE\",#REF!))","v":""},null,null,{"$f":"IF($K513=\"\",\"\",IF(#REF!<>\"\",#REF!,ROUND((($K513-1)*SUM(#REF!,#REF!,#REF!,#REF!,M513)),2)))","v":""}]
[null,null,null,"",null,"",null,null,null,null,{"$f":"IF(OR(D514=\"\",D514=\"Exemption\"),\"\",IF(#REF!=\"Consult AE\",\"Consult AE\",#REF!))","v":""},null,null,{"$f":"IF($K514=\"\",\"\",IF(#REF!<>\"\",#REF!,ROUND((($K514-1)*SUM(#REF!,#REF!,#REF!,#REF!,M514)),2)))","v":""}]
[null,null,null,"",null,"",null,null,null,null,{"$f":"IF(OR(D515=\"\",D515=\"Exemption\"),\"\",IF(#REF!=\"Consult AE\",\"Consult AE\",#REF!))","v":""},null,null,{"$f":"IF($K515=\"\",\"\",IF(#REF!<>\"\",#REF!,ROUND((($K515-1)*SUM(#REF!,#REF!,#REF!,#REF!,M515)),2)))","v":""}]
[null,null,null,"",null,"",null,null,null,null,{"$f":"IF(OR(D516=\"\",D516=\"Exemption\"),\"\",IF(#REF!=\"Consult AE\",\"Consult AE\",#REF!))","v":""},null,null,{"$f":"IF($K516=\"\",\"\",IF(#REF!<>\"\",#REF!,ROUND((($K516-1)*SUM(#REF!,#REF!,#REF!,#REF!,M516)),2)))","v":""}]
[null,null,null,"",null,"",null,null,null,null,{"$f":"IF(OR(D517=\"\",D517=\"Exemption\"),\"\",IF(#REF!=\"Consult AE\",\"Consult AE\",#REF!))","v":""},null,null,{"$f":"IF($K517=\"\",\"\",IF(#REF!<>\"\",#REF!,ROUND((($K517-1)*SUM(#REF!,#REF!,#REF!,#REF!,M517)),2)))","v":""}]
[null,null,null,"",null,"",null,null,null,null,{"$f":"IF(OR(D518=\"\",D518=\"Exemption\"),\"\",IF(#REF!=\"Consult AE\",\"Consult AE\",#REF!))","v":""},null,null,{"$f":"IF($K518=\"\",\"\",IF(#REF!<>\"\",#REF!,ROUND((($K518-1)*SUM(#REF!,#REF!,#REF!,#REF!,M518)),2)))","v":""}]
[null,null,null,"",null,"",null,null,null,null,{"$f":"IF(OR(D519=\"\",D519=\"Exemption\"),\"\",IF(#REF!=\"Consult AE\",\"Consult AE\",#REF!))","v":""},null,null,{"$f":"IF($K519=\"\",\"\",IF(#REF!<>\"\",#REF!,ROUND((($K519-1)*SUM(#REF!,#REF!,#REF!,#REF!,M519)),2)))","v":""}]
[null,null,null,"",null,"",null,null,null,null,{"$f":"IF(OR(D520=\"\",D520=\"Exemption\"),\"\",IF(#REF!=\"Consult AE\",\"Consult AE\",#REF!))","v":""},null,null,{"$f":"IF($K520=\"\",\"\",IF(#REF!<>\"\",#REF!,ROUND((($K520-1)*SUM(#REF!,#REF!,#REF!,#REF!,M520)),2)))","v":""}]
[null,null,null,"",null,"",null,null,null,null,{"$f":"IF(OR(D521=\"\",D521=\"Exemption\"),\"\",IF(#REF!=\"Consult AE\",\"Consult AE\",#REF!))","v":""},null,null,{"$f":"IF($K521=\"\",\"\",IF(#REF!<>\"\",#REF!,ROUND((($K521-1)*SUM(#REF!,#REF!,#REF!,#REF!,M521)),2)))","v":""}]
[null,null,null,"",null,"",null,null,null,null,{"$f":"IF(OR(D522=\"\",D522=\"Exemption\"),\"\",IF(#REF!=\"Consult AE\",\"Consult AE\",#REF!))","v":""},null,null,{"$f":"IF($K522=\"\",\"\",IF(#REF!<>\"\",#REF!,ROUND((($K522-1)*SUM(#REF!,#REF!,#REF!,#REF!,M522)),2)))","v":""}]
[null,null,null,"",null,"",null,null,null,null,{"$f":"IF(OR(D523=\"\",D523=\"Exemption\"),\"\",IF(#REF!=\"Consult AE\",\"Consult AE\",#REF!))","v":""},null,null,{"$f":"IF($K523=\"\",\"\",IF(#REF!<>\"\",#REF!,ROUND((($K523-1)*SUM(#REF!,#REF!,#REF!,#REF!,M523)),2)))","v":""}]
[null,null,null,"",null,"",null,null,null,null,{"$f":"IF(OR(D524=\"\",D524=\"Exemption\"),\"\",IF(#REF!=\"Consult AE\",\"Consult AE\",#REF!))","v":""},null,null,{"$f":"IF($K524=\"\",\"\",IF(#REF!<>\"\",#REF!,ROUND((($K524-1)*SUM(#REF!,#REF!,#REF!,#REF!,M524)),2)))","v":""}]
[null,null,null,"",null,"",null,null,null,null,{"$f":"IF(OR(D525=\"\",D525=\"Exemption\"),\"\",IF(#REF!=\"Consult AE\",\"Consult AE\",#REF!))","v":""},null,null,{"$f":"IF($K525=\"\",\"\",IF(#REF!<>\"\",#REF!,ROUND((($K525-1)*SUM(#REF!,#REF!,#REF!,#REF!,M525)),2)))","v":""}]
[null,null,null,"",null,"",null,null,null,null,{"$f":"IF(OR(D526=\"\",D526=\"Exemption\"),\"\",IF(#REF!=\"Consult AE\",\"Consult AE\",#REF!))","v":""},null,null,{"$f":"IF($K526=\"\",\"\",IF(#REF!<>\"\",#REF!,ROUND((($K526-1)*SUM(#REF!,#REF!,#REF!,#REF!,M526)),2)))","v":""}]
[null,null,null,"",null,{"$f":"IF(C527=\"\",\"\",IF($F$7<$F$6,D527-C527,D527+C527))","v":""},null,null,null,null,{"$f":"IF(OR(D527=\"\",D527=\"Exemption\"),\"\",IF(#REF!=\"Consult AE\",\"Consult AE\",#REF!))","v":""},null,null,{"$f":"IF($K527=\"\",\"\",IF(#REF!<>\"\",#REF!,ROUND((($K527-1)*SUM(#REF!,#REF!,#REF!,#REF!,M527)),2)))","v":""}]
[null,null,null,{"$f":"+IF(A528=\"\",\"\",IF($F$7<$F$6,D527-(A528-A527),D527+(A528-A527)))","v":""},null,"",null,null,null,null,{"$f":"IF(OR(D528=\"\",D528=\"Exemption\"),\"\",IF(#REF!=\"Consult AE\",\"Consult AE\",#REF!))","v":""},null,null,{"$f":"IF($K528=\"\",\"\",IF(#REF!<>\"\",#REF!,ROUND((($K528-1)*SUM(#REF!,#REF!,#REF!,#REF!,M528)),2)))","v":""}]
[null,null,null,"",null,"",null,null,null,null,{"$f":"IF(OR(D529=\"\",D529=\"Exemption\"),\"\",IF(#REF!=\"Consult AE\",\"Consult AE\",#REF!))","v":""},null,null,{"$f":"IF($K529=\"\",\"\",IF(#REF!<>\"\",#REF!,ROUND((($K529-1)*SUM(#REF!,#REF!,#REF!,#REF!,M529)),2)))","v":""}]
[null,null,null,"",null,"",null,null,null,null,{"$f":"IF(OR(D530=\"\",D530=\"Exemption\"),\"\",IF(#REF!=\"Consult AE\",\"Consult AE\",#REF!))","v":""},null,null,{"$f":"IF($K530=\"\",\"\",IF(#REF!<>\"\",#REF!,ROUND((($K530-1)*SUM(#REF!,#REF!,#REF!,#REF!,M530)),2)))","v":""}]
[null,null,null,"",null,"",null,null,null,null,{"$f":"IF(OR(D531=\"\",D531=\"Exemption\"),\"\",IF(#REF!=\"Consult AE\",\"Consult AE\",#REF!))","v":""},null,null,{"$f":"IF($K531=\"\",\"\",IF(#REF!<>\"\",#REF!,ROUND((($K531-1)*SUM(#REF!,#REF!,#REF!,#REF!,M531)),2)))","v":""}]
[null,null,null,"",null,"",null,null,null,null,{"$f":"IF(OR(D532=\"\",D532=\"Exemption\"),\"\",IF(#REF!=\"Consult AE\",\"Consult AE\",#REF!))","v":""},null,null,{"$f":"IF($K532=\"\",\"\",IF(#REF!<>\"\",#REF!,ROUND((($K532-1)*SUM(#REF!,#REF!,#REF!,#REF!,M532)),2)))","v":""}]
[null,null,null,"",null,"",null,null,null,null,{"$f":"IF(OR(D533=\"\",D533=\"Exemption\"),\"\",IF(#REF!=\"Consult AE\",\"Consult AE\",#REF!))","v":""},null,null,{"$f":"IF($K533=\"\",\"\",IF(#REF!<>\"\",#REF!,ROUND((($K533-1)*SUM(#REF!,#REF!,#REF!,#REF!,M533)),2)))","v":""}]
[null,null,null,"",null,"",null,null,null,null,{"$f":"IF(OR(D534=\"\",D534=\"Exemption\"),\"\",IF(#REF!=\"Consult AE\",\"Consult AE\",#REF!))","v":""},null,null,{"$f":"IF($K534=\"\",\"\",IF(#REF!<>\"\",#REF!,ROUND((($K534-1)*SUM(#REF!,#REF!,#REF!,#REF!,M534)),2)))","v":""}]
[null,null,null,"",null,"",null,null,null,null,{"$f":"IF(OR(D535=\"\",D535=\"Exemption\"),\"\",IF(#REF!=\"Consult AE\",\"Consult AE\",#REF!))","v":""},null,null,{"$f":"IF($K535=\"\",\"\",IF(#REF!<>\"\",#REF!,ROUND((($K535-1)*SUM(#REF!,#REF!,#REF!,#REF!,M535)),2)))","v":""}]
[null,null,null,"",null,"",null,null,null,null,{"$f":"IF(OR(D536=\"\",D536=\"Exemption\"),\"\",IF(#REF!=\"Consult AE\",\"Consult AE\",#REF!))","v":""},null,null,{"$f":"IF($K536=\"\",\"\",IF(#REF!<>\"\",#REF!,ROUND((($K536-1)*SUM(#REF!,#REF!,#REF!,#REF!,M536)),2)))","v":""}]
[null,null,null,"",null,"",null,null,null,null,{"$f":"IF(OR(D537=\"\",D537=\"Exemption\"),\"\",IF(#REF!=\"Consult AE\",\"Consult AE\",#REF!))","v":""},null,null,{"$f":"IF($K537=\"\",\"\",IF(#REF!<>\"\",#REF!,ROUND((($K537-1)*SUM(#REF!,#REF!,#REF!,#REF!,M537)),2)))","v":""}]
[null,null,null,"",null,"",null,null,null,null,{"$f":"IF(OR(D538=\"\",D538=\"Exemption\"),\"\",IF(#REF!=\"Consult AE\",\"Consult AE\",#REF!))","v":""},null,null,{"$f":"IF($K538=\"\",\"\",IF(#REF!<>\"\",#REF!,ROUND((($K538-1)*SUM(#REF!,#REF!,#REF!,#REF!,M538)),2)))","v":""}]
[null,null,null,"",null,"",null,null,null,null,{"$f":"IF(OR(D539=\"\",D539=\"Exemption\"),\"\",IF(#REF!=\"Consult AE\",\"Consult AE\",#REF!))","v":""},null,null,{"$f":"IF($K539=\"\",\"\",IF(#REF!<>\"\",#REF!,ROUND((($K539-1)*SUM(#REF!,#REF!,#REF!,#REF!,M539)),2)))","v":""}]
[null,null,null,"",null,"",null,null,null,null,{"$f":"IF(OR(D540=\"\",D540=\"Exemption\"),\"\",IF(#REF!=\"Consult AE\",\"Consult AE\",#REF!))","v":""},null,null,{"$f":"IF($K540=\"\",\"\",IF(#REF!<>\"\",#REF!,ROUND((($K540-1)*SUM(#REF!,#REF!,#REF!,#REF!,M540)),2)))","v":""}]
[null,null,null,"",null,"",null,null,null,null,{"$f":"IF(OR(D541=\"\",D541=\"Exemption\"),\"\",IF(#REF!=\"Consult AE\",\"Consult AE\",#REF!))","v":""},null,null,{"$f":"IF($K541=\"\",\"\",IF(#REF!<>\"\",#REF!,ROUND((($K541-1)*SUM(#REF!,#REF!,#REF!,#REF!,M541)),2)))","v":""}]
[null,null,null,"",null,"",null,null,null,null,{"$f":"IF(OR(D542=\"\",D542=\"Exemption\"),\"\",IF(#REF!=\"Consult AE\",\"Consult AE\",#REF!))","v":""},null,null,{"$f":"IF($K542=\"\",\"\",IF(#REF!<>\"\",#REF!,ROUND((($K542-1)*SUM(#REF!,#REF!,#REF!,#REF!,M542)),2)))","v":""}]
[null,null,null,"",null,"",null,null,null,null,{"$f":"IF(OR(D543=\"\",D543=\"Exemption\"),\"\",IF(#REF!=\"Consult AE\",\"Consult AE\",#REF!))","v":""},null,null,{"$f":"IF($K543=\"\",\"\",IF(#REF!<>\"\",#REF!,ROUND((($K543-1)*SUM(#REF!,#REF!,#REF!,#REF!,M543)),2)))","v":""}]
[null,null,null,"",null,"",null,null,null,null,{"$f":"IF(OR(D544=\"\",D544=\"Exemption\"),\"\",IF(#REF!=\"Consult AE\",\"Consult AE\",#REF!))","v":""},null,null,{"$f":"IF($K544=\"\",\"\",IF(#REF!<>\"\",#REF!,ROUND((($K544-1)*SUM(#REF!,#REF!,#REF!,#REF!,M544)),2)))","v":""}]
[null,null,null,"",null,"",null,null,null,null,{"$f":"IF(OR(D545=\"\",D545=\"Exemption\"),\"\",IF(#REF!=\"Consult AE\",\"Consult AE\",#REF!))","v":""},null,null,{"$f":"IF($K545=\"\",\"\",IF(#REF!<>\"\",#REF!,ROUND((($K545-1)*SUM(#REF!,#REF!,#REF!,#REF!,M545)),2)))","v":""}]
[null,null,null,"",null,"",null,null,null,null,{"$f":"IF(OR(D546=\"\",D546=\"Exemption\"),\"\",IF(#REF!=\"Consult AE\",\"Consult AE\",#REF!))","v":""},null,null,{"$f":"IF($K546=\"\",\"\",IF(#REF!<>\"\",#REF!,ROUND((($K546-1)*SUM(#REF!,#REF!,#REF!,#REF!,M546)),2)))","v":""}]
[null,null,null,"",null,"",null,null,null,null,{"$f":"IF(OR(D547=\"\",D547=\"Exemption\"),\"\",IF(#REF!=\"Consult AE\",\"Consult AE\",#REF!))","v":""},null,null,{"$f":"IF($K547=\"\",\"\",IF(#REF!<>\"\",#REF!,ROUND((($K547-1)*SUM(#REF!,#REF!,#REF!,#REF!,M547)),2)))","v":""}]
[null,null,null,"",null,"",null,null,null,null,{"$f":"IF(OR(D548=\"\",D548=\"Exemption\"),\"\",IF(#REF!=\"Consult AE\",\"Consult AE\",#REF!))","v":""},null,null,{"$f":"IF($K548=\"\",\"\",IF(#REF!<>\"\",#REF!,ROUND((($K548-1)*SUM(#REF!,#REF!,#REF!,#REF!,M548)),2)))","v":""}]
[null,null,null,"",null,"",null,null,null,null,{"$f":"IF(OR(D549=\"\",D549=\"Exemption\"),\"\",IF(#REF!=\"Consult AE\",\"Consult AE\",#REF!))","v":""},null,null,{"$f":"IF($K549=\"\",\"\",IF(#REF!<>\"\",#REF!,ROUND((($K549-1)*SUM(#REF!,#REF!,#REF!,#REF!,M549)),2)))","v":""}]
[null,null,null,"",null,"",null,null,null,null,{"$f":"IF(OR(D550=\"\",D550=\"Exemption\"),\"\",IF(#REF!=\"Consult AE\",\"Consult AE\",#REF!))","v":""},null,null,{"$f":"IF($K550=\"\",\"\",IF(#REF!<>\"\",#REF!,ROUND((($K550-1)*SUM(#REF!,#REF!,#REF!,#REF!,M550)),2)))","v":""}]
[null,null,null,"",null,"",null,null,null,null,{"$f":"IF(OR(D551=\"\",D551=\"Exemption\"),\"\",IF(#REF!=\"Consult AE\",\"Consult AE\",#REF!))","v":""},null,null,{"$f":"IF($K551=\"\",\"\",IF(#REF!<>\"\",#REF!,ROUND((($K551-1)*SUM(#REF!,#REF!,#REF!,#REF!,M551)),2)))","v":""}]
[null,null,null,"",null,"",null,null,null,null,{"$f":"IF(OR(D552=\"\",D552=\"Exemption\"),\"\",IF(#REF!=\"Consult AE\",\"Consult AE\",#REF!))","v":""},null,null,{"$f":"IF($K552=\"\",\"\",IF(#REF!<>\"\",#REF!,ROUND((($K552-1)*SUM(#REF!,#REF!,#REF!,#REF!,M552)),2)))","v":""}]
[null,null,null,"",null,"",null,null,null,null,{"$f":"IF(OR(D553=\"\",D553=\"Exemption\"),\"\",IF(#REF!=\"Consult AE\",\"Consult AE\",#REF!))","v":""},null,null,{"$f":"IF($K553=\"\",\"\",IF(#REF!<>\"\",#REF!,ROUND((($K553-1)*SUM(#REF!,#REF!,#REF!,#REF!,M553)),2)))","v":""}]
[null,null,null,"",null,"",null,null,null,null,{"$f":"IF(OR(D554=\"\",D554=\"Exemption\"),\"\",IF(#REF!=\"Consult AE\",\"Consult AE\",#REF!))","v":""},null,null,{"$f":"IF($K554=\"\",\"\",IF(#REF!<>\"\",#REF!,ROUND((($K554-1)*SUM(#REF!,#REF!,#REF!,#REF!,M554)),2)))","v":""}]
[null,null,null,"",null,"",null,null,null,null,{"$f":"IF(OR(D555=\"\",D555=\"Exemption\"),\"\",IF(#REF!=\"Consult AE\",\"Consult AE\",#REF!))","v":""},null,null,{"$f":"IF($K555=\"\",\"\",IF(#REF!<>\"\",#REF!,ROUND((($K555-1)*SUM(#REF!,#REF!,#REF!,#REF!,M555)),2)))","v":""}]
[null,null,null,"",null,"",null,null,null,null,{"$f":"IF(OR(D556=\"\",D556=\"Exemption\"),\"\",IF(#REF!=\"Consult AE\",\"Consult AE\",#REF!))","v":""},null,null,{"$f":"IF($K556=\"\",\"\",IF(#REF!<>\"\",#REF!,ROUND((($K556-1)*SUM(#REF!,#REF!,#REF!,#REF!,M556)),2)))","v":""}]
[null,null,null,"",null,"",null,null,null,null,{"$f":"IF(OR(D557=\"\",D557=\"Exemption\"),\"\",IF(#REF!=\"Consult AE\",\"Consult AE\",#REF!))","v":""},null,null,{"$f":"IF($K557=\"\",\"\",IF(#REF!<>\"\",#REF!,ROUND((($K557-1)*SUM(#REF!,#REF!,#REF!,#REF!,M557)),2)))","v":""}]
[null,null,null,"",null,"",null,null,null,null,{"$f":"IF(OR(D558=\"\",D558=\"Exemption\"),\"\",IF(#REF!=\"Consult AE\",\"Consult AE\",#REF!))","v":""},null,null,{"$f":"IF($K558=\"\",\"\",IF(#REF!<>\"\",#REF!,ROUND((($K558-1)*SUM(#REF!,#REF!,#REF!,#REF!,M558)),2)))","v":""}]
[null,null,null,"",null,"",null,null,null,null,{"$f":"IF(OR(D559=\"\",D559=\"Exemption\"),\"\",IF(#REF!=\"Consult AE\",\"Consult AE\",#REF!))","v":""},null,null,{"$f":"IF($K559=\"\",\"\",IF(#REF!<>\"\",#REF!,ROUND((($K559-1)*SUM(#REF!,#REF!,#REF!,#REF!,M559)),2)))","v":""}]
[null,null,null,"",null,"",null,null,null,null,{"$f":"IF(OR(D560=\"\",D560=\"Exemption\"),\"\",IF(#REF!=\"Consult AE\",\"Consult AE\",#REF!))","v":""},null,null,{"$f":"IF($K560=\"\",\"\",IF(#REF!<>\"\",#REF!,ROUND((($K560-1)*SUM(#REF!,#REF!,#REF!,#REF!,M560)),2)))","v":""}]
[null,null,null,"",null,"",null,null,null,null,{"$f":"IF(OR(D561=\"\",D561=\"Exemption\"),\"\",IF(#REF!=\"Consult AE\",\"Consult AE\",#REF!))","v":""},null,null,{"$f":"IF($K561=\"\",\"\",IF(#REF!<>\"\",#REF!,ROUND((($K561-1)*SUM(#REF!,#REF!,#REF!,#REF!,M561)),2)))","v":""}]
[null,null,null,"",null,"",null,null,null,null,{"$f":"IF(OR(D562=\"\",D562=\"Exemption\"),\"\",IF(#REF!=\"Consult AE\",\"Consult AE\",#REF!))","v":""},null,null,{"$f":"IF($K562=\"\",\"\",IF(#REF!<>\"\",#REF!,ROUND((($K562-1)*SUM(#REF!,#REF!,#REF!,#REF!,M562)),2)))","v":""}]
[null,null,null,"",null,"",null,null,null,null,{"$f":"IF(OR(D563=\"\",D563=\"Exemption\"),\"\",IF(#REF!=\"Consult AE\",\"Consult AE\",#REF!))","v":""},null,null,{"$f":"IF($K563=\"\",\"\",IF(#REF!<>\"\",#REF!,ROUND((($K563-1)*SUM(#REF!,#REF!,#REF!,#REF!,M563)),2)))","v":""}]
[null,null,null,"",null,"",null,null,null,null,{"$f":"IF(OR(D564=\"\",D564=\"Exemption\"),\"\",IF(#REF!=\"Consult AE\",\"Consult AE\",#REF!))","v":""},null,null,{"$f":"IF($K564=\"\",\"\",IF(#REF!<>\"\",#REF!,ROUND((($K564-1)*SUM(#REF!,#REF!,#REF!,#REF!,M564)),2)))","v":""}]
[null,null,null,"",null,"",null,null,null,null,{"$f":"IF(OR(D565=\"\",D565=\"Exemption\"),\"\",IF(#REF!=\"Consult AE\",\"Consult AE\",#REF!))","v":""},null,null,{"$f":"IF($K565=\"\",\"\",IF(#REF!<>\"\",#REF!,ROUND((($K565-1)*SUM(#REF!,#REF!,#REF!,#REF!,M565)),2)))","v":""}]
[null,null,null,"",null,"",null,null,null,null,{"$f":"IF(OR(D566=\"\",D566=\"Exemption\"),\"\",IF(#REF!=\"Consult AE\",\"Consult AE\",#REF!))","v":""},null,null,{"$f":"IF($K566=\"\",\"\",IF(#REF!<>\"\",#REF!,ROUND((($K566-1)*SUM(#REF!,#REF!,#REF!,#REF!,M566)),2)))","v":""}]
[null,null,null,"",null,"",null,null,null,null,{"$f":"IF(OR(D567=\"\",D567=\"Exemption\"),\"\",IF(#REF!=\"Consult AE\",\"Consult AE\",#REF!))","v":""},null,null,{"$f":"IF($K567=\"\",\"\",IF(#REF!<>\"\",#REF!,ROUND((($K567-1)*SUM(#REF!,#REF!,#REF!,#REF!,M567)),2)))","v":""}]
[null,null,null,"",null,"",null,null,null,null,{"$f":"IF(OR(D568=\"\",D568=\"Exemption\"),\"\",IF(#REF!=\"Consult AE\",\"Consult AE\",#REF!))","v":""},null,null,{"$f":"IF($K568=\"\",\"\",IF(#REF!<>\"\",#REF!,ROUND((($K568-1)*SUM(#REF!,#REF!,#REF!,#REF!,M568)),2)))","v":""}]
[null,null,null,"",null,"",null,null,null,null,{"$f":"IF(OR(D569=\"\",D569=\"Exemption\"),\"\",IF(#REF!=\"Consult AE\",\"Consult AE\",#REF!))","v":""},null,null,{"$f":"IF($K569=\"\",\"\",IF(#REF!<>\"\",#REF!,ROUND((($K569-1)*SUM(#REF!,#REF!,#REF!,#REF!,M569)),2)))","v":""}]
[null,null,null,"",null,"",null,null,null,null,{"$f":"IF(OR(D570=\"\",D570=\"Exemption\"),\"\",IF(#REF!=\"Consult AE\",\"Consult AE\",#REF!))","v":""},null,null,{"$f":"IF($K570=\"\",\"\",IF(#REF!<>\"\",#REF!,ROUND((($K570-1)*SUM(#REF!,#REF!,#REF!,#REF!,M570)),2)))","v":""}]
[null,null,null,"",null,"",null,null,null,null,{"$f":"IF(OR(D571=\"\",D571=\"Exemption\"),\"\",IF(#REF!=\"Consult AE\",\"Consult AE\",#REF!))","v":""},null,null,{"$f":"IF($K571=\"\",\"\",IF(#REF!<>\"\",#REF!,ROUND((($K571-1)*SUM(#REF!,#REF!,#REF!,#REF!,M571)),2)))","v":""}]
[null,null,null,"",null,"",null,null,null,null,{"$f":"IF(OR(D572=\"\",D572=\"Exemption\"),\"\",IF(#REF!=\"Consult AE\",\"Consult AE\",#REF!))","v":""},null,null,{"$f":"IF($K572=\"\",\"\",IF(#REF!<>\"\",#REF!,ROUND((($K572-1)*SUM(#REF!,#REF!,#REF!,#REF!,M572)),2)))","v":""}]
[null,null,null,"",null,"",null,null,null,null,{"$f":"IF(OR(D573=\"\",D573=\"Exemption\"),\"\",IF(#REF!=\"Consult AE\",\"Consult AE\",#REF!))","v":""},null,null,{"$f":"IF($K573=\"\",\"\",IF(#REF!<>\"\",#REF!,ROUND((($K573-1)*SUM(#REF!,#REF!,#REF!,#REF!,M573)),2)))","v":""}]
[null,null,null,"",null,"",null,null,null,null,{"$f":"IF(OR(D574=\"\",D574=\"Exemption\"),\"\",IF(#REF!=\"Consult AE\",\"Consult AE\",#REF!))","v":""},null,null,{"$f":"IF($K574=\"\",\"\",IF(#REF!<>\"\",#REF!,ROUND((($K574-1)*SUM(#REF!,#REF!,#REF!,#REF!,M574)),2)))","v":""}]
[null,null,null,"",null,"",null,null,null,null,{"$f":"IF(OR(D575=\"\",D575=\"Exemption\"),\"\",IF(#REF!=\"Consult AE\",\"Consult AE\",#REF!))","v":""},null,null,{"$f":"IF($K575=\"\",\"\",IF(#REF!<>\"\",#REF!,ROUND((($K575-1)*SUM(#REF!,#REF!,#REF!,#REF!,M575)),2)))","v":""}]
[null,null,null,"",null,"",null,null,null,null,{"$f":"IF(OR(D576=\"\",D576=\"Exemption\"),\"\",IF(#REF!=\"Consult AE\",\"Consult AE\",#REF!))","v":""},null,null,{"$f":"IF($K576=\"\",\"\",IF(#REF!<>\"\",#REF!,ROUND((($K576-1)*SUM(#REF!,#REF!,#REF!,#REF!,M576)),2)))","v":""}]
[null,null,null,"",null,"",null,null,null,null,{"$f":"IF(OR(D577=\"\",D577=\"Exemption\"),\"\",IF(#REF!=\"Consult AE\",\"Consult AE\",#REF!))","v":""},null,null,{"$f":"IF($K577=\"\",\"\",IF(#REF!<>\"\",#REF!,ROUND((($K577-1)*SUM(#REF!,#REF!,#REF!,#REF!,M577)),2)))","v":""}]
[null,null,null,"",null,"",null,null,null,null,{"$f":"IF(OR(D578=\"\",D578=\"Exemption\"),\"\",IF(#REF!=\"Consult AE\",\"Consult AE\",#REF!))","v":""},null,null,{"$f":"IF($K578=\"\",\"\",IF(#REF!<>\"\",#REF!,ROUND((($K578-1)*SUM(#REF!,#REF!,#REF!,#REF!,M578)),2)))","v":""}]
[null,null,null,"",null,"",null,null,null,null,{"$f":"IF(OR(D579=\"\",D579=\"Exemption\"),\"\",IF(#REF!=\"Consult AE\",\"Consult AE\",#REF!))","v":""},null,null,{"$f":"IF($K579=\"\",\"\",IF(#REF!<>\"\",#REF!,ROUND((($K579-1)*SUM(#REF!,#REF!,#REF!,#REF!,M579)),2)))","v":""}]
[null,null,null,"",null,"",null,null,null,null,{"$f":"IF(OR(D580=\"\",D580=\"Exemption\"),\"\",IF(#REF!=\"Consult AE\",\"Consult AE\",#REF!))","v":""},null,null,{"$f":"IF($K580=\"\",\"\",IF(#REF!<>\"\",#REF!,ROUND((($K580-1)*SUM(#REF!,#REF!,#REF!,#REF!,M580)),2)))","v":""}]
[null,null,null,"",null,"",null,null,null,null,{"$f":"IF(OR(D581=\"\",D581=\"Exemption\"),\"\",IF(#REF!=\"Consult AE\",\"Consult AE\",#REF!))","v":""},null,null,{"$f":"IF($K581=\"\",\"\",IF(#REF!<>\"\",#REF!,ROUND((($K581-1)*SUM(#REF!,#REF!,#REF!,#REF!,M581)),2)))","v":""}]
[null,null,null,"",null,"",null,null,null,null,{"$f":"IF(OR(D582=\"\",D582=\"Exemption\"),\"\",IF(#REF!=\"Consult AE\",\"Consult AE\",#REF!))","v":""},null,null,{"$f":"IF($K582=\"\",\"\",IF(#REF!<>\"\",#REF!,ROUND((($K582-1)*SUM(#REF!,#REF!,#REF!,#REF!,M582)),2)))","v":""}]
[null,null,null,"",null,"",null,null,null,null,{"$f":"IF(OR(D583=\"\",D583=\"Exemption\"),\"\",IF(#REF!=\"Consult AE\",\"Consult AE\",#REF!))","v":""},null,null,{"$f":"IF($K583=\"\",\"\",IF(#REF!<>\"\",#REF!,ROUND((($K583-1)*SUM(#REF!,#REF!,#REF!,#REF!,M583)),2)))","v":""}]
[null,null,null,"",null,"",null,null,null,null,{"$f":"IF(OR(D584=\"\",D584=\"Exemption\"),\"\",IF(#REF!=\"Consult AE\",\"Consult AE\",#REF!))","v":""},null,null,{"$f":"IF($K584=\"\",\"\",IF(#REF!<>\"\",#REF!,ROUND((($K584-1)*SUM(#REF!,#REF!,#REF!,#REF!,M584)),2)))","v":""}]
[null,null,null,"",null,"",null,null,null,null,{"$f":"IF(OR(D585=\"\",D585=\"Exemption\"),\"\",IF(#REF!=\"Consult AE\",\"Consult AE\",#REF!))","v":""},null,null,{"$f":"IF($K585=\"\",\"\",IF(#REF!<>\"\",#REF!,ROUND((($K585-1)*SUM(#REF!,#REF!,#REF!,#REF!,M585)),2)))","v":""}]
[null,null,null,"",null,"",null,null,null,null,{"$f":"IF(OR(D586=\"\",D586=\"Exemption\"),\"\",IF(#REF!=\"Consult AE\",\"Consult AE\",#REF!))","v":""},null,null,{"$f":"IF($K586=\"\",\"\",IF(#REF!<>\"\",#REF!,ROUND((($K586-1)*SUM(#REF!,#REF!,#REF!,#REF!,M586)),2)))","v":""}]
[null,null,null,"",null,"",null,null,null,null,{"$f":"IF(OR(D587=\"\",D587=\"Exemption\"),\"\",IF(#REF!=\"Consult AE\",\"Consult AE\",#REF!))","v":""},null,null,{"$f":"IF($K587=\"\",\"\",IF(#REF!<>\"\",#REF!,ROUND((($K587-1)*SUM(#REF!,#REF!,#REF!,#REF!,M587)),2)))","v":""}]
[null,null,null,"",null,"",null,null,null,null,{"$f":"IF(OR(D588=\"\",D588=\"Exemption\"),\"\",IF(#REF!=\"Consult AE\",\"Consult AE\",#REF!))","v":""},null,null,{"$f":"IF($K588=\"\",\"\",IF(#REF!<>\"\",#REF!,ROUND((($K588-1)*SUM(#REF!,#REF!,#REF!,#REF!,M588)),2)))","v":""}]
[null,null,null,"",null,"",null,null,null,null,{"$f":"IF(OR(D589=\"\",D589=\"Exemption\"),\"\",IF(#REF!=\"Consult AE\",\"Consult AE\",#REF!))","v":""},null,null,{"$f":"IF($K589=\"\",\"\",IF(#REF!<>\"\",#REF!,ROUND((($K589-1)*SUM(#REF!,#REF!,#REF!,#REF!,M589)),2)))","v":""}]
[null,null,null,"",null,"",null,null,null,null,{"$f":"IF(OR(D590=\"\",D590=\"Exemption\"),\"\",IF(#REF!=\"Consult AE\",\"Consult AE\",#REF!))","v":""},null,null,{"$f":"IF($K590=\"\",\"\",IF(#REF!<>\"\",#REF!,ROUND((($K590-1)*SUM(#REF!,#REF!,#REF!,#REF!,M590)),2)))","v":""}]
[null,null,null,"",null,{"$f":"IF(C591=\"\",\"\",IF($F$7<$F$6,D591-C591,D591+C591))","v":""},null,null,null,null,{"$f":"IF(OR(D591=\"\",D591=\"Exemption\"),\"\",IF(#REF!=\"Consult AE\",\"Consult AE\",#REF!))","v":""},null,null,{"$f":"IF($K591=\"\",\"\",IF(#REF!<>\"\",#REF!,ROUND((($K591-1)*SUM(#REF!,#REF!,#REF!,#REF!,M591)),2)))","v":""}]
[null,null,null,{"$f":"+IF(A592=\"\",\"\",IF($F$7<$F$6,D591-(A592-A591),D591+(A592-A591)))","v":""},null,"",null,null,null,null,{"$f":"IF(OR(D592=\"\",D592=\"Exemption\"),\"\",IF(#REF!=\"Consult AE\",\"Consult AE\",#REF!))","v":""},null,null,{"$f":"IF($K592=\"\",\"\",IF(#REF!<>\"\",#REF!,ROUND((($K592-1)*SUM(#REF!,#REF!,#REF!,#REF!,M592)),2)))","v":""}]
[null,null,null,"",null,"",null,null,null,null,{"$f":"IF(OR(D593=\"\",D593=\"Exemption\"),\"\",IF(#REF!=\"Consult AE\",\"Consult AE\",#REF!))","v":""},null,null,{"$f":"IF($K593=\"\",\"\",IF(#REF!<>\"\",#REF!,ROUND((($K593-1)*SUM(#REF!,#REF!,#REF!,#REF!,M593)),2)))","v":""}]
[null,null,null,"",null,"",null,null,null,null,{"$f":"IF(OR(D594=\"\",D594=\"Exemption\"),\"\",IF(#REF!=\"Consult AE\",\"Consult AE\",#REF!))","v":""},null,null,{"$f":"IF($K594=\"\",\"\",IF(#REF!<>\"\",#REF!,ROUND((($K594-1)*SUM(#REF!,#REF!,#REF!,#REF!,M594)),2)))","v":""}]
[null,null,null,"",null,"",null,null,null,null,{"$f":"IF(OR(D595=\"\",D595=\"Exemption\"),\"\",IF(#REF!=\"Consult AE\",\"Consult AE\",#REF!))","v":""},null,null,{"$f":"IF($K595=\"\",\"\",IF(#REF!<>\"\",#REF!,ROUND((($K595-1)*SUM(#REF!,#REF!,#REF!,#REF!,M595)),2)))","v":""}]
[null,null,null,"",null,"",null,null,null,null,{"$f":"IF(OR(D596=\"\",D596=\"Exemption\"),\"\",IF(#REF!=\"Consult AE\",\"Consult AE\",#REF!))","v":""},null,null,{"$f":"IF($K596=\"\",\"\",IF(#REF!<>\"\",#REF!,ROUND((($K596-1)*SUM(#REF!,#REF!,#REF!,#REF!,M596)),2)))","v":""}]
[null,null,null,"",null,"",null,null,null,null,{"$f":"IF(OR(D597=\"\",D597=\"Exemption\"),\"\",IF(#REF!=\"Consult AE\",\"Consult AE\",#REF!))","v":""},null,null,{"$f":"IF($K597=\"\",\"\",IF(#REF!<>\"\",#REF!,ROUND((($K597-1)*SUM(#REF!,#REF!,#REF!,#REF!,M597)),2)))","v":""}]
[null,null,null,"",null,"",null,null,null,null,{"$f":"IF(OR(D598=\"\",D598=\"Exemption\"),\"\",IF(#REF!=\"Consult AE\",\"Consult AE\",#REF!))","v":""},null,null,{"$f":"IF($K598=\"\",\"\",IF(#REF!<>\"\",#REF!,ROUND((($K598-1)*SUM(#REF!,#REF!,#REF!,#REF!,M598)),2)))","v":""}]
[null,null,null,"",null,"",null,null,null,null,{"$f":"IF(OR(D599=\"\",D599=\"Exemption\"),\"\",IF(#REF!=\"Consult AE\",\"Consult AE\",#REF!))","v":""},null,null,{"$f":"IF($K599=\"\",\"\",IF(#REF!<>\"\",#REF!,ROUND((($K599-1)*SUM(#REF!,#REF!,#REF!,#REF!,M599)),2)))","v":""}]
[null,null,null,"",null,"",null,null,null,null,{"$f":"IF(OR(D600=\"\",D600=\"Exemption\"),\"\",IF(#REF!=\"Consult AE\",\"Consult AE\",#REF!))","v":""},null,null,{"$f":"IF($K600=\"\",\"\",IF(#REF!<>\"\",#REF!,ROUND((($K600-1)*SUM(#REF!,#REF!,#REF!,#REF!,M600)),2)))","v":""}]
[null,null,null,"",null,"",null,null,null,null,{"$f":"IF(OR(D601=\"\",D601=\"Exemption\"),\"\",IF(#REF!=\"Consult AE\",\"Consult AE\",#REF!))","v":""},null,null,{"$f":"IF($K601=\"\",\"\",IF(#REF!<>\"\",#REF!,ROUND((($K601-1)*SUM(#REF!,#REF!,#REF!,#REF!,M601)),2)))","v":""}]
[null,null,null,"",null,"",null,null,null,null,{"$f":"IF(OR(D602=\"\",D602=\"Exemption\"),\"\",IF(#REF!=\"Consult AE\",\"Consult AE\",#REF!))","v":""},null,null,{"$f":"IF($K602=\"\",\"\",IF(#REF!<>\"\",#REF!,ROUND((($K602-1)*SUM(#REF!,#REF!,#REF!,#REF!,M602)),2)))","v":""}]
[null,null,null,"",null,"",null,null,null,null,{"$f":"IF(OR(D603=\"\",D603=\"Exemption\"),\"\",IF(#REF!=\"Consult AE\",\"Consult AE\",#REF!))","v":""},null,null,{"$f":"IF($K603=\"\",\"\",IF(#REF!<>\"\",#REF!,ROUND((($K603-1)*SUM(#REF!,#REF!,#REF!,#REF!,M603)),2)))","v":""}]
[null,null,null,"",null,"",null,null,null,null,{"$f":"IF(OR(D604=\"\",D604=\"Exemption\"),\"\",IF(#REF!=\"Consult AE\",\"Consult AE\",#REF!))","v":""},null,null,{"$f":"IF($K604=\"\",\"\",IF(#REF!<>\"\",#REF!,ROUND((($K604-1)*SUM(#REF!,#REF!,#REF!,#REF!,M604)),2)))","v":""}]
[null,null,null,"",null,"",null,null,null,null,{"$f":"IF(OR(D605=\"\",D605=\"Exemption\"),\"\",IF(#REF!=\"Consult AE\",\"Consult AE\",#REF!))","v":""},null,null,{"$f":"IF($K605=\"\",\"\",IF(#REF!<>\"\",#REF!,ROUND((($K605-1)*SUM(#REF!,#REF!,#REF!,#REF!,M605)),2)))","v":""}]
[null,null,null,"",null,"",null,null,null,null,{"$f":"IF(OR(D606=\"\",D606=\"Exemption\"),\"\",IF(#REF!=\"Consult AE\",\"Consult AE\",#REF!))","v":""},null,null,{"$f":"IF($K606=\"\",\"\",IF(#REF!<>\"\",#REF!,ROUND((($K606-1)*SUM(#REF!,#REF!,#REF!,#REF!,M606)),2)))","v":""}]
[null,null,null,"",null,"",null,null,null,null,{"$f":"IF(OR(D607=\"\",D607=\"Exemption\"),\"\",IF(#REF!=\"Consult AE\",\"Consult AE\",#REF!))","v":""},null,null,{"$f":"IF($K607=\"\",\"\",IF(#REF!<>\"\",#REF!,ROUND((($K607-1)*SUM(#REF!,#REF!,#REF!,#REF!,M607)),2)))","v":""}]
[null,null,null,"",null,"",null,null,null,null,{"$f":"IF(OR(D608=\"\",D608=\"Exemption\"),\"\",IF(#REF!=\"Consult AE\",\"Consult AE\",#REF!))","v":""},null,null,{"$f":"IF($K608=\"\",\"\",IF(#REF!<>\"\",#REF!,ROUND((($K608-1)*SUM(#REF!,#REF!,#REF!,#REF!,M608)),2)))","v":""}]
[null,null,null,"",null,"",null,null,null,null,{"$f":"IF(OR(D609=\"\",D609=\"Exemption\"),\"\",IF(#REF!=\"Consult AE\",\"Consult AE\",#REF!))","v":""},null,null,{"$f":"IF($K609=\"\",\"\",IF(#REF!<>\"\",#REF!,ROUND((($K609-1)*SUM(#REF!,#REF!,#REF!,#REF!,M609)),2)))","v":""}]
[null,null,null,"",null,"",null,null,null,null,{"$f":"IF(OR(D610=\"\",D610=\"Exemption\"),\"\",IF(#REF!=\"Consult AE\",\"Consult AE\",#REF!))","v":""},null,null,{"$f":"IF($K610=\"\",\"\",IF(#REF!<>\"\",#REF!,ROUND((($K610-1)*SUM(#REF!,#REF!,#REF!,#REF!,M610)),2)))","v":""}]
[null,null,null,"",null,"",null,null,null,null,{"$f":"IF(OR(D611=\"\",D611=\"Exemption\"),\"\",IF(#REF!=\"Consult AE\",\"Consult AE\",#REF!))","v":""},null,null,{"$f":"IF($K611=\"\",\"\",IF(#REF!<>\"\",#REF!,ROUND((($K611-1)*SUM(#REF!,#REF!,#REF!,#REF!,M611)),2)))","v":""}]
[null,null,null,"",null,"",null,null,null,null,{"$f":"IF(OR(D612=\"\",D612=\"Exemption\"),\"\",IF(#REF!=\"Consult AE\",\"Consult AE\",#REF!))","v":""},null,null,{"$f":"IF($K612=\"\",\"\",IF(#REF!<>\"\",#REF!,ROUND((($K612-1)*SUM(#REF!,#REF!,#REF!,#REF!,M612)),2)))","v":""}]
[null,null,null,"",null,"",null,null,null,null,{"$f":"IF(OR(D613=\"\",D613=\"Exemption\"),\"\",IF(#REF!=\"Consult AE\",\"Consult AE\",#REF!))","v":""},null,null,{"$f":"IF($K613=\"\",\"\",IF(#REF!<>\"\",#REF!,ROUND((($K613-1)*SUM(#REF!,#REF!,#REF!,#REF!,M613)),2)))","v":""}]
[null,null,null,"",null,"",null,null,null,null,{"$f":"IF(OR(D614=\"\",D614=\"Exemption\"),\"\",IF(#REF!=\"Consult AE\",\"Consult AE\",#REF!))","v":""},null,null,{"$f":"IF($K614=\"\",\"\",IF(#REF!<>\"\",#REF!,ROUND((($K614-1)*SUM(#REF!,#REF!,#REF!,#REF!,M614)),2)))","v":""}]
[null,null,null,"",null,"",null,null,null,null,{"$f":"IF(OR(D615=\"\",D615=\"Exemption\"),\"\",IF(#REF!=\"Consult AE\",\"Consult AE\",#REF!))","v":""},null,null,{"$f":"IF($K615=\"\",\"\",IF(#REF!<>\"\",#REF!,ROUND((($K615-1)*SUM(#REF!,#REF!,#REF!,#REF!,M615)),2)))","v":""}]
[null,null,null,"",null,"",null,null,null,null,{"$f":"IF(OR(D616=\"\",D616=\"Exemption\"),\"\",IF(#REF!=\"Consult AE\",\"Consult AE\",#REF!))","v":""},null,null,{"$f":"IF($K616=\"\",\"\",IF(#REF!<>\"\",#REF!,ROUND((($K616-1)*SUM(#REF!,#REF!,#REF!,#REF!,M616)),2)))","v":""}]
[null,null,null,"",null,"",null,null,null,null,{"$f":"IF(OR(D617=\"\",D617=\"Exemption\"),\"\",IF(#REF!=\"Consult AE\",\"Consult AE\",#REF!))","v":""},null,null,{"$f":"IF($K617=\"\",\"\",IF(#REF!<>\"\",#REF!,ROUND((($K617-1)*SUM(#REF!,#REF!,#REF!,#REF!,M617)),2)))","v":""}]
[null,null,null,"",null,"",null,null,null,null,{"$f":"IF(OR(D618=\"\",D618=\"Exemption\"),\"\",IF(#REF!=\"Consult AE\",\"Consult AE\",#REF!))","v":""},null,null,{"$f":"IF($K618=\"\",\"\",IF(#REF!<>\"\",#REF!,ROUND((($K618-1)*SUM(#REF!,#REF!,#REF!,#REF!,M618)),2)))","v":""}]
[null,null,null,"",null,"",null,null,null,null,{"$f":"IF(OR(D619=\"\",D619=\"Exemption\"),\"\",IF(#REF!=\"Consult AE\",\"Consult AE\",#REF!))","v":""},null,null,{"$f":"IF($K619=\"\",\"\",IF(#REF!<>\"\",#REF!,ROUND((($K619-1)*SUM(#REF!,#REF!,#REF!,#REF!,M619)),2)))","v":""}]
[null,null,null,"",null,"",null,null,null,null,{"$f":"IF(OR(D620=\"\",D620=\"Exemption\"),\"\",IF(#REF!=\"Consult AE\",\"Consult AE\",#REF!))","v":""},null,null,{"$f":"IF($K620=\"\",\"\",IF(#REF!<>\"\",#REF!,ROUND((($K620-1)*SUM(#REF!,#REF!,#REF!,#REF!,M620)),2)))","v":""}]
[null,null,null,"",null,"",null,null,null,null,{"$f":"IF(OR(D621=\"\",D621=\"Exemption\"),\"\",IF(#REF!=\"Consult AE\",\"Consult AE\",#REF!))","v":""},null,null,{"$f":"IF($K621=\"\",\"\",IF(#REF!<>\"\",#REF!,ROUND((($K621-1)*SUM(#REF!,#REF!,#REF!,#REF!,M621)),2)))","v":""}]
[null,null,null,"",null,"",null,null,null,null,{"$f":"IF(OR(D622=\"\",D622=\"Exemption\"),\"\",IF(#REF!=\"Consult AE\",\"Consult AE\",#REF!))","v":""},null,null,{"$f":"IF($K622=\"\",\"\",IF(#REF!<>\"\",#REF!,ROUND((($K622-1)*SUM(#REF!,#REF!,#REF!,#REF!,M622)),2)))","v":""}]
[null,null,null,"",null,"",null,null,null,null,{"$f":"IF(OR(D623=\"\",D623=\"Exemption\"),\"\",IF(#REF!=\"Consult AE\",\"Consult AE\",#REF!))","v":""},null,null,{"$f":"IF($K623=\"\",\"\",IF(#REF!<>\"\",#REF!,ROUND((($K623-1)*SUM(#REF!,#REF!,#REF!,#REF!,M623)),2)))","v":""}]
[null,null,null,"",null,"",null,null,null,null,{"$f":"IF(OR(D624=\"\",D624=\"Exemption\"),\"\",IF(#REF!=\"Consult AE\",\"Consult AE\",#REF!))","v":""},null,null,{"$f":"IF($K624=\"\",\"\",IF(#REF!<>\"\",#REF!,ROUND((($K624-1)*SUM(#REF!,#REF!,#REF!,#REF!,M624)),2)))","v":""}]
[null,null,null,"",null,"",null,null,null,null,{"$f":"IF(OR(D625=\"\",D625=\"Exemption\"),\"\",IF(#REF!=\"Consult AE\",\"Consult AE\",#REF!))","v":""},null,null,{"$f":"IF($K625=\"\",\"\",IF(#REF!<>\"\",#REF!,ROUND((($K625-1)*SUM(#REF!,#REF!,#REF!,#REF!,M625)),2)))","v":""}]
[null,null,null,"",null,"",null,null,null,null,{"$f":"IF(OR(D626=\"\",D626=\"Exemption\"),\"\",IF(#REF!=\"Consult AE\",\"Consult AE\",#REF!))","v":""},null,null,{"$f":"IF($K626=\"\",\"\",IF(#REF!<>\"\",#REF!,ROUND((($K626-1)*SUM(#REF!,#REF!,#REF!,#REF!,M626)),2)))","v":""}]
[null,null,null,"",null,"",null,null,null,null,{"$f":"IF(OR(D627=\"\",D627=\"Exemption\"),\"\",IF(#REF!=\"Consult AE\",\"Consult AE\",#REF!))","v":""},null,null,{"$f":"IF($K627=\"\",\"\",IF(#REF!<>\"\",#REF!,ROUND((($K627-1)*SUM(#REF!,#REF!,#REF!,#REF!,M627)),2)))","v":""}]
[null,null,null,"",null,"",null,null,null,null,{"$f":"IF(OR(D628=\"\",D628=\"Exemption\"),\"\",IF(#REF!=\"Consult AE\",\"Consult AE\",#REF!))","v":""},null,null,{"$f":"IF($K628=\"\",\"\",IF(#REF!<>\"\",#REF!,ROUND((($K628-1)*SUM(#REF!,#REF!,#REF!,#REF!,M628)),2)))","v":""}]
[null,null,null,"",null,"",null,null,null,null,{"$f":"IF(OR(D629=\"\",D629=\"Exemption\"),\"\",IF(#REF!=\"Consult AE\",\"Consult AE\",#REF!))","v":""},null,null,{"$f":"IF($K629=\"\",\"\",IF(#REF!<>\"\",#REF!,ROUND((($K629-1)*SUM(#REF!,#REF!,#REF!,#REF!,M629)),2)))","v":""}]
[null,null,null,"",null,"",null,null,null,null,{"$f":"IF(OR(D630=\"\",D630=\"Exemption\"),\"\",IF(#REF!=\"Consult AE\",\"Consult AE\",#REF!))","v":""},null,null,{"$f":"IF($K630=\"\",\"\",IF(#REF!<>\"\",#REF!,ROUND((($K630-1)*SUM(#REF!,#REF!,#REF!,#REF!,M630)),2)))","v":""}]
[null,null,null,"",null,"",null,null,null,null,{"$f":"IF(OR(D631=\"\",D631=\"Exemption\"),\"\",IF(#REF!=\"Consult AE\",\"Consult AE\",#REF!))","v":""},null,null,{"$f":"IF($K631=\"\",\"\",IF(#REF!<>\"\",#REF!,ROUND((($K631-1)*SUM(#REF!,#REF!,#REF!,#REF!,M631)),2)))","v":""}]
[null,null,null,"",null,"",null,null,null,null,{"$f":"IF(OR(D632=\"\",D632=\"Exemption\"),\"\",IF(#REF!=\"Consult AE\",\"Consult AE\",#REF!))","v":""},null,null,{"$f":"IF($K632=\"\",\"\",IF(#REF!<>\"\",#REF!,ROUND((($K632-1)*SUM(#REF!,#REF!,#REF!,#REF!,M632)),2)))","v":""}]
[null,null,null,"",null,"",null,null,null,null,{"$f":"IF(OR(D633=\"\",D633=\"Exemption\"),\"\",IF(#REF!=\"Consult AE\",\"Consult AE\",#REF!))","v":""},null,null,{"$f":"IF($K633=\"\",\"\",IF(#REF!<>\"\",#REF!,ROUND((($K633-1)*SUM(#REF!,#REF!,#REF!,#REF!,M633)),2)))","v":""}]
[null,null,null,"",null,"",null,null,null,null,{"$f":"IF(OR(D634=\"\",D634=\"Exemption\"),\"\",IF(#REF!=\"Consult AE\",\"Consult AE\",#REF!))","v":""},null,null,{"$f":"IF($K634=\"\",\"\",IF(#REF!<>\"\",#REF!,ROUND((($K634-1)*SUM(#REF!,#REF!,#REF!,#REF!,M634)),2)))","v":""}]
[null,null,null,"",null,"",null,null,null,null,{"$f":"IF(OR(D635=\"\",D635=\"Exemption\"),\"\",IF(#REF!=\"Consult AE\",\"Consult AE\",#REF!))","v":""},null,null,{"$f":"IF($K635=\"\",\"\",IF(#REF!<>\"\",#REF!,ROUND((($K635-1)*SUM(#REF!,#REF!,#REF!,#REF!,M635)),2)))","v":""}]
[null,null,null,"",null,"",null,null,null,null,{"$f":"IF(OR(D636=\"\",D636=\"Exemption\"),\"\",IF(#REF!=\"Consult AE\",\"Consult AE\",#REF!))","v":""},null,null,{"$f":"IF($K636=\"\",\"\",IF(#REF!<>\"\",#REF!,ROUND((($K636-1)*SUM(#REF!,#REF!,#REF!,#REF!,M636)),2)))","v":""}]
[null,null,null,"",null,"",null,null,null,null,{"$f":"IF(OR(D637=\"\",D637=\"Exemption\"),\"\",IF(#REF!=\"Consult AE\",\"Consult AE\",#REF!))","v":""},null,null,{"$f":"IF($K637=\"\",\"\",IF(#REF!<>\"\",#REF!,ROUND((($K637-1)*SUM(#REF!,#REF!,#REF!,#REF!,M637)),2)))","v":""}]
[null,null,null,"",null,"",null,null,null,null,{"$f":"IF(OR(D638=\"\",D638=\"Exemption\"),\"\",IF(#REF!=\"Consult AE\",\"Consult AE\",#REF!))","v":""},null,null,{"$f":"IF($K638=\"\",\"\",IF(#REF!<>\"\",#REF!,ROUND((($K638-1)*SUM(#REF!,#REF!,#REF!,#REF!,M638)),2)))","v":""}]
[null,null,null,"",null,"",null,null,null,null,{"$f":"IF(OR(D639=\"\",D639=\"Exemption\"),\"\",IF(#REF!=\"Consult AE\",\"Consult AE\",#REF!))","v":""},null,null,{"$f":"IF($K639=\"\",\"\",IF(#REF!<>\"\",#REF!,ROUND((($K639-1)*SUM(#REF!,#REF!,#REF!,#REF!,M639)),2)))","v":""}]
[null,null,null,"",null,"",null,null,null,null,{"$f":"IF(OR(D640=\"\",D640=\"Exemption\"),\"\",IF(#REF!=\"Consult AE\",\"Consult AE\",#REF!))","v":""},null,null,{"$f":"IF($K640=\"\",\"\",IF(#REF!<>\"\",#REF!,ROUND((($K640-1)*SUM(#REF!,#REF!,#REF!,#REF!,M640)),2)))","v":""}]
[null,null,null,"",null,"",null,null,null,null,{"$f":"IF(OR(D641=\"\",D641=\"Exemption\"),\"\",IF(#REF!=\"Consult AE\",\"Consult AE\",#REF!))","v":""},null,null,{"$f":"IF($K641=\"\",\"\",IF(#REF!<>\"\",#REF!,ROUND((($K641-1)*SUM(#REF!,#REF!,#REF!,#REF!,M641)),2)))","v":""}]
[null,null,null,"",null,"",null,null,null,null,{"$f":"IF(OR(D642=\"\",D642=\"Exemption\"),\"\",IF(#REF!=\"Consult AE\",\"Consult AE\",#REF!))","v":""},null,null,{"$f":"IF($K642=\"\",\"\",IF(#REF!<>\"\",#REF!,ROUND((($K642-1)*SUM(#REF!,#REF!,#REF!,#REF!,M642)),2)))","v":""}]
[null,null,null,"",null,"",null,null,null,null,{"$f":"IF(OR(D643=\"\",D643=\"Exemption\"),\"\",IF(#REF!=\"Consult AE\",\"Consult AE\",#REF!))","v":""},null,null,{"$f":"IF($K643=\"\",\"\",IF(#REF!<>\"\",#REF!,ROUND((($K643-1)*SUM(#REF!,#REF!,#REF!,#REF!,M643)),2)))","v":""}]
[null,null,null,"",null,"",null,null,null,null,{"$f":"IF(OR(D644=\"\",D644=\"Exemption\"),\"\",IF(#REF!=\"Consult AE\",\"Consult AE\",#REF!))","v":""},null,null,{"$f":"IF($K644=\"\",\"\",IF(#REF!<>\"\",#REF!,ROUND((($K644-1)*SUM(#REF!,#REF!,#REF!,#REF!,M644)),2)))","v":""}]
[null,null,null,"",null,"",null,null,null,null,{"$f":"IF(OR(D645=\"\",D645=\"Exemption\"),\"\",IF(#REF!=\"Consult AE\",\"Consult AE\",#REF!))","v":""},null,null,{"$f":"IF($K645=\"\",\"\",IF(#REF!<>\"\",#REF!,ROUND((($K645-1)*SUM(#REF!,#REF!,#REF!,#REF!,M645)),2)))","v":""}]
[null,null,null,"",null,"",null,null,null,null,{"$f":"IF(OR(D646=\"\",D646=\"Exemption\"),\"\",IF(#REF!=\"Consult AE\",\"Consult AE\",#REF!))","v":""},null,null,{"$f":"IF($K646=\"\",\"\",IF(#REF!<>\"\",#REF!,ROUND((($K646-1)*SUM(#REF!,#REF!,#REF!,#REF!,M646)),2)))","v":""}]
[null,null,null,"",null,"",null,null,null,null,{"$f":"IF(OR(D647=\"\",D647=\"Exemption\"),\"\",IF(#REF!=\"Consult AE\",\"Consult AE\",#REF!))","v":""},null,null,{"$f":"IF($K647=\"\",\"\",IF(#REF!<>\"\",#REF!,ROUND((($K647-1)*SUM(#REF!,#REF!,#REF!,#REF!,M647)),2)))","v":""}]
[null,null,null,"",null,"",null,null,null,null,{"$f":"IF(OR(D648=\"\",D648=\"Exemption\"),\"\",IF(#REF!=\"Consult AE\",\"Consult AE\",#REF!))","v":""},null,null,{"$f":"IF($K648=\"\",\"\",IF(#REF!<>\"\",#REF!,ROUND((($K648-1)*SUM(#REF!,#REF!,#REF!,#REF!,M648)),2)))","v":""}]
[null,null,null,"",null,"",null,null,null,null,{"$f":"IF(OR(D649=\"\",D649=\"Exemption\"),\"\",IF(#REF!=\"Consult AE\",\"Consult AE\",#REF!))","v":""},null,null,{"$f":"IF($K649=\"\",\"\",IF(#REF!<>\"\",#REF!,ROUND((($K649-1)*SUM(#REF!,#REF!,#REF!,#REF!,M649)),2)))","v":""}]
[null,null,null,"",null,"",null,null,null,null,{"$f":"IF(OR(D650=\"\",D650=\"Exemption\"),\"\",IF(#REF!=\"Consult AE\",\"Consult AE\",#REF!))","v":""},null,null,{"$f":"IF($K650=\"\",\"\",IF(#REF!<>\"\",#REF!,ROUND((($K650-1)*SUM(#REF!,#REF!,#REF!,#REF!,M650)),2)))","v":""}]
[null,null,null,"",null,"",null,null,null,null,{"$f":"IF(OR(D651=\"\",D651=\"Exemption\"),\"\",IF(#REF!=\"Consult AE\",\"Consult AE\",#REF!))","v":""},null,null,{"$f":"IF($K651=\"\",\"\",IF(#REF!<>\"\",#REF!,ROUND((($K651-1)*SUM(#REF!,#REF!,#REF!,#REF!,M651)),2)))","v":""}]
[null,null,null,"",null,"",null,null,null,null,{"$f":"IF(OR(D652=\"\",D652=\"Exemption\"),\"\",IF(#REF!=\"Consult AE\",\"Consult AE\",#REF!))","v":""},null,null,{"$f":"IF($K652=\"\",\"\",IF(#REF!<>\"\",#REF!,ROUND((($K652-1)*SUM(#REF!,#REF!,#REF!,#REF!,M652)),2)))","v":""}]
[null,null,null,"",null,"",null,null,null,null,{"$f":"IF(OR(D653=\"\",D653=\"Exemption\"),\"\",IF(#REF!=\"Consult AE\",\"Consult AE\",#REF!))","v":""},null,null,{"$f":"IF($K653=\"\",\"\",IF(#REF!<>\"\",#REF!,ROUND((($K653-1)*SUM(#REF!,#REF!,#REF!,#REF!,M653)),2)))","v":""}]
[null,null,null,"",null,"",null,null,null,null,{"$f":"IF(OR(D654=\"\",D654=\"Exemption\"),\"\",IF(#REF!=\"Consult AE\",\"Consult AE\",#REF!))","v":""},null,null,{"$f":"IF($K654=\"\",\"\",IF(#REF!<>\"\",#REF!,ROUND((($K654-1)*SUM(#REF!,#REF!,#REF!,#REF!,M654)),2)))","v":""}]
[null,null,null,"",null,{"$f":"IF(C655=\"\",\"\",IF($F$7<$F$6,D655-C655,D655+C655))","v":""},null,null,null,null,{"$f":"IF(OR(D655=\"\",D655=\"Exemption\"),\"\",IF(#REF!=\"Consult AE\",\"Consult AE\",#REF!))","v":""},null,null,{"$f":"IF($K655=\"\",\"\",IF(#REF!<>\"\",#REF!,ROUND((($K655-1)*SUM(#REF!,#REF!,#REF!,#REF!,M655)),2)))","v":""}]
[null,null,null,{"$f":"+IF(A656=\"\",\"\",IF($F$7<$F$6,D655-(A656-A655),D655+(A656-A655)))","v":""},null,"",null,null,null,null,{"$f":"IF(OR(D656=\"\",D656=\"Exemption\"),\"\",IF(#REF!=\"Consult AE\",\"Consult AE\",#REF!))","v":""},null,null,{"$f":"IF($K656=\"\",\"\",IF(#REF!<>\"\",#REF!,ROUND((($K656-1)*SUM(#REF!,#REF!,#REF!,#REF!,M656)),2)))","v":""}]
[null,null,null,"",null,"",null,null,null,null,{"$f":"IF(OR(D657=\"\",D657=\"Exemption\"),\"\",IF(#REF!=\"Consult AE\",\"Consult AE\",#REF!))","v":""},null,null,{"$f":"IF($K657=\"\",\"\",IF(#REF!<>\"\",#REF!,ROUND((($K657-1)*SUM(#REF!,#REF!,#REF!,#REF!,M657)),2)))","v":""}]
[null,null,null,"",null,"",null,null,null,null,{"$f":"IF(OR(D658=\"\",D658=\"Exemption\"),\"\",IF(#REF!=\"Consult AE\",\"Consult AE\",#REF!))","v":""},null,null,{"$f":"IF($K658=\"\",\"\",IF(#REF!<>\"\",#REF!,ROUND((($K658-1)*SUM(#REF!,#REF!,#REF!,#REF!,M658)),2)))","v":""}]
[null,null,null,"",null,"",null,null,null,null,{"$f":"IF(OR(D659=\"\",D659=\"Exemption\"),\"\",IF(#REF!=\"Consult AE\",\"Consult AE\",#REF!))","v":""},null,null,{"$f":"IF($K659=\"\",\"\",IF(#REF!<>\"\",#REF!,ROUND((($K659-1)*SUM(#REF!,#REF!,#REF!,#REF!,M659)),2)))","v":""}]
[null,null,null,"",null,"",null,null,null,null,{"$f":"IF(OR(D660=\"\",D660=\"Exemption\"),\"\",IF(#REF!=\"Consult AE\",\"Consult AE\",#REF!))","v":""},null,null,{"$f":"IF($K660=\"\",\"\",IF(#REF!<>\"\",#REF!,ROUND((($K660-1)*SUM(#REF!,#REF!,#REF!,#REF!,M660)),2)))","v":""}]
[null,null,null,"",null,"",null,null,null,null,{"$f":"IF(OR(D661=\"\",D661=\"Exemption\"),\"\",IF(#REF!=\"Consult AE\",\"Consult AE\",#REF!))","v":""},null,null,{"$f":"IF($K661=\"\",\"\",IF(#REF!<>\"\",#REF!,ROUND((($K661-1)*SUM(#REF!,#REF!,#REF!,#REF!,M661)),2)))","v":""}]
[null,null,null,"",null,"",null,null,null,null,{"$f":"IF(OR(D662=\"\",D662=\"Exemption\"),\"\",IF(#REF!=\"Consult AE\",\"Consult AE\",#REF!))","v":""},null,null,{"$f":"IF($K662=\"\",\"\",IF(#REF!<>\"\",#REF!,ROUND((($K662-1)*SUM(#REF!,#REF!,#REF!,#REF!,M662)),2)))","v":""}]
[null,null,null,"",null,"",null,null,null,null,{"$f":"IF(OR(D663=\"\",D663=\"Exemption\"),\"\",IF(#REF!=\"Consult AE\",\"Consult AE\",#REF!))","v":""},null,null,{"$f":"IF($K663=\"\",\"\",IF(#REF!<>\"\",#REF!,ROUND((($K663-1)*SUM(#REF!,#REF!,#REF!,#REF!,M663)),2)))","v":""}]
[null,null,null,"",null,"",null,null,null,null,{"$f":"IF(OR(D664=\"\",D664=\"Exemption\"),\"\",IF(#REF!=\"Consult AE\",\"Consult AE\",#REF!))","v":""},null,null,{"$f":"IF($K664=\"\",\"\",IF(#REF!<>\"\",#REF!,ROUND((($K664-1)*SUM(#REF!,#REF!,#REF!,#REF!,M664)),2)))","v":""}]
[null,null,null,"",null,"",null,null,null,null,{"$f":"IF(OR(D665=\"\",D665=\"Exemption\"),\"\",IF(#REF!=\"Consult AE\",\"Consult AE\",#REF!))","v":""},null,null,{"$f":"IF($K665=\"\",\"\",IF(#REF!<>\"\",#REF!,ROUND((($K665-1)*SUM(#REF!,#REF!,#REF!,#REF!,M665)),2)))","v":""}]
[null,null,null,"",null,"",null,null,null,null,{"$f":"IF(OR(D666=\"\",D666=\"Exemption\"),\"\",IF(#REF!=\"Consult AE\",\"Consult AE\",#REF!))","v":""},null,null,{"$f":"IF($K666=\"\",\"\",IF(#REF!<>\"\",#REF!,ROUND((($K666-1)*SUM(#REF!,#REF!,#REF!,#REF!,M666)),2)))","v":""}]
[null,null,null,"",null,"",null,null,null,null,{"$f":"IF(OR(D667=\"\",D667=\"Exemption\"),\"\",IF(#REF!=\"Consult AE\",\"Consult AE\",#REF!))","v":""},null,null,{"$f":"IF($K667=\"\",\"\",IF(#REF!<>\"\",#REF!,ROUND((($K667-1)*SUM(#REF!,#REF!,#REF!,#REF!,M667)),2)))","v":""}]
[null,null,null,"",null,"",null,null,null,null,{"$f":"IF(OR(D668=\"\",D668=\"Exemption\"),\"\",IF(#REF!=\"Consult AE\",\"Consult AE\",#REF!))","v":""},null,null,{"$f":"IF($K668=\"\",\"\",IF(#REF!<>\"\",#REF!,ROUND((($K668-1)*SUM(#REF!,#REF!,#REF!,#REF!,M668)),2)))","v":""}]
[null,null,null,"",null,"",null,null,null,null,{"$f":"IF(OR(D669=\"\",D669=\"Exemption\"),\"\",IF(#REF!=\"Consult AE\",\"Consult AE\",#REF!))","v":""},null,null,{"$f":"IF($K669=\"\",\"\",IF(#REF!<>\"\",#REF!,ROUND((($K669-1)*SUM(#REF!,#REF!,#REF!,#REF!,M669)),2)))","v":""}]
[null,null,null,"",null,"",null,null,null,null,{"$f":"IF(OR(D670=\"\",D670=\"Exemption\"),\"\",IF(#REF!=\"Consult AE\",\"Consult AE\",#REF!))","v":""},null,null,{"$f":"IF($K670=\"\",\"\",IF(#REF!<>\"\",#REF!,ROUND((($K670-1)*SUM(#REF!,#REF!,#REF!,#REF!,M670)),2)))","v":""}]
[null,null,null,"",null,"",null,null,null,null,{"$f":"IF(OR(D671=\"\",D671=\"Exemption\"),\"\",IF(#REF!=\"Consult AE\",\"Consult AE\",#REF!))","v":""},null,null,{"$f":"IF($K671=\"\",\"\",IF(#REF!<>\"\",#REF!,ROUND((($K671-1)*SUM(#REF!,#REF!,#REF!,#REF!,M671)),2)))","v":""}]
[null,null,null,"",null,"",null,null,null,null,{"$f":"IF(OR(D672=\"\",D672=\"Exemption\"),\"\",IF(#REF!=\"Consult AE\",\"Consult AE\",#REF!))","v":""},null,null,{"$f":"IF($K672=\"\",\"\",IF(#REF!<>\"\",#REF!,ROUND((($K672-1)*SUM(#REF!,#REF!,#REF!,#REF!,M672)),2)))","v":""}]
[null,null,null,"",null,"",null,null,null,null,{"$f":"IF(OR(D673=\"\",D673=\"Exemption\"),\"\",IF(#REF!=\"Consult AE\",\"Consult AE\",#REF!))","v":""},null,null,{"$f":"IF($K673=\"\",\"\",IF(#REF!<>\"\",#REF!,ROUND((($K673-1)*SUM(#REF!,#REF!,#REF!,#REF!,M673)),2)))","v":""}]
[null,null,null,"",null,"",null,null,null,null,{"$f":"IF(OR(D674=\"\",D674=\"Exemption\"),\"\",IF(#REF!=\"Consult AE\",\"Consult AE\",#REF!))","v":""},null,null,{"$f":"IF($K674=\"\",\"\",IF(#REF!<>\"\",#REF!,ROUND((($K674-1)*SUM(#REF!,#REF!,#REF!,#REF!,M674)),2)))","v":""}]
[null,null,null,"",null,"",null,null,null,null,{"$f":"IF(OR(D675=\"\",D675=\"Exemption\"),\"\",IF(#REF!=\"Consult AE\",\"Consult AE\",#REF!))","v":""},null,null,{"$f":"IF($K675=\"\",\"\",IF(#REF!<>\"\",#REF!,ROUND((($K675-1)*SUM(#REF!,#REF!,#REF!,#REF!,M675)),2)))","v":""}]
[null,null,null,"",null,"",null,null,null,null,{"$f":"IF(OR(D676=\"\",D676=\"Exemption\"),\"\",IF(#REF!=\"Consult AE\",\"Consult AE\",#REF!))","v":""},null,null,{"$f":"IF($K676=\"\",\"\",IF(#REF!<>\"\",#REF!,ROUND((($K676-1)*SUM(#REF!,#REF!,#REF!,#REF!,M676)),2)))","v":""}]
[null,null,null,"",null,"",null,null,null,null,{"$f":"IF(OR(D677=\"\",D677=\"Exemption\"),\"\",IF(#REF!=\"Consult AE\",\"Consult AE\",#REF!))","v":""},null,null,{"$f":"IF($K677=\"\",\"\",IF(#REF!<>\"\",#REF!,ROUND((($K677-1)*SUM(#REF!,#REF!,#REF!,#REF!,M677)),2)))","v":""}]
[null,null,null,"",null,"",null,null,null,null,{"$f":"IF(OR(D678=\"\",D678=\"Exemption\"),\"\",IF(#REF!=\"Consult AE\",\"Consult AE\",#REF!))","v":""},null,null,{"$f":"IF($K678=\"\",\"\",IF(#REF!<>\"\",#REF!,ROUND((($K678-1)*SUM(#REF!,#REF!,#REF!,#REF!,M678)),2)))","v":""}]
[null,null,null,"",null,"",null,null,null,null,{"$f":"IF(OR(D679=\"\",D679=\"Exemption\"),\"\",IF(#REF!=\"Consult AE\",\"Consult AE\",#REF!))","v":""},null,null,{"$f":"IF($K679=\"\",\"\",IF(#REF!<>\"\",#REF!,ROUND((($K679-1)*SUM(#REF!,#REF!,#REF!,#REF!,M679)),2)))","v":""}]
[null,null,null,"",null,"",null,null,null,null,{"$f":"IF(OR(D680=\"\",D680=\"Exemption\"),\"\",IF(#REF!=\"Consult AE\",\"Consult AE\",#REF!))","v":""},null,null,{"$f":"IF($K680=\"\",\"\",IF(#REF!<>\"\",#REF!,ROUND((($K680-1)*SUM(#REF!,#REF!,#REF!,#REF!,M680)),2)))","v":""}]
[null,null,null,"",null,"",null,null,null,null,{"$f":"IF(OR(D681=\"\",D681=\"Exemption\"),\"\",IF(#REF!=\"Consult AE\",\"Consult AE\",#REF!))","v":""},null,null,{"$f":"IF($K681=\"\",\"\",IF(#REF!<>\"\",#REF!,ROUND((($K681-1)*SUM(#REF!,#REF!,#REF!,#REF!,M681)),2)))","v":""}]
[null,null,null,"",null,"",null,null,null,null,{"$f":"IF(OR(D682=\"\",D682=\"Exemption\"),\"\",IF(#REF!=\"Consult AE\",\"Consult AE\",#REF!))","v":""},null,null,{"$f":"IF($K682=\"\",\"\",IF(#REF!<>\"\",#REF!,ROUND((($K682-1)*SUM(#REF!,#REF!,#REF!,#REF!,M682)),2)))","v":""}]
[null,null,null,"",null,"",null,null,null,null,{"$f":"IF(OR(D683=\"\",D683=\"Exemption\"),\"\",IF(#REF!=\"Consult AE\",\"Consult AE\",#REF!))","v":""},null,null,{"$f":"IF($K683=\"\",\"\",IF(#REF!<>\"\",#REF!,ROUND((($K683-1)*SUM(#REF!,#REF!,#REF!,#REF!,M683)),2)))","v":""}]
[null,null,null,"",null,"",null,null,null,null,{"$f":"IF(OR(D684=\"\",D684=\"Exemption\"),\"\",IF(#REF!=\"Consult AE\",\"Consult AE\",#REF!))","v":""},null,null,{"$f":"IF($K684=\"\",\"\",IF(#REF!<>\"\",#REF!,ROUND((($K684-1)*SUM(#REF!,#REF!,#REF!,#REF!,M684)),2)))","v":""}]
[null,null,null,"",null,"",null,null,null,null,{"$f":"IF(OR(D685=\"\",D685=\"Exemption\"),\"\",IF(#REF!=\"Consult AE\",\"Consult AE\",#REF!))","v":""},null,null,{"$f":"IF($K685=\"\",\"\",IF(#REF!<>\"\",#REF!,ROUND((($K685-1)*SUM(#REF!,#REF!,#REF!,#REF!,M685)),2)))","v":""}]
[null,null,null,"",null,"",null,null,null,null,{"$f":"IF(OR(D686=\"\",D686=\"Exemption\"),\"\",IF(#REF!=\"Consult AE\",\"Consult AE\",#REF!))","v":""},null,null,{"$f":"IF($K686=\"\",\"\",IF(#REF!<>\"\",#REF!,ROUND((($K686-1)*SUM(#REF!,#REF!,#REF!,#REF!,M686)),2)))","v":""}]
[null,null,null,"",null,"",null,null,null,null,{"$f":"IF(OR(D687=\"\",D687=\"Exemption\"),\"\",IF(#REF!=\"Consult AE\",\"Consult AE\",#REF!))","v":""},null,null,{"$f":"IF($K687=\"\",\"\",IF(#REF!<>\"\",#REF!,ROUND((($K687-1)*SUM(#REF!,#REF!,#REF!,#REF!,M687)),2)))","v":""}]
[null,null,null,"",null,"",null,null,null,null,{"$f":"IF(OR(D688=\"\",D688=\"Exemption\"),\"\",IF(#REF!=\"Consult AE\",\"Consult AE\",#REF!))","v":""},null,null,{"$f":"IF($K688=\"\",\"\",IF(#REF!<>\"\",#REF!,ROUND((($K688-1)*SUM(#REF!,#REF!,#REF!,#REF!,M688)),2)))","v":""}]
[null,null,null,"",null,"",null,null,null,null,{"$f":"IF(OR(D689=\"\",D689=\"Exemption\"),\"\",IF(#REF!=\"Consult AE\",\"Consult AE\",#REF!))","v":""},null,null,{"$f":"IF($K689=\"\",\"\",IF(#REF!<>\"\",#REF!,ROUND((($K689-1)*SUM(#REF!,#REF!,#REF!,#REF!,M689)),2)))","v":""}]
[null,null,null,"",null,"",null,null,null,null,{"$f":"IF(OR(D690=\"\",D690=\"Exemption\"),\"\",IF(#REF!=\"Consult AE\",\"Consult AE\",#REF!))","v":""},null,null,{"$f":"IF($K690=\"\",\"\",IF(#REF!<>\"\",#REF!,ROUND((($K690-1)*SUM(#REF!,#REF!,#REF!,#REF!,M690)),2)))","v":""}]
[null,null,null,"",null,"",null,null,null,null,{"$f":"IF(OR(D691=\"\",D691=\"Exemption\"),\"\",IF(#REF!=\"Consult AE\",\"Consult AE\",#REF!))","v":""},null,null,{"$f":"IF($K691=\"\",\"\",IF(#REF!<>\"\",#REF!,ROUND((($K691-1)*SUM(#REF!,#REF!,#REF!,#REF!,M691)),2)))","v":""}]
[null,null,null,"",null,"",null,null,null,null,{"$f":"IF(OR(D692=\"\",D692=\"Exemption\"),\"\",IF(#REF!=\"Consult AE\",\"Consult AE\",#REF!))","v":""},null,null,{"$f":"IF($K692=\"\",\"\",IF(#REF!<>\"\",#REF!,ROUND((($K692-1)*SUM(#REF!,#REF!,#REF!,#REF!,M692)),2)))","v":""}]
[null,null,null,"",null,"",null,null,null,null,{"$f":"IF(OR(D693=\"\",D693=\"Exemption\"),\"\",IF(#REF!=\"Consult AE\",\"Consult AE\",#REF!))","v":""},null,null,{"$f":"IF($K693=\"\",\"\",IF(#REF!<>\"\",#REF!,ROUND((($K693-1)*SUM(#REF!,#REF!,#REF!,#REF!,M693)),2)))","v":""}]
[null,null,null,"",null,"",null,null,null,null,{"$f":"IF(OR(D694=\"\",D694=\"Exemption\"),\"\",IF(#REF!=\"Consult AE\",\"Consult AE\",#REF!))","v":""},null,null,{"$f":"IF($K694=\"\",\"\",IF(#REF!<>\"\",#REF!,ROUND((($K694-1)*SUM(#REF!,#REF!,#REF!,#REF!,M694)),2)))","v":""}]
[null,null,null,"",null,"",null,null,null,null,{"$f":"IF(OR(D695=\"\",D695=\"Exemption\"),\"\",IF(#REF!=\"Consult AE\",\"Consult AE\",#REF!))","v":""},null,null,{"$f":"IF($K695=\"\",\"\",IF(#REF!<>\"\",#REF!,ROUND((($K695-1)*SUM(#REF!,#REF!,#REF!,#REF!,M695)),2)))","v":""}]
[null,null,null,"",null,"",null,null,null,null,{"$f":"IF(OR(D696=\"\",D696=\"Exemption\"),\"\",IF(#REF!=\"Consult AE\",\"Consult AE\",#REF!))","v":""},null,null,{"$f":"IF($K696=\"\",\"\",IF(#REF!<>\"\",#REF!,ROUND((($K696-1)*SUM(#REF!,#REF!,#REF!,#REF!,M696)),2)))","v":""}]
[null,null,null,"",null,"",null,null,null,null,{"$f":"IF(OR(D697=\"\",D697=\"Exemption\"),\"\",IF(#REF!=\"Consult AE\",\"Consult AE\",#REF!))","v":""},null,null,{"$f":"IF($K697=\"\",\"\",IF(#REF!<>\"\",#REF!,ROUND((($K697-1)*SUM(#REF!,#REF!,#REF!,#REF!,M697)),2)))","v":""}]
[null,null,null,"",null,"",null,null,null,null,{"$f":"IF(OR(D698=\"\",D698=\"Exemption\"),\"\",IF(#REF!=\"Consult AE\",\"Consult AE\",#REF!))","v":""},null,null,{"$f":"IF($K698=\"\",\"\",IF(#REF!<>\"\",#REF!,ROUND((($K698-1)*SUM(#REF!,#REF!,#REF!,#REF!,M698)),2)))","v":""}]
[null,null,null,"",null,"",null,null,null,null,{"$f":"IF(OR(D699=\"\",D699=\"Exemption\"),\"\",IF(#REF!=\"Consult AE\",\"Consult AE\",#REF!))","v":""},null,null,{"$f":"IF($K699=\"\",\"\",IF(#REF!<>\"\",#REF!,ROUND((($K699-1)*SUM(#REF!,#REF!,#REF!,#REF!,M699)),2)))","v":""}]
[null,null,null,"",null,"",null,null,null,null,{"$f":"IF(OR(D700=\"\",D700=\"Exemption\"),\"\",IF(#REF!=\"Consult AE\",\"Consult AE\",#REF!))","v":""},null,null,{"$f":"IF($K700=\"\",\"\",IF(#REF!<>\"\",#REF!,ROUND((($K700-1)*SUM(#REF!,#REF!,#REF!,#REF!,M700)),2)))","v":""}]
[null,null,null,"",null,"",null,null,null,null,{"$f":"IF(OR(D701=\"\",D701=\"Exemption\"),\"\",IF(#REF!=\"Consult AE\",\"Consult AE\",#REF!))","v":""},null,null,{"$f":"IF($K701=\"\",\"\",IF(#REF!<>\"\",#REF!,ROUND((($K701-1)*SUM(#REF!,#REF!,#REF!,#REF!,M701)),2)))","v":""}]
[null,null,null,"",null,"",null,null,null,null,{"$f":"IF(OR(D702=\"\",D702=\"Exemption\"),\"\",IF(#REF!=\"Consult AE\",\"Consult AE\",#REF!))","v":""},null,null,{"$f":"IF($K702=\"\",\"\",IF(#REF!<>\"\",#REF!,ROUND((($K702-1)*SUM(#REF!,#REF!,#REF!,#REF!,M702)),2)))","v":""}]
[null,null,null,"",null,"",null,null,null,null,{"$f":"IF(OR(D703=\"\",D703=\"Exemption\"),\"\",IF(#REF!=\"Consult AE\",\"Consult AE\",#REF!))","v":""},null,null,{"$f":"IF($K703=\"\",\"\",IF(#REF!<>\"\",#REF!,ROUND((($K703-1)*SUM(#REF!,#REF!,#REF!,#REF!,M703)),2)))","v":""}]
[null,null,null,"",null,"",null,null,null,null,{"$f":"IF(OR(D704=\"\",D704=\"Exemption\"),\"\",IF(#REF!=\"Consult AE\",\"Consult AE\",#REF!))","v":""},null,null,{"$f":"IF($K704=\"\",\"\",IF(#REF!<>\"\",#REF!,ROUND((($K704-1)*SUM(#REF!,#REF!,#REF!,#REF!,M704)),2)))","v":""}]
[null,null,null,"",null,"",null,null,null,null,{"$f":"IF(OR(D705=\"\",D705=\"Exemption\"),\"\",IF(#REF!=\"Consult AE\",\"Consult AE\",#REF!))","v":""},null,null,{"$f":"IF($K705=\"\",\"\",IF(#REF!<>\"\",#REF!,ROUND((($K705-1)*SUM(#REF!,#REF!,#REF!,#REF!,M705)),2)))","v":""}]
[null,null,null,"",null,"",null,null,null,null,{"$f":"IF(OR(D706=\"\",D706=\"Exemption\"),\"\",IF(#REF!=\"Consult AE\",\"Consult AE\",#REF!))","v":""},null,null,{"$f":"IF($K706=\"\",\"\",IF(#REF!<>\"\",#REF!,ROUND((($K706-1)*SUM(#REF!,#REF!,#REF!,#REF!,M706)),2)))","v":""}]
[null,null,null,"",null,"",null,null,null,null,{"$f":"IF(OR(D707=\"\",D707=\"Exemption\"),\"\",IF(#REF!=\"Consult AE\",\"Consult AE\",#REF!))","v":""},null,null,{"$f":"IF($K707=\"\",\"\",IF(#REF!<>\"\",#REF!,ROUND((($K707-1)*SUM(#REF!,#REF!,#REF!,#REF!,M707)),2)))","v":""}]
[null,null,null,"",null,"",null,null,null,null,{"$f":"IF(OR(D708=\"\",D708=\"Exemption\"),\"\",IF(#REF!=\"Consult AE\",\"Consult AE\",#REF!))","v":""},null,null,{"$f":"IF($K708=\"\",\"\",IF(#REF!<>\"\",#REF!,ROUND((($K708-1)*SUM(#REF!,#REF!,#REF!,#REF!,M708)),2)))","v":""}]
[null,null,null,"",null,"",null,null,null,null,{"$f":"IF(OR(D709=\"\",D709=\"Exemption\"),\"\",IF(#REF!=\"Consult AE\",\"Consult AE\",#REF!))","v":""},null,null,{"$f":"IF($K709=\"\",\"\",IF(#REF!<>\"\",#REF!,ROUND((($K709-1)*SUM(#REF!,#REF!,#REF!,#REF!,M709)),2)))","v":""}]
[null,null,null,"",null,"",null,null,null,null,{"$f":"IF(OR(D710=\"\",D710=\"Exemption\"),\"\",IF(#REF!=\"Consult AE\",\"Consult AE\",#REF!))","v":""},null,null,{"$f":"IF($K710=\"\",\"\",IF(#REF!<>\"\",#REF!,ROUND((($K710-1)*SUM(#REF!,#REF!,#REF!,#REF!,M710)),2)))","v":""}]
[null,null,null,"",null,"",null,null,null,null,{"$f":"IF(OR(D711=\"\",D711=\"Exemption\"),\"\",IF(#REF!=\"Consult AE\",\"Consult AE\",#REF!))","v":""},null,null,{"$f":"IF($K711=\"\",\"\",IF(#REF!<>\"\",#REF!,ROUND((($K711-1)*SUM(#REF!,#REF!,#REF!,#REF!,M711)),2)))","v":""}]
[null,null,null,"",null,"",null,null,null,null,{"$f":"IF(OR(D712=\"\",D712=\"Exemption\"),\"\",IF(#REF!=\"Consult AE\",\"Consult AE\",#REF!))","v":""},null,null,{"$f":"IF($K712=\"\",\"\",IF(#REF!<>\"\",#REF!,ROUND((($K712-1)*SUM(#REF!,#REF!,#REF!,#REF!,M712)),2)))","v":""}]
[null,null,null,"",null,"",null,null,null,null,{"$f":"IF(OR(D713=\"\",D713=\"Exemption\"),\"\",IF(#REF!=\"Consult AE\",\"Consult AE\",#REF!))","v":""},null,null,{"$f":"IF($K713=\"\",\"\",IF(#REF!<>\"\",#REF!,ROUND((($K713-1)*SUM(#REF!,#REF!,#REF!,#REF!,M713)),2)))","v":""}]
[null,null,null,"",null,"",null,null,null,null,{"$f":"IF(OR(D714=\"\",D714=\"Exemption\"),\"\",IF(#REF!=\"Consult AE\",\"Consult AE\",#REF!))","v":""},null,null,{"$f":"IF($K714=\"\",\"\",IF(#REF!<>\"\",#REF!,ROUND((($K714-1)*SUM(#REF!,#REF!,#REF!,#REF!,M714)),2)))","v":""}]
[null,null,null,"",null,"",null,null,null,null,{"$f":"IF(OR(D715=\"\",D715=\"Exemption\"),\"\",IF(#REF!=\"Consult AE\",\"Consult AE\",#REF!))","v":""},null,null,{"$f":"IF($K715=\"\",\"\",IF(#REF!<>\"\",#REF!,ROUND((($K715-1)*SUM(#REF!,#REF!,#REF!,#REF!,M715)),2)))","v":""}]
[null,null,null,"",null,"",null,null,null,null,{"$f":"IF(OR(D716=\"\",D716=\"Exemption\"),\"\",IF(#REF!=\"Consult AE\",\"Consult AE\",#REF!))","v":""},null,null,{"$f":"IF($K716=\"\",\"\",IF(#REF!<>\"\",#REF!,ROUND((($K716-1)*SUM(#REF!,#REF!,#REF!,#REF!,M716)),2)))","v":""}]
[null,null,null,"",null,"",null,null,null,null,{"$f":"IF(OR(D717=\"\",D717=\"Exemption\"),\"\",IF(#REF!=\"Consult AE\",\"Consult AE\",#REF!))","v":""},null,null,{"$f":"IF($K717=\"\",\"\",IF(#REF!<>\"\",#REF!,ROUND((($K717-1)*SUM(#REF!,#REF!,#REF!,#REF!,M717)),2)))","v":""}]
[null,null,null,"",null,"",null,null,null,null,{"$f":"IF(OR(D718=\"\",D718=\"Exemption\"),\"\",IF(#REF!=\"Consult AE\",\"Consult AE\",#REF!))","v":""},null,null,{"$f":"IF($K718=\"\",\"\",IF(#REF!<>\"\",#REF!,ROUND((($K718-1)*SUM(#REF!,#REF!,#REF!,#REF!,M718)),2)))","v":""}]
[null,null,null,"",null,{"$f":"IF(C719=\"\",\"\",IF($F$7<$F$6,D719-C719,D719+C719))","v":""},null,null,null,null,{"$f":"IF(OR(D719=\"\",D719=\"Exemption\"),\"\",IF(#REF!=\"Consult AE\",\"Consult AE\",#REF!))","v":""},null,null,{"$f":"IF($K719=\"\",\"\",IF(#REF!<>\"\",#REF!,ROUND((($K719-1)*SUM(#REF!,#REF!,#REF!,#REF!,M719)),2)))","v":""}]
[null,null,null,{"$f":"+IF(A720=\"\",\"\",IF($F$7<$F$6,D719-(A720-A719),D719+(A720-A719)))","v":""},null,"",null,null,null,null,{"$f":"IF(OR(D720=\"\",D720=\"Exemption\"),\"\",IF(#REF!=\"Consult AE\",\"Consult AE\",#REF!))","v":""},null,null,{"$f":"IF($K720=\"\",\"\",IF(#REF!<>\"\",#REF!,ROUND((($K720-1)*SUM(#REF!,#REF!,#REF!,#REF!,M720)),2)))","v":""}]
[null,null,null,"",null,"",null,null,null,null,{"$f":"IF(OR(D721=\"\",D721=\"Exemption\"),\"\",IF(#REF!=\"Consult AE\",\"Consult AE\",#REF!))","v":""},null,null,{"$f":"IF($K721=\"\",\"\",IF(#REF!<>\"\",#REF!,ROUND((($K721-1)*SUM(#REF!,#REF!,#REF!,#REF!,M721)),2)))","v":""}]
[null,null,null,"",null,"",null,null,null,null,{"$f":"IF(OR(D722=\"\",D722=\"Exemption\"),\"\",IF(#REF!=\"Consult AE\",\"Consult AE\",#REF!))","v":""},null,null,{"$f":"IF($K722=\"\",\"\",IF(#REF!<>\"\",#REF!,ROUND((($K722-1)*SUM(#REF!,#REF!,#REF!,#REF!,M722)),2)))","v":""}]
[null,null,null,"",null,"",null,null,null,null,{"$f":"IF(OR(D723=\"\",D723=\"Exemption\"),\"\",IF(#REF!=\"Consult AE\",\"Consult AE\",#REF!))","v":""},null,null,{"$f":"IF($K723=\"\",\"\",IF(#REF!<>\"\",#REF!,ROUND((($K723-1)*SUM(#REF!,#REF!,#REF!,#REF!,M723)),2)))","v":""}]
[null,null,null,"",null,"",null,null,null,null,{"$f":"IF(OR(D724=\"\",D724=\"Exemption\"),\"\",IF(#REF!=\"Consult AE\",\"Consult AE\",#REF!))","v":""},null,null,{"$f":"IF($K724=\"\",\"\",IF(#REF!<>\"\",#REF!,ROUND((($K724-1)*SUM(#REF!,#REF!,#REF!,#REF!,M724)),2)))","v":""}]
[null,null,null,"",null,"",null,null,null,null,{"$f":"IF(OR(D725=\"\",D725=\"Exemption\"),\"\",IF(#REF!=\"Consult AE\",\"Consult AE\",#REF!))","v":""},null,null,{"$f":"IF($K725=\"\",\"\",IF(#REF!<>\"\",#REF!,ROUND((($K725-1)*SUM(#REF!,#REF!,#REF!,#REF!,M725)),2)))","v":""}]
[null,null,null,"",null,"",null,null,null,null,{"$f":"IF(OR(D726=\"\",D726=\"Exemption\"),\"\",IF(#REF!=\"Consult AE\",\"Consult AE\",#REF!))","v":""},null,null,{"$f":"IF($K726=\"\",\"\",IF(#REF!<>\"\",#REF!,ROUND((($K726-1)*SUM(#REF!,#REF!,#REF!,#REF!,M726)),2)))","v":""}]
[null,null,null,"",null,"",null,null,null,null,{"$f":"IF(OR(D727=\"\",D727=\"Exemption\"),\"\",IF(#REF!=\"Consult AE\",\"Consult AE\",#REF!))","v":""},null,null,{"$f":"IF($K727=\"\",\"\",IF(#REF!<>\"\",#REF!,ROUND((($K727-1)*SUM(#REF!,#REF!,#REF!,#REF!,M727)),2)))","v":""}]
[null,null,null,"",null,"",null,null,null,null,{"$f":"IF(OR(D728=\"\",D728=\"Exemption\"),\"\",IF(#REF!=\"Consult AE\",\"Consult AE\",#REF!))","v":""},null,null,{"$f":"IF($K728=\"\",\"\",IF(#REF!<>\"\",#REF!,ROUND((($K728-1)*SUM(#REF!,#REF!,#REF!,#REF!,M728)),2)))","v":""}]
[null,null,null,"",null,"",null,null,null,null,{"$f":"IF(OR(D729=\"\",D729=\"Exemption\"),\"\",IF(#REF!=\"Consult AE\",\"Consult AE\",#REF!))","v":""},null,null,{"$f":"IF($K729=\"\",\"\",IF(#REF!<>\"\",#REF!,ROUND((($K729-1)*SUM(#REF!,#REF!,#REF!,#REF!,M729)),2)))","v":""}]
[null,null,null,"",null,"",null,null,null,null,{"$f":"IF(OR(D730=\"\",D730=\"Exemption\"),\"\",IF(#REF!=\"Consult AE\",\"Consult AE\",#REF!))","v":""},null,null,{"$f":"IF($K730=\"\",\"\",IF(#REF!<>\"\",#REF!,ROUND((($K730-1)*SUM(#REF!,#REF!,#REF!,#REF!,M730)),2)))","v":""}]
[null,null,null,"",null,"",null,null,null,null,{"$f":"IF(OR(D731=\"\",D731=\"Exemption\"),\"\",IF(#REF!=\"Consult AE\",\"Consult AE\",#REF!))","v":""},null,null,{"$f":"IF($K731=\"\",\"\",IF(#REF!<>\"\",#REF!,ROUND((($K731-1)*SUM(#REF!,#REF!,#REF!,#REF!,M731)),2)))","v":""}]
[null,null,null,"",null,"",null,null,null,null,{"$f":"IF(OR(D732=\"\",D732=\"Exemption\"),\"\",IF(#REF!=\"Consult AE\",\"Consult AE\",#REF!))","v":""},null,null,{"$f":"IF($K732=\"\",\"\",IF(#REF!<>\"\",#REF!,ROUND((($K732-1)*SUM(#REF!,#REF!,#REF!,#REF!,M732)),2)))","v":""}]
[null,null,null,"",null,"",null,null,null,null,{"$f":"IF(OR(D733=\"\",D733=\"Exemption\"),\"\",IF(#REF!=\"Consult AE\",\"Consult AE\",#REF!))","v":""},null,null,{"$f":"IF($K733=\"\",\"\",IF(#REF!<>\"\",#REF!,ROUND((($K733-1)*SUM(#REF!,#REF!,#REF!,#REF!,M733)),2)))","v":""}]
[null,null,null,"",null,"",null,null,null,null,{"$f":"IF(OR(D734=\"\",D734=\"Exemption\"),\"\",IF(#REF!=\"Consult AE\",\"Consult AE\",#REF!))","v":""},null,null,{"$f":"IF($K734=\"\",\"\",IF(#REF!<>\"\",#REF!,ROUND((($K734-1)*SUM(#REF!,#REF!,#REF!,#REF!,M734)),2)))","v":""}]
[null,null,null,"",null,"",null,null,null,null,{"$f":"IF(OR(D735=\"\",D735=\"Exemption\"),\"\",IF(#REF!=\"Consult AE\",\"Consult AE\",#REF!))","v":""},null,null,{"$f":"IF($K735=\"\",\"\",IF(#REF!<>\"\",#REF!,ROUND((($K735-1)*SUM(#REF!,#REF!,#REF!,#REF!,M735)),2)))","v":""}]
[null,null,null,"",null,"",null,null,null,null,{"$f":"IF(OR(D736=\"\",D736=\"Exemption\"),\"\",IF(#REF!=\"Consult AE\",\"Consult AE\",#REF!))","v":""},null,null,{"$f":"IF($K736=\"\",\"\",IF(#REF!<>\"\",#REF!,ROUND((($K736-1)*SUM(#REF!,#REF!,#REF!,#REF!,M736)),2)))","v":""}]
[null,null,null,"",null,"",null,null,null,null,{"$f":"IF(OR(D737=\"\",D737=\"Exemption\"),\"\",IF(#REF!=\"Consult AE\",\"Consult AE\",#REF!))","v":""},null,null,{"$f":"IF($K737=\"\",\"\",IF(#REF!<>\"\",#REF!,ROUND((($K737-1)*SUM(#REF!,#REF!,#REF!,#REF!,M737)),2)))","v":""}]
[null,null,null,"",null,"",null,null,null,null,{"$f":"IF(OR(D738=\"\",D738=\"Exemption\"),\"\",IF(#REF!=\"Consult AE\",\"Consult AE\",#REF!))","v":""},null,null,{"$f":"IF($K738=\"\",\"\",IF(#REF!<>\"\",#REF!,ROUND((($K738-1)*SUM(#REF!,#REF!,#REF!,#REF!,M738)),2)))","v":""}]
[null,null,null,"",null,"",null,null,null,null,{"$f":"IF(OR(D739=\"\",D739=\"Exemption\"),\"\",IF(#REF!=\"Consult AE\",\"Consult AE\",#REF!))","v":""},null,null,{"$f":"IF($K739=\"\",\"\",IF(#REF!<>\"\",#REF!,ROUND((($K739-1)*SUM(#REF!,#REF!,#REF!,#REF!,M739)),2)))","v":""}]
[null,null,null,"",null,"",null,null,null,null,{"$f":"IF(OR(D740=\"\",D740=\"Exemption\"),\"\",IF(#REF!=\"Consult AE\",\"Consult AE\",#REF!))","v":""},null,null,{"$f":"IF($K740=\"\",\"\",IF(#REF!<>\"\",#REF!,ROUND((($K740-1)*SUM(#REF!,#REF!,#REF!,#REF!,M740)),2)))","v":""}]
[null,null,null,"",null,"",null,null,null,null,{"$f":"IF(OR(D741=\"\",D741=\"Exemption\"),\"\",IF(#REF!=\"Consult AE\",\"Consult AE\",#REF!))","v":""},null,null,{"$f":"IF($K741=\"\",\"\",IF(#REF!<>\"\",#REF!,ROUND((($K741-1)*SUM(#REF!,#REF!,#REF!,#REF!,M741)),2)))","v":""}]
[null,null,null,"",null,"",null,null,null,null,{"$f":"IF(OR(D742=\"\",D742=\"Exemption\"),\"\",IF(#REF!=\"Consult AE\",\"Consult AE\",#REF!))","v":""},null,null,{"$f":"IF($K742=\"\",\"\",IF(#REF!<>\"\",#REF!,ROUND((($K742-1)*SUM(#REF!,#REF!,#REF!,#REF!,M742)),2)))","v":""}]
[null,null,null,"",null,"",null,null,null,null,{"$f":"IF(OR(D743=\"\",D743=\"Exemption\"),\"\",IF(#REF!=\"Consult AE\",\"Consult AE\",#REF!))","v":""},null,null,{"$f":"IF($K743=\"\",\"\",IF(#REF!<>\"\",#REF!,ROUND((($K743-1)*SUM(#REF!,#REF!,#REF!,#REF!,M743)),2)))","v":""}]
[null,null,null,"",null,"",null,null,null,null,{"$f":"IF(OR(D744=\"\",D744=\"Exemption\"),\"\",IF(#REF!=\"Consult AE\",\"Consult AE\",#REF!))","v":""},null,null,{"$f":"IF($K744=\"\",\"\",IF(#REF!<>\"\",#REF!,ROUND((($K744-1)*SUM(#REF!,#REF!,#REF!,#REF!,M744)),2)))","v":""}]
[null,null,null,"",null,"",null,null,null,null,{"$f":"IF(OR(D745=\"\",D745=\"Exemption\"),\"\",IF(#REF!=\"Consult AE\",\"Consult AE\",#REF!))","v":""},null,null,{"$f":"IF($K745=\"\",\"\",IF(#REF!<>\"\",#REF!,ROUND((($K745-1)*SUM(#REF!,#REF!,#REF!,#REF!,M745)),2)))","v":""}]
[null,null,null,"",null,"",null,null,null,null,{"$f":"IF(OR(D746=\"\",D746=\"Exemption\"),\"\",IF(#REF!=\"Consult AE\",\"Consult AE\",#REF!))","v":""},null,null,{"$f":"IF($K746=\"\",\"\",IF(#REF!<>\"\",#REF!,ROUND((($K746-1)*SUM(#REF!,#REF!,#REF!,#REF!,M746)),2)))","v":""}]
[null,null,null,"",null,"",null,null,null,null,{"$f":"IF(OR(D747=\"\",D747=\"Exemption\"),\"\",IF(#REF!=\"Consult AE\",\"Consult AE\",#REF!))","v":""},null,null,{"$f":"IF($K747=\"\",\"\",IF(#REF!<>\"\",#REF!,ROUND((($K747-1)*SUM(#REF!,#REF!,#REF!,#REF!,M747)),2)))","v":""}]
[null,null,null,"",null,"",null,null,null,null,{"$f":"IF(OR(D748=\"\",D748=\"Exemption\"),\"\",IF(#REF!=\"Consult AE\",\"Consult AE\",#REF!))","v":""},null,null,{"$f":"IF($K748=\"\",\"\",IF(#REF!<>\"\",#REF!,ROUND((($K748-1)*SUM(#REF!,#REF!,#REF!,#REF!,M748)),2)))","v":""}]
[null,null,null,"",null,"",null,null,null,null,{"$f":"IF(OR(D749=\"\",D749=\"Exemption\"),\"\",IF(#REF!=\"Consult AE\",\"Consult AE\",#REF!))","v":""},null,null,{"$f":"IF($K749=\"\",\"\",IF(#REF!<>\"\",#REF!,ROUND((($K749-1)*SUM(#REF!,#REF!,#REF!,#REF!,M749)),2)))","v":""}]
[null,null,null,"",null,"",null,null,null,null,{"$f":"IF(OR(D750=\"\",D750=\"Exemption\"),\"\",IF(#REF!=\"Consult AE\",\"Consult AE\",#REF!))","v":""},null,null,{"$f":"IF($K750=\"\",\"\",IF(#REF!<>\"\",#REF!,ROUND((($K750-1)*SUM(#REF!,#REF!,#REF!,#REF!,M750)),2)))","v":""}]
[null,null,null,"",null,"",null,null,null,null,{"$f":"IF(OR(D751=\"\",D751=\"Exemption\"),\"\",IF(#REF!=\"Consult AE\",\"Consult AE\",#REF!))","v":""},null,null,{"$f":"IF($K751=\"\",\"\",IF(#REF!<>\"\",#REF!,ROUND((($K751-1)*SUM(#REF!,#REF!,#REF!,#REF!,M751)),2)))","v":""}]
[null,null,null,"",null,"",null,null,null,null,{"$f":"IF(OR(D752=\"\",D752=\"Exemption\"),\"\",IF(#REF!=\"Consult AE\",\"Consult AE\",#REF!))","v":""},null,null,{"$f":"IF($K752=\"\",\"\",IF(#REF!<>\"\",#REF!,ROUND((($K752-1)*SUM(#REF!,#REF!,#REF!,#REF!,M752)),2)))","v":""}]
[null,null,null,"",null,"",null,null,null,null,{"$f":"IF(OR(D753=\"\",D753=\"Exemption\"),\"\",IF(#REF!=\"Consult AE\",\"Consult AE\",#REF!))","v":""},null,null,{"$f":"IF($K753=\"\",\"\",IF(#REF!<>\"\",#REF!,ROUND((($K753-1)*SUM(#REF!,#REF!,#REF!,#REF!,M753)),2)))","v":""}]
[null,null,null,"",null,"",null,null,null,null,{"$f":"IF(OR(D754=\"\",D754=\"Exemption\"),\"\",IF(#REF!=\"Consult AE\",\"Consult AE\",#REF!))","v":""},null,null,{"$f":"IF($K754=\"\",\"\",IF(#REF!<>\"\",#REF!,ROUND((($K754-1)*SUM(#REF!,#REF!,#REF!,#REF!,M754)),2)))","v":""}]
[null,null,null,"",null,"",null,null,null,null,{"$f":"IF(OR(D755=\"\",D755=\"Exemption\"),\"\",IF(#REF!=\"Consult AE\",\"Consult AE\",#REF!))","v":""},null,null,{"$f":"IF($K755=\"\",\"\",IF(#REF!<>\"\",#REF!,ROUND((($K755-1)*SUM(#REF!,#REF!,#REF!,#REF!,M755)),2)))","v":""}]
[null,null,null,"",null,"",null,null,null,null,{"$f":"IF(OR(D756=\"\",D756=\"Exemption\"),\"\",IF(#REF!=\"Consult AE\",\"Consult AE\",#REF!))","v":""},null,null,{"$f":"IF($K756=\"\",\"\",IF(#REF!<>\"\",#REF!,ROUND((($K756-1)*SUM(#REF!,#REF!,#REF!,#REF!,M756)),2)))","v":""}]
[null,null,null,"",null,"",null,null,null,null,{"$f":"IF(OR(D757=\"\",D757=\"Exemption\"),\"\",IF(#REF!=\"Consult AE\",\"Consult AE\",#REF!))","v":""},null,null,{"$f":"IF($K757=\"\",\"\",IF(#REF!<>\"\",#REF!,ROUND((($K757-1)*SUM(#REF!,#REF!,#REF!,#REF!,M757)),2)))","v":""}]
[null,null,null,"",null,"",null,null,null,null,{"$f":"IF(OR(D758=\"\",D758=\"Exemption\"),\"\",IF(#REF!=\"Consult AE\",\"Consult AE\",#REF!))","v":""},null,null,{"$f":"IF($K758=\"\",\"\",IF(#REF!<>\"\",#REF!,ROUND((($K758-1)*SUM(#REF!,#REF!,#REF!,#REF!,M758)),2)))","v":""}]
[null,null,null,"",null,"",null,null,null,null,{"$f":"IF(OR(D759=\"\",D759=\"Exemption\"),\"\",IF(#REF!=\"Consult AE\",\"Consult AE\",#REF!))","v":""},null,null,{"$f":"IF($K759=\"\",\"\",IF(#REF!<>\"\",#REF!,ROUND((($K759-1)*SUM(#REF!,#REF!,#REF!,#REF!,M759)),2)))","v":""}]
[null,null,null,"",null,"",null,null,null,null,{"$f":"IF(OR(D760=\"\",D760=\"Exemption\"),\"\",IF(#REF!=\"Consult AE\",\"Consult AE\",#REF!))","v":""},null,null,{"$f":"IF($K760=\"\",\"\",IF(#REF!<>\"\",#REF!,ROUND((($K760-1)*SUM(#REF!,#REF!,#REF!,#REF!,M760)),2)))","v":""}]
[null,null,null,"",null,"",null,null,null,null,{"$f":"IF(OR(D761=\"\",D761=\"Exemption\"),\"\",IF(#REF!=\"Consult AE\",\"Consult AE\",#REF!))","v":""},null,null,{"$f":"IF($K761=\"\",\"\",IF(#REF!<>\"\",#REF!,ROUND((($K761-1)*SUM(#REF!,#REF!,#REF!,#REF!,M761)),2)))","v":""}]
[null,null,null,"",null,"",null,null,null,null,{"$f":"IF(OR(D762=\"\",D762=\"Exemption\"),\"\",IF(#REF!=\"Consult AE\",\"Consult AE\",#REF!))","v":""},null,null,{"$f":"IF($K762=\"\",\"\",IF(#REF!<>\"\",#REF!,ROUND((($K762-1)*SUM(#REF!,#REF!,#REF!,#REF!,M762)),2)))","v":""}]
[null,null,null,"",null,"",null,null,null,null,{"$f":"IF(OR(D763=\"\",D763=\"Exemption\"),\"\",IF(#REF!=\"Consult AE\",\"Consult AE\",#REF!))","v":""},null,null,{"$f":"IF($K763=\"\",\"\",IF(#REF!<>\"\",#REF!,ROUND((($K763-1)*SUM(#REF!,#REF!,#REF!,#REF!,M763)),2)))","v":""}]
[null,null,null,"",null,"",null,null,null,null,{"$f":"IF(OR(D764=\"\",D764=\"Exemption\"),\"\",IF(#REF!=\"Consult AE\",\"Consult AE\",#REF!))","v":""},null,null,{"$f":"IF($K764=\"\",\"\",IF(#REF!<>\"\",#REF!,ROUND((($K764-1)*SUM(#REF!,#REF!,#REF!,#REF!,M764)),2)))","v":""}]
[null,null,null,"",null,"",null,null,null,null,{"$f":"IF(OR(D765=\"\",D765=\"Exemption\"),\"\",IF(#REF!=\"Consult AE\",\"Consult AE\",#REF!))","v":""},null,null,{"$f":"IF($K765=\"\",\"\",IF(#REF!<>\"\",#REF!,ROUND((($K765-1)*SUM(#REF!,#REF!,#REF!,#REF!,M765)),2)))","v":""}]
[null,null,null,"",null,"",null,null,null,null,{"$f":"IF(OR(D766=\"\",D766=\"Exemption\"),\"\",IF(#REF!=\"Consult AE\",\"Consult AE\",#REF!))","v":""},null,null,{"$f":"IF($K766=\"\",\"\",IF(#REF!<>\"\",#REF!,ROUND((($K766-1)*SUM(#REF!,#REF!,#REF!,#REF!,M766)),2)))","v":""}]
[null,null,null,"",null,"",null,null,null,null,{"$f":"IF(OR(D767=\"\",D767=\"Exemption\"),\"\",IF(#REF!=\"Consult AE\",\"Consult AE\",#REF!))","v":""},null,null,{"$f":"IF($K767=\"\",\"\",IF(#REF!<>\"\",#REF!,ROUND((($K767-1)*SUM(#REF!,#REF!,#REF!,#REF!,M767)),2)))","v":""}]
[null,null,null,"",null,"",null,null,null,null,{"$f":"IF(OR(D768=\"\",D768=\"Exemption\"),\"\",IF(#REF!=\"Consult AE\",\"Consult AE\",#REF!))","v":""},null,null,{"$f":"IF($K768=\"\",\"\",IF(#REF!<>\"\",#REF!,ROUND((($K768-1)*SUM(#REF!,#REF!,#REF!,#REF!,M768)),2)))","v":""}]
[null,null,null,"",null,"",null,null,null,null,{"$f":"IF(OR(D769=\"\",D769=\"Exemption\"),\"\",IF(#REF!=\"Consult AE\",\"Consult AE\",#REF!))","v":""},null,null,{"$f":"IF($K769=\"\",\"\",IF(#REF!<>\"\",#REF!,ROUND((($K769-1)*SUM(#REF!,#REF!,#REF!,#REF!,M769)),2)))","v":""}]
[null,null,null,"",null,"",null,null,null,null,{"$f":"IF(OR(D770=\"\",D770=\"Exemption\"),\"\",IF(#REF!=\"Consult AE\",\"Consult AE\",#REF!))","v":""},null,null,{"$f":"IF($K770=\"\",\"\",IF(#REF!<>\"\",#REF!,ROUND((($K770-1)*SUM(#REF!,#REF!,#REF!,#REF!,M770)),2)))","v":""}]
[null,null,null,"",null,"",null,null,null,null,{"$f":"IF(OR(D771=\"\",D771=\"Exemption\"),\"\",IF(#REF!=\"Consult AE\",\"Consult AE\",#REF!))","v":""},null,null,{"$f":"IF($K771=\"\",\"\",IF(#REF!<>\"\",#REF!,ROUND((($K771-1)*SUM(#REF!,#REF!,#REF!,#REF!,M771)),2)))","v":""}]
[null,null,null,"",null,"",null,null,null,null,{"$f":"IF(OR(D772=\"\",D772=\"Exemption\"),\"\",IF(#REF!=\"Consult AE\",\"Consult AE\",#REF!))","v":""},null,null,{"$f":"IF($K772=\"\",\"\",IF(#REF!<>\"\",#REF!,ROUND((($K772-1)*SUM(#REF!,#REF!,#REF!,#REF!,M772)),2)))","v":""}]
[null,null,null,"",null,"",null,null,null,null,{"$f":"IF(OR(D773=\"\",D773=\"Exemption\"),\"\",IF(#REF!=\"Consult AE\",\"Consult AE\",#REF!))","v":""},null,null,{"$f":"IF($K773=\"\",\"\",IF(#REF!<>\"\",#REF!,ROUND((($K773-1)*SUM(#REF!,#REF!,#REF!,#REF!,M773)),2)))","v":""}]
[null,null,null,"",null,"",null,null,null,null,{"$f":"IF(OR(D774=\"\",D774=\"Exemption\"),\"\",IF(#REF!=\"Consult AE\",\"Consult AE\",#REF!))","v":""},null,null,{"$f":"IF($K774=\"\",\"\",IF(#REF!<>\"\",#REF!,ROUND((($K774-1)*SUM(#REF!,#REF!,#REF!,#REF!,M774)),2)))","v":""}]
[null,null,null,"",null,"",null,null,null,null,{"$f":"IF(OR(D775=\"\",D775=\"Exemption\"),\"\",IF(#REF!=\"Consult AE\",\"Consult AE\",#REF!))","v":""},null,null,{"$f":"IF($K775=\"\",\"\",IF(#REF!<>\"\",#REF!,ROUND((($K775-1)*SUM(#REF!,#REF!,#REF!,#REF!,M775)),2)))","v":""}]
[null,null,null,"",null,"",null,null,null,null,{"$f":"IF(OR(D776=\"\",D776=\"Exemption\"),\"\",IF(#REF!=\"Consult AE\",\"Consult AE\",#REF!))","v":""},null,null,{"$f":"IF($K776=\"\",\"\",IF(#REF!<>\"\",#REF!,ROUND((($K776-1)*SUM(#REF!,#REF!,#REF!,#REF!,M776)),2)))","v":""}]
[null,null,null,"",null,"",null,null,null,null,{"$f":"IF(OR(D777=\"\",D777=\"Exemption\"),\"\",IF(#REF!=\"Consult AE\",\"Consult AE\",#REF!))","v":""},null,null,{"$f":"IF($K777=\"\",\"\",IF(#REF!<>\"\",#REF!,ROUND((($K777-1)*SUM(#REF!,#REF!,#REF!,#REF!,M777)),2)))","v":""}]
[null,null,null,"",null,"",null,null,null,null,{"$f":"IF(OR(D778=\"\",D778=\"Exemption\"),\"\",IF(#REF!=\"Consult AE\",\"Consult AE\",#REF!))","v":""},null,null,{"$f":"IF($K778=\"\",\"\",IF(#REF!<>\"\",#REF!,ROUND((($K778-1)*SUM(#REF!,#REF!,#REF!,#REF!,M778)),2)))","v":""}]
[null,null,null,"",null,"",null,null,null,null,{"$f":"IF(OR(D779=\"\",D779=\"Exemption\"),\"\",IF(#REF!=\"Consult AE\",\"Consult AE\",#REF!))","v":""},null,null,{"$f":"IF($K779=\"\",\"\",IF(#REF!<>\"\",#REF!,ROUND((($K779-1)*SUM(#REF!,#REF!,#REF!,#REF!,M779)),2)))","v":""}]
[null,null,null,"",null,"",null,null,null,null,{"$f":"IF(OR(D780=\"\",D780=\"Exemption\"),\"\",IF(#REF!=\"Consult AE\",\"Consult AE\",#REF!))","v":""},null,null,{"$f":"IF($K780=\"\",\"\",IF(#REF!<>\"\",#REF!,ROUND((($K780-1)*SUM(#REF!,#REF!,#REF!,#REF!,M780)),2)))","v":""}]
[null,null,null,"",null,"",null,null,null,null,{"$f":"IF(OR(D781=\"\",D781=\"Exemption\"),\"\",IF(#REF!=\"Consult AE\",\"Consult AE\",#REF!))","v":""},null,null,{"$f":"IF($K781=\"\",\"\",IF(#REF!<>\"\",#REF!,ROUND((($K781-1)*SUM(#REF!,#REF!,#REF!,#REF!,M781)),2)))","v":""}]
[null,null,null,"",null,"",null,null,null,null,{"$f":"IF(OR(D782=\"\",D782=\"Exemption\"),\"\",IF(#REF!=\"Consult AE\",\"Consult AE\",#REF!))","v":""},null,null,{"$f":"IF($K782=\"\",\"\",IF(#REF!<>\"\",#REF!,ROUND((($K782-1)*SUM(#REF!,#REF!,#REF!,#REF!,M782)),2)))","v":""}]
[null,null,null,"",null,{"$f":"IF(C783=\"\",\"\",IF($F$7<$F$6,D783-C783,D783+C783))","v":""},null,null,null,null,{"$f":"IF(OR(D783=\"\",D783=\"Exemption\"),\"\",IF(#REF!=\"Consult AE\",\"Consult AE\",#REF!))","v":""},null,null,{"$f":"IF($K783=\"\",\"\",IF(#REF!<>\"\",#REF!,ROUND((($K783-1)*SUM(#REF!,#REF!,#REF!,#REF!,M783)),2)))","v":""}]
[null,null,null,{"$f":"+IF(A784=\"\",\"\",IF($F$7<$F$6,D783-(A784-A783),D783+(A784-A783)))","v":""},null,"",null,null,null,null,{"$f":"IF(OR(D784=\"\",D784=\"Exemption\"),\"\",IF(#REF!=\"Consult AE\",\"Consult AE\",#REF!))","v":""},null,null,{"$f":"IF($K784=\"\",\"\",IF(#REF!<>\"\",#REF!,ROUND((($K784-1)*SUM(#REF!,#REF!,#REF!,#REF!,M784)),2)))","v":""}]
[null,null,null,"",null,"",null,null,null,null,{"$f":"IF(OR(D785=\"\",D785=\"Exemption\"),\"\",IF(#REF!=\"Consult AE\",\"Consult AE\",#REF!))","v":""},null,null,{"$f":"IF($K785=\"\",\"\",IF(#REF!<>\"\",#REF!,ROUND((($K785-1)*SUM(#REF!,#REF!,#REF!,#REF!,M785)),2)))","v":""}]
[null,null,null,"",null,"",null,null,null,null,{"$f":"IF(OR(D786=\"\",D786=\"Exemption\"),\"\",IF(#REF!=\"Consult AE\",\"Consult AE\",#REF!))","v":""},null,null,{"$f":"IF($K786=\"\",\"\",IF(#REF!<>\"\",#REF!,ROUND((($K786-1)*SUM(#REF!,#REF!,#REF!,#REF!,M786)),2)))","v":""}]
[null,null,null,"",null,"",null,null,null,null,{"$f":"IF(OR(D787=\"\",D787=\"Exemption\"),\"\",IF(#REF!=\"Consult AE\",\"Consult AE\",#REF!))","v":""},null,null,{"$f":"IF($K787=\"\",\"\",IF(#REF!<>\"\",#REF!,ROUND((($K787-1)*SUM(#REF!,#REF!,#REF!,#REF!,M787)),2)))","v":""}]
[null,null,null,"",null,"",null,null,null,null,{"$f":"IF(OR(D788=\"\",D788=\"Exemption\"),\"\",IF(#REF!=\"Consult AE\",\"Consult AE\",#REF!))","v":""},null,null,{"$f":"IF($K788=\"\",\"\",IF(#REF!<>\"\",#REF!,ROUND((($K788-1)*SUM(#REF!,#REF!,#REF!,#REF!,M788)),2)))","v":""}]
[null,null,null,"",null,"",null,null,null,null,{"$f":"IF(OR(D789=\"\",D789=\"Exemption\"),\"\",IF(#REF!=\"Consult AE\",\"Consult AE\",#REF!))","v":""},null,null,{"$f":"IF($K789=\"\",\"\",IF(#REF!<>\"\",#REF!,ROUND((($K789-1)*SUM(#REF!,#REF!,#REF!,#REF!,M789)),2)))","v":""}]
[null,null,null,"",null,"",null,null,null,null,{"$f":"IF(OR(D790=\"\",D790=\"Exemption\"),\"\",IF(#REF!=\"Consult AE\",\"Consult AE\",#REF!))","v":""},null,null,{"$f":"IF($K790=\"\",\"\",IF(#REF!<>\"\",#REF!,ROUND((($K790-1)*SUM(#REF!,#REF!,#REF!,#REF!,M790)),2)))","v":""}]
[null,null,null,"",null,"",null,null,null,null,{"$f":"IF(OR(D791=\"\",D791=\"Exemption\"),\"\",IF(#REF!=\"Consult AE\",\"Consult AE\",#REF!))","v":""},null,null,{"$f":"IF($K791=\"\",\"\",IF(#REF!<>\"\",#REF!,ROUND((($K791-1)*SUM(#REF!,#REF!,#REF!,#REF!,M791)),2)))","v":""}]
[null,null,null,"",null,"",null,null,null,null,{"$f":"IF(OR(D792=\"\",D792=\"Exemption\"),\"\",IF(#REF!=\"Consult AE\",\"Consult AE\",#REF!))","v":""},null,null,{"$f":"IF($K792=\"\",\"\",IF(#REF!<>\"\",#REF!,ROUND((($K792-1)*SUM(#REF!,#REF!,#REF!,#REF!,M792)),2)))","v":""}]
[null,null,null,"",null,"",null,null,null,null,{"$f":"IF(OR(D793=\"\",D793=\"Exemption\"),\"\",IF(#REF!=\"Consult AE\",\"Consult AE\",#REF!))","v":""},null,null,{"$f":"IF($K793=\"\",\"\",IF(#REF!<>\"\",#REF!,ROUND((($K793-1)*SUM(#REF!,#REF!,#REF!,#REF!,M793)),2)))","v":""}]
[null,null,null,"",null,"",null,null,null,null,{"$f":"IF(OR(D794=\"\",D794=\"Exemption\"),\"\",IF(#REF!=\"Consult AE\",\"Consult AE\",#REF!))","v":""},null,null,{"$f":"IF($K794=\"\",\"\",IF(#REF!<>\"\",#REF!,ROUND((($K794-1)*SUM(#REF!,#REF!,#REF!,#REF!,M794)),2)))","v":""}]
[null,null,null,"",null,"",null,null,null,null,{"$f":"IF(OR(D795=\"\",D795=\"Exemption\"),\"\",IF(#REF!=\"Consult AE\",\"Consult AE\",#REF!))","v":""},null,null,{"$f":"IF($K795=\"\",\"\",IF(#REF!<>\"\",#REF!,ROUND((($K795-1)*SUM(#REF!,#REF!,#REF!,#REF!,M795)),2)))","v":""}]
[null,null,null,"",null,"",null,null,null,null,{"$f":"IF(OR(D796=\"\",D796=\"Exemption\"),\"\",IF(#REF!=\"Consult AE\",\"Consult AE\",#REF!))","v":""},null,null,{"$f":"IF($K796=\"\",\"\",IF(#REF!<>\"\",#REF!,ROUND((($K796-1)*SUM(#REF!,#REF!,#REF!,#REF!,M796)),2)))","v":""}]
[null,null,null,"",null,"",null,null,null,null,{"$f":"IF(OR(D797=\"\",D797=\"Exemption\"),\"\",IF(#REF!=\"Consult AE\",\"Consult AE\",#REF!))","v":""},null,null,{"$f":"IF($K797=\"\",\"\",IF(#REF!<>\"\",#REF!,ROUND((($K797-1)*SUM(#REF!,#REF!,#REF!,#REF!,M797)),2)))","v":""}]
[null,null,null,"",null,"",null,null,null,null,{"$f":"IF(OR(D798=\"\",D798=\"Exemption\"),\"\",IF(#REF!=\"Consult AE\",\"Consult AE\",#REF!))","v":""},null,null,{"$f":"IF($K798=\"\",\"\",IF(#REF!<>\"\",#REF!,ROUND((($K798-1)*SUM(#REF!,#REF!,#REF!,#REF!,M798)),2)))","v":""}]
[null,null,null,"",null,"",null,null,null,null,{"$f":"IF(OR(D799=\"\",D799=\"Exemption\"),\"\",IF(#REF!=\"Consult AE\",\"Consult AE\",#REF!))","v":""},null,null,{"$f":"IF($K799=\"\",\"\",IF(#REF!<>\"\",#REF!,ROUND((($K799-1)*SUM(#REF!,#REF!,#REF!,#REF!,M799)),2)))","v":""}]
[null,null,null,"",null,"",null,null,null,null,{"$f":"IF(OR(D800=\"\",D800=\"Exemption\"),\"\",IF(#REF!=\"Consult AE\",\"Consult AE\",#REF!))","v":""},null,null,{"$f":"IF($K800=\"\",\"\",IF(#REF!<>\"\",#REF!,ROUND((($K800-1)*SUM(#REF!,#REF!,#REF!,#REF!,M800)),2)))","v":""}]
[null,null,null,"",null,"",null,null,null,null,{"$f":"IF(OR(D801=\"\",D801=\"Exemption\"),\"\",IF(#REF!=\"Consult AE\",\"Consult AE\",#REF!))","v":""},null,null,{"$f":"IF($K801=\"\",\"\",IF(#REF!<>\"\",#REF!,ROUND((($K801-1)*SUM(#REF!,#REF!,#REF!,#REF!,M801)),2)))","v":""}]
[null,null,null,"",null,"",null,null,null,null,{"$f":"IF(OR(D802=\"\",D802=\"Exemption\"),\"\",IF(#REF!=\"Consult AE\",\"Consult AE\",#REF!))","v":""},null,null,{"$f":"IF($K802=\"\",\"\",IF(#REF!<>\"\",#REF!,ROUND((($K802-1)*SUM(#REF!,#REF!,#REF!,#REF!,M802)),2)))","v":""}]
[null,null,null,"",null,"",null,null,null,null,{"$f":"IF(OR(D803=\"\",D803=\"Exemption\"),\"\",IF(#REF!=\"Consult AE\",\"Consult AE\",#REF!))","v":""},null,null,{"$f":"IF($K803=\"\",\"\",IF(#REF!<>\"\",#REF!,ROUND((($K803-1)*SUM(#REF!,#REF!,#REF!,#REF!,M803)),2)))","v":""}]
[null,null,null,"",null,"",null,null,null,null,{"$f":"IF(OR(D804=\"\",D804=\"Exemption\"),\"\",IF(#REF!=\"Consult AE\",\"Consult AE\",#REF!))","v":""},null,null,{"$f":"IF($K804=\"\",\"\",IF(#REF!<>\"\",#REF!,ROUND((($K804-1)*SUM(#REF!,#REF!,#REF!,#REF!,M804)),2)))","v":""}]
[null,null,null,"",null,"",null,null,null,null,{"$f":"IF(OR(D805=\"\",D805=\"Exemption\"),\"\",IF(#REF!=\"Consult AE\",\"Consult AE\",#REF!))","v":""},null,null,{"$f":"IF($K805=\"\",\"\",IF(#REF!<>\"\",#REF!,ROUND((($K805-1)*SUM(#REF!,#REF!,#REF!,#REF!,M805)),2)))","v":""}]
[null,null,null,"",null,"",null,null,null,null,{"$f":"IF(OR(D806=\"\",D806=\"Exemption\"),\"\",IF(#REF!=\"Consult AE\",\"Consult AE\",#REF!))","v":""},null,null,{"$f":"IF($K806=\"\",\"\",IF(#REF!<>\"\",#REF!,ROUND((($K806-1)*SUM(#REF!,#REF!,#REF!,#REF!,M806)),2)))","v":""}]
[null,null,null,"",null,"",null,null,null,null,{"$f":"IF(OR(D807=\"\",D807=\"Exemption\"),\"\",IF(#REF!=\"Consult AE\",\"Consult AE\",#REF!))","v":""},null,null,{"$f":"IF($K807=\"\",\"\",IF(#REF!<>\"\",#REF!,ROUND((($K807-1)*SUM(#REF!,#REF!,#REF!,#REF!,M807)),2)))","v":""}]
[null,null,null,"",null,"",null,null,null,null,{"$f":"IF(OR(D808=\"\",D808=\"Exemption\"),\"\",IF(#REF!=\"Consult AE\",\"Consult AE\",#REF!))","v":""},null,null,{"$f":"IF($K808=\"\",\"\",IF(#REF!<>\"\",#REF!,ROUND((($K808-1)*SUM(#REF!,#REF!,#REF!,#REF!,M808)),2)))","v":""}]
[null,null,null,"",null,"",null,null,null,null,{"$f":"IF(OR(D809=\"\",D809=\"Exemption\"),\"\",IF(#REF!=\"Consult AE\",\"Consult AE\",#REF!))","v":""},null,null,{"$f":"IF($K809=\"\",\"\",IF(#REF!<>\"\",#REF!,ROUND((($K809-1)*SUM(#REF!,#REF!,#REF!,#REF!,M809)),2)))","v":""}]
[null,null,null,"",null,"",null,null,null,null,{"$f":"IF(OR(D810=\"\",D810=\"Exemption\"),\"\",IF(#REF!=\"Consult AE\",\"Consult AE\",#REF!))","v":""},null,null,{"$f":"IF($K810=\"\",\"\",IF(#REF!<>\"\",#REF!,ROUND((($K810-1)*SUM(#REF!,#REF!,#REF!,#REF!,M810)),2)))","v":""}]
[null,null,null,"",null,"",null,null,null,null,{"$f":"IF(OR(D811=\"\",D811=\"Exemption\"),\"\",IF(#REF!=\"Consult AE\",\"Consult AE\",#REF!))","v":""},null,null,{"$f":"IF($K811=\"\",\"\",IF(#REF!<>\"\",#REF!,ROUND((($K811-1)*SUM(#REF!,#REF!,#REF!,#REF!,M811)),2)))","v":""}]
[null,null,null,"",null,"",null,null,null,null,{"$f":"IF(OR(D812=\"\",D812=\"Exemption\"),\"\",IF(#REF!=\"Consult AE\",\"Consult AE\",#REF!))","v":""},null,null,{"$f":"IF($K812=\"\",\"\",IF(#REF!<>\"\",#REF!,ROUND((($K812-1)*SUM(#REF!,#REF!,#REF!,#REF!,M812)),2)))","v":""}]
[null,null,null,"",null,"",null,null,null,null,{"$f":"IF(OR(D813=\"\",D813=\"Exemption\"),\"\",IF(#REF!=\"Consult AE\",\"Consult AE\",#REF!))","v":""},null,null,{"$f":"IF($K813=\"\",\"\",IF(#REF!<>\"\",#REF!,ROUND((($K813-1)*SUM(#REF!,#REF!,#REF!,#REF!,M813)),2)))","v":""}]
[null,null,null,"",null,"",null,null,null,null,{"$f":"IF(OR(D814=\"\",D814=\"Exemption\"),\"\",IF(#REF!=\"Consult AE\",\"Consult AE\",#REF!))","v":""},null,null,{"$f":"IF($K814=\"\",\"\",IF(#REF!<>\"\",#REF!,ROUND((($K814-1)*SUM(#REF!,#REF!,#REF!,#REF!,M814)),2)))","v":""}]
[null,null,null,"",null,"",null,null,null,null,{"$f":"IF(OR(D815=\"\",D815=\"Exemption\"),\"\",IF(#REF!=\"Consult AE\",\"Consult AE\",#REF!))","v":""},null,null,{"$f":"IF($K815=\"\",\"\",IF(#REF!<>\"\",#REF!,ROUND((($K815-1)*SUM(#REF!,#REF!,#REF!,#REF!,M815)),2)))","v":""}]
[null,null,null,"",null,"",null,null,null,null,{"$f":"IF(OR(D816=\"\",D816=\"Exemption\"),\"\",IF(#REF!=\"Consult AE\",\"Consult AE\",#REF!))","v":""},null,null,{"$f":"IF($K816=\"\",\"\",IF(#REF!<>\"\",#REF!,ROUND((($K816-1)*SUM(#REF!,#REF!,#REF!,#REF!,M816)),2)))","v":""}]
[null,null,null,"",null,"",null,null,null,null,{"$f":"IF(OR(D817=\"\",D817=\"Exemption\"),\"\",IF(#REF!=\"Consult AE\",\"Consult AE\",#REF!))","v":""},null,null,{"$f":"IF($K817=\"\",\"\",IF(#REF!<>\"\",#REF!,ROUND((($K817-1)*SUM(#REF!,#REF!,#REF!,#REF!,M817)),2)))","v":""}]
[null,null,null,"",null,"",null,null,null,null,{"$f":"IF(OR(D818=\"\",D818=\"Exemption\"),\"\",IF(#REF!=\"Consult AE\",\"Consult AE\",#REF!))","v":""},null,null,{"$f":"IF($K818=\"\",\"\",IF(#REF!<>\"\",#REF!,ROUND((($K818-1)*SUM(#REF!,#REF!,#REF!,#REF!,M818)),2)))","v":""}]
[null,null,null,"",null,"",null,null,null,null,{"$f":"IF(OR(D819=\"\",D819=\"Exemption\"),\"\",IF(#REF!=\"Consult AE\",\"Consult AE\",#REF!))","v":""},null,null,{"$f":"IF($K819=\"\",\"\",IF(#REF!<>\"\",#REF!,ROUND((($K819-1)*SUM(#REF!,#REF!,#REF!,#REF!,M819)),2)))","v":""}]
[null,null,null,"",null,"",null,null,null,null,{"$f":"IF(OR(D820=\"\",D820=\"Exemption\"),\"\",IF(#REF!=\"Consult AE\",\"Consult AE\",#REF!))","v":""},null,null,{"$f":"IF($K820=\"\",\"\",IF(#REF!<>\"\",#REF!,ROUND((($K820-1)*SUM(#REF!,#REF!,#REF!,#REF!,M820)),2)))","v":""}]
[null,null,null,"",null,"",null,null,null,null,{"$f":"IF(OR(D821=\"\",D821=\"Exemption\"),\"\",IF(#REF!=\"Consult AE\",\"Consult AE\",#REF!))","v":""},null,null,{"$f":"IF($K821=\"\",\"\",IF(#REF!<>\"\",#REF!,ROUND((($K821-1)*SUM(#REF!,#REF!,#REF!,#REF!,M821)),2)))","v":""}]
[null,null,null,"",null,"",null,null,null,null,{"$f":"IF(OR(D822=\"\",D822=\"Exemption\"),\"\",IF(#REF!=\"Consult AE\",\"Consult AE\",#REF!))","v":""},null,null,{"$f":"IF($K822=\"\",\"\",IF(#REF!<>\"\",#REF!,ROUND((($K822-1)*SUM(#REF!,#REF!,#REF!,#REF!,M822)),2)))","v":""}]
[null,null,null,"",null,"",null,null,null,null,{"$f":"IF(OR(D823=\"\",D823=\"Exemption\"),\"\",IF(#REF!=\"Consult AE\",\"Consult AE\",#REF!))","v":""},null,null,{"$f":"IF($K823=\"\",\"\",IF(#REF!<>\"\",#REF!,ROUND((($K823-1)*SUM(#REF!,#REF!,#REF!,#REF!,M823)),2)))","v":""}]
[null,null,null,"",null,"",null,null,null,null,{"$f":"IF(OR(D824=\"\",D824=\"Exemption\"),\"\",IF(#REF!=\"Consult AE\",\"Consult AE\",#REF!))","v":""},null,null,{"$f":"IF($K824=\"\",\"\",IF(#REF!<>\"\",#REF!,ROUND((($K824-1)*SUM(#REF!,#REF!,#REF!,#REF!,M824)),2)))","v":""}]
[null,null,null,"",null,"",null,null,null,null,{"$f":"IF(OR(D825=\"\",D825=\"Exemption\"),\"\",IF(#REF!=\"Consult AE\",\"Consult AE\",#REF!))","v":""},null,null,{"$f":"IF($K825=\"\",\"\",IF(#REF!<>\"\",#REF!,ROUND((($K825-1)*SUM(#REF!,#REF!,#REF!,#REF!,M825)),2)))","v":""}]
[null,null,null,"",null,"",null,null,null,null,{"$f":"IF(OR(D826=\"\",D826=\"Exemption\"),\"\",IF(#REF!=\"Consult AE\",\"Consult AE\",#REF!))","v":""},null,null,{"$f":"IF($K826=\"\",\"\",IF(#REF!<>\"\",#REF!,ROUND((($K826-1)*SUM(#REF!,#REF!,#REF!,#REF!,M826)),2)))","v":""}]
[null,null,null,"",null,"",null,null,null,null,{"$f":"IF(OR(D827=\"\",D827=\"Exemption\"),\"\",IF(#REF!=\"Consult AE\",\"Consult AE\",#REF!))","v":""},null,null,{"$f":"IF($K827=\"\",\"\",IF(#REF!<>\"\",#REF!,ROUND((($K827-1)*SUM(#REF!,#REF!,#REF!,#REF!,M827)),2)))","v":""}]
[null,null,null,"",null,"",null,null,null,null,{"$f":"IF(OR(D828=\"\",D828=\"Exemption\"),\"\",IF(#REF!=\"Consult AE\",\"Consult AE\",#REF!))","v":""},null,null,{"$f":"IF($K828=\"\",\"\",IF(#REF!<>\"\",#REF!,ROUND((($K828-1)*SUM(#REF!,#REF!,#REF!,#REF!,M828)),2)))","v":""}]
[null,null,null,"",null,"",null,null,null,null,{"$f":"IF(OR(D829=\"\",D829=\"Exemption\"),\"\",IF(#REF!=\"Consult AE\",\"Consult AE\",#REF!))","v":""},null,null,{"$f":"IF($K829=\"\",\"\",IF(#REF!<>\"\",#REF!,ROUND((($K829-1)*SUM(#REF!,#REF!,#REF!,#REF!,M829)),2)))","v":""}]
[null,null,null,"",null,"",null,null,null,null,{"$f":"IF(OR(D830=\"\",D830=\"Exemption\"),\"\",IF(#REF!=\"Consult AE\",\"Consult AE\",#REF!))","v":""},null,null,{"$f":"IF($K830=\"\",\"\",IF(#REF!<>\"\",#REF!,ROUND((($K830-1)*SUM(#REF!,#REF!,#REF!,#REF!,M830)),2)))","v":""}]
[null,null,null,"",null,"",null,null,null,null,{"$f":"IF(OR(D831=\"\",D831=\"Exemption\"),\"\",IF(#REF!=\"Consult AE\",\"Consult AE\",#REF!))","v":""},null,null,{"$f":"IF($K831=\"\",\"\",IF(#REF!<>\"\",#REF!,ROUND((($K831-1)*SUM(#REF!,#REF!,#REF!,#REF!,M831)),2)))","v":""}]
[null,null,null,"",null,"",null,null,null,null,{"$f":"IF(OR(D832=\"\",D832=\"Exemption\"),\"\",IF(#REF!=\"Consult AE\",\"Consult AE\",#REF!))","v":""},null,null,{"$f":"IF($K832=\"\",\"\",IF(#REF!<>\"\",#REF!,ROUND((($K832-1)*SUM(#REF!,#REF!,#REF!,#REF!,M832)),2)))","v":""}]
[null,null,null,"",null,"",null,null,null,null,{"$f":"IF(OR(D833=\"\",D833=\"Exemption\"),\"\",IF(#REF!=\"Consult AE\",\"Consult AE\",#REF!))","v":""},null,null,{"$f":"IF($K833=\"\",\"\",IF(#REF!<>\"\",#REF!,ROUND((($K833-1)*SUM(#REF!,#REF!,#REF!,#REF!,M833)),2)))","v":""}]
[null,null,null,"",null,"",null,null,null,null,{"$f":"IF(OR(D834=\"\",D834=\"Exemption\"),\"\",IF(#REF!=\"Consult AE\",\"Consult AE\",#REF!))","v":""},null,null,{"$f":"IF($K834=\"\",\"\",IF(#REF!<>\"\",#REF!,ROUND((($K834-1)*SUM(#REF!,#REF!,#REF!,#REF!,M834)),2)))","v":""}]
[null,null,null,"",null,"",null,null,null,null,{"$f":"IF(OR(D835=\"\",D835=\"Exemption\"),\"\",IF(#REF!=\"Consult AE\",\"Consult AE\",#REF!))","v":""},null,null,{"$f":"IF($K835=\"\",\"\",IF(#REF!<>\"\",#REF!,ROUND((($K835-1)*SUM(#REF!,#REF!,#REF!,#REF!,M835)),2)))","v":""}]
[null,null,null,"",null,"",null,null,null,null,{"$f":"IF(OR(D836=\"\",D836=\"Exemption\"),\"\",IF(#REF!=\"Consult AE\",\"Consult AE\",#REF!))","v":""},null,null,{"$f":"IF($K836=\"\",\"\",IF(#REF!<>\"\",#REF!,ROUND((($K836-1)*SUM(#REF!,#REF!,#REF!,#REF!,M836)),2)))","v":""}]
[null,null,null,"",null,"",null,null,null,null,{"$f":"IF(OR(D837=\"\",D837=\"Exemption\"),\"\",IF(#REF!=\"Consult AE\",\"Consult AE\",#REF!))","v":""},null,null,{"$f":"IF($K837=\"\",\"\",IF(#REF!<>\"\",#REF!,ROUND((($K837-1)*SUM(#REF!,#REF!,#REF!,#REF!,M837)),2)))","v":""}]
[null,null,null,"",null,"",null,null,null,null,{"$f":"IF(OR(D838=\"\",D838=\"Exemption\"),\"\",IF(#REF!=\"Consult AE\",\"Consult AE\",#REF!))","v":""},null,null,{"$f":"IF($K838=\"\",\"\",IF(#REF!<>\"\",#REF!,ROUND((($K838-1)*SUM(#REF!,#REF!,#REF!,#REF!,M838)),2)))","v":""}]
[null,null,null,"",null,"",null,null,null,null,{"$f":"IF(OR(D839=\"\",D839=\"Exemption\"),\"\",IF(#REF!=\"Consult AE\",\"Consult AE\",#REF!))","v":""},null,null,{"$f":"IF($K839=\"\",\"\",IF(#REF!<>\"\",#REF!,ROUND((($K839-1)*SUM(#REF!,#REF!,#REF!,#REF!,M839)),2)))","v":""}]
[null,null,null,"",null,"",null,null,null,null,{"$f":"IF(OR(D840=\"\",D840=\"Exemption\"),\"\",IF(#REF!=\"Consult AE\",\"Consult AE\",#REF!))","v":""},null,null,{"$f":"IF($K840=\"\",\"\",IF(#REF!<>\"\",#REF!,ROUND((($K840-1)*SUM(#REF!,#REF!,#REF!,#REF!,M840)),2)))","v":""}]
[null,null,null,"",null,"",null,null,null,null,{"$f":"IF(OR(D841=\"\",D841=\"Exemption\"),\"\",IF(#REF!=\"Consult AE\",\"Consult AE\",#REF!))","v":""},null,null,{"$f":"IF($K841=\"\",\"\",IF(#REF!<>\"\",#REF!,ROUND((($K841-1)*SUM(#REF!,#REF!,#REF!,#REF!,M841)),2)))","v":""}]
[null,null,null,"",null,"",null,null,null,null,{"$f":"IF(OR(D842=\"\",D842=\"Exemption\"),\"\",IF(#REF!=\"Consult AE\",\"Consult AE\",#REF!))","v":""},null,null,{"$f":"IF($K842=\"\",\"\",IF(#REF!<>\"\",#REF!,ROUND((($K842-1)*SUM(#REF!,#REF!,#REF!,#REF!,M842)),2)))","v":""}]
[null,null,null,"",null,"",null,null,null,null,{"$f":"IF(OR(D843=\"\",D843=\"Exemption\"),\"\",IF(#REF!=\"Consult AE\",\"Consult AE\",#REF!))","v":""},null,null,{"$f":"IF($K843=\"\",\"\",IF(#REF!<>\"\",#REF!,ROUND((($K843-1)*SUM(#REF!,#REF!,#REF!,#REF!,M843)),2)))","v":""}]
[null,null,null,"",null,"",null,null,null,null,{"$f":"IF(OR(D844=\"\",D844=\"Exemption\"),\"\",IF(#REF!=\"Consult AE\",\"Consult AE\",#REF!))","v":""},null,null,{"$f":"IF($K844=\"\",\"\",IF(#REF!<>\"\",#REF!,ROUND((($K844-1)*SUM(#REF!,#REF!,#REF!,#REF!,M844)),2)))","v":""}]
[null,null,null,"",null,"",null,null,null,null,{"$f":"IF(OR(D845=\"\",D845=\"Exemption\"),\"\",IF(#REF!=\"Consult AE\",\"Consult AE\",#REF!))","v":""},null,null,{"$f":"IF($K845=\"\",\"\",IF(#REF!<>\"\",#REF!,ROUND((($K845-1)*SUM(#REF!,#REF!,#REF!,#REF!,M845)),2)))","v":""}]
[null,null,null,"",null,"",null,null,null,null,{"$f":"IF(OR(D846=\"\",D846=\"Exemption\"),\"\",IF(#REF!=\"Consult AE\",\"Consult AE\",#REF!))","v":""},null,null,{"$f":"IF($K846=\"\",\"\",IF(#REF!<>\"\",#REF!,ROUND((($K846-1)*SUM(#REF!,#REF!,#REF!,#REF!,M846)),2)))","v":""}]
[null,null,null,"",null,{"$f":"IF(C847=\"\",\"\",IF($F$7<$F$6,D847-C847,D847+C847))","v":""},null,null,null,null,{"$f":"IF(OR(D847=\"\",D847=\"Exemption\"),\"\",IF(#REF!=\"Consult AE\",\"Consult AE\",#REF!))","v":""},null,null,{"$f":"IF($K847=\"\",\"\",IF(#REF!<>\"\",#REF!,ROUND((($K847-1)*SUM(#REF!,#REF!,#REF!,#REF!,M847)),2)))","v":""}]
[null,null,null,{"$f":"+IF(A848=\"\",\"\",IF($F$7<$F$6,D847-(A848-A847),D847+(A848-A847)))","v":""},null,"",null,null,null,null,{"$f":"IF(OR(D848=\"\",D848=\"Exemption\"),\"\",IF(#REF!=\"Consult AE\",\"Consult AE\",#REF!))","v":""},null,null,{"$f":"IF($K848=\"\",\"\",IF(#REF!<>\"\",#REF!,ROUND((($K848-1)*SUM(#REF!,#REF!,#REF!,#REF!,M848)),2)))","v":""}]
[null,null,null,"",null,"",null,null,null,null,{"$f":"IF(OR(D849=\"\",D849=\"Exemption\"),\"\",IF(#REF!=\"Consult AE\",\"Consult AE\",#REF!))","v":""},null,null,{"$f":"IF($K849=\"\",\"\",IF(#REF!<>\"\",#REF!,ROUND((($K849-1)*SUM(#REF!,#REF!,#REF!,#REF!,M849)),2)))","v":""}]
[null,null,null,"",null,"",null,null,null,null,{"$f":"IF(OR(D850=\"\",D850=\"Exemption\"),\"\",IF(#REF!=\"Consult AE\",\"Consult AE\",#REF!))","v":""},null,null,{"$f":"IF($K850=\"\",\"\",IF(#REF!<>\"\",#REF!,ROUND((($K850-1)*SUM(#REF!,#REF!,#REF!,#REF!,M850)),2)))","v":""}]
[null,null,null,"",null,"",null,null,null,null,{"$f":"IF(OR(D851=\"\",D851=\"Exemption\"),\"\",IF(#REF!=\"Consult AE\",\"Consult AE\",#REF!))","v":""},null,null,{"$f":"IF($K851=\"\",\"\",IF(#REF!<>\"\",#REF!,ROUND((($K851-1)*SUM(#REF!,#REF!,#REF!,#REF!,M851)),2)))","v":""}]
[null,null,null,"",null,"",null,null,null,null,{"$f":"IF(OR(D852=\"\",D852=\"Exemption\"),\"\",IF(#REF!=\"Consult AE\",\"Consult AE\",#REF!))","v":""},null,null,{"$f":"IF($K852=\"\",\"\",IF(#REF!<>\"\",#REF!,ROUND((($K852-1)*SUM(#REF!,#REF!,#REF!,#REF!,M852)),2)))","v":""}]
[null,null,null,"",null,"",null,null,null,null,{"$f":"IF(OR(D853=\"\",D853=\"Exemption\"),\"\",IF(#REF!=\"Consult AE\",\"Consult AE\",#REF!))","v":""},null,null,{"$f":"IF($K853=\"\",\"\",IF(#REF!<>\"\",#REF!,ROUND((($K853-1)*SUM(#REF!,#REF!,#REF!,#REF!,M853)),2)))","v":""}]
[null,null,null,"",null,"",null,null,null,null,{"$f":"IF(OR(D854=\"\",D854=\"Exemption\"),\"\",IF(#REF!=\"Consult AE\",\"Consult AE\",#REF!))","v":""},null,null,{"$f":"IF($K854=\"\",\"\",IF(#REF!<>\"\",#REF!,ROUND((($K854-1)*SUM(#REF!,#REF!,#REF!,#REF!,M854)),2)))","v":""}]
[null,null,null,"",null,"",null,null,null,null,{"$f":"IF(OR(D855=\"\",D855=\"Exemption\"),\"\",IF(#REF!=\"Consult AE\",\"Consult AE\",#REF!))","v":""},null,null,{"$f":"IF($K855=\"\",\"\",IF(#REF!<>\"\",#REF!,ROUND((($K855-1)*SUM(#REF!,#REF!,#REF!,#REF!,M855)),2)))","v":""}]
[null,null,null,"",null,"",null,null,null,null,{"$f":"IF(OR(D856=\"\",D856=\"Exemption\"),\"\",IF(#REF!=\"Consult AE\",\"Consult AE\",#REF!))","v":""},null,null,{"$f":"IF($K856=\"\",\"\",IF(#REF!<>\"\",#REF!,ROUND((($K856-1)*SUM(#REF!,#REF!,#REF!,#REF!,M856)),2)))","v":""}]
[null,null,null,"",null,"",null,null,null,null,{"$f":"IF(OR(D857=\"\",D857=\"Exemption\"),\"\",IF(#REF!=\"Consult AE\",\"Consult AE\",#REF!))","v":""},null,null,{"$f":"IF($K857=\"\",\"\",IF(#REF!<>\"\",#REF!,ROUND((($K857-1)*SUM(#REF!,#REF!,#REF!,#REF!,M857)),2)))","v":""}]
[null,null,null,"",null,"",null,null,null,null,{"$f":"IF(OR(D858=\"\",D858=\"Exemption\"),\"\",IF(#REF!=\"Consult AE\",\"Consult AE\",#REF!))","v":""},null,null,{"$f":"IF($K858=\"\",\"\",IF(#REF!<>\"\",#REF!,ROUND((($K858-1)*SUM(#REF!,#REF!,#REF!,#REF!,M858)),2)))","v":""}]
[null,null,null,"",null,"",null,null,null,null,{"$f":"IF(OR(D859=\"\",D859=\"Exemption\"),\"\",IF(#REF!=\"Consult AE\",\"Consult AE\",#REF!))","v":""},null,null,{"$f":"IF($K859=\"\",\"\",IF(#REF!<>\"\",#REF!,ROUND((($K859-1)*SUM(#REF!,#REF!,#REF!,#REF!,M859)),2)))","v":""}]
[null,null,null,"",null,"",null,null,null,null,{"$f":"IF(OR(D860=\"\",D860=\"Exemption\"),\"\",IF(#REF!=\"Consult AE\",\"Consult AE\",#REF!))","v":""},null,null,{"$f":"IF($K860=\"\",\"\",IF(#REF!<>\"\",#REF!,ROUND((($K860-1)*SUM(#REF!,#REF!,#REF!,#REF!,M860)),2)))","v":""}]
[null,null,null,"",null,"",null,null,null,null,{"$f":"IF(OR(D861=\"\",D861=\"Exemption\"),\"\",IF(#REF!=\"Consult AE\",\"Consult AE\",#REF!))","v":""},null,null,{"$f":"IF($K861=\"\",\"\",IF(#REF!<>\"\",#REF!,ROUND((($K861-1)*SUM(#REF!,#REF!,#REF!,#REF!,M861)),2)))","v":""}]
[null,null,null,"",null,"",null,null,null,null,{"$f":"IF(OR(D862=\"\",D862=\"Exemption\"),\"\",IF(#REF!=\"Consult AE\",\"Consult AE\",#REF!))","v":""},null,null,{"$f":"IF($K862=\"\",\"\",IF(#REF!<>\"\",#REF!,ROUND((($K862-1)*SUM(#REF!,#REF!,#REF!,#REF!,M862)),2)))","v":""}]
[null,null,null,"",null,"",null,null,null,null,{"$f":"IF(OR(D863=\"\",D863=\"Exemption\"),\"\",IF(#REF!=\"Consult AE\",\"Consult AE\",#REF!))","v":""},null,null,{"$f":"IF($K863=\"\",\"\",IF(#REF!<>\"\",#REF!,ROUND((($K863-1)*SUM(#REF!,#REF!,#REF!,#REF!,M863)),2)))","v":""}]
[null,null,null,"",null,"",null,null,null,null,{"$f":"IF(OR(D864=\"\",D864=\"Exemption\"),\"\",IF(#REF!=\"Consult AE\",\"Consult AE\",#REF!))","v":""},null,null,{"$f":"IF($K864=\"\",\"\",IF(#REF!<>\"\",#REF!,ROUND((($K864-1)*SUM(#REF!,#REF!,#REF!,#REF!,M864)),2)))","v":""}]
[null,null,null,"",null,"",null,null,null,null,{"$f":"IF(OR(D865=\"\",D865=\"Exemption\"),\"\",IF(#REF!=\"Consult AE\",\"Consult AE\",#REF!))","v":""},null,null,{"$f":"IF($K865=\"\",\"\",IF(#REF!<>\"\",#REF!,ROUND((($K865-1)*SUM(#REF!,#REF!,#REF!,#REF!,M865)),2)))","v":""}]
[null,null,null,"",null,"",null,null,null,null,{"$f":"IF(OR(D866=\"\",D866=\"Exemption\"),\"\",IF(#REF!=\"Consult AE\",\"Consult AE\",#REF!))","v":""},null,null,{"$f":"IF($K866=\"\",\"\",IF(#REF!<>\"\",#REF!,ROUND((($K866-1)*SUM(#REF!,#REF!,#REF!,#REF!,M866)),2)))","v":""}]
[null,null,null,"",null,"",null,null,null,null,{"$f":"IF(OR(D867=\"\",D867=\"Exemption\"),\"\",IF(#REF!=\"Consult AE\",\"Consult AE\",#REF!))","v":""},null,null,{"$f":"IF($K867=\"\",\"\",IF(#REF!<>\"\",#REF!,ROUND((($K867-1)*SUM(#REF!,#REF!,#REF!,#REF!,M867)),2)))","v":""}]
[null,null,null,"",null,"",null,null,null,null,{"$f":"IF(OR(D868=\"\",D868=\"Exemption\"),\"\",IF(#REF!=\"Consult AE\",\"Consult AE\",#REF!))","v":""},null,null,{"$f":"IF($K868=\"\",\"\",IF(#REF!<>\"\",#REF!,ROUND((($K868-1)*SUM(#REF!,#REF!,#REF!,#REF!,M868)),2)))","v":""}]
[null,null,null,"",null,"",null,null,null,null,{"$f":"IF(OR(D869=\"\",D869=\"Exemption\"),\"\",IF(#REF!=\"Consult AE\",\"Consult AE\",#REF!))","v":""},null,null,{"$f":"IF($K869=\"\",\"\",IF(#REF!<>\"\",#REF!,ROUND((($K869-1)*SUM(#REF!,#REF!,#REF!,#REF!,M869)),2)))","v":""}]
[null,null,null,"",null,"",null,null,null,null,{"$f":"IF(OR(D870=\"\",D870=\"Exemption\"),\"\",IF(#REF!=\"Consult AE\",\"Consult AE\",#REF!))","v":""},null,null,{"$f":"IF($K870=\"\",\"\",IF(#REF!<>\"\",#REF!,ROUND((($K870-1)*SUM(#REF!,#REF!,#REF!,#REF!,M870)),2)))","v":""}]
[null,null,null,"",null,"",null,null,null,null,{"$f":"IF(OR(D871=\"\",D871=\"Exemption\"),\"\",IF(#REF!=\"Consult AE\",\"Consult AE\",#REF!))","v":""},null,null,{"$f":"IF($K871=\"\",\"\",IF(#REF!<>\"\",#REF!,ROUND((($K871-1)*SUM(#REF!,#REF!,#REF!,#REF!,M871)),2)))","v":""}]
[null,null,null,"",null,"",null,null,null,null,{"$f":"IF(OR(D872=\"\",D872=\"Exemption\"),\"\",IF(#REF!=\"Consult AE\",\"Consult AE\",#REF!))","v":""},null,null,{"$f":"IF($K872=\"\",\"\",IF(#REF!<>\"\",#REF!,ROUND((($K872-1)*SUM(#REF!,#REF!,#REF!,#REF!,M872)),2)))","v":""}]
[null,null,null,"",null,"",null,null,null,null,{"$f":"IF(OR(D873=\"\",D873=\"Exemption\"),\"\",IF(#REF!=\"Consult AE\",\"Consult AE\",#REF!))","v":""},null,null,{"$f":"IF($K873=\"\",\"\",IF(#REF!<>\"\",#REF!,ROUND((($K873-1)*SUM(#REF!,#REF!,#REF!,#REF!,M873)),2)))","v":""}]
[null,null,null,"",null,"",null,null,null,null,{"$f":"IF(OR(D874=\"\",D874=\"Exemption\"),\"\",IF(#REF!=\"Consult AE\",\"Consult AE\",#REF!))","v":""},null,null,{"$f":"IF($K874=\"\",\"\",IF(#REF!<>\"\",#REF!,ROUND((($K874-1)*SUM(#REF!,#REF!,#REF!,#REF!,M874)),2)))","v":""}]
[null,null,null,"",null,"",null,null,null,null,{"$f":"IF(OR(D875=\"\",D875=\"Exemption\"),\"\",IF(#REF!=\"Consult AE\",\"Consult AE\",#REF!))","v":""},null,null,{"$f":"IF($K875=\"\",\"\",IF(#REF!<>\"\",#REF!,ROUND((($K875-1)*SUM(#REF!,#REF!,#REF!,#REF!,M875)),2)))","v":""}]
[null,null,null,"",null,"",null,null,null,null,{"$f":"IF(OR(D876=\"\",D876=\"Exemption\"),\"\",IF(#REF!=\"Consult AE\",\"Consult AE\",#REF!))","v":""},null,null,{"$f":"IF($K876=\"\",\"\",IF(#REF!<>\"\",#REF!,ROUND((($K876-1)*SUM(#REF!,#REF!,#REF!,#REF!,M876)),2)))","v":""}]
[null,null,null,"",null,"",null,null,null,null,{"$f":"IF(OR(D877=\"\",D877=\"Exemption\"),\"\",IF(#REF!=\"Consult AE\",\"Consult AE\",#REF!))","v":""},null,null,{"$f":"IF($K877=\"\",\"\",IF(#REF!<>\"\",#REF!,ROUND((($K877-1)*SUM(#REF!,#REF!,#REF!,#REF!,M877)),2)))","v":""}]
[null,null,null,"",null,"",null,null,null,null,{"$f":"IF(OR(D878=\"\",D878=\"Exemption\"),\"\",IF(#REF!=\"Consult AE\",\"Consult AE\",#REF!))","v":""},null,null,{"$f":"IF($K878=\"\",\"\",IF(#REF!<>\"\",#REF!,ROUND((($K878-1)*SUM(#REF!,#REF!,#REF!,#REF!,M878)),2)))","v":""}]
[null,null,null,"",null,"",null,null,null,null,{"$f":"IF(OR(D879=\"\",D879=\"Exemption\"),\"\",IF(#REF!=\"Consult AE\",\"Consult AE\",#REF!))","v":""},null,null,{"$f":"IF($K879=\"\",\"\",IF(#REF!<>\"\",#REF!,ROUND((($K879-1)*SUM(#REF!,#REF!,#REF!,#REF!,M879)),2)))","v":""}]
[null,null,null,"",null,"",null,null,null,null,{"$f":"IF(OR(D880=\"\",D880=\"Exemption\"),\"\",IF(#REF!=\"Consult AE\",\"Consult AE\",#REF!))","v":""},null,null,{"$f":"IF($K880=\"\",\"\",IF(#REF!<>\"\",#REF!,ROUND((($K880-1)*SUM(#REF!,#REF!,#REF!,#REF!,M880)),2)))","v":""}]
[null,null,null,"",null,"",null,null,null,null,{"$f":"IF(OR(D881=\"\",D881=\"Exemption\"),\"\",IF(#REF!=\"Consult AE\",\"Consult AE\",#REF!))","v":""},null,null,{"$f":"IF($K881=\"\",\"\",IF(#REF!<>\"\",#REF!,ROUND((($K881-1)*SUM(#REF!,#REF!,#REF!,#REF!,M881)),2)))","v":""}]
[null,null,null,"",null,"",null,null,null,null,{"$f":"IF(OR(D882=\"\",D882=\"Exemption\"),\"\",IF(#REF!=\"Consult AE\",\"Consult AE\",#REF!))","v":""},null,null,{"$f":"IF($K882=\"\",\"\",IF(#REF!<>\"\",#REF!,ROUND((($K882-1)*SUM(#REF!,#REF!,#REF!,#REF!,M882)),2)))","v":""}]
[null,null,null,"",null,"",null,null,null,null,{"$f":"IF(OR(D883=\"\",D883=\"Exemption\"),\"\",IF(#REF!=\"Consult AE\",\"Consult AE\",#REF!))","v":""},null,null,{"$f":"IF($K883=\"\",\"\",IF(#REF!<>\"\",#REF!,ROUND((($K883-1)*SUM(#REF!,#REF!,#REF!,#REF!,M883)),2)))","v":""}]
[null,null,null,"",null,"",null,null,null,null,{"$f":"IF(OR(D884=\"\",D884=\"Exemption\"),\"\",IF(#REF!=\"Consult AE\",\"Consult AE\",#REF!))","v":""},null,null,{"$f":"IF($K884=\"\",\"\",IF(#REF!<>\"\",#REF!,ROUND((($K884-1)*SUM(#REF!,#REF!,#REF!,#REF!,M884)),2)))","v":""}]
[null,null,null,"",null,"",null,null,null,null,{"$f":"IF(OR(D885=\"\",D885=\"Exemption\"),\"\",IF(#REF!=\"Consult AE\",\"Consult AE\",#REF!))","v":""},null,null,{"$f":"IF($K885=\"\",\"\",IF(#REF!<>\"\",#REF!,ROUND((($K885-1)*SUM(#REF!,#REF!,#REF!,#REF!,M885)),2)))","v":""}]
[null,null,null,"",null,"",null,null,null,null,{"$f":"IF(OR(D886=\"\",D886=\"Exemption\"),\"\",IF(#REF!=\"Consult AE\",\"Consult AE\",#REF!))","v":""},null,null,{"$f":"IF($K886=\"\",\"\",IF(#REF!<>\"\",#REF!,ROUND((($K886-1)*SUM(#REF!,#REF!,#REF!,#REF!,M886)),2)))","v":""}]
[null,null,null,"",null,"",null,null,null,null,{"$f":"IF(OR(D887=\"\",D887=\"Exemption\"),\"\",IF(#REF!=\"Consult AE\",\"Consult AE\",#REF!))","v":""},null,null,{"$f":"IF($K887=\"\",\"\",IF(#REF!<>\"\",#REF!,ROUND((($K887-1)*SUM(#REF!,#REF!,#REF!,#REF!,M887)),2)))","v":""}]
[null,null,null,"",null,"",null,null,null,null,{"$f":"IF(OR(D888=\"\",D888=\"Exemption\"),\"\",IF(#REF!=\"Consult AE\",\"Consult AE\",#REF!))","v":""},null,null,{"$f":"IF($K888=\"\",\"\",IF(#REF!<>\"\",#REF!,ROUND((($K888-1)*SUM(#REF!,#REF!,#REF!,#REF!,M888)),2)))","v":""}]
[null,null,null,"",null,"",null,null,null,null,{"$f":"IF(OR(D889=\"\",D889=\"Exemption\"),\"\",IF(#REF!=\"Consult AE\",\"Consult AE\",#REF!))","v":""},null,null,{"$f":"IF($K889=\"\",\"\",IF(#REF!<>\"\",#REF!,ROUND((($K889-1)*SUM(#REF!,#REF!,#REF!,#REF!,M889)),2)))","v":""}]
[null,null,null,"",null,"",null,null,null,null,{"$f":"IF(OR(D890=\"\",D890=\"Exemption\"),\"\",IF(#REF!=\"Consult AE\",\"Consult AE\",#REF!))","v":""},null,null,{"$f":"IF($K890=\"\",\"\",IF(#REF!<>\"\",#REF!,ROUND((($K890-1)*SUM(#REF!,#REF!,#REF!,#REF!,M890)),2)))","v":""}]
[null,null,null,"",null,"",null,null,null,null,{"$f":"IF(OR(D891=\"\",D891=\"Exemption\"),\"\",IF(#REF!=\"Consult AE\",\"Consult AE\",#REF!))","v":""},null,null,{"$f":"IF($K891=\"\",\"\",IF(#REF!<>\"\",#REF!,ROUND((($K891-1)*SUM(#REF!,#REF!,#REF!,#REF!,M891)),2)))","v":""}]
[null,null,null,"",null,"",null,null,null,null,{"$f":"IF(OR(D892=\"\",D892=\"Exemption\"),\"\",IF(#REF!=\"Consult AE\",\"Consult AE\",#REF!))","v":""},null,null,{"$f":"IF($K892=\"\",\"\",IF(#REF!<>\"\",#REF!,ROUND((($K892-1)*SUM(#REF!,#REF!,#REF!,#REF!,M892)),2)))","v":""}]
[null,null,null,"",null,"",null,null,null,null,{"$f":"IF(OR(D893=\"\",D893=\"Exemption\"),\"\",IF(#REF!=\"Consult AE\",\"Consult AE\",#REF!))","v":""},null,null,{"$f":"IF($K893=\"\",\"\",IF(#REF!<>\"\",#REF!,ROUND((($K893-1)*SUM(#REF!,#REF!,#REF!,#REF!,M893)),2)))","v":""}]
[null,null,null,"",null,"",null,null,null,null,{"$f":"IF(OR(D894=\"\",D894=\"Exemption\"),\"\",IF(#REF!=\"Consult AE\",\"Consult AE\",#REF!))","v":""},null,null,{"$f":"IF($K894=\"\",\"\",IF(#REF!<>\"\",#REF!,ROUND((($K894-1)*SUM(#REF!,#REF!,#REF!,#REF!,M894)),2)))","v":""}]
[null,null,null,"",null,"",null,null,null,null,{"$f":"IF(OR(D895=\"\",D895=\"Exemption\"),\"\",IF(#REF!=\"Consult AE\",\"Consult AE\",#REF!))","v":""},null,null,{"$f":"IF($K895=\"\",\"\",IF(#REF!<>\"\",#REF!,ROUND((($K895-1)*SUM(#REF!,#REF!,#REF!,#REF!,M895)),2)))","v":""}]
[null,null,null,"",null,"",null,null,null,null,{"$f":"IF(OR(D896=\"\",D896=\"Exemption\"),\"\",IF(#REF!=\"Consult AE\",\"Consult AE\",#REF!))","v":""},null,null,{"$f":"IF($K896=\"\",\"\",IF(#REF!<>\"\",#REF!,ROUND((($K896-1)*SUM(#REF!,#REF!,#REF!,#REF!,M896)),2)))","v":""}]
[null,null,null,"",null,"",null,null,null,null,{"$f":"IF(OR(D897=\"\",D897=\"Exemption\"),\"\",IF(#REF!=\"Consult AE\",\"Consult AE\",#REF!))","v":""},null,null,{"$f":"IF($K897=\"\",\"\",IF(#REF!<>\"\",#REF!,ROUND((($K897-1)*SUM(#REF!,#REF!,#REF!,#REF!,M897)),2)))","v":""}]
[null,null,null,"",null,"",null,null,null,null,{"$f":"IF(OR(D898=\"\",D898=\"Exemption\"),\"\",IF(#REF!=\"Consult AE\",\"Consult AE\",#REF!))","v":""},null,null,{"$f":"IF($K898=\"\",\"\",IF(#REF!<>\"\",#REF!,ROUND((($K898-1)*SUM(#REF!,#REF!,#REF!,#REF!,M898)),2)))","v":""}]
[null,null,null,"",null,"",null,null,null,null,{"$f":"IF(OR(D899=\"\",D899=\"Exemption\"),\"\",IF(#REF!=\"Consult AE\",\"Consult AE\",#REF!))","v":""},null,null,{"$f":"IF($K899=\"\",\"\",IF(#REF!<>\"\",#REF!,ROUND((($K899-1)*SUM(#REF!,#REF!,#REF!,#REF!,M899)),2)))","v":""}]
[null,null,null,"",null,"",null,null,null,null,{"$f":"IF(OR(D900=\"\",D900=\"Exemption\"),\"\",IF(#REF!=\"Consult AE\",\"Consult AE\",#REF!))","v":""},null,null,{"$f":"IF($K900=\"\",\"\",IF(#REF!<>\"\",#REF!,ROUND((($K900-1)*SUM(#REF!,#REF!,#REF!,#REF!,M900)),2)))","v":""}]
[null,null,null,"",null,"",null,null,null,null,{"$f":"IF(OR(D901=\"\",D901=\"Exemption\"),\"\",IF(#REF!=\"Consult AE\",\"Consult AE\",#REF!))","v":""},null,null,{"$f":"IF($K901=\"\",\"\",IF(#REF!<>\"\",#REF!,ROUND((($K901-1)*SUM(#REF!,#REF!,#REF!,#REF!,M901)),2)))","v":""}]
[null,null,null,"",null,"",null,null,null,null,{"$f":"IF(OR(D902=\"\",D902=\"Exemption\"),\"\",IF(#REF!=\"Consult AE\",\"Consult AE\",#REF!))","v":""},null,null,{"$f":"IF($K902=\"\",\"\",IF(#REF!<>\"\",#REF!,ROUND((($K902-1)*SUM(#REF!,#REF!,#REF!,#REF!,M902)),2)))","v":""}]
[null,null,null,"",null,"",null,null,null,null,{"$f":"IF(OR(D903=\"\",D903=\"Exemption\"),\"\",IF(#REF!=\"Consult AE\",\"Consult AE\",#REF!))","v":""},null,null,{"$f":"IF($K903=\"\",\"\",IF(#REF!<>\"\",#REF!,ROUND((($K903-1)*SUM(#REF!,#REF!,#REF!,#REF!,M903)),2)))","v":""}]
[null,null,null,"",null,"",null,null,null,null,{"$f":"IF(OR(D904=\"\",D904=\"Exemption\"),\"\",IF(#REF!=\"Consult AE\",\"Consult AE\",#REF!))","v":""},null,null,{"$f":"IF($K904=\"\",\"\",IF(#REF!<>\"\",#REF!,ROUND((($K904-1)*SUM(#REF!,#REF!,#REF!,#REF!,M904)),2)))","v":""}]
[null,null,null,"",null,"",null,null,null,null,{"$f":"IF(OR(D905=\"\",D905=\"Exemption\"),\"\",IF(#REF!=\"Consult AE\",\"Consult AE\",#REF!))","v":""},null,null,{"$f":"IF($K905=\"\",\"\",IF(#REF!<>\"\",#REF!,ROUND((($K905-1)*SUM(#REF!,#REF!,#REF!,#REF!,M905)),2)))","v":""}]
[null,null,null,"",null,"",null,null,null,null,{"$f":"IF(OR(D906=\"\",D906=\"Exemption\"),\"\",IF(#REF!=\"Consult AE\",\"Consult AE\",#REF!))","v":""},null,null,{"$f":"IF($K906=\"\",\"\",IF(#REF!<>\"\",#REF!,ROUND((($K906-1)*SUM(#REF!,#REF!,#REF!,#REF!,M906)),2)))","v":""}]
[null,null,null,"",null,"",null,null,null,null,{"$f":"IF(OR(D907=\"\",D907=\"Exemption\"),\"\",IF(#REF!=\"Consult AE\",\"Consult AE\",#REF!))","v":""},null,null,{"$f":"IF($K907=\"\",\"\",IF(#REF!<>\"\",#REF!,ROUND((($K907-1)*SUM(#REF!,#REF!,#REF!,#REF!,M907)),2)))","v":""}]
[null,null,null,"",null,"",null,null,null,null,{"$f":"IF(OR(D908=\"\",D908=\"Exemption\"),\"\",IF(#REF!=\"Consult AE\",\"Consult AE\",#REF!))","v":""},null,null,{"$f":"IF($K908=\"\",\"\",IF(#REF!<>\"\",#REF!,ROUND((($K908-1)*SUM(#REF!,#REF!,#REF!,#REF!,M908)),2)))","v":""}]
[null,null,null,"",null,"",null,null,null,null,{"$f":"IF(OR(D909=\"\",D909=\"Exemption\"),\"\",IF(#REF!=\"Consult AE\",\"Consult AE\",#REF!))","v":""},null,null,{"$f":"IF($K909=\"\",\"\",IF(#REF!<>\"\",#REF!,ROUND((($K909-1)*SUM(#REF!,#REF!,#REF!,#REF!,M909)),2)))","v":""}]
[null,null,null,"",null,"",null,null,null,null,{"$f":"IF(OR(D910=\"\",D910=\"Exemption\"),\"\",IF(#REF!=\"Consult AE\",\"Consult AE\",#REF!))","v":""},null,null,{"$f":"IF($K910=\"\",\"\",IF(#REF!<>\"\",#REF!,ROUND((($K910-1)*SUM(#REF!,#REF!,#REF!,#REF!,M910)),2)))","v":""}]
[null,null,null,"",null,{"$f":"IF(C911=\"\",\"\",IF($F$7<$F$6,D911-C911,D911+C911))","v":""},null,null,null,null,{"$f":"IF(OR(D911=\"\",D911=\"Exemption\"),\"\",IF(#REF!=\"Consult AE\",\"Consult AE\",#REF!))","v":""},null,null,{"$f":"IF($K911=\"\",\"\",IF(#REF!<>\"\",#REF!,ROUND((($K911-1)*SUM(#REF!,#REF!,#REF!,#REF!,M911)),2)))","v":""}]
[null,null,null,{"$f":"+IF(A912=\"\",\"\",IF($F$7<$F$6,D911-(A912-A911),D911+(A912-A911)))","v":""},null,"",null,null,null,null,{"$f":"IF(OR(D912=\"\",D912=\"Exemption\"),\"\",IF(#REF!=\"Consult AE\",\"Consult AE\",#REF!))","v":""},null,null,{"$f":"IF($K912=\"\",\"\",IF(#REF!<>\"\",#REF!,ROUND((($K912-1)*SUM(#REF!,#REF!,#REF!,#REF!,M912)),2)))","v":""}]
[null,null,null,"",null,"",null,null,null,null,{"$f":"IF(OR(D913=\"\",D913=\"Exemption\"),\"\",IF(#REF!=\"Consult AE\",\"Consult AE\",#REF!))","v":""},null,null,{"$f":"IF($K913=\"\",\"\",IF(#REF!<>\"\",#REF!,ROUND((($K913-1)*SUM(#REF!,#REF!,#REF!,#REF!,M913)),2)))","v":""}]
[null,null,null,"",null,"",null,null,null,null,{"$f":"IF(OR(D914=\"\",D914=\"Exemption\"),\"\",IF(#REF!=\"Consult AE\",\"Consult AE\",#REF!))","v":""},null,null,{"$f":"IF($K914=\"\",\"\",IF(#REF!<>\"\",#REF!,ROUND((($K914-1)*SUM(#REF!,#REF!,#REF!,#REF!,M914)),2)))","v":""}]
[null,null,null,"",null,"",null,null,null,null,{"$f":"IF(OR(D915=\"\",D915=\"Exemption\"),\"\",IF(#REF!=\"Consult AE\",\"Consult AE\",#REF!))","v":""},null,null,{"$f":"IF($K915=\"\",\"\",IF(#REF!<>\"\",#REF!,ROUND((($K915-1)*SUM(#REF!,#REF!,#REF!,#REF!,M915)),2)))","v":""}]
[null,null,null,"",null,"",null,null,null,null,{"$f":"IF(OR(D916=\"\",D916=\"Exemption\"),\"\",IF(#REF!=\"Consult AE\",\"Consult AE\",#REF!))","v":""},null,null,{"$f":"IF($K916=\"\",\"\",IF(#REF!<>\"\",#REF!,ROUND((($K916-1)*SUM(#REF!,#REF!,#REF!,#REF!,M916)),2)))","v":""}]
[null,null,null,"",null,"",null,null,null,null,{"$f":"IF(OR(D917=\"\",D917=\"Exemption\"),\"\",IF(#REF!=\"Consult AE\",\"Consult AE\",#REF!))","v":""},null,null,{"$f":"IF($K917=\"\",\"\",IF(#REF!<>\"\",#REF!,ROUND((($K917-1)*SUM(#REF!,#REF!,#REF!,#REF!,M917)),2)))","v":""}]
[null,null,null,"",null,"",null,null,null,null,{"$f":"IF(OR(D918=\"\",D918=\"Exemption\"),\"\",IF(#REF!=\"Consult AE\",\"Consult AE\",#REF!))","v":""},null,null,{"$f":"IF($K918=\"\",\"\",IF(#REF!<>\"\",#REF!,ROUND((($K918-1)*SUM(#REF!,#REF!,#REF!,#REF!,M918)),2)))","v":""}]
[null,null,null,"",null,"",null,null,null,null,{"$f":"IF(OR(D919=\"\",D919=\"Exemption\"),\"\",IF(#REF!=\"Consult AE\",\"Consult AE\",#REF!))","v":""},null,null,{"$f":"IF($K919=\"\",\"\",IF(#REF!<>\"\",#REF!,ROUND((($K919-1)*SUM(#REF!,#REF!,#REF!,#REF!,M919)),2)))","v":""}]
[null,null,null,"",null,"",null,null,null,null,{"$f":"IF(OR(D920=\"\",D920=\"Exemption\"),\"\",IF(#REF!=\"Consult AE\",\"Consult AE\",#REF!))","v":""},null,null,{"$f":"IF($K920=\"\",\"\",IF(#REF!<>\"\",#REF!,ROUND((($K920-1)*SUM(#REF!,#REF!,#REF!,#REF!,M920)),2)))","v":""}]
[null,null,null,"",null,"",null,null,null,null,{"$f":"IF(OR(D921=\"\",D921=\"Exemption\"),\"\",IF(#REF!=\"Consult AE\",\"Consult AE\",#REF!))","v":""},null,null,{"$f":"IF($K921=\"\",\"\",IF(#REF!<>\"\",#REF!,ROUND((($K921-1)*SUM(#REF!,#REF!,#REF!,#REF!,M921)),2)))","v":""}]
[null,null,null,"",null,"",null,null,null,null,{"$f":"IF(OR(D922=\"\",D922=\"Exemption\"),\"\",IF(#REF!=\"Consult AE\",\"Consult AE\",#REF!))","v":""},null,null,{"$f":"IF($K922=\"\",\"\",IF(#REF!<>\"\",#REF!,ROUND((($K922-1)*SUM(#REF!,#REF!,#REF!,#REF!,M922)),2)))","v":""}]
[null,null,null,"",null,"",null,null,null,null,{"$f":"IF(OR(D923=\"\",D923=\"Exemption\"),\"\",IF(#REF!=\"Consult AE\",\"Consult AE\",#REF!))","v":""},null,null,{"$f":"IF($K923=\"\",\"\",IF(#REF!<>\"\",#REF!,ROUND((($K923-1)*SUM(#REF!,#REF!,#REF!,#REF!,M923)),2)))","v":""}]
[null,null,null,"",null,"",null,null,null,null,{"$f":"IF(OR(D924=\"\",D924=\"Exemption\"),\"\",IF(#REF!=\"Consult AE\",\"Consult AE\",#REF!))","v":""},null,null,{"$f":"IF($K924=\"\",\"\",IF(#REF!<>\"\",#REF!,ROUND((($K924-1)*SUM(#REF!,#REF!,#REF!,#REF!,M924)),2)))","v":""}]
[null,null,null,"",null,"",null,null,null,null,{"$f":"IF(OR(D925=\"\",D925=\"Exemption\"),\"\",IF(#REF!=\"Consult AE\",\"Consult AE\",#REF!))","v":""},null,null,{"$f":"IF($K925=\"\",\"\",IF(#REF!<>\"\",#REF!,ROUND((($K925-1)*SUM(#REF!,#REF!,#REF!,#REF!,M925)),2)))","v":""}]
[null,null,null,"",null,"",null,null,null,null,{"$f":"IF(OR(D926=\"\",D926=\"Exemption\"),\"\",IF(#REF!=\"Consult AE\",\"Consult AE\",#REF!))","v":""},null,null,{"$f":"IF($K926=\"\",\"\",IF(#REF!<>\"\",#REF!,ROUND((($K926-1)*SUM(#REF!,#REF!,#REF!,#REF!,M926)),2)))","v":""}]
[null,null,null,"",null,"",null,null,null,null,{"$f":"IF(OR(D927=\"\",D927=\"Exemption\"),\"\",IF(#REF!=\"Consult AE\",\"Consult AE\",#REF!))","v":""},null,null,{"$f":"IF($K927=\"\",\"\",IF(#REF!<>\"\",#REF!,ROUND((($K927-1)*SUM(#REF!,#REF!,#REF!,#REF!,M927)),2)))","v":""}]
[null,null,null,"",null,"",null,null,null,null,{"$f":"IF(OR(D928=\"\",D928=\"Exemption\"),\"\",IF(#REF!=\"Consult AE\",\"Consult AE\",#REF!))","v":""},null,null,{"$f":"IF($K928=\"\",\"\",IF(#REF!<>\"\",#REF!,ROUND((($K928-1)*SUM(#REF!,#REF!,#REF!,#REF!,M928)),2)))","v":""}]
[null,null,null,"",null,"",null,null,null,null,{"$f":"IF(OR(D929=\"\",D929=\"Exemption\"),\"\",IF(#REF!=\"Consult AE\",\"Consult AE\",#REF!))","v":""},null,null,{"$f":"IF($K929=\"\",\"\",IF(#REF!<>\"\",#REF!,ROUND((($K929-1)*SUM(#REF!,#REF!,#REF!,#REF!,M929)),2)))","v":""}]
[null,null,null,"",null,"",null,null,null,null,{"$f":"IF(OR(D930=\"\",D930=\"Exemption\"),\"\",IF(#REF!=\"Consult AE\",\"Consult AE\",#REF!))","v":""},null,null,{"$f":"IF($K930=\"\",\"\",IF(#REF!<>\"\",#REF!,ROUND((($K930-1)*SUM(#REF!,#REF!,#REF!,#REF!,M930)),2)))","v":""}]
[null,null,null,"",null,"",null,null,null,null,{"$f":"IF(OR(D931=\"\",D931=\"Exemption\"),\"\",IF(#REF!=\"Consult AE\",\"Consult AE\",#REF!))","v":""},null,null,{"$f":"IF($K931=\"\",\"\",IF(#REF!<>\"\",#REF!,ROUND((($K931-1)*SUM(#REF!,#REF!,#REF!,#REF!,M931)),2)))","v":""}]
[null,null,null,"",null,"",null,null,null,null,{"$f":"IF(OR(D932=\"\",D932=\"Exemption\"),\"\",IF(#REF!=\"Consult AE\",\"Consult AE\",#REF!))","v":""},null,null,{"$f":"IF($K932=\"\",\"\",IF(#REF!<>\"\",#REF!,ROUND((($K932-1)*SUM(#REF!,#REF!,#REF!,#REF!,M932)),2)))","v":""}]
[null,null,null,"",null,"",null,null,null,null,{"$f":"IF(OR(D933=\"\",D933=\"Exemption\"),\"\",IF(#REF!=\"Consult AE\",\"Consult AE\",#REF!))","v":""},null,null,{"$f":"IF($K933=\"\",\"\",IF(#REF!<>\"\",#REF!,ROUND((($K933-1)*SUM(#REF!,#REF!,#REF!,#REF!,M933)),2)))","v":""}]
[null,null,null,"",null,"",null,null,null,null,{"$f":"IF(OR(D934=\"\",D934=\"Exemption\"),\"\",IF(#REF!=\"Consult AE\",\"Consult AE\",#REF!))","v":""},null,null,{"$f":"IF($K934=\"\",\"\",IF(#REF!<>\"\",#REF!,ROUND((($K934-1)*SUM(#REF!,#REF!,#REF!,#REF!,M934)),2)))","v":""}]
[null,null,null,"",null,"",null,null,null,null,{"$f":"IF(OR(D935=\"\",D935=\"Exemption\"),\"\",IF(#REF!=\"Consult AE\",\"Consult AE\",#REF!))","v":""},null,null,{"$f":"IF($K935=\"\",\"\",IF(#REF!<>\"\",#REF!,ROUND((($K935-1)*SUM(#REF!,#REF!,#REF!,#REF!,M935)),2)))","v":""}]
[null,null,null,"",null,"",null,null,null,null,{"$f":"IF(OR(D936=\"\",D936=\"Exemption\"),\"\",IF(#REF!=\"Consult AE\",\"Consult AE\",#REF!))","v":""},null,null,{"$f":"IF($K936=\"\",\"\",IF(#REF!<>\"\",#REF!,ROUND((($K936-1)*SUM(#REF!,#REF!,#REF!,#REF!,M936)),2)))","v":""}]
[null,null,null,"",null,"",null,null,null,null,{"$f":"IF(OR(D937=\"\",D937=\"Exemption\"),\"\",IF(#REF!=\"Consult AE\",\"Consult AE\",#REF!))","v":""},null,null,{"$f":"IF($K937=\"\",\"\",IF(#REF!<>\"\",#REF!,ROUND((($K937-1)*SUM(#REF!,#REF!,#REF!,#REF!,M937)),2)))","v":""}]
[null,null,null,"",null,"",null,null,null,null,{"$f":"IF(OR(D938=\"\",D938=\"Exemption\"),\"\",IF(#REF!=\"Consult AE\",\"Consult AE\",#REF!))","v":""},null,null,{"$f":"IF($K938=\"\",\"\",IF(#REF!<>\"\",#REF!,ROUND((($K938-1)*SUM(#REF!,#REF!,#REF!,#REF!,M938)),2)))","v":""}]
[null,null,null,"",null,"",null,null,null,null,{"$f":"IF(OR(D939=\"\",D939=\"Exemption\"),\"\",IF(#REF!=\"Consult AE\",\"Consult AE\",#REF!))","v":""},null,null,{"$f":"IF($K939=\"\",\"\",IF(#REF!<>\"\",#REF!,ROUND((($K939-1)*SUM(#REF!,#REF!,#REF!,#REF!,M939)),2)))","v":""}]
[null,null,null,"",null,"",null,null,null,null,{"$f":"IF(OR(D940=\"\",D940=\"Exemption\"),\"\",IF(#REF!=\"Consult AE\",\"Consult AE\",#REF!))","v":""},null,null,{"$f":"IF($K940=\"\",\"\",IF(#REF!<>\"\",#REF!,ROUND((($K940-1)*SUM(#REF!,#REF!,#REF!,#REF!,M940)),2)))","v":""}]
[null,null,null,"",null,"",null,null,null,null,{"$f":"IF(OR(D941=\"\",D941=\"Exemption\"),\"\",IF(#REF!=\"Consult AE\",\"Consult AE\",#REF!))","v":""},null,null,{"$f":"IF($K941=\"\",\"\",IF(#REF!<>\"\",#REF!,ROUND((($K941-1)*SUM(#REF!,#REF!,#REF!,#REF!,M941)),2)))","v":""}]
[null,null,null,"",null,"",null,null,null,null,{"$f":"IF(OR(D942=\"\",D942=\"Exemption\"),\"\",IF(#REF!=\"Consult AE\",\"Consult AE\",#REF!))","v":""},null,null,{"$f":"IF($K942=\"\",\"\",IF(#REF!<>\"\",#REF!,ROUND((($K942-1)*SUM(#REF!,#REF!,#REF!,#REF!,M942)),2)))","v":""}]
[null,null,null,"",null,"",null,null,null,null,{"$f":"IF(OR(D943=\"\",D943=\"Exemption\"),\"\",IF(#REF!=\"Consult AE\",\"Consult AE\",#REF!))","v":""},null,null,{"$f":"IF($K943=\"\",\"\",IF(#REF!<>\"\",#REF!,ROUND((($K943-1)*SUM(#REF!,#REF!,#REF!,#REF!,M943)),2)))","v":""}]
[null,null,null,"",null,"",null,null,null,null,{"$f":"IF(OR(D944=\"\",D944=\"Exemption\"),\"\",IF(#REF!=\"Consult AE\",\"Consult AE\",#REF!))","v":""},null,null,{"$f":"IF($K944=\"\",\"\",IF(#REF!<>\"\",#REF!,ROUND((($K944-1)*SUM(#REF!,#REF!,#REF!,#REF!,M944)),2)))","v":""}]
[null,null,null,"",null,"",null,null,null,null,{"$f":"IF(OR(D945=\"\",D945=\"Exemption\"),\"\",IF(#REF!=\"Consult AE\",\"Consult AE\",#REF!))","v":""},null,null,{"$f":"IF($K945=\"\",\"\",IF(#REF!<>\"\",#REF!,ROUND((($K945-1)*SUM(#REF!,#REF!,#REF!,#REF!,M945)),2)))","v":""}]
[null,null,null,"",null,"",null,null,null,null,{"$f":"IF(OR(D946=\"\",D946=\"Exemption\"),\"\",IF(#REF!=\"Consult AE\",\"Consult AE\",#REF!))","v":""},null,null,{"$f":"IF($K946=\"\",\"\",IF(#REF!<>\"\",#REF!,ROUND((($K946-1)*SUM(#REF!,#REF!,#REF!,#REF!,M946)),2)))","v":""}]
[null,null,null,"",null,"",null,null,null,null,{"$f":"IF(OR(D947=\"\",D947=\"Exemption\"),\"\",IF(#REF!=\"Consult AE\",\"Consult AE\",#REF!))","v":""},null,null,{"$f":"IF($K947=\"\",\"\",IF(#REF!<>\"\",#REF!,ROUND((($K947-1)*SUM(#REF!,#REF!,#REF!,#REF!,M947)),2)))","v":""}]
[null,null,null,"",null,"",null,null,null,null,{"$f":"IF(OR(D948=\"\",D948=\"Exemption\"),\"\",IF(#REF!=\"Consult AE\",\"Consult AE\",#REF!))","v":""},null,null,{"$f":"IF($K948=\"\",\"\",IF(#REF!<>\"\",#REF!,ROUND((($K948-1)*SUM(#REF!,#REF!,#REF!,#REF!,M948)),2)))","v":""}]
[null,null,null,"",null,"",null,null,null,null,{"$f":"IF(OR(D949=\"\",D949=\"Exemption\"),\"\",IF(#REF!=\"Consult AE\",\"Consult AE\",#REF!))","v":""},null,null,{"$f":"IF($K949=\"\",\"\",IF(#REF!<>\"\",#REF!,ROUND((($K949-1)*SUM(#REF!,#REF!,#REF!,#REF!,M949)),2)))","v":""}]
[null,null,null,"",null,"",null,null,null,null,{"$f":"IF(OR(D950=\"\",D950=\"Exemption\"),\"\",IF(#REF!=\"Consult AE\",\"Consult AE\",#REF!))","v":""},null,null,{"$f":"IF($K950=\"\",\"\",IF(#REF!<>\"\",#REF!,ROUND((($K950-1)*SUM(#REF!,#REF!,#REF!,#REF!,M950)),2)))","v":""}]
[null,null,null,"",null,"",null,null,null,null,{"$f":"IF(OR(D951=\"\",D951=\"Exemption\"),\"\",IF(#REF!=\"Consult AE\",\"Consult AE\",#REF!))","v":""},null,null,{"$f":"IF($K951=\"\",\"\",IF(#REF!<>\"\",#REF!,ROUND((($K951-1)*SUM(#REF!,#REF!,#REF!,#REF!,M951)),2)))","v":""}]
[null,null,null,"",null,"",null,null,null,null,{"$f":"IF(OR(D952=\"\",D952=\"Exemption\"),\"\",IF(#REF!=\"Consult AE\",\"Consult AE\",#REF!))","v":""},null,null,{"$f":"IF($K952=\"\",\"\",IF(#REF!<>\"\",#REF!,ROUND((($K952-1)*SUM(#REF!,#REF!,#REF!,#REF!,M952)),2)))","v":""}]
[null,null,null,"",null,"",null,null,null,null,{"$f":"IF(OR(D953=\"\",D953=\"Exemption\"),\"\",IF(#REF!=\"Consult AE\",\"Consult AE\",#REF!))","v":""},null,null,{"$f":"IF($K953=\"\",\"\",IF(#REF!<>\"\",#REF!,ROUND((($K953-1)*SUM(#REF!,#REF!,#REF!,#REF!,M953)),2)))","v":""}]
[null,null,null,"",null,"",null,null,null,null,{"$f":"IF(OR(D954=\"\",D954=\"Exemption\"),\"\",IF(#REF!=\"Consult AE\",\"Consult AE\",#REF!))","v":""},null,null,{"$f":"IF($K954=\"\",\"\",IF(#REF!<>\"\",#REF!,ROUND((($K954-1)*SUM(#REF!,#REF!,#REF!,#REF!,M954)),2)))","v":""}]
[null,null,null,"",null,"",null,null,null,null,{"$f":"IF(OR(D955=\"\",D955=\"Exemption\"),\"\",IF(#REF!=\"Consult AE\",\"Consult AE\",#REF!))","v":""},null,null,{"$f":"IF($K955=\"\",\"\",IF(#REF!<>\"\",#REF!,ROUND((($K955-1)*SUM(#REF!,#REF!,#REF!,#REF!,M955)),2)))","v":""}]
[null,null,null,"",null,"",null,null,null,null,{"$f":"IF(OR(D956=\"\",D956=\"Exemption\"),\"\",IF(#REF!=\"Consult AE\",\"Consult AE\",#REF!))","v":""},null,null,{"$f":"IF($K956=\"\",\"\",IF(#REF!<>\"\",#REF!,ROUND((($K956-1)*SUM(#REF!,#REF!,#REF!,#REF!,M956)),2)))","v":""}]
[null,null,null,"",null,"",null,null,null,null,{"$f":"IF(OR(D957=\"\",D957=\"Exemption\"),\"\",IF(#REF!=\"Consult AE\",\"Consult AE\",#REF!))","v":""},null,null,{"$f":"IF($K957=\"\",\"\",IF(#REF!<>\"\",#REF!,ROUND((($K957-1)*SUM(#REF!,#REF!,#REF!,#REF!,M957)),2)))","v":""}]
[null,null,null,"",null,"",null,null,null,null,{"$f":"IF(OR(D958=\"\",D958=\"Exemption\"),\"\",IF(#REF!=\"Consult AE\",\"Consult AE\",#REF!))","v":""},null,null,{"$f":"IF($K958=\"\",\"\",IF(#REF!<>\"\",#REF!,ROUND((($K958-1)*SUM(#REF!,#REF!,#REF!,#REF!,M958)),2)))","v":""}]
[null,null,null,"",null,"",null,null,null,null,{"$f":"IF(OR(D959=\"\",D959=\"Exemption\"),\"\",IF(#REF!=\"Consult AE\",\"Consult AE\",#REF!))","v":""},null,null,{"$f":"IF($K959=\"\",\"\",IF(#REF!<>\"\",#REF!,ROUND((($K959-1)*SUM(#REF!,#REF!,#REF!,#REF!,M959)),2)))","v":""}]
[null,null,null,"",null,"",null,null,null,null,{"$f":"IF(OR(D960=\"\",D960=\"Exemption\"),\"\",IF(#REF!=\"Consult AE\",\"Consult AE\",#REF!))","v":""},null,null,{"$f":"IF($K960=\"\",\"\",IF(#REF!<>\"\",#REF!,ROUND((($K960-1)*SUM(#REF!,#REF!,#REF!,#REF!,M960)),2)))","v":""}]
[null,null,null,"",null,"",null,null,null,null,{"$f":"IF(OR(D961=\"\",D961=\"Exemption\"),\"\",IF(#REF!=\"Consult AE\",\"Consult AE\",#REF!))","v":""},null,null,{"$f":"IF($K961=\"\",\"\",IF(#REF!<>\"\",#REF!,ROUND((($K961-1)*SUM(#REF!,#REF!,#REF!,#REF!,M961)),2)))","v":""}]
[null,null,null,"",null,"",null,null,null,null,{"$f":"IF(OR(D962=\"\",D962=\"Exemption\"),\"\",IF(#REF!=\"Consult AE\",\"Consult AE\",#REF!))","v":""},null,null,{"$f":"IF($K962=\"\",\"\",IF(#REF!<>\"\",#REF!,ROUND((($K962-1)*SUM(#REF!,#REF!,#REF!,#REF!,M962)),2)))","v":""}]
[null,null,null,"",null,"",null,null,null,null,{"$f":"IF(OR(D963=\"\",D963=\"Exemption\"),\"\",IF(#REF!=\"Consult AE\",\"Consult AE\",#REF!))","v":""},null,null,{"$f":"IF($K963=\"\",\"\",IF(#REF!<>\"\",#REF!,ROUND((($K963-1)*SUM(#REF!,#REF!,#REF!,#REF!,M963)),2)))","v":""}]
[null,null,null,"",null,"",null,null,null,null,{"$f":"IF(OR(D964=\"\",D964=\"Exemption\"),\"\",IF(#REF!=\"Consult AE\",\"Consult AE\",#REF!))","v":""},null,null,{"$f":"IF($K964=\"\",\"\",IF(#REF!<>\"\",#REF!,ROUND((($K964-1)*SUM(#REF!,#REF!,#REF!,#REF!,M964)),2)))","v":""}]
[null,null,null,"",null,"",null,null,null,null,{"$f":"IF(OR(D965=\"\",D965=\"Exemption\"),\"\",IF(#REF!=\"Consult AE\",\"Consult AE\",#REF!))","v":""},null,null,{"$f":"IF($K965=\"\",\"\",IF(#REF!<>\"\",#REF!,ROUND((($K965-1)*SUM(#REF!,#REF!,#REF!,#REF!,M965)),2)))","v":""}]
[null,null,null,"",null,"",null,null,null,null,{"$f":"IF(OR(D966=\"\",D966=\"Exemption\"),\"\",IF(#REF!=\"Consult AE\",\"Consult AE\",#REF!))","v":""},null,null,{"$f":"IF($K966=\"\",\"\",IF(#REF!<>\"\",#REF!,ROUND((($K966-1)*SUM(#REF!,#REF!,#REF!,#REF!,M966)),2)))","v":""}]
[null,null,null,"",null,"",null,null,null,null,{"$f":"IF(OR(D967=\"\",D967=\"Exemption\"),\"\",IF(#REF!=\"Consult AE\",\"Consult AE\",#REF!))","v":""},null,null,{"$f":"IF($K967=\"\",\"\",IF(#REF!<>\"\",#REF!,ROUND((($K967-1)*SUM(#REF!,#REF!,#REF!,#REF!,M967)),2)))","v":""}]
[null,null,null,"",null,"",null,null,null,null,{"$f":"IF(OR(D968=\"\",D968=\"Exemption\"),\"\",IF(#REF!=\"Consult AE\",\"Consult AE\",#REF!))","v":""},null,null,{"$f":"IF($K968=\"\",\"\",IF(#REF!<>\"\",#REF!,ROUND((($K968-1)*SUM(#REF!,#REF!,#REF!,#REF!,M968)),2)))","v":""}]
[null,null,null,"",null,"",null,null,null,null,{"$f":"IF(OR(D969=\"\",D969=\"Exemption\"),\"\",IF(#REF!=\"Consult AE\",\"Consult AE\",#REF!))","v":""},null,null,{"$f":"IF($K969=\"\",\"\",IF(#REF!<>\"\",#REF!,ROUND((($K969-1)*SUM(#REF!,#REF!,#REF!,#REF!,M969)),2)))","v":""}]
[null,null,null,"",null,"",null,null,null,null,{"$f":"IF(OR(D970=\"\",D970=\"Exemption\"),\"\",IF(#REF!=\"Consult AE\",\"Consult AE\",#REF!))","v":""},null,null,{"$f":"IF($K970=\"\",\"\",IF(#REF!<>\"\",#REF!,ROUND((($K970-1)*SUM(#REF!,#REF!,#REF!,#REF!,M970)),2)))","v":""}]
[null,null,null,"",null,"",null,null,null,null,{"$f":"IF(OR(D971=\"\",D971=\"Exemption\"),\"\",IF(#REF!=\"Consult AE\",\"Consult AE\",#REF!))","v":""},null,null,{"$f":"IF($K971=\"\",\"\",IF(#REF!<>\"\",#REF!,ROUND((($K971-1)*SUM(#REF!,#REF!,#REF!,#REF!,M971)),2)))","v":""}]
[null,null,null,"",null,"",null,null,null,null,{"$f":"IF(OR(D972=\"\",D972=\"Exemption\"),\"\",IF(#REF!=\"Consult AE\",\"Consult AE\",#REF!))","v":""},null,null,{"$f":"IF($K972=\"\",\"\",IF(#REF!<>\"\",#REF!,ROUND((($K972-1)*SUM(#REF!,#REF!,#REF!,#REF!,M972)),2)))","v":""}]
[null,null,null,"",null,"",null,null,null,null,{"$f":"IF(OR(D973=\"\",D973=\"Exemption\"),\"\",IF(#REF!=\"Consult AE\",\"Consult AE\",#REF!))","v":""},null,null,{"$f":"IF($K973=\"\",\"\",IF(#REF!<>\"\",#REF!,ROUND((($K973-1)*SUM(#REF!,#REF!,#REF!,#REF!,M973)),2)))","v":""}]
[null,null,null,"",null,"",null,null,null,null,{"$f":"IF(OR(D974=\"\",D974=\"Exemption\"),\"\",IF(#REF!=\"Consult AE\",\"Consult AE\",#REF!))","v":""},null,null,{"$f":"IF($K974=\"\",\"\",IF(#REF!<>\"\",#REF!,ROUND((($K974-1)*SUM(#REF!,#REF!,#REF!,#REF!,M974)),2)))","v":""}]
[null,null,null,"",null,{"$f":"IF(C975=\"\",\"\",IF($F$7<$F$6,D975-C975,D975+C975))","v":""},null,null,null,null,{"$f":"IF(OR(D975=\"\",D975=\"Exemption\"),\"\",IF(#REF!=\"Consult AE\",\"Consult AE\",#REF!))","v":""},null,null,{"$f":"IF($K975=\"\",\"\",IF(#REF!<>\"\",#REF!,ROUND((($K975-1)*SUM(#REF!,#REF!,#REF!,#REF!,M975)),2)))","v":""}]
[null,null,null,{"$f":"+IF(A976=\"\",\"\",IF($F$7<$F$6,D975-(A976-A975),D975+(A976-A975)))","v":""},null,"",null,null,null,null,{"$f":"IF(OR(D976=\"\",D976=\"Exemption\"),\"\",IF(#REF!=\"Consult AE\",\"Consult AE\",#REF!))","v":""},null,null,{"$f":"IF($K976=\"\",\"\",IF(#REF!<>\"\",#REF!,ROUND((($K976-1)*SUM(#REF!,#REF!,#REF!,#REF!,M976)),2)))","v":""}]
[null,null,null,"",null,"",null,null,null,null,{"$f":"IF(OR(D977=\"\",D977=\"Exemption\"),\"\",IF(#REF!=\"Consult AE\",\"Consult AE\",#REF!))","v":""},null,null,{"$f":"IF($K977=\"\",\"\",IF(#REF!<>\"\",#REF!,ROUND((($K977-1)*SUM(#REF!,#REF!,#REF!,#REF!,M977)),2)))","v":""}]
[null,null,null,"",null,"",null,null,null,null,{"$f":"IF(OR(D978=\"\",D978=\"Exemption\"),\"\",IF(#REF!=\"Consult AE\",\"Consult AE\",#REF!))","v":""},null,null,{"$f":"IF($K978=\"\",\"\",IF(#REF!<>\"\",#REF!,ROUND((($K978-1)*SUM(#REF!,#REF!,#REF!,#REF!,M978)),2)))","v":""}]
[null,null,null,"",null,"",null,null,null,null,{"$f":"IF(OR(D979=\"\",D979=\"Exemption\"),\"\",IF(#REF!=\"Consult AE\",\"Consult AE\",#REF!))","v":""},null,null,{"$f":"IF($K979=\"\",\"\",IF(#REF!<>\"\",#REF!,ROUND((($K979-1)*SUM(#REF!,#REF!,#REF!,#REF!,M979)),2)))","v":""}]
[null,null,null,"",null,"",null,null,null,null,{"$f":"IF(OR(D980=\"\",D980=\"Exemption\"),\"\",IF(#REF!=\"Consult AE\",\"Consult AE\",#REF!))","v":""},null,null,{"$f":"IF($K980=\"\",\"\",IF(#REF!<>\"\",#REF!,ROUND((($K980-1)*SUM(#REF!,#REF!,#REF!,#REF!,M980)),2)))","v":""}]
[null,null,null,"",null,"",null,null,null,null,{"$f":"IF(OR(D981=\"\",D981=\"Exemption\"),\"\",IF(#REF!=\"Consult AE\",\"Consult AE\",#REF!))","v":""},null,null,{"$f":"IF($K981=\"\",\"\",IF(#REF!<>\"\",#REF!,ROUND((($K981-1)*SUM(#REF!,#REF!,#REF!,#REF!,M981)),2)))","v":""}]
[null,null,null,"",null,"",null,null,null,null,{"$f":"IF(OR(D982=\"\",D982=\"Exemption\"),\"\",IF(#REF!=\"Consult AE\",\"Consult AE\",#REF!))","v":""},null,null,{"$f":"IF($K982=\"\",\"\",IF(#REF!<>\"\",#REF!,ROUND((($K982-1)*SUM(#REF!,#REF!,#REF!,#REF!,M982)),2)))","v":""}]
[null,null,null,"",null,"",null,null,null,null,{"$f":"IF(OR(D983=\"\",D983=\"Exemption\"),\"\",IF(#REF!=\"Consult AE\",\"Consult AE\",#REF!))","v":""},null,null,{"$f":"IF($K983=\"\",\"\",IF(#REF!<>\"\",#REF!,ROUND((($K983-1)*SUM(#REF!,#REF!,#REF!,#REF!,M983)),2)))","v":""}]
[null,null,null,"",null,"",null,null,null,null,{"$f":"IF(OR(D984=\"\",D984=\"Exemption\"),\"\",IF(#REF!=\"Consult AE\",\"Consult AE\",#REF!))","v":""},null,null,{"$f":"IF($K984=\"\",\"\",IF(#REF!<>\"\",#REF!,ROUND((($K984-1)*SUM(#REF!,#REF!,#REF!,#REF!,M984)),2)))","v":""}]
[null,null,null,"",null,"",null,null,null,null,{"$f":"IF(OR(D985=\"\",D985=\"Exemption\"),\"\",IF(#REF!=\"Consult AE\",\"Consult AE\",#REF!))","v":""},null,null,{"$f":"IF($K985=\"\",\"\",IF(#REF!<>\"\",#REF!,ROUND((($K985-1)*SUM(#REF!,#REF!,#REF!,#REF!,M985)),2)))","v":""}]
[null,null,null,"",null,"",null,null,null,null,{"$f":"IF(OR(D986=\"\",D986=\"Exemption\"),\"\",IF(#REF!=\"Consult AE\",\"Consult AE\",#REF!))","v":""},null,null,{"$f":"IF($K986=\"\",\"\",IF(#REF!<>\"\",#REF!,ROUND((($K986-1)*SUM(#REF!,#REF!,#REF!,#REF!,M986)),2)))","v":""}]
[null,null,null,"",null,"",null,null,null,null,{"$f":"IF(OR(D987=\"\",D987=\"Exemption\"),\"\",IF(#REF!=\"Consult AE\",\"Consult AE\",#REF!))","v":""},null,null,{"$f":"IF($K987=\"\",\"\",IF(#REF!<>\"\",#REF!,ROUND((($K987-1)*SUM(#REF!,#REF!,#REF!,#REF!,M987)),2)))","v":""}]
[null,null,null,"",null,"",null,null,null,null,{"$f":"IF(OR(D988=\"\",D988=\"Exemption\"),\"\",IF(#REF!=\"Consult AE\",\"Consult AE\",#REF!))","v":""},null,null,{"$f":"IF($K988=\"\",\"\",IF(#REF!<>\"\",#REF!,ROUND((($K988-1)*SUM(#REF!,#REF!,#REF!,#REF!,M988)),2)))","v":""}]
[null,null,null,"",null,"",null,null,null,null,{"$f":"IF(OR(D989=\"\",D989=\"Exemption\"),\"\",IF(#REF!=\"Consult AE\",\"Consult AE\",#REF!))","v":""},null,null,{"$f":"IF($K989=\"\",\"\",IF(#REF!<>\"\",#REF!,ROUND((($K989-1)*SUM(#REF!,#REF!,#REF!,#REF!,M989)),2)))","v":""}]
[null,null,null,"",null,"",null,null,null,null,{"$f":"IF(OR(D990=\"\",D990=\"Exemption\"),\"\",IF(#REF!=\"Consult AE\",\"Consult AE\",#REF!))","v":""},null,null,{"$f":"IF($K990=\"\",\"\",IF(#REF!<>\"\",#REF!,ROUND((($K990-1)*SUM(#REF!,#REF!,#REF!,#REF!,M990)),2)))","v":""}]
[null,null,null,"",null,"",null,null,null,null,{"$f":"IF(OR(D991=\"\",D991=\"Exemption\"),\"\",IF(#REF!=\"Consult AE\",\"Consult AE\",#REF!))","v":""},null,null,{"$f":"IF($K991=\"\",\"\",IF(#REF!<>\"\",#REF!,ROUND((($K991-1)*SUM(#REF!,#REF!,#REF!,#REF!,M991)),2)))","v":""}]
[null,null,null,"",null,"",null,null,null,null,{"$f":"IF(OR(D992=\"\",D992=\"Exemption\"),\"\",IF(#REF!=\"Consult AE\",\"Consult AE\",#REF!))","v":""},null,null,{"$f":"IF($K992=\"\",\"\",IF(#REF!<>\"\",#REF!,ROUND((($K992-1)*SUM(#REF!,#REF!,#REF!,#REF!,M992)),2)))","v":""}]
[null,null,null,"",null,"",null,null,null,null,{"$f":"IF(OR(D993=\"\",D993=\"Exemption\"),\"\",IF(#REF!=\"Consult AE\",\"Consult AE\",#REF!))","v":""},null,null,{"$f":"IF($K993=\"\",\"\",IF(#REF!<>\"\",#REF!,ROUND((($K993-1)*SUM(#REF!,#REF!,#REF!,#REF!,M993)),2)))","v":""}]
[null,null,null,"",null,"",null,null,null,null,{"$f":"IF(OR(D994=\"\",D994=\"Exemption\"),\"\",IF(#REF!=\"Consult AE\",\"Consult AE\",#REF!))","v":""},null,null,{"$f":"IF($K994=\"\",\"\",IF(#REF!<>\"\",#REF!,ROUND((($K994-1)*SUM(#REF!,#REF!,#REF!,#REF!,M994)),2)))","v":""}]
[null,null,null,"",null,"",null,null,null,null,{"$f":"IF(OR(D995=\"\",D995=\"Exemption\"),\"\",IF(#REF!=\"Consult AE\",\"Consult AE\",#REF!))","v":""},null,null,{"$f":"IF($K995=\"\",\"\",IF(#REF!<>\"\",#REF!,ROUND((($K995-1)*SUM(#REF!,#REF!,#REF!,#REF!,M995)),2)))","v":""}]
[null,null,null,"",null,"",null,null,null,null,{"$f":"IF(OR(D996=\"\",D996=\"Exemption\"),\"\",IF(#REF!=\"Consult AE\",\"Consult AE\",#REF!))","v":""},null,null,{"$f":"IF($K996=\"\",\"\",IF(#REF!<>\"\",#REF!,ROUND((($K996-1)*SUM(#REF!,#REF!,#REF!,#REF!,M996)),2)))","v":""}]
[null,null,null,"",null,"",null,null,null,null,{"$f":"IF(OR(D997=\"\",D997=\"Exemption\"),\"\",IF(#REF!=\"Consult AE\",\"Consult AE\",#REF!))","v":""},null,null,{"$f":"IF($K997=\"\",\"\",IF(#REF!<>\"\",#REF!,ROUND((($K997-1)*SUM(#REF!,#REF!,#REF!,#REF!,M997)),2)))","v":""}]
[null,null,null,"",null,"",null,null,null,null,{"$f":"IF(OR(D998=\"\",D998=\"Exemption\"),\"\",IF(#REF!=\"Consult AE\",\"Consult AE\",#REF!))","v":""},null,null,{"$f":"IF($K998=\"\",\"\",IF(#REF!<>\"\",#REF!,ROUND((($K998-1)*SUM(#REF!,#REF!,#REF!,#REF!,M998)),2)))","v":""}]
[null,null,null,"",null,"",null,null,null,null,{"$f":"IF(OR(D999=\"\",D999=\"Exemption\"),\"\",IF(#REF!=\"Consult AE\",\"Consult AE\",#REF!))","v":""},null,null,{"$f":"IF($K999=\"\",\"\",IF(#REF!<>\"\",#REF!,ROUND((($K999-1)*SUM(#REF!,#REF!,#REF!,#REF!,M999)),2)))","v":""}]