{"text_format":"1","workbook":"xlsx","n_sheets":4,"sheets":["Summary","Pivot","New Prices","Oman Results"],"not_rendered":{"charts":0,"images":0,"macros":1,"external_links":1,"defined_names":7,"comments":0,"pivot_tables":1},"unopened":[],"bounds":{"document_bytes":16777216,"sheet_cells":100000,"rows_first":2000,"rows_last":500,"rows_between":2000,"halvings":0,"cell_chars":16384,"cell_head_chars":4096},"cells_cut":0,"cells_raw":0,"read":"whole","date_system":"1900"}

{"sheet":"Summary","index":0,"n_rows":22,"n_cols":12,"rows_kept":22,"cut":false,"hidden":false,"merged":[[8,15,8,16],[1,9,1,10],[6,11,6,13],[12,8,12,9],[6,8,6,9],[7,8,7,9],[9,8,9,9],[0,1,0,2],[6,1,6,5],[2,4,2,5],[3,4,3,5],[1,1,1,5],[4,2,4,5],[21,1,21,2],[8,8,8,9],[10,8,10,9],[19,1,19,2],[14,8,14,9],[20,1,20,2],[13,8,13,9],[15,8,15,9]]}
[null,null,null,null,null,null,null,null,"Only Green Cells are editable"]
[null,"Contract Data"]
[null,"Estimator:","MO","Contract No.: ","R-12345"]
[null,"Letting:","2012-12-02","District:","C"]
[null,"Description:","Testing"]
[]
[null,"LS Items Selected",null,null,null,null,null,null,"# of Selected LS Items:",null,{"$f":"COUNTIF('New Prices'!I:I,\"yes\")","v":2}]
[null,"Item NO","Item description","Old Price","% used","New price",null,null,"# of Non Selected LS Items:",null,{"$f":"K9-K7","v":9}]
[null,{"$f":"IF(Pivot!A4=\"\",\"\",LEFT(Pivot!A4,9))","v":"105-06845"},{"$f":"IF(Pivot!B4=\"\",\"\",Pivot!B4)","v":"CONSTRUCTION ENGINEERING                                                                            "},{"$f":"IF(B9=\"\",\"\",Pivot!E4)","v":24269.77},{"$f":"IF(B9=\"\",\"\",Pivot!G4)","v":0.04},{"$f":"IF(Pivot!F4=\"\",\"\",Pivot!F4)","v":608716.51724000019},null,null,"# of All LS Items above:",null,{"$f":"COUNTIF('New Prices'!O:O,1)","v":11}]
[null,{"$f":"IF(Pivot!A5=\"\",\"\",LEFT(Pivot!A5,9))","v":"110-01001"},{"$f":"IF(Pivot!B5=\"\",\"\",Pivot!B5)","v":"MOBILIZATION AND DEMOBILIZATION                                                                     "},{"$f":"IF(B10=\"\",\"\",Pivot!E5)","v":104232.24},{"$f":"IF(B10=\"\",\"\",Pivot!G5)","v":0.03},{"$f":"IF(Pivot!F5=\"\",\"\",Pivot!F5)","v":456537.38793000008},null,null,"# of All Other Items",null,{"$f":"COUNT('New Prices'!E2:E799)-K9","v":167}]
[null,{"$f":"IF(Pivot!A6=\"\",\"\",LEFT(Pivot!A6,9))","v":""},{"$f":"IF(Pivot!B6=\"\",\"\",Pivot!B6)","v":""},{"$f":"IF(B11=\"\",\"\",Pivot!E6)","v":""},{"$f":"IF(B11=\"\",\"\",Pivot!G6)","v":""},{"$f":"IF(Pivot!F6=\"\",\"\",Pivot!F6)","v":""},null,null,"Number Of pay Items in this Contract",null,{"$f":"K10+K8+K7","v":178}]
[null,{"$f":"IF(Pivot!A7=\"\",\"\",LEFT(Pivot!A7,9))","v":""},{"$f":"IF(Pivot!B7=\"\",\"\",Pivot!B7)","v":""},{"$f":"IF(B12=\"\",\"\",Pivot!E7)","v":""},{"$f":"IF(B12=\"\",\"\",Pivot!G7)","v":""},{"$f":"IF(Pivot!F7=\"\",\"\",Pivot!F7)","v":""},null,null,"Result Summary"]
[null,{"$f":"IF(Pivot!A8=\"\",\"\",LEFT(Pivot!A8,9))","v":""},{"$f":"IF(Pivot!B8=\"\",\"\",Pivot!B8)","v":""},{"$f":"IF(B13=\"\",\"\",Pivot!E8)","v":""},{"$f":"IF(B13=\"\",\"\",Pivot!G8)","v":""},{"$f":"IF(Pivot!F8=\"\",\"\",Pivot!F8)","v":""},null,null,"Total Amount of Selected LS Items:",null,{"$f":"F18","v":1065253.9051700002},{"$f":"K13/$K$16","v":6.5420560747663545E-2}]
[null,{"$f":"IF(Pivot!A9=\"\",\"\",LEFT(Pivot!A9,9))","v":""},{"$f":"IF(Pivot!B9=\"\",\"\",Pivot!B9)","v":""},{"$f":"IF(B14=\"\",\"\",Pivot!E9)","v":""},{"$f":"IF(B14=\"\",\"\",Pivot!G9)","v":""},{"$f":"IF(Pivot!F9=\"\",\"\",Pivot!F9)","v":""},null,null,"Total Amount of Other LS Items:",null,{"$f":"SUM('New Prices'!P2:P805)-F18","v":2017411.6800000002},{"$f":"K14/$K$16","v":0.1238955358191564}]
[null,{"$f":"IF(Pivot!A10=\"\",\"\",LEFT(Pivot!A10,9))","v":""},{"$f":"IF(Pivot!B10=\"\",\"\",Pivot!B10)","v":""},{"$f":"IF(B15=\"\",\"\",Pivot!E10)","v":""},{"$f":"IF(B15=\"\",\"\",Pivot!G10)","v":""},{"$f":"IF(Pivot!F10=\"\",\"\",Pivot!F10)","v":""},null,null,"Amount of None LS Items:",null,{"$f":"SUM('New Prices'!R2:R805)","v":13200501.251000002},{"$f":"K15/$K$16","v":0.81068390343317998}]
[null,{"$f":"IF(Pivot!A11=\"\",\"\",LEFT(Pivot!A11,9))","v":""},{"$f":"IF(Pivot!B11=\"\",\"\",Pivot!B11)","v":""},{"$f":"IF(B16=\"\",\"\",Pivot!E11)","v":""},{"$f":"IF(B16=\"\",\"\",Pivot!G11)","v":""},{"$f":"IF(Pivot!F11=\"\",\"\",Pivot!F11)","v":""},null,null,"Grand Total",null,{"$f":"K14+K15+K13","v":16283166.836170003}]
[null,{"$f":"IF(Pivot!A12=\"\",\"\",LEFT(Pivot!A12,9))","v":""},{"$f":"IF(Pivot!B12=\"\",\"\",Pivot!B12)","v":""},{"$f":"IF(B17=\"\",\"\",Pivot!E12)","v":""},{"$f":"IF(B17=\"\",\"\",Pivot!G12)","v":""},{"$f":"IF(Pivot!F12=\"\",\"\",Pivot!F12)","v":""},null,null,"% Contingency",0.02,{"$f":"J17*K16","v":325663.33672340005}]
[null,{"$f":"COUNT(D9:D17)","v":2},{"$f":"IF(B18=0,\"No Item Was Selected\",\"Items Selected\")","v":"Items Selected"},{"$f":"SUM(D9:D17)","v":128502.01000000001},null,{"$f":"SUM(F9:F17)","v":1065253.9051700002},null,null,"% Others",0.01,{"$f":"J18*K16","v":162831.66836170002}]
[null,null,null,null,"$ Changes:",{"$f":"F18-D18","v":936751.89517000015},null,null,null,null,{"$f":"K18+K17+K16","v":16771661.841255102}]
[null,"Original Amount From Oman Before any changes",null,{"$f":"'Oman Results'!AO1","v":15346414.941000002}]
[null,"Original Amount of Selected LS Items ",null,{"$f":"D18","v":128502.01000000001}]
[null,"Original Contract Amount - Selected LS Items Above",null,{"$f":"'Oman Results'!AQ1","v":15217912.931000004}]

{"sheet":"Pivot","index":1,"n_rows":5,"n_cols":7,"rows_kept":5,"cut":false,"hidden":true,"merged":[]}
["LS \nSelected?","Yes"]
[]
["Item","Description","Total\nQuantity ","Unit","Old\n Price","Unit Price \nUsed","% \nUsed"]
["105-06845           ","CONSTRUCTION ENGINEERING                                                                            ",1,"L.S. ",24269.77,608716.51724000019,0.04]
["110-01001           ","MOBILIZATION AND DEMOBILIZATION                                                                     ",1,"L.S. ",104232.24,456537.38793000008,0.03]

{"sheet":"New Prices","index":2,"n_rows":800,"n_cols":18,"rows_kept":800,"cut":false,"hidden":true,"merged":[]}
["Line","Item","Description","Suppl. ?","Total\nQuantity ","Unit","Unit Price \nUsed","Amount","LS \nSelected?","Old\n Price","% \nUsed","New Price",null,null,{"$f":"SUM(H2:H800)","v":16283166.836170003},{"$f":"SUM(P2:P1000)","v":3082665.5851700003},{"$f":"SUM(Q2:Q1000)","v":1065253.9051700002},13200501.251000002]
[1,{"$f":"IF('Oman Results'!C2=\"\",\"\",'Oman Results'!C2)","v":"105-06845           "},{"$f":"IF(OR('Oman Results'!D2=\"\",'Oman Results'!D2=\"Totals\"),\"\",'Oman Results'!D2)","v":"CONSTRUCTION ENGINEERING                                                                            "},{"$f":"IF(ISNUMBER(SEARCH(\"{\",C2)),\"Yes\", \"\")","v":""},{"$f":"IF('Oman Results'!E2=\"\",\"\",'Oman Results'!E2)","v":1},{"$f":"IF('Oman Results'!F2=\"\",\"\",'Oman Results'!F2)","v":"L.S. "},{"$f":"IF(B2=\"\",\"\",IF(VLOOKUP(B2,'Oman Results'!C2:AI995,31)=\"x\",'Oman Results'!AK2,'Oman Results'!G2))","v":608716.51724000019},{"$f":"IF(E2=\"\",\"\",E2*G2)","v":608716.51724000019},{"$f":"IF(B2=\"\",\"\",IF(VLOOKUP(B2,'Oman Results'!C2:AI995,31)=\"x\",\"Yes\",\"\"))","v":"Yes"},{"$f":"IF(B2=\"\",\"\",IF(VLOOKUP(B2,'Oman Results'!C2:AI995,31)=\"x\",'Oman Results'!G2,\"\"))","v":24269.77},{"$f":"IF(B2=\"\",\"\",IF(VLOOKUP(B2,'Oman Results'!C2:AI995,31)=\"x\",'Oman Results'!AJ2,\"\"))","v":0.04},{"$f":"IF(B2=\"\",\"\",IF(VLOOKUP(B2,'Oman Results'!C2:AI995,31)=\"x\",'Oman Results'!AK2,\"\"))","v":608716.51724000019},null,null,{"$f":"IF(OR(LEFT(F2,3)=\"L.S\",LEFT(F2,2)=\"LS\"),1,\"\")","v":1},{"$f":"IF(O2=1,G2,\"\")","v":608716.51724000019},{"$f":"IF(I2=\"Yes\",G2,\"\")","v":608716.51724000019},{"$f":"IF(O2=1,\"\",H2)","v":""}]
[{"$f":"IF(B3=\"\",\"\",1+A2)","v":2},{"$f":"IF('Oman Results'!C3=\"\",\"\",'Oman Results'!C3)","v":"110-01001           "},{"$f":"IF(OR('Oman Results'!D3=\"\",'Oman Results'!D3=\"Totals\"),\"\",'Oman Results'!D3)","v":"MOBILIZATION AND DEMOBILIZATION                                                                     "},{"$f":"IF(ISNUMBER(SEARCH(\"{\",C3)),\"Yes\", \"\")","v":""},{"$f":"IF('Oman Results'!E3=\"\",\"\",'Oman Results'!E3)","v":1},{"$f":"IF('Oman Results'!F3=\"\",\"\",'Oman Results'!F3)","v":"L.S. "},{"$f":"IF(B3=\"\",\"\",IF(VLOOKUP(B3,'Oman Results'!C3:AI996,31)=\"x\",'Oman Results'!AK3,'Oman Results'!G3))","v":456537.38793000008},{"$f":"IF(E3=\"\",\"\",E3*G3)","v":456537.38793000008},{"$f":"IF(B3=\"\",\"\",IF(VLOOKUP(B3,'Oman Results'!C3:AI996,31)=\"x\",\"Yes\",\"\"))","v":"Yes"},{"$f":"IF(B3=\"\",\"\",IF(VLOOKUP(B3,'Oman Results'!C3:AI996,31)=\"x\",'Oman Results'!G3,\"\"))","v":104232.24},{"$f":"IF(B3=\"\",\"\",IF(VLOOKUP(B3,'Oman Results'!C3:AI996,31)=\"x\",'Oman Results'!AJ3,\"\"))","v":0.03},{"$f":"IF(B3=\"\",\"\",IF(VLOOKUP(B3,'Oman Results'!C3:AI996,31)=\"x\",'Oman Results'!AK3,\"\"))","v":456537.38793000008},null,null,{"$f":"IF(OR(LEFT(F3,3)=\"L.S\",LEFT(F3,2)=\"LS\"),1,\"\")","v":1},456537.38793000008,{"$f":"IF(I3=\"Yes\",G3,\"\")","v":456537.38793000008},""]
[{"$f":"IF(B4=\"\",\"\",1+A3)","v":3},{"$f":"IF('Oman Results'!C4=\"\",\"\",'Oman Results'!C4)","v":"201-52370           "},{"$f":"IF(OR('Oman Results'!D4=\"\",'Oman Results'!D4=\"Totals\"),\"\",'Oman Results'!D4)","v":"CLEARING RIGHT OF WAY                                                                               "},"",{"$f":"IF('Oman Results'!E4=\"\",\"\",'Oman Results'!E4)","v":1},{"$f":"IF('Oman Results'!F4=\"\",\"\",'Oman Results'!F4)","v":"L.S. "},{"$f":"IF(B4=\"\",\"\",IF(VLOOKUP(B4,'Oman Results'!C4:AI997,31)=\"x\",'Oman Results'!AK4,'Oman Results'!G4))","v":47271.03},47271.03,{"$f":"IF(B4=\"\",\"\",IF(VLOOKUP(B4,'Oman Results'!C4:AI997,31)=\"x\",\"Yes\",\"\"))","v":""},{"$f":"IF(B4=\"\",\"\",IF(VLOOKUP(B4,'Oman Results'!C4:AI997,31)=\"x\",'Oman Results'!G4,\"\"))","v":""},{"$f":"IF(B4=\"\",\"\",IF(VLOOKUP(B4,'Oman Results'!C4:AI997,31)=\"x\",'Oman Results'!AJ4,\"\"))","v":""},{"$f":"IF(B4=\"\",\"\",IF(VLOOKUP(B4,'Oman Results'!C4:AI997,31)=\"x\",'Oman Results'!AK4,\"\"))","v":""},null,null,1,47271.03,"",""]
[4,{"$f":"IF('Oman Results'!C5=\"\",\"\",'Oman Results'!C5)","v":"202-02240           "},{"$f":"IF(OR('Oman Results'!D5=\"\",'Oman Results'!D5=\"Totals\"),\"\",'Oman Results'!D5)","v":"PAVEMENT REMOVAL                                                                                    "},"",{"$f":"IF('Oman Results'!E5=\"\",\"\",'Oman Results'!E5)","v":10050},{"$f":"IF('Oman Results'!F5=\"\",\"\",'Oman Results'!F5)","v":"S.Y. "},{"$f":"IF(B5=\"\",\"\",IF(VLOOKUP(B5,'Oman Results'!C5:AI998,31)=\"x\",'Oman Results'!AK5,'Oman Results'!G5))","v":7.51},75475.5,{"$f":"IF(B5=\"\",\"\",IF(VLOOKUP(B5,'Oman Results'!C5:AI998,31)=\"x\",\"Yes\",\"\"))","v":""},{"$f":"IF(B5=\"\",\"\",IF(VLOOKUP(B5,'Oman Results'!C5:AI998,31)=\"x\",'Oman Results'!G5,\"\"))","v":""},{"$f":"IF(B5=\"\",\"\",IF(VLOOKUP(B5,'Oman Results'!C5:AI998,31)=\"x\",'Oman Results'!AJ5,\"\"))","v":""},{"$f":"IF(B5=\"\",\"\",IF(VLOOKUP(B5,'Oman Results'!C5:AI998,31)=\"x\",'Oman Results'!AK5,\"\"))","v":""},null,null,"","","",75475.5]
[5,{"$f":"IF('Oman Results'!C6=\"\",\"\",'Oman Results'!C6)","v":"202-51328           "},{"$f":"IF(OR('Oman Results'!D6=\"\",'Oman Results'!D6=\"Totals\"),\"\",'Oman Results'!D6)","v":"PRESENT STRUCTURE, REMOVE PORTIONS                                                                  "},"",{"$f":"IF('Oman Results'!E6=\"\",\"\",'Oman Results'!E6)","v":1},{"$f":"IF('Oman Results'!F6=\"\",\"\",'Oman Results'!F6)","v":"L.S. "},{"$f":"IF(B6=\"\",\"\",IF(VLOOKUP(B6,'Oman Results'!C6:AI999,31)=\"x\",'Oman Results'!AK6,'Oman Results'!G6))","v":949288.28},949288.28,{"$f":"IF(B6=\"\",\"\",IF(VLOOKUP(B6,'Oman Results'!C6:AI999,31)=\"x\",\"Yes\",\"\"))","v":""},{"$f":"IF(B6=\"\",\"\",IF(VLOOKUP(B6,'Oman Results'!C6:AI999,31)=\"x\",'Oman Results'!G6,\"\"))","v":""},{"$f":"IF(B6=\"\",\"\",IF(VLOOKUP(B6,'Oman Results'!C6:AI999,31)=\"x\",'Oman Results'!AJ6,\"\"))","v":""},{"$f":"IF(B6=\"\",\"\",IF(VLOOKUP(B6,'Oman Results'!C6:AI999,31)=\"x\",'Oman Results'!AK6,\"\"))","v":""},null,null,1,949288.28,"",""]
[6,{"$f":"IF('Oman Results'!C7=\"\",\"\",'Oman Results'!C7)","v":"202-51330           "},{"$f":"IF(OR('Oman Results'!D7=\"\",'Oman Results'!D7=\"Totals\"),\"\",'Oman Results'!D7)","v":"PRESENT STRUCTURE, REMOVE                                                                           "},"",{"$f":"IF('Oman Results'!E7=\"\",\"\",'Oman Results'!E7)","v":1},{"$f":"IF('Oman Results'!F7=\"\",\"\",'Oman Results'!F7)","v":"L.S. "},{"$f":"IF(B7=\"\",\"\",IF(VLOOKUP(B7,'Oman Results'!C7:AI1000,31)=\"x\",'Oman Results'!AK7,'Oman Results'!G7))","v":65079.96},65079.96,{"$f":"IF(B7=\"\",\"\",IF(VLOOKUP(B7,'Oman Results'!C7:AI1000,31)=\"x\",\"Yes\",\"\"))","v":""},{"$f":"IF(B7=\"\",\"\",IF(VLOOKUP(B7,'Oman Results'!C7:AI1000,31)=\"x\",'Oman Results'!G7,\"\"))","v":""},{"$f":"IF(B7=\"\",\"\",IF(VLOOKUP(B7,'Oman Results'!C7:AI1000,31)=\"x\",'Oman Results'!AJ7,\"\"))","v":""},{"$f":"IF(B7=\"\",\"\",IF(VLOOKUP(B7,'Oman Results'!C7:AI1000,31)=\"x\",'Oman Results'!AK7,\"\"))","v":""},null,null,1,65079.96,"",""]
[7,{"$f":"IF('Oman Results'!C8=\"\",\"\",'Oman Results'!C8)","v":"202-74035           "},{"$f":"IF(OR('Oman Results'!D8=\"\",'Oman Results'!D8=\"Totals\"),\"\",'Oman Results'!D8)","v":"SIGN, REMOVE                                                                                        "},"",{"$f":"IF('Oman Results'!E8=\"\",\"\",'Oman Results'!E8)","v":20},{"$f":"IF('Oman Results'!F8=\"\",\"\",'Oman Results'!F8)","v":"EACH "},{"$f":"IF(B8=\"\",\"\",IF(VLOOKUP(B8,'Oman Results'!C8:AI1001,31)=\"x\",'Oman Results'!AK8,'Oman Results'!G8))","v":82.19},1643.8,{"$f":"IF(B8=\"\",\"\",IF(VLOOKUP(B8,'Oman Results'!C8:AI1001,31)=\"x\",\"Yes\",\"\"))","v":""},{"$f":"IF(B8=\"\",\"\",IF(VLOOKUP(B8,'Oman Results'!C8:AI1001,31)=\"x\",'Oman Results'!G8,\"\"))","v":""},{"$f":"IF(B8=\"\",\"\",IF(VLOOKUP(B8,'Oman Results'!C8:AI1001,31)=\"x\",'Oman Results'!AJ8,\"\"))","v":""},{"$f":"IF(B8=\"\",\"\",IF(VLOOKUP(B8,'Oman Results'!C8:AI1001,31)=\"x\",'Oman Results'!AK8,\"\"))","v":""},null,null,"","","",1643.8]
[8,{"$f":"IF('Oman Results'!C9=\"\",\"\",'Oman Results'!C9)","v":"202-74055           "},{"$f":"IF(OR('Oman Results'!D9=\"\",'Oman Results'!D9=\"Totals\"),\"\",'Oman Results'!D9)","v":"OVERHEAD SIGN STRUCTURE, BOX TRUSS, REMOVE                                                          "},"",{"$f":"IF('Oman Results'!E9=\"\",\"\",'Oman Results'!E9)","v":5},{"$f":"IF('Oman Results'!F9=\"\",\"\",'Oman Results'!F9)","v":"EACH "},{"$f":"IF(B9=\"\",\"\",IF(VLOOKUP(B9,'Oman Results'!C9:AI1002,31)=\"x\",'Oman Results'!AK9,'Oman Results'!G9))","v":3035.57},15177.85,{"$f":"IF(B9=\"\",\"\",IF(VLOOKUP(B9,'Oman Results'!C9:AI1002,31)=\"x\",\"Yes\",\"\"))","v":""},{"$f":"IF(B9=\"\",\"\",IF(VLOOKUP(B9,'Oman Results'!C9:AI1002,31)=\"x\",'Oman Results'!G9,\"\"))","v":""},{"$f":"IF(B9=\"\",\"\",IF(VLOOKUP(B9,'Oman Results'!C9:AI1002,31)=\"x\",'Oman Results'!AJ9,\"\"))","v":""},{"$f":"IF(B9=\"\",\"\",IF(VLOOKUP(B9,'Oman Results'!C9:AI1002,31)=\"x\",'Oman Results'!AK9,\"\"))","v":""},null,null,"","","",15177.85]
[9,{"$f":"IF('Oman Results'!C10=\"\",\"\",'Oman Results'!C10)","v":"202-85996           "},{"$f":"IF(OR('Oman Results'!D10=\"\",'Oman Results'!D10=\"Totals\"),\"\",'Oman Results'!D10)","v":"LIGHT STANDARD AND MAST ARM, REMOVE                                                                 "},"",{"$f":"IF('Oman Results'!E10=\"\",\"\",'Oman Results'!E10)","v":2},{"$f":"IF('Oman Results'!F10=\"\",\"\",'Oman Results'!F10)","v":"EACH "},{"$f":"IF(B10=\"\",\"\",IF(VLOOKUP(B10,'Oman Results'!C10:AI1003,31)=\"x\",'Oman Results'!AK10,'Oman Results'!G10))","v":401},802,{"$f":"IF(B10=\"\",\"\",IF(VLOOKUP(B10,'Oman Results'!C10:AI1003,31)=\"x\",\"Yes\",\"\"))","v":""},{"$f":"IF(B10=\"\",\"\",IF(VLOOKUP(B10,'Oman Results'!C10:AI1003,31)=\"x\",'Oman Results'!G10,\"\"))","v":""},{"$f":"IF(B10=\"\",\"\",IF(VLOOKUP(B10,'Oman Results'!C10:AI1003,31)=\"x\",'Oman Results'!AJ10,\"\"))","v":""},{"$f":"IF(B10=\"\",\"\",IF(VLOOKUP(B10,'Oman Results'!C10:AI1003,31)=\"x\",'Oman Results'!AK10,\"\"))","v":""},null,null,"","","",802]
[10,{"$f":"IF('Oman Results'!C11=\"\",\"\",'Oman Results'!C11)","v":"202-90413           "},{"$f":"IF(OR('Oman Results'!D11=\"\",'Oman Results'!D11=\"Totals\"),\"\",'Oman Results'!D11)","v":"SLOPEWALL, CONCRETE, 4 IN, REMOVE                                                                   "},"",{"$f":"IF('Oman Results'!E11=\"\",\"\",'Oman Results'!E11)","v":400},{"$f":"IF('Oman Results'!F11=\"\",\"\",'Oman Results'!F11)","v":"S.Y. "},{"$f":"IF(B11=\"\",\"\",IF(VLOOKUP(B11,'Oman Results'!C11:AI1004,31)=\"x\",'Oman Results'!AK11,'Oman Results'!G11))","v":59},23600,{"$f":"IF(B11=\"\",\"\",IF(VLOOKUP(B11,'Oman Results'!C11:AI1004,31)=\"x\",\"Yes\",\"\"))","v":""},{"$f":"IF(B11=\"\",\"\",IF(VLOOKUP(B11,'Oman Results'!C11:AI1004,31)=\"x\",'Oman Results'!G11,\"\"))","v":""},{"$f":"IF(B11=\"\",\"\",IF(VLOOKUP(B11,'Oman Results'!C11:AI1004,31)=\"x\",'Oman Results'!AJ11,\"\"))","v":""},{"$f":"IF(B11=\"\",\"\",IF(VLOOKUP(B11,'Oman Results'!C11:AI1004,31)=\"x\",'Oman Results'!AK11,\"\"))","v":""},null,null,"","","",23600]
[11,{"$f":"IF('Oman Results'!C12=\"\",\"\",'Oman Results'!C12)","v":"202-93741           "},{"$f":"IF(OR('Oman Results'!D12=\"\",'Oman Results'!D12=\"Totals\"),\"\",'Oman Results'!D12)","v":"GUARDRAIL END TREATMENT, REMOVE                                                                     "},"",{"$f":"IF('Oman Results'!E12=\"\",\"\",'Oman Results'!E12)","v":15},{"$f":"IF('Oman Results'!F12=\"\",\"\",'Oman Results'!F12)","v":"EACH "},{"$f":"IF(B12=\"\",\"\",IF(VLOOKUP(B12,'Oman Results'!C12:AI1005,31)=\"x\",'Oman Results'!AK12,'Oman Results'!G12))","v":362.69},5440.35,{"$f":"IF(B12=\"\",\"\",IF(VLOOKUP(B12,'Oman Results'!C12:AI1005,31)=\"x\",\"Yes\",\"\"))","v":""},{"$f":"IF(B12=\"\",\"\",IF(VLOOKUP(B12,'Oman Results'!C12:AI1005,31)=\"x\",'Oman Results'!G12,\"\"))","v":""},{"$f":"IF(B12=\"\",\"\",IF(VLOOKUP(B12,'Oman Results'!C12:AI1005,31)=\"x\",'Oman Results'!AJ12,\"\"))","v":""},{"$f":"IF(B12=\"\",\"\",IF(VLOOKUP(B12,'Oman Results'!C12:AI1005,31)=\"x\",'Oman Results'!AK12,\"\"))","v":""},null,null,"","","",5440.35]
[12,{"$f":"IF('Oman Results'!C13=\"\",\"\",'Oman Results'!C13)","v":"202-94954           "},{"$f":"IF(OR('Oman Results'!D13=\"\",'Oman Results'!D13=\"Totals\"),\"\",'Oman Results'!D13)","v":"BARRIER WALL, CONCRETE, REMOVE                                                                      "},"",{"$f":"IF('Oman Results'!E13=\"\",\"\",'Oman Results'!E13)","v":750},{"$f":"IF('Oman Results'!F13=\"\",\"\",'Oman Results'!F13)","v":"L.F. "},{"$f":"IF(B13=\"\",\"\",IF(VLOOKUP(B13,'Oman Results'!C13:AI1006,31)=\"x\",'Oman Results'!AK13,'Oman Results'!G13))","v":18.309999999999999},13732.499999999998,{"$f":"IF(B13=\"\",\"\",IF(VLOOKUP(B13,'Oman Results'!C13:AI1006,31)=\"x\",\"Yes\",\"\"))","v":""},{"$f":"IF(B13=\"\",\"\",IF(VLOOKUP(B13,'Oman Results'!C13:AI1006,31)=\"x\",'Oman Results'!G13,\"\"))","v":""},{"$f":"IF(B13=\"\",\"\",IF(VLOOKUP(B13,'Oman Results'!C13:AI1006,31)=\"x\",'Oman Results'!AJ13,\"\"))","v":""},{"$f":"IF(B13=\"\",\"\",IF(VLOOKUP(B13,'Oman Results'!C13:AI1006,31)=\"x\",'Oman Results'!AK13,\"\"))","v":""},null,null,"","","",13732.499999999998]
[13,{"$f":"IF('Oman Results'!C14=\"\",\"\",'Oman Results'!C14)","v":"202-95027           "},{"$f":"IF(OR('Oman Results'!D14=\"\",'Oman Results'!D14=\"Totals\"),\"\",'Oman Results'!D14)","v":"IMPACT ATTENUATOR, REMOVE                                                                           "},"",{"$f":"IF('Oman Results'!E14=\"\",\"\",'Oman Results'!E14)","v":2},{"$f":"IF('Oman Results'!F14=\"\",\"\",'Oman Results'!F14)","v":"EACH "},{"$f":"IF(B14=\"\",\"\",IF(VLOOKUP(B14,'Oman Results'!C14:AI1007,31)=\"x\",'Oman Results'!AK14,'Oman Results'!G14))","v":798},1596,{"$f":"IF(B14=\"\",\"\",IF(VLOOKUP(B14,'Oman Results'!C14:AI1007,31)=\"x\",\"Yes\",\"\"))","v":""},{"$f":"IF(B14=\"\",\"\",IF(VLOOKUP(B14,'Oman Results'!C14:AI1007,31)=\"x\",'Oman Results'!G14,\"\"))","v":""},{"$f":"IF(B14=\"\",\"\",IF(VLOOKUP(B14,'Oman Results'!C14:AI1007,31)=\"x\",'Oman Results'!AJ14,\"\"))","v":""},{"$f":"IF(B14=\"\",\"\",IF(VLOOKUP(B14,'Oman Results'!C14:AI1007,31)=\"x\",'Oman Results'!AK14,\"\"))","v":""},null,null,"","","",1596]
[14,{"$f":"IF('Oman Results'!C15=\"\",\"\",'Oman Results'!C15)","v":"202-96022           "},{"$f":"IF(OR('Oman Results'!D15=\"\",'Oman Results'!D15=\"Totals\"),\"\",'Oman Results'!D15)","v":"CONCRETE FOUNDATION, REMOVE                                                                         "},"",{"$f":"IF('Oman Results'!E15=\"\",\"\",'Oman Results'!E15)","v":1},{"$f":"IF('Oman Results'!F15=\"\",\"\",'Oman Results'!F15)","v":"EACH "},{"$f":"IF(B15=\"\",\"\",IF(VLOOKUP(B15,'Oman Results'!C15:AI1008,31)=\"x\",'Oman Results'!AK15,'Oman Results'!G15))","v":389.52},389.52,{"$f":"IF(B15=\"\",\"\",IF(VLOOKUP(B15,'Oman Results'!C15:AI1008,31)=\"x\",\"Yes\",\"\"))","v":""},{"$f":"IF(B15=\"\",\"\",IF(VLOOKUP(B15,'Oman Results'!C15:AI1008,31)=\"x\",'Oman Results'!G15,\"\"))","v":""},{"$f":"IF(B15=\"\",\"\",IF(VLOOKUP(B15,'Oman Results'!C15:AI1008,31)=\"x\",'Oman Results'!AJ15,\"\"))","v":""},{"$f":"IF(B15=\"\",\"\",IF(VLOOKUP(B15,'Oman Results'!C15:AI1008,31)=\"x\",'Oman Results'!AK15,\"\"))","v":""},null,null,"","","",389.52]
[15,{"$f":"IF('Oman Results'!C16=\"\",\"\",'Oman Results'!C16)","v":"202-96328           "},{"$f":"IF(OR('Oman Results'!D16=\"\",'Oman Results'!D16=\"Totals\"),\"\",'Oman Results'!D16)","v":"FOUNDATION, STREET LIGHT, REMOVE                                                                    "},"",{"$f":"IF('Oman Results'!E16=\"\",\"\",'Oman Results'!E16)","v":23},{"$f":"IF('Oman Results'!F16=\"\",\"\",'Oman Results'!F16)","v":"EACH "},{"$f":"IF(B16=\"\",\"\",IF(VLOOKUP(B16,'Oman Results'!C16:AI1009,31)=\"x\",'Oman Results'!AK16,'Oman Results'!G16))","v":961},22103,{"$f":"IF(B16=\"\",\"\",IF(VLOOKUP(B16,'Oman Results'!C16:AI1009,31)=\"x\",\"Yes\",\"\"))","v":""},{"$f":"IF(B16=\"\",\"\",IF(VLOOKUP(B16,'Oman Results'!C16:AI1009,31)=\"x\",'Oman Results'!G16,\"\"))","v":""},{"$f":"IF(B16=\"\",\"\",IF(VLOOKUP(B16,'Oman Results'!C16:AI1009,31)=\"x\",'Oman Results'!AJ16,\"\"))","v":""},{"$f":"IF(B16=\"\",\"\",IF(VLOOKUP(B16,'Oman Results'!C16:AI1009,31)=\"x\",'Oman Results'!AK16,\"\"))","v":""},null,null,"","","",22103]
[16,{"$f":"IF('Oman Results'!C17=\"\",\"\",'Oman Results'!C17)","v":"203-02000           "},{"$f":"IF(OR('Oman Results'!D17=\"\",'Oman Results'!D17=\"Totals\"),\"\",'Oman Results'!D17)","v":"EXCAVATION, COMMON                                                                                  "},"",{"$f":"IF('Oman Results'!E17=\"\",\"\",'Oman Results'!E17)","v":65200},{"$f":"IF('Oman Results'!F17=\"\",\"\",'Oman Results'!F17)","v":"C.Y. "},{"$f":"IF(B17=\"\",\"\",IF(VLOOKUP(B17,'Oman Results'!C17:AI1010,31)=\"x\",'Oman Results'!AK17,'Oman Results'!G17))","v":9.23},601796,{"$f":"IF(B17=\"\",\"\",IF(VLOOKUP(B17,'Oman Results'!C17:AI1010,31)=\"x\",\"Yes\",\"\"))","v":""},{"$f":"IF(B17=\"\",\"\",IF(VLOOKUP(B17,'Oman Results'!C17:AI1010,31)=\"x\",'Oman Results'!G17,\"\"))","v":""},{"$f":"IF(B17=\"\",\"\",IF(VLOOKUP(B17,'Oman Results'!C17:AI1010,31)=\"x\",'Oman Results'!AJ17,\"\"))","v":""},{"$f":"IF(B17=\"\",\"\",IF(VLOOKUP(B17,'Oman Results'!C17:AI1010,31)=\"x\",'Oman Results'!AK17,\"\"))","v":""},null,null,"","","",601796]
[17,{"$f":"IF('Oman Results'!C18=\"\",\"\",'Oman Results'!C18)","v":"203-02070           "},{"$f":"IF(OR('Oman Results'!D18=\"\",'Oman Results'!D18=\"Totals\"),\"\",'Oman Results'!D18)","v":"BORROW                                                                                              "},"",{"$f":"IF('Oman Results'!E18=\"\",\"\",'Oman Results'!E18)","v":20800},{"$f":"IF('Oman Results'!F18=\"\",\"\",'Oman Results'!F18)","v":"C.Y. "},{"$f":"IF(B18=\"\",\"\",IF(VLOOKUP(B18,'Oman Results'!C18:AI1011,31)=\"x\",'Oman Results'!AK18,'Oman Results'!G18))","v":5.84},121472,{"$f":"IF(B18=\"\",\"\",IF(VLOOKUP(B18,'Oman Results'!C18:AI1011,31)=\"x\",\"Yes\",\"\"))","v":""},{"$f":"IF(B18=\"\",\"\",IF(VLOOKUP(B18,'Oman Results'!C18:AI1011,31)=\"x\",'Oman Results'!G18,\"\"))","v":""},{"$f":"IF(B18=\"\",\"\",IF(VLOOKUP(B18,'Oman Results'!C18:AI1011,31)=\"x\",'Oman Results'!AJ18,\"\"))","v":""},{"$f":"IF(B18=\"\",\"\",IF(VLOOKUP(B18,'Oman Results'!C18:AI1011,31)=\"x\",'Oman Results'!AK18,\"\"))","v":""},null,null,"","","",121472]
[18,{"$f":"IF('Oman Results'!C19=\"\",\"\",'Oman Results'!C19)","v":"205-03371           "},{"$f":"IF(OR('Oman Results'!D19=\"\",'Oman Results'!D19=\"Totals\"),\"\",'Oman Results'!D19)","v":"SEDIMENT, REMOVE                                                                                    "},"",{"$f":"IF('Oman Results'!E19=\"\",\"\",'Oman Results'!E19)","v":65},{"$f":"IF('Oman Results'!F19=\"\",\"\",'Oman Results'!F19)","v":"C.Y. "},{"$f":"IF(B19=\"\",\"\",IF(VLOOKUP(B19,'Oman Results'!C19:AI1012,31)=\"x\",'Oman Results'!AK19,'Oman Results'!G19))","v":13.47},875.55000000000007,{"$f":"IF(B19=\"\",\"\",IF(VLOOKUP(B19,'Oman Results'!C19:AI1012,31)=\"x\",\"Yes\",\"\"))","v":""},{"$f":"IF(B19=\"\",\"\",IF(VLOOKUP(B19,'Oman Results'!C19:AI1012,31)=\"x\",'Oman Results'!G19,\"\"))","v":""},{"$f":"IF(B19=\"\",\"\",IF(VLOOKUP(B19,'Oman Results'!C19:AI1012,31)=\"x\",'Oman Results'!AJ19,\"\"))","v":""},{"$f":"IF(B19=\"\",\"\",IF(VLOOKUP(B19,'Oman Results'!C19:AI1012,31)=\"x\",'Oman Results'!AK19,\"\"))","v":""},null,null,"","","",875.55000000000007]
[19,{"$f":"IF('Oman Results'!C20=\"\",\"\",'Oman Results'!C20)","v":"205-06930           "},{"$f":"IF(OR('Oman Results'!D20=\"\",'Oman Results'!D20=\"Totals\"),\"\",'Oman Results'!D20)","v":"SPLASHPAD, RIPRAP                                                                                   "},"",{"$f":"IF('Oman Results'!E20=\"\",\"\",'Oman Results'!E20)","v":2.7},{"$f":"IF('Oman Results'!F20=\"\",\"\",'Oman Results'!F20)","v":"TON  "},{"$f":"IF(B20=\"\",\"\",IF(VLOOKUP(B20,'Oman Results'!C20:AI1013,31)=\"x\",'Oman Results'!AK20,'Oman Results'!G20))","v":44.77},120.87900000000002,{"$f":"IF(B20=\"\",\"\",IF(VLOOKUP(B20,'Oman Results'!C20:AI1013,31)=\"x\",\"Yes\",\"\"))","v":""},{"$f":"IF(B20=\"\",\"\",IF(VLOOKUP(B20,'Oman Results'!C20:AI1013,31)=\"x\",'Oman Results'!G20,\"\"))","v":""},{"$f":"IF(B20=\"\",\"\",IF(VLOOKUP(B20,'Oman Results'!C20:AI1013,31)=\"x\",'Oman Results'!AJ20,\"\"))","v":""},{"$f":"IF(B20=\"\",\"\",IF(VLOOKUP(B20,'Oman Results'!C20:AI1013,31)=\"x\",'Oman Results'!AK20,\"\"))","v":""},null,null,"","","",120.87900000000002]
[20,{"$f":"IF('Oman Results'!C21=\"\",\"\",'Oman Results'!C21)","v":"205-06931           "},{"$f":"IF(OR('Oman Results'!D21=\"\",'Oman Results'!D21=\"Totals\"),\"\",'Oman Results'!D21)","v":"TEMPORARY CHECK DAM, REVETMENT RIPRAP                                                               "},"",{"$f":"IF('Oman Results'!E21=\"\",\"\",'Oman Results'!E21)","v":750},{"$f":"IF('Oman Results'!F21=\"\",\"\",'Oman Results'!F21)","v":"TON  "},{"$f":"IF(B21=\"\",\"\",IF(VLOOKUP(B21,'Oman Results'!C21:AI1014,31)=\"x\",'Oman Results'!AK21,'Oman Results'!G21))","v":42.44},31830,{"$f":"IF(B21=\"\",\"\",IF(VLOOKUP(B21,'Oman Results'!C21:AI1014,31)=\"x\",\"Yes\",\"\"))","v":""},{"$f":"IF(B21=\"\",\"\",IF(VLOOKUP(B21,'Oman Results'!C21:AI1014,31)=\"x\",'Oman Results'!G21,\"\"))","v":""},{"$f":"IF(B21=\"\",\"\",IF(VLOOKUP(B21,'Oman Results'!C21:AI1014,31)=\"x\",'Oman Results'!AJ21,\"\"))","v":""},{"$f":"IF(B21=\"\",\"\",IF(VLOOKUP(B21,'Oman Results'!C21:AI1014,31)=\"x\",'Oman Results'!AK21,\"\"))","v":""},null,null,"","","",31830]
[21,{"$f":"IF('Oman Results'!C22=\"\",\"\",'Oman Results'!C22)","v":"205-06936           "},{"$f":"IF(OR('Oman Results'!D22=\"\",'Oman Results'!D22=\"Totals\"),\"\",'Oman Results'!D22)","v":"TEMPORARY SEDIMENT TRAP                                                                             "},"",{"$f":"IF('Oman Results'!E22=\"\",\"\",'Oman Results'!E22)","v":80},{"$f":"IF('Oman Results'!F22=\"\",\"\",'Oman Results'!F22)","v":"TON  "},{"$f":"IF(B22=\"\",\"\",IF(VLOOKUP(B22,'Oman Results'!C22:AI1015,31)=\"x\",'Oman Results'!AK22,'Oman Results'!G22))","v":40.58},3246.3999999999996,{"$f":"IF(B22=\"\",\"\",IF(VLOOKUP(B22,'Oman Results'!C22:AI1015,31)=\"x\",\"Yes\",\"\"))","v":""},{"$f":"IF(B22=\"\",\"\",IF(VLOOKUP(B22,'Oman Results'!C22:AI1015,31)=\"x\",'Oman Results'!G22,\"\"))","v":""},{"$f":"IF(B22=\"\",\"\",IF(VLOOKUP(B22,'Oman Results'!C22:AI1015,31)=\"x\",'Oman Results'!AJ22,\"\"))","v":""},{"$f":"IF(B22=\"\",\"\",IF(VLOOKUP(B22,'Oman Results'!C22:AI1015,31)=\"x\",'Oman Results'!AK22,\"\"))","v":""},null,null,"","","",3246.3999999999996]
[22,{"$f":"IF('Oman Results'!C23=\"\",\"\",'Oman Results'!C23)","v":"205-06937           "},{"$f":"IF(OR('Oman Results'!D23=\"\",'Oman Results'!D23=\"Totals\"),\"\",'Oman Results'!D23)","v":"TEMPORARY SILT FENCE                                                                                "},"",{"$f":"IF('Oman Results'!E23=\"\",\"\",'Oman Results'!E23)","v":15160},{"$f":"IF('Oman Results'!F23=\"\",\"\",'Oman Results'!F23)","v":"L.F. "},{"$f":"IF(B23=\"\",\"\",IF(VLOOKUP(B23,'Oman Results'!C23:AI1016,31)=\"x\",'Oman Results'!AK23,'Oman Results'!G23))","v":1.58},23952.799999999999,{"$f":"IF(B23=\"\",\"\",IF(VLOOKUP(B23,'Oman Results'!C23:AI1016,31)=\"x\",\"Yes\",\"\"))","v":""},{"$f":"IF(B23=\"\",\"\",IF(VLOOKUP(B23,'Oman Results'!C23:AI1016,31)=\"x\",'Oman Results'!G23,\"\"))","v":""},{"$f":"IF(B23=\"\",\"\",IF(VLOOKUP(B23,'Oman Results'!C23:AI1016,31)=\"x\",'Oman Results'!AJ23,\"\"))","v":""},{"$f":"IF(B23=\"\",\"\",IF(VLOOKUP(B23,'Oman Results'!C23:AI1016,31)=\"x\",'Oman Results'!AK23,\"\"))","v":""},null,null,"","","",23952.799999999999]
[23,{"$f":"IF('Oman Results'!C24=\"\",\"\",'Oman Results'!C24)","v":"205-06938           "},{"$f":"IF(OR('Oman Results'!D24=\"\",'Oman Results'!D24=\"Totals\"),\"\",'Oman Results'!D24)","v":"TEMPORARY SLOPE DRAIN                                                                               "},"",{"$f":"IF('Oman Results'!E24=\"\",\"\",'Oman Results'!E24)","v":175},{"$f":"IF('Oman Results'!F24=\"\",\"\",'Oman Results'!F24)","v":"L.F. "},{"$f":"IF(B24=\"\",\"\",IF(VLOOKUP(B24,'Oman Results'!C24:AI1017,31)=\"x\",'Oman Results'!AK24,'Oman Results'!G24))","v":16.920000000000002},2961.0000000000005,{"$f":"IF(B24=\"\",\"\",IF(VLOOKUP(B24,'Oman Results'!C24:AI1017,31)=\"x\",\"Yes\",\"\"))","v":""},{"$f":"IF(B24=\"\",\"\",IF(VLOOKUP(B24,'Oman Results'!C24:AI1017,31)=\"x\",'Oman Results'!G24,\"\"))","v":""},{"$f":"IF(B24=\"\",\"\",IF(VLOOKUP(B24,'Oman Results'!C24:AI1017,31)=\"x\",'Oman Results'!AJ24,\"\"))","v":""},{"$f":"IF(B24=\"\",\"\",IF(VLOOKUP(B24,'Oman Results'!C24:AI1017,31)=\"x\",'Oman Results'!AK24,\"\"))","v":""},null,null,"","","",2961.0000000000005]
[24,{"$f":"IF('Oman Results'!C25=\"\",\"\",'Oman Results'!C25)","v":"207-08263           "},{"$f":"IF(OR('Oman Results'!D25=\"\",'Oman Results'!D25=\"Totals\"),\"\",'Oman Results'!D25)","v":"SUBGRADE TREATMENT, TYPE IA                                                                         "},"",{"$f":"IF('Oman Results'!E25=\"\",\"\",'Oman Results'!E25)","v":65400},{"$f":"IF('Oman Results'!F25=\"\",\"\",'Oman Results'!F25)","v":"S.Y. "},{"$f":"IF(B25=\"\",\"\",IF(VLOOKUP(B25,'Oman Results'!C25:AI1018,31)=\"x\",'Oman Results'!AK25,'Oman Results'!G25))","v":6.28},410712,{"$f":"IF(B25=\"\",\"\",IF(VLOOKUP(B25,'Oman Results'!C25:AI1018,31)=\"x\",\"Yes\",\"\"))","v":""},{"$f":"IF(B25=\"\",\"\",IF(VLOOKUP(B25,'Oman Results'!C25:AI1018,31)=\"x\",'Oman Results'!G25,\"\"))","v":""},{"$f":"IF(B25=\"\",\"\",IF(VLOOKUP(B25,'Oman Results'!C25:AI1018,31)=\"x\",'Oman Results'!AJ25,\"\"))","v":""},{"$f":"IF(B25=\"\",\"\",IF(VLOOKUP(B25,'Oman Results'!C25:AI1018,31)=\"x\",'Oman Results'!AK25,\"\"))","v":""},null,null,"","","",410712]
[25,{"$f":"IF('Oman Results'!C26=\"\",\"\",'Oman Results'!C26)","v":"211-02050           "},{"$f":"IF(OR('Oman Results'!D26=\"\",'Oman Results'!D26=\"Totals\"),\"\",'Oman Results'!D26)","v":"B BORROW                                                                                            "},"",{"$f":"IF('Oman Results'!E26=\"\",\"\",'Oman Results'!E26)","v":35850},{"$f":"IF('Oman Results'!F26=\"\",\"\",'Oman Results'!F26)","v":"C.Y. "},{"$f":"IF(B26=\"\",\"\",IF(VLOOKUP(B26,'Oman Results'!C26:AI1019,31)=\"x\",'Oman Results'!AK26,'Oman Results'!G26))","v":19.260000000000002},690471,{"$f":"IF(B26=\"\",\"\",IF(VLOOKUP(B26,'Oman Results'!C26:AI1019,31)=\"x\",\"Yes\",\"\"))","v":""},{"$f":"IF(B26=\"\",\"\",IF(VLOOKUP(B26,'Oman Results'!C26:AI1019,31)=\"x\",'Oman Results'!G26,\"\"))","v":""},{"$f":"IF(B26=\"\",\"\",IF(VLOOKUP(B26,'Oman Results'!C26:AI1019,31)=\"x\",'Oman Results'!AJ26,\"\"))","v":""},{"$f":"IF(B26=\"\",\"\",IF(VLOOKUP(B26,'Oman Results'!C26:AI1019,31)=\"x\",'Oman Results'!AK26,\"\"))","v":""},null,null,"","","",690471]
[26,{"$f":"IF('Oman Results'!C27=\"\",\"\",'Oman Results'!C27)","v":"211-09264           "},{"$f":"IF(OR('Oman Results'!D27=\"\",'Oman Results'!D27=\"Totals\"),\"\",'Oman Results'!D27)","v":"STRUCTURAL BACKFILL, TYPE 1                                                                         "},"",{"$f":"IF('Oman Results'!E27=\"\",\"\",'Oman Results'!E27)","v":80},{"$f":"IF('Oman Results'!F27=\"\",\"\",'Oman Results'!F27)","v":"C.Y. "},{"$f":"IF(B27=\"\",\"\",IF(VLOOKUP(B27,'Oman Results'!C27:AI1020,31)=\"x\",'Oman Results'!AK27,'Oman Results'!G27))","v":19.11},1528.8,{"$f":"IF(B27=\"\",\"\",IF(VLOOKUP(B27,'Oman Results'!C27:AI1020,31)=\"x\",\"Yes\",\"\"))","v":""},{"$f":"IF(B27=\"\",\"\",IF(VLOOKUP(B27,'Oman Results'!C27:AI1020,31)=\"x\",'Oman Results'!G27,\"\"))","v":""},{"$f":"IF(B27=\"\",\"\",IF(VLOOKUP(B27,'Oman Results'!C27:AI1020,31)=\"x\",'Oman Results'!AJ27,\"\"))","v":""},{"$f":"IF(B27=\"\",\"\",IF(VLOOKUP(B27,'Oman Results'!C27:AI1020,31)=\"x\",'Oman Results'!AK27,\"\"))","v":""},null,null,"","","",1528.8]
[27,{"$f":"IF('Oman Results'!C28=\"\",\"\",'Oman Results'!C28)","v":"211-09266           "},{"$f":"IF(OR('Oman Results'!D28=\"\",'Oman Results'!D28=\"Totals\"),\"\",'Oman Results'!D28)","v":"STRUCTURAL BACKFILL, TYPE 3                                                                         "},"",{"$f":"IF('Oman Results'!E28=\"\",\"\",'Oman Results'!E28)","v":50900},{"$f":"IF('Oman Results'!F28=\"\",\"\",'Oman Results'!F28)","v":"C.Y. "},{"$f":"IF(B28=\"\",\"\",IF(VLOOKUP(B28,'Oman Results'!C28:AI1021,31)=\"x\",'Oman Results'!AK28,'Oman Results'!G28))","v":22.07},1123363,{"$f":"IF(B28=\"\",\"\",IF(VLOOKUP(B28,'Oman Results'!C28:AI1021,31)=\"x\",\"Yes\",\"\"))","v":""},{"$f":"IF(B28=\"\",\"\",IF(VLOOKUP(B28,'Oman Results'!C28:AI1021,31)=\"x\",'Oman Results'!G28,\"\"))","v":""},{"$f":"IF(B28=\"\",\"\",IF(VLOOKUP(B28,'Oman Results'!C28:AI1021,31)=\"x\",'Oman Results'!AJ28,\"\"))","v":""},{"$f":"IF(B28=\"\",\"\",IF(VLOOKUP(B28,'Oman Results'!C28:AI1021,31)=\"x\",'Oman Results'!AK28,\"\"))","v":""},null,null,"","","",1123363]
[28,{"$f":"IF('Oman Results'!C29=\"\",\"\",'Oman Results'!C29)","v":"216-06397           "},{"$f":"IF(OR('Oman Results'!D29=\"\",'Oman Results'!D29=\"Totals\"),\"\",'Oman Results'!D29)","v":"WIRE MESH                                                                                           "},"",{"$f":"IF('Oman Results'!E29=\"\",\"\",'Oman Results'!E29)","v":415},{"$f":"IF('Oman Results'!F29=\"\",\"\",'Oman Results'!F29)","v":"S.Y. "},{"$f":"IF(B29=\"\",\"\",IF(VLOOKUP(B29,'Oman Results'!C29:AI1022,31)=\"x\",'Oman Results'!AK29,'Oman Results'!G29))","v":31.75},13176.25,{"$f":"IF(B29=\"\",\"\",IF(VLOOKUP(B29,'Oman Results'!C29:AI1022,31)=\"x\",\"Yes\",\"\"))","v":""},{"$f":"IF(B29=\"\",\"\",IF(VLOOKUP(B29,'Oman Results'!C29:AI1022,31)=\"x\",'Oman Results'!G29,\"\"))","v":""},{"$f":"IF(B29=\"\",\"\",IF(VLOOKUP(B29,'Oman Results'!C29:AI1022,31)=\"x\",'Oman Results'!AJ29,\"\"))","v":""},{"$f":"IF(B29=\"\",\"\",IF(VLOOKUP(B29,'Oman Results'!C29:AI1022,31)=\"x\",'Oman Results'!AK29,\"\"))","v":""},null,null,"","","",13176.25]
[29,{"$f":"IF('Oman Results'!C30=\"\",\"\",'Oman Results'!C30)","v":"302-07455           "},{"$f":"IF(OR('Oman Results'!D30=\"\",'Oman Results'!D30=\"Totals\"),\"\",'Oman Results'!D30)","v":"DENSE GRADED SUBBASE                                                                                "},"",{"$f":"IF('Oman Results'!E30=\"\",\"\",'Oman Results'!E30)","v":148},{"$f":"IF('Oman Results'!F30=\"\",\"\",'Oman Results'!F30)","v":"C.Y. "},{"$f":"IF(B30=\"\",\"\",IF(VLOOKUP(B30,'Oman Results'!C30:AI1023,31)=\"x\",'Oman Results'!AK30,'Oman Results'!G30))","v":58.34},8634.32,{"$f":"IF(B30=\"\",\"\",IF(VLOOKUP(B30,'Oman Results'!C30:AI1023,31)=\"x\",\"Yes\",\"\"))","v":""},{"$f":"IF(B30=\"\",\"\",IF(VLOOKUP(B30,'Oman Results'!C30:AI1023,31)=\"x\",'Oman Results'!G30,\"\"))","v":""},{"$f":"IF(B30=\"\",\"\",IF(VLOOKUP(B30,'Oman Results'!C30:AI1023,31)=\"x\",'Oman Results'!AJ30,\"\"))","v":""},{"$f":"IF(B30=\"\",\"\",IF(VLOOKUP(B30,'Oman Results'!C30:AI1023,31)=\"x\",'Oman Results'!AK30,\"\"))","v":""},null,null,"","","",8634.32]
[30,{"$f":"IF('Oman Results'!C31=\"\",\"\",'Oman Results'!C31)","v":"302-08562           "},{"$f":"IF(OR('Oman Results'!D31=\"\",'Oman Results'!D31=\"Totals\"),\"\",'Oman Results'!D31)","v":"COARSE AGGREGATE, NO 8                                                                              "},"",{"$f":"IF('Oman Results'!E31=\"\",\"\",'Oman Results'!E31)","v":880},{"$f":"IF('Oman Results'!F31=\"\",\"\",'Oman Results'!F31)","v":"TON  "},{"$f":"IF(B31=\"\",\"\",IF(VLOOKUP(B31,'Oman Results'!C31:AI1024,31)=\"x\",'Oman Results'!AK31,'Oman Results'!G31))","v":29.49},25951.199999999997,{"$f":"IF(B31=\"\",\"\",IF(VLOOKUP(B31,'Oman Results'!C31:AI1024,31)=\"x\",\"Yes\",\"\"))","v":""},{"$f":"IF(B31=\"\",\"\",IF(VLOOKUP(B31,'Oman Results'!C31:AI1024,31)=\"x\",'Oman Results'!G31,\"\"))","v":""},{"$f":"IF(B31=\"\",\"\",IF(VLOOKUP(B31,'Oman Results'!C31:AI1024,31)=\"x\",'Oman Results'!AJ31,\"\"))","v":""},{"$f":"IF(B31=\"\",\"\",IF(VLOOKUP(B31,'Oman Results'!C31:AI1024,31)=\"x\",'Oman Results'!AK31,\"\"))","v":""},null,null,"","","",25951.199999999997]
[31,{"$f":"IF('Oman Results'!C32=\"\",\"\",'Oman Results'!C32)","v":"303-01180           "},{"$f":"IF(OR('Oman Results'!D32=\"\",'Oman Results'!D32=\"Totals\"),\"\",'Oman Results'!D32)","v":"COMPACTED AGGREGATE, NO. 53                                                                         "},"",{"$f":"IF('Oman Results'!E32=\"\",\"\",'Oman Results'!E32)","v":6450},{"$f":"IF('Oman Results'!F32=\"\",\"\",'Oman Results'!F32)","v":"TON  "},{"$f":"IF(B32=\"\",\"\",IF(VLOOKUP(B32,'Oman Results'!C32:AI1025,31)=\"x\",'Oman Results'!AK32,'Oman Results'!G32))","v":20.46},131967,{"$f":"IF(B32=\"\",\"\",IF(VLOOKUP(B32,'Oman Results'!C32:AI1025,31)=\"x\",\"Yes\",\"\"))","v":""},{"$f":"IF(B32=\"\",\"\",IF(VLOOKUP(B32,'Oman Results'!C32:AI1025,31)=\"x\",'Oman Results'!G32,\"\"))","v":""},{"$f":"IF(B32=\"\",\"\",IF(VLOOKUP(B32,'Oman Results'!C32:AI1025,31)=\"x\",'Oman Results'!AJ32,\"\"))","v":""},{"$f":"IF(B32=\"\",\"\",IF(VLOOKUP(B32,'Oman Results'!C32:AI1025,31)=\"x\",'Oman Results'!AK32,\"\"))","v":""},null,null,"","","",131967]
[32,{"$f":"IF('Oman Results'!C33=\"\",\"\",'Oman Results'!C33)","v":"306-08042           "},{"$f":"IF(OR('Oman Results'!D33=\"\",'Oman Results'!D33=\"Totals\"),\"\",'Oman Results'!D33)","v":"MILLING, SCARIFICATION/PROFILE                                                                      "},"",{"$f":"IF('Oman Results'!E33=\"\",\"\",'Oman Results'!E33)","v":36100},{"$f":"IF('Oman Results'!F33=\"\",\"\",'Oman Results'!F33)","v":"S.Y. "},{"$f":"IF(B33=\"\",\"\",IF(VLOOKUP(B33,'Oman Results'!C33:AI1026,31)=\"x\",'Oman Results'!AK33,'Oman Results'!G33))","v":0.47},16967,{"$f":"IF(B33=\"\",\"\",IF(VLOOKUP(B33,'Oman Results'!C33:AI1026,31)=\"x\",\"Yes\",\"\"))","v":""},{"$f":"IF(B33=\"\",\"\",IF(VLOOKUP(B33,'Oman Results'!C33:AI1026,31)=\"x\",'Oman Results'!G33,\"\"))","v":""},{"$f":"IF(B33=\"\",\"\",IF(VLOOKUP(B33,'Oman Results'!C33:AI1026,31)=\"x\",'Oman Results'!AJ33,\"\"))","v":""},{"$f":"IF(B33=\"\",\"\",IF(VLOOKUP(B33,'Oman Results'!C33:AI1026,31)=\"x\",'Oman Results'!AK33,\"\"))","v":""},null,null,"","","",16967]
[33,{"$f":"IF('Oman Results'!C34=\"\",\"\",'Oman Results'!C34)","v":"401-06264           "},{"$f":"IF(OR('Oman Results'!D34=\"\",'Oman Results'!D34=\"Totals\"),\"\",'Oman Results'!D34)","v":"PROFILOGRAPH, HMA                                                                                   "},"",{"$f":"IF('Oman Results'!E34=\"\",\"\",'Oman Results'!E34)","v":1},{"$f":"IF('Oman Results'!F34=\"\",\"\",'Oman Results'!F34)","v":"L.S. "},{"$f":"IF(B34=\"\",\"\",IF(VLOOKUP(B34,'Oman Results'!C34:AI1027,31)=\"x\",'Oman Results'!AK34,'Oman Results'!G34))","v":5027.78},5027.78,{"$f":"IF(B34=\"\",\"\",IF(VLOOKUP(B34,'Oman Results'!C34:AI1027,31)=\"x\",\"Yes\",\"\"))","v":""},{"$f":"IF(B34=\"\",\"\",IF(VLOOKUP(B34,'Oman Results'!C34:AI1027,31)=\"x\",'Oman Results'!G34,\"\"))","v":""},{"$f":"IF(B34=\"\",\"\",IF(VLOOKUP(B34,'Oman Results'!C34:AI1027,31)=\"x\",'Oman Results'!AJ34,\"\"))","v":""},{"$f":"IF(B34=\"\",\"\",IF(VLOOKUP(B34,'Oman Results'!C34:AI1027,31)=\"x\",'Oman Results'!AK34,\"\"))","v":""},null,null,1,5027.78,"",""]
[34,{"$f":"IF('Oman Results'!C35=\"\",\"\",'Oman Results'!C35)","v":"401-07335           "},{"$f":"IF(OR('Oman Results'!D35=\"\",'Oman Results'!D35=\"Totals\"),\"\",'Oman Results'!D35)","v":"QC/QA-HMA, 4, 76, SURFACE, 9.5 mm                                                                   "},"",{"$f":"IF('Oman Results'!E35=\"\",\"\",'Oman Results'!E35)","v":7500},{"$f":"IF('Oman Results'!F35=\"\",\"\",'Oman Results'!F35)","v":"TON  "},{"$f":"IF(B35=\"\",\"\",IF(VLOOKUP(B35,'Oman Results'!C35:AI1028,31)=\"x\",'Oman Results'!AK35,'Oman Results'!G35))","v":84},630000,{"$f":"IF(B35=\"\",\"\",IF(VLOOKUP(B35,'Oman Results'!C35:AI1028,31)=\"x\",\"Yes\",\"\"))","v":""},{"$f":"IF(B35=\"\",\"\",IF(VLOOKUP(B35,'Oman Results'!C35:AI1028,31)=\"x\",'Oman Results'!G35,\"\"))","v":""},{"$f":"IF(B35=\"\",\"\",IF(VLOOKUP(B35,'Oman Results'!C35:AI1028,31)=\"x\",'Oman Results'!AJ35,\"\"))","v":""},{"$f":"IF(B35=\"\",\"\",IF(VLOOKUP(B35,'Oman Results'!C35:AI1028,31)=\"x\",'Oman Results'!AK35,\"\"))","v":""},null,null,"","","",630000]
[35,{"$f":"IF('Oman Results'!C36=\"\",\"\",'Oman Results'!C36)","v":"401-07404           "},{"$f":"IF(OR('Oman Results'!D36=\"\",'Oman Results'!D36=\"Totals\"),\"\",'Oman Results'!D36)","v":"QC/QA-HMA, 4, 76, INTERMEDIATE, 19.0 mm                                                             "},"",{"$f":"IF('Oman Results'!E36=\"\",\"\",'Oman Results'!E36)","v":7900},{"$f":"IF('Oman Results'!F36=\"\",\"\",'Oman Results'!F36)","v":"TON  "},{"$f":"IF(B36=\"\",\"\",IF(VLOOKUP(B36,'Oman Results'!C36:AI1029,31)=\"x\",'Oman Results'!AK36,'Oman Results'!G36))","v":63},497700,{"$f":"IF(B36=\"\",\"\",IF(VLOOKUP(B36,'Oman Results'!C36:AI1029,31)=\"x\",\"Yes\",\"\"))","v":""},{"$f":"IF(B36=\"\",\"\",IF(VLOOKUP(B36,'Oman Results'!C36:AI1029,31)=\"x\",'Oman Results'!G36,\"\"))","v":""},{"$f":"IF(B36=\"\",\"\",IF(VLOOKUP(B36,'Oman Results'!C36:AI1029,31)=\"x\",'Oman Results'!AJ36,\"\"))","v":""},{"$f":"IF(B36=\"\",\"\",IF(VLOOKUP(B36,'Oman Results'!C36:AI1029,31)=\"x\",'Oman Results'!AK36,\"\"))","v":""},null,null,"","","",497700]
[36,{"$f":"IF('Oman Results'!C37=\"\",\"\",'Oman Results'!C37)","v":"401-07409           "},{"$f":"IF(OR('Oman Results'!D37=\"\",'Oman Results'!D37=\"Totals\"),\"\",'Oman Results'!D37)","v":"QC/QA-HMA, 4, 64, BASE, 25.0 mm                                                                     "},"",{"$f":"IF('Oman Results'!E37=\"\",\"\",'Oman Results'!E37)","v":28350},{"$f":"IF('Oman Results'!F37=\"\",\"\",'Oman Results'!F37)","v":"TON  "},{"$f":"IF(B37=\"\",\"\",IF(VLOOKUP(B37,'Oman Results'!C37:AI1030,31)=\"x\",'Oman Results'!AK37,'Oman Results'!G37))","v":52.53},1489225.5,{"$f":"IF(B37=\"\",\"\",IF(VLOOKUP(B37,'Oman Results'!C37:AI1030,31)=\"x\",\"Yes\",\"\"))","v":""},{"$f":"IF(B37=\"\",\"\",IF(VLOOKUP(B37,'Oman Results'!C37:AI1030,31)=\"x\",'Oman Results'!G37,\"\"))","v":""},{"$f":"IF(B37=\"\",\"\",IF(VLOOKUP(B37,'Oman Results'!C37:AI1030,31)=\"x\",'Oman Results'!AJ37,\"\"))","v":""},{"$f":"IF(B37=\"\",\"\",IF(VLOOKUP(B37,'Oman Results'!C37:AI1030,31)=\"x\",'Oman Results'!AK37,\"\"))","v":""},null,null,"","","",1489225.5]
[37,{"$f":"IF('Oman Results'!C38=\"\",\"\",'Oman Results'!C38)","v":"401-07429           "},{"$f":"IF(OR('Oman Results'!D38=\"\",'Oman Results'!D38=\"Totals\"),\"\",'Oman Results'!D38)","v":"QC/QA-HMA, 5, 76, INTERMEDIATE, OG, 19.0 mm                                                         "},"",{"$f":"IF('Oman Results'!E38=\"\",\"\",'Oman Results'!E38)","v":10500},{"$f":"IF('Oman Results'!F38=\"\",\"\",'Oman Results'!F38)","v":"TON  "},{"$f":"IF(B38=\"\",\"\",IF(VLOOKUP(B38,'Oman Results'!C38:AI1031,31)=\"x\",'Oman Results'!AK38,'Oman Results'!G38))","v":55.33},580965,{"$f":"IF(B38=\"\",\"\",IF(VLOOKUP(B38,'Oman Results'!C38:AI1031,31)=\"x\",\"Yes\",\"\"))","v":""},{"$f":"IF(B38=\"\",\"\",IF(VLOOKUP(B38,'Oman Results'!C38:AI1031,31)=\"x\",'Oman Results'!G38,\"\"))","v":""},{"$f":"IF(B38=\"\",\"\",IF(VLOOKUP(B38,'Oman Results'!C38:AI1031,31)=\"x\",'Oman Results'!AJ38,\"\"))","v":""},{"$f":"IF(B38=\"\",\"\",IF(VLOOKUP(B38,'Oman Results'!C38:AI1031,31)=\"x\",'Oman Results'!AK38,\"\"))","v":""},null,null,"","","",580965]
[38,{"$f":"IF('Oman Results'!C39=\"\",\"\",'Oman Results'!C39)","v":"406-05520           "},{"$f":"IF(OR('Oman Results'!D39=\"\",'Oman Results'!D39=\"Totals\"),\"\",'Oman Results'!D39)","v":"ASPHALT FOR TACK COAT                                                                               "},"",{"$f":"IF('Oman Results'!E39=\"\",\"\",'Oman Results'!E39)","v":80},{"$f":"IF('Oman Results'!F39=\"\",\"\",'Oman Results'!F39)","v":"TON  "},{"$f":"IF(B39=\"\",\"\",IF(VLOOKUP(B39,'Oman Results'!C39:AI1032,31)=\"x\",'Oman Results'!AK39,'Oman Results'!G39))","v":353.75},28300,{"$f":"IF(B39=\"\",\"\",IF(VLOOKUP(B39,'Oman Results'!C39:AI1032,31)=\"x\",\"Yes\",\"\"))","v":""},{"$f":"IF(B39=\"\",\"\",IF(VLOOKUP(B39,'Oman Results'!C39:AI1032,31)=\"x\",'Oman Results'!G39,\"\"))","v":""},{"$f":"IF(B39=\"\",\"\",IF(VLOOKUP(B39,'Oman Results'!C39:AI1032,31)=\"x\",'Oman Results'!AJ39,\"\"))","v":""},{"$f":"IF(B39=\"\",\"\",IF(VLOOKUP(B39,'Oman Results'!C39:AI1032,31)=\"x\",'Oman Results'!AK39,\"\"))","v":""},null,null,"","","",28300]
[39,{"$f":"IF('Oman Results'!C40=\"\",\"\",'Oman Results'!C40)","v":"601-01128           "},{"$f":"IF(OR('Oman Results'!D40=\"\",'Oman Results'!D40=\"Totals\"),\"\",'Oman Results'!D40)","v":"GUARDRAIL, TRANSITION TYPE WGB                                                                      "},"",{"$f":"IF('Oman Results'!E40=\"\",\"\",'Oman Results'!E40)","v":6},{"$f":"IF('Oman Results'!F40=\"\",\"\",'Oman Results'!F40)","v":"EACH "},{"$f":"IF(B40=\"\",\"\",IF(VLOOKUP(B40,'Oman Results'!C40:AI1033,31)=\"x\",'Oman Results'!AK40,'Oman Results'!G40))","v":1328.82},7972.92,{"$f":"IF(B40=\"\",\"\",IF(VLOOKUP(B40,'Oman Results'!C40:AI1033,31)=\"x\",\"Yes\",\"\"))","v":""},{"$f":"IF(B40=\"\",\"\",IF(VLOOKUP(B40,'Oman Results'!C40:AI1033,31)=\"x\",'Oman Results'!G40,\"\"))","v":""},{"$f":"IF(B40=\"\",\"\",IF(VLOOKUP(B40,'Oman Results'!C40:AI1033,31)=\"x\",'Oman Results'!AJ40,\"\"))","v":""},{"$f":"IF(B40=\"\",\"\",IF(VLOOKUP(B40,'Oman Results'!C40:AI1033,31)=\"x\",'Oman Results'!AK40,\"\"))","v":""},null,null,"","","",7972.92]
[40,{"$f":"IF('Oman Results'!C41=\"\",\"\",'Oman Results'!C41)","v":"601-01522           "},{"$f":"IF(OR('Oman Results'!D41=\"\",'Oman Results'!D41=\"Totals\"),\"\",'Oman Results'!D41)","v":"GUARDRAIL, TRANSITION TYPE TGB                                                                      "},"",{"$f":"IF('Oman Results'!E41=\"\",\"\",'Oman Results'!E41)","v":5},{"$f":"IF('Oman Results'!F41=\"\",\"\",'Oman Results'!F41)","v":"EACH "},{"$f":"IF(B41=\"\",\"\",IF(VLOOKUP(B41,'Oman Results'!C41:AI1034,31)=\"x\",'Oman Results'!AK41,'Oman Results'!G41))","v":2055.17},10275.85,{"$f":"IF(B41=\"\",\"\",IF(VLOOKUP(B41,'Oman Results'!C41:AI1034,31)=\"x\",\"Yes\",\"\"))","v":""},{"$f":"IF(B41=\"\",\"\",IF(VLOOKUP(B41,'Oman Results'!C41:AI1034,31)=\"x\",'Oman Results'!G41,\"\"))","v":""},{"$f":"IF(B41=\"\",\"\",IF(VLOOKUP(B41,'Oman Results'!C41:AI1034,31)=\"x\",'Oman Results'!AJ41,\"\"))","v":""},{"$f":"IF(B41=\"\",\"\",IF(VLOOKUP(B41,'Oman Results'!C41:AI1034,31)=\"x\",'Oman Results'!AK41,\"\"))","v":""},null,null,"","","",10275.85]
[41,{"$f":"IF('Oman Results'!C42=\"\",\"\",'Oman Results'!C42)","v":"601-02241           "},{"$f":"IF(OR('Oman Results'!D42=\"\",'Oman Results'!D42=\"Totals\"),\"\",'Oman Results'!D42)","v":"GUARDRAIL, REMOVE                                                                                   "},"",{"$f":"IF('Oman Results'!E42=\"\",\"\",'Oman Results'!E42)","v":4800},{"$f":"IF('Oman Results'!F42=\"\",\"\",'Oman Results'!F42)","v":"L.F. "},{"$f":"IF(B42=\"\",\"\",IF(VLOOKUP(B42,'Oman Results'!C42:AI1035,31)=\"x\",'Oman Results'!AK42,'Oman Results'!G42))","v":3.31},15888,{"$f":"IF(B42=\"\",\"\",IF(VLOOKUP(B42,'Oman Results'!C42:AI1035,31)=\"x\",\"Yes\",\"\"))","v":""},{"$f":"IF(B42=\"\",\"\",IF(VLOOKUP(B42,'Oman Results'!C42:AI1035,31)=\"x\",'Oman Results'!G42,\"\"))","v":""},{"$f":"IF(B42=\"\",\"\",IF(VLOOKUP(B42,'Oman Results'!C42:AI1035,31)=\"x\",'Oman Results'!AJ42,\"\"))","v":""},{"$f":"IF(B42=\"\",\"\",IF(VLOOKUP(B42,'Oman Results'!C42:AI1035,31)=\"x\",'Oman Results'!AK42,\"\"))","v":""},null,null,"","","",15888]
[42,{"$f":"IF('Oman Results'!C43=\"\",\"\",'Oman Results'!C43)","v":"601-06233           "},{"$f":"IF(OR('Oman Results'!D43=\"\",'Oman Results'!D43=\"Totals\"),\"\",'Oman Results'!D43)","v":"IMPACT ATTENUATOR, ED, W1, TL-3                                                                     "},"",{"$f":"IF('Oman Results'!E43=\"\",\"\",'Oman Results'!E43)","v":1},{"$f":"IF('Oman Results'!F43=\"\",\"\",'Oman Results'!F43)","v":"EACH "},{"$f":"IF(B43=\"\",\"\",IF(VLOOKUP(B43,'Oman Results'!C43:AI1036,31)=\"x\",'Oman Results'!AK43,'Oman Results'!G43))","v":8265.48},8265.48,{"$f":"IF(B43=\"\",\"\",IF(VLOOKUP(B43,'Oman Results'!C43:AI1036,31)=\"x\",\"Yes\",\"\"))","v":""},{"$f":"IF(B43=\"\",\"\",IF(VLOOKUP(B43,'Oman Results'!C43:AI1036,31)=\"x\",'Oman Results'!G43,\"\"))","v":""},{"$f":"IF(B43=\"\",\"\",IF(VLOOKUP(B43,'Oman Results'!C43:AI1036,31)=\"x\",'Oman Results'!AJ43,\"\"))","v":""},{"$f":"IF(B43=\"\",\"\",IF(VLOOKUP(B43,'Oman Results'!C43:AI1036,31)=\"x\",'Oman Results'!AK43,\"\"))","v":""},null,null,"","","",8265.48]
[43,{"$f":"IF('Oman Results'!C44=\"\",\"\",'Oman Results'!C44)","v":"601-06416           "},{"$f":"IF(OR('Oman Results'!D44=\"\",'Oman Results'!D44=\"Totals\"),\"\",'Oman Results'!D44)","v":"IMPACT ATTENUATOR SPARE PARTS PACKAGE, ED, W1, TL-3                                                 "},"",{"$f":"IF('Oman Results'!E44=\"\",\"\",'Oman Results'!E44)","v":1},{"$f":"IF('Oman Results'!F44=\"\",\"\",'Oman Results'!F44)","v":"EACH "},{"$f":"IF(B44=\"\",\"\",IF(VLOOKUP(B44,'Oman Results'!C44:AI1037,31)=\"x\",'Oman Results'!AK44,'Oman Results'!G44))","v":659},659,{"$f":"IF(B44=\"\",\"\",IF(VLOOKUP(B44,'Oman Results'!C44:AI1037,31)=\"x\",\"Yes\",\"\"))","v":""},{"$f":"IF(B44=\"\",\"\",IF(VLOOKUP(B44,'Oman Results'!C44:AI1037,31)=\"x\",'Oman Results'!G44,\"\"))","v":""},{"$f":"IF(B44=\"\",\"\",IF(VLOOKUP(B44,'Oman Results'!C44:AI1037,31)=\"x\",'Oman Results'!AJ44,\"\"))","v":""},{"$f":"IF(B44=\"\",\"\",IF(VLOOKUP(B44,'Oman Results'!C44:AI1037,31)=\"x\",'Oman Results'!AK44,\"\"))","v":""},null,null,"","","",659]
[44,{"$f":"IF('Oman Results'!C45=\"\",\"\",'Oman Results'!C45)","v":"601-08433           "},{"$f":"IF(OR('Oman Results'!D45=\"\",'Oman Results'!D45=\"Totals\"),\"\",'Oman Results'!D45)","v":"GUARDRAIL END TREATMENT, TYPE OS, SPARE PARTS PACKAGE, STAGE 1                                      "},"",{"$f":"IF('Oman Results'!E45=\"\",\"\",'Oman Results'!E45)","v":11},{"$f":"IF('Oman Results'!F45=\"\",\"\",'Oman Results'!F45)","v":"EACH "},{"$f":"IF(B45=\"\",\"\",IF(VLOOKUP(B45,'Oman Results'!C45:AI1038,31)=\"x\",'Oman Results'!AK45,'Oman Results'!G45))","v":637.59},7013.4900000000007,{"$f":"IF(B45=\"\",\"\",IF(VLOOKUP(B45,'Oman Results'!C45:AI1038,31)=\"x\",\"Yes\",\"\"))","v":""},{"$f":"IF(B45=\"\",\"\",IF(VLOOKUP(B45,'Oman Results'!C45:AI1038,31)=\"x\",'Oman Results'!G45,\"\"))","v":""},{"$f":"IF(B45=\"\",\"\",IF(VLOOKUP(B45,'Oman Results'!C45:AI1038,31)=\"x\",'Oman Results'!AJ45,\"\"))","v":""},{"$f":"IF(B45=\"\",\"\",IF(VLOOKUP(B45,'Oman Results'!C45:AI1038,31)=\"x\",'Oman Results'!AK45,\"\"))","v":""},null,null,"","","",7013.4900000000007]
[45,{"$f":"IF('Oman Results'!C46=\"\",\"\",'Oman Results'!C46)","v":"601-08434           "},{"$f":"IF(OR('Oman Results'!D46=\"\",'Oman Results'!D46=\"Totals\"),\"\",'Oman Results'!D46)","v":"GUARDRAIL END TREATMENT, TYPE OS, SPARE PARTS PACKAGE, STAGE 2                                      "},"",{"$f":"IF('Oman Results'!E46=\"\",\"\",'Oman Results'!E46)","v":13},{"$f":"IF('Oman Results'!F46=\"\",\"\",'Oman Results'!F46)","v":"EACH "},{"$f":"IF(B46=\"\",\"\",IF(VLOOKUP(B46,'Oman Results'!C46:AI1039,31)=\"x\",'Oman Results'!AK46,'Oman Results'!G46))","v":1059.8599999999999},13778.179999999998,{"$f":"IF(B46=\"\",\"\",IF(VLOOKUP(B46,'Oman Results'!C46:AI1039,31)=\"x\",\"Yes\",\"\"))","v":""},{"$f":"IF(B46=\"\",\"\",IF(VLOOKUP(B46,'Oman Results'!C46:AI1039,31)=\"x\",'Oman Results'!G46,\"\"))","v":""},{"$f":"IF(B46=\"\",\"\",IF(VLOOKUP(B46,'Oman Results'!C46:AI1039,31)=\"x\",'Oman Results'!AJ46,\"\"))","v":""},{"$f":"IF(B46=\"\",\"\",IF(VLOOKUP(B46,'Oman Results'!C46:AI1039,31)=\"x\",'Oman Results'!AK46,\"\"))","v":""},null,null,"","","",13778.179999999998]
[46,{"$f":"IF('Oman Results'!C47=\"\",\"\",'Oman Results'!C47)","v":"601-09149           "},{"$f":"IF(OR('Oman Results'!D47=\"\",'Oman Results'!D47=\"Totals\"),\"\",'Oman Results'!D47)","v":"IMPACT ATTENUATOR, CR1, W1, TL-3                                                                    "},"",{"$f":"IF('Oman Results'!E47=\"\",\"\",'Oman Results'!E47)","v":3},{"$f":"IF('Oman Results'!F47=\"\",\"\",'Oman Results'!F47)","v":"EACH "},{"$f":"IF(B47=\"\",\"\",IF(VLOOKUP(B47,'Oman Results'!C47:AI1040,31)=\"x\",'Oman Results'!AK47,'Oman Results'!G47))","v":26133.33},78399.990000000005,{"$f":"IF(B47=\"\",\"\",IF(VLOOKUP(B47,'Oman Results'!C47:AI1040,31)=\"x\",\"Yes\",\"\"))","v":""},{"$f":"IF(B47=\"\",\"\",IF(VLOOKUP(B47,'Oman Results'!C47:AI1040,31)=\"x\",'Oman Results'!G47,\"\"))","v":""},{"$f":"IF(B47=\"\",\"\",IF(VLOOKUP(B47,'Oman Results'!C47:AI1040,31)=\"x\",'Oman Results'!AJ47,\"\"))","v":""},{"$f":"IF(B47=\"\",\"\",IF(VLOOKUP(B47,'Oman Results'!C47:AI1040,31)=\"x\",'Oman Results'!AK47,\"\"))","v":""},null,null,"","","",78399.990000000005]
[47,{"$f":"IF('Oman Results'!C48=\"\",\"\",'Oman Results'!C48)","v":"601-94689           "},{"$f":"IF(OR('Oman Results'!D48=\"\",'Oman Results'!D48=\"Totals\"),\"\",'Oman Results'!D48)","v":"GUARDRAIL END TREATMENT, OS                                                                         "},"",{"$f":"IF('Oman Results'!E48=\"\",\"\",'Oman Results'!E48)","v":15},{"$f":"IF('Oman Results'!F48=\"\",\"\",'Oman Results'!F48)","v":"EACH "},{"$f":"IF(B48=\"\",\"\",IF(VLOOKUP(B48,'Oman Results'!C48:AI1041,31)=\"x\",'Oman Results'!AK48,'Oman Results'!G48))","v":2633.72},39505.799999999996,{"$f":"IF(B48=\"\",\"\",IF(VLOOKUP(B48,'Oman Results'!C48:AI1041,31)=\"x\",\"Yes\",\"\"))","v":""},{"$f":"IF(B48=\"\",\"\",IF(VLOOKUP(B48,'Oman Results'!C48:AI1041,31)=\"x\",'Oman Results'!G48,\"\"))","v":""},{"$f":"IF(B48=\"\",\"\",IF(VLOOKUP(B48,'Oman Results'!C48:AI1041,31)=\"x\",'Oman Results'!AJ48,\"\"))","v":""},{"$f":"IF(B48=\"\",\"\",IF(VLOOKUP(B48,'Oman Results'!C48:AI1041,31)=\"x\",'Oman Results'!AK48,\"\"))","v":""},null,null,"","","",39505.799999999996]
[48,{"$f":"IF('Oman Results'!C49=\"\",\"\",'Oman Results'!C49)","v":"601-99105           "},{"$f":"IF(OR('Oman Results'!D49=\"\",'Oman Results'!D49=\"Totals\"),\"\",'Oman Results'!D49)","v":"GUARDRAIL, W-BEAM, 6 FT 3 IN SPACING                                                                "},"",{"$f":"IF('Oman Results'!E49=\"\",\"\",'Oman Results'!E49)","v":5300},{"$f":"IF('Oman Results'!F49=\"\",\"\",'Oman Results'!F49)","v":"L.F. "},{"$f":"IF(B49=\"\",\"\",IF(VLOOKUP(B49,'Oman Results'!C49:AI1042,31)=\"x\",'Oman Results'!AK49,'Oman Results'!G49))","v":19.62},103986,{"$f":"IF(B49=\"\",\"\",IF(VLOOKUP(B49,'Oman Results'!C49:AI1042,31)=\"x\",\"Yes\",\"\"))","v":""},{"$f":"IF(B49=\"\",\"\",IF(VLOOKUP(B49,'Oman Results'!C49:AI1042,31)=\"x\",'Oman Results'!G49,\"\"))","v":""},{"$f":"IF(B49=\"\",\"\",IF(VLOOKUP(B49,'Oman Results'!C49:AI1042,31)=\"x\",'Oman Results'!AJ49,\"\"))","v":""},{"$f":"IF(B49=\"\",\"\",IF(VLOOKUP(B49,'Oman Results'!C49:AI1042,31)=\"x\",'Oman Results'!AK49,\"\"))","v":""},null,null,"","","",103986]
[49,{"$f":"IF('Oman Results'!C50=\"\",\"\",'Oman Results'!C50)","v":"602-06729           "},{"$f":"IF(OR('Oman Results'!D50=\"\",'Oman Results'!D50=\"Totals\"),\"\",'Oman Results'!D50)","v":"BARRIER DELINEATOR                                                                                  "},"",{"$f":"IF('Oman Results'!E50=\"\",\"\",'Oman Results'!E50)","v":131},{"$f":"IF('Oman Results'!F50=\"\",\"\",'Oman Results'!F50)","v":"EACH "},{"$f":"IF(B50=\"\",\"\",IF(VLOOKUP(B50,'Oman Results'!C50:AI1043,31)=\"x\",'Oman Results'!AK50,'Oman Results'!G50))","v":16.11},2110.41,{"$f":"IF(B50=\"\",\"\",IF(VLOOKUP(B50,'Oman Results'!C50:AI1043,31)=\"x\",\"Yes\",\"\"))","v":""},{"$f":"IF(B50=\"\",\"\",IF(VLOOKUP(B50,'Oman Results'!C50:AI1043,31)=\"x\",'Oman Results'!G50,\"\"))","v":""},{"$f":"IF(B50=\"\",\"\",IF(VLOOKUP(B50,'Oman Results'!C50:AI1043,31)=\"x\",'Oman Results'!AJ50,\"\"))","v":""},{"$f":"IF(B50=\"\",\"\",IF(VLOOKUP(B50,'Oman Results'!C50:AI1043,31)=\"x\",'Oman Results'!AK50,\"\"))","v":""},null,null,"","","",2110.41]
[50,{"$f":"IF('Oman Results'!C51=\"\",\"\",'Oman Results'!C51)","v":"602-08605           "},{"$f":"IF(OR('Oman Results'!D51=\"\",'Oman Results'!D51=\"Totals\"),\"\",'Oman Results'!D51)","v":"CONCRETE BARRIER, 33 IN                                                                             "},"",{"$f":"IF('Oman Results'!E51=\"\",\"\",'Oman Results'!E51)","v":5900},{"$f":"IF('Oman Results'!F51=\"\",\"\",'Oman Results'!F51)","v":"L.F. "},{"$f":"IF(B51=\"\",\"\",IF(VLOOKUP(B51,'Oman Results'!C51:AI1044,31)=\"x\",'Oman Results'!AK51,'Oman Results'!G51))","v":86.92},512828,{"$f":"IF(B51=\"\",\"\",IF(VLOOKUP(B51,'Oman Results'!C51:AI1044,31)=\"x\",\"Yes\",\"\"))","v":""},{"$f":"IF(B51=\"\",\"\",IF(VLOOKUP(B51,'Oman Results'!C51:AI1044,31)=\"x\",'Oman Results'!G51,\"\"))","v":""},{"$f":"IF(B51=\"\",\"\",IF(VLOOKUP(B51,'Oman Results'!C51:AI1044,31)=\"x\",'Oman Results'!AJ51,\"\"))","v":""},{"$f":"IF(B51=\"\",\"\",IF(VLOOKUP(B51,'Oman Results'!C51:AI1044,31)=\"x\",'Oman Results'!AK51,\"\"))","v":""},null,null,"","","",512828]
[51,{"$f":"IF('Oman Results'!C52=\"\",\"\",'Oman Results'!C52)","v":"604-06411           "},{"$f":"IF(OR('Oman Results'!D52=\"\",'Oman Results'!D52=\"Totals\"),\"\",'Oman Results'!D52)","v":"IMPACT ATTENUATOR SPARE PARTS PACKAGE, CR, W1, TL-3                                                 "},"",{"$f":"IF('Oman Results'!E52=\"\",\"\",'Oman Results'!E52)","v":3},{"$f":"IF('Oman Results'!F52=\"\",\"\",'Oman Results'!F52)","v":"EACH "},{"$f":"IF(B52=\"\",\"\",IF(VLOOKUP(B52,'Oman Results'!C52:AI1045,31)=\"x\",'Oman Results'!AK52,'Oman Results'!G52))","v":550},1650,{"$f":"IF(B52=\"\",\"\",IF(VLOOKUP(B52,'Oman Results'!C52:AI1045,31)=\"x\",\"Yes\",\"\"))","v":""},{"$f":"IF(B52=\"\",\"\",IF(VLOOKUP(B52,'Oman Results'!C52:AI1045,31)=\"x\",'Oman Results'!G52,\"\"))","v":""},{"$f":"IF(B52=\"\",\"\",IF(VLOOKUP(B52,'Oman Results'!C52:AI1045,31)=\"x\",'Oman Results'!AJ52,\"\"))","v":""},{"$f":"IF(B52=\"\",\"\",IF(VLOOKUP(B52,'Oman Results'!C52:AI1045,31)=\"x\",'Oman Results'!AK52,\"\"))","v":""},null,null,"","","",1650]
[52,{"$f":"IF('Oman Results'!C53=\"\",\"\",'Oman Results'!C53)","v":"605-06140           "},{"$f":"IF(OR('Oman Results'!D53=\"\",'Oman Results'!D53=\"Totals\"),\"\",'Oman Results'!D53)","v":"CURB AND GUTTER, CONCRETE                                                                           "},"",{"$f":"IF('Oman Results'!E53=\"\",\"\",'Oman Results'!E53)","v":145},{"$f":"IF('Oman Results'!F53=\"\",\"\",'Oman Results'!F53)","v":"L.F. "},{"$f":"IF(B53=\"\",\"\",IF(VLOOKUP(B53,'Oman Results'!C53:AI1046,31)=\"x\",'Oman Results'!AK53,'Oman Results'!G53))","v":15.5},2247.5,{"$f":"IF(B53=\"\",\"\",IF(VLOOKUP(B53,'Oman Results'!C53:AI1046,31)=\"x\",\"Yes\",\"\"))","v":""},{"$f":"IF(B53=\"\",\"\",IF(VLOOKUP(B53,'Oman Results'!C53:AI1046,31)=\"x\",'Oman Results'!G53,\"\"))","v":""},{"$f":"IF(B53=\"\",\"\",IF(VLOOKUP(B53,'Oman Results'!C53:AI1046,31)=\"x\",'Oman Results'!AJ53,\"\"))","v":""},{"$f":"IF(B53=\"\",\"\",IF(VLOOKUP(B53,'Oman Results'!C53:AI1046,31)=\"x\",'Oman Results'!AK53,\"\"))","v":""},null,null,"","","",2247.5]
[53,{"$f":"IF('Oman Results'!C54=\"\",\"\",'Oman Results'!C54)","v":"606-07484           "},{"$f":"IF(OR('Oman Results'!D54=\"\",'Oman Results'!D54=\"Totals\"),\"\",'Oman Results'!D54)","v":"MILLED HMA SHOULDER CORRUGATIONS                                                                    "},"",{"$f":"IF('Oman Results'!E54=\"\",\"\",'Oman Results'!E54)","v":39500},{"$f":"IF('Oman Results'!F54=\"\",\"\",'Oman Results'!F54)","v":"L.F. "},{"$f":"IF(B54=\"\",\"\",IF(VLOOKUP(B54,'Oman Results'!C54:AI1047,31)=\"x\",'Oman Results'!AK54,'Oman Results'!G54))","v":0.19},7505,{"$f":"IF(B54=\"\",\"\",IF(VLOOKUP(B54,'Oman Results'!C54:AI1047,31)=\"x\",\"Yes\",\"\"))","v":""},{"$f":"IF(B54=\"\",\"\",IF(VLOOKUP(B54,'Oman Results'!C54:AI1047,31)=\"x\",'Oman Results'!G54,\"\"))","v":""},{"$f":"IF(B54=\"\",\"\",IF(VLOOKUP(B54,'Oman Results'!C54:AI1047,31)=\"x\",'Oman Results'!AJ54,\"\"))","v":""},{"$f":"IF(B54=\"\",\"\",IF(VLOOKUP(B54,'Oman Results'!C54:AI1047,31)=\"x\",'Oman Results'!AK54,\"\"))","v":""},null,null,"","","",7505]
[54,{"$f":"IF('Oman Results'!C55=\"\",\"\",'Oman Results'!C55)","v":"609-06259           "},{"$f":"IF(OR('Oman Results'!D55=\"\",'Oman Results'!D55=\"Totals\"),\"\",'Oman Results'!D55)","v":"REINFORCED CONCRETE BRIDGE APPROACH 12 IN                                                           "},"",{"$f":"IF('Oman Results'!E55=\"\",\"\",'Oman Results'!E55)","v":880},{"$f":"IF('Oman Results'!F55=\"\",\"\",'Oman Results'!F55)","v":"S.Y. "},{"$f":"IF(B55=\"\",\"\",IF(VLOOKUP(B55,'Oman Results'!C55:AI1048,31)=\"x\",'Oman Results'!AK55,'Oman Results'!G55))","v":78.3},68904,{"$f":"IF(B55=\"\",\"\",IF(VLOOKUP(B55,'Oman Results'!C55:AI1048,31)=\"x\",\"Yes\",\"\"))","v":""},{"$f":"IF(B55=\"\",\"\",IF(VLOOKUP(B55,'Oman Results'!C55:AI1048,31)=\"x\",'Oman Results'!G55,\"\"))","v":""},{"$f":"IF(B55=\"\",\"\",IF(VLOOKUP(B55,'Oman Results'!C55:AI1048,31)=\"x\",'Oman Results'!AJ55,\"\"))","v":""},{"$f":"IF(B55=\"\",\"\",IF(VLOOKUP(B55,'Oman Results'!C55:AI1048,31)=\"x\",'Oman Results'!AK55,\"\"))","v":""},null,null,"","","",68904]
[55,{"$f":"IF('Oman Results'!C56=\"\",\"\",'Oman Results'!C56)","v":"615-06505           "},{"$f":"IF(OR('Oman Results'!D56=\"\",'Oman Results'!D56=\"Totals\"),\"\",'Oman Results'!D56)","v":"MONUMENT, B                                                                                         "},"",{"$f":"IF('Oman Results'!E56=\"\",\"\",'Oman Results'!E56)","v":45},{"$f":"IF('Oman Results'!F56=\"\",\"\",'Oman Results'!F56)","v":"EACH "},{"$f":"IF(B56=\"\",\"\",IF(VLOOKUP(B56,'Oman Results'!C56:AI1049,31)=\"x\",'Oman Results'!AK56,'Oman Results'!G56))","v":671.47},30216.15,{"$f":"IF(B56=\"\",\"\",IF(VLOOKUP(B56,'Oman Results'!C56:AI1049,31)=\"x\",\"Yes\",\"\"))","v":""},{"$f":"IF(B56=\"\",\"\",IF(VLOOKUP(B56,'Oman Results'!C56:AI1049,31)=\"x\",'Oman Results'!G56,\"\"))","v":""},{"$f":"IF(B56=\"\",\"\",IF(VLOOKUP(B56,'Oman Results'!C56:AI1049,31)=\"x\",'Oman Results'!AJ56,\"\"))","v":""},{"$f":"IF(B56=\"\",\"\",IF(VLOOKUP(B56,'Oman Results'!C56:AI1049,31)=\"x\",'Oman Results'!AK56,\"\"))","v":""},null,null,"","","",30216.15]
[56,{"$f":"IF('Oman Results'!C57=\"\",\"\",'Oman Results'!C57)","v":"615-06510           "},{"$f":"IF(OR('Oman Results'!D57=\"\",'Oman Results'!D57=\"Totals\"),\"\",'Oman Results'!D57)","v":"MONUMENT, C                                                                                         "},"",{"$f":"IF('Oman Results'!E57=\"\",\"\",'Oman Results'!E57)","v":6},{"$f":"IF('Oman Results'!F57=\"\",\"\",'Oman Results'!F57)","v":"EACH "},{"$f":"IF(B57=\"\",\"\",IF(VLOOKUP(B57,'Oman Results'!C57:AI1050,31)=\"x\",'Oman Results'!AK57,'Oman Results'!G57))","v":470.75},2824.5,{"$f":"IF(B57=\"\",\"\",IF(VLOOKUP(B57,'Oman Results'!C57:AI1050,31)=\"x\",\"Yes\",\"\"))","v":""},{"$f":"IF(B57=\"\",\"\",IF(VLOOKUP(B57,'Oman Results'!C57:AI1050,31)=\"x\",'Oman Results'!G57,\"\"))","v":""},{"$f":"IF(B57=\"\",\"\",IF(VLOOKUP(B57,'Oman Results'!C57:AI1050,31)=\"x\",'Oman Results'!AJ57,\"\"))","v":""},{"$f":"IF(B57=\"\",\"\",IF(VLOOKUP(B57,'Oman Results'!C57:AI1050,31)=\"x\",'Oman Results'!AK57,\"\"))","v":""},null,null,"","","",2824.5]
[57,{"$f":"IF('Oman Results'!C58=\"\",\"\",'Oman Results'!C58)","v":"615-06527           "},{"$f":"IF(OR('Oman Results'!D58=\"\",'Oman Results'!D58=\"Totals\"),\"\",'Oman Results'!D58)","v":"MONUMENT, SECTION CORNER                                                                            "},"",{"$f":"IF('Oman Results'!E58=\"\",\"\",'Oman Results'!E58)","v":2},{"$f":"IF('Oman Results'!F58=\"\",\"\",'Oman Results'!F58)","v":"EACH "},{"$f":"IF(B58=\"\",\"\",IF(VLOOKUP(B58,'Oman Results'!C58:AI1051,31)=\"x\",'Oman Results'!AK58,'Oman Results'!G58))","v":609.65},1219.3,{"$f":"IF(B58=\"\",\"\",IF(VLOOKUP(B58,'Oman Results'!C58:AI1051,31)=\"x\",\"Yes\",\"\"))","v":""},{"$f":"IF(B58=\"\",\"\",IF(VLOOKUP(B58,'Oman Results'!C58:AI1051,31)=\"x\",'Oman Results'!G58,\"\"))","v":""},{"$f":"IF(B58=\"\",\"\",IF(VLOOKUP(B58,'Oman Results'!C58:AI1051,31)=\"x\",'Oman Results'!AJ58,\"\"))","v":""},{"$f":"IF(B58=\"\",\"\",IF(VLOOKUP(B58,'Oman Results'!C58:AI1051,31)=\"x\",'Oman Results'!AK58,\"\"))","v":""},null,null,"","","",1219.3]
[58,{"$f":"IF('Oman Results'!C59=\"\",\"\",'Oman Results'!C59)","v":"615-92498           "},{"$f":"IF(OR('Oman Results'!D59=\"\",'Oman Results'!D59=\"Totals\"),\"\",'Oman Results'!D59)","v":"BENCH MARK                                                                                          "},"",{"$f":"IF('Oman Results'!E59=\"\",\"\",'Oman Results'!E59)","v":1},{"$f":"IF('Oman Results'!F59=\"\",\"\",'Oman Results'!F59)","v":"EACH "},{"$f":"IF(B59=\"\",\"\",IF(VLOOKUP(B59,'Oman Results'!C59:AI1052,31)=\"x\",'Oman Results'!AK59,'Oman Results'!G59))","v":388.33},388.33,{"$f":"IF(B59=\"\",\"\",IF(VLOOKUP(B59,'Oman Results'!C59:AI1052,31)=\"x\",\"Yes\",\"\"))","v":""},{"$f":"IF(B59=\"\",\"\",IF(VLOOKUP(B59,'Oman Results'!C59:AI1052,31)=\"x\",'Oman Results'!G59,\"\"))","v":""},{"$f":"IF(B59=\"\",\"\",IF(VLOOKUP(B59,'Oman Results'!C59:AI1052,31)=\"x\",'Oman Results'!AJ59,\"\"))","v":""},{"$f":"IF(B59=\"\",\"\",IF(VLOOKUP(B59,'Oman Results'!C59:AI1052,31)=\"x\",'Oman Results'!AK59,\"\"))","v":""},null,null,"","","",388.33]
[59,{"$f":"IF('Oman Results'!C60=\"\",\"\",'Oman Results'!C60)","v":"621-01004           "},{"$f":"IF(OR('Oman Results'!D60=\"\",'Oman Results'!D60=\"Totals\"),\"\",'Oman Results'!D60)","v":"MOBILIZATION AND DEMOBILIZATION FOR SEEDING                                                         "},"",{"$f":"IF('Oman Results'!E60=\"\",\"\",'Oman Results'!E60)","v":18},{"$f":"IF('Oman Results'!F60=\"\",\"\",'Oman Results'!F60)","v":"EACH "},{"$f":"IF(B60=\"\",\"\",IF(VLOOKUP(B60,'Oman Results'!C60:AI1053,31)=\"x\",'Oman Results'!AK60,'Oman Results'!G60))","v":425.45},7658.0999999999995,{"$f":"IF(B60=\"\",\"\",IF(VLOOKUP(B60,'Oman Results'!C60:AI1053,31)=\"x\",\"Yes\",\"\"))","v":""},{"$f":"IF(B60=\"\",\"\",IF(VLOOKUP(B60,'Oman Results'!C60:AI1053,31)=\"x\",'Oman Results'!G60,\"\"))","v":""},{"$f":"IF(B60=\"\",\"\",IF(VLOOKUP(B60,'Oman Results'!C60:AI1053,31)=\"x\",'Oman Results'!AJ60,\"\"))","v":""},{"$f":"IF(B60=\"\",\"\",IF(VLOOKUP(B60,'Oman Results'!C60:AI1053,31)=\"x\",'Oman Results'!AK60,\"\"))","v":""},null,null,"","","",7658.0999999999995]
[60,{"$f":"IF('Oman Results'!C61=\"\",\"\",'Oman Results'!C61)","v":"621-06545           "},{"$f":"IF(OR('Oman Results'!D61=\"\",'Oman Results'!D61=\"Totals\"),\"\",'Oman Results'!D61)","v":"FERTILIZER                                                                                          "},"",{"$f":"IF('Oman Results'!E61=\"\",\"\",'Oman Results'!E61)","v":7.2},{"$f":"IF('Oman Results'!F61=\"\",\"\",'Oman Results'!F61)","v":"TON  "},{"$f":"IF(B61=\"\",\"\",IF(VLOOKUP(B61,'Oman Results'!C61:AI1054,31)=\"x\",'Oman Results'!AK61,'Oman Results'!G61))","v":341.51},2458.8719999999998,{"$f":"IF(B61=\"\",\"\",IF(VLOOKUP(B61,'Oman Results'!C61:AI1054,31)=\"x\",\"Yes\",\"\"))","v":""},{"$f":"IF(B61=\"\",\"\",IF(VLOOKUP(B61,'Oman Results'!C61:AI1054,31)=\"x\",'Oman Results'!G61,\"\"))","v":""},{"$f":"IF(B61=\"\",\"\",IF(VLOOKUP(B61,'Oman Results'!C61:AI1054,31)=\"x\",'Oman Results'!AJ61,\"\"))","v":""},{"$f":"IF(B61=\"\",\"\",IF(VLOOKUP(B61,'Oman Results'!C61:AI1054,31)=\"x\",'Oman Results'!AK61,\"\"))","v":""},null,null,"","","",2458.8719999999998]
[61,{"$f":"IF('Oman Results'!C62=\"\",\"\",'Oman Results'!C62)","v":"621-06554           "},{"$f":"IF(OR('Oman Results'!D62=\"\",'Oman Results'!D62=\"Totals\"),\"\",'Oman Results'!D62)","v":"SEED MIXTURE, U                                                                                     "},"",{"$f":"IF('Oman Results'!E62=\"\",\"\",'Oman Results'!E62)","v":2275},{"$f":"IF('Oman Results'!F62=\"\",\"\",'Oman Results'!F62)","v":"LBS  "},{"$f":"IF(B62=\"\",\"\",IF(VLOOKUP(B62,'Oman Results'!C62:AI1055,31)=\"x\",'Oman Results'!AK62,'Oman Results'!G62))","v":4.2699999999999996},9714.2499999999982,{"$f":"IF(B62=\"\",\"\",IF(VLOOKUP(B62,'Oman Results'!C62:AI1055,31)=\"x\",\"Yes\",\"\"))","v":""},{"$f":"IF(B62=\"\",\"\",IF(VLOOKUP(B62,'Oman Results'!C62:AI1055,31)=\"x\",'Oman Results'!G62,\"\"))","v":""},{"$f":"IF(B62=\"\",\"\",IF(VLOOKUP(B62,'Oman Results'!C62:AI1055,31)=\"x\",'Oman Results'!AJ62,\"\"))","v":""},{"$f":"IF(B62=\"\",\"\",IF(VLOOKUP(B62,'Oman Results'!C62:AI1055,31)=\"x\",'Oman Results'!AK62,\"\"))","v":""},null,null,"","","",9714.2499999999982]
[62,{"$f":"IF('Oman Results'!C63=\"\",\"\",'Oman Results'!C63)","v":"621-06557           "},{"$f":"IF(OR('Oman Results'!D63=\"\",'Oman Results'!D63=\"Totals\"),\"\",'Oman Results'!D63)","v":"SEED MIXTURE, T                                                                                     "},"",{"$f":"IF('Oman Results'!E63=\"\",\"\",'Oman Results'!E63)","v":1045},{"$f":"IF('Oman Results'!F63=\"\",\"\",'Oman Results'!F63)","v":"LBS  "},{"$f":"IF(B63=\"\",\"\",IF(VLOOKUP(B63,'Oman Results'!C63:AI1056,31)=\"x\",'Oman Results'!AK63,'Oman Results'!G63))","v":2.33},2434.85,{"$f":"IF(B63=\"\",\"\",IF(VLOOKUP(B63,'Oman Results'!C63:AI1056,31)=\"x\",\"Yes\",\"\"))","v":""},{"$f":"IF(B63=\"\",\"\",IF(VLOOKUP(B63,'Oman Results'!C63:AI1056,31)=\"x\",'Oman Results'!G63,\"\"))","v":""},{"$f":"IF(B63=\"\",\"\",IF(VLOOKUP(B63,'Oman Results'!C63:AI1056,31)=\"x\",'Oman Results'!AJ63,\"\"))","v":""},{"$f":"IF(B63=\"\",\"\",IF(VLOOKUP(B63,'Oman Results'!C63:AI1056,31)=\"x\",'Oman Results'!AK63,\"\"))","v":""},null,null,"","","",2434.85]
[63,{"$f":"IF('Oman Results'!C64=\"\",\"\",'Oman Results'!C64)","v":"621-06565           "},{"$f":"IF(OR('Oman Results'!D64=\"\",'Oman Results'!D64=\"Totals\"),\"\",'Oman Results'!D64)","v":"MULCHING MATERIAL                                                                                   "},"",{"$f":"IF('Oman Results'!E64=\"\",\"\",'Oman Results'!E64)","v":42},{"$f":"IF('Oman Results'!F64=\"\",\"\",'Oman Results'!F64)","v":"TON  "},{"$f":"IF(B64=\"\",\"\",IF(VLOOKUP(B64,'Oman Results'!C64:AI1057,31)=\"x\",'Oman Results'!AK64,'Oman Results'!G64))","v":278.57},11699.94,{"$f":"IF(B64=\"\",\"\",IF(VLOOKUP(B64,'Oman Results'!C64:AI1057,31)=\"x\",\"Yes\",\"\"))","v":""},{"$f":"IF(B64=\"\",\"\",IF(VLOOKUP(B64,'Oman Results'!C64:AI1057,31)=\"x\",'Oman Results'!G64,\"\"))","v":""},{"$f":"IF(B64=\"\",\"\",IF(VLOOKUP(B64,'Oman Results'!C64:AI1057,31)=\"x\",'Oman Results'!AJ64,\"\"))","v":""},{"$f":"IF(B64=\"\",\"\",IF(VLOOKUP(B64,'Oman Results'!C64:AI1057,31)=\"x\",'Oman Results'!AK64,\"\"))","v":""},null,null,"","","",11699.94]
[64,{"$f":"IF('Oman Results'!C65=\"\",\"\",'Oman Results'!C65)","v":"621-06574           "},{"$f":"IF(OR('Oman Results'!D65=\"\",'Oman Results'!D65=\"Totals\"),\"\",'Oman Results'!D65)","v":"SODDING                                                                                             "},"",{"$f":"IF('Oman Results'!E65=\"\",\"\",'Oman Results'!E65)","v":1675},{"$f":"IF('Oman Results'!F65=\"\",\"\",'Oman Results'!F65)","v":"S.Y. "},{"$f":"IF(B65=\"\",\"\",IF(VLOOKUP(B65,'Oman Results'!C65:AI1058,31)=\"x\",'Oman Results'!AK65,'Oman Results'!G65))","v":3.15},5276.25,{"$f":"IF(B65=\"\",\"\",IF(VLOOKUP(B65,'Oman Results'!C65:AI1058,31)=\"x\",\"Yes\",\"\"))","v":""},{"$f":"IF(B65=\"\",\"\",IF(VLOOKUP(B65,'Oman Results'!C65:AI1058,31)=\"x\",'Oman Results'!G65,\"\"))","v":""},{"$f":"IF(B65=\"\",\"\",IF(VLOOKUP(B65,'Oman Results'!C65:AI1058,31)=\"x\",'Oman Results'!AJ65,\"\"))","v":""},{"$f":"IF(B65=\"\",\"\",IF(VLOOKUP(B65,'Oman Results'!C65:AI1058,31)=\"x\",'Oman Results'!AK65,\"\"))","v":""},null,null,"","","",5276.25]
[65,{"$f":"IF('Oman Results'!C66=\"\",\"\",'Oman Results'!C66)","v":"628-09403           "},{"$f":"IF(OR('Oman Results'!D66=\"\",'Oman Results'!D66=\"Totals\"),\"\",'Oman Results'!D66)","v":"FIELD OFFICE, C                                                                                     "},"",{"$f":"IF('Oman Results'!E66=\"\",\"\",'Oman Results'!E66)","v":18},{"$f":"IF('Oman Results'!F66=\"\",\"\",'Oman Results'!F66)","v":"MONTH"},{"$f":"IF(B66=\"\",\"\",IF(VLOOKUP(B66,'Oman Results'!C66:AI1059,31)=\"x\",'Oman Results'!AK66,'Oman Results'!G66))","v":2376.11},42769.98,{"$f":"IF(B66=\"\",\"\",IF(VLOOKUP(B66,'Oman Results'!C66:AI1059,31)=\"x\",\"Yes\",\"\"))","v":""},{"$f":"IF(B66=\"\",\"\",IF(VLOOKUP(B66,'Oman Results'!C66:AI1059,31)=\"x\",'Oman Results'!G66,\"\"))","v":""},{"$f":"IF(B66=\"\",\"\",IF(VLOOKUP(B66,'Oman Results'!C66:AI1059,31)=\"x\",'Oman Results'!AJ66,\"\"))","v":""},{"$f":"IF(B66=\"\",\"\",IF(VLOOKUP(B66,'Oman Results'!C66:AI1059,31)=\"x\",'Oman Results'!AK66,\"\"))","v":""},null,null,"",{"$f":"IF(O66=1,G66,\"\")","v":""},"",{"$f":"IF(O66=1,\"\",H66)","v":42769.98}]
[66,{"$f":"IF('Oman Results'!C67=\"\",\"\",'Oman Results'!C67)","v":"701-01814           "},{"$f":"IF(OR('Oman Results'!D67=\"\",'Oman Results'!D67=\"Totals\"),\"\",'Oman Results'!D67)","v":"MOBILIZATION FOR DYNAMIC PILE MONITORING AND EQUIPMENT                                              "},{"$f":"IF(ISNUMBER(SEARCH(\"{\",C67)),\"Yes\", \"\")","v":""},{"$f":"IF('Oman Results'!E67=\"\",\"\",'Oman Results'!E67)","v":2},{"$f":"IF('Oman Results'!F67=\"\",\"\",'Oman Results'!F67)","v":"EACH "},{"$f":"IF(B67=\"\",\"\",IF(VLOOKUP(B67,'Oman Results'!C67:AI1060,31)=\"x\",'Oman Results'!AK67,'Oman Results'!G67))","v":1264.76},{"$f":"IF(E67=\"\",\"\",E67*G67)","v":2529.52},{"$f":"IF(B67=\"\",\"\",IF(VLOOKUP(B67,'Oman Results'!C67:AI1060,31)=\"x\",\"Yes\",\"\"))","v":""},{"$f":"IF(B67=\"\",\"\",IF(VLOOKUP(B67,'Oman Results'!C67:AI1060,31)=\"x\",'Oman Results'!G67,\"\"))","v":""},{"$f":"IF(B67=\"\",\"\",IF(VLOOKUP(B67,'Oman Results'!C67:AI1060,31)=\"x\",'Oman Results'!AJ67,\"\"))","v":""},{"$f":"IF(B67=\"\",\"\",IF(VLOOKUP(B67,'Oman Results'!C67:AI1060,31)=\"x\",'Oman Results'!AK67,\"\"))","v":""},null,null,{"$f":"IF(OR(LEFT(F67,3)=\"L.S\",LEFT(F67,2)=\"LS\"),1,\"\")","v":""},"",{"$f":"IF(I67=\"Yes\",G67,\"\")","v":""},2529.52]
[{"$f":"IF(B68=\"\",\"\",1+A67)","v":67},{"$f":"IF('Oman Results'!C68=\"\",\"\",'Oman Results'!C68)","v":"701-05780           "},{"$f":"IF(OR('Oman Results'!D68=\"\",'Oman Results'!D68=\"Totals\"),\"\",'Oman Results'!D68)","v":"DRILLED SHAFT CONCRETE                                                                              "},"",{"$f":"IF('Oman Results'!E68=\"\",\"\",'Oman Results'!E68)","v":350},{"$f":"IF('Oman Results'!F68=\"\",\"\",'Oman Results'!F68)","v":"C.Y. "},{"$f":"IF(B68=\"\",\"\",IF(VLOOKUP(B68,'Oman Results'!C68:AI1061,31)=\"x\",'Oman Results'!AK68,'Oman Results'!G68))","v":526},184100,{"$f":"IF(B68=\"\",\"\",IF(VLOOKUP(B68,'Oman Results'!C68:AI1061,31)=\"x\",\"Yes\",\"\"))","v":""},{"$f":"IF(B68=\"\",\"\",IF(VLOOKUP(B68,'Oman Results'!C68:AI1061,31)=\"x\",'Oman Results'!G68,\"\"))","v":""},{"$f":"IF(B68=\"\",\"\",IF(VLOOKUP(B68,'Oman Results'!C68:AI1061,31)=\"x\",'Oman Results'!AJ68,\"\"))","v":""},{"$f":"IF(B68=\"\",\"\",IF(VLOOKUP(B68,'Oman Results'!C68:AI1061,31)=\"x\",'Oman Results'!AK68,\"\"))","v":""},null,null,"","","",184100]
[68,{"$f":"IF('Oman Results'!C69=\"\",\"\",'Oman Results'!C69)","v":"701-05781           "},{"$f":"IF(OR('Oman Results'!D69=\"\",'Oman Results'!D69=\"Totals\"),\"\",'Oman Results'!D69)","v":"UNCLASSIFIED SHAFT EXCAVATION                                                                       "},"",{"$f":"IF('Oman Results'!E69=\"\",\"\",'Oman Results'!E69)","v":180},{"$f":"IF('Oman Results'!F69=\"\",\"\",'Oman Results'!F69)","v":"C.Y. "},{"$f":"IF(B69=\"\",\"\",IF(VLOOKUP(B69,'Oman Results'!C69:AI1062,31)=\"x\",'Oman Results'!AK69,'Oman Results'!G69))","v":345},62100,{"$f":"IF(B69=\"\",\"\",IF(VLOOKUP(B69,'Oman Results'!C69:AI1062,31)=\"x\",\"Yes\",\"\"))","v":""},{"$f":"IF(B69=\"\",\"\",IF(VLOOKUP(B69,'Oman Results'!C69:AI1062,31)=\"x\",'Oman Results'!G69,\"\"))","v":""},{"$f":"IF(B69=\"\",\"\",IF(VLOOKUP(B69,'Oman Results'!C69:AI1062,31)=\"x\",'Oman Results'!AJ69,\"\"))","v":""},{"$f":"IF(B69=\"\",\"\",IF(VLOOKUP(B69,'Oman Results'!C69:AI1062,31)=\"x\",'Oman Results'!AK69,\"\"))","v":""},null,null,"","","",62100]
[69,{"$f":"IF('Oman Results'!C70=\"\",\"\",'Oman Results'!C70)","v":"701-05782           "},{"$f":"IF(OR('Oman Results'!D70=\"\",'Oman Results'!D70=\"Totals\"),\"\",'Oman Results'!D70)","v":"UNCLASSIFIED EXTRA DEPTH EXCAVATION                                                                 "},"",{"$f":"IF('Oman Results'!E70=\"\",\"\",'Oman Results'!E70)","v":50},{"$f":"IF('Oman Results'!F70=\"\",\"\",'Oman Results'!F70)","v":"C.Y. "},{"$f":"IF(B70=\"\",\"\",IF(VLOOKUP(B70,'Oman Results'!C70:AI1063,31)=\"x\",'Oman Results'!AK70,'Oman Results'!G70))","v":509},25450,{"$f":"IF(B70=\"\",\"\",IF(VLOOKUP(B70,'Oman Results'!C70:AI1063,31)=\"x\",\"Yes\",\"\"))","v":""},{"$f":"IF(B70=\"\",\"\",IF(VLOOKUP(B70,'Oman Results'!C70:AI1063,31)=\"x\",'Oman Results'!G70,\"\"))","v":""},{"$f":"IF(B70=\"\",\"\",IF(VLOOKUP(B70,'Oman Results'!C70:AI1063,31)=\"x\",'Oman Results'!AJ70,\"\"))","v":""},{"$f":"IF(B70=\"\",\"\",IF(VLOOKUP(B70,'Oman Results'!C70:AI1063,31)=\"x\",'Oman Results'!AK70,\"\"))","v":""},null,null,"","","",25450]
[70,{"$f":"IF('Oman Results'!C71=\"\",\"\",'Oman Results'!C71)","v":"701-05783           "},{"$f":"IF(OR('Oman Results'!D71=\"\",'Oman Results'!D71=\"Totals\"),\"\",'Oman Results'!D71)","v":"OBSTRUCTIONS                                                                                        "},"",{"$f":"IF('Oman Results'!E71=\"\",\"\",'Oman Results'!E71)","v":30},{"$f":"IF('Oman Results'!F71=\"\",\"\",'Oman Results'!F71)","v":"HOUR "},{"$f":"IF(B71=\"\",\"\",IF(VLOOKUP(B71,'Oman Results'!C71:AI1064,31)=\"x\",'Oman Results'!AK71,'Oman Results'!G71))","v":703},21090,{"$f":"IF(B71=\"\",\"\",IF(VLOOKUP(B71,'Oman Results'!C71:AI1064,31)=\"x\",\"Yes\",\"\"))","v":""},{"$f":"IF(B71=\"\",\"\",IF(VLOOKUP(B71,'Oman Results'!C71:AI1064,31)=\"x\",'Oman Results'!G71,\"\"))","v":""},{"$f":"IF(B71=\"\",\"\",IF(VLOOKUP(B71,'Oman Results'!C71:AI1064,31)=\"x\",'Oman Results'!AJ71,\"\"))","v":""},{"$f":"IF(B71=\"\",\"\",IF(VLOOKUP(B71,'Oman Results'!C71:AI1064,31)=\"x\",'Oman Results'!AK71,\"\"))","v":""},null,null,"","","",21090]
[71,{"$f":"IF('Oman Results'!C72=\"\",\"\",'Oman Results'!C72)","v":"701-06011           "},{"$f":"IF(OR('Oman Results'!D72=\"\",'Oman Results'!D72=\"Totals\"),\"\",'Oman Results'!D72)","v":"DYNAMIC PILE LOAD TEST                                                                              "},"",{"$f":"IF('Oman Results'!E72=\"\",\"\",'Oman Results'!E72)","v":4},{"$f":"IF('Oman Results'!F72=\"\",\"\",'Oman Results'!F72)","v":"EACH "},{"$f":"IF(B72=\"\",\"\",IF(VLOOKUP(B72,'Oman Results'!C72:AI1065,31)=\"x\",'Oman Results'!AK72,'Oman Results'!G72))","v":1829.48},7317.92,{"$f":"IF(B72=\"\",\"\",IF(VLOOKUP(B72,'Oman Results'!C72:AI1065,31)=\"x\",\"Yes\",\"\"))","v":""},{"$f":"IF(B72=\"\",\"\",IF(VLOOKUP(B72,'Oman Results'!C72:AI1065,31)=\"x\",'Oman Results'!G72,\"\"))","v":""},{"$f":"IF(B72=\"\",\"\",IF(VLOOKUP(B72,'Oman Results'!C72:AI1065,31)=\"x\",'Oman Results'!AJ72,\"\"))","v":""},{"$f":"IF(B72=\"\",\"\",IF(VLOOKUP(B72,'Oman Results'!C72:AI1065,31)=\"x\",'Oman Results'!AK72,\"\"))","v":""},null,null,"","","",7317.92]
[72,{"$f":"IF('Oman Results'!C73=\"\",\"\",'Oman Results'!C73)","v":"701-09557           "},{"$f":"IF(OR('Oman Results'!D73=\"\",'Oman Results'!D73=\"Totals\"),\"\",'Oman Results'!D73)","v":"TEST PILE, DYNAMIC, PRODUCTION                                                                      "},"",{"$f":"IF('Oman Results'!E73=\"\",\"\",'Oman Results'!E73)","v":350},{"$f":"IF('Oman Results'!F73=\"\",\"\",'Oman Results'!F73)","v":"L.F. "},{"$f":"IF(B73=\"\",\"\",IF(VLOOKUP(B73,'Oman Results'!C73:AI1066,31)=\"x\",'Oman Results'!AK73,'Oman Results'!G73))","v":48.69},17041.5,{"$f":"IF(B73=\"\",\"\",IF(VLOOKUP(B73,'Oman Results'!C73:AI1066,31)=\"x\",\"Yes\",\"\"))","v":""},{"$f":"IF(B73=\"\",\"\",IF(VLOOKUP(B73,'Oman Results'!C73:AI1066,31)=\"x\",'Oman Results'!G73,\"\"))","v":""},{"$f":"IF(B73=\"\",\"\",IF(VLOOKUP(B73,'Oman Results'!C73:AI1066,31)=\"x\",'Oman Results'!AJ73,\"\"))","v":""},{"$f":"IF(B73=\"\",\"\",IF(VLOOKUP(B73,'Oman Results'!C73:AI1066,31)=\"x\",'Oman Results'!AK73,\"\"))","v":""},null,null,"","","",17041.5]
[73,{"$f":"IF('Oman Results'!C74=\"\",\"\",'Oman Results'!C74)","v":"701-09559           "},{"$f":"IF(OR('Oman Results'!D74=\"\",'Oman Results'!D74=\"Totals\"),\"\",'Oman Results'!D74)","v":"TEST PILE, DYNAMIC, RESTRIKE                                                                        "},"",{"$f":"IF('Oman Results'!E74=\"\",\"\",'Oman Results'!E74)","v":5},{"$f":"IF('Oman Results'!F74=\"\",\"\",'Oman Results'!F74)","v":"EACH "},{"$f":"IF(B74=\"\",\"\",IF(VLOOKUP(B74,'Oman Results'!C74:AI1067,31)=\"x\",'Oman Results'!AK74,'Oman Results'!G74))","v":1356.13},6780.6500000000005,{"$f":"IF(B74=\"\",\"\",IF(VLOOKUP(B74,'Oman Results'!C74:AI1067,31)=\"x\",\"Yes\",\"\"))","v":""},{"$f":"IF(B74=\"\",\"\",IF(VLOOKUP(B74,'Oman Results'!C74:AI1067,31)=\"x\",'Oman Results'!G74,\"\"))","v":""},{"$f":"IF(B74=\"\",\"\",IF(VLOOKUP(B74,'Oman Results'!C74:AI1067,31)=\"x\",'Oman Results'!AJ74,\"\"))","v":""},{"$f":"IF(B74=\"\",\"\",IF(VLOOKUP(B74,'Oman Results'!C74:AI1067,31)=\"x\",'Oman Results'!AK74,\"\"))","v":""},null,null,"","","",6780.6500000000005]
[74,{"$f":"IF('Oman Results'!C75=\"\",\"\",'Oman Results'!C75)","v":"701-09683           "},{"$f":"IF(OR('Oman Results'!D75=\"\",'Oman Results'!D75=\"Totals\"),\"\",'Oman Results'!D75)","v":"PILE SHOE, HP 12 X 74                                                                               "},"",{"$f":"IF('Oman Results'!E75=\"\",\"\",'Oman Results'!E75)","v":85},{"$f":"IF('Oman Results'!F75=\"\",\"\",'Oman Results'!F75)","v":"EACH "},{"$f":"IF(B75=\"\",\"\",IF(VLOOKUP(B75,'Oman Results'!C75:AI1068,31)=\"x\",'Oman Results'!AK75,'Oman Results'!G75))","v":150},12750,{"$f":"IF(B75=\"\",\"\",IF(VLOOKUP(B75,'Oman Results'!C75:AI1068,31)=\"x\",\"Yes\",\"\"))","v":""},{"$f":"IF(B75=\"\",\"\",IF(VLOOKUP(B75,'Oman Results'!C75:AI1068,31)=\"x\",'Oman Results'!G75,\"\"))","v":""},{"$f":"IF(B75=\"\",\"\",IF(VLOOKUP(B75,'Oman Results'!C75:AI1068,31)=\"x\",'Oman Results'!AJ75,\"\"))","v":""},{"$f":"IF(B75=\"\",\"\",IF(VLOOKUP(B75,'Oman Results'!C75:AI1068,31)=\"x\",'Oman Results'!AK75,\"\"))","v":""},null,null,"","","",12750]
[75,{"$f":"IF('Oman Results'!C76=\"\",\"\",'Oman Results'!C76)","v":"701-95780           "},{"$f":"IF(OR('Oman Results'!D76=\"\",'Oman Results'!D76=\"Totals\"),\"\",'Oman Results'!D76)","v":"PILE, STEEL H, HP 12 IN X 74                                                                        "},"",{"$f":"IF('Oman Results'!E76=\"\",\"\",'Oman Results'!E76)","v":5780},{"$f":"IF('Oman Results'!F76=\"\",\"\",'Oman Results'!F76)","v":"L.F. "},{"$f":"IF(B76=\"\",\"\",IF(VLOOKUP(B76,'Oman Results'!C76:AI1069,31)=\"x\",'Oman Results'!AK76,'Oman Results'!G76))","v":27.33},157967.4,{"$f":"IF(B76=\"\",\"\",IF(VLOOKUP(B76,'Oman Results'!C76:AI1069,31)=\"x\",\"Yes\",\"\"))","v":""},{"$f":"IF(B76=\"\",\"\",IF(VLOOKUP(B76,'Oman Results'!C76:AI1069,31)=\"x\",'Oman Results'!G76,\"\"))","v":""},{"$f":"IF(B76=\"\",\"\",IF(VLOOKUP(B76,'Oman Results'!C76:AI1069,31)=\"x\",'Oman Results'!AJ76,\"\"))","v":""},{"$f":"IF(B76=\"\",\"\",IF(VLOOKUP(B76,'Oman Results'!C76:AI1069,31)=\"x\",'Oman Results'!AK76,\"\"))","v":""},null,null,"","","",157967.4]
[76,{"$f":"IF('Oman Results'!C77=\"\",\"\",'Oman Results'!C77)","v":"702-51005           "},{"$f":"IF(OR('Oman Results'!D77=\"\",'Oman Results'!D77=\"Totals\"),\"\",'Oman Results'!D77)","v":"CONCRETE, A, SUBSTRUCTURE                                                                           "},"",{"$f":"IF('Oman Results'!E77=\"\",\"\",'Oman Results'!E77)","v":815},{"$f":"IF('Oman Results'!F77=\"\",\"\",'Oman Results'!F77)","v":"C.Y. "},{"$f":"IF(B77=\"\",\"\",IF(VLOOKUP(B77,'Oman Results'!C77:AI1070,31)=\"x\",'Oman Results'!AK77,'Oman Results'!G77))","v":545.87},444884.05,{"$f":"IF(B77=\"\",\"\",IF(VLOOKUP(B77,'Oman Results'!C77:AI1070,31)=\"x\",\"Yes\",\"\"))","v":""},{"$f":"IF(B77=\"\",\"\",IF(VLOOKUP(B77,'Oman Results'!C77:AI1070,31)=\"x\",'Oman Results'!G77,\"\"))","v":""},{"$f":"IF(B77=\"\",\"\",IF(VLOOKUP(B77,'Oman Results'!C77:AI1070,31)=\"x\",'Oman Results'!AJ77,\"\"))","v":""},{"$f":"IF(B77=\"\",\"\",IF(VLOOKUP(B77,'Oman Results'!C77:AI1070,31)=\"x\",'Oman Results'!AK77,\"\"))","v":""},null,null,"","","",444884.05]
[77,{"$f":"IF('Oman Results'!C78=\"\",\"\",'Oman Results'!C78)","v":"702-51110           "},{"$f":"IF(OR('Oman Results'!D78=\"\",'Oman Results'!D78=\"Totals\"),\"\",'Oman Results'!D78)","v":"GRATES, BASINS, AND FITTINGS, CAST IRON                                                             "},"",{"$f":"IF('Oman Results'!E78=\"\",\"\",'Oman Results'!E78)","v":10200},{"$f":"IF('Oman Results'!F78=\"\",\"\",'Oman Results'!F78)","v":"LBS  "},{"$f":"IF(B78=\"\",\"\",IF(VLOOKUP(B78,'Oman Results'!C78:AI1071,31)=\"x\",'Oman Results'!AK78,'Oman Results'!G78))","v":5.15},52530,{"$f":"IF(B78=\"\",\"\",IF(VLOOKUP(B78,'Oman Results'!C78:AI1071,31)=\"x\",\"Yes\",\"\"))","v":""},{"$f":"IF(B78=\"\",\"\",IF(VLOOKUP(B78,'Oman Results'!C78:AI1071,31)=\"x\",'Oman Results'!G78,\"\"))","v":""},{"$f":"IF(B78=\"\",\"\",IF(VLOOKUP(B78,'Oman Results'!C78:AI1071,31)=\"x\",'Oman Results'!AJ78,\"\"))","v":""},{"$f":"IF(B78=\"\",\"\",IF(VLOOKUP(B78,'Oman Results'!C78:AI1071,31)=\"x\",'Oman Results'!AK78,\"\"))","v":""},null,null,"","","",52530]
[78,{"$f":"IF('Oman Results'!C79=\"\",\"\",'Oman Results'!C79)","v":"703-06028           "},{"$f":"IF(OR('Oman Results'!D79=\"\",'Oman Results'!D79=\"Totals\"),\"\",'Oman Results'!D79)","v":"REINFORCING BARS                                                                                    "},"",{"$f":"IF('Oman Results'!E79=\"\",\"\",'Oman Results'!E79)","v":89175},{"$f":"IF('Oman Results'!F79=\"\",\"\",'Oman Results'!F79)","v":"LBS  "},{"$f":"IF(B79=\"\",\"\",IF(VLOOKUP(B79,'Oman Results'!C79:AI1072,31)=\"x\",'Oman Results'!AK79,'Oman Results'!G79))","v":0.9},80257.5,{"$f":"IF(B79=\"\",\"\",IF(VLOOKUP(B79,'Oman Results'!C79:AI1072,31)=\"x\",\"Yes\",\"\"))","v":""},{"$f":"IF(B79=\"\",\"\",IF(VLOOKUP(B79,'Oman Results'!C79:AI1072,31)=\"x\",'Oman Results'!G79,\"\"))","v":""},{"$f":"IF(B79=\"\",\"\",IF(VLOOKUP(B79,'Oman Results'!C79:AI1072,31)=\"x\",'Oman Results'!AJ79,\"\"))","v":""},{"$f":"IF(B79=\"\",\"\",IF(VLOOKUP(B79,'Oman Results'!C79:AI1072,31)=\"x\",'Oman Results'!AK79,\"\"))","v":""},null,null,"","","",80257.5]
[79,{"$f":"IF('Oman Results'!C80=\"\",\"\",'Oman Results'!C80)","v":"703-06029           "},{"$f":"IF(OR('Oman Results'!D80=\"\",'Oman Results'!D80=\"Totals\"),\"\",'Oman Results'!D80)","v":"REINFORCING BARS, EPOXY COATED                                                                      "},"",{"$f":"IF('Oman Results'!E80=\"\",\"\",'Oman Results'!E80)","v":388200},{"$f":"IF('Oman Results'!F80=\"\",\"\",'Oman Results'!F80)","v":"LBS  "},{"$f":"IF(B80=\"\",\"\",IF(VLOOKUP(B80,'Oman Results'!C80:AI1073,31)=\"x\",'Oman Results'!AK80,'Oman Results'!G80))","v":0.94},364908,{"$f":"IF(B80=\"\",\"\",IF(VLOOKUP(B80,'Oman Results'!C80:AI1073,31)=\"x\",\"Yes\",\"\"))","v":""},{"$f":"IF(B80=\"\",\"\",IF(VLOOKUP(B80,'Oman Results'!C80:AI1073,31)=\"x\",'Oman Results'!G80,\"\"))","v":""},{"$f":"IF(B80=\"\",\"\",IF(VLOOKUP(B80,'Oman Results'!C80:AI1073,31)=\"x\",'Oman Results'!AJ80,\"\"))","v":""},{"$f":"IF(B80=\"\",\"\",IF(VLOOKUP(B80,'Oman Results'!C80:AI1073,31)=\"x\",'Oman Results'!AK80,\"\"))","v":""},null,null,"","","",364908]
[80,{"$f":"IF('Oman Results'!C81=\"\",\"\",'Oman Results'!C81)","v":"704-51002           "},{"$f":"IF(OR('Oman Results'!D81=\"\",'Oman Results'!D81=\"Totals\"),\"\",'Oman Results'!D81)","v":"CONCRETE, C, SUPERSTRUCTURE                                                                         "},"",{"$f":"IF('Oman Results'!E81=\"\",\"\",'Oman Results'!E81)","v":955},{"$f":"IF('Oman Results'!F81=\"\",\"\",'Oman Results'!F81)","v":"C.Y. "},{"$f":"IF(B81=\"\",\"\",IF(VLOOKUP(B81,'Oman Results'!C81:AI1074,31)=\"x\",'Oman Results'!AK81,'Oman Results'!G81))","v":558.25},533128.75,{"$f":"IF(B81=\"\",\"\",IF(VLOOKUP(B81,'Oman Results'!C81:AI1074,31)=\"x\",\"Yes\",\"\"))","v":""},{"$f":"IF(B81=\"\",\"\",IF(VLOOKUP(B81,'Oman Results'!C81:AI1074,31)=\"x\",'Oman Results'!G81,\"\"))","v":""},{"$f":"IF(B81=\"\",\"\",IF(VLOOKUP(B81,'Oman Results'!C81:AI1074,31)=\"x\",'Oman Results'!AJ81,\"\"))","v":""},{"$f":"IF(B81=\"\",\"\",IF(VLOOKUP(B81,'Oman Results'!C81:AI1074,31)=\"x\",'Oman Results'!AK81,\"\"))","v":""},null,null,"","","",533128.75]
[81,{"$f":"IF('Oman Results'!C82=\"\",\"\",'Oman Results'!C82)","v":"706-05734           "},{"$f":"IF(OR('Oman Results'!D82=\"\",'Oman Results'!D82=\"Totals\"),\"\",'Oman Results'!D82)","v":"CONCRETE BRIDGE RAILING TRANSITION, TBT                                                             "},"",{"$f":"IF('Oman Results'!E82=\"\",\"\",'Oman Results'!E82)","v":8},{"$f":"IF('Oman Results'!F82=\"\",\"\",'Oman Results'!F82)","v":"EACH "},{"$f":"IF(B82=\"\",\"\",IF(VLOOKUP(B82,'Oman Results'!C82:AI1075,31)=\"x\",'Oman Results'!AK82,'Oman Results'!G82))","v":1836},14688,{"$f":"IF(B82=\"\",\"\",IF(VLOOKUP(B82,'Oman Results'!C82:AI1075,31)=\"x\",\"Yes\",\"\"))","v":""},{"$f":"IF(B82=\"\",\"\",IF(VLOOKUP(B82,'Oman Results'!C82:AI1075,31)=\"x\",'Oman Results'!G82,\"\"))","v":""},{"$f":"IF(B82=\"\",\"\",IF(VLOOKUP(B82,'Oman Results'!C82:AI1075,31)=\"x\",'Oman Results'!AJ82,\"\"))","v":""},{"$f":"IF(B82=\"\",\"\",IF(VLOOKUP(B82,'Oman Results'!C82:AI1075,31)=\"x\",'Oman Results'!AK82,\"\"))","v":""},null,null,"","","",14688]
[82,{"$f":"IF('Oman Results'!C83=\"\",\"\",'Oman Results'!C83)","v":"706-08496           "},{"$f":"IF(OR('Oman Results'!D83=\"\",'Oman Results'!D83=\"Totals\"),\"\",'Oman Results'!D83)","v":"REINFORCED CONCRETE MOMENT SLAB, 12 IN                                                              "},"",{"$f":"IF('Oman Results'!E83=\"\",\"\",'Oman Results'!E83)","v":3350},{"$f":"IF('Oman Results'!F83=\"\",\"\",'Oman Results'!F83)","v":"S.Y. "},{"$f":"IF(B83=\"\",\"\",IF(VLOOKUP(B83,'Oman Results'!C83:AI1076,31)=\"x\",'Oman Results'!AK83,'Oman Results'!G83))","v":85.42},286157,{"$f":"IF(B83=\"\",\"\",IF(VLOOKUP(B83,'Oman Results'!C83:AI1076,31)=\"x\",\"Yes\",\"\"))","v":""},{"$f":"IF(B83=\"\",\"\",IF(VLOOKUP(B83,'Oman Results'!C83:AI1076,31)=\"x\",'Oman Results'!G83,\"\"))","v":""},{"$f":"IF(B83=\"\",\"\",IF(VLOOKUP(B83,'Oman Results'!C83:AI1076,31)=\"x\",'Oman Results'!AJ83,\"\"))","v":""},{"$f":"IF(B83=\"\",\"\",IF(VLOOKUP(B83,'Oman Results'!C83:AI1076,31)=\"x\",'Oman Results'!AK83,\"\"))","v":""},null,null,"","","",286157]
[83,{"$f":"IF('Oman Results'!C84=\"\",\"\",'Oman Results'!C84)","v":"706-51020           "},{"$f":"IF(OR('Oman Results'!D84=\"\",'Oman Results'!D84=\"Totals\"),\"\",'Oman Results'!D84)","v":"RAILING, CONCRETE, C                                                                                "},"",{"$f":"IF('Oman Results'!E84=\"\",\"\",'Oman Results'!E84)","v":240},{"$f":"IF('Oman Results'!F84=\"\",\"\",'Oman Results'!F84)","v":"C.Y. "},{"$f":"IF(B84=\"\",\"\",IF(VLOOKUP(B84,'Oman Results'!C84:AI1077,31)=\"x\",'Oman Results'!AK84,'Oman Results'!G84))","v":496.11},119066.40000000001,{"$f":"IF(B84=\"\",\"\",IF(VLOOKUP(B84,'Oman Results'!C84:AI1077,31)=\"x\",\"Yes\",\"\"))","v":""},{"$f":"IF(B84=\"\",\"\",IF(VLOOKUP(B84,'Oman Results'!C84:AI1077,31)=\"x\",'Oman Results'!G84,\"\"))","v":""},{"$f":"IF(B84=\"\",\"\",IF(VLOOKUP(B84,'Oman Results'!C84:AI1077,31)=\"x\",'Oman Results'!AJ84,\"\"))","v":""},{"$f":"IF(B84=\"\",\"\",IF(VLOOKUP(B84,'Oman Results'!C84:AI1077,31)=\"x\",'Oman Results'!AK84,\"\"))","v":""},null,null,"","","",119066.40000000001]
[84,{"$f":"IF('Oman Results'!C85=\"\",\"\",'Oman Results'!C85)","v":"707-01065           "},{"$f":"IF(OR('Oman Results'!D85=\"\",'Oman Results'!D85=\"Totals\"),\"\",'Oman Results'!D85)","v":"POST-TENSIONING                                                                                     "},"",{"$f":"IF('Oman Results'!E85=\"\",\"\",'Oman Results'!E85)","v":1},{"$f":"IF('Oman Results'!F85=\"\",\"\",'Oman Results'!F85)","v":"L.S. "},{"$f":"IF(B85=\"\",\"\",IF(VLOOKUP(B85,'Oman Results'!C85:AI1078,31)=\"x\",'Oman Results'!AK85,'Oman Results'!G85))","v":324000},324000,{"$f":"IF(B85=\"\",\"\",IF(VLOOKUP(B85,'Oman Results'!C85:AI1078,31)=\"x\",\"Yes\",\"\"))","v":""},{"$f":"IF(B85=\"\",\"\",IF(VLOOKUP(B85,'Oman Results'!C85:AI1078,31)=\"x\",'Oman Results'!G85,\"\"))","v":""},{"$f":"IF(B85=\"\",\"\",IF(VLOOKUP(B85,'Oman Results'!C85:AI1078,31)=\"x\",'Oman Results'!AJ85,\"\"))","v":""},{"$f":"IF(B85=\"\",\"\",IF(VLOOKUP(B85,'Oman Results'!C85:AI1078,31)=\"x\",'Oman Results'!AK85,\"\"))","v":""},null,null,1,324000,"",""]
[85,{"$f":"IF('Oman Results'!C86=\"\",\"\",'Oman Results'!C86)","v":"709-51821           "},{"$f":"IF(OR('Oman Results'!D86=\"\",'Oman Results'!D86=\"Totals\"),\"\",'Oman Results'!D86)","v":"SURFACE SEAL                                                                                        "},"",{"$f":"IF('Oman Results'!E86=\"\",\"\",'Oman Results'!E86)","v":1},{"$f":"IF('Oman Results'!F86=\"\",\"\",'Oman Results'!F86)","v":"L.S. "},{"$f":"IF(B86=\"\",\"\",IF(VLOOKUP(B86,'Oman Results'!C86:AI1079,31)=\"x\",'Oman Results'!AK86,'Oman Results'!G86))","v":9377.93},9377.93,{"$f":"IF(B86=\"\",\"\",IF(VLOOKUP(B86,'Oman Results'!C86:AI1079,31)=\"x\",\"Yes\",\"\"))","v":""},{"$f":"IF(B86=\"\",\"\",IF(VLOOKUP(B86,'Oman Results'!C86:AI1079,31)=\"x\",'Oman Results'!G86,\"\"))","v":""},{"$f":"IF(B86=\"\",\"\",IF(VLOOKUP(B86,'Oman Results'!C86:AI1079,31)=\"x\",'Oman Results'!AJ86,\"\"))","v":""},{"$f":"IF(B86=\"\",\"\",IF(VLOOKUP(B86,'Oman Results'!C86:AI1079,31)=\"x\",'Oman Results'!AK86,\"\"))","v":""},null,null,1,9377.93,"",""]
[86,{"$f":"IF('Oman Results'!C87=\"\",\"\",'Oman Results'!C87)","v":"711-51038           "},{"$f":"IF(OR('Oman Results'!D87=\"\",'Oman Results'!D87=\"Totals\"),\"\",'Oman Results'!D87)","v":"STRUCTURAL STEEL                                                                                    "},"",{"$f":"IF('Oman Results'!E87=\"\",\"\",'Oman Results'!E87)","v":1},{"$f":"IF('Oman Results'!F87=\"\",\"\",'Oman Results'!F87)","v":"L.S. "},{"$f":"IF(B87=\"\",\"\",IF(VLOOKUP(B87,'Oman Results'!C87:AI1080,31)=\"x\",'Oman Results'!AK87,'Oman Results'!G87))","v":569071.25},569071.25,{"$f":"IF(B87=\"\",\"\",IF(VLOOKUP(B87,'Oman Results'!C87:AI1080,31)=\"x\",\"Yes\",\"\"))","v":""},{"$f":"IF(B87=\"\",\"\",IF(VLOOKUP(B87,'Oman Results'!C87:AI1080,31)=\"x\",'Oman Results'!G87,\"\"))","v":""},{"$f":"IF(B87=\"\",\"\",IF(VLOOKUP(B87,'Oman Results'!C87:AI1080,31)=\"x\",'Oman Results'!AJ87,\"\"))","v":""},{"$f":"IF(B87=\"\",\"\",IF(VLOOKUP(B87,'Oman Results'!C87:AI1080,31)=\"x\",'Oman Results'!AK87,\"\"))","v":""},null,null,1,569071.25,"",""]
[87,{"$f":"IF('Oman Results'!C88=\"\",\"\",'Oman Results'!C88)","v":"713-51820           "},{"$f":"IF(OR('Oman Results'!D88=\"\",'Oman Results'!D88=\"Totals\"),\"\",'Oman Results'!D88)","v":"TEMPORARY SUPPORT                                                                                   "},"",{"$f":"IF('Oman Results'!E88=\"\",\"\",'Oman Results'!E88)","v":1},{"$f":"IF('Oman Results'!F88=\"\",\"\",'Oman Results'!F88)","v":"L.S. "},{"$f":"IF(B88=\"\",\"\",IF(VLOOKUP(B88,'Oman Results'!C88:AI1081,31)=\"x\",'Oman Results'!AK88,'Oman Results'!G88))","v":962.56},962.56,{"$f":"IF(B88=\"\",\"\",IF(VLOOKUP(B88,'Oman Results'!C88:AI1081,31)=\"x\",\"Yes\",\"\"))","v":""},{"$f":"IF(B88=\"\",\"\",IF(VLOOKUP(B88,'Oman Results'!C88:AI1081,31)=\"x\",'Oman Results'!G88,\"\"))","v":""},{"$f":"IF(B88=\"\",\"\",IF(VLOOKUP(B88,'Oman Results'!C88:AI1081,31)=\"x\",'Oman Results'!AJ88,\"\"))","v":""},{"$f":"IF(B88=\"\",\"\",IF(VLOOKUP(B88,'Oman Results'!C88:AI1081,31)=\"x\",'Oman Results'!AK88,\"\"))","v":""},null,null,1,962.56,"",""]
[88,{"$f":"IF('Oman Results'!C89=\"\",\"\",'Oman Results'!C89)","v":"714-44240           "},{"$f":"IF(OR('Oman Results'!D89=\"\",'Oman Results'!D89=\"Totals\"),\"\",'Oman Results'!D89)","v":"Item Not Found in the Current Pay Item                                                              "},"",{"$f":"IF('Oman Results'!E89=\"\",\"\",'Oman Results'!E89)","v":150},{"$f":"IF('Oman Results'!F89=\"\",\"\",'Oman Results'!F89)","v":"C.Y. "},{"$f":"IF(B89=\"\",\"\",IF(VLOOKUP(B89,'Oman Results'!C89:AI1082,31)=\"x\",'Oman Results'!AK89,'Oman Results'!G89))","v":635.64},95346,{"$f":"IF(B89=\"\",\"\",IF(VLOOKUP(B89,'Oman Results'!C89:AI1082,31)=\"x\",\"Yes\",\"\"))","v":""},{"$f":"IF(B89=\"\",\"\",IF(VLOOKUP(B89,'Oman Results'!C89:AI1082,31)=\"x\",'Oman Results'!G89,\"\"))","v":""},{"$f":"IF(B89=\"\",\"\",IF(VLOOKUP(B89,'Oman Results'!C89:AI1082,31)=\"x\",'Oman Results'!AJ89,\"\"))","v":""},{"$f":"IF(B89=\"\",\"\",IF(VLOOKUP(B89,'Oman Results'!C89:AI1082,31)=\"x\",'Oman Results'!AK89,\"\"))","v":""},null,null,"","","",95346]
[89,{"$f":"IF('Oman Results'!C90=\"\",\"\",'Oman Results'!C90)","v":"715-02246           "},{"$f":"IF(OR('Oman Results'!D90=\"\",'Oman Results'!D90=\"Totals\"),\"\",'Oman Results'!D90)","v":"PIPE END SECTION, 48 IN                                                                             "},"",{"$f":"IF('Oman Results'!E90=\"\",\"\",'Oman Results'!E90)","v":2},{"$f":"IF('Oman Results'!F90=\"\",\"\",'Oman Results'!F90)","v":"EACH "},{"$f":"IF(B90=\"\",\"\",IF(VLOOKUP(B90,'Oman Results'!C90:AI1083,31)=\"x\",'Oman Results'!AK90,'Oman Results'!G90))","v":2547.81},5095.62,{"$f":"IF(B90=\"\",\"\",IF(VLOOKUP(B90,'Oman Results'!C90:AI1083,31)=\"x\",\"Yes\",\"\"))","v":""},{"$f":"IF(B90=\"\",\"\",IF(VLOOKUP(B90,'Oman Results'!C90:AI1083,31)=\"x\",'Oman Results'!G90,\"\"))","v":""},{"$f":"IF(B90=\"\",\"\",IF(VLOOKUP(B90,'Oman Results'!C90:AI1083,31)=\"x\",'Oman Results'!AJ90,\"\"))","v":""},{"$f":"IF(B90=\"\",\"\",IF(VLOOKUP(B90,'Oman Results'!C90:AI1083,31)=\"x\",'Oman Results'!AK90,\"\"))","v":""},null,null,"","","",5095.62]
[90,{"$f":"IF('Oman Results'!C91=\"\",\"\",'Oman Results'!C91)","v":"715-05048           "},{"$f":"IF(OR('Oman Results'!D91=\"\",'Oman Results'!D91=\"Totals\"),\"\",'Oman Results'!D91)","v":"PIPE, TYPE 4 CIRCULAR 6 IN                                                                          "},"",{"$f":"IF('Oman Results'!E91=\"\",\"\",'Oman Results'!E91)","v":25000},{"$f":"IF('Oman Results'!F91=\"\",\"\",'Oman Results'!F91)","v":"L.F. "},{"$f":"IF(B91=\"\",\"\",IF(VLOOKUP(B91,'Oman Results'!C91:AI1084,31)=\"x\",'Oman Results'!AK91,'Oman Results'!G91))","v":3.49},87250,{"$f":"IF(B91=\"\",\"\",IF(VLOOKUP(B91,'Oman Results'!C91:AI1084,31)=\"x\",\"Yes\",\"\"))","v":""},{"$f":"IF(B91=\"\",\"\",IF(VLOOKUP(B91,'Oman Results'!C91:AI1084,31)=\"x\",'Oman Results'!G91,\"\"))","v":""},{"$f":"IF(B91=\"\",\"\",IF(VLOOKUP(B91,'Oman Results'!C91:AI1084,31)=\"x\",'Oman Results'!AJ91,\"\"))","v":""},{"$f":"IF(B91=\"\",\"\",IF(VLOOKUP(B91,'Oman Results'!C91:AI1084,31)=\"x\",'Oman Results'!AK91,\"\"))","v":""},null,null,"","","",87250]
[91,{"$f":"IF('Oman Results'!C92=\"\",\"\",'Oman Results'!C92)","v":"715-05053           "},{"$f":"IF(OR('Oman Results'!D92=\"\",'Oman Results'!D92=\"Totals\"),\"\",'Oman Results'!D92)","v":"PIPE, UNDERDRAIN, OUTLET 6 IN                                                                       "},"",{"$f":"IF('Oman Results'!E92=\"\",\"\",'Oman Results'!E92)","v":1100},{"$f":"IF('Oman Results'!F92=\"\",\"\",'Oman Results'!F92)","v":"L.F. "},{"$f":"IF(B92=\"\",\"\",IF(VLOOKUP(B92,'Oman Results'!C92:AI1085,31)=\"x\",'Oman Results'!AK92,'Oman Results'!G92))","v":14.15},15565,{"$f":"IF(B92=\"\",\"\",IF(VLOOKUP(B92,'Oman Results'!C92:AI1085,31)=\"x\",\"Yes\",\"\"))","v":""},{"$f":"IF(B92=\"\",\"\",IF(VLOOKUP(B92,'Oman Results'!C92:AI1085,31)=\"x\",'Oman Results'!G92,\"\"))","v":""},{"$f":"IF(B92=\"\",\"\",IF(VLOOKUP(B92,'Oman Results'!C92:AI1085,31)=\"x\",'Oman Results'!AJ92,\"\"))","v":""},{"$f":"IF(B92=\"\",\"\",IF(VLOOKUP(B92,'Oman Results'!C92:AI1085,31)=\"x\",'Oman Results'!AK92,\"\"))","v":""},null,null,"","","",15565]
[92,{"$f":"IF('Oman Results'!C93=\"\",\"\",'Oman Results'!C93)","v":"715-05152           "},{"$f":"IF(OR('Oman Results'!D93=\"\",'Oman Results'!D93=\"Totals\"),\"\",'Oman Results'!D93)","v":"PIPE, TYPE 2 CIRCULAR 18 IN                                                                         "},"",{"$f":"IF('Oman Results'!E93=\"\",\"\",'Oman Results'!E93)","v":55},{"$f":"IF('Oman Results'!F93=\"\",\"\",'Oman Results'!F93)","v":"L.F. "},{"$f":"IF(B93=\"\",\"\",IF(VLOOKUP(B93,'Oman Results'!C93:AI1086,31)=\"x\",'Oman Results'!AK93,'Oman Results'!G93))","v":39.619999999999997},2179.1,{"$f":"IF(B93=\"\",\"\",IF(VLOOKUP(B93,'Oman Results'!C93:AI1086,31)=\"x\",\"Yes\",\"\"))","v":""},{"$f":"IF(B93=\"\",\"\",IF(VLOOKUP(B93,'Oman Results'!C93:AI1086,31)=\"x\",'Oman Results'!G93,\"\"))","v":""},{"$f":"IF(B93=\"\",\"\",IF(VLOOKUP(B93,'Oman Results'!C93:AI1086,31)=\"x\",'Oman Results'!AJ93,\"\"))","v":""},{"$f":"IF(B93=\"\",\"\",IF(VLOOKUP(B93,'Oman Results'!C93:AI1086,31)=\"x\",'Oman Results'!AK93,\"\"))","v":""},null,null,"","","",2179.1]
[93,{"$f":"IF('Oman Results'!C94=\"\",\"\",'Oman Results'!C94)","v":"715-05161           "},{"$f":"IF(OR('Oman Results'!D94=\"\",'Oman Results'!D94=\"Totals\"),\"\",'Oman Results'!D94)","v":"PIPE, TYPE 2 CIRCULAR 48 IN                                                                         "},"",{"$f":"IF('Oman Results'!E94=\"\",\"\",'Oman Results'!E94)","v":125},{"$f":"IF('Oman Results'!F94=\"\",\"\",'Oman Results'!F94)","v":"L.F. "},{"$f":"IF(B94=\"\",\"\",IF(VLOOKUP(B94,'Oman Results'!C94:AI1087,31)=\"x\",'Oman Results'!AK94,'Oman Results'!G94))","v":156.57},19571.25,{"$f":"IF(B94=\"\",\"\",IF(VLOOKUP(B94,'Oman Results'!C94:AI1087,31)=\"x\",\"Yes\",\"\"))","v":""},{"$f":"IF(B94=\"\",\"\",IF(VLOOKUP(B94,'Oman Results'!C94:AI1087,31)=\"x\",'Oman Results'!G94,\"\"))","v":""},{"$f":"IF(B94=\"\",\"\",IF(VLOOKUP(B94,'Oman Results'!C94:AI1087,31)=\"x\",'Oman Results'!AJ94,\"\"))","v":""},{"$f":"IF(B94=\"\",\"\",IF(VLOOKUP(B94,'Oman Results'!C94:AI1087,31)=\"x\",'Oman Results'!AK94,\"\"))","v":""},null,null,"","","",19571.25]
[94,{"$f":"IF('Oman Results'!C95=\"\",\"\",'Oman Results'!C95)","v":"715-05177           "},{"$f":"IF(OR('Oman Results'!D95=\"\",'Oman Results'!D95=\"Totals\"),\"\",'Oman Results'!D95)","v":"PIPE, TYPE 3 CIRCULAR 36 IN                                                                         "},"",{"$f":"IF('Oman Results'!E95=\"\",\"\",'Oman Results'!E95)","v":200},{"$f":"IF('Oman Results'!F95=\"\",\"\",'Oman Results'!F95)","v":"L.F. "},{"$f":"IF(B95=\"\",\"\",IF(VLOOKUP(B95,'Oman Results'!C95:AI1088,31)=\"x\",'Oman Results'!AK95,'Oman Results'!G95))","v":94},18800,{"$f":"IF(B95=\"\",\"\",IF(VLOOKUP(B95,'Oman Results'!C95:AI1088,31)=\"x\",\"Yes\",\"\"))","v":""},{"$f":"IF(B95=\"\",\"\",IF(VLOOKUP(B95,'Oman Results'!C95:AI1088,31)=\"x\",'Oman Results'!G95,\"\"))","v":""},{"$f":"IF(B95=\"\",\"\",IF(VLOOKUP(B95,'Oman Results'!C95:AI1088,31)=\"x\",'Oman Results'!AJ95,\"\"))","v":""},{"$f":"IF(B95=\"\",\"\",IF(VLOOKUP(B95,'Oman Results'!C95:AI1088,31)=\"x\",'Oman Results'!AK95,\"\"))","v":""},null,null,"","","",18800]
[95,{"$f":"IF('Oman Results'!C96=\"\",\"\",'Oman Results'!C96)","v":"715-05422           "},{"$f":"IF(OR('Oman Results'!D96=\"\",'Oman Results'!D96=\"Totals\"),\"\",'Oman Results'!D96)","v":"PIPE, SLOTTED DRAIN, 12 IN                                                                          "},"",{"$f":"IF('Oman Results'!E96=\"\",\"\",'Oman Results'!E96)","v":1500},{"$f":"IF('Oman Results'!F96=\"\",\"\",'Oman Results'!F96)","v":"L.F. "},{"$f":"IF(B96=\"\",\"\",IF(VLOOKUP(B96,'Oman Results'!C96:AI1089,31)=\"x\",'Oman Results'!AK96,'Oman Results'!G96))","v":62.62},93930,{"$f":"IF(B96=\"\",\"\",IF(VLOOKUP(B96,'Oman Results'!C96:AI1089,31)=\"x\",\"Yes\",\"\"))","v":""},{"$f":"IF(B96=\"\",\"\",IF(VLOOKUP(B96,'Oman Results'!C96:AI1089,31)=\"x\",'Oman Results'!G96,\"\"))","v":""},{"$f":"IF(B96=\"\",\"\",IF(VLOOKUP(B96,'Oman Results'!C96:AI1089,31)=\"x\",'Oman Results'!AJ96,\"\"))","v":""},{"$f":"IF(B96=\"\",\"\",IF(VLOOKUP(B96,'Oman Results'!C96:AI1089,31)=\"x\",'Oman Results'!AK96,\"\"))","v":""},null,null,"","","",93930]
[96,{"$f":"IF('Oman Results'!C97=\"\",\"\",'Oman Results'!C97)","v":"715-05428           "},{"$f":"IF(OR('Oman Results'!D97=\"\",'Oman Results'!D97=\"Totals\"),\"\",'Oman Results'!D97)","v":"PIPE SLOTTED VANE DRAIN, 12 IN                                                                      "},"",{"$f":"IF('Oman Results'!E97=\"\",\"\",'Oman Results'!E97)","v":2775},{"$f":"IF('Oman Results'!F97=\"\",\"\",'Oman Results'!F97)","v":"L.F. "},{"$f":"IF(B97=\"\",\"\",IF(VLOOKUP(B97,'Oman Results'!C97:AI1090,31)=\"x\",'Oman Results'!AK97,'Oman Results'!G97))","v":112.15},311216.25,{"$f":"IF(B97=\"\",\"\",IF(VLOOKUP(B97,'Oman Results'!C97:AI1090,31)=\"x\",\"Yes\",\"\"))","v":""},{"$f":"IF(B97=\"\",\"\",IF(VLOOKUP(B97,'Oman Results'!C97:AI1090,31)=\"x\",'Oman Results'!G97,\"\"))","v":""},{"$f":"IF(B97=\"\",\"\",IF(VLOOKUP(B97,'Oman Results'!C97:AI1090,31)=\"x\",'Oman Results'!AJ97,\"\"))","v":""},{"$f":"IF(B97=\"\",\"\",IF(VLOOKUP(B97,'Oman Results'!C97:AI1090,31)=\"x\",'Oman Results'!AK97,\"\"))","v":""},null,null,"","","",311216.25]
[97,{"$f":"IF('Oman Results'!C98=\"\",\"\",'Oman Results'!C98)","v":"715-05756           "},{"$f":"IF(OR('Oman Results'!D98=\"\",'Oman Results'!D98=\"Totals\"),\"\",'Oman Results'!D98)","v":"PIPE EXTENSION, CIRCULAR 12 IN                                                                      "},"",{"$f":"IF('Oman Results'!E98=\"\",\"\",'Oman Results'!E98)","v":450},{"$f":"IF('Oman Results'!F98=\"\",\"\",'Oman Results'!F98)","v":"L.F. "},{"$f":"IF(B98=\"\",\"\",IF(VLOOKUP(B98,'Oman Results'!C98:AI1091,31)=\"x\",'Oman Results'!AK98,'Oman Results'!G98))","v":35},15750,{"$f":"IF(B98=\"\",\"\",IF(VLOOKUP(B98,'Oman Results'!C98:AI1091,31)=\"x\",\"Yes\",\"\"))","v":""},{"$f":"IF(B98=\"\",\"\",IF(VLOOKUP(B98,'Oman Results'!C98:AI1091,31)=\"x\",'Oman Results'!G98,\"\"))","v":""},{"$f":"IF(B98=\"\",\"\",IF(VLOOKUP(B98,'Oman Results'!C98:AI1091,31)=\"x\",'Oman Results'!AJ98,\"\"))","v":""},{"$f":"IF(B98=\"\",\"\",IF(VLOOKUP(B98,'Oman Results'!C98:AI1091,31)=\"x\",'Oman Results'!AK98,\"\"))","v":""},null,null,"","","",15750]
[98,{"$f":"IF('Oman Results'!C99=\"\",\"\",'Oman Results'!C99)","v":"715-05757           "},{"$f":"IF(OR('Oman Results'!D99=\"\",'Oman Results'!D99=\"Totals\"),\"\",'Oman Results'!D99)","v":"PIPE EXTENSION, CIRCULAR 36 IN                                                                      "},"",{"$f":"IF('Oman Results'!E99=\"\",\"\",'Oman Results'!E99)","v":75},{"$f":"IF('Oman Results'!F99=\"\",\"\",'Oman Results'!F99)","v":"L.F. "},{"$f":"IF(B99=\"\",\"\",IF(VLOOKUP(B99,'Oman Results'!C99:AI1092,31)=\"x\",'Oman Results'!AK99,'Oman Results'!G99))","v":61},4575,{"$f":"IF(B99=\"\",\"\",IF(VLOOKUP(B99,'Oman Results'!C99:AI1092,31)=\"x\",\"Yes\",\"\"))","v":""},{"$f":"IF(B99=\"\",\"\",IF(VLOOKUP(B99,'Oman Results'!C99:AI1092,31)=\"x\",'Oman Results'!G99,\"\"))","v":""},{"$f":"IF(B99=\"\",\"\",IF(VLOOKUP(B99,'Oman Results'!C99:AI1092,31)=\"x\",'Oman Results'!AJ99,\"\"))","v":""},{"$f":"IF(B99=\"\",\"\",IF(VLOOKUP(B99,'Oman Results'!C99:AI1092,31)=\"x\",'Oman Results'!AK99,\"\"))","v":""},null,null,"","","",4575]
[99,{"$f":"IF('Oman Results'!C100=\"\",\"\",'Oman Results'!C100)","v":"715-06337           "},{"$f":"IF(OR('Oman Results'!D100=\"\",'Oman Results'!D100=\"Totals\"),\"\",'Oman Results'!D100)","v":"PIPE EXTENSION, CIRCULAR, 48 IN                                                                     "},"",{"$f":"IF('Oman Results'!E100=\"\",\"\",'Oman Results'!E100)","v":35},{"$f":"IF('Oman Results'!F100=\"\",\"\",'Oman Results'!F100)","v":"L.F. "},{"$f":"IF(B100=\"\",\"\",IF(VLOOKUP(B100,'Oman Results'!C100:AI1093,31)=\"x\",'Oman Results'!AK100,'Oman Results'!G100))","v":215},7525,{"$f":"IF(B100=\"\",\"\",IF(VLOOKUP(B100,'Oman Results'!C100:AI1093,31)=\"x\",\"Yes\",\"\"))","v":""},{"$f":"IF(B100=\"\",\"\",IF(VLOOKUP(B100,'Oman Results'!C100:AI1093,31)=\"x\",'Oman Results'!G100,\"\"))","v":""},{"$f":"IF(B100=\"\",\"\",IF(VLOOKUP(B100,'Oman Results'!C100:AI1093,31)=\"x\",'Oman Results'!AJ100,\"\"))","v":""},{"$f":"IF(B100=\"\",\"\",IF(VLOOKUP(B100,'Oman Results'!C100:AI1093,31)=\"x\",'Oman Results'!AK100,\"\"))","v":""},null,null,"","","",7525]
[100,{"$f":"IF('Oman Results'!C101=\"\",\"\",'Oman Results'!C101)","v":"715-46000           "},{"$f":"IF(OR('Oman Results'!D101=\"\",'Oman Results'!D101=\"Totals\"),\"\",'Oman Results'!D101)","v":"PIPE END SECTION, 12 IN                                                                             "},"",{"$f":"IF('Oman Results'!E101=\"\",\"\",'Oman Results'!E101)","v":8},{"$f":"IF('Oman Results'!F101=\"\",\"\",'Oman Results'!F101)","v":"EACH "},{"$f":"IF(B101=\"\",\"\",IF(VLOOKUP(B101,'Oman Results'!C101:AI1094,31)=\"x\",'Oman Results'!AK101,'Oman Results'!G101))","v":403.07},3224.56,{"$f":"IF(B101=\"\",\"\",IF(VLOOKUP(B101,'Oman Results'!C101:AI1094,31)=\"x\",\"Yes\",\"\"))","v":""},{"$f":"IF(B101=\"\",\"\",IF(VLOOKUP(B101,'Oman Results'!C101:AI1094,31)=\"x\",'Oman Results'!G101,\"\"))","v":""},{"$f":"IF(B101=\"\",\"\",IF(VLOOKUP(B101,'Oman Results'!C101:AI1094,31)=\"x\",'Oman Results'!AJ101,\"\"))","v":""},{"$f":"IF(B101=\"\",\"\",IF(VLOOKUP(B101,'Oman Results'!C101:AI1094,31)=\"x\",'Oman Results'!AK101,\"\"))","v":""},null,null,"","","",3224.56]
[101,{"$f":"IF('Oman Results'!C102=\"\",\"\",'Oman Results'!C102)","v":"715-46010           "},{"$f":"IF(OR('Oman Results'!D102=\"\",'Oman Results'!D102=\"Totals\"),\"\",'Oman Results'!D102)","v":"PIPE END SECTION, 18 IN                                                                             "},"",{"$f":"IF('Oman Results'!E102=\"\",\"\",'Oman Results'!E102)","v":1},{"$f":"IF('Oman Results'!F102=\"\",\"\",'Oman Results'!F102)","v":"EACH "},{"$f":"IF(B102=\"\",\"\",IF(VLOOKUP(B102,'Oman Results'!C102:AI1095,31)=\"x\",'Oman Results'!AK102,'Oman Results'!G102))","v":477.62},477.62,{"$f":"IF(B102=\"\",\"\",IF(VLOOKUP(B102,'Oman Results'!C102:AI1095,31)=\"x\",\"Yes\",\"\"))","v":""},{"$f":"IF(B102=\"\",\"\",IF(VLOOKUP(B102,'Oman Results'!C102:AI1095,31)=\"x\",'Oman Results'!G102,\"\"))","v":""},{"$f":"IF(B102=\"\",\"\",IF(VLOOKUP(B102,'Oman Results'!C102:AI1095,31)=\"x\",'Oman Results'!AJ102,\"\"))","v":""},{"$f":"IF(B102=\"\",\"\",IF(VLOOKUP(B102,'Oman Results'!C102:AI1095,31)=\"x\",'Oman Results'!AK102,\"\"))","v":""},null,null,"","","",477.62]
[102,{"$f":"IF('Oman Results'!C103=\"\",\"\",'Oman Results'!C103)","v":"715-46040           "},{"$f":"IF(OR('Oman Results'!D103=\"\",'Oman Results'!D103=\"Totals\"),\"\",'Oman Results'!D103)","v":"PIPE END SECTION, 36 IN                                                                             "},"",{"$f":"IF('Oman Results'!E103=\"\",\"\",'Oman Results'!E103)","v":3},{"$f":"IF('Oman Results'!F103=\"\",\"\",'Oman Results'!F103)","v":"EACH "},{"$f":"IF(B103=\"\",\"\",IF(VLOOKUP(B103,'Oman Results'!C103:AI1096,31)=\"x\",'Oman Results'!AK103,'Oman Results'!G103))","v":1056.8900000000001},3170.67,{"$f":"IF(B103=\"\",\"\",IF(VLOOKUP(B103,'Oman Results'!C103:AI1096,31)=\"x\",\"Yes\",\"\"))","v":""},{"$f":"IF(B103=\"\",\"\",IF(VLOOKUP(B103,'Oman Results'!C103:AI1096,31)=\"x\",'Oman Results'!G103,\"\"))","v":""},{"$f":"IF(B103=\"\",\"\",IF(VLOOKUP(B103,'Oman Results'!C103:AI1096,31)=\"x\",'Oman Results'!AJ103,\"\"))","v":""},{"$f":"IF(B103=\"\",\"\",IF(VLOOKUP(B103,'Oman Results'!C103:AI1096,31)=\"x\",'Oman Results'!AK103,\"\"))","v":""},null,null,"","","",3170.67]
[103,{"$f":"IF('Oman Results'!C104=\"\",\"\",'Oman Results'!C104)","v":"718-06528           "},{"$f":"IF(OR('Oman Results'!D104=\"\",'Oman Results'!D104=\"Totals\"),\"\",'Oman Results'!D104)","v":"OUTLET PROTECTOR, 1                                                                                 "},"",{"$f":"IF('Oman Results'!E104=\"\",\"\",'Oman Results'!E104)","v":35},{"$f":"IF('Oman Results'!F104=\"\",\"\",'Oman Results'!F104)","v":"EACH "},{"$f":"IF(B104=\"\",\"\",IF(VLOOKUP(B104,'Oman Results'!C104:AI1097,31)=\"x\",'Oman Results'!AK104,'Oman Results'!G104))","v":592.49},20737.150000000001,{"$f":"IF(B104=\"\",\"\",IF(VLOOKUP(B104,'Oman Results'!C104:AI1097,31)=\"x\",\"Yes\",\"\"))","v":""},{"$f":"IF(B104=\"\",\"\",IF(VLOOKUP(B104,'Oman Results'!C104:AI1097,31)=\"x\",'Oman Results'!G104,\"\"))","v":""},{"$f":"IF(B104=\"\",\"\",IF(VLOOKUP(B104,'Oman Results'!C104:AI1097,31)=\"x\",'Oman Results'!AJ104,\"\"))","v":""},{"$f":"IF(B104=\"\",\"\",IF(VLOOKUP(B104,'Oman Results'!C104:AI1097,31)=\"x\",'Oman Results'!AK104,\"\"))","v":""},null,null,"","","",20737.150000000001]
[104,{"$f":"IF('Oman Results'!C105=\"\",\"\",'Oman Results'!C105)","v":"718-06529           "},{"$f":"IF(OR('Oman Results'!D105=\"\",'Oman Results'!D105=\"Totals\"),\"\",'Oman Results'!D105)","v":"OUTLET PROTECTOR, 2                                                                                 "},"",{"$f":"IF('Oman Results'!E105=\"\",\"\",'Oman Results'!E105)","v":34},{"$f":"IF('Oman Results'!F105=\"\",\"\",'Oman Results'!F105)","v":"EACH "},{"$f":"IF(B105=\"\",\"\",IF(VLOOKUP(B105,'Oman Results'!C105:AI1098,31)=\"x\",'Oman Results'!AK105,'Oman Results'!G105))","v":561.63},19095.419999999998,{"$f":"IF(B105=\"\",\"\",IF(VLOOKUP(B105,'Oman Results'!C105:AI1098,31)=\"x\",\"Yes\",\"\"))","v":""},{"$f":"IF(B105=\"\",\"\",IF(VLOOKUP(B105,'Oman Results'!C105:AI1098,31)=\"x\",'Oman Results'!G105,\"\"))","v":""},{"$f":"IF(B105=\"\",\"\",IF(VLOOKUP(B105,'Oman Results'!C105:AI1098,31)=\"x\",'Oman Results'!AJ105,\"\"))","v":""},{"$f":"IF(B105=\"\",\"\",IF(VLOOKUP(B105,'Oman Results'!C105:AI1098,31)=\"x\",'Oman Results'!AK105,\"\"))","v":""},null,null,"","","",19095.419999999998]
[105,{"$f":"IF('Oman Results'!C106=\"\",\"\",'Oman Results'!C106)","v":"718-06532           "},{"$f":"IF(OR('Oman Results'!D106=\"\",'Oman Results'!D106=\"Totals\"),\"\",'Oman Results'!D106)","v":"VIDEO INSPECTION FOR UNDERDRAINS                                                                    "},"",{"$f":"IF('Oman Results'!E106=\"\",\"\",'Oman Results'!E106)","v":9000},{"$f":"IF('Oman Results'!F106=\"\",\"\",'Oman Results'!F106)","v":"L.F. "},{"$f":"IF(B106=\"\",\"\",IF(VLOOKUP(B106,'Oman Results'!C106:AI1099,31)=\"x\",'Oman Results'!AK106,'Oman Results'!G106))","v":0.99},8910,{"$f":"IF(B106=\"\",\"\",IF(VLOOKUP(B106,'Oman Results'!C106:AI1099,31)=\"x\",\"Yes\",\"\"))","v":""},{"$f":"IF(B106=\"\",\"\",IF(VLOOKUP(B106,'Oman Results'!C106:AI1099,31)=\"x\",'Oman Results'!G106,\"\"))","v":""},{"$f":"IF(B106=\"\",\"\",IF(VLOOKUP(B106,'Oman Results'!C106:AI1099,31)=\"x\",'Oman Results'!AJ106,\"\"))","v":""},{"$f":"IF(B106=\"\",\"\",IF(VLOOKUP(B106,'Oman Results'!C106:AI1099,31)=\"x\",'Oman Results'!AK106,\"\"))","v":""},null,null,"","","",8910]
[106,{"$f":"IF('Oman Results'!C107=\"\",\"\",'Oman Results'!C107)","v":"718-52610           "},{"$f":"IF(OR('Oman Results'!D107=\"\",'Oman Results'!D107=\"Totals\"),\"\",'Oman Results'!D107)","v":"AGGREGATE FOR UNDERDRAINS                                                                           "},"",{"$f":"IF('Oman Results'!E107=\"\",\"\",'Oman Results'!E107)","v":2310},{"$f":"IF('Oman Results'!F107=\"\",\"\",'Oman Results'!F107)","v":"C.Y. "},{"$f":"IF(B107=\"\",\"\",IF(VLOOKUP(B107,'Oman Results'!C107:AI1100,31)=\"x\",'Oman Results'!AK107,'Oman Results'!G107))","v":33.68},77800.800000000003,{"$f":"IF(B107=\"\",\"\",IF(VLOOKUP(B107,'Oman Results'!C107:AI1100,31)=\"x\",\"Yes\",\"\"))","v":""},{"$f":"IF(B107=\"\",\"\",IF(VLOOKUP(B107,'Oman Results'!C107:AI1100,31)=\"x\",'Oman Results'!G107,\"\"))","v":""},{"$f":"IF(B107=\"\",\"\",IF(VLOOKUP(B107,'Oman Results'!C107:AI1100,31)=\"x\",'Oman Results'!AJ107,\"\"))","v":""},{"$f":"IF(B107=\"\",\"\",IF(VLOOKUP(B107,'Oman Results'!C107:AI1100,31)=\"x\",'Oman Results'!AK107,\"\"))","v":""},null,null,"","","",77800.800000000003]
[107,{"$f":"IF('Oman Results'!C108=\"\",\"\",'Oman Results'!C108)","v":"718-99153           "},{"$f":"IF(OR('Oman Results'!D108=\"\",'Oman Results'!D108=\"Totals\"),\"\",'Oman Results'!D108)","v":"GEOTEXTILES FOR UNDERDRAIN                                                                          "},"",{"$f":"IF('Oman Results'!E108=\"\",\"\",'Oman Results'!E108)","v":22550},{"$f":"IF('Oman Results'!F108=\"\",\"\",'Oman Results'!F108)","v":"S.Y. "},{"$f":"IF(B108=\"\",\"\",IF(VLOOKUP(B108,'Oman Results'!C108:AI1101,31)=\"x\",'Oman Results'!AK108,'Oman Results'!G108))","v":1.1399999999999999},25706.999999999996,{"$f":"IF(B108=\"\",\"\",IF(VLOOKUP(B108,'Oman Results'!C108:AI1101,31)=\"x\",\"Yes\",\"\"))","v":""},{"$f":"IF(B108=\"\",\"\",IF(VLOOKUP(B108,'Oman Results'!C108:AI1101,31)=\"x\",'Oman Results'!G108,\"\"))","v":""},{"$f":"IF(B108=\"\",\"\",IF(VLOOKUP(B108,'Oman Results'!C108:AI1101,31)=\"x\",'Oman Results'!AJ108,\"\"))","v":""},{"$f":"IF(B108=\"\",\"\",IF(VLOOKUP(B108,'Oman Results'!C108:AI1101,31)=\"x\",'Oman Results'!AK108,\"\"))","v":""},null,null,"","","",25706.999999999996]
[108,{"$f":"IF('Oman Results'!C109=\"\",\"\",'Oman Results'!C109)","v":"720-07302           "},{"$f":"IF(OR('Oman Results'!D109=\"\",'Oman Results'!D109=\"Totals\"),\"\",'Oman Results'!D109)","v":"INLET, TYPE HA, WITH SLOTTED DRAIN                                                                  "},"",{"$f":"IF('Oman Results'!E109=\"\",\"\",'Oman Results'!E109)","v":28},{"$f":"IF('Oman Results'!F109=\"\",\"\",'Oman Results'!F109)","v":"EACH "},{"$f":"IF(B109=\"\",\"\",IF(VLOOKUP(B109,'Oman Results'!C109:AI1102,31)=\"x\",'Oman Results'!AK109,'Oman Results'!G109))","v":3150},88200,{"$f":"IF(B109=\"\",\"\",IF(VLOOKUP(B109,'Oman Results'!C109:AI1102,31)=\"x\",\"Yes\",\"\"))","v":""},{"$f":"IF(B109=\"\",\"\",IF(VLOOKUP(B109,'Oman Results'!C109:AI1102,31)=\"x\",'Oman Results'!G109,\"\"))","v":""},{"$f":"IF(B109=\"\",\"\",IF(VLOOKUP(B109,'Oman Results'!C109:AI1102,31)=\"x\",'Oman Results'!AJ109,\"\"))","v":""},{"$f":"IF(B109=\"\",\"\",IF(VLOOKUP(B109,'Oman Results'!C109:AI1102,31)=\"x\",'Oman Results'!AK109,\"\"))","v":""},null,null,"","","",88200]
[109,{"$f":"IF('Oman Results'!C110=\"\",\"\",'Oman Results'!C110)","v":"720-45030           "},{"$f":"IF(OR('Oman Results'!D110=\"\",'Oman Results'!D110=\"Totals\"),\"\",'Oman Results'!D110)","v":"INLET, E7                                                                                           "},"",{"$f":"IF('Oman Results'!E110=\"\",\"\",'Oman Results'!E110)","v":2},{"$f":"IF('Oman Results'!F110=\"\",\"\",'Oman Results'!F110)","v":"EACH "},{"$f":"IF(B110=\"\",\"\",IF(VLOOKUP(B110,'Oman Results'!C110:AI1103,31)=\"x\",'Oman Results'!AK110,'Oman Results'!G110))","v":1415.55},2831.1,{"$f":"IF(B110=\"\",\"\",IF(VLOOKUP(B110,'Oman Results'!C110:AI1103,31)=\"x\",\"Yes\",\"\"))","v":""},{"$f":"IF(B110=\"\",\"\",IF(VLOOKUP(B110,'Oman Results'!C110:AI1103,31)=\"x\",'Oman Results'!G110,\"\"))","v":""},{"$f":"IF(B110=\"\",\"\",IF(VLOOKUP(B110,'Oman Results'!C110:AI1103,31)=\"x\",'Oman Results'!AJ110,\"\"))","v":""},{"$f":"IF(B110=\"\",\"\",IF(VLOOKUP(B110,'Oman Results'!C110:AI1103,31)=\"x\",'Oman Results'!AK110,\"\"))","v":""},null,null,"","","",2831.1]
[110,{"$f":"IF('Oman Results'!C111=\"\",\"\",'Oman Results'!C111)","v":"720-45065           "},{"$f":"IF(OR('Oman Results'!D111=\"\",'Oman Results'!D111=\"Totals\"),\"\",'Oman Results'!D111)","v":"INLET, N12                                                                                          "},"",{"$f":"IF('Oman Results'!E111=\"\",\"\",'Oman Results'!E111)","v":1},{"$f":"IF('Oman Results'!F111=\"\",\"\",'Oman Results'!F111)","v":"EACH "},{"$f":"IF(B111=\"\",\"\",IF(VLOOKUP(B111,'Oman Results'!C111:AI1104,31)=\"x\",'Oman Results'!AK111,'Oman Results'!G111))","v":2793.57},2793.57,{"$f":"IF(B111=\"\",\"\",IF(VLOOKUP(B111,'Oman Results'!C111:AI1104,31)=\"x\",\"Yes\",\"\"))","v":""},{"$f":"IF(B111=\"\",\"\",IF(VLOOKUP(B111,'Oman Results'!C111:AI1104,31)=\"x\",'Oman Results'!G111,\"\"))","v":""},{"$f":"IF(B111=\"\",\"\",IF(VLOOKUP(B111,'Oman Results'!C111:AI1104,31)=\"x\",'Oman Results'!AJ111,\"\"))","v":""},{"$f":"IF(B111=\"\",\"\",IF(VLOOKUP(B111,'Oman Results'!C111:AI1104,31)=\"x\",'Oman Results'!AK111,\"\"))","v":""},null,null,"","","",2793.57]
[111,{"$f":"IF('Oman Results'!C112=\"\",\"\",'Oman Results'!C112)","v":"722-51842           "},{"$f":"IF(OR('Oman Results'!D112=\"\",'Oman Results'!D112=\"Totals\"),\"\",'Oman Results'!D112)","v":"BRIDGE DECK OVERLAY                                                                                 "},"",{"$f":"IF('Oman Results'!E112=\"\",\"\",'Oman Results'!E112)","v":1200},{"$f":"IF('Oman Results'!F112=\"\",\"\",'Oman Results'!F112)","v":"S.Y. "},{"$f":"IF(B112=\"\",\"\",IF(VLOOKUP(B112,'Oman Results'!C112:AI1105,31)=\"x\",'Oman Results'!AK112,'Oman Results'!G112))","v":68.3},81960,{"$f":"IF(B112=\"\",\"\",IF(VLOOKUP(B112,'Oman Results'!C112:AI1105,31)=\"x\",\"Yes\",\"\"))","v":""},{"$f":"IF(B112=\"\",\"\",IF(VLOOKUP(B112,'Oman Results'!C112:AI1105,31)=\"x\",'Oman Results'!G112,\"\"))","v":""},{"$f":"IF(B112=\"\",\"\",IF(VLOOKUP(B112,'Oman Results'!C112:AI1105,31)=\"x\",'Oman Results'!AJ112,\"\"))","v":""},{"$f":"IF(B112=\"\",\"\",IF(VLOOKUP(B112,'Oman Results'!C112:AI1105,31)=\"x\",'Oman Results'!AK112,\"\"))","v":""},null,null,"","","",81960]
[112,{"$f":"IF('Oman Results'!C113=\"\",\"\",'Oman Results'!C113)","v":"722-51846           "},{"$f":"IF(OR('Oman Results'!D113=\"\",'Oman Results'!D113=\"Totals\"),\"\",'Oman Results'!D113)","v":"BRIDGE DECK OVERLAY, ADDITIONAL                                                                     "},"",{"$f":"IF('Oman Results'!E113=\"\",\"\",'Oman Results'!E113)","v":4},{"$f":"IF('Oman Results'!F113=\"\",\"\",'Oman Results'!F113)","v":"C.Y. "},{"$f":"IF(B113=\"\",\"\",IF(VLOOKUP(B113,'Oman Results'!C113:AI1106,31)=\"x\",'Oman Results'!AK113,'Oman Results'!G113))","v":530.41999999999996},2121.6799999999998,{"$f":"IF(B113=\"\",\"\",IF(VLOOKUP(B113,'Oman Results'!C113:AI1106,31)=\"x\",\"Yes\",\"\"))","v":""},{"$f":"IF(B113=\"\",\"\",IF(VLOOKUP(B113,'Oman Results'!C113:AI1106,31)=\"x\",'Oman Results'!G113,\"\"))","v":""},{"$f":"IF(B113=\"\",\"\",IF(VLOOKUP(B113,'Oman Results'!C113:AI1106,31)=\"x\",'Oman Results'!AJ113,\"\"))","v":""},{"$f":"IF(B113=\"\",\"\",IF(VLOOKUP(B113,'Oman Results'!C113:AI1106,31)=\"x\",'Oman Results'!AK113,\"\"))","v":""},null,null,"","","",2121.6799999999998]
[113,{"$f":"IF('Oman Results'!C114=\"\",\"\",'Oman Results'!C114)","v":"722-60824           "},{"$f":"IF(OR('Oman Results'!D114=\"\",'Oman Results'!D114=\"Totals\"),\"\",'Oman Results'!D114)","v":"SURFACE MILLING                                                                                     "},"",{"$f":"IF('Oman Results'!E114=\"\",\"\",'Oman Results'!E114)","v":1250},{"$f":"IF('Oman Results'!F114=\"\",\"\",'Oman Results'!F114)","v":"S.Y. "},{"$f":"IF(B114=\"\",\"\",IF(VLOOKUP(B114,'Oman Results'!C114:AI1107,31)=\"x\",'Oman Results'!AK114,'Oman Results'!G114))","v":4.4400000000000004},5550.0000000000009,{"$f":"IF(B114=\"\",\"\",IF(VLOOKUP(B114,'Oman Results'!C114:AI1107,31)=\"x\",\"Yes\",\"\"))","v":""},{"$f":"IF(B114=\"\",\"\",IF(VLOOKUP(B114,'Oman Results'!C114:AI1107,31)=\"x\",'Oman Results'!G114,\"\"))","v":""},{"$f":"IF(B114=\"\",\"\",IF(VLOOKUP(B114,'Oman Results'!C114:AI1107,31)=\"x\",'Oman Results'!AJ114,\"\"))","v":""},{"$f":"IF(B114=\"\",\"\",IF(VLOOKUP(B114,'Oman Results'!C114:AI1107,31)=\"x\",'Oman Results'!AK114,\"\"))","v":""},null,null,"","","",5550.0000000000009]
[114,{"$f":"IF('Oman Results'!C115=\"\",\"\",'Oman Results'!C115)","v":"724-51925           "},{"$f":"IF(OR('Oman Results'!D115=\"\",'Oman Results'!D115=\"Totals\"),\"\",'Oman Results'!D115)","v":"STRUCTURAL EXPANSION JOINT, SS                                                                      "},"",{"$f":"IF('Oman Results'!E115=\"\",\"\",'Oman Results'!E115)","v":198},{"$f":"IF('Oman Results'!F115=\"\",\"\",'Oman Results'!F115)","v":"L.F. "},{"$f":"IF(B115=\"\",\"\",IF(VLOOKUP(B115,'Oman Results'!C115:AI1108,31)=\"x\",'Oman Results'!AK115,'Oman Results'!G115))","v":160.16},31711.68,{"$f":"IF(B115=\"\",\"\",IF(VLOOKUP(B115,'Oman Results'!C115:AI1108,31)=\"x\",\"Yes\",\"\"))","v":""},{"$f":"IF(B115=\"\",\"\",IF(VLOOKUP(B115,'Oman Results'!C115:AI1108,31)=\"x\",'Oman Results'!G115,\"\"))","v":""},{"$f":"IF(B115=\"\",\"\",IF(VLOOKUP(B115,'Oman Results'!C115:AI1108,31)=\"x\",'Oman Results'!AJ115,\"\"))","v":""},{"$f":"IF(B115=\"\",\"\",IF(VLOOKUP(B115,'Oman Results'!C115:AI1108,31)=\"x\",'Oman Results'!AK115,\"\"))","v":""},null,null,"","","",31711.68]
[115,{"$f":"IF('Oman Results'!C116=\"\",\"\",'Oman Results'!C116)","v":"726-92406           "},{"$f":"IF(OR('Oman Results'!D116=\"\",'Oman Results'!D116=\"Totals\"),\"\",'Oman Results'!D116)","v":"BEARING ASSEMBLY, ELASTOMERIC                                                                       "},"",{"$f":"IF('Oman Results'!E116=\"\",\"\",'Oman Results'!E116)","v":16},{"$f":"IF('Oman Results'!F116=\"\",\"\",'Oman Results'!F116)","v":"EACH "},{"$f":"IF(B116=\"\",\"\",IF(VLOOKUP(B116,'Oman Results'!C116:AI1109,31)=\"x\",'Oman Results'!AK116,'Oman Results'!G116))","v":1110},17760,{"$f":"IF(B116=\"\",\"\",IF(VLOOKUP(B116,'Oman Results'!C116:AI1109,31)=\"x\",\"Yes\",\"\"))","v":""},{"$f":"IF(B116=\"\",\"\",IF(VLOOKUP(B116,'Oman Results'!C116:AI1109,31)=\"x\",'Oman Results'!G116,\"\"))","v":""},{"$f":"IF(B116=\"\",\"\",IF(VLOOKUP(B116,'Oman Results'!C116:AI1109,31)=\"x\",'Oman Results'!AJ116,\"\"))","v":""},{"$f":"IF(B116=\"\",\"\",IF(VLOOKUP(B116,'Oman Results'!C116:AI1109,31)=\"x\",'Oman Results'!AK116,\"\"))","v":""},null,null,"","","",17760]
[116,{"$f":"IF('Oman Results'!C117=\"\",\"\",'Oman Results'!C117)","v":"731-06223           "},{"$f":"IF(OR('Oman Results'!D117=\"\",'Oman Results'!D117=\"Totals\"),\"\",'Oman Results'!D117)","v":"SOIL NAILED WALL                                                                                    "},"",{"$f":"IF('Oman Results'!E117=\"\",\"\",'Oman Results'!E117)","v":275},{"$f":"IF('Oman Results'!F117=\"\",\"\",'Oman Results'!F117)","v":"S.Y. "},{"$f":"IF(B117=\"\",\"\",IF(VLOOKUP(B117,'Oman Results'!C117:AI1110,31)=\"x\",'Oman Results'!AK117,'Oman Results'!G117))","v":508},139700,{"$f":"IF(B117=\"\",\"\",IF(VLOOKUP(B117,'Oman Results'!C117:AI1110,31)=\"x\",\"Yes\",\"\"))","v":""},{"$f":"IF(B117=\"\",\"\",IF(VLOOKUP(B117,'Oman Results'!C117:AI1110,31)=\"x\",'Oman Results'!G117,\"\"))","v":""},{"$f":"IF(B117=\"\",\"\",IF(VLOOKUP(B117,'Oman Results'!C117:AI1110,31)=\"x\",'Oman Results'!AJ117,\"\"))","v":""},{"$f":"IF(B117=\"\",\"\",IF(VLOOKUP(B117,'Oman Results'!C117:AI1110,31)=\"x\",'Oman Results'!AK117,\"\"))","v":""},null,null,"","","",139700]
[117,{"$f":"IF('Oman Results'!C118=\"\",\"\",'Oman Results'!C118)","v":"731-07016           "},{"$f":"IF(OR('Oman Results'!D118=\"\",'Oman Results'!D118=\"Totals\"),\"\",'Oman Results'!D118)","v":"FACE PANELS, WIRE                                                                                   "},"",{"$f":"IF('Oman Results'!E118=\"\",\"\",'Oman Results'!E118)","v":15000},{"$f":"IF('Oman Results'!F118=\"\",\"\",'Oman Results'!F118)","v":"S.F. "},{"$f":"IF(B118=\"\",\"\",IF(VLOOKUP(B118,'Oman Results'!C118:AI1111,31)=\"x\",'Oman Results'!AK118,'Oman Results'!G118))","v":14},210000,{"$f":"IF(B118=\"\",\"\",IF(VLOOKUP(B118,'Oman Results'!C118:AI1111,31)=\"x\",\"Yes\",\"\"))","v":""},{"$f":"IF(B118=\"\",\"\",IF(VLOOKUP(B118,'Oman Results'!C118:AI1111,31)=\"x\",'Oman Results'!G118,\"\"))","v":""},{"$f":"IF(B118=\"\",\"\",IF(VLOOKUP(B118,'Oman Results'!C118:AI1111,31)=\"x\",'Oman Results'!AJ118,\"\"))","v":""},{"$f":"IF(B118=\"\",\"\",IF(VLOOKUP(B118,'Oman Results'!C118:AI1111,31)=\"x\",'Oman Results'!AK118,\"\"))","v":""},null,null,"","","",210000]
[118,{"$f":"IF('Oman Results'!C119=\"\",\"\",'Oman Results'!C119)","v":"731-93945           "},{"$f":"IF(OR('Oman Results'!D119=\"\",'Oman Results'!D119=\"Totals\"),\"\",'Oman Results'!D119)","v":"FACE PANELS, CONCRETE                                                                               "},"",{"$f":"IF('Oman Results'!E119=\"\",\"\",'Oman Results'!E119)","v":65000},{"$f":"IF('Oman Results'!F119=\"\",\"\",'Oman Results'!F119)","v":"S.F. "},{"$f":"IF(B119=\"\",\"\",IF(VLOOKUP(B119,'Oman Results'!C119:AI1112,31)=\"x\",'Oman Results'!AK119,'Oman Results'!G119))","v":12.8},832000,{"$f":"IF(B119=\"\",\"\",IF(VLOOKUP(B119,'Oman Results'!C119:AI1112,31)=\"x\",\"Yes\",\"\"))","v":""},{"$f":"IF(B119=\"\",\"\",IF(VLOOKUP(B119,'Oman Results'!C119:AI1112,31)=\"x\",'Oman Results'!G119,\"\"))","v":""},{"$f":"IF(B119=\"\",\"\",IF(VLOOKUP(B119,'Oman Results'!C119:AI1112,31)=\"x\",'Oman Results'!AJ119,\"\"))","v":""},{"$f":"IF(B119=\"\",\"\",IF(VLOOKUP(B119,'Oman Results'!C119:AI1112,31)=\"x\",'Oman Results'!AK119,\"\"))","v":""},null,null,"","","",832000]
[119,{"$f":"IF('Oman Results'!C120=\"\",\"\",'Oman Results'!C120)","v":"731-93946           "},{"$f":"IF(OR('Oman Results'!D120=\"\",'Oman Results'!D120=\"Totals\"),\"\",'Oman Results'!D120)","v":"WALL ERECTION                                                                                       "},"",{"$f":"IF('Oman Results'!E120=\"\",\"\",'Oman Results'!E120)","v":76000},{"$f":"IF('Oman Results'!F120=\"\",\"\",'Oman Results'!F120)","v":"S.F. "},{"$f":"IF(B120=\"\",\"\",IF(VLOOKUP(B120,'Oman Results'!C120:AI1113,31)=\"x\",'Oman Results'!AK120,'Oman Results'!G120))","v":5.17},392920,{"$f":"IF(B120=\"\",\"\",IF(VLOOKUP(B120,'Oman Results'!C120:AI1113,31)=\"x\",\"Yes\",\"\"))","v":""},{"$f":"IF(B120=\"\",\"\",IF(VLOOKUP(B120,'Oman Results'!C120:AI1113,31)=\"x\",'Oman Results'!G120,\"\"))","v":""},{"$f":"IF(B120=\"\",\"\",IF(VLOOKUP(B120,'Oman Results'!C120:AI1113,31)=\"x\",'Oman Results'!AJ120,\"\"))","v":""},{"$f":"IF(B120=\"\",\"\",IF(VLOOKUP(B120,'Oman Results'!C120:AI1113,31)=\"x\",'Oman Results'!AK120,\"\"))","v":""},null,null,"","","",392920]
[120,{"$f":"IF('Oman Results'!C121=\"\",\"\",'Oman Results'!C121)","v":"731-93947           "},{"$f":"IF(OR('Oman Results'!D121=\"\",'Oman Results'!D121=\"Totals\"),\"\",'Oman Results'!D121)","v":"LEVELING PAD, CONCRETE                                                                              "},"",{"$f":"IF('Oman Results'!E121=\"\",\"\",'Oman Results'!E121)","v":2200},{"$f":"IF('Oman Results'!F121=\"\",\"\",'Oman Results'!F121)","v":"L.F. "},{"$f":"IF(B121=\"\",\"\",IF(VLOOKUP(B121,'Oman Results'!C121:AI1114,31)=\"x\",'Oman Results'!AK121,'Oman Results'!G121))","v":31.36},68992,{"$f":"IF(B121=\"\",\"\",IF(VLOOKUP(B121,'Oman Results'!C121:AI1114,31)=\"x\",\"Yes\",\"\"))","v":""},{"$f":"IF(B121=\"\",\"\",IF(VLOOKUP(B121,'Oman Results'!C121:AI1114,31)=\"x\",'Oman Results'!G121,\"\"))","v":""},{"$f":"IF(B121=\"\",\"\",IF(VLOOKUP(B121,'Oman Results'!C121:AI1114,31)=\"x\",'Oman Results'!AJ121,\"\"))","v":""},{"$f":"IF(B121=\"\",\"\",IF(VLOOKUP(B121,'Oman Results'!C121:AI1114,31)=\"x\",'Oman Results'!AK121,\"\"))","v":""},null,null,"","","",68992]
[121,{"$f":"IF('Oman Results'!C122=\"\",\"\",'Oman Results'!C122)","v":"801-03290           "},{"$f":"IF(OR('Oman Results'!D122=\"\",'Oman Results'!D122=\"Totals\"),\"\",'Oman Results'!D122)","v":"CONSTRUCTION SIGN, C                                                                                "},"",{"$f":"IF('Oman Results'!E122=\"\",\"\",'Oman Results'!E122)","v":2},{"$f":"IF('Oman Results'!F122=\"\",\"\",'Oman Results'!F122)","v":"EACH "},{"$f":"IF(B122=\"\",\"\",IF(VLOOKUP(B122,'Oman Results'!C122:AI1115,31)=\"x\",'Oman Results'!AK122,'Oman Results'!G122))","v":190.73},381.46,{"$f":"IF(B122=\"\",\"\",IF(VLOOKUP(B122,'Oman Results'!C122:AI1115,31)=\"x\",\"Yes\",\"\"))","v":""},{"$f":"IF(B122=\"\",\"\",IF(VLOOKUP(B122,'Oman Results'!C122:AI1115,31)=\"x\",'Oman Results'!G122,\"\"))","v":""},{"$f":"IF(B122=\"\",\"\",IF(VLOOKUP(B122,'Oman Results'!C122:AI1115,31)=\"x\",'Oman Results'!AJ122,\"\"))","v":""},{"$f":"IF(B122=\"\",\"\",IF(VLOOKUP(B122,'Oman Results'!C122:AI1115,31)=\"x\",'Oman Results'!AK122,\"\"))","v":""},null,null,"","","",381.46]
[122,{"$f":"IF('Oman Results'!C123=\"\",\"\",'Oman Results'!C123)","v":"801-06207           "},{"$f":"IF(OR('Oman Results'!D123=\"\",'Oman Results'!D123=\"Totals\"),\"\",'Oman Results'!D123)","v":"TEMPORARY PAVEMENT MARKING, REMOVABLE, 4 IN                                                         "},"",{"$f":"IF('Oman Results'!E123=\"\",\"\",'Oman Results'!E123)","v":27000},{"$f":"IF('Oman Results'!F123=\"\",\"\",'Oman Results'!F123)","v":"L.F. "},{"$f":"IF(B123=\"\",\"\",IF(VLOOKUP(B123,'Oman Results'!C123:AI1116,31)=\"x\",'Oman Results'!AK123,'Oman Results'!G123))","v":0.85},22950,{"$f":"IF(B123=\"\",\"\",IF(VLOOKUP(B123,'Oman Results'!C123:AI1116,31)=\"x\",\"Yes\",\"\"))","v":""},{"$f":"IF(B123=\"\",\"\",IF(VLOOKUP(B123,'Oman Results'!C123:AI1116,31)=\"x\",'Oman Results'!G123,\"\"))","v":""},{"$f":"IF(B123=\"\",\"\",IF(VLOOKUP(B123,'Oman Results'!C123:AI1116,31)=\"x\",'Oman Results'!AJ123,\"\"))","v":""},{"$f":"IF(B123=\"\",\"\",IF(VLOOKUP(B123,'Oman Results'!C123:AI1116,31)=\"x\",'Oman Results'!AK123,\"\"))","v":""},null,null,"","","",22950]
[123,{"$f":"IF('Oman Results'!C124=\"\",\"\",'Oman Results'!C124)","v":"801-06625           "},{"$f":"IF(OR('Oman Results'!D124=\"\",'Oman Results'!D124=\"Totals\"),\"\",'Oman Results'!D124)","v":"DETOUR ROUTE MARKER ASSEMBLY                                                                        "},"",{"$f":"IF('Oman Results'!E124=\"\",\"\",'Oman Results'!E124)","v":15},{"$f":"IF('Oman Results'!F124=\"\",\"\",'Oman Results'!F124)","v":"EACH "},{"$f":"IF(B124=\"\",\"\",IF(VLOOKUP(B124,'Oman Results'!C124:AI1117,31)=\"x\",'Oman Results'!AK124,'Oman Results'!G124))","v":97.97},1469.55,{"$f":"IF(B124=\"\",\"\",IF(VLOOKUP(B124,'Oman Results'!C124:AI1117,31)=\"x\",\"Yes\",\"\"))","v":""},{"$f":"IF(B124=\"\",\"\",IF(VLOOKUP(B124,'Oman Results'!C124:AI1117,31)=\"x\",'Oman Results'!G124,\"\"))","v":""},{"$f":"IF(B124=\"\",\"\",IF(VLOOKUP(B124,'Oman Results'!C124:AI1117,31)=\"x\",'Oman Results'!AJ124,\"\"))","v":""},{"$f":"IF(B124=\"\",\"\",IF(VLOOKUP(B124,'Oman Results'!C124:AI1117,31)=\"x\",'Oman Results'!AK124,\"\"))","v":""},null,null,"","","",1469.55]
[124,{"$f":"IF('Oman Results'!C125=\"\",\"\",'Oman Results'!C125)","v":"801-06640           "},{"$f":"IF(OR('Oman Results'!D125=\"\",'Oman Results'!D125=\"Totals\"),\"\",'Oman Results'!D125)","v":"CONSTRUCTION SIGN, A                                                                                "},"",{"$f":"IF('Oman Results'!E125=\"\",\"\",'Oman Results'!E125)","v":37},{"$f":"IF('Oman Results'!F125=\"\",\"\",'Oman Results'!F125)","v":"EACH "},{"$f":"IF(B125=\"\",\"\",IF(VLOOKUP(B125,'Oman Results'!C125:AI1118,31)=\"x\",'Oman Results'!AK125,'Oman Results'!G125))","v":142.49},5272.13,{"$f":"IF(B125=\"\",\"\",IF(VLOOKUP(B125,'Oman Results'!C125:AI1118,31)=\"x\",\"Yes\",\"\"))","v":""},{"$f":"IF(B125=\"\",\"\",IF(VLOOKUP(B125,'Oman Results'!C125:AI1118,31)=\"x\",'Oman Results'!G125,\"\"))","v":""},{"$f":"IF(B125=\"\",\"\",IF(VLOOKUP(B125,'Oman Results'!C125:AI1118,31)=\"x\",'Oman Results'!AJ125,\"\"))","v":""},{"$f":"IF(B125=\"\",\"\",IF(VLOOKUP(B125,'Oman Results'!C125:AI1118,31)=\"x\",'Oman Results'!AK125,\"\"))","v":""},null,null,"","","",5272.13]
[125,{"$f":"IF('Oman Results'!C126=\"\",\"\",'Oman Results'!C126)","v":"801-06645           "},{"$f":"IF(OR('Oman Results'!D126=\"\",'Oman Results'!D126=\"Totals\"),\"\",'Oman Results'!D126)","v":"CONSTRUCTION SIGN, B                                                                                "},"",{"$f":"IF('Oman Results'!E126=\"\",\"\",'Oman Results'!E126)","v":11},{"$f":"IF('Oman Results'!F126=\"\",\"\",'Oman Results'!F126)","v":"EACH "},{"$f":"IF(B126=\"\",\"\",IF(VLOOKUP(B126,'Oman Results'!C126:AI1119,31)=\"x\",'Oman Results'!AK126,'Oman Results'!G126))","v":66.599999999999994},732.59999999999991,{"$f":"IF(B126=\"\",\"\",IF(VLOOKUP(B126,'Oman Results'!C126:AI1119,31)=\"x\",\"Yes\",\"\"))","v":""},{"$f":"IF(B126=\"\",\"\",IF(VLOOKUP(B126,'Oman Results'!C126:AI1119,31)=\"x\",'Oman Results'!G126,\"\"))","v":""},{"$f":"IF(B126=\"\",\"\",IF(VLOOKUP(B126,'Oman Results'!C126:AI1119,31)=\"x\",'Oman Results'!AJ126,\"\"))","v":""},{"$f":"IF(B126=\"\",\"\",IF(VLOOKUP(B126,'Oman Results'!C126:AI1119,31)=\"x\",'Oman Results'!AK126,\"\"))","v":""},null,null,"","","",732.59999999999991]
[126,{"$f":"IF('Oman Results'!C127=\"\",\"\",'Oman Results'!C127)","v":"801-06710           "},{"$f":"IF(OR('Oman Results'!D127=\"\",'Oman Results'!D127=\"Totals\"),\"\",'Oman Results'!D127)","v":"FLASHING ARROW SIGN                                                                                 "},"",{"$f":"IF('Oman Results'!E127=\"\",\"\",'Oman Results'!E127)","v":365},{"$f":"IF('Oman Results'!F127=\"\",\"\",'Oman Results'!F127)","v":"DAY  "},{"$f":"IF(B127=\"\",\"\",IF(VLOOKUP(B127,'Oman Results'!C127:AI1120,31)=\"x\",'Oman Results'!AK127,'Oman Results'!G127))","v":9.76},3562.4,{"$f":"IF(B127=\"\",\"\",IF(VLOOKUP(B127,'Oman Results'!C127:AI1120,31)=\"x\",\"Yes\",\"\"))","v":""},{"$f":"IF(B127=\"\",\"\",IF(VLOOKUP(B127,'Oman Results'!C127:AI1120,31)=\"x\",'Oman Results'!G127,\"\"))","v":""},{"$f":"IF(B127=\"\",\"\",IF(VLOOKUP(B127,'Oman Results'!C127:AI1120,31)=\"x\",'Oman Results'!AJ127,\"\"))","v":""},{"$f":"IF(B127=\"\",\"\",IF(VLOOKUP(B127,'Oman Results'!C127:AI1120,31)=\"x\",'Oman Results'!AK127,\"\"))","v":""},null,null,"","","",3562.4]
[127,{"$f":"IF('Oman Results'!C128=\"\",\"\",'Oman Results'!C128)","v":"801-06775           "},{"$f":"IF(OR('Oman Results'!D128=\"\",'Oman Results'!D128=\"Totals\"),\"\",'Oman Results'!D128)","v":"MAINTAINING TRAFFIC                                                                                 "},"",{"$f":"IF('Oman Results'!E128=\"\",\"\",'Oman Results'!E128)","v":1},{"$f":"IF('Oman Results'!F128=\"\",\"\",'Oman Results'!F128)","v":"L.S. "},{"$f":"IF(B128=\"\",\"\",IF(VLOOKUP(B128,'Oman Results'!C128:AI1121,31)=\"x\",'Oman Results'!AK128,'Oman Results'!G128))","v":47332.89},47332.89,{"$f":"IF(B128=\"\",\"\",IF(VLOOKUP(B128,'Oman Results'!C128:AI1121,31)=\"x\",\"Yes\",\"\"))","v":""},{"$f":"IF(B128=\"\",\"\",IF(VLOOKUP(B128,'Oman Results'!C128:AI1121,31)=\"x\",'Oman Results'!G128,\"\"))","v":""},{"$f":"IF(B128=\"\",\"\",IF(VLOOKUP(B128,'Oman Results'!C128:AI1121,31)=\"x\",'Oman Results'!AJ128,\"\"))","v":""},{"$f":"IF(B128=\"\",\"\",IF(VLOOKUP(B128,'Oman Results'!C128:AI1121,31)=\"x\",'Oman Results'!AK128,\"\"))","v":""},null,null,1,47332.89,"",""]
[128,{"$f":"IF('Oman Results'!C129=\"\",\"\",'Oman Results'!C129)","v":"801-07024           "},{"$f":"IF(OR('Oman Results'!D129=\"\",'Oman Results'!D129=\"Totals\"),\"\",'Oman Results'!D129)","v":"ENERGY ABSORBING TERMINAL, CZ, TL-3                                                                 "},"",{"$f":"IF('Oman Results'!E129=\"\",\"\",'Oman Results'!E129)","v":4},{"$f":"IF('Oman Results'!F129=\"\",\"\",'Oman Results'!F129)","v":"EACH "},{"$f":"IF(B129=\"\",\"\",IF(VLOOKUP(B129,'Oman Results'!C129:AI1122,31)=\"x\",'Oman Results'!AK129,'Oman Results'!G129))","v":6587.49},26349.96,{"$f":"IF(B129=\"\",\"\",IF(VLOOKUP(B129,'Oman Results'!C129:AI1122,31)=\"x\",\"Yes\",\"\"))","v":""},{"$f":"IF(B129=\"\",\"\",IF(VLOOKUP(B129,'Oman Results'!C129:AI1122,31)=\"x\",'Oman Results'!G129,\"\"))","v":""},{"$f":"IF(B129=\"\",\"\",IF(VLOOKUP(B129,'Oman Results'!C129:AI1122,31)=\"x\",'Oman Results'!AJ129,\"\"))","v":""},{"$f":"IF(B129=\"\",\"\",IF(VLOOKUP(B129,'Oman Results'!C129:AI1122,31)=\"x\",'Oman Results'!AK129,\"\"))","v":""},null,null,"","","",26349.96]
[129,{"$f":"IF('Oman Results'!C130=\"\",\"\",'Oman Results'!C130)","v":"801-07119           "},{"$f":"IF(OR('Oman Results'!D130=\"\",'Oman Results'!D130=\"Totals\"),\"\",'Oman Results'!D130)","v":"BARRICADE, III-B                                                                                    "},"",{"$f":"IF('Oman Results'!E130=\"\",\"\",'Oman Results'!E130)","v":85},{"$f":"IF('Oman Results'!F130=\"\",\"\",'Oman Results'!F130)","v":"L.F. "},{"$f":"IF(B130=\"\",\"\",IF(VLOOKUP(B130,'Oman Results'!C130:AI1123,31)=\"x\",'Oman Results'!AK130,'Oman Results'!G130))","v":14.32},1217.2,{"$f":"IF(B130=\"\",\"\",IF(VLOOKUP(B130,'Oman Results'!C130:AI1123,31)=\"x\",\"Yes\",\"\"))","v":""},{"$f":"IF(B130=\"\",\"\",IF(VLOOKUP(B130,'Oman Results'!C130:AI1123,31)=\"x\",'Oman Results'!G130,\"\"))","v":""},{"$f":"IF(B130=\"\",\"\",IF(VLOOKUP(B130,'Oman Results'!C130:AI1123,31)=\"x\",'Oman Results'!AJ130,\"\"))","v":""},{"$f":"IF(B130=\"\",\"\",IF(VLOOKUP(B130,'Oman Results'!C130:AI1123,31)=\"x\",'Oman Results'!AK130,\"\"))","v":""},null,null,"",{"$f":"IF(O130=1,G130,\"\")","v":""},"",{"$f":"IF(O130=1,\"\",H130)","v":1217.2}]
[130,{"$f":"IF('Oman Results'!C131=\"\",\"\",'Oman Results'!C131)","v":"801-08401           "},{"$f":"IF(OR('Oman Results'!D131=\"\",'Oman Results'!D131=\"Totals\"),\"\",'Oman Results'!D131)","v":"TEMPORARY TRAFFIC BARRIER, TYPE 2                                                                   "},{"$f":"IF(ISNUMBER(SEARCH(\"{\",C131)),\"Yes\", \"\")","v":""},{"$f":"IF('Oman Results'!E131=\"\",\"\",'Oman Results'!E131)","v":9500},{"$f":"IF('Oman Results'!F131=\"\",\"\",'Oman Results'!F131)","v":"L.F. "},{"$f":"IF(B131=\"\",\"\",IF(VLOOKUP(B131,'Oman Results'!C131:AI1124,31)=\"x\",'Oman Results'!AK131,'Oman Results'!G131))","v":19.45},{"$f":"IF(E131=\"\",\"\",E131*G131)","v":184775},{"$f":"IF(B131=\"\",\"\",IF(VLOOKUP(B131,'Oman Results'!C131:AI1124,31)=\"x\",\"Yes\",\"\"))","v":""},{"$f":"IF(B131=\"\",\"\",IF(VLOOKUP(B131,'Oman Results'!C131:AI1124,31)=\"x\",'Oman Results'!G131,\"\"))","v":""},{"$f":"IF(B131=\"\",\"\",IF(VLOOKUP(B131,'Oman Results'!C131:AI1124,31)=\"x\",'Oman Results'!AJ131,\"\"))","v":""},{"$f":"IF(B131=\"\",\"\",IF(VLOOKUP(B131,'Oman Results'!C131:AI1124,31)=\"x\",'Oman Results'!AK131,\"\"))","v":""},null,null,{"$f":"IF(OR(LEFT(F131,3)=\"L.S\",LEFT(F131,2)=\"LS\"),1,\"\")","v":""},"",{"$f":"IF(I131=\"Yes\",G131,\"\")","v":""},184775]
[{"$f":"IF(B132=\"\",\"\",1+A131)","v":131},{"$f":"IF('Oman Results'!C132=\"\",\"\",'Oman Results'!C132)","v":"802-02158           "},{"$f":"IF(OR('Oman Results'!D132=\"\",'Oman Results'!D132=\"Totals\"),\"\",'Oman Results'!D132)","v":"SIGN, PANEL, REMOVE AND REINSTALL                                                                   "},"",{"$f":"IF('Oman Results'!E132=\"\",\"\",'Oman Results'!E132)","v":1},{"$f":"IF('Oman Results'!F132=\"\",\"\",'Oman Results'!F132)","v":"EACH "},{"$f":"IF(B132=\"\",\"\",IF(VLOOKUP(B132,'Oman Results'!C132:AI1125,31)=\"x\",'Oman Results'!AK132,'Oman Results'!G132))","v":412.5},412.5,{"$f":"IF(B132=\"\",\"\",IF(VLOOKUP(B132,'Oman Results'!C132:AI1125,31)=\"x\",\"Yes\",\"\"))","v":""},{"$f":"IF(B132=\"\",\"\",IF(VLOOKUP(B132,'Oman Results'!C132:AI1125,31)=\"x\",'Oman Results'!G132,\"\"))","v":""},{"$f":"IF(B132=\"\",\"\",IF(VLOOKUP(B132,'Oman Results'!C132:AI1125,31)=\"x\",'Oman Results'!AJ132,\"\"))","v":""},{"$f":"IF(B132=\"\",\"\",IF(VLOOKUP(B132,'Oman Results'!C132:AI1125,31)=\"x\",'Oman Results'!AK132,\"\"))","v":""},null,null,"","","",412.5]
[132,{"$f":"IF('Oman Results'!C133=\"\",\"\",'Oman Results'!C133)","v":"802-03783           "},{"$f":"IF(OR('Oman Results'!D133=\"\",'Oman Results'!D133=\"Totals\"),\"\",'Oman Results'!D133)","v":"SIGN, PANEL, REMOVE                                                                                 "},"",{"$f":"IF('Oman Results'!E133=\"\",\"\",'Oman Results'!E133)","v":13},{"$f":"IF('Oman Results'!F133=\"\",\"\",'Oman Results'!F133)","v":"EACH "},{"$f":"IF(B133=\"\",\"\",IF(VLOOKUP(B133,'Oman Results'!C133:AI1126,31)=\"x\",'Oman Results'!AK133,'Oman Results'!G133))","v":135},1755,{"$f":"IF(B133=\"\",\"\",IF(VLOOKUP(B133,'Oman Results'!C133:AI1126,31)=\"x\",\"Yes\",\"\"))","v":""},{"$f":"IF(B133=\"\",\"\",IF(VLOOKUP(B133,'Oman Results'!C133:AI1126,31)=\"x\",'Oman Results'!G133,\"\"))","v":""},{"$f":"IF(B133=\"\",\"\",IF(VLOOKUP(B133,'Oman Results'!C133:AI1126,31)=\"x\",'Oman Results'!AJ133,\"\"))","v":""},{"$f":"IF(B133=\"\",\"\",IF(VLOOKUP(B133,'Oman Results'!C133:AI1126,31)=\"x\",'Oman Results'!AK133,\"\"))","v":""},null,null,"","","",1755]
[133,{"$f":"IF('Oman Results'!C134=\"\",\"\",'Oman Results'!C134)","v":"802-05701           "},{"$f":"IF(OR('Oman Results'!D134=\"\",'Oman Results'!D134=\"Totals\"),\"\",'Oman Results'!D134)","v":"SIGN POST, SQUARE, TYPE 1, REINFORCED ANCHOR BASE                                                   "},"",{"$f":"IF('Oman Results'!E134=\"\",\"\",'Oman Results'!E134)","v":45},{"$f":"IF('Oman Results'!F134=\"\",\"\",'Oman Results'!F134)","v":"L.F. "},{"$f":"IF(B134=\"\",\"\",IF(VLOOKUP(B134,'Oman Results'!C134:AI1127,31)=\"x\",'Oman Results'!AK134,'Oman Results'!G134))","v":11.08},498.6,{"$f":"IF(B134=\"\",\"\",IF(VLOOKUP(B134,'Oman Results'!C134:AI1127,31)=\"x\",\"Yes\",\"\"))","v":""},{"$f":"IF(B134=\"\",\"\",IF(VLOOKUP(B134,'Oman Results'!C134:AI1127,31)=\"x\",'Oman Results'!G134,\"\"))","v":""},{"$f":"IF(B134=\"\",\"\",IF(VLOOKUP(B134,'Oman Results'!C134:AI1127,31)=\"x\",'Oman Results'!AJ134,\"\"))","v":""},{"$f":"IF(B134=\"\",\"\",IF(VLOOKUP(B134,'Oman Results'!C134:AI1127,31)=\"x\",'Oman Results'!AK134,\"\"))","v":""},null,null,"","","",498.6]
[134,{"$f":"IF('Oman Results'!C135=\"\",\"\",'Oman Results'!C135)","v":"802-05702           "},{"$f":"IF(OR('Oman Results'!D135=\"\",'Oman Results'!D135=\"Totals\"),\"\",'Oman Results'!D135)","v":"SIGN POST, SQUARE, TYPE 2, REINFORCED ANCHOR BASE                                                   "},"",{"$f":"IF('Oman Results'!E135=\"\",\"\",'Oman Results'!E135)","v":350},{"$f":"IF('Oman Results'!F135=\"\",\"\",'Oman Results'!F135)","v":"L.F. "},{"$f":"IF(B135=\"\",\"\",IF(VLOOKUP(B135,'Oman Results'!C135:AI1128,31)=\"x\",'Oman Results'!AK135,'Oman Results'!G135))","v":13.42},4697,{"$f":"IF(B135=\"\",\"\",IF(VLOOKUP(B135,'Oman Results'!C135:AI1128,31)=\"x\",\"Yes\",\"\"))","v":""},{"$f":"IF(B135=\"\",\"\",IF(VLOOKUP(B135,'Oman Results'!C135:AI1128,31)=\"x\",'Oman Results'!G135,\"\"))","v":""},{"$f":"IF(B135=\"\",\"\",IF(VLOOKUP(B135,'Oman Results'!C135:AI1128,31)=\"x\",'Oman Results'!AJ135,\"\"))","v":""},{"$f":"IF(B135=\"\",\"\",IF(VLOOKUP(B135,'Oman Results'!C135:AI1128,31)=\"x\",'Oman Results'!AK135,\"\"))","v":""},null,null,"","","",4697]
[135,{"$f":"IF('Oman Results'!C136=\"\",\"\",'Oman Results'!C136)","v":"802-05703           "},{"$f":"IF(OR('Oman Results'!D136=\"\",'Oman Results'!D136=\"Totals\"),\"\",'Oman Results'!D136)","v":"SIGN POST, SQUARE, TYPE 3, REINFORCED ANCHOR BASE                                                   "},"",{"$f":"IF('Oman Results'!E136=\"\",\"\",'Oman Results'!E136)","v":56},{"$f":"IF('Oman Results'!F136=\"\",\"\",'Oman Results'!F136)","v":"L.F. "},{"$f":"IF(B136=\"\",\"\",IF(VLOOKUP(B136,'Oman Results'!C136:AI1129,31)=\"x\",'Oman Results'!AK136,'Oman Results'!G136))","v":20},1120,{"$f":"IF(B136=\"\",\"\",IF(VLOOKUP(B136,'Oman Results'!C136:AI1129,31)=\"x\",\"Yes\",\"\"))","v":""},{"$f":"IF(B136=\"\",\"\",IF(VLOOKUP(B136,'Oman Results'!C136:AI1129,31)=\"x\",'Oman Results'!G136,\"\"))","v":""},{"$f":"IF(B136=\"\",\"\",IF(VLOOKUP(B136,'Oman Results'!C136:AI1129,31)=\"x\",'Oman Results'!AJ136,\"\"))","v":""},{"$f":"IF(B136=\"\",\"\",IF(VLOOKUP(B136,'Oman Results'!C136:AI1129,31)=\"x\",'Oman Results'!AK136,\"\"))","v":""},null,null,"","","",1120]
[136,{"$f":"IF('Oman Results'!C137=\"\",\"\",'Oman Results'!C137)","v":"802-07057           "},{"$f":"IF(OR('Oman Results'!D137=\"\",'Oman Results'!D137=\"Totals\"),\"\",'Oman Results'!D137)","v":"SIGN, PANEL, WITH LEGEND                                                                            "},"",{"$f":"IF('Oman Results'!E137=\"\",\"\",'Oman Results'!E137)","v":1050},{"$f":"IF('Oman Results'!F137=\"\",\"\",'Oman Results'!F137)","v":"S.F. "},{"$f":"IF(B137=\"\",\"\",IF(VLOOKUP(B137,'Oman Results'!C137:AI1130,31)=\"x\",'Oman Results'!AK137,'Oman Results'!G137))","v":15.07},15823.5,{"$f":"IF(B137=\"\",\"\",IF(VLOOKUP(B137,'Oman Results'!C137:AI1130,31)=\"x\",\"Yes\",\"\"))","v":""},{"$f":"IF(B137=\"\",\"\",IF(VLOOKUP(B137,'Oman Results'!C137:AI1130,31)=\"x\",'Oman Results'!G137,\"\"))","v":""},{"$f":"IF(B137=\"\",\"\",IF(VLOOKUP(B137,'Oman Results'!C137:AI1130,31)=\"x\",'Oman Results'!AJ137,\"\"))","v":""},{"$f":"IF(B137=\"\",\"\",IF(VLOOKUP(B137,'Oman Results'!C137:AI1130,31)=\"x\",'Oman Results'!AK137,\"\"))","v":""},null,null,"","","",15823.5]
[137,{"$f":"IF('Oman Results'!C138=\"\",\"\",'Oman Results'!C138)","v":"802-09709           "},{"$f":"IF(OR('Oman Results'!D138=\"\",'Oman Results'!D138=\"Totals\"),\"\",'Oman Results'!D138)","v":"BOX TRUSS SIGN STRUCTURE FOUNDATION 33 IN HEIGHT                                                    "},"",{"$f":"IF('Oman Results'!E138=\"\",\"\",'Oman Results'!E138)","v":10},{"$f":"IF('Oman Results'!F138=\"\",\"\",'Oman Results'!F138)","v":"EACH "},{"$f":"IF(B138=\"\",\"\",IF(VLOOKUP(B138,'Oman Results'!C138:AI1131,31)=\"x\",'Oman Results'!AK138,'Oman Results'!G138))","v":0},0,{"$f":"IF(B138=\"\",\"\",IF(VLOOKUP(B138,'Oman Results'!C138:AI1131,31)=\"x\",\"Yes\",\"\"))","v":""},{"$f":"IF(B138=\"\",\"\",IF(VLOOKUP(B138,'Oman Results'!C138:AI1131,31)=\"x\",'Oman Results'!G138,\"\"))","v":""},{"$f":"IF(B138=\"\",\"\",IF(VLOOKUP(B138,'Oman Results'!C138:AI1131,31)=\"x\",'Oman Results'!AJ138,\"\"))","v":""},{"$f":"IF(B138=\"\",\"\",IF(VLOOKUP(B138,'Oman Results'!C138:AI1131,31)=\"x\",'Oman Results'!AK138,\"\"))","v":""},null,null,"","","",0]
[138,{"$f":"IF('Oman Results'!C139=\"\",\"\",'Oman Results'!C139)","v":"802-09715           "},{"$f":"IF(OR('Oman Results'!D139=\"\",'Oman Results'!D139=\"Totals\"),\"\",'Oman Results'!D139)","v":"OVERHEAD SIGN STRUCTURE, D                                                                          "},"",{"$f":"IF('Oman Results'!E139=\"\",\"\",'Oman Results'!E139)","v":5},{"$f":"IF('Oman Results'!F139=\"\",\"\",'Oman Results'!F139)","v":"EACH "},{"$f":"IF(B139=\"\",\"\",IF(VLOOKUP(B139,'Oman Results'!C139:AI1132,31)=\"x\",'Oman Results'!AK139,'Oman Results'!G139))","v":5000},25000,{"$f":"IF(B139=\"\",\"\",IF(VLOOKUP(B139,'Oman Results'!C139:AI1132,31)=\"x\",\"Yes\",\"\"))","v":""},{"$f":"IF(B139=\"\",\"\",IF(VLOOKUP(B139,'Oman Results'!C139:AI1132,31)=\"x\",'Oman Results'!G139,\"\"))","v":""},{"$f":"IF(B139=\"\",\"\",IF(VLOOKUP(B139,'Oman Results'!C139:AI1132,31)=\"x\",'Oman Results'!AJ139,\"\"))","v":""},{"$f":"IF(B139=\"\",\"\",IF(VLOOKUP(B139,'Oman Results'!C139:AI1132,31)=\"x\",'Oman Results'!AK139,\"\"))","v":""},null,null,"","","",25000]
[139,{"$f":"IF('Oman Results'!C140=\"\",\"\",'Oman Results'!C140)","v":"802-09838           "},{"$f":"IF(OR('Oman Results'!D140=\"\",'Oman Results'!D140=\"Totals\"),\"\",'Oman Results'!D140)","v":"SIGN, SHEET, WITH LEGEND 0.080\"                                                                     "},"",{"$f":"IF('Oman Results'!E140=\"\",\"\",'Oman Results'!E140)","v":210},{"$f":"IF('Oman Results'!F140=\"\",\"\",'Oman Results'!F140)","v":"S.F. "},{"$f":"IF(B140=\"\",\"\",IF(VLOOKUP(B140,'Oman Results'!C140:AI1133,31)=\"x\",'Oman Results'!AK140,'Oman Results'!G140))","v":10.220000000000001},2146.2000000000003,{"$f":"IF(B140=\"\",\"\",IF(VLOOKUP(B140,'Oman Results'!C140:AI1133,31)=\"x\",\"Yes\",\"\"))","v":""},{"$f":"IF(B140=\"\",\"\",IF(VLOOKUP(B140,'Oman Results'!C140:AI1133,31)=\"x\",'Oman Results'!G140,\"\"))","v":""},{"$f":"IF(B140=\"\",\"\",IF(VLOOKUP(B140,'Oman Results'!C140:AI1133,31)=\"x\",'Oman Results'!AJ140,\"\"))","v":""},{"$f":"IF(B140=\"\",\"\",IF(VLOOKUP(B140,'Oman Results'!C140:AI1133,31)=\"x\",'Oman Results'!AK140,\"\"))","v":""},null,null,"","","",2146.2000000000003]
[140,{"$f":"IF('Oman Results'!C141=\"\",\"\",'Oman Results'!C141)","v":"802-09840           "},{"$f":"IF(OR('Oman Results'!D141=\"\",'Oman Results'!D141=\"Totals\"),\"\",'Oman Results'!D141)","v":"SIGN, SHEET, WITH LEGEND 0.100 IN THICKNESS                                                         "},"",{"$f":"IF('Oman Results'!E141=\"\",\"\",'Oman Results'!E141)","v":44},{"$f":"IF('Oman Results'!F141=\"\",\"\",'Oman Results'!F141)","v":"S.F. "},{"$f":"IF(B141=\"\",\"\",IF(VLOOKUP(B141,'Oman Results'!C141:AI1134,31)=\"x\",'Oman Results'!AK141,'Oman Results'!G141))","v":10.18},447.91999999999996,{"$f":"IF(B141=\"\",\"\",IF(VLOOKUP(B141,'Oman Results'!C141:AI1134,31)=\"x\",\"Yes\",\"\"))","v":""},{"$f":"IF(B141=\"\",\"\",IF(VLOOKUP(B141,'Oman Results'!C141:AI1134,31)=\"x\",'Oman Results'!G141,\"\"))","v":""},{"$f":"IF(B141=\"\",\"\",IF(VLOOKUP(B141,'Oman Results'!C141:AI1134,31)=\"x\",'Oman Results'!AJ141,\"\"))","v":""},{"$f":"IF(B141=\"\",\"\",IF(VLOOKUP(B141,'Oman Results'!C141:AI1134,31)=\"x\",'Oman Results'!AK141,\"\"))","v":""},null,null,"","","",447.91999999999996]
[141,{"$f":"IF('Oman Results'!C142=\"\",\"\",'Oman Results'!C142)","v":"804-06725           "},{"$f":"IF(OR('Oman Results'!D142=\"\",'Oman Results'!D142=\"Totals\"),\"\",'Oman Results'!D142)","v":"DELINEATOR WITH POST, D1                                                                            "},"",{"$f":"IF('Oman Results'!E142=\"\",\"\",'Oman Results'!E142)","v":130},{"$f":"IF('Oman Results'!F142=\"\",\"\",'Oman Results'!F142)","v":"EACH "},{"$f":"IF(B142=\"\",\"\",IF(VLOOKUP(B142,'Oman Results'!C142:AI1135,31)=\"x\",'Oman Results'!AK142,'Oman Results'!G142))","v":27},3510,{"$f":"IF(B142=\"\",\"\",IF(VLOOKUP(B142,'Oman Results'!C142:AI1135,31)=\"x\",\"Yes\",\"\"))","v":""},{"$f":"IF(B142=\"\",\"\",IF(VLOOKUP(B142,'Oman Results'!C142:AI1135,31)=\"x\",'Oman Results'!G142,\"\"))","v":""},{"$f":"IF(B142=\"\",\"\",IF(VLOOKUP(B142,'Oman Results'!C142:AI1135,31)=\"x\",'Oman Results'!AJ142,\"\"))","v":""},{"$f":"IF(B142=\"\",\"\",IF(VLOOKUP(B142,'Oman Results'!C142:AI1135,31)=\"x\",'Oman Results'!AK142,\"\"))","v":""},null,null,"","","",3510]
[142,{"$f":"IF('Oman Results'!C143=\"\",\"\",'Oman Results'!C143)","v":"804-06771           "},{"$f":"IF(OR('Oman Results'!D143=\"\",'Oman Results'!D143=\"Totals\"),\"\",'Oman Results'!D143)","v":"DELINEATOR POST, FLEXIBLE                                                                           "},"",{"$f":"IF('Oman Results'!E143=\"\",\"\",'Oman Results'!E143)","v":75},{"$f":"IF('Oman Results'!F143=\"\",\"\",'Oman Results'!F143)","v":"EACH "},{"$f":"IF(B143=\"\",\"\",IF(VLOOKUP(B143,'Oman Results'!C143:AI1136,31)=\"x\",'Oman Results'!AK143,'Oman Results'!G143))","v":43.18},3238.5,{"$f":"IF(B143=\"\",\"\",IF(VLOOKUP(B143,'Oman Results'!C143:AI1136,31)=\"x\",\"Yes\",\"\"))","v":""},{"$f":"IF(B143=\"\",\"\",IF(VLOOKUP(B143,'Oman Results'!C143:AI1136,31)=\"x\",'Oman Results'!G143,\"\"))","v":""},{"$f":"IF(B143=\"\",\"\",IF(VLOOKUP(B143,'Oman Results'!C143:AI1136,31)=\"x\",'Oman Results'!AJ143,\"\"))","v":""},{"$f":"IF(B143=\"\",\"\",IF(VLOOKUP(B143,'Oman Results'!C143:AI1136,31)=\"x\",'Oman Results'!AK143,\"\"))","v":""},null,null,"","","",3238.5]
[143,{"$f":"IF('Oman Results'!C144=\"\",\"\",'Oman Results'!C144)","v":"805-02328           "},{"$f":"IF(OR('Oman Results'!D144=\"\",'Oman Results'!D144=\"Totals\"),\"\",'Oman Results'!D144)","v":"SIGNAL CABLE, 1C/14 GA                                                                              "},"",{"$f":"IF('Oman Results'!E144=\"\",\"\",'Oman Results'!E144)","v":800},{"$f":"IF('Oman Results'!F144=\"\",\"\",'Oman Results'!F144)","v":"L.F. "},{"$f":"IF(B144=\"\",\"\",IF(VLOOKUP(B144,'Oman Results'!C144:AI1137,31)=\"x\",'Oman Results'!AK144,'Oman Results'!G144))","v":0.32},256,{"$f":"IF(B144=\"\",\"\",IF(VLOOKUP(B144,'Oman Results'!C144:AI1137,31)=\"x\",\"Yes\",\"\"))","v":""},{"$f":"IF(B144=\"\",\"\",IF(VLOOKUP(B144,'Oman Results'!C144:AI1137,31)=\"x\",'Oman Results'!G144,\"\"))","v":""},{"$f":"IF(B144=\"\",\"\",IF(VLOOKUP(B144,'Oman Results'!C144:AI1137,31)=\"x\",'Oman Results'!AJ144,\"\"))","v":""},{"$f":"IF(B144=\"\",\"\",IF(VLOOKUP(B144,'Oman Results'!C144:AI1137,31)=\"x\",'Oman Results'!AK144,\"\"))","v":""},null,null,"","","",256]
[144,{"$f":"IF('Oman Results'!C145=\"\",\"\",'Oman Results'!C145)","v":"805-09042           "},{"$f":"IF(OR('Oman Results'!D145=\"\",'Oman Results'!D145=\"Totals\"),\"\",'Oman Results'!D145)","v":"Item Not Found in the Current Pay Item                                                              "},"",{"$f":"IF('Oman Results'!E145=\"\",\"\",'Oman Results'!E145)","v":230},{"$f":"IF('Oman Results'!F145=\"\",\"\",'Oman Results'!F145)","v":"L.F. "},{"$f":"IF(B145=\"\",\"\",IF(VLOOKUP(B145,'Oman Results'!C145:AI1138,31)=\"x\",'Oman Results'!AK145,'Oman Results'!G145))","v":0.7},161,{"$f":"IF(B145=\"\",\"\",IF(VLOOKUP(B145,'Oman Results'!C145:AI1138,31)=\"x\",\"Yes\",\"\"))","v":""},{"$f":"IF(B145=\"\",\"\",IF(VLOOKUP(B145,'Oman Results'!C145:AI1138,31)=\"x\",'Oman Results'!G145,\"\"))","v":""},{"$f":"IF(B145=\"\",\"\",IF(VLOOKUP(B145,'Oman Results'!C145:AI1138,31)=\"x\",'Oman Results'!AJ145,\"\"))","v":""},{"$f":"IF(B145=\"\",\"\",IF(VLOOKUP(B145,'Oman Results'!C145:AI1138,31)=\"x\",'Oman Results'!AK145,\"\"))","v":""},null,null,"","","",161]
[145,{"$f":"IF('Oman Results'!C146=\"\",\"\",'Oman Results'!C146)","v":"805-78205           "},{"$f":"IF(OR('Oman Results'!D146=\"\",'Oman Results'!D146=\"Totals\"),\"\",'Oman Results'!D146)","v":"TRAFFIC SIGNAL HEAD, 3 FACE, 12 IN RED, AMBER, GREEN                                                "},"",{"$f":"IF('Oman Results'!E146=\"\",\"\",'Oman Results'!E146)","v":2},{"$f":"IF('Oman Results'!F146=\"\",\"\",'Oman Results'!F146)","v":"EACH "},{"$f":"IF(B146=\"\",\"\",IF(VLOOKUP(B146,'Oman Results'!C146:AI1139,31)=\"x\",'Oman Results'!AK146,'Oman Results'!G146))","v":527.76},1055.52,{"$f":"IF(B146=\"\",\"\",IF(VLOOKUP(B146,'Oman Results'!C146:AI1139,31)=\"x\",\"Yes\",\"\"))","v":""},{"$f":"IF(B146=\"\",\"\",IF(VLOOKUP(B146,'Oman Results'!C146:AI1139,31)=\"x\",'Oman Results'!G146,\"\"))","v":""},{"$f":"IF(B146=\"\",\"\",IF(VLOOKUP(B146,'Oman Results'!C146:AI1139,31)=\"x\",'Oman Results'!AJ146,\"\"))","v":""},{"$f":"IF(B146=\"\",\"\",IF(VLOOKUP(B146,'Oman Results'!C146:AI1139,31)=\"x\",'Oman Results'!AK146,\"\"))","v":""},null,null,"","","",1055.52]
[146,{"$f":"IF('Oman Results'!C147=\"\",\"\",'Oman Results'!C147)","v":"805-78485           "},{"$f":"IF(OR('Oman Results'!D147=\"\",'Oman Results'!D147=\"Totals\"),\"\",'Oman Results'!D147)","v":"SIGNAL CABLE, 5C/14GA                                                                               "},"",{"$f":"IF('Oman Results'!E147=\"\",\"\",'Oman Results'!E147)","v":175},{"$f":"IF('Oman Results'!F147=\"\",\"\",'Oman Results'!F147)","v":"L.F. "},{"$f":"IF(B147=\"\",\"\",IF(VLOOKUP(B147,'Oman Results'!C147:AI1140,31)=\"x\",'Oman Results'!AK147,'Oman Results'!G147))","v":1.68},294,{"$f":"IF(B147=\"\",\"\",IF(VLOOKUP(B147,'Oman Results'!C147:AI1140,31)=\"x\",\"Yes\",\"\"))","v":""},{"$f":"IF(B147=\"\",\"\",IF(VLOOKUP(B147,'Oman Results'!C147:AI1140,31)=\"x\",'Oman Results'!G147,\"\"))","v":""},{"$f":"IF(B147=\"\",\"\",IF(VLOOKUP(B147,'Oman Results'!C147:AI1140,31)=\"x\",'Oman Results'!AJ147,\"\"))","v":""},{"$f":"IF(B147=\"\",\"\",IF(VLOOKUP(B147,'Oman Results'!C147:AI1140,31)=\"x\",'Oman Results'!AK147,\"\"))","v":""},null,null,"","","",294]
[147,{"$f":"IF('Oman Results'!C148=\"\",\"\",'Oman Results'!C148)","v":"805-78490           "},{"$f":"IF(OR('Oman Results'!D148=\"\",'Oman Results'!D148=\"Totals\"),\"\",'Oman Results'!D148)","v":"SIGNAL CABLE, 7C/14GA                                                                               "},"",{"$f":"IF('Oman Results'!E148=\"\",\"\",'Oman Results'!E148)","v":210},{"$f":"IF('Oman Results'!F148=\"\",\"\",'Oman Results'!F148)","v":"L.F. "},{"$f":"IF(B148=\"\",\"\",IF(VLOOKUP(B148,'Oman Results'!C148:AI1141,31)=\"x\",'Oman Results'!AK148,'Oman Results'!G148))","v":1.78},373.8,{"$f":"IF(B148=\"\",\"\",IF(VLOOKUP(B148,'Oman Results'!C148:AI1141,31)=\"x\",\"Yes\",\"\"))","v":""},{"$f":"IF(B148=\"\",\"\",IF(VLOOKUP(B148,'Oman Results'!C148:AI1141,31)=\"x\",'Oman Results'!G148,\"\"))","v":""},{"$f":"IF(B148=\"\",\"\",IF(VLOOKUP(B148,'Oman Results'!C148:AI1141,31)=\"x\",'Oman Results'!AJ148,\"\"))","v":""},{"$f":"IF(B148=\"\",\"\",IF(VLOOKUP(B148,'Oman Results'!C148:AI1141,31)=\"x\",'Oman Results'!AK148,\"\"))","v":""},null,null,"","","",373.8]
[148,{"$f":"IF('Oman Results'!C149=\"\",\"\",'Oman Results'!C149)","v":"805-78510           "},{"$f":"IF(OR('Oman Results'!D149=\"\",'Oman Results'!D149=\"Totals\"),\"\",'Oman Results'!D149)","v":"SIGNAL CABLE, 2C/16GA., SHIELDED                                                                    "},"",{"$f":"IF('Oman Results'!E149=\"\",\"\",'Oman Results'!E149)","v":645},{"$f":"IF('Oman Results'!F149=\"\",\"\",'Oman Results'!F149)","v":"L.F. "},{"$f":"IF(B149=\"\",\"\",IF(VLOOKUP(B149,'Oman Results'!C149:AI1142,31)=\"x\",'Oman Results'!AK149,'Oman Results'!G149))","v":0.97},625.65,{"$f":"IF(B149=\"\",\"\",IF(VLOOKUP(B149,'Oman Results'!C149:AI1142,31)=\"x\",\"Yes\",\"\"))","v":""},{"$f":"IF(B149=\"\",\"\",IF(VLOOKUP(B149,'Oman Results'!C149:AI1142,31)=\"x\",'Oman Results'!G149,\"\"))","v":""},{"$f":"IF(B149=\"\",\"\",IF(VLOOKUP(B149,'Oman Results'!C149:AI1142,31)=\"x\",'Oman Results'!AJ149,\"\"))","v":""},{"$f":"IF(B149=\"\",\"\",IF(VLOOKUP(B149,'Oman Results'!C149:AI1142,31)=\"x\",'Oman Results'!AK149,\"\"))","v":""},null,null,"","","",625.65]
[149,{"$f":"IF('Oman Results'!C150=\"\",\"\",'Oman Results'!C150)","v":"805-78785           "},{"$f":"IF(OR('Oman Results'!D150=\"\",'Oman Results'!D150=\"Totals\"),\"\",'Oman Results'!D150)","v":"SIGNAL DETECTOR HOUSING                                                                             "},"",{"$f":"IF('Oman Results'!E150=\"\",\"\",'Oman Results'!E150)","v":2},{"$f":"IF('Oman Results'!F150=\"\",\"\",'Oman Results'!F150)","v":"EACH "},{"$f":"IF(B150=\"\",\"\",IF(VLOOKUP(B150,'Oman Results'!C150:AI1143,31)=\"x\",'Oman Results'!AK150,'Oman Results'!G150))","v":655.21},1310.42,{"$f":"IF(B150=\"\",\"\",IF(VLOOKUP(B150,'Oman Results'!C150:AI1143,31)=\"x\",\"Yes\",\"\"))","v":""},{"$f":"IF(B150=\"\",\"\",IF(VLOOKUP(B150,'Oman Results'!C150:AI1143,31)=\"x\",'Oman Results'!G150,\"\"))","v":""},{"$f":"IF(B150=\"\",\"\",IF(VLOOKUP(B150,'Oman Results'!C150:AI1143,31)=\"x\",'Oman Results'!AJ150,\"\"))","v":""},{"$f":"IF(B150=\"\",\"\",IF(VLOOKUP(B150,'Oman Results'!C150:AI1143,31)=\"x\",'Oman Results'!AK150,\"\"))","v":""},null,null,"","","",1310.42]
[150,{"$f":"IF('Oman Results'!C151=\"\",\"\",'Oman Results'!C151)","v":"805-78795           "},{"$f":"IF(OR('Oman Results'!D151=\"\",'Oman Results'!D151=\"Totals\"),\"\",'Oman Results'!D151)","v":"SAW CUT FOR ROADWAY LOOP AND SEALANT                                                                "},"",{"$f":"IF('Oman Results'!E151=\"\",\"\",'Oman Results'!E151)","v":232},{"$f":"IF('Oman Results'!F151=\"\",\"\",'Oman Results'!F151)","v":"L.F. "},{"$f":"IF(B151=\"\",\"\",IF(VLOOKUP(B151,'Oman Results'!C151:AI1144,31)=\"x\",'Oman Results'!AK151,'Oman Results'!G151))","v":7.65},1774.8000000000002,{"$f":"IF(B151=\"\",\"\",IF(VLOOKUP(B151,'Oman Results'!C151:AI1144,31)=\"x\",\"Yes\",\"\"))","v":""},{"$f":"IF(B151=\"\",\"\",IF(VLOOKUP(B151,'Oman Results'!C151:AI1144,31)=\"x\",'Oman Results'!G151,\"\"))","v":""},{"$f":"IF(B151=\"\",\"\",IF(VLOOKUP(B151,'Oman Results'!C151:AI1144,31)=\"x\",'Oman Results'!AJ151,\"\"))","v":""},{"$f":"IF(B151=\"\",\"\",IF(VLOOKUP(B151,'Oman Results'!C151:AI1144,31)=\"x\",'Oman Results'!AK151,\"\"))","v":""},null,null,"","","",1774.8000000000002]
[151,{"$f":"IF('Oman Results'!C152=\"\",\"\",'Oman Results'!C152)","v":"805-92504           "},{"$f":"IF(OR('Oman Results'!D152=\"\",'Oman Results'!D152=\"Totals\"),\"\",'Oman Results'!D152)","v":"LOOP DETECTOR DELAY AMPLIFIER, 2 CHANNEL                                                            "},"",{"$f":"IF('Oman Results'!E152=\"\",\"\",'Oman Results'!E152)","v":2},{"$f":"IF('Oman Results'!F152=\"\",\"\",'Oman Results'!F152)","v":"EACH "},{"$f":"IF(B152=\"\",\"\",IF(VLOOKUP(B152,'Oman Results'!C152:AI1145,31)=\"x\",'Oman Results'!AK152,'Oman Results'!G152))","v":236.84},473.68,{"$f":"IF(B152=\"\",\"\",IF(VLOOKUP(B152,'Oman Results'!C152:AI1145,31)=\"x\",\"Yes\",\"\"))","v":""},{"$f":"IF(B152=\"\",\"\",IF(VLOOKUP(B152,'Oman Results'!C152:AI1145,31)=\"x\",'Oman Results'!G152,\"\"))","v":""},{"$f":"IF(B152=\"\",\"\",IF(VLOOKUP(B152,'Oman Results'!C152:AI1145,31)=\"x\",'Oman Results'!AJ152,\"\"))","v":""},{"$f":"IF(B152=\"\",\"\",IF(VLOOKUP(B152,'Oman Results'!C152:AI1145,31)=\"x\",'Oman Results'!AK152,\"\"))","v":""},null,null,"","","",473.68]
[152,{"$f":"IF('Oman Results'!C153=\"\",\"\",'Oman Results'!C153)","v":"807-01122           "},{"$f":"IF(OR('Oman Results'!D153=\"\",'Oman Results'!D153=\"Totals\"),\"\",'Oman Results'!D153)","v":"LIGHT POLE, HIGH MAST, RELOCATE                                                                     "},"",{"$f":"IF('Oman Results'!E153=\"\",\"\",'Oman Results'!E153)","v":1},{"$f":"IF('Oman Results'!F153=\"\",\"\",'Oman Results'!F153)","v":"EACH "},{"$f":"IF(B153=\"\",\"\",IF(VLOOKUP(B153,'Oman Results'!C153:AI1146,31)=\"x\",'Oman Results'!AK153,'Oman Results'!G153))","v":1520},1520,{"$f":"IF(B153=\"\",\"\",IF(VLOOKUP(B153,'Oman Results'!C153:AI1146,31)=\"x\",\"Yes\",\"\"))","v":""},{"$f":"IF(B153=\"\",\"\",IF(VLOOKUP(B153,'Oman Results'!C153:AI1146,31)=\"x\",'Oman Results'!G153,\"\"))","v":""},{"$f":"IF(B153=\"\",\"\",IF(VLOOKUP(B153,'Oman Results'!C153:AI1146,31)=\"x\",'Oman Results'!AJ153,\"\"))","v":""},{"$f":"IF(B153=\"\",\"\",IF(VLOOKUP(B153,'Oman Results'!C153:AI1146,31)=\"x\",'Oman Results'!AK153,\"\"))","v":""},null,null,"","","",1520]
[153,{"$f":"IF('Oman Results'!C154=\"\",\"\",'Oman Results'!C154)","v":"807-01606           "},{"$f":"IF(OR('Oman Results'!D154=\"\",'Oman Results'!D154=\"Totals\"),\"\",'Oman Results'!D154)","v":"HIGH MAST TOWER WINCH DRIVE                                                                         "},"",{"$f":"IF('Oman Results'!E154=\"\",\"\",'Oman Results'!E154)","v":1},{"$f":"IF('Oman Results'!F154=\"\",\"\",'Oman Results'!F154)","v":"EACH "},{"$f":"IF(B154=\"\",\"\",IF(VLOOKUP(B154,'Oman Results'!C154:AI1147,31)=\"x\",'Oman Results'!AK154,'Oman Results'!G154))","v":2534},2534,{"$f":"IF(B154=\"\",\"\",IF(VLOOKUP(B154,'Oman Results'!C154:AI1147,31)=\"x\",\"Yes\",\"\"))","v":""},{"$f":"IF(B154=\"\",\"\",IF(VLOOKUP(B154,'Oman Results'!C154:AI1147,31)=\"x\",'Oman Results'!G154,\"\"))","v":""},{"$f":"IF(B154=\"\",\"\",IF(VLOOKUP(B154,'Oman Results'!C154:AI1147,31)=\"x\",'Oman Results'!AJ154,\"\"))","v":""},{"$f":"IF(B154=\"\",\"\",IF(VLOOKUP(B154,'Oman Results'!C154:AI1147,31)=\"x\",'Oman Results'!AK154,\"\"))","v":""},null,null,"","","",2534]
[154,{"$f":"IF('Oman Results'!C155=\"\",\"\",'Oman Results'!C155)","v":"807-02191           "},{"$f":"IF(OR('Oman Results'!D155=\"\",'Oman Results'!D155=\"Totals\"),\"\",'Oman Results'!D155)","v":"HANDHOLE, LIGHTING                                                                                  "},"",{"$f":"IF('Oman Results'!E155=\"\",\"\",'Oman Results'!E155)","v":10},{"$f":"IF('Oman Results'!F155=\"\",\"\",'Oman Results'!F155)","v":"EACH "},{"$f":"IF(B155=\"\",\"\",IF(VLOOKUP(B155,'Oman Results'!C155:AI1148,31)=\"x\",'Oman Results'!AK155,'Oman Results'!G155))","v":741.36},7413.6,{"$f":"IF(B155=\"\",\"\",IF(VLOOKUP(B155,'Oman Results'!C155:AI1148,31)=\"x\",\"Yes\",\"\"))","v":""},{"$f":"IF(B155=\"\",\"\",IF(VLOOKUP(B155,'Oman Results'!C155:AI1148,31)=\"x\",'Oman Results'!G155,\"\"))","v":""},{"$f":"IF(B155=\"\",\"\",IF(VLOOKUP(B155,'Oman Results'!C155:AI1148,31)=\"x\",'Oman Results'!AJ155,\"\"))","v":""},{"$f":"IF(B155=\"\",\"\",IF(VLOOKUP(B155,'Oman Results'!C155:AI1148,31)=\"x\",'Oman Results'!AK155,\"\"))","v":""},null,null,"","","",7413.6]
[155,{"$f":"IF('Oman Results'!C156=\"\",\"\",'Oman Results'!C156)","v":"807-02193           "},{"$f":"IF(OR('Oman Results'!D156=\"\",'Oman Results'!D156=\"Totals\"),\"\",'Oman Results'!D156)","v":"LIGHT STANDARD FOUNDATION, 3FT DIAMETER X 8FT                                                       "},"",{"$f":"IF('Oman Results'!E156=\"\",\"\",'Oman Results'!E156)","v":17},{"$f":"IF('Oman Results'!F156=\"\",\"\",'Oman Results'!F156)","v":"EACH "},{"$f":"IF(B156=\"\",\"\",IF(VLOOKUP(B156,'Oman Results'!C156:AI1149,31)=\"x\",'Oman Results'!AK156,'Oman Results'!G156))","v":825.62},14035.54,{"$f":"IF(B156=\"\",\"\",IF(VLOOKUP(B156,'Oman Results'!C156:AI1149,31)=\"x\",\"Yes\",\"\"))","v":""},{"$f":"IF(B156=\"\",\"\",IF(VLOOKUP(B156,'Oman Results'!C156:AI1149,31)=\"x\",'Oman Results'!G156,\"\"))","v":""},{"$f":"IF(B156=\"\",\"\",IF(VLOOKUP(B156,'Oman Results'!C156:AI1149,31)=\"x\",'Oman Results'!AJ156,\"\"))","v":""},{"$f":"IF(B156=\"\",\"\",IF(VLOOKUP(B156,'Oman Results'!C156:AI1149,31)=\"x\",'Oman Results'!AK156,\"\"))","v":""},null,null,"","","",14035.54]
[156,{"$f":"IF('Oman Results'!C157=\"\",\"\",'Oman Results'!C157)","v":"807-02822           "},{"$f":"IF(OR('Oman Results'!D157=\"\",'Oman Results'!D157=\"Totals\"),\"\",'Oman Results'!D157)","v":"LIGHT POLE, STEEL, RELOCATE                                                                         "},"",{"$f":"IF('Oman Results'!E157=\"\",\"\",'Oman Results'!E157)","v":17},{"$f":"IF('Oman Results'!F157=\"\",\"\",'Oman Results'!F157)","v":"EACH "},{"$f":"IF(B157=\"\",\"\",IF(VLOOKUP(B157,'Oman Results'!C157:AI1150,31)=\"x\",'Oman Results'!AK157,'Oman Results'!G157))","v":1550},26350,{"$f":"IF(B157=\"\",\"\",IF(VLOOKUP(B157,'Oman Results'!C157:AI1150,31)=\"x\",\"Yes\",\"\"))","v":""},{"$f":"IF(B157=\"\",\"\",IF(VLOOKUP(B157,'Oman Results'!C157:AI1150,31)=\"x\",'Oman Results'!G157,\"\"))","v":""},{"$f":"IF(B157=\"\",\"\",IF(VLOOKUP(B157,'Oman Results'!C157:AI1150,31)=\"x\",'Oman Results'!AJ157,\"\"))","v":""},{"$f":"IF(B157=\"\",\"\",IF(VLOOKUP(B157,'Oman Results'!C157:AI1150,31)=\"x\",'Oman Results'!AK157,\"\"))","v":""},null,null,"","","",26350]
[157,{"$f":"IF('Oman Results'!C158=\"\",\"\",'Oman Results'!C158)","v":"807-06592           "},{"$f":"IF(OR('Oman Results'!D158=\"\",'Oman Results'!D158=\"Totals\"),\"\",'Oman Results'!D158)","v":"CONDUIT, STEEL, GALVANIZED, 2 IN                                                                    "},"",{"$f":"IF('Oman Results'!E158=\"\",\"\",'Oman Results'!E158)","v":414},{"$f":"IF('Oman Results'!F158=\"\",\"\",'Oman Results'!F158)","v":"L.F. "},{"$f":"IF(B158=\"\",\"\",IF(VLOOKUP(B158,'Oman Results'!C158:AI1151,31)=\"x\",'Oman Results'!AK158,'Oman Results'!G158))","v":13.62},5638.6799999999994,{"$f":"IF(B158=\"\",\"\",IF(VLOOKUP(B158,'Oman Results'!C158:AI1151,31)=\"x\",\"Yes\",\"\"))","v":""},{"$f":"IF(B158=\"\",\"\",IF(VLOOKUP(B158,'Oman Results'!C158:AI1151,31)=\"x\",'Oman Results'!G158,\"\"))","v":""},{"$f":"IF(B158=\"\",\"\",IF(VLOOKUP(B158,'Oman Results'!C158:AI1151,31)=\"x\",'Oman Results'!AJ158,\"\"))","v":""},{"$f":"IF(B158=\"\",\"\",IF(VLOOKUP(B158,'Oman Results'!C158:AI1151,31)=\"x\",'Oman Results'!AK158,\"\"))","v":""},null,null,"","","",5638.6799999999994]
[158,{"$f":"IF('Oman Results'!C159=\"\",\"\",'Oman Results'!C159)","v":"807-09637           "},{"$f":"IF(OR('Oman Results'!D159=\"\",'Oman Results'!D159=\"Totals\"),\"\",'Oman Results'!D159)","v":"WIRE, NO 6 COPPER IN PLASTIC DUCT, IN CONDUIT 4 1/C                                                 "},"",{"$f":"IF('Oman Results'!E159=\"\",\"\",'Oman Results'!E159)","v":330},{"$f":"IF('Oman Results'!F159=\"\",\"\",'Oman Results'!F159)","v":"L.F. "},{"$f":"IF(B159=\"\",\"\",IF(VLOOKUP(B159,'Oman Results'!C159:AI1152,31)=\"x\",'Oman Results'!AK159,'Oman Results'!G159))","v":10},3300,{"$f":"IF(B159=\"\",\"\",IF(VLOOKUP(B159,'Oman Results'!C159:AI1152,31)=\"x\",\"Yes\",\"\"))","v":""},{"$f":"IF(B159=\"\",\"\",IF(VLOOKUP(B159,'Oman Results'!C159:AI1152,31)=\"x\",'Oman Results'!G159,\"\"))","v":""},{"$f":"IF(B159=\"\",\"\",IF(VLOOKUP(B159,'Oman Results'!C159:AI1152,31)=\"x\",'Oman Results'!AJ159,\"\"))","v":""},{"$f":"IF(B159=\"\",\"\",IF(VLOOKUP(B159,'Oman Results'!C159:AI1152,31)=\"x\",'Oman Results'!AK159,\"\"))","v":""},null,null,"","","",3300]
[159,{"$f":"IF('Oman Results'!C160=\"\",\"\",'Oman Results'!C160)","v":"807-09638           "},{"$f":"IF(OR('Oman Results'!D160=\"\",'Oman Results'!D160=\"Totals\"),\"\",'Oman Results'!D160)","v":"WIRE, NO 6 COPPER IN PLASTIC DUCT, IN TRENCH, 4 1/C                                                 "},"",{"$f":"IF('Oman Results'!E160=\"\",\"\",'Oman Results'!E160)","v":6200},{"$f":"IF('Oman Results'!F160=\"\",\"\",'Oman Results'!F160)","v":"L.F. "},{"$f":"IF(B160=\"\",\"\",IF(VLOOKUP(B160,'Oman Results'!C160:AI1153,31)=\"x\",'Oman Results'!AK160,'Oman Results'!G160))","v":8},49600,{"$f":"IF(B160=\"\",\"\",IF(VLOOKUP(B160,'Oman Results'!C160:AI1153,31)=\"x\",\"Yes\",\"\"))","v":""},{"$f":"IF(B160=\"\",\"\",IF(VLOOKUP(B160,'Oman Results'!C160:AI1153,31)=\"x\",'Oman Results'!G160,\"\"))","v":""},{"$f":"IF(B160=\"\",\"\",IF(VLOOKUP(B160,'Oman Results'!C160:AI1153,31)=\"x\",'Oman Results'!AJ160,\"\"))","v":""},{"$f":"IF(B160=\"\",\"\",IF(VLOOKUP(B160,'Oman Results'!C160:AI1153,31)=\"x\",'Oman Results'!AK160,\"\"))","v":""},null,null,"","","",49600]
[160,{"$f":"IF('Oman Results'!C161=\"\",\"\",'Oman Results'!C161)","v":"807-82320           "},{"$f":"IF(OR('Oman Results'!D161=\"\",'Oman Results'!D161=\"Totals\"),\"\",'Oman Results'!D161)","v":"LIGHT POLE, HIGH MAST, 115 FT E.M.H.                                                                "},"",{"$f":"IF('Oman Results'!E161=\"\",\"\",'Oman Results'!E161)","v":1},{"$f":"IF('Oman Results'!F161=\"\",\"\",'Oman Results'!F161)","v":"EACH "},{"$f":"IF(B161=\"\",\"\",IF(VLOOKUP(B161,'Oman Results'!C161:AI1154,31)=\"x\",'Oman Results'!AK161,'Oman Results'!G161))","v":156},156,{"$f":"IF(B161=\"\",\"\",IF(VLOOKUP(B161,'Oman Results'!C161:AI1154,31)=\"x\",\"Yes\",\"\"))","v":""},{"$f":"IF(B161=\"\",\"\",IF(VLOOKUP(B161,'Oman Results'!C161:AI1154,31)=\"x\",'Oman Results'!G161,\"\"))","v":""},{"$f":"IF(B161=\"\",\"\",IF(VLOOKUP(B161,'Oman Results'!C161:AI1154,31)=\"x\",'Oman Results'!AJ161,\"\"))","v":""},{"$f":"IF(B161=\"\",\"\",IF(VLOOKUP(B161,'Oman Results'!C161:AI1154,31)=\"x\",'Oman Results'!AK161,\"\"))","v":""},null,null,"","","",156]
[161,{"$f":"IF('Oman Results'!C162=\"\",\"\",'Oman Results'!C162)","v":"807-86665           "},{"$f":"IF(OR('Oman Results'!D162=\"\",'Oman Results'!D162=\"Totals\"),\"\",'Oman Results'!D162)","v":"LUMINAIRE, HIGH MAST, HIGH PRESSURE SODIUM, 1000 WATT                                               "},"",{"$f":"IF('Oman Results'!E162=\"\",\"\",'Oman Results'!E162)","v":6},{"$f":"IF('Oman Results'!F162=\"\",\"\",'Oman Results'!F162)","v":"EACH "},{"$f":"IF(B162=\"\",\"\",IF(VLOOKUP(B162,'Oman Results'!C162:AI1155,31)=\"x\",'Oman Results'!AK162,'Oman Results'!G162))","v":607.46},3644.76,{"$f":"IF(B162=\"\",\"\",IF(VLOOKUP(B162,'Oman Results'!C162:AI1155,31)=\"x\",\"Yes\",\"\"))","v":""},{"$f":"IF(B162=\"\",\"\",IF(VLOOKUP(B162,'Oman Results'!C162:AI1155,31)=\"x\",'Oman Results'!G162,\"\"))","v":""},{"$f":"IF(B162=\"\",\"\",IF(VLOOKUP(B162,'Oman Results'!C162:AI1155,31)=\"x\",'Oman Results'!AJ162,\"\"))","v":""},{"$f":"IF(B162=\"\",\"\",IF(VLOOKUP(B162,'Oman Results'!C162:AI1155,31)=\"x\",'Oman Results'!AK162,\"\"))","v":""},null,null,"","","",3644.76]
[162,{"$f":"IF('Oman Results'!C163=\"\",\"\",'Oman Results'!C163)","v":"807-86832           "},{"$f":"IF(OR('Oman Results'!D163=\"\",'Oman Results'!D163=\"Totals\"),\"\",'Oman Results'!D163)","v":"LIGHTING FOUNDATION, CONCRETE, WITH GROUNDING, HIGH MAST TOW                                        "},"",{"$f":"IF('Oman Results'!E163=\"\",\"\",'Oman Results'!E163)","v":2},{"$f":"IF('Oman Results'!F163=\"\",\"\",'Oman Results'!F163)","v":"EACH "},{"$f":"IF(B163=\"\",\"\",IF(VLOOKUP(B163,'Oman Results'!C163:AI1156,31)=\"x\",'Oman Results'!AK163,'Oman Results'!G163))","v":7219},14438,{"$f":"IF(B163=\"\",\"\",IF(VLOOKUP(B163,'Oman Results'!C163:AI1156,31)=\"x\",\"Yes\",\"\"))","v":""},{"$f":"IF(B163=\"\",\"\",IF(VLOOKUP(B163,'Oman Results'!C163:AI1156,31)=\"x\",'Oman Results'!G163,\"\"))","v":""},{"$f":"IF(B163=\"\",\"\",IF(VLOOKUP(B163,'Oman Results'!C163:AI1156,31)=\"x\",'Oman Results'!AJ163,\"\"))","v":""},{"$f":"IF(B163=\"\",\"\",IF(VLOOKUP(B163,'Oman Results'!C163:AI1156,31)=\"x\",'Oman Results'!AK163,\"\"))","v":""},null,null,"","","",14438]
[163,{"$f":"IF('Oman Results'!C164=\"\",\"\",'Oman Results'!C164)","v":"807-86910           "},{"$f":"IF(OR('Oman Results'!D164=\"\",'Oman Results'!D164=\"Totals\"),\"\",'Oman Results'!D164)","v":"CONNECTOR KIT, UNFUSED                                                                              "},"",{"$f":"IF('Oman Results'!E164=\"\",\"\",'Oman Results'!E164)","v":17},{"$f":"IF('Oman Results'!F164=\"\",\"\",'Oman Results'!F164)","v":"EACH "},{"$f":"IF(B164=\"\",\"\",IF(VLOOKUP(B164,'Oman Results'!C164:AI1157,31)=\"x\",'Oman Results'!AK164,'Oman Results'!G164))","v":24.75},420.75,{"$f":"IF(B164=\"\",\"\",IF(VLOOKUP(B164,'Oman Results'!C164:AI1157,31)=\"x\",\"Yes\",\"\"))","v":""},{"$f":"IF(B164=\"\",\"\",IF(VLOOKUP(B164,'Oman Results'!C164:AI1157,31)=\"x\",'Oman Results'!G164,\"\"))","v":""},{"$f":"IF(B164=\"\",\"\",IF(VLOOKUP(B164,'Oman Results'!C164:AI1157,31)=\"x\",'Oman Results'!AJ164,\"\"))","v":""},{"$f":"IF(B164=\"\",\"\",IF(VLOOKUP(B164,'Oman Results'!C164:AI1157,31)=\"x\",'Oman Results'!AK164,\"\"))","v":""},null,null,"","","",420.75]
[164,{"$f":"IF('Oman Results'!C165=\"\",\"\",'Oman Results'!C165)","v":"807-86915           "},{"$f":"IF(OR('Oman Results'!D165=\"\",'Oman Results'!D165=\"Totals\"),\"\",'Oman Results'!D165)","v":"CONNECTOR KIT, FUSED                                                                                "},"",{"$f":"IF('Oman Results'!E165=\"\",\"\",'Oman Results'!E165)","v":17},{"$f":"IF('Oman Results'!F165=\"\",\"\",'Oman Results'!F165)","v":"EACH "},{"$f":"IF(B165=\"\",\"\",IF(VLOOKUP(B165,'Oman Results'!C165:AI1158,31)=\"x\",'Oman Results'!AK165,'Oman Results'!G165))","v":26.59},452.03,{"$f":"IF(B165=\"\",\"\",IF(VLOOKUP(B165,'Oman Results'!C165:AI1158,31)=\"x\",\"Yes\",\"\"))","v":""},{"$f":"IF(B165=\"\",\"\",IF(VLOOKUP(B165,'Oman Results'!C165:AI1158,31)=\"x\",'Oman Results'!G165,\"\"))","v":""},{"$f":"IF(B165=\"\",\"\",IF(VLOOKUP(B165,'Oman Results'!C165:AI1158,31)=\"x\",'Oman Results'!AJ165,\"\"))","v":""},{"$f":"IF(B165=\"\",\"\",IF(VLOOKUP(B165,'Oman Results'!C165:AI1158,31)=\"x\",'Oman Results'!AK165,\"\"))","v":""},null,null,"","","",452.03]
[165,{"$f":"IF('Oman Results'!C166=\"\",\"\",'Oman Results'!C166)","v":"807-86925           "},{"$f":"IF(OR('Oman Results'!D166=\"\",'Oman Results'!D166=\"Totals\"),\"\",'Oman Results'!D166)","v":"MULTIPLE COMPRESSION FITTING, WATERPROOFED                                                          "},"",{"$f":"IF('Oman Results'!E166=\"\",\"\",'Oman Results'!E166)","v":50},{"$f":"IF('Oman Results'!F166=\"\",\"\",'Oman Results'!F166)","v":"EACH "},{"$f":"IF(B166=\"\",\"\",IF(VLOOKUP(B166,'Oman Results'!C166:AI1159,31)=\"x\",'Oman Results'!AK166,'Oman Results'!G166))","v":31.47},1573.5,{"$f":"IF(B166=\"\",\"\",IF(VLOOKUP(B166,'Oman Results'!C166:AI1159,31)=\"x\",\"Yes\",\"\"))","v":""},{"$f":"IF(B166=\"\",\"\",IF(VLOOKUP(B166,'Oman Results'!C166:AI1159,31)=\"x\",'Oman Results'!G166,\"\"))","v":""},{"$f":"IF(B166=\"\",\"\",IF(VLOOKUP(B166,'Oman Results'!C166:AI1159,31)=\"x\",'Oman Results'!AJ166,\"\"))","v":""},{"$f":"IF(B166=\"\",\"\",IF(VLOOKUP(B166,'Oman Results'!C166:AI1159,31)=\"x\",'Oman Results'!AK166,\"\"))","v":""},null,null,"","","",1573.5]
[166,{"$f":"IF('Oman Results'!C167=\"\",\"\",'Oman Results'!C167)","v":"807-86935           "},{"$f":"IF(OR('Oman Results'!D167=\"\",'Oman Results'!D167=\"Totals\"),\"\",'Oman Results'!D167)","v":"INSULATION LINK, WATERPROOFED                                                                       "},"",{"$f":"IF('Oman Results'!E167=\"\",\"\",'Oman Results'!E167)","v":58},{"$f":"IF('Oman Results'!F167=\"\",\"\",'Oman Results'!F167)","v":"EACH "},{"$f":"IF(B167=\"\",\"\",IF(VLOOKUP(B167,'Oman Results'!C167:AI1160,31)=\"x\",'Oman Results'!AK167,'Oman Results'!G167))","v":27.66},1604.28,{"$f":"IF(B167=\"\",\"\",IF(VLOOKUP(B167,'Oman Results'!C167:AI1160,31)=\"x\",\"Yes\",\"\"))","v":""},{"$f":"IF(B167=\"\",\"\",IF(VLOOKUP(B167,'Oman Results'!C167:AI1160,31)=\"x\",'Oman Results'!G167,\"\"))","v":""},{"$f":"IF(B167=\"\",\"\",IF(VLOOKUP(B167,'Oman Results'!C167:AI1160,31)=\"x\",'Oman Results'!AJ167,\"\"))","v":""},{"$f":"IF(B167=\"\",\"\",IF(VLOOKUP(B167,'Oman Results'!C167:AI1160,31)=\"x\",'Oman Results'!AK167,\"\"))","v":""},null,null,"","","",1604.28]
[167,{"$f":"IF('Oman Results'!C168=\"\",\"\",'Oman Results'!C168)","v":"808-06701           "},{"$f":"IF(OR('Oman Results'!D168=\"\",'Oman Results'!D168=\"Totals\"),\"\",'Oman Results'!D168)","v":"LINE, THERMOPLASTIC, BROKEN, WHITE, 4 IN                                                            "},"",{"$f":"IF('Oman Results'!E168=\"\",\"\",'Oman Results'!E168)","v":600},{"$f":"IF('Oman Results'!F168=\"\",\"\",'Oman Results'!F168)","v":"L.F. "},{"$f":"IF(B168=\"\",\"\",IF(VLOOKUP(B168,'Oman Results'!C168:AI1161,31)=\"x\",'Oman Results'!AK168,'Oman Results'!G168))","v":0.52},312,{"$f":"IF(B168=\"\",\"\",IF(VLOOKUP(B168,'Oman Results'!C168:AI1161,31)=\"x\",\"Yes\",\"\"))","v":""},{"$f":"IF(B168=\"\",\"\",IF(VLOOKUP(B168,'Oman Results'!C168:AI1161,31)=\"x\",'Oman Results'!G168,\"\"))","v":""},{"$f":"IF(B168=\"\",\"\",IF(VLOOKUP(B168,'Oman Results'!C168:AI1161,31)=\"x\",'Oman Results'!AJ168,\"\"))","v":""},{"$f":"IF(B168=\"\",\"\",IF(VLOOKUP(B168,'Oman Results'!C168:AI1161,31)=\"x\",'Oman Results'!AK168,\"\"))","v":""},null,null,"","","",312]
[168,{"$f":"IF('Oman Results'!C169=\"\",\"\",'Oman Results'!C169)","v":"808-06702           "},{"$f":"IF(OR('Oman Results'!D169=\"\",'Oman Results'!D169=\"Totals\"),\"\",'Oman Results'!D169)","v":"LINE, THERMOPLASTIC, BROKEN, WHITE, 5 IN                                                            "},"",{"$f":"IF('Oman Results'!E169=\"\",\"\",'Oman Results'!E169)","v":5800},{"$f":"IF('Oman Results'!F169=\"\",\"\",'Oman Results'!F169)","v":"L.F. "},{"$f":"IF(B169=\"\",\"\",IF(VLOOKUP(B169,'Oman Results'!C169:AI1162,31)=\"x\",'Oman Results'!AK169,'Oman Results'!G169))","v":0.44},2552,{"$f":"IF(B169=\"\",\"\",IF(VLOOKUP(B169,'Oman Results'!C169:AI1162,31)=\"x\",\"Yes\",\"\"))","v":""},{"$f":"IF(B169=\"\",\"\",IF(VLOOKUP(B169,'Oman Results'!C169:AI1162,31)=\"x\",'Oman Results'!G169,\"\"))","v":""},{"$f":"IF(B169=\"\",\"\",IF(VLOOKUP(B169,'Oman Results'!C169:AI1162,31)=\"x\",'Oman Results'!AJ169,\"\"))","v":""},{"$f":"IF(B169=\"\",\"\",IF(VLOOKUP(B169,'Oman Results'!C169:AI1162,31)=\"x\",'Oman Results'!AK169,\"\"))","v":""},null,null,"","","",2552]
[169,{"$f":"IF('Oman Results'!C170=\"\",\"\",'Oman Results'!C170)","v":"808-06703           "},{"$f":"IF(OR('Oman Results'!D170=\"\",'Oman Results'!D170=\"Totals\"),\"\",'Oman Results'!D170)","v":"LINE, THERMOPLASTIC, SOLID, WHITE, 4 IN.                                                            "},"",{"$f":"IF('Oman Results'!E170=\"\",\"\",'Oman Results'!E170)","v":29800},{"$f":"IF('Oman Results'!F170=\"\",\"\",'Oman Results'!F170)","v":"L.F. "},{"$f":"IF(B170=\"\",\"\",IF(VLOOKUP(B170,'Oman Results'!C170:AI1163,31)=\"x\",'Oman Results'!AK170,'Oman Results'!G170))","v":0.41},12218,{"$f":"IF(B170=\"\",\"\",IF(VLOOKUP(B170,'Oman Results'!C170:AI1163,31)=\"x\",\"Yes\",\"\"))","v":""},{"$f":"IF(B170=\"\",\"\",IF(VLOOKUP(B170,'Oman Results'!C170:AI1163,31)=\"x\",'Oman Results'!G170,\"\"))","v":""},{"$f":"IF(B170=\"\",\"\",IF(VLOOKUP(B170,'Oman Results'!C170:AI1163,31)=\"x\",'Oman Results'!AJ170,\"\"))","v":""},{"$f":"IF(B170=\"\",\"\",IF(VLOOKUP(B170,'Oman Results'!C170:AI1163,31)=\"x\",'Oman Results'!AK170,\"\"))","v":""},null,null,"","","",12218]
[170,{"$f":"IF('Oman Results'!C171=\"\",\"\",'Oman Results'!C171)","v":"808-06705           "},{"$f":"IF(OR('Oman Results'!D171=\"\",'Oman Results'!D171=\"Totals\"),\"\",'Oman Results'!D171)","v":"LINE, THERMOPLASTIC, SOLID, WHITE, 8 IN                                                             "},"",{"$f":"IF('Oman Results'!E171=\"\",\"\",'Oman Results'!E171)","v":5840},{"$f":"IF('Oman Results'!F171=\"\",\"\",'Oman Results'!F171)","v":"L.F. "},{"$f":"IF(B171=\"\",\"\",IF(VLOOKUP(B171,'Oman Results'!C171:AI1164,31)=\"x\",'Oman Results'!AK171,'Oman Results'!G171))","v":1.01},5898.4,{"$f":"IF(B171=\"\",\"\",IF(VLOOKUP(B171,'Oman Results'!C171:AI1164,31)=\"x\",\"Yes\",\"\"))","v":""},{"$f":"IF(B171=\"\",\"\",IF(VLOOKUP(B171,'Oman Results'!C171:AI1164,31)=\"x\",'Oman Results'!G171,\"\"))","v":""},{"$f":"IF(B171=\"\",\"\",IF(VLOOKUP(B171,'Oman Results'!C171:AI1164,31)=\"x\",'Oman Results'!AJ171,\"\"))","v":""},{"$f":"IF(B171=\"\",\"\",IF(VLOOKUP(B171,'Oman Results'!C171:AI1164,31)=\"x\",'Oman Results'!AK171,\"\"))","v":""},null,null,"","","",5898.4]
[171,{"$f":"IF('Oman Results'!C172=\"\",\"\",'Oman Results'!C172)","v":"808-06706           "},{"$f":"IF(OR('Oman Results'!D172=\"\",'Oman Results'!D172=\"Totals\"),\"\",'Oman Results'!D172)","v":"LINE, THERMOPLASTIC, SOLID, WHITE, 24 IN                                                            "},"",{"$f":"IF('Oman Results'!E172=\"\",\"\",'Oman Results'!E172)","v":595},{"$f":"IF('Oman Results'!F172=\"\",\"\",'Oman Results'!F172)","v":"L.F. "},{"$f":"IF(B172=\"\",\"\",IF(VLOOKUP(B172,'Oman Results'!C172:AI1165,31)=\"x\",'Oman Results'!AK172,'Oman Results'!G172))","v":4.7699999999999996},2838.1499999999996,{"$f":"IF(B172=\"\",\"\",IF(VLOOKUP(B172,'Oman Results'!C172:AI1165,31)=\"x\",\"Yes\",\"\"))","v":""},{"$f":"IF(B172=\"\",\"\",IF(VLOOKUP(B172,'Oman Results'!C172:AI1165,31)=\"x\",'Oman Results'!G172,\"\"))","v":""},{"$f":"IF(B172=\"\",\"\",IF(VLOOKUP(B172,'Oman Results'!C172:AI1165,31)=\"x\",'Oman Results'!AJ172,\"\"))","v":""},{"$f":"IF(B172=\"\",\"\",IF(VLOOKUP(B172,'Oman Results'!C172:AI1165,31)=\"x\",'Oman Results'!AK172,\"\"))","v":""},null,null,"","","",2838.1499999999996]
[172,{"$f":"IF('Oman Results'!C173=\"\",\"\",'Oman Results'!C173)","v":"808-06716           "},{"$f":"IF(OR('Oman Results'!D173=\"\",'Oman Results'!D173=\"Totals\"),\"\",'Oman Results'!D173)","v":"LINE, REMOVE                                                                                        "},"",{"$f":"IF('Oman Results'!E173=\"\",\"\",'Oman Results'!E173)","v":9800},{"$f":"IF('Oman Results'!F173=\"\",\"\",'Oman Results'!F173)","v":"L.F. "},{"$f":"IF(B173=\"\",\"\",IF(VLOOKUP(B173,'Oman Results'!C173:AI1166,31)=\"x\",'Oman Results'!AK173,'Oman Results'!G173))","v":0.28000000000000003},2744.0000000000005,{"$f":"IF(B173=\"\",\"\",IF(VLOOKUP(B173,'Oman Results'!C173:AI1166,31)=\"x\",\"Yes\",\"\"))","v":""},{"$f":"IF(B173=\"\",\"\",IF(VLOOKUP(B173,'Oman Results'!C173:AI1166,31)=\"x\",'Oman Results'!G173,\"\"))","v":""},{"$f":"IF(B173=\"\",\"\",IF(VLOOKUP(B173,'Oman Results'!C173:AI1166,31)=\"x\",'Oman Results'!AJ173,\"\"))","v":""},{"$f":"IF(B173=\"\",\"\",IF(VLOOKUP(B173,'Oman Results'!C173:AI1166,31)=\"x\",'Oman Results'!AK173,\"\"))","v":""},null,null,"","","",2744.0000000000005]
[173,{"$f":"IF('Oman Results'!C174=\"\",\"\",'Oman Results'!C174)","v":"808-75215           "},{"$f":"IF(OR('Oman Results'!D174=\"\",'Oman Results'!D174=\"Totals\"),\"\",'Oman Results'!D174)","v":"LINE, THERMOPLASTIC, SOLID, WHITE 12 IN                                                             "},"",{"$f":"IF('Oman Results'!E174=\"\",\"\",'Oman Results'!E174)","v":975},{"$f":"IF('Oman Results'!F174=\"\",\"\",'Oman Results'!F174)","v":"L.F. "},{"$f":"IF(B174=\"\",\"\",IF(VLOOKUP(B174,'Oman Results'!C174:AI1167,31)=\"x\",'Oman Results'!AK174,'Oman Results'!G174))","v":2.67},2603.25,{"$f":"IF(B174=\"\",\"\",IF(VLOOKUP(B174,'Oman Results'!C174:AI1167,31)=\"x\",\"Yes\",\"\"))","v":""},{"$f":"IF(B174=\"\",\"\",IF(VLOOKUP(B174,'Oman Results'!C174:AI1167,31)=\"x\",'Oman Results'!G174,\"\"))","v":""},{"$f":"IF(B174=\"\",\"\",IF(VLOOKUP(B174,'Oman Results'!C174:AI1167,31)=\"x\",'Oman Results'!AJ174,\"\"))","v":""},{"$f":"IF(B174=\"\",\"\",IF(VLOOKUP(B174,'Oman Results'!C174:AI1167,31)=\"x\",'Oman Results'!AK174,\"\"))","v":""},null,null,"","","",2603.25]
[174,{"$f":"IF('Oman Results'!C175=\"\",\"\",'Oman Results'!C175)","v":"808-75245           "},{"$f":"IF(OR('Oman Results'!D175=\"\",'Oman Results'!D175=\"Totals\"),\"\",'Oman Results'!D175)","v":"LINE, THERMOPLASTIC, SOLID, YELLOW, 4 IN                                                            "},"",{"$f":"IF('Oman Results'!E175=\"\",\"\",'Oman Results'!E175)","v":20440},{"$f":"IF('Oman Results'!F175=\"\",\"\",'Oman Results'!F175)","v":"L.F. "},{"$f":"IF(B175=\"\",\"\",IF(VLOOKUP(B175,'Oman Results'!C175:AI1168,31)=\"x\",'Oman Results'!AK175,'Oman Results'!G175))","v":0.42},8584.7999999999993,{"$f":"IF(B175=\"\",\"\",IF(VLOOKUP(B175,'Oman Results'!C175:AI1168,31)=\"x\",\"Yes\",\"\"))","v":""},{"$f":"IF(B175=\"\",\"\",IF(VLOOKUP(B175,'Oman Results'!C175:AI1168,31)=\"x\",'Oman Results'!G175,\"\"))","v":""},{"$f":"IF(B175=\"\",\"\",IF(VLOOKUP(B175,'Oman Results'!C175:AI1168,31)=\"x\",'Oman Results'!AJ175,\"\"))","v":""},{"$f":"IF(B175=\"\",\"\",IF(VLOOKUP(B175,'Oman Results'!C175:AI1168,31)=\"x\",'Oman Results'!AK175,\"\"))","v":""},null,null,"","","",8584.7999999999993]
[175,{"$f":"IF('Oman Results'!C176=\"\",\"\",'Oman Results'!C176)","v":"808-75297           "},{"$f":"IF(OR('Oman Results'!D176=\"\",'Oman Results'!D176=\"Totals\"),\"\",'Oman Results'!D176)","v":"TRANSVERSE MARKING, THERMOPLASTIC, STOP LINE, 24 IN                                                 "},"",{"$f":"IF('Oman Results'!E176=\"\",\"\",'Oman Results'!E176)","v":60},{"$f":"IF('Oman Results'!F176=\"\",\"\",'Oman Results'!F176)","v":"L.F. "},{"$f":"IF(B176=\"\",\"\",IF(VLOOKUP(B176,'Oman Results'!C176:AI1169,31)=\"x\",'Oman Results'!AK176,'Oman Results'!G176))","v":5.2},312,{"$f":"IF(B176=\"\",\"\",IF(VLOOKUP(B176,'Oman Results'!C176:AI1169,31)=\"x\",\"Yes\",\"\"))","v":""},{"$f":"IF(B176=\"\",\"\",IF(VLOOKUP(B176,'Oman Results'!C176:AI1169,31)=\"x\",'Oman Results'!G176,\"\"))","v":""},{"$f":"IF(B176=\"\",\"\",IF(VLOOKUP(B176,'Oman Results'!C176:AI1169,31)=\"x\",'Oman Results'!AJ176,\"\"))","v":""},{"$f":"IF(B176=\"\",\"\",IF(VLOOKUP(B176,'Oman Results'!C176:AI1169,31)=\"x\",'Oman Results'!AK176,\"\"))","v":""},null,null,"","","",312]
[176,{"$f":"IF('Oman Results'!C177=\"\",\"\",'Oman Results'!C177)","v":"808-75320           "},{"$f":"IF(OR('Oman Results'!D177=\"\",'Oman Results'!D177=\"Totals\"),\"\",'Oman Results'!D177)","v":"PAVEMENT MESSAGE MARKING, THERMOPLASTIC, LANE INDICATION ARROW                                      "},"",{"$f":"IF('Oman Results'!E177=\"\",\"\",'Oman Results'!E177)","v":12},{"$f":"IF('Oman Results'!F177=\"\",\"\",'Oman Results'!F177)","v":"EACH "},{"$f":"IF(B177=\"\",\"\",IF(VLOOKUP(B177,'Oman Results'!C177:AI1170,31)=\"x\",'Oman Results'!AK177,'Oman Results'!G177))","v":78.62},943.44,{"$f":"IF(B177=\"\",\"\",IF(VLOOKUP(B177,'Oman Results'!C177:AI1170,31)=\"x\",\"Yes\",\"\"))","v":""},{"$f":"IF(B177=\"\",\"\",IF(VLOOKUP(B177,'Oman Results'!C177:AI1170,31)=\"x\",'Oman Results'!G177,\"\"))","v":""},{"$f":"IF(B177=\"\",\"\",IF(VLOOKUP(B177,'Oman Results'!C177:AI1170,31)=\"x\",'Oman Results'!AJ177,\"\"))","v":""},{"$f":"IF(B177=\"\",\"\",IF(VLOOKUP(B177,'Oman Results'!C177:AI1170,31)=\"x\",'Oman Results'!AK177,\"\"))","v":""},null,null,"","","",943.44]
[177,{"$f":"IF('Oman Results'!C178=\"\",\"\",'Oman Results'!C178)","v":"808-75325           "},{"$f":"IF(OR('Oman Results'!D178=\"\",'Oman Results'!D178=\"Totals\"),\"\",'Oman Results'!D178)","v":"PAVEMENT MESSAGE MARKING, THERMOPLASTIC, (ONLY)                                                     "},"",{"$f":"IF('Oman Results'!E178=\"\",\"\",'Oman Results'!E178)","v":4},{"$f":"IF('Oman Results'!F178=\"\",\"\",'Oman Results'!F178)","v":"EACH "},{"$f":"IF(B178=\"\",\"\",IF(VLOOKUP(B178,'Oman Results'!C178:AI1171,31)=\"x\",'Oman Results'!AK178,'Oman Results'!G178))","v":94.34},377.36,{"$f":"IF(B178=\"\",\"\",IF(VLOOKUP(B178,'Oman Results'!C178:AI1171,31)=\"x\",\"Yes\",\"\"))","v":""},{"$f":"IF(B178=\"\",\"\",IF(VLOOKUP(B178,'Oman Results'!C178:AI1171,31)=\"x\",'Oman Results'!G178,\"\"))","v":""},{"$f":"IF(B178=\"\",\"\",IF(VLOOKUP(B178,'Oman Results'!C178:AI1171,31)=\"x\",'Oman Results'!AJ178,\"\"))","v":""},{"$f":"IF(B178=\"\",\"\",IF(VLOOKUP(B178,'Oman Results'!C178:AI1171,31)=\"x\",'Oman Results'!AK178,\"\"))","v":""},null,null,"","","",377.36]
[178,{"$f":"IF('Oman Results'!C179=\"\",\"\",'Oman Results'!C179)","v":"808-75998           "},{"$f":"IF(OR('Oman Results'!D179=\"\",'Oman Results'!D179=\"Totals\"),\"\",'Oman Results'!D179)","v":"SNOWPLOWABLE RAISED PAVEMENT MARKER                                                                 "},"",{"$f":"IF('Oman Results'!E179=\"\",\"\",'Oman Results'!E179)","v":1130},{"$f":"IF('Oman Results'!F179=\"\",\"\",'Oman Results'!F179)","v":"EACH "},{"$f":"IF(B179=\"\",\"\",IF(VLOOKUP(B179,'Oman Results'!C179:AI1172,31)=\"x\",'Oman Results'!AK179,'Oman Results'!G179))","v":16.559999999999999},18712.8,{"$f":"IF(B179=\"\",\"\",IF(VLOOKUP(B179,'Oman Results'!C179:AI1172,31)=\"x\",\"Yes\",\"\"))","v":""},{"$f":"IF(B179=\"\",\"\",IF(VLOOKUP(B179,'Oman Results'!C179:AI1172,31)=\"x\",'Oman Results'!G179,\"\"))","v":""},{"$f":"IF(B179=\"\",\"\",IF(VLOOKUP(B179,'Oman Results'!C179:AI1172,31)=\"x\",'Oman Results'!AJ179,\"\"))","v":""},{"$f":"IF(B179=\"\",\"\",IF(VLOOKUP(B179,'Oman Results'!C179:AI1172,31)=\"x\",'Oman Results'!AK179,\"\"))","v":""},null,null,"","","",18712.8]
["",{"$f":"IF('Oman Results'!C180=\"\",\"\",'Oman Results'!C180)","v":""},{"$f":"IF(OR('Oman Results'!D180=\"\",'Oman Results'!D180=\"Totals\"),\"\",'Oman Results'!D180)","v":""},"",{"$f":"IF('Oman Results'!E180=\"\",\"\",'Oman Results'!E180)","v":""},{"$f":"IF('Oman Results'!F180=\"\",\"\",'Oman Results'!F180)","v":""},{"$f":"IF(B180=\"\",\"\",IF(VLOOKUP(B180,'Oman Results'!C180:AI1173,31)=\"x\",'Oman Results'!AK180,'Oman Results'!G180))","v":""},"",{"$f":"IF(B180=\"\",\"\",IF(VLOOKUP(B180,'Oman Results'!C180:AI1173,31)=\"x\",\"Yes\",\"\"))","v":""},{"$f":"IF(B180=\"\",\"\",IF(VLOOKUP(B180,'Oman Results'!C180:AI1173,31)=\"x\",'Oman Results'!G180,\"\"))","v":""},{"$f":"IF(B180=\"\",\"\",IF(VLOOKUP(B180,'Oman Results'!C180:AI1173,31)=\"x\",'Oman Results'!AJ180,\"\"))","v":""},{"$f":"IF(B180=\"\",\"\",IF(VLOOKUP(B180,'Oman Results'!C180:AI1173,31)=\"x\",'Oman Results'!AK180,\"\"))","v":""},null,null,"","","",""]
["",{"$f":"IF('Oman Results'!C181=\"\",\"\",'Oman Results'!C181)","v":""},{"$f":"IF(OR('Oman Results'!D181=\"\",'Oman Results'!D181=\"Totals\"),\"\",'Oman Results'!D181)","v":""},"",{"$f":"IF('Oman Results'!E181=\"\",\"\",'Oman Results'!E181)","v":""},{"$f":"IF('Oman Results'!F181=\"\",\"\",'Oman Results'!F181)","v":""},{"$f":"IF(B181=\"\",\"\",IF(VLOOKUP(B181,'Oman Results'!C181:AI1174,31)=\"x\",'Oman Results'!AK181,'Oman Results'!G181))","v":""},"",{"$f":"IF(B181=\"\",\"\",IF(VLOOKUP(B181,'Oman Results'!C181:AI1174,31)=\"x\",\"Yes\",\"\"))","v":""},{"$f":"IF(B181=\"\",\"\",IF(VLOOKUP(B181,'Oman Results'!C181:AI1174,31)=\"x\",'Oman Results'!G181,\"\"))","v":""},{"$f":"IF(B181=\"\",\"\",IF(VLOOKUP(B181,'Oman Results'!C181:AI1174,31)=\"x\",'Oman Results'!AJ181,\"\"))","v":""},{"$f":"IF(B181=\"\",\"\",IF(VLOOKUP(B181,'Oman Results'!C181:AI1174,31)=\"x\",'Oman Results'!AK181,\"\"))","v":""},null,null,"","","",""]
["",{"$f":"IF('Oman Results'!C182=\"\",\"\",'Oman Results'!C182)","v":""},{"$f":"IF(OR('Oman Results'!D182=\"\",'Oman Results'!D182=\"Totals\"),\"\",'Oman Results'!D182)","v":""},"",{"$f":"IF('Oman Results'!E182=\"\",\"\",'Oman Results'!E182)","v":""},{"$f":"IF('Oman Results'!F182=\"\",\"\",'Oman Results'!F182)","v":""},{"$f":"IF(B182=\"\",\"\",IF(VLOOKUP(B182,'Oman Results'!C182:AI1175,31)=\"x\",'Oman Results'!AK182,'Oman Results'!G182))","v":""},"",{"$f":"IF(B182=\"\",\"\",IF(VLOOKUP(B182,'Oman Results'!C182:AI1175,31)=\"x\",\"Yes\",\"\"))","v":""},{"$f":"IF(B182=\"\",\"\",IF(VLOOKUP(B182,'Oman Results'!C182:AI1175,31)=\"x\",'Oman Results'!G182,\"\"))","v":""},{"$f":"IF(B182=\"\",\"\",IF(VLOOKUP(B182,'Oman Results'!C182:AI1175,31)=\"x\",'Oman Results'!AJ182,\"\"))","v":""},{"$f":"IF(B182=\"\",\"\",IF(VLOOKUP(B182,'Oman Results'!C182:AI1175,31)=\"x\",'Oman Results'!AK182,\"\"))","v":""},null,null,"","","",""]
["",{"$f":"IF('Oman Results'!C183=\"\",\"\",'Oman Results'!C183)","v":""},{"$f":"IF(OR('Oman Results'!D183=\"\",'Oman Results'!D183=\"Totals\"),\"\",'Oman Results'!D183)","v":""},"",{"$f":"IF('Oman Results'!E183=\"\",\"\",'Oman Results'!E183)","v":""},{"$f":"IF('Oman Results'!F183=\"\",\"\",'Oman Results'!F183)","v":""},{"$f":"IF(B183=\"\",\"\",IF(VLOOKUP(B183,'Oman Results'!C183:AI1176,31)=\"x\",'Oman Results'!AK183,'Oman Results'!G183))","v":""},"",{"$f":"IF(B183=\"\",\"\",IF(VLOOKUP(B183,'Oman Results'!C183:AI1176,31)=\"x\",\"Yes\",\"\"))","v":""},{"$f":"IF(B183=\"\",\"\",IF(VLOOKUP(B183,'Oman Results'!C183:AI1176,31)=\"x\",'Oman Results'!G183,\"\"))","v":""},{"$f":"IF(B183=\"\",\"\",IF(VLOOKUP(B183,'Oman Results'!C183:AI1176,31)=\"x\",'Oman Results'!AJ183,\"\"))","v":""},{"$f":"IF(B183=\"\",\"\",IF(VLOOKUP(B183,'Oman Results'!C183:AI1176,31)=\"x\",'Oman Results'!AK183,\"\"))","v":""},null,null,"","","",""]
["",{"$f":"IF('Oman Results'!C184=\"\",\"\",'Oman Results'!C184)","v":""},{"$f":"IF(OR('Oman Results'!D184=\"\",'Oman Results'!D184=\"Totals\"),\"\",'Oman Results'!D184)","v":""},"",{"$f":"IF('Oman Results'!E184=\"\",\"\",'Oman Results'!E184)","v":""},{"$f":"IF('Oman Results'!F184=\"\",\"\",'Oman Results'!F184)","v":""},{"$f":"IF(B184=\"\",\"\",IF(VLOOKUP(B184,'Oman Results'!C184:AI1177,31)=\"x\",'Oman Results'!AK184,'Oman Results'!G184))","v":""},"",{"$f":"IF(B184=\"\",\"\",IF(VLOOKUP(B184,'Oman Results'!C184:AI1177,31)=\"x\",\"Yes\",\"\"))","v":""},{"$f":"IF(B184=\"\",\"\",IF(VLOOKUP(B184,'Oman Results'!C184:AI1177,31)=\"x\",'Oman Results'!G184,\"\"))","v":""},{"$f":"IF(B184=\"\",\"\",IF(VLOOKUP(B184,'Oman Results'!C184:AI1177,31)=\"x\",'Oman Results'!AJ184,\"\"))","v":""},{"$f":"IF(B184=\"\",\"\",IF(VLOOKUP(B184,'Oman Results'!C184:AI1177,31)=\"x\",'Oman Results'!AK184,\"\"))","v":""},null,null,"","","",""]
["",{"$f":"IF('Oman Results'!C185=\"\",\"\",'Oman Results'!C185)","v":""},{"$f":"IF(OR('Oman Results'!D185=\"\",'Oman Results'!D185=\"Totals\"),\"\",'Oman Results'!D185)","v":""},"",{"$f":"IF('Oman Results'!E185=\"\",\"\",'Oman Results'!E185)","v":""},{"$f":"IF('Oman Results'!F185=\"\",\"\",'Oman Results'!F185)","v":""},{"$f":"IF(B185=\"\",\"\",IF(VLOOKUP(B185,'Oman Results'!C185:AI1178,31)=\"x\",'Oman Results'!AK185,'Oman Results'!G185))","v":""},"",{"$f":"IF(B185=\"\",\"\",IF(VLOOKUP(B185,'Oman Results'!C185:AI1178,31)=\"x\",\"Yes\",\"\"))","v":""},{"$f":"IF(B185=\"\",\"\",IF(VLOOKUP(B185,'Oman Results'!C185:AI1178,31)=\"x\",'Oman Results'!G185,\"\"))","v":""},{"$f":"IF(B185=\"\",\"\",IF(VLOOKUP(B185,'Oman Results'!C185:AI1178,31)=\"x\",'Oman Results'!AJ185,\"\"))","v":""},{"$f":"IF(B185=\"\",\"\",IF(VLOOKUP(B185,'Oman Results'!C185:AI1178,31)=\"x\",'Oman Results'!AK185,\"\"))","v":""},null,null,"","","",""]
["",{"$f":"IF('Oman Results'!C186=\"\",\"\",'Oman Results'!C186)","v":""},{"$f":"IF(OR('Oman Results'!D186=\"\",'Oman Results'!D186=\"Totals\"),\"\",'Oman Results'!D186)","v":""},"",{"$f":"IF('Oman Results'!E186=\"\",\"\",'Oman Results'!E186)","v":""},{"$f":"IF('Oman Results'!F186=\"\",\"\",'Oman Results'!F186)","v":""},{"$f":"IF(B186=\"\",\"\",IF(VLOOKUP(B186,'Oman Results'!C186:AI1179,31)=\"x\",'Oman Results'!AK186,'Oman Results'!G186))","v":""},"",{"$f":"IF(B186=\"\",\"\",IF(VLOOKUP(B186,'Oman Results'!C186:AI1179,31)=\"x\",\"Yes\",\"\"))","v":""},{"$f":"IF(B186=\"\",\"\",IF(VLOOKUP(B186,'Oman Results'!C186:AI1179,31)=\"x\",'Oman Results'!G186,\"\"))","v":""},{"$f":"IF(B186=\"\",\"\",IF(VLOOKUP(B186,'Oman Results'!C186:AI1179,31)=\"x\",'Oman Results'!AJ186,\"\"))","v":""},{"$f":"IF(B186=\"\",\"\",IF(VLOOKUP(B186,'Oman Results'!C186:AI1179,31)=\"x\",'Oman Results'!AK186,\"\"))","v":""},null,null,"","","",""]
["",{"$f":"IF('Oman Results'!C187=\"\",\"\",'Oman Results'!C187)","v":""},{"$f":"IF(OR('Oman Results'!D187=\"\",'Oman Results'!D187=\"Totals\"),\"\",'Oman Results'!D187)","v":""},"",{"$f":"IF('Oman Results'!E187=\"\",\"\",'Oman Results'!E187)","v":""},{"$f":"IF('Oman Results'!F187=\"\",\"\",'Oman Results'!F187)","v":""},{"$f":"IF(B187=\"\",\"\",IF(VLOOKUP(B187,'Oman Results'!C187:AI1180,31)=\"x\",'Oman Results'!AK187,'Oman Results'!G187))","v":""},"",{"$f":"IF(B187=\"\",\"\",IF(VLOOKUP(B187,'Oman Results'!C187:AI1180,31)=\"x\",\"Yes\",\"\"))","v":""},{"$f":"IF(B187=\"\",\"\",IF(VLOOKUP(B187,'Oman Results'!C187:AI1180,31)=\"x\",'Oman Results'!G187,\"\"))","v":""},{"$f":"IF(B187=\"\",\"\",IF(VLOOKUP(B187,'Oman Results'!C187:AI1180,31)=\"x\",'Oman Results'!AJ187,\"\"))","v":""},{"$f":"IF(B187=\"\",\"\",IF(VLOOKUP(B187,'Oman Results'!C187:AI1180,31)=\"x\",'Oman Results'!AK187,\"\"))","v":""},null,null,"","","",""]
["",{"$f":"IF('Oman Results'!C188=\"\",\"\",'Oman Results'!C188)","v":""},{"$f":"IF(OR('Oman Results'!D188=\"\",'Oman Results'!D188=\"Totals\"),\"\",'Oman Results'!D188)","v":""},"",{"$f":"IF('Oman Results'!E188=\"\",\"\",'Oman Results'!E188)","v":""},{"$f":"IF('Oman Results'!F188=\"\",\"\",'Oman Results'!F188)","v":""},{"$f":"IF(B188=\"\",\"\",IF(VLOOKUP(B188,'Oman Results'!C188:AI1181,31)=\"x\",'Oman Results'!AK188,'Oman Results'!G188))","v":""},"",{"$f":"IF(B188=\"\",\"\",IF(VLOOKUP(B188,'Oman Results'!C188:AI1181,31)=\"x\",\"Yes\",\"\"))","v":""},{"$f":"IF(B188=\"\",\"\",IF(VLOOKUP(B188,'Oman Results'!C188:AI1181,31)=\"x\",'Oman Results'!G188,\"\"))","v":""},{"$f":"IF(B188=\"\",\"\",IF(VLOOKUP(B188,'Oman Results'!C188:AI1181,31)=\"x\",'Oman Results'!AJ188,\"\"))","v":""},{"$f":"IF(B188=\"\",\"\",IF(VLOOKUP(B188,'Oman Results'!C188:AI1181,31)=\"x\",'Oman Results'!AK188,\"\"))","v":""},null,null,"","","",""]
["",{"$f":"IF('Oman Results'!C189=\"\",\"\",'Oman Results'!C189)","v":""},{"$f":"IF(OR('Oman Results'!D189=\"\",'Oman Results'!D189=\"Totals\"),\"\",'Oman Results'!D189)","v":""},"",{"$f":"IF('Oman Results'!E189=\"\",\"\",'Oman Results'!E189)","v":""},{"$f":"IF('Oman Results'!F189=\"\",\"\",'Oman Results'!F189)","v":""},{"$f":"IF(B189=\"\",\"\",IF(VLOOKUP(B189,'Oman Results'!C189:AI1182,31)=\"x\",'Oman Results'!AK189,'Oman Results'!G189))","v":""},"",{"$f":"IF(B189=\"\",\"\",IF(VLOOKUP(B189,'Oman Results'!C189:AI1182,31)=\"x\",\"Yes\",\"\"))","v":""},{"$f":"IF(B189=\"\",\"\",IF(VLOOKUP(B189,'Oman Results'!C189:AI1182,31)=\"x\",'Oman Results'!G189,\"\"))","v":""},{"$f":"IF(B189=\"\",\"\",IF(VLOOKUP(B189,'Oman Results'!C189:AI1182,31)=\"x\",'Oman Results'!AJ189,\"\"))","v":""},{"$f":"IF(B189=\"\",\"\",IF(VLOOKUP(B189,'Oman Results'!C189:AI1182,31)=\"x\",'Oman Results'!AK189,\"\"))","v":""},null,null,"","","",""]
["",{"$f":"IF('Oman Results'!C190=\"\",\"\",'Oman Results'!C190)","v":""},{"$f":"IF(OR('Oman Results'!D190=\"\",'Oman Results'!D190=\"Totals\"),\"\",'Oman Results'!D190)","v":""},"",{"$f":"IF('Oman Results'!E190=\"\",\"\",'Oman Results'!E190)","v":""},{"$f":"IF('Oman Results'!F190=\"\",\"\",'Oman Results'!F190)","v":""},{"$f":"IF(B190=\"\",\"\",IF(VLOOKUP(B190,'Oman Results'!C190:AI1183,31)=\"x\",'Oman Results'!AK190,'Oman Results'!G190))","v":""},"",{"$f":"IF(B190=\"\",\"\",IF(VLOOKUP(B190,'Oman Results'!C190:AI1183,31)=\"x\",\"Yes\",\"\"))","v":""},{"$f":"IF(B190=\"\",\"\",IF(VLOOKUP(B190,'Oman Results'!C190:AI1183,31)=\"x\",'Oman Results'!G190,\"\"))","v":""},{"$f":"IF(B190=\"\",\"\",IF(VLOOKUP(B190,'Oman Results'!C190:AI1183,31)=\"x\",'Oman Results'!AJ190,\"\"))","v":""},{"$f":"IF(B190=\"\",\"\",IF(VLOOKUP(B190,'Oman Results'!C190:AI1183,31)=\"x\",'Oman Results'!AK190,\"\"))","v":""},null,null,"","","",""]
["",{"$f":"IF('Oman Results'!C191=\"\",\"\",'Oman Results'!C191)","v":""},{"$f":"IF(OR('Oman Results'!D191=\"\",'Oman Results'!D191=\"Totals\"),\"\",'Oman Results'!D191)","v":""},"",{"$f":"IF('Oman Results'!E191=\"\",\"\",'Oman Results'!E191)","v":""},{"$f":"IF('Oman Results'!F191=\"\",\"\",'Oman Results'!F191)","v":""},{"$f":"IF(B191=\"\",\"\",IF(VLOOKUP(B191,'Oman Results'!C191:AI1184,31)=\"x\",'Oman Results'!AK191,'Oman Results'!G191))","v":""},"",{"$f":"IF(B191=\"\",\"\",IF(VLOOKUP(B191,'Oman Results'!C191:AI1184,31)=\"x\",\"Yes\",\"\"))","v":""},{"$f":"IF(B191=\"\",\"\",IF(VLOOKUP(B191,'Oman Results'!C191:AI1184,31)=\"x\",'Oman Results'!G191,\"\"))","v":""},{"$f":"IF(B191=\"\",\"\",IF(VLOOKUP(B191,'Oman Results'!C191:AI1184,31)=\"x\",'Oman Results'!AJ191,\"\"))","v":""},{"$f":"IF(B191=\"\",\"\",IF(VLOOKUP(B191,'Oman Results'!C191:AI1184,31)=\"x\",'Oman Results'!AK191,\"\"))","v":""},null,null,"","","",""]
["",{"$f":"IF('Oman Results'!C192=\"\",\"\",'Oman Results'!C192)","v":""},{"$f":"IF(OR('Oman Results'!D192=\"\",'Oman Results'!D192=\"Totals\"),\"\",'Oman Results'!D192)","v":""},"",{"$f":"IF('Oman Results'!E192=\"\",\"\",'Oman Results'!E192)","v":""},{"$f":"IF('Oman Results'!F192=\"\",\"\",'Oman Results'!F192)","v":""},{"$f":"IF(B192=\"\",\"\",IF(VLOOKUP(B192,'Oman Results'!C192:AI1185,31)=\"x\",'Oman Results'!AK192,'Oman Results'!G192))","v":""},"",{"$f":"IF(B192=\"\",\"\",IF(VLOOKUP(B192,'Oman Results'!C192:AI1185,31)=\"x\",\"Yes\",\"\"))","v":""},{"$f":"IF(B192=\"\",\"\",IF(VLOOKUP(B192,'Oman Results'!C192:AI1185,31)=\"x\",'Oman Results'!G192,\"\"))","v":""},{"$f":"IF(B192=\"\",\"\",IF(VLOOKUP(B192,'Oman Results'!C192:AI1185,31)=\"x\",'Oman Results'!AJ192,\"\"))","v":""},{"$f":"IF(B192=\"\",\"\",IF(VLOOKUP(B192,'Oman Results'!C192:AI1185,31)=\"x\",'Oman Results'!AK192,\"\"))","v":""},null,null,"","","",""]
["",{"$f":"IF('Oman Results'!C193=\"\",\"\",'Oman Results'!C193)","v":""},{"$f":"IF(OR('Oman Results'!D193=\"\",'Oman Results'!D193=\"Totals\"),\"\",'Oman Results'!D193)","v":""},"",{"$f":"IF('Oman Results'!E193=\"\",\"\",'Oman Results'!E193)","v":""},{"$f":"IF('Oman Results'!F193=\"\",\"\",'Oman Results'!F193)","v":""},{"$f":"IF(B193=\"\",\"\",IF(VLOOKUP(B193,'Oman Results'!C193:AI1186,31)=\"x\",'Oman Results'!AK193,'Oman Results'!G193))","v":""},"",{"$f":"IF(B193=\"\",\"\",IF(VLOOKUP(B193,'Oman Results'!C193:AI1186,31)=\"x\",\"Yes\",\"\"))","v":""},{"$f":"IF(B193=\"\",\"\",IF(VLOOKUP(B193,'Oman Results'!C193:AI1186,31)=\"x\",'Oman Results'!G193,\"\"))","v":""},{"$f":"IF(B193=\"\",\"\",IF(VLOOKUP(B193,'Oman Results'!C193:AI1186,31)=\"x\",'Oman Results'!AJ193,\"\"))","v":""},{"$f":"IF(B193=\"\",\"\",IF(VLOOKUP(B193,'Oman Results'!C193:AI1186,31)=\"x\",'Oman Results'!AK193,\"\"))","v":""},null,null,"","","",""]
["",{"$f":"IF('Oman Results'!C194=\"\",\"\",'Oman Results'!C194)","v":""},{"$f":"IF(OR('Oman Results'!D194=\"\",'Oman Results'!D194=\"Totals\"),\"\",'Oman Results'!D194)","v":""},"",{"$f":"IF('Oman Results'!E194=\"\",\"\",'Oman Results'!E194)","v":""},{"$f":"IF('Oman Results'!F194=\"\",\"\",'Oman Results'!F194)","v":""},{"$f":"IF(B194=\"\",\"\",IF(VLOOKUP(B194,'Oman Results'!C194:AI1187,31)=\"x\",'Oman Results'!AK194,'Oman Results'!G194))","v":""},"",{"$f":"IF(B194=\"\",\"\",IF(VLOOKUP(B194,'Oman Results'!C194:AI1187,31)=\"x\",\"Yes\",\"\"))","v":""},{"$f":"IF(B194=\"\",\"\",IF(VLOOKUP(B194,'Oman Results'!C194:AI1187,31)=\"x\",'Oman Results'!G194,\"\"))","v":""},{"$f":"IF(B194=\"\",\"\",IF(VLOOKUP(B194,'Oman Results'!C194:AI1187,31)=\"x\",'Oman Results'!AJ194,\"\"))","v":""},{"$f":"IF(B194=\"\",\"\",IF(VLOOKUP(B194,'Oman Results'!C194:AI1187,31)=\"x\",'Oman Results'!AK194,\"\"))","v":""},null,null,"",{"$f":"IF(O194=1,G194,\"\")","v":""},"",{"$f":"IF(O194=1,\"\",H194)","v":""}]
["",{"$f":"IF('Oman Results'!C195=\"\",\"\",'Oman Results'!C195)","v":""},{"$f":"IF(OR('Oman Results'!D195=\"\",'Oman Results'!D195=\"Totals\"),\"\",'Oman Results'!D195)","v":""},{"$f":"IF(ISNUMBER(SEARCH(\"{\",C195)),\"Yes\", \"\")","v":""},{"$f":"IF('Oman Results'!E195=\"\",\"\",'Oman Results'!E195)","v":""},{"$f":"IF('Oman Results'!F195=\"\",\"\",'Oman Results'!F195)","v":""},{"$f":"IF(B195=\"\",\"\",IF(VLOOKUP(B195,'Oman Results'!C195:AI1188,31)=\"x\",'Oman Results'!AK195,'Oman Results'!G195))","v":""},{"$f":"IF(E195=\"\",\"\",E195*G195)","v":""},{"$f":"IF(B195=\"\",\"\",IF(VLOOKUP(B195,'Oman Results'!C195:AI1188,31)=\"x\",\"Yes\",\"\"))","v":""},{"$f":"IF(B195=\"\",\"\",IF(VLOOKUP(B195,'Oman Results'!C195:AI1188,31)=\"x\",'Oman Results'!G195,\"\"))","v":""},{"$f":"IF(B195=\"\",\"\",IF(VLOOKUP(B195,'Oman Results'!C195:AI1188,31)=\"x\",'Oman Results'!AJ195,\"\"))","v":""},{"$f":"IF(B195=\"\",\"\",IF(VLOOKUP(B195,'Oman Results'!C195:AI1188,31)=\"x\",'Oman Results'!AK195,\"\"))","v":""},null,null,{"$f":"IF(OR(LEFT(F195,3)=\"L.S\",LEFT(F195,2)=\"LS\"),1,\"\")","v":""},"",{"$f":"IF(I195=\"Yes\",G195,\"\")","v":""},""]
[{"$f":"IF(B196=\"\",\"\",1+A195)","v":""},{"$f":"IF('Oman Results'!C196=\"\",\"\",'Oman Results'!C196)","v":""},{"$f":"IF(OR('Oman Results'!D196=\"\",'Oman Results'!D196=\"Totals\"),\"\",'Oman Results'!D196)","v":""},"",{"$f":"IF('Oman Results'!E196=\"\",\"\",'Oman Results'!E196)","v":""},{"$f":"IF('Oman Results'!F196=\"\",\"\",'Oman Results'!F196)","v":""},{"$f":"IF(B196=\"\",\"\",IF(VLOOKUP(B196,'Oman Results'!C196:AI1189,31)=\"x\",'Oman Results'!AK196,'Oman Results'!G196))","v":""},"",{"$f":"IF(B196=\"\",\"\",IF(VLOOKUP(B196,'Oman Results'!C196:AI1189,31)=\"x\",\"Yes\",\"\"))","v":""},{"$f":"IF(B196=\"\",\"\",IF(VLOOKUP(B196,'Oman Results'!C196:AI1189,31)=\"x\",'Oman Results'!G196,\"\"))","v":""},{"$f":"IF(B196=\"\",\"\",IF(VLOOKUP(B196,'Oman Results'!C196:AI1189,31)=\"x\",'Oman Results'!AJ196,\"\"))","v":""},{"$f":"IF(B196=\"\",\"\",IF(VLOOKUP(B196,'Oman Results'!C196:AI1189,31)=\"x\",'Oman Results'!AK196,\"\"))","v":""},null,null,"","","",""]
["",{"$f":"IF('Oman Results'!C197=\"\",\"\",'Oman Results'!C197)","v":""},{"$f":"IF(OR('Oman Results'!D197=\"\",'Oman Results'!D197=\"Totals\"),\"\",'Oman Results'!D197)","v":""},"",{"$f":"IF('Oman Results'!E197=\"\",\"\",'Oman Results'!E197)","v":""},{"$f":"IF('Oman Results'!F197=\"\",\"\",'Oman Results'!F197)","v":""},{"$f":"IF(B197=\"\",\"\",IF(VLOOKUP(B197,'Oman Results'!C197:AI1190,31)=\"x\",'Oman Results'!AK197,'Oman Results'!G197))","v":""},"",{"$f":"IF(B197=\"\",\"\",IF(VLOOKUP(B197,'Oman Results'!C197:AI1190,31)=\"x\",\"Yes\",\"\"))","v":""},{"$f":"IF(B197=\"\",\"\",IF(VLOOKUP(B197,'Oman Results'!C197:AI1190,31)=\"x\",'Oman Results'!G197,\"\"))","v":""},{"$f":"IF(B197=\"\",\"\",IF(VLOOKUP(B197,'Oman Results'!C197:AI1190,31)=\"x\",'Oman Results'!AJ197,\"\"))","v":""},{"$f":"IF(B197=\"\",\"\",IF(VLOOKUP(B197,'Oman Results'!C197:AI1190,31)=\"x\",'Oman Results'!AK197,\"\"))","v":""},null,null,"","","",""]
["",{"$f":"IF('Oman Results'!C198=\"\",\"\",'Oman Results'!C198)","v":""},{"$f":"IF(OR('Oman Results'!D198=\"\",'Oman Results'!D198=\"Totals\"),\"\",'Oman Results'!D198)","v":""},"",{"$f":"IF('Oman Results'!E198=\"\",\"\",'Oman Results'!E198)","v":""},{"$f":"IF('Oman Results'!F198=\"\",\"\",'Oman Results'!F198)","v":""},{"$f":"IF(B198=\"\",\"\",IF(VLOOKUP(B198,'Oman Results'!C198:AI1191,31)=\"x\",'Oman Results'!AK198,'Oman Results'!G198))","v":""},"",{"$f":"IF(B198=\"\",\"\",IF(VLOOKUP(B198,'Oman Results'!C198:AI1191,31)=\"x\",\"Yes\",\"\"))","v":""},{"$f":"IF(B198=\"\",\"\",IF(VLOOKUP(B198,'Oman Results'!C198:AI1191,31)=\"x\",'Oman Results'!G198,\"\"))","v":""},{"$f":"IF(B198=\"\",\"\",IF(VLOOKUP(B198,'Oman Results'!C198:AI1191,31)=\"x\",'Oman Results'!AJ198,\"\"))","v":""},{"$f":"IF(B198=\"\",\"\",IF(VLOOKUP(B198,'Oman Results'!C198:AI1191,31)=\"x\",'Oman Results'!AK198,\"\"))","v":""},null,null,"","","",""]
["",{"$f":"IF('Oman Results'!C199=\"\",\"\",'Oman Results'!C199)","v":""},{"$f":"IF(OR('Oman Results'!D199=\"\",'Oman Results'!D199=\"Totals\"),\"\",'Oman Results'!D199)","v":""},"",{"$f":"IF('Oman Results'!E199=\"\",\"\",'Oman Results'!E199)","v":""},{"$f":"IF('Oman Results'!F199=\"\",\"\",'Oman Results'!F199)","v":""},{"$f":"IF(B199=\"\",\"\",IF(VLOOKUP(B199,'Oman Results'!C199:AI1192,31)=\"x\",'Oman Results'!AK199,'Oman Results'!G199))","v":""},"",{"$f":"IF(B199=\"\",\"\",IF(VLOOKUP(B199,'Oman Results'!C199:AI1192,31)=\"x\",\"Yes\",\"\"))","v":""},{"$f":"IF(B199=\"\",\"\",IF(VLOOKUP(B199,'Oman Results'!C199:AI1192,31)=\"x\",'Oman Results'!G199,\"\"))","v":""},{"$f":"IF(B199=\"\",\"\",IF(VLOOKUP(B199,'Oman Results'!C199:AI1192,31)=\"x\",'Oman Results'!AJ199,\"\"))","v":""},{"$f":"IF(B199=\"\",\"\",IF(VLOOKUP(B199,'Oman Results'!C199:AI1192,31)=\"x\",'Oman Results'!AK199,\"\"))","v":""},null,null,"","","",""]
["",{"$f":"IF('Oman Results'!C200=\"\",\"\",'Oman Results'!C200)","v":""},{"$f":"IF(OR('Oman Results'!D200=\"\",'Oman Results'!D200=\"Totals\"),\"\",'Oman Results'!D200)","v":""},"",{"$f":"IF('Oman Results'!E200=\"\",\"\",'Oman Results'!E200)","v":""},{"$f":"IF('Oman Results'!F200=\"\",\"\",'Oman Results'!F200)","v":""},{"$f":"IF(B200=\"\",\"\",IF(VLOOKUP(B200,'Oman Results'!C200:AI1193,31)=\"x\",'Oman Results'!AK200,'Oman Results'!G200))","v":""},"",{"$f":"IF(B200=\"\",\"\",IF(VLOOKUP(B200,'Oman Results'!C200:AI1193,31)=\"x\",\"Yes\",\"\"))","v":""},{"$f":"IF(B200=\"\",\"\",IF(VLOOKUP(B200,'Oman Results'!C200:AI1193,31)=\"x\",'Oman Results'!G200,\"\"))","v":""},{"$f":"IF(B200=\"\",\"\",IF(VLOOKUP(B200,'Oman Results'!C200:AI1193,31)=\"x\",'Oman Results'!AJ200,\"\"))","v":""},{"$f":"IF(B200=\"\",\"\",IF(VLOOKUP(B200,'Oman Results'!C200:AI1193,31)=\"x\",'Oman Results'!AK200,\"\"))","v":""},null,null,"","","",""]
["",{"$f":"IF('Oman Results'!C201=\"\",\"\",'Oman Results'!C201)","v":""},{"$f":"IF(OR('Oman Results'!D201=\"\",'Oman Results'!D201=\"Totals\"),\"\",'Oman Results'!D201)","v":""},"",{"$f":"IF('Oman Results'!E201=\"\",\"\",'Oman Results'!E201)","v":""},{"$f":"IF('Oman Results'!F201=\"\",\"\",'Oman Results'!F201)","v":""},{"$f":"IF(B201=\"\",\"\",IF(VLOOKUP(B201,'Oman Results'!C201:AI1194,31)=\"x\",'Oman Results'!AK201,'Oman Results'!G201))","v":""},"",{"$f":"IF(B201=\"\",\"\",IF(VLOOKUP(B201,'Oman Results'!C201:AI1194,31)=\"x\",\"Yes\",\"\"))","v":""},{"$f":"IF(B201=\"\",\"\",IF(VLOOKUP(B201,'Oman Results'!C201:AI1194,31)=\"x\",'Oman Results'!G201,\"\"))","v":""},{"$f":"IF(B201=\"\",\"\",IF(VLOOKUP(B201,'Oman Results'!C201:AI1194,31)=\"x\",'Oman Results'!AJ201,\"\"))","v":""},{"$f":"IF(B201=\"\",\"\",IF(VLOOKUP(B201,'Oman Results'!C201:AI1194,31)=\"x\",'Oman Results'!AK201,\"\"))","v":""},null,null,"","","",""]
["",{"$f":"IF('Oman Results'!C202=\"\",\"\",'Oman Results'!C202)","v":""},{"$f":"IF(OR('Oman Results'!D202=\"\",'Oman Results'!D202=\"Totals\"),\"\",'Oman Results'!D202)","v":""},"",{"$f":"IF('Oman Results'!E202=\"\",\"\",'Oman Results'!E202)","v":""},{"$f":"IF('Oman Results'!F202=\"\",\"\",'Oman Results'!F202)","v":""},{"$f":"IF(B202=\"\",\"\",IF(VLOOKUP(B202,'Oman Results'!C202:AI1195,31)=\"x\",'Oman Results'!AK202,'Oman Results'!G202))","v":""},"",{"$f":"IF(B202=\"\",\"\",IF(VLOOKUP(B202,'Oman Results'!C202:AI1195,31)=\"x\",\"Yes\",\"\"))","v":""},{"$f":"IF(B202=\"\",\"\",IF(VLOOKUP(B202,'Oman Results'!C202:AI1195,31)=\"x\",'Oman Results'!G202,\"\"))","v":""},{"$f":"IF(B202=\"\",\"\",IF(VLOOKUP(B202,'Oman Results'!C202:AI1195,31)=\"x\",'Oman Results'!AJ202,\"\"))","v":""},{"$f":"IF(B202=\"\",\"\",IF(VLOOKUP(B202,'Oman Results'!C202:AI1195,31)=\"x\",'Oman Results'!AK202,\"\"))","v":""},null,null,"","","",""]
["",{"$f":"IF('Oman Results'!C203=\"\",\"\",'Oman Results'!C203)","v":""},{"$f":"IF(OR('Oman Results'!D203=\"\",'Oman Results'!D203=\"Totals\"),\"\",'Oman Results'!D203)","v":""},"",{"$f":"IF('Oman Results'!E203=\"\",\"\",'Oman Results'!E203)","v":""},{"$f":"IF('Oman Results'!F203=\"\",\"\",'Oman Results'!F203)","v":""},{"$f":"IF(B203=\"\",\"\",IF(VLOOKUP(B203,'Oman Results'!C203:AI1196,31)=\"x\",'Oman Results'!AK203,'Oman Results'!G203))","v":""},"",{"$f":"IF(B203=\"\",\"\",IF(VLOOKUP(B203,'Oman Results'!C203:AI1196,31)=\"x\",\"Yes\",\"\"))","v":""},{"$f":"IF(B203=\"\",\"\",IF(VLOOKUP(B203,'Oman Results'!C203:AI1196,31)=\"x\",'Oman Results'!G203,\"\"))","v":""},{"$f":"IF(B203=\"\",\"\",IF(VLOOKUP(B203,'Oman Results'!C203:AI1196,31)=\"x\",'Oman Results'!AJ203,\"\"))","v":""},{"$f":"IF(B203=\"\",\"\",IF(VLOOKUP(B203,'Oman Results'!C203:AI1196,31)=\"x\",'Oman Results'!AK203,\"\"))","v":""},null,null,"","","",""]
["",{"$f":"IF('Oman Results'!C204=\"\",\"\",'Oman Results'!C204)","v":""},{"$f":"IF(OR('Oman Results'!D204=\"\",'Oman Results'!D204=\"Totals\"),\"\",'Oman Results'!D204)","v":""},"",{"$f":"IF('Oman Results'!E204=\"\",\"\",'Oman Results'!E204)","v":""},{"$f":"IF('Oman Results'!F204=\"\",\"\",'Oman Results'!F204)","v":""},{"$f":"IF(B204=\"\",\"\",IF(VLOOKUP(B204,'Oman Results'!C204:AI1197,31)=\"x\",'Oman Results'!AK204,'Oman Results'!G204))","v":""},"",{"$f":"IF(B204=\"\",\"\",IF(VLOOKUP(B204,'Oman Results'!C204:AI1197,31)=\"x\",\"Yes\",\"\"))","v":""},{"$f":"IF(B204=\"\",\"\",IF(VLOOKUP(B204,'Oman Results'!C204:AI1197,31)=\"x\",'Oman Results'!G204,\"\"))","v":""},{"$f":"IF(B204=\"\",\"\",IF(VLOOKUP(B204,'Oman Results'!C204:AI1197,31)=\"x\",'Oman Results'!AJ204,\"\"))","v":""},{"$f":"IF(B204=\"\",\"\",IF(VLOOKUP(B204,'Oman Results'!C204:AI1197,31)=\"x\",'Oman Results'!AK204,\"\"))","v":""},null,null,"","","",""]
["",{"$f":"IF('Oman Results'!C205=\"\",\"\",'Oman Results'!C205)","v":""},{"$f":"IF(OR('Oman Results'!D205=\"\",'Oman Results'!D205=\"Totals\"),\"\",'Oman Results'!D205)","v":""},"",{"$f":"IF('Oman Results'!E205=\"\",\"\",'Oman Results'!E205)","v":""},{"$f":"IF('Oman Results'!F205=\"\",\"\",'Oman Results'!F205)","v":""},{"$f":"IF(B205=\"\",\"\",IF(VLOOKUP(B205,'Oman Results'!C205:AI1198,31)=\"x\",'Oman Results'!AK205,'Oman Results'!G205))","v":""},"",{"$f":"IF(B205=\"\",\"\",IF(VLOOKUP(B205,'Oman Results'!C205:AI1198,31)=\"x\",\"Yes\",\"\"))","v":""},{"$f":"IF(B205=\"\",\"\",IF(VLOOKUP(B205,'Oman Results'!C205:AI1198,31)=\"x\",'Oman Results'!G205,\"\"))","v":""},{"$f":"IF(B205=\"\",\"\",IF(VLOOKUP(B205,'Oman Results'!C205:AI1198,31)=\"x\",'Oman Results'!AJ205,\"\"))","v":""},{"$f":"IF(B205=\"\",\"\",IF(VLOOKUP(B205,'Oman Results'!C205:AI1198,31)=\"x\",'Oman Results'!AK205,\"\"))","v":""},null,null,"","","",""]
["",{"$f":"IF('Oman Results'!C206=\"\",\"\",'Oman Results'!C206)","v":""},{"$f":"IF(OR('Oman Results'!D206=\"\",'Oman Results'!D206=\"Totals\"),\"\",'Oman Results'!D206)","v":""},"",{"$f":"IF('Oman Results'!E206=\"\",\"\",'Oman Results'!E206)","v":""},{"$f":"IF('Oman Results'!F206=\"\",\"\",'Oman Results'!F206)","v":""},{"$f":"IF(B206=\"\",\"\",IF(VLOOKUP(B206,'Oman Results'!C206:AI1199,31)=\"x\",'Oman Results'!AK206,'Oman Results'!G206))","v":""},"",{"$f":"IF(B206=\"\",\"\",IF(VLOOKUP(B206,'Oman Results'!C206:AI1199,31)=\"x\",\"Yes\",\"\"))","v":""},{"$f":"IF(B206=\"\",\"\",IF(VLOOKUP(B206,'Oman Results'!C206:AI1199,31)=\"x\",'Oman Results'!G206,\"\"))","v":""},{"$f":"IF(B206=\"\",\"\",IF(VLOOKUP(B206,'Oman Results'!C206:AI1199,31)=\"x\",'Oman Results'!AJ206,\"\"))","v":""},{"$f":"IF(B206=\"\",\"\",IF(VLOOKUP(B206,'Oman Results'!C206:AI1199,31)=\"x\",'Oman Results'!AK206,\"\"))","v":""},null,null,"","","",""]
["",{"$f":"IF('Oman Results'!C207=\"\",\"\",'Oman Results'!C207)","v":""},{"$f":"IF(OR('Oman Results'!D207=\"\",'Oman Results'!D207=\"Totals\"),\"\",'Oman Results'!D207)","v":""},"",{"$f":"IF('Oman Results'!E207=\"\",\"\",'Oman Results'!E207)","v":""},{"$f":"IF('Oman Results'!F207=\"\",\"\",'Oman Results'!F207)","v":""},{"$f":"IF(B207=\"\",\"\",IF(VLOOKUP(B207,'Oman Results'!C207:AI1200,31)=\"x\",'Oman Results'!AK207,'Oman Results'!G207))","v":""},"",{"$f":"IF(B207=\"\",\"\",IF(VLOOKUP(B207,'Oman Results'!C207:AI1200,31)=\"x\",\"Yes\",\"\"))","v":""},{"$f":"IF(B207=\"\",\"\",IF(VLOOKUP(B207,'Oman Results'!C207:AI1200,31)=\"x\",'Oman Results'!G207,\"\"))","v":""},{"$f":"IF(B207=\"\",\"\",IF(VLOOKUP(B207,'Oman Results'!C207:AI1200,31)=\"x\",'Oman Results'!AJ207,\"\"))","v":""},{"$f":"IF(B207=\"\",\"\",IF(VLOOKUP(B207,'Oman Results'!C207:AI1200,31)=\"x\",'Oman Results'!AK207,\"\"))","v":""},null,null,"","","",""]
["",{"$f":"IF('Oman Results'!C208=\"\",\"\",'Oman Results'!C208)","v":""},{"$f":"IF(OR('Oman Results'!D208=\"\",'Oman Results'!D208=\"Totals\"),\"\",'Oman Results'!D208)","v":""},"",{"$f":"IF('Oman Results'!E208=\"\",\"\",'Oman Results'!E208)","v":""},{"$f":"IF('Oman Results'!F208=\"\",\"\",'Oman Results'!F208)","v":""},{"$f":"IF(B208=\"\",\"\",IF(VLOOKUP(B208,'Oman Results'!C208:AI1201,31)=\"x\",'Oman Results'!AK208,'Oman Results'!G208))","v":""},"",{"$f":"IF(B208=\"\",\"\",IF(VLOOKUP(B208,'Oman Results'!C208:AI1201,31)=\"x\",\"Yes\",\"\"))","v":""},{"$f":"IF(B208=\"\",\"\",IF(VLOOKUP(B208,'Oman Results'!C208:AI1201,31)=\"x\",'Oman Results'!G208,\"\"))","v":""},{"$f":"IF(B208=\"\",\"\",IF(VLOOKUP(B208,'Oman Results'!C208:AI1201,31)=\"x\",'Oman Results'!AJ208,\"\"))","v":""},{"$f":"IF(B208=\"\",\"\",IF(VLOOKUP(B208,'Oman Results'!C208:AI1201,31)=\"x\",'Oman Results'!AK208,\"\"))","v":""},null,null,"","","",""]
["",{"$f":"IF('Oman Results'!C209=\"\",\"\",'Oman Results'!C209)","v":""},{"$f":"IF(OR('Oman Results'!D209=\"\",'Oman Results'!D209=\"Totals\"),\"\",'Oman Results'!D209)","v":""},"",{"$f":"IF('Oman Results'!E209=\"\",\"\",'Oman Results'!E209)","v":""},{"$f":"IF('Oman Results'!F209=\"\",\"\",'Oman Results'!F209)","v":""},{"$f":"IF(B209=\"\",\"\",IF(VLOOKUP(B209,'Oman Results'!C209:AI1202,31)=\"x\",'Oman Results'!AK209,'Oman Results'!G209))","v":""},"",{"$f":"IF(B209=\"\",\"\",IF(VLOOKUP(B209,'Oman Results'!C209:AI1202,31)=\"x\",\"Yes\",\"\"))","v":""},{"$f":"IF(B209=\"\",\"\",IF(VLOOKUP(B209,'Oman Results'!C209:AI1202,31)=\"x\",'Oman Results'!G209,\"\"))","v":""},{"$f":"IF(B209=\"\",\"\",IF(VLOOKUP(B209,'Oman Results'!C209:AI1202,31)=\"x\",'Oman Results'!AJ209,\"\"))","v":""},{"$f":"IF(B209=\"\",\"\",IF(VLOOKUP(B209,'Oman Results'!C209:AI1202,31)=\"x\",'Oman Results'!AK209,\"\"))","v":""},null,null,"","","",""]
["",{"$f":"IF('Oman Results'!C210=\"\",\"\",'Oman Results'!C210)","v":""},{"$f":"IF(OR('Oman Results'!D210=\"\",'Oman Results'!D210=\"Totals\"),\"\",'Oman Results'!D210)","v":""},"",{"$f":"IF('Oman Results'!E210=\"\",\"\",'Oman Results'!E210)","v":""},{"$f":"IF('Oman Results'!F210=\"\",\"\",'Oman Results'!F210)","v":""},{"$f":"IF(B210=\"\",\"\",IF(VLOOKUP(B210,'Oman Results'!C210:AI1203,31)=\"x\",'Oman Results'!AK210,'Oman Results'!G210))","v":""},"",{"$f":"IF(B210=\"\",\"\",IF(VLOOKUP(B210,'Oman Results'!C210:AI1203,31)=\"x\",\"Yes\",\"\"))","v":""},{"$f":"IF(B210=\"\",\"\",IF(VLOOKUP(B210,'Oman Results'!C210:AI1203,31)=\"x\",'Oman Results'!G210,\"\"))","v":""},{"$f":"IF(B210=\"\",\"\",IF(VLOOKUP(B210,'Oman Results'!C210:AI1203,31)=\"x\",'Oman Results'!AJ210,\"\"))","v":""},{"$f":"IF(B210=\"\",\"\",IF(VLOOKUP(B210,'Oman Results'!C210:AI1203,31)=\"x\",'Oman Results'!AK210,\"\"))","v":""},null,null,"","","",""]
["",{"$f":"IF('Oman Results'!C211=\"\",\"\",'Oman Results'!C211)","v":""},{"$f":"IF(OR('Oman Results'!D211=\"\",'Oman Results'!D211=\"Totals\"),\"\",'Oman Results'!D211)","v":""},"",{"$f":"IF('Oman Results'!E211=\"\",\"\",'Oman Results'!E211)","v":""},{"$f":"IF('Oman Results'!F211=\"\",\"\",'Oman Results'!F211)","v":""},{"$f":"IF(B211=\"\",\"\",IF(VLOOKUP(B211,'Oman Results'!C211:AI1204,31)=\"x\",'Oman Results'!AK211,'Oman Results'!G211))","v":""},"",{"$f":"IF(B211=\"\",\"\",IF(VLOOKUP(B211,'Oman Results'!C211:AI1204,31)=\"x\",\"Yes\",\"\"))","v":""},{"$f":"IF(B211=\"\",\"\",IF(VLOOKUP(B211,'Oman Results'!C211:AI1204,31)=\"x\",'Oman Results'!G211,\"\"))","v":""},{"$f":"IF(B211=\"\",\"\",IF(VLOOKUP(B211,'Oman Results'!C211:AI1204,31)=\"x\",'Oman Results'!AJ211,\"\"))","v":""},{"$f":"IF(B211=\"\",\"\",IF(VLOOKUP(B211,'Oman Results'!C211:AI1204,31)=\"x\",'Oman Results'!AK211,\"\"))","v":""},null,null,"","","",""]
["",{"$f":"IF('Oman Results'!C212=\"\",\"\",'Oman Results'!C212)","v":""},{"$f":"IF(OR('Oman Results'!D212=\"\",'Oman Results'!D212=\"Totals\"),\"\",'Oman Results'!D212)","v":""},"",{"$f":"IF('Oman Results'!E212=\"\",\"\",'Oman Results'!E212)","v":""},{"$f":"IF('Oman Results'!F212=\"\",\"\",'Oman Results'!F212)","v":""},{"$f":"IF(B212=\"\",\"\",IF(VLOOKUP(B212,'Oman Results'!C212:AI1205,31)=\"x\",'Oman Results'!AK212,'Oman Results'!G212))","v":""},"",{"$f":"IF(B212=\"\",\"\",IF(VLOOKUP(B212,'Oman Results'!C212:AI1205,31)=\"x\",\"Yes\",\"\"))","v":""},{"$f":"IF(B212=\"\",\"\",IF(VLOOKUP(B212,'Oman Results'!C212:AI1205,31)=\"x\",'Oman Results'!G212,\"\"))","v":""},{"$f":"IF(B212=\"\",\"\",IF(VLOOKUP(B212,'Oman Results'!C212:AI1205,31)=\"x\",'Oman Results'!AJ212,\"\"))","v":""},{"$f":"IF(B212=\"\",\"\",IF(VLOOKUP(B212,'Oman Results'!C212:AI1205,31)=\"x\",'Oman Results'!AK212,\"\"))","v":""},null,null,"","","",""]
["",{"$f":"IF('Oman Results'!C213=\"\",\"\",'Oman Results'!C213)","v":""},{"$f":"IF(OR('Oman Results'!D213=\"\",'Oman Results'!D213=\"Totals\"),\"\",'Oman Results'!D213)","v":""},"",{"$f":"IF('Oman Results'!E213=\"\",\"\",'Oman Results'!E213)","v":""},{"$f":"IF('Oman Results'!F213=\"\",\"\",'Oman Results'!F213)","v":""},{"$f":"IF(B213=\"\",\"\",IF(VLOOKUP(B213,'Oman Results'!C213:AI1206,31)=\"x\",'Oman Results'!AK213,'Oman Results'!G213))","v":""},"",{"$f":"IF(B213=\"\",\"\",IF(VLOOKUP(B213,'Oman Results'!C213:AI1206,31)=\"x\",\"Yes\",\"\"))","v":""},{"$f":"IF(B213=\"\",\"\",IF(VLOOKUP(B213,'Oman Results'!C213:AI1206,31)=\"x\",'Oman Results'!G213,\"\"))","v":""},{"$f":"IF(B213=\"\",\"\",IF(VLOOKUP(B213,'Oman Results'!C213:AI1206,31)=\"x\",'Oman Results'!AJ213,\"\"))","v":""},{"$f":"IF(B213=\"\",\"\",IF(VLOOKUP(B213,'Oman Results'!C213:AI1206,31)=\"x\",'Oman Results'!AK213,\"\"))","v":""},null,null,"","","",""]
["",{"$f":"IF('Oman Results'!C214=\"\",\"\",'Oman Results'!C214)","v":""},{"$f":"IF(OR('Oman Results'!D214=\"\",'Oman Results'!D214=\"Totals\"),\"\",'Oman Results'!D214)","v":""},"",{"$f":"IF('Oman Results'!E214=\"\",\"\",'Oman Results'!E214)","v":""},{"$f":"IF('Oman Results'!F214=\"\",\"\",'Oman Results'!F214)","v":""},{"$f":"IF(B214=\"\",\"\",IF(VLOOKUP(B214,'Oman Results'!C214:AI1207,31)=\"x\",'Oman Results'!AK214,'Oman Results'!G214))","v":""},"",{"$f":"IF(B214=\"\",\"\",IF(VLOOKUP(B214,'Oman Results'!C214:AI1207,31)=\"x\",\"Yes\",\"\"))","v":""},{"$f":"IF(B214=\"\",\"\",IF(VLOOKUP(B214,'Oman Results'!C214:AI1207,31)=\"x\",'Oman Results'!G214,\"\"))","v":""},{"$f":"IF(B214=\"\",\"\",IF(VLOOKUP(B214,'Oman Results'!C214:AI1207,31)=\"x\",'Oman Results'!AJ214,\"\"))","v":""},{"$f":"IF(B214=\"\",\"\",IF(VLOOKUP(B214,'Oman Results'!C214:AI1207,31)=\"x\",'Oman Results'!AK214,\"\"))","v":""},null,null,"","","",""]
["",{"$f":"IF('Oman Results'!C215=\"\",\"\",'Oman Results'!C215)","v":""},{"$f":"IF(OR('Oman Results'!D215=\"\",'Oman Results'!D215=\"Totals\"),\"\",'Oman Results'!D215)","v":""},"",{"$f":"IF('Oman Results'!E215=\"\",\"\",'Oman Results'!E215)","v":""},{"$f":"IF('Oman Results'!F215=\"\",\"\",'Oman Results'!F215)","v":""},{"$f":"IF(B215=\"\",\"\",IF(VLOOKUP(B215,'Oman Results'!C215:AI1208,31)=\"x\",'Oman Results'!AK215,'Oman Results'!G215))","v":""},"",{"$f":"IF(B215=\"\",\"\",IF(VLOOKUP(B215,'Oman Results'!C215:AI1208,31)=\"x\",\"Yes\",\"\"))","v":""},{"$f":"IF(B215=\"\",\"\",IF(VLOOKUP(B215,'Oman Results'!C215:AI1208,31)=\"x\",'Oman Results'!G215,\"\"))","v":""},{"$f":"IF(B215=\"\",\"\",IF(VLOOKUP(B215,'Oman Results'!C215:AI1208,31)=\"x\",'Oman Results'!AJ215,\"\"))","v":""},{"$f":"IF(B215=\"\",\"\",IF(VLOOKUP(B215,'Oman Results'!C215:AI1208,31)=\"x\",'Oman Results'!AK215,\"\"))","v":""},null,null,"","","",""]
["",{"$f":"IF('Oman Results'!C216=\"\",\"\",'Oman Results'!C216)","v":""},{"$f":"IF(OR('Oman Results'!D216=\"\",'Oman Results'!D216=\"Totals\"),\"\",'Oman Results'!D216)","v":""},"",{"$f":"IF('Oman Results'!E216=\"\",\"\",'Oman Results'!E216)","v":""},{"$f":"IF('Oman Results'!F216=\"\",\"\",'Oman Results'!F216)","v":""},{"$f":"IF(B216=\"\",\"\",IF(VLOOKUP(B216,'Oman Results'!C216:AI1209,31)=\"x\",'Oman Results'!AK216,'Oman Results'!G216))","v":""},"",{"$f":"IF(B216=\"\",\"\",IF(VLOOKUP(B216,'Oman Results'!C216:AI1209,31)=\"x\",\"Yes\",\"\"))","v":""},{"$f":"IF(B216=\"\",\"\",IF(VLOOKUP(B216,'Oman Results'!C216:AI1209,31)=\"x\",'Oman Results'!G216,\"\"))","v":""},{"$f":"IF(B216=\"\",\"\",IF(VLOOKUP(B216,'Oman Results'!C216:AI1209,31)=\"x\",'Oman Results'!AJ216,\"\"))","v":""},{"$f":"IF(B216=\"\",\"\",IF(VLOOKUP(B216,'Oman Results'!C216:AI1209,31)=\"x\",'Oman Results'!AK216,\"\"))","v":""},null,null,"","","",""]
["",{"$f":"IF('Oman Results'!C217=\"\",\"\",'Oman Results'!C217)","v":""},{"$f":"IF(OR('Oman Results'!D217=\"\",'Oman Results'!D217=\"Totals\"),\"\",'Oman Results'!D217)","v":""},"",{"$f":"IF('Oman Results'!E217=\"\",\"\",'Oman Results'!E217)","v":""},{"$f":"IF('Oman Results'!F217=\"\",\"\",'Oman Results'!F217)","v":""},{"$f":"IF(B217=\"\",\"\",IF(VLOOKUP(B217,'Oman Results'!C217:AI1210,31)=\"x\",'Oman Results'!AK217,'Oman Results'!G217))","v":""},"",{"$f":"IF(B217=\"\",\"\",IF(VLOOKUP(B217,'Oman Results'!C217:AI1210,31)=\"x\",\"Yes\",\"\"))","v":""},{"$f":"IF(B217=\"\",\"\",IF(VLOOKUP(B217,'Oman Results'!C217:AI1210,31)=\"x\",'Oman Results'!G217,\"\"))","v":""},{"$f":"IF(B217=\"\",\"\",IF(VLOOKUP(B217,'Oman Results'!C217:AI1210,31)=\"x\",'Oman Results'!AJ217,\"\"))","v":""},{"$f":"IF(B217=\"\",\"\",IF(VLOOKUP(B217,'Oman Results'!C217:AI1210,31)=\"x\",'Oman Results'!AK217,\"\"))","v":""},null,null,"","","",""]
["",{"$f":"IF('Oman Results'!C218=\"\",\"\",'Oman Results'!C218)","v":""},{"$f":"IF(OR('Oman Results'!D218=\"\",'Oman Results'!D218=\"Totals\"),\"\",'Oman Results'!D218)","v":""},"",{"$f":"IF('Oman Results'!E218=\"\",\"\",'Oman Results'!E218)","v":""},{"$f":"IF('Oman Results'!F218=\"\",\"\",'Oman Results'!F218)","v":""},{"$f":"IF(B218=\"\",\"\",IF(VLOOKUP(B218,'Oman Results'!C218:AI1211,31)=\"x\",'Oman Results'!AK218,'Oman Results'!G218))","v":""},"",{"$f":"IF(B218=\"\",\"\",IF(VLOOKUP(B218,'Oman Results'!C218:AI1211,31)=\"x\",\"Yes\",\"\"))","v":""},{"$f":"IF(B218=\"\",\"\",IF(VLOOKUP(B218,'Oman Results'!C218:AI1211,31)=\"x\",'Oman Results'!G218,\"\"))","v":""},{"$f":"IF(B218=\"\",\"\",IF(VLOOKUP(B218,'Oman Results'!C218:AI1211,31)=\"x\",'Oman Results'!AJ218,\"\"))","v":""},{"$f":"IF(B218=\"\",\"\",IF(VLOOKUP(B218,'Oman Results'!C218:AI1211,31)=\"x\",'Oman Results'!AK218,\"\"))","v":""},null,null,"","","",""]
["",{"$f":"IF('Oman Results'!C219=\"\",\"\",'Oman Results'!C219)","v":""},{"$f":"IF(OR('Oman Results'!D219=\"\",'Oman Results'!D219=\"Totals\"),\"\",'Oman Results'!D219)","v":""},"",{"$f":"IF('Oman Results'!E219=\"\",\"\",'Oman Results'!E219)","v":""},{"$f":"IF('Oman Results'!F219=\"\",\"\",'Oman Results'!F219)","v":""},{"$f":"IF(B219=\"\",\"\",IF(VLOOKUP(B219,'Oman Results'!C219:AI1212,31)=\"x\",'Oman Results'!AK219,'Oman Results'!G219))","v":""},"",{"$f":"IF(B219=\"\",\"\",IF(VLOOKUP(B219,'Oman Results'!C219:AI1212,31)=\"x\",\"Yes\",\"\"))","v":""},{"$f":"IF(B219=\"\",\"\",IF(VLOOKUP(B219,'Oman Results'!C219:AI1212,31)=\"x\",'Oman Results'!G219,\"\"))","v":""},{"$f":"IF(B219=\"\",\"\",IF(VLOOKUP(B219,'Oman Results'!C219:AI1212,31)=\"x\",'Oman Results'!AJ219,\"\"))","v":""},{"$f":"IF(B219=\"\",\"\",IF(VLOOKUP(B219,'Oman Results'!C219:AI1212,31)=\"x\",'Oman Results'!AK219,\"\"))","v":""},null,null,"","","",""]
["",{"$f":"IF('Oman Results'!C220=\"\",\"\",'Oman Results'!C220)","v":""},{"$f":"IF(OR('Oman Results'!D220=\"\",'Oman Results'!D220=\"Totals\"),\"\",'Oman Results'!D220)","v":""},"",{"$f":"IF('Oman Results'!E220=\"\",\"\",'Oman Results'!E220)","v":""},{"$f":"IF('Oman Results'!F220=\"\",\"\",'Oman Results'!F220)","v":""},{"$f":"IF(B220=\"\",\"\",IF(VLOOKUP(B220,'Oman Results'!C220:AI1213,31)=\"x\",'Oman Results'!AK220,'Oman Results'!G220))","v":""},"",{"$f":"IF(B220=\"\",\"\",IF(VLOOKUP(B220,'Oman Results'!C220:AI1213,31)=\"x\",\"Yes\",\"\"))","v":""},{"$f":"IF(B220=\"\",\"\",IF(VLOOKUP(B220,'Oman Results'!C220:AI1213,31)=\"x\",'Oman Results'!G220,\"\"))","v":""},{"$f":"IF(B220=\"\",\"\",IF(VLOOKUP(B220,'Oman Results'!C220:AI1213,31)=\"x\",'Oman Results'!AJ220,\"\"))","v":""},{"$f":"IF(B220=\"\",\"\",IF(VLOOKUP(B220,'Oman Results'!C220:AI1213,31)=\"x\",'Oman Results'!AK220,\"\"))","v":""},null,null,"","","",""]
["",{"$f":"IF('Oman Results'!C221=\"\",\"\",'Oman Results'!C221)","v":""},{"$f":"IF(OR('Oman Results'!D221=\"\",'Oman Results'!D221=\"Totals\"),\"\",'Oman Results'!D221)","v":""},"",{"$f":"IF('Oman Results'!E221=\"\",\"\",'Oman Results'!E221)","v":""},{"$f":"IF('Oman Results'!F221=\"\",\"\",'Oman Results'!F221)","v":""},{"$f":"IF(B221=\"\",\"\",IF(VLOOKUP(B221,'Oman Results'!C221:AI1214,31)=\"x\",'Oman Results'!AK221,'Oman Results'!G221))","v":""},"",{"$f":"IF(B221=\"\",\"\",IF(VLOOKUP(B221,'Oman Results'!C221:AI1214,31)=\"x\",\"Yes\",\"\"))","v":""},{"$f":"IF(B221=\"\",\"\",IF(VLOOKUP(B221,'Oman Results'!C221:AI1214,31)=\"x\",'Oman Results'!G221,\"\"))","v":""},{"$f":"IF(B221=\"\",\"\",IF(VLOOKUP(B221,'Oman Results'!C221:AI1214,31)=\"x\",'Oman Results'!AJ221,\"\"))","v":""},{"$f":"IF(B221=\"\",\"\",IF(VLOOKUP(B221,'Oman Results'!C221:AI1214,31)=\"x\",'Oman Results'!AK221,\"\"))","v":""},null,null,"","","",""]
["",{"$f":"IF('Oman Results'!C222=\"\",\"\",'Oman Results'!C222)","v":""},{"$f":"IF(OR('Oman Results'!D222=\"\",'Oman Results'!D222=\"Totals\"),\"\",'Oman Results'!D222)","v":""},"",{"$f":"IF('Oman Results'!E222=\"\",\"\",'Oman Results'!E222)","v":""},{"$f":"IF('Oman Results'!F222=\"\",\"\",'Oman Results'!F222)","v":""},{"$f":"IF(B222=\"\",\"\",IF(VLOOKUP(B222,'Oman Results'!C222:AI1215,31)=\"x\",'Oman Results'!AK222,'Oman Results'!G222))","v":""},"",{"$f":"IF(B222=\"\",\"\",IF(VLOOKUP(B222,'Oman Results'!C222:AI1215,31)=\"x\",\"Yes\",\"\"))","v":""},{"$f":"IF(B222=\"\",\"\",IF(VLOOKUP(B222,'Oman Results'!C222:AI1215,31)=\"x\",'Oman Results'!G222,\"\"))","v":""},{"$f":"IF(B222=\"\",\"\",IF(VLOOKUP(B222,'Oman Results'!C222:AI1215,31)=\"x\",'Oman Results'!AJ222,\"\"))","v":""},{"$f":"IF(B222=\"\",\"\",IF(VLOOKUP(B222,'Oman Results'!C222:AI1215,31)=\"x\",'Oman Results'!AK222,\"\"))","v":""},null,null,"","","",""]
["",{"$f":"IF('Oman Results'!C223=\"\",\"\",'Oman Results'!C223)","v":""},{"$f":"IF(OR('Oman Results'!D223=\"\",'Oman Results'!D223=\"Totals\"),\"\",'Oman Results'!D223)","v":""},"",{"$f":"IF('Oman Results'!E223=\"\",\"\",'Oman Results'!E223)","v":""},{"$f":"IF('Oman Results'!F223=\"\",\"\",'Oman Results'!F223)","v":""},{"$f":"IF(B223=\"\",\"\",IF(VLOOKUP(B223,'Oman Results'!C223:AI1216,31)=\"x\",'Oman Results'!AK223,'Oman Results'!G223))","v":""},"",{"$f":"IF(B223=\"\",\"\",IF(VLOOKUP(B223,'Oman Results'!C223:AI1216,31)=\"x\",\"Yes\",\"\"))","v":""},{"$f":"IF(B223=\"\",\"\",IF(VLOOKUP(B223,'Oman Results'!C223:AI1216,31)=\"x\",'Oman Results'!G223,\"\"))","v":""},{"$f":"IF(B223=\"\",\"\",IF(VLOOKUP(B223,'Oman Results'!C223:AI1216,31)=\"x\",'Oman Results'!AJ223,\"\"))","v":""},{"$f":"IF(B223=\"\",\"\",IF(VLOOKUP(B223,'Oman Results'!C223:AI1216,31)=\"x\",'Oman Results'!AK223,\"\"))","v":""},null,null,"","","",""]
["",{"$f":"IF('Oman Results'!C224=\"\",\"\",'Oman Results'!C224)","v":""},{"$f":"IF(OR('Oman Results'!D224=\"\",'Oman Results'!D224=\"Totals\"),\"\",'Oman Results'!D224)","v":""},"",{"$f":"IF('Oman Results'!E224=\"\",\"\",'Oman Results'!E224)","v":""},{"$f":"IF('Oman Results'!F224=\"\",\"\",'Oman Results'!F224)","v":""},{"$f":"IF(B224=\"\",\"\",IF(VLOOKUP(B224,'Oman Results'!C224:AI1217,31)=\"x\",'Oman Results'!AK224,'Oman Results'!G224))","v":""},"",{"$f":"IF(B224=\"\",\"\",IF(VLOOKUP(B224,'Oman Results'!C224:AI1217,31)=\"x\",\"Yes\",\"\"))","v":""},{"$f":"IF(B224=\"\",\"\",IF(VLOOKUP(B224,'Oman Results'!C224:AI1217,31)=\"x\",'Oman Results'!G224,\"\"))","v":""},{"$f":"IF(B224=\"\",\"\",IF(VLOOKUP(B224,'Oman Results'!C224:AI1217,31)=\"x\",'Oman Results'!AJ224,\"\"))","v":""},{"$f":"IF(B224=\"\",\"\",IF(VLOOKUP(B224,'Oman Results'!C224:AI1217,31)=\"x\",'Oman Results'!AK224,\"\"))","v":""},null,null,"","","",""]
["",{"$f":"IF('Oman Results'!C225=\"\",\"\",'Oman Results'!C225)","v":""},{"$f":"IF(OR('Oman Results'!D225=\"\",'Oman Results'!D225=\"Totals\"),\"\",'Oman Results'!D225)","v":""},"",{"$f":"IF('Oman Results'!E225=\"\",\"\",'Oman Results'!E225)","v":""},{"$f":"IF('Oman Results'!F225=\"\",\"\",'Oman Results'!F225)","v":""},{"$f":"IF(B225=\"\",\"\",IF(VLOOKUP(B225,'Oman Results'!C225:AI1218,31)=\"x\",'Oman Results'!AK225,'Oman Results'!G225))","v":""},"",{"$f":"IF(B225=\"\",\"\",IF(VLOOKUP(B225,'Oman Results'!C225:AI1218,31)=\"x\",\"Yes\",\"\"))","v":""},{"$f":"IF(B225=\"\",\"\",IF(VLOOKUP(B225,'Oman Results'!C225:AI1218,31)=\"x\",'Oman Results'!G225,\"\"))","v":""},{"$f":"IF(B225=\"\",\"\",IF(VLOOKUP(B225,'Oman Results'!C225:AI1218,31)=\"x\",'Oman Results'!AJ225,\"\"))","v":""},{"$f":"IF(B225=\"\",\"\",IF(VLOOKUP(B225,'Oman Results'!C225:AI1218,31)=\"x\",'Oman Results'!AK225,\"\"))","v":""},null,null,"","","",""]
["",{"$f":"IF('Oman Results'!C226=\"\",\"\",'Oman Results'!C226)","v":""},{"$f":"IF(OR('Oman Results'!D226=\"\",'Oman Results'!D226=\"Totals\"),\"\",'Oman Results'!D226)","v":""},"",{"$f":"IF('Oman Results'!E226=\"\",\"\",'Oman Results'!E226)","v":""},{"$f":"IF('Oman Results'!F226=\"\",\"\",'Oman Results'!F226)","v":""},{"$f":"IF(B226=\"\",\"\",IF(VLOOKUP(B226,'Oman Results'!C226:AI1219,31)=\"x\",'Oman Results'!AK226,'Oman Results'!G226))","v":""},"",{"$f":"IF(B226=\"\",\"\",IF(VLOOKUP(B226,'Oman Results'!C226:AI1219,31)=\"x\",\"Yes\",\"\"))","v":""},{"$f":"IF(B226=\"\",\"\",IF(VLOOKUP(B226,'Oman Results'!C226:AI1219,31)=\"x\",'Oman Results'!G226,\"\"))","v":""},{"$f":"IF(B226=\"\",\"\",IF(VLOOKUP(B226,'Oman Results'!C226:AI1219,31)=\"x\",'Oman Results'!AJ226,\"\"))","v":""},{"$f":"IF(B226=\"\",\"\",IF(VLOOKUP(B226,'Oman Results'!C226:AI1219,31)=\"x\",'Oman Results'!AK226,\"\"))","v":""},null,null,"","","",""]
["",{"$f":"IF('Oman Results'!C227=\"\",\"\",'Oman Results'!C227)","v":""},{"$f":"IF(OR('Oman Results'!D227=\"\",'Oman Results'!D227=\"Totals\"),\"\",'Oman Results'!D227)","v":""},"",{"$f":"IF('Oman Results'!E227=\"\",\"\",'Oman Results'!E227)","v":""},{"$f":"IF('Oman Results'!F227=\"\",\"\",'Oman Results'!F227)","v":""},{"$f":"IF(B227=\"\",\"\",IF(VLOOKUP(B227,'Oman Results'!C227:AI1220,31)=\"x\",'Oman Results'!AK227,'Oman Results'!G227))","v":""},"",{"$f":"IF(B227=\"\",\"\",IF(VLOOKUP(B227,'Oman Results'!C227:AI1220,31)=\"x\",\"Yes\",\"\"))","v":""},{"$f":"IF(B227=\"\",\"\",IF(VLOOKUP(B227,'Oman Results'!C227:AI1220,31)=\"x\",'Oman Results'!G227,\"\"))","v":""},{"$f":"IF(B227=\"\",\"\",IF(VLOOKUP(B227,'Oman Results'!C227:AI1220,31)=\"x\",'Oman Results'!AJ227,\"\"))","v":""},{"$f":"IF(B227=\"\",\"\",IF(VLOOKUP(B227,'Oman Results'!C227:AI1220,31)=\"x\",'Oman Results'!AK227,\"\"))","v":""},null,null,"","","",""]
["",{"$f":"IF('Oman Results'!C228=\"\",\"\",'Oman Results'!C228)","v":""},{"$f":"IF(OR('Oman Results'!D228=\"\",'Oman Results'!D228=\"Totals\"),\"\",'Oman Results'!D228)","v":""},"",{"$f":"IF('Oman Results'!E228=\"\",\"\",'Oman Results'!E228)","v":""},{"$f":"IF('Oman Results'!F228=\"\",\"\",'Oman Results'!F228)","v":""},{"$f":"IF(B228=\"\",\"\",IF(VLOOKUP(B228,'Oman Results'!C228:AI1221,31)=\"x\",'Oman Results'!AK228,'Oman Results'!G228))","v":""},"",{"$f":"IF(B228=\"\",\"\",IF(VLOOKUP(B228,'Oman Results'!C228:AI1221,31)=\"x\",\"Yes\",\"\"))","v":""},{"$f":"IF(B228=\"\",\"\",IF(VLOOKUP(B228,'Oman Results'!C228:AI1221,31)=\"x\",'Oman Results'!G228,\"\"))","v":""},{"$f":"IF(B228=\"\",\"\",IF(VLOOKUP(B228,'Oman Results'!C228:AI1221,31)=\"x\",'Oman Results'!AJ228,\"\"))","v":""},{"$f":"IF(B228=\"\",\"\",IF(VLOOKUP(B228,'Oman Results'!C228:AI1221,31)=\"x\",'Oman Results'!AK228,\"\"))","v":""},null,null,"","","",""]
["",{"$f":"IF('Oman Results'!C229=\"\",\"\",'Oman Results'!C229)","v":""},{"$f":"IF(OR('Oman Results'!D229=\"\",'Oman Results'!D229=\"Totals\"),\"\",'Oman Results'!D229)","v":""},"",{"$f":"IF('Oman Results'!E229=\"\",\"\",'Oman Results'!E229)","v":""},{"$f":"IF('Oman Results'!F229=\"\",\"\",'Oman Results'!F229)","v":""},{"$f":"IF(B229=\"\",\"\",IF(VLOOKUP(B229,'Oman Results'!C229:AI1222,31)=\"x\",'Oman Results'!AK229,'Oman Results'!G229))","v":""},"",{"$f":"IF(B229=\"\",\"\",IF(VLOOKUP(B229,'Oman Results'!C229:AI1222,31)=\"x\",\"Yes\",\"\"))","v":""},{"$f":"IF(B229=\"\",\"\",IF(VLOOKUP(B229,'Oman Results'!C229:AI1222,31)=\"x\",'Oman Results'!G229,\"\"))","v":""},{"$f":"IF(B229=\"\",\"\",IF(VLOOKUP(B229,'Oman Results'!C229:AI1222,31)=\"x\",'Oman Results'!AJ229,\"\"))","v":""},{"$f":"IF(B229=\"\",\"\",IF(VLOOKUP(B229,'Oman Results'!C229:AI1222,31)=\"x\",'Oman Results'!AK229,\"\"))","v":""},null,null,"","","",""]
["",{"$f":"IF('Oman Results'!C230=\"\",\"\",'Oman Results'!C230)","v":""},{"$f":"IF(OR('Oman Results'!D230=\"\",'Oman Results'!D230=\"Totals\"),\"\",'Oman Results'!D230)","v":""},"",{"$f":"IF('Oman Results'!E230=\"\",\"\",'Oman Results'!E230)","v":""},{"$f":"IF('Oman Results'!F230=\"\",\"\",'Oman Results'!F230)","v":""},{"$f":"IF(B230=\"\",\"\",IF(VLOOKUP(B230,'Oman Results'!C230:AI1223,31)=\"x\",'Oman Results'!AK230,'Oman Results'!G230))","v":""},"",{"$f":"IF(B230=\"\",\"\",IF(VLOOKUP(B230,'Oman Results'!C230:AI1223,31)=\"x\",\"Yes\",\"\"))","v":""},{"$f":"IF(B230=\"\",\"\",IF(VLOOKUP(B230,'Oman Results'!C230:AI1223,31)=\"x\",'Oman Results'!G230,\"\"))","v":""},{"$f":"IF(B230=\"\",\"\",IF(VLOOKUP(B230,'Oman Results'!C230:AI1223,31)=\"x\",'Oman Results'!AJ230,\"\"))","v":""},{"$f":"IF(B230=\"\",\"\",IF(VLOOKUP(B230,'Oman Results'!C230:AI1223,31)=\"x\",'Oman Results'!AK230,\"\"))","v":""},null,null,"","","",""]
["",{"$f":"IF('Oman Results'!C231=\"\",\"\",'Oman Results'!C231)","v":""},{"$f":"IF(OR('Oman Results'!D231=\"\",'Oman Results'!D231=\"Totals\"),\"\",'Oman Results'!D231)","v":""},"",{"$f":"IF('Oman Results'!E231=\"\",\"\",'Oman Results'!E231)","v":""},{"$f":"IF('Oman Results'!F231=\"\",\"\",'Oman Results'!F231)","v":""},{"$f":"IF(B231=\"\",\"\",IF(VLOOKUP(B231,'Oman Results'!C231:AI1224,31)=\"x\",'Oman Results'!AK231,'Oman Results'!G231))","v":""},"",{"$f":"IF(B231=\"\",\"\",IF(VLOOKUP(B231,'Oman Results'!C231:AI1224,31)=\"x\",\"Yes\",\"\"))","v":""},{"$f":"IF(B231=\"\",\"\",IF(VLOOKUP(B231,'Oman Results'!C231:AI1224,31)=\"x\",'Oman Results'!G231,\"\"))","v":""},{"$f":"IF(B231=\"\",\"\",IF(VLOOKUP(B231,'Oman Results'!C231:AI1224,31)=\"x\",'Oman Results'!AJ231,\"\"))","v":""},{"$f":"IF(B231=\"\",\"\",IF(VLOOKUP(B231,'Oman Results'!C231:AI1224,31)=\"x\",'Oman Results'!AK231,\"\"))","v":""},null,null,"","","",""]
["",{"$f":"IF('Oman Results'!C232=\"\",\"\",'Oman Results'!C232)","v":""},{"$f":"IF(OR('Oman Results'!D232=\"\",'Oman Results'!D232=\"Totals\"),\"\",'Oman Results'!D232)","v":""},"",{"$f":"IF('Oman Results'!E232=\"\",\"\",'Oman Results'!E232)","v":""},{"$f":"IF('Oman Results'!F232=\"\",\"\",'Oman Results'!F232)","v":""},{"$f":"IF(B232=\"\",\"\",IF(VLOOKUP(B232,'Oman Results'!C232:AI1225,31)=\"x\",'Oman Results'!AK232,'Oman Results'!G232))","v":""},"",{"$f":"IF(B232=\"\",\"\",IF(VLOOKUP(B232,'Oman Results'!C232:AI1225,31)=\"x\",\"Yes\",\"\"))","v":""},{"$f":"IF(B232=\"\",\"\",IF(VLOOKUP(B232,'Oman Results'!C232:AI1225,31)=\"x\",'Oman Results'!G232,\"\"))","v":""},{"$f":"IF(B232=\"\",\"\",IF(VLOOKUP(B232,'Oman Results'!C232:AI1225,31)=\"x\",'Oman Results'!AJ232,\"\"))","v":""},{"$f":"IF(B232=\"\",\"\",IF(VLOOKUP(B232,'Oman Results'!C232:AI1225,31)=\"x\",'Oman Results'!AK232,\"\"))","v":""},null,null,"","","",""]
["",{"$f":"IF('Oman Results'!C233=\"\",\"\",'Oman Results'!C233)","v":""},{"$f":"IF(OR('Oman Results'!D233=\"\",'Oman Results'!D233=\"Totals\"),\"\",'Oman Results'!D233)","v":""},"",{"$f":"IF('Oman Results'!E233=\"\",\"\",'Oman Results'!E233)","v":""},{"$f":"IF('Oman Results'!F233=\"\",\"\",'Oman Results'!F233)","v":""},{"$f":"IF(B233=\"\",\"\",IF(VLOOKUP(B233,'Oman Results'!C233:AI1226,31)=\"x\",'Oman Results'!AK233,'Oman Results'!G233))","v":""},"",{"$f":"IF(B233=\"\",\"\",IF(VLOOKUP(B233,'Oman Results'!C233:AI1226,31)=\"x\",\"Yes\",\"\"))","v":""},{"$f":"IF(B233=\"\",\"\",IF(VLOOKUP(B233,'Oman Results'!C233:AI1226,31)=\"x\",'Oman Results'!G233,\"\"))","v":""},{"$f":"IF(B233=\"\",\"\",IF(VLOOKUP(B233,'Oman Results'!C233:AI1226,31)=\"x\",'Oman Results'!AJ233,\"\"))","v":""},{"$f":"IF(B233=\"\",\"\",IF(VLOOKUP(B233,'Oman Results'!C233:AI1226,31)=\"x\",'Oman Results'!AK233,\"\"))","v":""},null,null,"","","",""]
["",{"$f":"IF('Oman Results'!C234=\"\",\"\",'Oman Results'!C234)","v":""},{"$f":"IF(OR('Oman Results'!D234=\"\",'Oman Results'!D234=\"Totals\"),\"\",'Oman Results'!D234)","v":""},"",{"$f":"IF('Oman Results'!E234=\"\",\"\",'Oman Results'!E234)","v":""},{"$f":"IF('Oman Results'!F234=\"\",\"\",'Oman Results'!F234)","v":""},{"$f":"IF(B234=\"\",\"\",IF(VLOOKUP(B234,'Oman Results'!C234:AI1227,31)=\"x\",'Oman Results'!AK234,'Oman Results'!G234))","v":""},"",{"$f":"IF(B234=\"\",\"\",IF(VLOOKUP(B234,'Oman Results'!C234:AI1227,31)=\"x\",\"Yes\",\"\"))","v":""},{"$f":"IF(B234=\"\",\"\",IF(VLOOKUP(B234,'Oman Results'!C234:AI1227,31)=\"x\",'Oman Results'!G234,\"\"))","v":""},{"$f":"IF(B234=\"\",\"\",IF(VLOOKUP(B234,'Oman Results'!C234:AI1227,31)=\"x\",'Oman Results'!AJ234,\"\"))","v":""},{"$f":"IF(B234=\"\",\"\",IF(VLOOKUP(B234,'Oman Results'!C234:AI1227,31)=\"x\",'Oman Results'!AK234,\"\"))","v":""},null,null,"","","",""]
["",{"$f":"IF('Oman Results'!C235=\"\",\"\",'Oman Results'!C235)","v":""},{"$f":"IF(OR('Oman Results'!D235=\"\",'Oman Results'!D235=\"Totals\"),\"\",'Oman Results'!D235)","v":""},"",{"$f":"IF('Oman Results'!E235=\"\",\"\",'Oman Results'!E235)","v":""},{"$f":"IF('Oman Results'!F235=\"\",\"\",'Oman Results'!F235)","v":""},{"$f":"IF(B235=\"\",\"\",IF(VLOOKUP(B235,'Oman Results'!C235:AI1228,31)=\"x\",'Oman Results'!AK235,'Oman Results'!G235))","v":""},"",{"$f":"IF(B235=\"\",\"\",IF(VLOOKUP(B235,'Oman Results'!C235:AI1228,31)=\"x\",\"Yes\",\"\"))","v":""},{"$f":"IF(B235=\"\",\"\",IF(VLOOKUP(B235,'Oman Results'!C235:AI1228,31)=\"x\",'Oman Results'!G235,\"\"))","v":""},{"$f":"IF(B235=\"\",\"\",IF(VLOOKUP(B235,'Oman Results'!C235:AI1228,31)=\"x\",'Oman Results'!AJ235,\"\"))","v":""},{"$f":"IF(B235=\"\",\"\",IF(VLOOKUP(B235,'Oman Results'!C235:AI1228,31)=\"x\",'Oman Results'!AK235,\"\"))","v":""},null,null,"","","",""]
["",{"$f":"IF('Oman Results'!C236=\"\",\"\",'Oman Results'!C236)","v":""},{"$f":"IF(OR('Oman Results'!D236=\"\",'Oman Results'!D236=\"Totals\"),\"\",'Oman Results'!D236)","v":""},"",{"$f":"IF('Oman Results'!E236=\"\",\"\",'Oman Results'!E236)","v":""},{"$f":"IF('Oman Results'!F236=\"\",\"\",'Oman Results'!F236)","v":""},{"$f":"IF(B236=\"\",\"\",IF(VLOOKUP(B236,'Oman Results'!C236:AI1229,31)=\"x\",'Oman Results'!AK236,'Oman Results'!G236))","v":""},"",{"$f":"IF(B236=\"\",\"\",IF(VLOOKUP(B236,'Oman Results'!C236:AI1229,31)=\"x\",\"Yes\",\"\"))","v":""},{"$f":"IF(B236=\"\",\"\",IF(VLOOKUP(B236,'Oman Results'!C236:AI1229,31)=\"x\",'Oman Results'!G236,\"\"))","v":""},{"$f":"IF(B236=\"\",\"\",IF(VLOOKUP(B236,'Oman Results'!C236:AI1229,31)=\"x\",'Oman Results'!AJ236,\"\"))","v":""},{"$f":"IF(B236=\"\",\"\",IF(VLOOKUP(B236,'Oman Results'!C236:AI1229,31)=\"x\",'Oman Results'!AK236,\"\"))","v":""},null,null,"","","",""]
["",{"$f":"IF('Oman Results'!C237=\"\",\"\",'Oman Results'!C237)","v":""},{"$f":"IF(OR('Oman Results'!D237=\"\",'Oman Results'!D237=\"Totals\"),\"\",'Oman Results'!D237)","v":""},"",{"$f":"IF('Oman Results'!E237=\"\",\"\",'Oman Results'!E237)","v":""},{"$f":"IF('Oman Results'!F237=\"\",\"\",'Oman Results'!F237)","v":""},{"$f":"IF(B237=\"\",\"\",IF(VLOOKUP(B237,'Oman Results'!C237:AI1230,31)=\"x\",'Oman Results'!AK237,'Oman Results'!G237))","v":""},"",{"$f":"IF(B237=\"\",\"\",IF(VLOOKUP(B237,'Oman Results'!C237:AI1230,31)=\"x\",\"Yes\",\"\"))","v":""},{"$f":"IF(B237=\"\",\"\",IF(VLOOKUP(B237,'Oman Results'!C237:AI1230,31)=\"x\",'Oman Results'!G237,\"\"))","v":""},{"$f":"IF(B237=\"\",\"\",IF(VLOOKUP(B237,'Oman Results'!C237:AI1230,31)=\"x\",'Oman Results'!AJ237,\"\"))","v":""},{"$f":"IF(B237=\"\",\"\",IF(VLOOKUP(B237,'Oman Results'!C237:AI1230,31)=\"x\",'Oman Results'!AK237,\"\"))","v":""},null,null,"","","",""]
["",{"$f":"IF('Oman Results'!C238=\"\",\"\",'Oman Results'!C238)","v":""},{"$f":"IF(OR('Oman Results'!D238=\"\",'Oman Results'!D238=\"Totals\"),\"\",'Oman Results'!D238)","v":""},"",{"$f":"IF('Oman Results'!E238=\"\",\"\",'Oman Results'!E238)","v":""},{"$f":"IF('Oman Results'!F238=\"\",\"\",'Oman Results'!F238)","v":""},{"$f":"IF(B238=\"\",\"\",IF(VLOOKUP(B238,'Oman Results'!C238:AI1231,31)=\"x\",'Oman Results'!AK238,'Oman Results'!G238))","v":""},"",{"$f":"IF(B238=\"\",\"\",IF(VLOOKUP(B238,'Oman Results'!C238:AI1231,31)=\"x\",\"Yes\",\"\"))","v":""},{"$f":"IF(B238=\"\",\"\",IF(VLOOKUP(B238,'Oman Results'!C238:AI1231,31)=\"x\",'Oman Results'!G238,\"\"))","v":""},{"$f":"IF(B238=\"\",\"\",IF(VLOOKUP(B238,'Oman Results'!C238:AI1231,31)=\"x\",'Oman Results'!AJ238,\"\"))","v":""},{"$f":"IF(B238=\"\",\"\",IF(VLOOKUP(B238,'Oman Results'!C238:AI1231,31)=\"x\",'Oman Results'!AK238,\"\"))","v":""},null,null,"","","",""]
["",{"$f":"IF('Oman Results'!C239=\"\",\"\",'Oman Results'!C239)","v":""},{"$f":"IF(OR('Oman Results'!D239=\"\",'Oman Results'!D239=\"Totals\"),\"\",'Oman Results'!D239)","v":""},"",{"$f":"IF('Oman Results'!E239=\"\",\"\",'Oman Results'!E239)","v":""},{"$f":"IF('Oman Results'!F239=\"\",\"\",'Oman Results'!F239)","v":""},{"$f":"IF(B239=\"\",\"\",IF(VLOOKUP(B239,'Oman Results'!C239:AI1232,31)=\"x\",'Oman Results'!AK239,'Oman Results'!G239))","v":""},"",{"$f":"IF(B239=\"\",\"\",IF(VLOOKUP(B239,'Oman Results'!C239:AI1232,31)=\"x\",\"Yes\",\"\"))","v":""},{"$f":"IF(B239=\"\",\"\",IF(VLOOKUP(B239,'Oman Results'!C239:AI1232,31)=\"x\",'Oman Results'!G239,\"\"))","v":""},{"$f":"IF(B239=\"\",\"\",IF(VLOOKUP(B239,'Oman Results'!C239:AI1232,31)=\"x\",'Oman Results'!AJ239,\"\"))","v":""},{"$f":"IF(B239=\"\",\"\",IF(VLOOKUP(B239,'Oman Results'!C239:AI1232,31)=\"x\",'Oman Results'!AK239,\"\"))","v":""},null,null,"","","",""]
["",{"$f":"IF('Oman Results'!C240=\"\",\"\",'Oman Results'!C240)","v":""},{"$f":"IF(OR('Oman Results'!D240=\"\",'Oman Results'!D240=\"Totals\"),\"\",'Oman Results'!D240)","v":""},"",{"$f":"IF('Oman Results'!E240=\"\",\"\",'Oman Results'!E240)","v":""},{"$f":"IF('Oman Results'!F240=\"\",\"\",'Oman Results'!F240)","v":""},{"$f":"IF(B240=\"\",\"\",IF(VLOOKUP(B240,'Oman Results'!C240:AI1233,31)=\"x\",'Oman Results'!AK240,'Oman Results'!G240))","v":""},"",{"$f":"IF(B240=\"\",\"\",IF(VLOOKUP(B240,'Oman Results'!C240:AI1233,31)=\"x\",\"Yes\",\"\"))","v":""},{"$f":"IF(B240=\"\",\"\",IF(VLOOKUP(B240,'Oman Results'!C240:AI1233,31)=\"x\",'Oman Results'!G240,\"\"))","v":""},{"$f":"IF(B240=\"\",\"\",IF(VLOOKUP(B240,'Oman Results'!C240:AI1233,31)=\"x\",'Oman Results'!AJ240,\"\"))","v":""},{"$f":"IF(B240=\"\",\"\",IF(VLOOKUP(B240,'Oman Results'!C240:AI1233,31)=\"x\",'Oman Results'!AK240,\"\"))","v":""},null,null,"","","",""]
["",{"$f":"IF('Oman Results'!C241=\"\",\"\",'Oman Results'!C241)","v":""},{"$f":"IF(OR('Oman Results'!D241=\"\",'Oman Results'!D241=\"Totals\"),\"\",'Oman Results'!D241)","v":""},"",{"$f":"IF('Oman Results'!E241=\"\",\"\",'Oman Results'!E241)","v":""},{"$f":"IF('Oman Results'!F241=\"\",\"\",'Oman Results'!F241)","v":""},{"$f":"IF(B241=\"\",\"\",IF(VLOOKUP(B241,'Oman Results'!C241:AI1234,31)=\"x\",'Oman Results'!AK241,'Oman Results'!G241))","v":""},"",{"$f":"IF(B241=\"\",\"\",IF(VLOOKUP(B241,'Oman Results'!C241:AI1234,31)=\"x\",\"Yes\",\"\"))","v":""},{"$f":"IF(B241=\"\",\"\",IF(VLOOKUP(B241,'Oman Results'!C241:AI1234,31)=\"x\",'Oman Results'!G241,\"\"))","v":""},{"$f":"IF(B241=\"\",\"\",IF(VLOOKUP(B241,'Oman Results'!C241:AI1234,31)=\"x\",'Oman Results'!AJ241,\"\"))","v":""},{"$f":"IF(B241=\"\",\"\",IF(VLOOKUP(B241,'Oman Results'!C241:AI1234,31)=\"x\",'Oman Results'!AK241,\"\"))","v":""},null,null,"","","",""]
["",{"$f":"IF('Oman Results'!C242=\"\",\"\",'Oman Results'!C242)","v":""},{"$f":"IF(OR('Oman Results'!D242=\"\",'Oman Results'!D242=\"Totals\"),\"\",'Oman Results'!D242)","v":""},"",{"$f":"IF('Oman Results'!E242=\"\",\"\",'Oman Results'!E242)","v":""},{"$f":"IF('Oman Results'!F242=\"\",\"\",'Oman Results'!F242)","v":""},{"$f":"IF(B242=\"\",\"\",IF(VLOOKUP(B242,'Oman Results'!C242:AI1235,31)=\"x\",'Oman Results'!AK242,'Oman Results'!G242))","v":""},"",{"$f":"IF(B242=\"\",\"\",IF(VLOOKUP(B242,'Oman Results'!C242:AI1235,31)=\"x\",\"Yes\",\"\"))","v":""},{"$f":"IF(B242=\"\",\"\",IF(VLOOKUP(B242,'Oman Results'!C242:AI1235,31)=\"x\",'Oman Results'!G242,\"\"))","v":""},{"$f":"IF(B242=\"\",\"\",IF(VLOOKUP(B242,'Oman Results'!C242:AI1235,31)=\"x\",'Oman Results'!AJ242,\"\"))","v":""},{"$f":"IF(B242=\"\",\"\",IF(VLOOKUP(B242,'Oman Results'!C242:AI1235,31)=\"x\",'Oman Results'!AK242,\"\"))","v":""},null,null,"","","",""]
["",{"$f":"IF('Oman Results'!C243=\"\",\"\",'Oman Results'!C243)","v":""},{"$f":"IF(OR('Oman Results'!D243=\"\",'Oman Results'!D243=\"Totals\"),\"\",'Oman Results'!D243)","v":""},"",{"$f":"IF('Oman Results'!E243=\"\",\"\",'Oman Results'!E243)","v":""},{"$f":"IF('Oman Results'!F243=\"\",\"\",'Oman Results'!F243)","v":""},{"$f":"IF(B243=\"\",\"\",IF(VLOOKUP(B243,'Oman Results'!C243:AI1236,31)=\"x\",'Oman Results'!AK243,'Oman Results'!G243))","v":""},"",{"$f":"IF(B243=\"\",\"\",IF(VLOOKUP(B243,'Oman Results'!C243:AI1236,31)=\"x\",\"Yes\",\"\"))","v":""},{"$f":"IF(B243=\"\",\"\",IF(VLOOKUP(B243,'Oman Results'!C243:AI1236,31)=\"x\",'Oman Results'!G243,\"\"))","v":""},{"$f":"IF(B243=\"\",\"\",IF(VLOOKUP(B243,'Oman Results'!C243:AI1236,31)=\"x\",'Oman Results'!AJ243,\"\"))","v":""},{"$f":"IF(B243=\"\",\"\",IF(VLOOKUP(B243,'Oman Results'!C243:AI1236,31)=\"x\",'Oman Results'!AK243,\"\"))","v":""},null,null,"","","",""]
["",{"$f":"IF('Oman Results'!C244=\"\",\"\",'Oman Results'!C244)","v":""},{"$f":"IF(OR('Oman Results'!D244=\"\",'Oman Results'!D244=\"Totals\"),\"\",'Oman Results'!D244)","v":""},"",{"$f":"IF('Oman Results'!E244=\"\",\"\",'Oman Results'!E244)","v":""},{"$f":"IF('Oman Results'!F244=\"\",\"\",'Oman Results'!F244)","v":""},{"$f":"IF(B244=\"\",\"\",IF(VLOOKUP(B244,'Oman Results'!C244:AI1237,31)=\"x\",'Oman Results'!AK244,'Oman Results'!G244))","v":""},"",{"$f":"IF(B244=\"\",\"\",IF(VLOOKUP(B244,'Oman Results'!C244:AI1237,31)=\"x\",\"Yes\",\"\"))","v":""},{"$f":"IF(B244=\"\",\"\",IF(VLOOKUP(B244,'Oman Results'!C244:AI1237,31)=\"x\",'Oman Results'!G244,\"\"))","v":""},{"$f":"IF(B244=\"\",\"\",IF(VLOOKUP(B244,'Oman Results'!C244:AI1237,31)=\"x\",'Oman Results'!AJ244,\"\"))","v":""},{"$f":"IF(B244=\"\",\"\",IF(VLOOKUP(B244,'Oman Results'!C244:AI1237,31)=\"x\",'Oman Results'!AK244,\"\"))","v":""},null,null,"","","",""]
["",{"$f":"IF('Oman Results'!C245=\"\",\"\",'Oman Results'!C245)","v":""},{"$f":"IF(OR('Oman Results'!D245=\"\",'Oman Results'!D245=\"Totals\"),\"\",'Oman Results'!D245)","v":""},"",{"$f":"IF('Oman Results'!E245=\"\",\"\",'Oman Results'!E245)","v":""},{"$f":"IF('Oman Results'!F245=\"\",\"\",'Oman Results'!F245)","v":""},{"$f":"IF(B245=\"\",\"\",IF(VLOOKUP(B245,'Oman Results'!C245:AI1238,31)=\"x\",'Oman Results'!AK245,'Oman Results'!G245))","v":""},"",{"$f":"IF(B245=\"\",\"\",IF(VLOOKUP(B245,'Oman Results'!C245:AI1238,31)=\"x\",\"Yes\",\"\"))","v":""},{"$f":"IF(B245=\"\",\"\",IF(VLOOKUP(B245,'Oman Results'!C245:AI1238,31)=\"x\",'Oman Results'!G245,\"\"))","v":""},{"$f":"IF(B245=\"\",\"\",IF(VLOOKUP(B245,'Oman Results'!C245:AI1238,31)=\"x\",'Oman Results'!AJ245,\"\"))","v":""},{"$f":"IF(B245=\"\",\"\",IF(VLOOKUP(B245,'Oman Results'!C245:AI1238,31)=\"x\",'Oman Results'!AK245,\"\"))","v":""},null,null,"","","",""]
["",{"$f":"IF('Oman Results'!C246=\"\",\"\",'Oman Results'!C246)","v":""},{"$f":"IF(OR('Oman Results'!D246=\"\",'Oman Results'!D246=\"Totals\"),\"\",'Oman Results'!D246)","v":""},"",{"$f":"IF('Oman Results'!E246=\"\",\"\",'Oman Results'!E246)","v":""},{"$f":"IF('Oman Results'!F246=\"\",\"\",'Oman Results'!F246)","v":""},{"$f":"IF(B246=\"\",\"\",IF(VLOOKUP(B246,'Oman Results'!C246:AI1239,31)=\"x\",'Oman Results'!AK246,'Oman Results'!G246))","v":""},"",{"$f":"IF(B246=\"\",\"\",IF(VLOOKUP(B246,'Oman Results'!C246:AI1239,31)=\"x\",\"Yes\",\"\"))","v":""},{"$f":"IF(B246=\"\",\"\",IF(VLOOKUP(B246,'Oman Results'!C246:AI1239,31)=\"x\",'Oman Results'!G246,\"\"))","v":""},{"$f":"IF(B246=\"\",\"\",IF(VLOOKUP(B246,'Oman Results'!C246:AI1239,31)=\"x\",'Oman Results'!AJ246,\"\"))","v":""},{"$f":"IF(B246=\"\",\"\",IF(VLOOKUP(B246,'Oman Results'!C246:AI1239,31)=\"x\",'Oman Results'!AK246,\"\"))","v":""},null,null,"","","",""]
["",{"$f":"IF('Oman Results'!C247=\"\",\"\",'Oman Results'!C247)","v":""},{"$f":"IF(OR('Oman Results'!D247=\"\",'Oman Results'!D247=\"Totals\"),\"\",'Oman Results'!D247)","v":""},"",{"$f":"IF('Oman Results'!E247=\"\",\"\",'Oman Results'!E247)","v":""},{"$f":"IF('Oman Results'!F247=\"\",\"\",'Oman Results'!F247)","v":""},{"$f":"IF(B247=\"\",\"\",IF(VLOOKUP(B247,'Oman Results'!C247:AI1240,31)=\"x\",'Oman Results'!AK247,'Oman Results'!G247))","v":""},"",{"$f":"IF(B247=\"\",\"\",IF(VLOOKUP(B247,'Oman Results'!C247:AI1240,31)=\"x\",\"Yes\",\"\"))","v":""},{"$f":"IF(B247=\"\",\"\",IF(VLOOKUP(B247,'Oman Results'!C247:AI1240,31)=\"x\",'Oman Results'!G247,\"\"))","v":""},{"$f":"IF(B247=\"\",\"\",IF(VLOOKUP(B247,'Oman Results'!C247:AI1240,31)=\"x\",'Oman Results'!AJ247,\"\"))","v":""},{"$f":"IF(B247=\"\",\"\",IF(VLOOKUP(B247,'Oman Results'!C247:AI1240,31)=\"x\",'Oman Results'!AK247,\"\"))","v":""},null,null,"","","",""]
["",{"$f":"IF('Oman Results'!C248=\"\",\"\",'Oman Results'!C248)","v":""},{"$f":"IF(OR('Oman Results'!D248=\"\",'Oman Results'!D248=\"Totals\"),\"\",'Oman Results'!D248)","v":""},"",{"$f":"IF('Oman Results'!E248=\"\",\"\",'Oman Results'!E248)","v":""},{"$f":"IF('Oman Results'!F248=\"\",\"\",'Oman Results'!F248)","v":""},{"$f":"IF(B248=\"\",\"\",IF(VLOOKUP(B248,'Oman Results'!C248:AI1241,31)=\"x\",'Oman Results'!AK248,'Oman Results'!G248))","v":""},"",{"$f":"IF(B248=\"\",\"\",IF(VLOOKUP(B248,'Oman Results'!C248:AI1241,31)=\"x\",\"Yes\",\"\"))","v":""},{"$f":"IF(B248=\"\",\"\",IF(VLOOKUP(B248,'Oman Results'!C248:AI1241,31)=\"x\",'Oman Results'!G248,\"\"))","v":""},{"$f":"IF(B248=\"\",\"\",IF(VLOOKUP(B248,'Oman Results'!C248:AI1241,31)=\"x\",'Oman Results'!AJ248,\"\"))","v":""},{"$f":"IF(B248=\"\",\"\",IF(VLOOKUP(B248,'Oman Results'!C248:AI1241,31)=\"x\",'Oman Results'!AK248,\"\"))","v":""},null,null,"","","",""]
["",{"$f":"IF('Oman Results'!C249=\"\",\"\",'Oman Results'!C249)","v":""},{"$f":"IF(OR('Oman Results'!D249=\"\",'Oman Results'!D249=\"Totals\"),\"\",'Oman Results'!D249)","v":""},"",{"$f":"IF('Oman Results'!E249=\"\",\"\",'Oman Results'!E249)","v":""},{"$f":"IF('Oman Results'!F249=\"\",\"\",'Oman Results'!F249)","v":""},{"$f":"IF(B249=\"\",\"\",IF(VLOOKUP(B249,'Oman Results'!C249:AI1242,31)=\"x\",'Oman Results'!AK249,'Oman Results'!G249))","v":""},"",{"$f":"IF(B249=\"\",\"\",IF(VLOOKUP(B249,'Oman Results'!C249:AI1242,31)=\"x\",\"Yes\",\"\"))","v":""},{"$f":"IF(B249=\"\",\"\",IF(VLOOKUP(B249,'Oman Results'!C249:AI1242,31)=\"x\",'Oman Results'!G249,\"\"))","v":""},{"$f":"IF(B249=\"\",\"\",IF(VLOOKUP(B249,'Oman Results'!C249:AI1242,31)=\"x\",'Oman Results'!AJ249,\"\"))","v":""},{"$f":"IF(B249=\"\",\"\",IF(VLOOKUP(B249,'Oman Results'!C249:AI1242,31)=\"x\",'Oman Results'!AK249,\"\"))","v":""},null,null,"","","",""]
["",{"$f":"IF('Oman Results'!C250=\"\",\"\",'Oman Results'!C250)","v":""},{"$f":"IF(OR('Oman Results'!D250=\"\",'Oman Results'!D250=\"Totals\"),\"\",'Oman Results'!D250)","v":""},"",{"$f":"IF('Oman Results'!E250=\"\",\"\",'Oman Results'!E250)","v":""},{"$f":"IF('Oman Results'!F250=\"\",\"\",'Oman Results'!F250)","v":""},{"$f":"IF(B250=\"\",\"\",IF(VLOOKUP(B250,'Oman Results'!C250:AI1243,31)=\"x\",'Oman Results'!AK250,'Oman Results'!G250))","v":""},"",{"$f":"IF(B250=\"\",\"\",IF(VLOOKUP(B250,'Oman Results'!C250:AI1243,31)=\"x\",\"Yes\",\"\"))","v":""},{"$f":"IF(B250=\"\",\"\",IF(VLOOKUP(B250,'Oman Results'!C250:AI1243,31)=\"x\",'Oman Results'!G250,\"\"))","v":""},{"$f":"IF(B250=\"\",\"\",IF(VLOOKUP(B250,'Oman Results'!C250:AI1243,31)=\"x\",'Oman Results'!AJ250,\"\"))","v":""},{"$f":"IF(B250=\"\",\"\",IF(VLOOKUP(B250,'Oman Results'!C250:AI1243,31)=\"x\",'Oman Results'!AK250,\"\"))","v":""},null,null,"","","",""]
["",{"$f":"IF('Oman Results'!C251=\"\",\"\",'Oman Results'!C251)","v":""},{"$f":"IF(OR('Oman Results'!D251=\"\",'Oman Results'!D251=\"Totals\"),\"\",'Oman Results'!D251)","v":""},"",{"$f":"IF('Oman Results'!E251=\"\",\"\",'Oman Results'!E251)","v":""},{"$f":"IF('Oman Results'!F251=\"\",\"\",'Oman Results'!F251)","v":""},{"$f":"IF(B251=\"\",\"\",IF(VLOOKUP(B251,'Oman Results'!C251:AI1244,31)=\"x\",'Oman Results'!AK251,'Oman Results'!G251))","v":""},"",{"$f":"IF(B251=\"\",\"\",IF(VLOOKUP(B251,'Oman Results'!C251:AI1244,31)=\"x\",\"Yes\",\"\"))","v":""},{"$f":"IF(B251=\"\",\"\",IF(VLOOKUP(B251,'Oman Results'!C251:AI1244,31)=\"x\",'Oman Results'!G251,\"\"))","v":""},{"$f":"IF(B251=\"\",\"\",IF(VLOOKUP(B251,'Oman Results'!C251:AI1244,31)=\"x\",'Oman Results'!AJ251,\"\"))","v":""},{"$f":"IF(B251=\"\",\"\",IF(VLOOKUP(B251,'Oman Results'!C251:AI1244,31)=\"x\",'Oman Results'!AK251,\"\"))","v":""},null,null,"","","",""]
["",{"$f":"IF('Oman Results'!C252=\"\",\"\",'Oman Results'!C252)","v":""},{"$f":"IF(OR('Oman Results'!D252=\"\",'Oman Results'!D252=\"Totals\"),\"\",'Oman Results'!D252)","v":""},"",{"$f":"IF('Oman Results'!E252=\"\",\"\",'Oman Results'!E252)","v":""},{"$f":"IF('Oman Results'!F252=\"\",\"\",'Oman Results'!F252)","v":""},{"$f":"IF(B252=\"\",\"\",IF(VLOOKUP(B252,'Oman Results'!C252:AI1245,31)=\"x\",'Oman Results'!AK252,'Oman Results'!G252))","v":""},"",{"$f":"IF(B252=\"\",\"\",IF(VLOOKUP(B252,'Oman Results'!C252:AI1245,31)=\"x\",\"Yes\",\"\"))","v":""},{"$f":"IF(B252=\"\",\"\",IF(VLOOKUP(B252,'Oman Results'!C252:AI1245,31)=\"x\",'Oman Results'!G252,\"\"))","v":""},{"$f":"IF(B252=\"\",\"\",IF(VLOOKUP(B252,'Oman Results'!C252:AI1245,31)=\"x\",'Oman Results'!AJ252,\"\"))","v":""},{"$f":"IF(B252=\"\",\"\",IF(VLOOKUP(B252,'Oman Results'!C252:AI1245,31)=\"x\",'Oman Results'!AK252,\"\"))","v":""},null,null,"","","",""]
["",{"$f":"IF('Oman Results'!C253=\"\",\"\",'Oman Results'!C253)","v":""},{"$f":"IF(OR('Oman Results'!D253=\"\",'Oman Results'!D253=\"Totals\"),\"\",'Oman Results'!D253)","v":""},"",{"$f":"IF('Oman Results'!E253=\"\",\"\",'Oman Results'!E253)","v":""},{"$f":"IF('Oman Results'!F253=\"\",\"\",'Oman Results'!F253)","v":""},{"$f":"IF(B253=\"\",\"\",IF(VLOOKUP(B253,'Oman Results'!C253:AI1246,31)=\"x\",'Oman Results'!AK253,'Oman Results'!G253))","v":""},"",{"$f":"IF(B253=\"\",\"\",IF(VLOOKUP(B253,'Oman Results'!C253:AI1246,31)=\"x\",\"Yes\",\"\"))","v":""},{"$f":"IF(B253=\"\",\"\",IF(VLOOKUP(B253,'Oman Results'!C253:AI1246,31)=\"x\",'Oman Results'!G253,\"\"))","v":""},{"$f":"IF(B253=\"\",\"\",IF(VLOOKUP(B253,'Oman Results'!C253:AI1246,31)=\"x\",'Oman Results'!AJ253,\"\"))","v":""},{"$f":"IF(B253=\"\",\"\",IF(VLOOKUP(B253,'Oman Results'!C253:AI1246,31)=\"x\",'Oman Results'!AK253,\"\"))","v":""},null,null,"","","",""]
["",{"$f":"IF('Oman Results'!C254=\"\",\"\",'Oman Results'!C254)","v":""},{"$f":"IF(OR('Oman Results'!D254=\"\",'Oman Results'!D254=\"Totals\"),\"\",'Oman Results'!D254)","v":""},"",{"$f":"IF('Oman Results'!E254=\"\",\"\",'Oman Results'!E254)","v":""},{"$f":"IF('Oman Results'!F254=\"\",\"\",'Oman Results'!F254)","v":""},{"$f":"IF(B254=\"\",\"\",IF(VLOOKUP(B254,'Oman Results'!C254:AI1247,31)=\"x\",'Oman Results'!AK254,'Oman Results'!G254))","v":""},"",{"$f":"IF(B254=\"\",\"\",IF(VLOOKUP(B254,'Oman Results'!C254:AI1247,31)=\"x\",\"Yes\",\"\"))","v":""},{"$f":"IF(B254=\"\",\"\",IF(VLOOKUP(B254,'Oman Results'!C254:AI1247,31)=\"x\",'Oman Results'!G254,\"\"))","v":""},{"$f":"IF(B254=\"\",\"\",IF(VLOOKUP(B254,'Oman Results'!C254:AI1247,31)=\"x\",'Oman Results'!AJ254,\"\"))","v":""},{"$f":"IF(B254=\"\",\"\",IF(VLOOKUP(B254,'Oman Results'!C254:AI1247,31)=\"x\",'Oman Results'!AK254,\"\"))","v":""},null,null,"","","",""]
["",{"$f":"IF('Oman Results'!C255=\"\",\"\",'Oman Results'!C255)","v":""},{"$f":"IF(OR('Oman Results'!D255=\"\",'Oman Results'!D255=\"Totals\"),\"\",'Oman Results'!D255)","v":""},"",{"$f":"IF('Oman Results'!E255=\"\",\"\",'Oman Results'!E255)","v":""},{"$f":"IF('Oman Results'!F255=\"\",\"\",'Oman Results'!F255)","v":""},{"$f":"IF(B255=\"\",\"\",IF(VLOOKUP(B255,'Oman Results'!C255:AI1248,31)=\"x\",'Oman Results'!AK255,'Oman Results'!G255))","v":""},"",{"$f":"IF(B255=\"\",\"\",IF(VLOOKUP(B255,'Oman Results'!C255:AI1248,31)=\"x\",\"Yes\",\"\"))","v":""},{"$f":"IF(B255=\"\",\"\",IF(VLOOKUP(B255,'Oman Results'!C255:AI1248,31)=\"x\",'Oman Results'!G255,\"\"))","v":""},{"$f":"IF(B255=\"\",\"\",IF(VLOOKUP(B255,'Oman Results'!C255:AI1248,31)=\"x\",'Oman Results'!AJ255,\"\"))","v":""},{"$f":"IF(B255=\"\",\"\",IF(VLOOKUP(B255,'Oman Results'!C255:AI1248,31)=\"x\",'Oman Results'!AK255,\"\"))","v":""},null,null,"","","",""]
["",{"$f":"IF('Oman Results'!C256=\"\",\"\",'Oman Results'!C256)","v":""},{"$f":"IF(OR('Oman Results'!D256=\"\",'Oman Results'!D256=\"Totals\"),\"\",'Oman Results'!D256)","v":""},"",{"$f":"IF('Oman Results'!E256=\"\",\"\",'Oman Results'!E256)","v":""},{"$f":"IF('Oman Results'!F256=\"\",\"\",'Oman Results'!F256)","v":""},{"$f":"IF(B256=\"\",\"\",IF(VLOOKUP(B256,'Oman Results'!C256:AI1249,31)=\"x\",'Oman Results'!AK256,'Oman Results'!G256))","v":""},"",{"$f":"IF(B256=\"\",\"\",IF(VLOOKUP(B256,'Oman Results'!C256:AI1249,31)=\"x\",\"Yes\",\"\"))","v":""},{"$f":"IF(B256=\"\",\"\",IF(VLOOKUP(B256,'Oman Results'!C256:AI1249,31)=\"x\",'Oman Results'!G256,\"\"))","v":""},{"$f":"IF(B256=\"\",\"\",IF(VLOOKUP(B256,'Oman Results'!C256:AI1249,31)=\"x\",'Oman Results'!AJ256,\"\"))","v":""},{"$f":"IF(B256=\"\",\"\",IF(VLOOKUP(B256,'Oman Results'!C256:AI1249,31)=\"x\",'Oman Results'!AK256,\"\"))","v":""},null,null,"","","",""]
["",{"$f":"IF('Oman Results'!C257=\"\",\"\",'Oman Results'!C257)","v":""},{"$f":"IF(OR('Oman Results'!D257=\"\",'Oman Results'!D257=\"Totals\"),\"\",'Oman Results'!D257)","v":""},"",{"$f":"IF('Oman Results'!E257=\"\",\"\",'Oman Results'!E257)","v":""},{"$f":"IF('Oman Results'!F257=\"\",\"\",'Oman Results'!F257)","v":""},{"$f":"IF(B257=\"\",\"\",IF(VLOOKUP(B257,'Oman Results'!C257:AI1250,31)=\"x\",'Oman Results'!AK257,'Oman Results'!G257))","v":""},"",{"$f":"IF(B257=\"\",\"\",IF(VLOOKUP(B257,'Oman Results'!C257:AI1250,31)=\"x\",\"Yes\",\"\"))","v":""},{"$f":"IF(B257=\"\",\"\",IF(VLOOKUP(B257,'Oman Results'!C257:AI1250,31)=\"x\",'Oman Results'!G257,\"\"))","v":""},{"$f":"IF(B257=\"\",\"\",IF(VLOOKUP(B257,'Oman Results'!C257:AI1250,31)=\"x\",'Oman Results'!AJ257,\"\"))","v":""},{"$f":"IF(B257=\"\",\"\",IF(VLOOKUP(B257,'Oman Results'!C257:AI1250,31)=\"x\",'Oman Results'!AK257,\"\"))","v":""},null,null,"","","",""]
["",{"$f":"IF('Oman Results'!C258=\"\",\"\",'Oman Results'!C258)","v":""},{"$f":"IF(OR('Oman Results'!D258=\"\",'Oman Results'!D258=\"Totals\"),\"\",'Oman Results'!D258)","v":""},"",{"$f":"IF('Oman Results'!E258=\"\",\"\",'Oman Results'!E258)","v":""},{"$f":"IF('Oman Results'!F258=\"\",\"\",'Oman Results'!F258)","v":""},{"$f":"IF(B258=\"\",\"\",IF(VLOOKUP(B258,'Oman Results'!C258:AI1251,31)=\"x\",'Oman Results'!AK258,'Oman Results'!G258))","v":""},"",{"$f":"IF(B258=\"\",\"\",IF(VLOOKUP(B258,'Oman Results'!C258:AI1251,31)=\"x\",\"Yes\",\"\"))","v":""},{"$f":"IF(B258=\"\",\"\",IF(VLOOKUP(B258,'Oman Results'!C258:AI1251,31)=\"x\",'Oman Results'!G258,\"\"))","v":""},{"$f":"IF(B258=\"\",\"\",IF(VLOOKUP(B258,'Oman Results'!C258:AI1251,31)=\"x\",'Oman Results'!AJ258,\"\"))","v":""},{"$f":"IF(B258=\"\",\"\",IF(VLOOKUP(B258,'Oman Results'!C258:AI1251,31)=\"x\",'Oman Results'!AK258,\"\"))","v":""},null,null,"",{"$f":"IF(O258=1,G258,\"\")","v":""},"",{"$f":"IF(O258=1,\"\",H258)","v":""}]
["",{"$f":"IF('Oman Results'!C259=\"\",\"\",'Oman Results'!C259)","v":""},{"$f":"IF(OR('Oman Results'!D259=\"\",'Oman Results'!D259=\"Totals\"),\"\",'Oman Results'!D259)","v":""},{"$f":"IF(ISNUMBER(SEARCH(\"{\",C259)),\"Yes\", \"\")","v":""},{"$f":"IF('Oman Results'!E259=\"\",\"\",'Oman Results'!E259)","v":""},{"$f":"IF('Oman Results'!F259=\"\",\"\",'Oman Results'!F259)","v":""},{"$f":"IF(B259=\"\",\"\",IF(VLOOKUP(B259,'Oman Results'!C259:AI1252,31)=\"x\",'Oman Results'!AK259,'Oman Results'!G259))","v":""},{"$f":"IF(E259=\"\",\"\",E259*G259)","v":""},{"$f":"IF(B259=\"\",\"\",IF(VLOOKUP(B259,'Oman Results'!C259:AI1252,31)=\"x\",\"Yes\",\"\"))","v":""},{"$f":"IF(B259=\"\",\"\",IF(VLOOKUP(B259,'Oman Results'!C259:AI1252,31)=\"x\",'Oman Results'!G259,\"\"))","v":""},{"$f":"IF(B259=\"\",\"\",IF(VLOOKUP(B259,'Oman Results'!C259:AI1252,31)=\"x\",'Oman Results'!AJ259,\"\"))","v":""},{"$f":"IF(B259=\"\",\"\",IF(VLOOKUP(B259,'Oman Results'!C259:AI1252,31)=\"x\",'Oman Results'!AK259,\"\"))","v":""},null,null,{"$f":"IF(OR(LEFT(F259,3)=\"L.S\",LEFT(F259,2)=\"LS\"),1,\"\")","v":""},"",{"$f":"IF(I259=\"Yes\",G259,\"\")","v":""},""]
[{"$f":"IF(B260=\"\",\"\",1+A259)","v":""},{"$f":"IF('Oman Results'!C260=\"\",\"\",'Oman Results'!C260)","v":""},{"$f":"IF(OR('Oman Results'!D260=\"\",'Oman Results'!D260=\"Totals\"),\"\",'Oman Results'!D260)","v":""},"",{"$f":"IF('Oman Results'!E260=\"\",\"\",'Oman Results'!E260)","v":""},{"$f":"IF('Oman Results'!F260=\"\",\"\",'Oman Results'!F260)","v":""},{"$f":"IF(B260=\"\",\"\",IF(VLOOKUP(B260,'Oman Results'!C260:AI1253,31)=\"x\",'Oman Results'!AK260,'Oman Results'!G260))","v":""},"",{"$f":"IF(B260=\"\",\"\",IF(VLOOKUP(B260,'Oman Results'!C260:AI1253,31)=\"x\",\"Yes\",\"\"))","v":""},{"$f":"IF(B260=\"\",\"\",IF(VLOOKUP(B260,'Oman Results'!C260:AI1253,31)=\"x\",'Oman Results'!G260,\"\"))","v":""},{"$f":"IF(B260=\"\",\"\",IF(VLOOKUP(B260,'Oman Results'!C260:AI1253,31)=\"x\",'Oman Results'!AJ260,\"\"))","v":""},{"$f":"IF(B260=\"\",\"\",IF(VLOOKUP(B260,'Oman Results'!C260:AI1253,31)=\"x\",'Oman Results'!AK260,\"\"))","v":""},null,null,"","","",""]
["",{"$f":"IF('Oman Results'!C261=\"\",\"\",'Oman Results'!C261)","v":""},{"$f":"IF(OR('Oman Results'!D261=\"\",'Oman Results'!D261=\"Totals\"),\"\",'Oman Results'!D261)","v":""},"",{"$f":"IF('Oman Results'!E261=\"\",\"\",'Oman Results'!E261)","v":""},{"$f":"IF('Oman Results'!F261=\"\",\"\",'Oman Results'!F261)","v":""},{"$f":"IF(B261=\"\",\"\",IF(VLOOKUP(B261,'Oman Results'!C261:AI1254,31)=\"x\",'Oman Results'!AK261,'Oman Results'!G261))","v":""},"",{"$f":"IF(B261=\"\",\"\",IF(VLOOKUP(B261,'Oman Results'!C261:AI1254,31)=\"x\",\"Yes\",\"\"))","v":""},{"$f":"IF(B261=\"\",\"\",IF(VLOOKUP(B261,'Oman Results'!C261:AI1254,31)=\"x\",'Oman Results'!G261,\"\"))","v":""},{"$f":"IF(B261=\"\",\"\",IF(VLOOKUP(B261,'Oman Results'!C261:AI1254,31)=\"x\",'Oman Results'!AJ261,\"\"))","v":""},{"$f":"IF(B261=\"\",\"\",IF(VLOOKUP(B261,'Oman Results'!C261:AI1254,31)=\"x\",'Oman Results'!AK261,\"\"))","v":""},null,null,"","","",""]
["",{"$f":"IF('Oman Results'!C262=\"\",\"\",'Oman Results'!C262)","v":""},{"$f":"IF(OR('Oman Results'!D262=\"\",'Oman Results'!D262=\"Totals\"),\"\",'Oman Results'!D262)","v":""},"",{"$f":"IF('Oman Results'!E262=\"\",\"\",'Oman Results'!E262)","v":""},{"$f":"IF('Oman Results'!F262=\"\",\"\",'Oman Results'!F262)","v":""},{"$f":"IF(B262=\"\",\"\",IF(VLOOKUP(B262,'Oman Results'!C262:AI1255,31)=\"x\",'Oman Results'!AK262,'Oman Results'!G262))","v":""},"",{"$f":"IF(B262=\"\",\"\",IF(VLOOKUP(B262,'Oman Results'!C262:AI1255,31)=\"x\",\"Yes\",\"\"))","v":""},{"$f":"IF(B262=\"\",\"\",IF(VLOOKUP(B262,'Oman Results'!C262:AI1255,31)=\"x\",'Oman Results'!G262,\"\"))","v":""},{"$f":"IF(B262=\"\",\"\",IF(VLOOKUP(B262,'Oman Results'!C262:AI1255,31)=\"x\",'Oman Results'!AJ262,\"\"))","v":""},{"$f":"IF(B262=\"\",\"\",IF(VLOOKUP(B262,'Oman Results'!C262:AI1255,31)=\"x\",'Oman Results'!AK262,\"\"))","v":""},null,null,"","","",""]
["",{"$f":"IF('Oman Results'!C263=\"\",\"\",'Oman Results'!C263)","v":""},{"$f":"IF(OR('Oman Results'!D263=\"\",'Oman Results'!D263=\"Totals\"),\"\",'Oman Results'!D263)","v":""},"",{"$f":"IF('Oman Results'!E263=\"\",\"\",'Oman Results'!E263)","v":""},{"$f":"IF('Oman Results'!F263=\"\",\"\",'Oman Results'!F263)","v":""},{"$f":"IF(B263=\"\",\"\",IF(VLOOKUP(B263,'Oman Results'!C263:AI1256,31)=\"x\",'Oman Results'!AK263,'Oman Results'!G263))","v":""},"",{"$f":"IF(B263=\"\",\"\",IF(VLOOKUP(B263,'Oman Results'!C263:AI1256,31)=\"x\",\"Yes\",\"\"))","v":""},{"$f":"IF(B263=\"\",\"\",IF(VLOOKUP(B263,'Oman Results'!C263:AI1256,31)=\"x\",'Oman Results'!G263,\"\"))","v":""},{"$f":"IF(B263=\"\",\"\",IF(VLOOKUP(B263,'Oman Results'!C263:AI1256,31)=\"x\",'Oman Results'!AJ263,\"\"))","v":""},{"$f":"IF(B263=\"\",\"\",IF(VLOOKUP(B263,'Oman Results'!C263:AI1256,31)=\"x\",'Oman Results'!AK263,\"\"))","v":""},null,null,"","","",""]
["",{"$f":"IF('Oman Results'!C264=\"\",\"\",'Oman Results'!C264)","v":""},{"$f":"IF(OR('Oman Results'!D264=\"\",'Oman Results'!D264=\"Totals\"),\"\",'Oman Results'!D264)","v":""},"",{"$f":"IF('Oman Results'!E264=\"\",\"\",'Oman Results'!E264)","v":""},{"$f":"IF('Oman Results'!F264=\"\",\"\",'Oman Results'!F264)","v":""},{"$f":"IF(B264=\"\",\"\",IF(VLOOKUP(B264,'Oman Results'!C264:AI1257,31)=\"x\",'Oman Results'!AK264,'Oman Results'!G264))","v":""},"",{"$f":"IF(B264=\"\",\"\",IF(VLOOKUP(B264,'Oman Results'!C264:AI1257,31)=\"x\",\"Yes\",\"\"))","v":""},{"$f":"IF(B264=\"\",\"\",IF(VLOOKUP(B264,'Oman Results'!C264:AI1257,31)=\"x\",'Oman Results'!G264,\"\"))","v":""},{"$f":"IF(B264=\"\",\"\",IF(VLOOKUP(B264,'Oman Results'!C264:AI1257,31)=\"x\",'Oman Results'!AJ264,\"\"))","v":""},{"$f":"IF(B264=\"\",\"\",IF(VLOOKUP(B264,'Oman Results'!C264:AI1257,31)=\"x\",'Oman Results'!AK264,\"\"))","v":""},null,null,"","","",""]
["",{"$f":"IF('Oman Results'!C265=\"\",\"\",'Oman Results'!C265)","v":""},{"$f":"IF(OR('Oman Results'!D265=\"\",'Oman Results'!D265=\"Totals\"),\"\",'Oman Results'!D265)","v":""},"",{"$f":"IF('Oman Results'!E265=\"\",\"\",'Oman Results'!E265)","v":""},{"$f":"IF('Oman Results'!F265=\"\",\"\",'Oman Results'!F265)","v":""},{"$f":"IF(B265=\"\",\"\",IF(VLOOKUP(B265,'Oman Results'!C265:AI1258,31)=\"x\",'Oman Results'!AK265,'Oman Results'!G265))","v":""},"",{"$f":"IF(B265=\"\",\"\",IF(VLOOKUP(B265,'Oman Results'!C265:AI1258,31)=\"x\",\"Yes\",\"\"))","v":""},{"$f":"IF(B265=\"\",\"\",IF(VLOOKUP(B265,'Oman Results'!C265:AI1258,31)=\"x\",'Oman Results'!G265,\"\"))","v":""},{"$f":"IF(B265=\"\",\"\",IF(VLOOKUP(B265,'Oman Results'!C265:AI1258,31)=\"x\",'Oman Results'!AJ265,\"\"))","v":""},{"$f":"IF(B265=\"\",\"\",IF(VLOOKUP(B265,'Oman Results'!C265:AI1258,31)=\"x\",'Oman Results'!AK265,\"\"))","v":""},null,null,"","","",""]
["",{"$f":"IF('Oman Results'!C266=\"\",\"\",'Oman Results'!C266)","v":""},{"$f":"IF(OR('Oman Results'!D266=\"\",'Oman Results'!D266=\"Totals\"),\"\",'Oman Results'!D266)","v":""},"",{"$f":"IF('Oman Results'!E266=\"\",\"\",'Oman Results'!E266)","v":""},{"$f":"IF('Oman Results'!F266=\"\",\"\",'Oman Results'!F266)","v":""},{"$f":"IF(B266=\"\",\"\",IF(VLOOKUP(B266,'Oman Results'!C266:AI1259,31)=\"x\",'Oman Results'!AK266,'Oman Results'!G266))","v":""},"",{"$f":"IF(B266=\"\",\"\",IF(VLOOKUP(B266,'Oman Results'!C266:AI1259,31)=\"x\",\"Yes\",\"\"))","v":""},{"$f":"IF(B266=\"\",\"\",IF(VLOOKUP(B266,'Oman Results'!C266:AI1259,31)=\"x\",'Oman Results'!G266,\"\"))","v":""},{"$f":"IF(B266=\"\",\"\",IF(VLOOKUP(B266,'Oman Results'!C266:AI1259,31)=\"x\",'Oman Results'!AJ266,\"\"))","v":""},{"$f":"IF(B266=\"\",\"\",IF(VLOOKUP(B266,'Oman Results'!C266:AI1259,31)=\"x\",'Oman Results'!AK266,\"\"))","v":""},null,null,"","","",""]
["",{"$f":"IF('Oman Results'!C267=\"\",\"\",'Oman Results'!C267)","v":""},{"$f":"IF(OR('Oman Results'!D267=\"\",'Oman Results'!D267=\"Totals\"),\"\",'Oman Results'!D267)","v":""},"",{"$f":"IF('Oman Results'!E267=\"\",\"\",'Oman Results'!E267)","v":""},{"$f":"IF('Oman Results'!F267=\"\",\"\",'Oman Results'!F267)","v":""},{"$f":"IF(B267=\"\",\"\",IF(VLOOKUP(B267,'Oman Results'!C267:AI1260,31)=\"x\",'Oman Results'!AK267,'Oman Results'!G267))","v":""},"",{"$f":"IF(B267=\"\",\"\",IF(VLOOKUP(B267,'Oman Results'!C267:AI1260,31)=\"x\",\"Yes\",\"\"))","v":""},{"$f":"IF(B267=\"\",\"\",IF(VLOOKUP(B267,'Oman Results'!C267:AI1260,31)=\"x\",'Oman Results'!G267,\"\"))","v":""},{"$f":"IF(B267=\"\",\"\",IF(VLOOKUP(B267,'Oman Results'!C267:AI1260,31)=\"x\",'Oman Results'!AJ267,\"\"))","v":""},{"$f":"IF(B267=\"\",\"\",IF(VLOOKUP(B267,'Oman Results'!C267:AI1260,31)=\"x\",'Oman Results'!AK267,\"\"))","v":""},null,null,"","","",""]
["",{"$f":"IF('Oman Results'!C268=\"\",\"\",'Oman Results'!C268)","v":""},{"$f":"IF(OR('Oman Results'!D268=\"\",'Oman Results'!D268=\"Totals\"),\"\",'Oman Results'!D268)","v":""},"",{"$f":"IF('Oman Results'!E268=\"\",\"\",'Oman Results'!E268)","v":""},{"$f":"IF('Oman Results'!F268=\"\",\"\",'Oman Results'!F268)","v":""},{"$f":"IF(B268=\"\",\"\",IF(VLOOKUP(B268,'Oman Results'!C268:AI1261,31)=\"x\",'Oman Results'!AK268,'Oman Results'!G268))","v":""},"",{"$f":"IF(B268=\"\",\"\",IF(VLOOKUP(B268,'Oman Results'!C268:AI1261,31)=\"x\",\"Yes\",\"\"))","v":""},{"$f":"IF(B268=\"\",\"\",IF(VLOOKUP(B268,'Oman Results'!C268:AI1261,31)=\"x\",'Oman Results'!G268,\"\"))","v":""},{"$f":"IF(B268=\"\",\"\",IF(VLOOKUP(B268,'Oman Results'!C268:AI1261,31)=\"x\",'Oman Results'!AJ268,\"\"))","v":""},{"$f":"IF(B268=\"\",\"\",IF(VLOOKUP(B268,'Oman Results'!C268:AI1261,31)=\"x\",'Oman Results'!AK268,\"\"))","v":""},null,null,"","","",""]
["",{"$f":"IF('Oman Results'!C269=\"\",\"\",'Oman Results'!C269)","v":""},{"$f":"IF(OR('Oman Results'!D269=\"\",'Oman Results'!D269=\"Totals\"),\"\",'Oman Results'!D269)","v":""},"",{"$f":"IF('Oman Results'!E269=\"\",\"\",'Oman Results'!E269)","v":""},{"$f":"IF('Oman Results'!F269=\"\",\"\",'Oman Results'!F269)","v":""},{"$f":"IF(B269=\"\",\"\",IF(VLOOKUP(B269,'Oman Results'!C269:AI1262,31)=\"x\",'Oman Results'!AK269,'Oman Results'!G269))","v":""},"",{"$f":"IF(B269=\"\",\"\",IF(VLOOKUP(B269,'Oman Results'!C269:AI1262,31)=\"x\",\"Yes\",\"\"))","v":""},{"$f":"IF(B269=\"\",\"\",IF(VLOOKUP(B269,'Oman Results'!C269:AI1262,31)=\"x\",'Oman Results'!G269,\"\"))","v":""},{"$f":"IF(B269=\"\",\"\",IF(VLOOKUP(B269,'Oman Results'!C269:AI1262,31)=\"x\",'Oman Results'!AJ269,\"\"))","v":""},{"$f":"IF(B269=\"\",\"\",IF(VLOOKUP(B269,'Oman Results'!C269:AI1262,31)=\"x\",'Oman Results'!AK269,\"\"))","v":""},null,null,"","","",""]
["",{"$f":"IF('Oman Results'!C270=\"\",\"\",'Oman Results'!C270)","v":""},{"$f":"IF(OR('Oman Results'!D270=\"\",'Oman Results'!D270=\"Totals\"),\"\",'Oman Results'!D270)","v":""},"",{"$f":"IF('Oman Results'!E270=\"\",\"\",'Oman Results'!E270)","v":""},{"$f":"IF('Oman Results'!F270=\"\",\"\",'Oman Results'!F270)","v":""},{"$f":"IF(B270=\"\",\"\",IF(VLOOKUP(B270,'Oman Results'!C270:AI1263,31)=\"x\",'Oman Results'!AK270,'Oman Results'!G270))","v":""},"",{"$f":"IF(B270=\"\",\"\",IF(VLOOKUP(B270,'Oman Results'!C270:AI1263,31)=\"x\",\"Yes\",\"\"))","v":""},{"$f":"IF(B270=\"\",\"\",IF(VLOOKUP(B270,'Oman Results'!C270:AI1263,31)=\"x\",'Oman Results'!G270,\"\"))","v":""},{"$f":"IF(B270=\"\",\"\",IF(VLOOKUP(B270,'Oman Results'!C270:AI1263,31)=\"x\",'Oman Results'!AJ270,\"\"))","v":""},{"$f":"IF(B270=\"\",\"\",IF(VLOOKUP(B270,'Oman Results'!C270:AI1263,31)=\"x\",'Oman Results'!AK270,\"\"))","v":""},null,null,"","","",""]
["",{"$f":"IF('Oman Results'!C271=\"\",\"\",'Oman Results'!C271)","v":""},{"$f":"IF(OR('Oman Results'!D271=\"\",'Oman Results'!D271=\"Totals\"),\"\",'Oman Results'!D271)","v":""},"",{"$f":"IF('Oman Results'!E271=\"\",\"\",'Oman Results'!E271)","v":""},{"$f":"IF('Oman Results'!F271=\"\",\"\",'Oman Results'!F271)","v":""},{"$f":"IF(B271=\"\",\"\",IF(VLOOKUP(B271,'Oman Results'!C271:AI1264,31)=\"x\",'Oman Results'!AK271,'Oman Results'!G271))","v":""},"",{"$f":"IF(B271=\"\",\"\",IF(VLOOKUP(B271,'Oman Results'!C271:AI1264,31)=\"x\",\"Yes\",\"\"))","v":""},{"$f":"IF(B271=\"\",\"\",IF(VLOOKUP(B271,'Oman Results'!C271:AI1264,31)=\"x\",'Oman Results'!G271,\"\"))","v":""},{"$f":"IF(B271=\"\",\"\",IF(VLOOKUP(B271,'Oman Results'!C271:AI1264,31)=\"x\",'Oman Results'!AJ271,\"\"))","v":""},{"$f":"IF(B271=\"\",\"\",IF(VLOOKUP(B271,'Oman Results'!C271:AI1264,31)=\"x\",'Oman Results'!AK271,\"\"))","v":""},null,null,"","","",""]
["",{"$f":"IF('Oman Results'!C272=\"\",\"\",'Oman Results'!C272)","v":""},{"$f":"IF(OR('Oman Results'!D272=\"\",'Oman Results'!D272=\"Totals\"),\"\",'Oman Results'!D272)","v":""},"",{"$f":"IF('Oman Results'!E272=\"\",\"\",'Oman Results'!E272)","v":""},{"$f":"IF('Oman Results'!F272=\"\",\"\",'Oman Results'!F272)","v":""},{"$f":"IF(B272=\"\",\"\",IF(VLOOKUP(B272,'Oman Results'!C272:AI1265,31)=\"x\",'Oman Results'!AK272,'Oman Results'!G272))","v":""},"",{"$f":"IF(B272=\"\",\"\",IF(VLOOKUP(B272,'Oman Results'!C272:AI1265,31)=\"x\",\"Yes\",\"\"))","v":""},{"$f":"IF(B272=\"\",\"\",IF(VLOOKUP(B272,'Oman Results'!C272:AI1265,31)=\"x\",'Oman Results'!G272,\"\"))","v":""},{"$f":"IF(B272=\"\",\"\",IF(VLOOKUP(B272,'Oman Results'!C272:AI1265,31)=\"x\",'Oman Results'!AJ272,\"\"))","v":""},{"$f":"IF(B272=\"\",\"\",IF(VLOOKUP(B272,'Oman Results'!C272:AI1265,31)=\"x\",'Oman Results'!AK272,\"\"))","v":""},null,null,"","","",""]
["",{"$f":"IF('Oman Results'!C273=\"\",\"\",'Oman Results'!C273)","v":""},{"$f":"IF(OR('Oman Results'!D273=\"\",'Oman Results'!D273=\"Totals\"),\"\",'Oman Results'!D273)","v":""},"",{"$f":"IF('Oman Results'!E273=\"\",\"\",'Oman Results'!E273)","v":""},{"$f":"IF('Oman Results'!F273=\"\",\"\",'Oman Results'!F273)","v":""},{"$f":"IF(B273=\"\",\"\",IF(VLOOKUP(B273,'Oman Results'!C273:AI1266,31)=\"x\",'Oman Results'!AK273,'Oman Results'!G273))","v":""},"",{"$f":"IF(B273=\"\",\"\",IF(VLOOKUP(B273,'Oman Results'!C273:AI1266,31)=\"x\",\"Yes\",\"\"))","v":""},{"$f":"IF(B273=\"\",\"\",IF(VLOOKUP(B273,'Oman Results'!C273:AI1266,31)=\"x\",'Oman Results'!G273,\"\"))","v":""},{"$f":"IF(B273=\"\",\"\",IF(VLOOKUP(B273,'Oman Results'!C273:AI1266,31)=\"x\",'Oman Results'!AJ273,\"\"))","v":""},{"$f":"IF(B273=\"\",\"\",IF(VLOOKUP(B273,'Oman Results'!C273:AI1266,31)=\"x\",'Oman Results'!AK273,\"\"))","v":""},null,null,"","","",""]
["",{"$f":"IF('Oman Results'!C274=\"\",\"\",'Oman Results'!C274)","v":""},{"$f":"IF(OR('Oman Results'!D274=\"\",'Oman Results'!D274=\"Totals\"),\"\",'Oman Results'!D274)","v":""},"",{"$f":"IF('Oman Results'!E274=\"\",\"\",'Oman Results'!E274)","v":""},{"$f":"IF('Oman Results'!F274=\"\",\"\",'Oman Results'!F274)","v":""},{"$f":"IF(B274=\"\",\"\",IF(VLOOKUP(B274,'Oman Results'!C274:AI1267,31)=\"x\",'Oman Results'!AK274,'Oman Results'!G274))","v":""},"",{"$f":"IF(B274=\"\",\"\",IF(VLOOKUP(B274,'Oman Results'!C274:AI1267,31)=\"x\",\"Yes\",\"\"))","v":""},{"$f":"IF(B274=\"\",\"\",IF(VLOOKUP(B274,'Oman Results'!C274:AI1267,31)=\"x\",'Oman Results'!G274,\"\"))","v":""},{"$f":"IF(B274=\"\",\"\",IF(VLOOKUP(B274,'Oman Results'!C274:AI1267,31)=\"x\",'Oman Results'!AJ274,\"\"))","v":""},{"$f":"IF(B274=\"\",\"\",IF(VLOOKUP(B274,'Oman Results'!C274:AI1267,31)=\"x\",'Oman Results'!AK274,\"\"))","v":""},null,null,"","","",""]
["",{"$f":"IF('Oman Results'!C275=\"\",\"\",'Oman Results'!C275)","v":""},{"$f":"IF(OR('Oman Results'!D275=\"\",'Oman Results'!D275=\"Totals\"),\"\",'Oman Results'!D275)","v":""},"",{"$f":"IF('Oman Results'!E275=\"\",\"\",'Oman Results'!E275)","v":""},{"$f":"IF('Oman Results'!F275=\"\",\"\",'Oman Results'!F275)","v":""},{"$f":"IF(B275=\"\",\"\",IF(VLOOKUP(B275,'Oman Results'!C275:AI1268,31)=\"x\",'Oman Results'!AK275,'Oman Results'!G275))","v":""},"",{"$f":"IF(B275=\"\",\"\",IF(VLOOKUP(B275,'Oman Results'!C275:AI1268,31)=\"x\",\"Yes\",\"\"))","v":""},{"$f":"IF(B275=\"\",\"\",IF(VLOOKUP(B275,'Oman Results'!C275:AI1268,31)=\"x\",'Oman Results'!G275,\"\"))","v":""},{"$f":"IF(B275=\"\",\"\",IF(VLOOKUP(B275,'Oman Results'!C275:AI1268,31)=\"x\",'Oman Results'!AJ275,\"\"))","v":""},{"$f":"IF(B275=\"\",\"\",IF(VLOOKUP(B275,'Oman Results'!C275:AI1268,31)=\"x\",'Oman Results'!AK275,\"\"))","v":""},null,null,"","","",""]
["",{"$f":"IF('Oman Results'!C276=\"\",\"\",'Oman Results'!C276)","v":""},{"$f":"IF(OR('Oman Results'!D276=\"\",'Oman Results'!D276=\"Totals\"),\"\",'Oman Results'!D276)","v":""},"",{"$f":"IF('Oman Results'!E276=\"\",\"\",'Oman Results'!E276)","v":""},{"$f":"IF('Oman Results'!F276=\"\",\"\",'Oman Results'!F276)","v":""},{"$f":"IF(B276=\"\",\"\",IF(VLOOKUP(B276,'Oman Results'!C276:AI1269,31)=\"x\",'Oman Results'!AK276,'Oman Results'!G276))","v":""},"",{"$f":"IF(B276=\"\",\"\",IF(VLOOKUP(B276,'Oman Results'!C276:AI1269,31)=\"x\",\"Yes\",\"\"))","v":""},{"$f":"IF(B276=\"\",\"\",IF(VLOOKUP(B276,'Oman Results'!C276:AI1269,31)=\"x\",'Oman Results'!G276,\"\"))","v":""},{"$f":"IF(B276=\"\",\"\",IF(VLOOKUP(B276,'Oman Results'!C276:AI1269,31)=\"x\",'Oman Results'!AJ276,\"\"))","v":""},{"$f":"IF(B276=\"\",\"\",IF(VLOOKUP(B276,'Oman Results'!C276:AI1269,31)=\"x\",'Oman Results'!AK276,\"\"))","v":""},null,null,"","","",""]
["",{"$f":"IF('Oman Results'!C277=\"\",\"\",'Oman Results'!C277)","v":""},{"$f":"IF(OR('Oman Results'!D277=\"\",'Oman Results'!D277=\"Totals\"),\"\",'Oman Results'!D277)","v":""},"",{"$f":"IF('Oman Results'!E277=\"\",\"\",'Oman Results'!E277)","v":""},{"$f":"IF('Oman Results'!F277=\"\",\"\",'Oman Results'!F277)","v":""},{"$f":"IF(B277=\"\",\"\",IF(VLOOKUP(B277,'Oman Results'!C277:AI1270,31)=\"x\",'Oman Results'!AK277,'Oman Results'!G277))","v":""},"",{"$f":"IF(B277=\"\",\"\",IF(VLOOKUP(B277,'Oman Results'!C277:AI1270,31)=\"x\",\"Yes\",\"\"))","v":""},{"$f":"IF(B277=\"\",\"\",IF(VLOOKUP(B277,'Oman Results'!C277:AI1270,31)=\"x\",'Oman Results'!G277,\"\"))","v":""},{"$f":"IF(B277=\"\",\"\",IF(VLOOKUP(B277,'Oman Results'!C277:AI1270,31)=\"x\",'Oman Results'!AJ277,\"\"))","v":""},{"$f":"IF(B277=\"\",\"\",IF(VLOOKUP(B277,'Oman Results'!C277:AI1270,31)=\"x\",'Oman Results'!AK277,\"\"))","v":""},null,null,"","","",""]
["",{"$f":"IF('Oman Results'!C278=\"\",\"\",'Oman Results'!C278)","v":""},{"$f":"IF(OR('Oman Results'!D278=\"\",'Oman Results'!D278=\"Totals\"),\"\",'Oman Results'!D278)","v":""},"",{"$f":"IF('Oman Results'!E278=\"\",\"\",'Oman Results'!E278)","v":""},{"$f":"IF('Oman Results'!F278=\"\",\"\",'Oman Results'!F278)","v":""},{"$f":"IF(B278=\"\",\"\",IF(VLOOKUP(B278,'Oman Results'!C278:AI1271,31)=\"x\",'Oman Results'!AK278,'Oman Results'!G278))","v":""},"",{"$f":"IF(B278=\"\",\"\",IF(VLOOKUP(B278,'Oman Results'!C278:AI1271,31)=\"x\",\"Yes\",\"\"))","v":""},{"$f":"IF(B278=\"\",\"\",IF(VLOOKUP(B278,'Oman Results'!C278:AI1271,31)=\"x\",'Oman Results'!G278,\"\"))","v":""},{"$f":"IF(B278=\"\",\"\",IF(VLOOKUP(B278,'Oman Results'!C278:AI1271,31)=\"x\",'Oman Results'!AJ278,\"\"))","v":""},{"$f":"IF(B278=\"\",\"\",IF(VLOOKUP(B278,'Oman Results'!C278:AI1271,31)=\"x\",'Oman Results'!AK278,\"\"))","v":""},null,null,"","","",""]
["",{"$f":"IF('Oman Results'!C279=\"\",\"\",'Oman Results'!C279)","v":""},{"$f":"IF(OR('Oman Results'!D279=\"\",'Oman Results'!D279=\"Totals\"),\"\",'Oman Results'!D279)","v":""},"",{"$f":"IF('Oman Results'!E279=\"\",\"\",'Oman Results'!E279)","v":""},{"$f":"IF('Oman Results'!F279=\"\",\"\",'Oman Results'!F279)","v":""},{"$f":"IF(B279=\"\",\"\",IF(VLOOKUP(B279,'Oman Results'!C279:AI1272,31)=\"x\",'Oman Results'!AK279,'Oman Results'!G279))","v":""},"",{"$f":"IF(B279=\"\",\"\",IF(VLOOKUP(B279,'Oman Results'!C279:AI1272,31)=\"x\",\"Yes\",\"\"))","v":""},{"$f":"IF(B279=\"\",\"\",IF(VLOOKUP(B279,'Oman Results'!C279:AI1272,31)=\"x\",'Oman Results'!G279,\"\"))","v":""},{"$f":"IF(B279=\"\",\"\",IF(VLOOKUP(B279,'Oman Results'!C279:AI1272,31)=\"x\",'Oman Results'!AJ279,\"\"))","v":""},{"$f":"IF(B279=\"\",\"\",IF(VLOOKUP(B279,'Oman Results'!C279:AI1272,31)=\"x\",'Oman Results'!AK279,\"\"))","v":""},null,null,"","","",""]
["",{"$f":"IF('Oman Results'!C280=\"\",\"\",'Oman Results'!C280)","v":""},{"$f":"IF(OR('Oman Results'!D280=\"\",'Oman Results'!D280=\"Totals\"),\"\",'Oman Results'!D280)","v":""},"",{"$f":"IF('Oman Results'!E280=\"\",\"\",'Oman Results'!E280)","v":""},{"$f":"IF('Oman Results'!F280=\"\",\"\",'Oman Results'!F280)","v":""},{"$f":"IF(B280=\"\",\"\",IF(VLOOKUP(B280,'Oman Results'!C280:AI1273,31)=\"x\",'Oman Results'!AK280,'Oman Results'!G280))","v":""},"",{"$f":"IF(B280=\"\",\"\",IF(VLOOKUP(B280,'Oman Results'!C280:AI1273,31)=\"x\",\"Yes\",\"\"))","v":""},{"$f":"IF(B280=\"\",\"\",IF(VLOOKUP(B280,'Oman Results'!C280:AI1273,31)=\"x\",'Oman Results'!G280,\"\"))","v":""},{"$f":"IF(B280=\"\",\"\",IF(VLOOKUP(B280,'Oman Results'!C280:AI1273,31)=\"x\",'Oman Results'!AJ280,\"\"))","v":""},{"$f":"IF(B280=\"\",\"\",IF(VLOOKUP(B280,'Oman Results'!C280:AI1273,31)=\"x\",'Oman Results'!AK280,\"\"))","v":""},null,null,"","","",""]
["",{"$f":"IF('Oman Results'!C281=\"\",\"\",'Oman Results'!C281)","v":""},{"$f":"IF(OR('Oman Results'!D281=\"\",'Oman Results'!D281=\"Totals\"),\"\",'Oman Results'!D281)","v":""},"",{"$f":"IF('Oman Results'!E281=\"\",\"\",'Oman Results'!E281)","v":""},{"$f":"IF('Oman Results'!F281=\"\",\"\",'Oman Results'!F281)","v":""},{"$f":"IF(B281=\"\",\"\",IF(VLOOKUP(B281,'Oman Results'!C281:AI1274,31)=\"x\",'Oman Results'!AK281,'Oman Results'!G281))","v":""},"",{"$f":"IF(B281=\"\",\"\",IF(VLOOKUP(B281,'Oman Results'!C281:AI1274,31)=\"x\",\"Yes\",\"\"))","v":""},{"$f":"IF(B281=\"\",\"\",IF(VLOOKUP(B281,'Oman Results'!C281:AI1274,31)=\"x\",'Oman Results'!G281,\"\"))","v":""},{"$f":"IF(B281=\"\",\"\",IF(VLOOKUP(B281,'Oman Results'!C281:AI1274,31)=\"x\",'Oman Results'!AJ281,\"\"))","v":""},{"$f":"IF(B281=\"\",\"\",IF(VLOOKUP(B281,'Oman Results'!C281:AI1274,31)=\"x\",'Oman Results'!AK281,\"\"))","v":""},null,null,"","","",""]
["",{"$f":"IF('Oman Results'!C282=\"\",\"\",'Oman Results'!C282)","v":""},{"$f":"IF(OR('Oman Results'!D282=\"\",'Oman Results'!D282=\"Totals\"),\"\",'Oman Results'!D282)","v":""},"",{"$f":"IF('Oman Results'!E282=\"\",\"\",'Oman Results'!E282)","v":""},{"$f":"IF('Oman Results'!F282=\"\",\"\",'Oman Results'!F282)","v":""},{"$f":"IF(B282=\"\",\"\",IF(VLOOKUP(B282,'Oman Results'!C282:AI1275,31)=\"x\",'Oman Results'!AK282,'Oman Results'!G282))","v":""},"",{"$f":"IF(B282=\"\",\"\",IF(VLOOKUP(B282,'Oman Results'!C282:AI1275,31)=\"x\",\"Yes\",\"\"))","v":""},{"$f":"IF(B282=\"\",\"\",IF(VLOOKUP(B282,'Oman Results'!C282:AI1275,31)=\"x\",'Oman Results'!G282,\"\"))","v":""},{"$f":"IF(B282=\"\",\"\",IF(VLOOKUP(B282,'Oman Results'!C282:AI1275,31)=\"x\",'Oman Results'!AJ282,\"\"))","v":""},{"$f":"IF(B282=\"\",\"\",IF(VLOOKUP(B282,'Oman Results'!C282:AI1275,31)=\"x\",'Oman Results'!AK282,\"\"))","v":""},null,null,"","","",""]
["",{"$f":"IF('Oman Results'!C283=\"\",\"\",'Oman Results'!C283)","v":""},{"$f":"IF(OR('Oman Results'!D283=\"\",'Oman Results'!D283=\"Totals\"),\"\",'Oman Results'!D283)","v":""},"",{"$f":"IF('Oman Results'!E283=\"\",\"\",'Oman Results'!E283)","v":""},{"$f":"IF('Oman Results'!F283=\"\",\"\",'Oman Results'!F283)","v":""},{"$f":"IF(B283=\"\",\"\",IF(VLOOKUP(B283,'Oman Results'!C283:AI1276,31)=\"x\",'Oman Results'!AK283,'Oman Results'!G283))","v":""},"",{"$f":"IF(B283=\"\",\"\",IF(VLOOKUP(B283,'Oman Results'!C283:AI1276,31)=\"x\",\"Yes\",\"\"))","v":""},{"$f":"IF(B283=\"\",\"\",IF(VLOOKUP(B283,'Oman Results'!C283:AI1276,31)=\"x\",'Oman Results'!G283,\"\"))","v":""},{"$f":"IF(B283=\"\",\"\",IF(VLOOKUP(B283,'Oman Results'!C283:AI1276,31)=\"x\",'Oman Results'!AJ283,\"\"))","v":""},{"$f":"IF(B283=\"\",\"\",IF(VLOOKUP(B283,'Oman Results'!C283:AI1276,31)=\"x\",'Oman Results'!AK283,\"\"))","v":""},null,null,"","","",""]
["",{"$f":"IF('Oman Results'!C284=\"\",\"\",'Oman Results'!C284)","v":""},{"$f":"IF(OR('Oman Results'!D284=\"\",'Oman Results'!D284=\"Totals\"),\"\",'Oman Results'!D284)","v":""},"",{"$f":"IF('Oman Results'!E284=\"\",\"\",'Oman Results'!E284)","v":""},{"$f":"IF('Oman Results'!F284=\"\",\"\",'Oman Results'!F284)","v":""},{"$f":"IF(B284=\"\",\"\",IF(VLOOKUP(B284,'Oman Results'!C284:AI1277,31)=\"x\",'Oman Results'!AK284,'Oman Results'!G284))","v":""},"",{"$f":"IF(B284=\"\",\"\",IF(VLOOKUP(B284,'Oman Results'!C284:AI1277,31)=\"x\",\"Yes\",\"\"))","v":""},{"$f":"IF(B284=\"\",\"\",IF(VLOOKUP(B284,'Oman Results'!C284:AI1277,31)=\"x\",'Oman Results'!G284,\"\"))","v":""},{"$f":"IF(B284=\"\",\"\",IF(VLOOKUP(B284,'Oman Results'!C284:AI1277,31)=\"x\",'Oman Results'!AJ284,\"\"))","v":""},{"$f":"IF(B284=\"\",\"\",IF(VLOOKUP(B284,'Oman Results'!C284:AI1277,31)=\"x\",'Oman Results'!AK284,\"\"))","v":""},null,null,"","","",""]
["",{"$f":"IF('Oman Results'!C285=\"\",\"\",'Oman Results'!C285)","v":""},{"$f":"IF(OR('Oman Results'!D285=\"\",'Oman Results'!D285=\"Totals\"),\"\",'Oman Results'!D285)","v":""},"",{"$f":"IF('Oman Results'!E285=\"\",\"\",'Oman Results'!E285)","v":""},{"$f":"IF('Oman Results'!F285=\"\",\"\",'Oman Results'!F285)","v":""},{"$f":"IF(B285=\"\",\"\",IF(VLOOKUP(B285,'Oman Results'!C285:AI1278,31)=\"x\",'Oman Results'!AK285,'Oman Results'!G285))","v":""},"",{"$f":"IF(B285=\"\",\"\",IF(VLOOKUP(B285,'Oman Results'!C285:AI1278,31)=\"x\",\"Yes\",\"\"))","v":""},{"$f":"IF(B285=\"\",\"\",IF(VLOOKUP(B285,'Oman Results'!C285:AI1278,31)=\"x\",'Oman Results'!G285,\"\"))","v":""},{"$f":"IF(B285=\"\",\"\",IF(VLOOKUP(B285,'Oman Results'!C285:AI1278,31)=\"x\",'Oman Results'!AJ285,\"\"))","v":""},{"$f":"IF(B285=\"\",\"\",IF(VLOOKUP(B285,'Oman Results'!C285:AI1278,31)=\"x\",'Oman Results'!AK285,\"\"))","v":""},null,null,"","","",""]
["",{"$f":"IF('Oman Results'!C286=\"\",\"\",'Oman Results'!C286)","v":""},{"$f":"IF(OR('Oman Results'!D286=\"\",'Oman Results'!D286=\"Totals\"),\"\",'Oman Results'!D286)","v":""},"",{"$f":"IF('Oman Results'!E286=\"\",\"\",'Oman Results'!E286)","v":""},{"$f":"IF('Oman Results'!F286=\"\",\"\",'Oman Results'!F286)","v":""},{"$f":"IF(B286=\"\",\"\",IF(VLOOKUP(B286,'Oman Results'!C286:AI1279,31)=\"x\",'Oman Results'!AK286,'Oman Results'!G286))","v":""},"",{"$f":"IF(B286=\"\",\"\",IF(VLOOKUP(B286,'Oman Results'!C286:AI1279,31)=\"x\",\"Yes\",\"\"))","v":""},{"$f":"IF(B286=\"\",\"\",IF(VLOOKUP(B286,'Oman Results'!C286:AI1279,31)=\"x\",'Oman Results'!G286,\"\"))","v":""},{"$f":"IF(B286=\"\",\"\",IF(VLOOKUP(B286,'Oman Results'!C286:AI1279,31)=\"x\",'Oman Results'!AJ286,\"\"))","v":""},{"$f":"IF(B286=\"\",\"\",IF(VLOOKUP(B286,'Oman Results'!C286:AI1279,31)=\"x\",'Oman Results'!AK286,\"\"))","v":""},null,null,"","","",""]
["",{"$f":"IF('Oman Results'!C287=\"\",\"\",'Oman Results'!C287)","v":""},{"$f":"IF(OR('Oman Results'!D287=\"\",'Oman Results'!D287=\"Totals\"),\"\",'Oman Results'!D287)","v":""},"",{"$f":"IF('Oman Results'!E287=\"\",\"\",'Oman Results'!E287)","v":""},{"$f":"IF('Oman Results'!F287=\"\",\"\",'Oman Results'!F287)","v":""},{"$f":"IF(B287=\"\",\"\",IF(VLOOKUP(B287,'Oman Results'!C287:AI1280,31)=\"x\",'Oman Results'!AK287,'Oman Results'!G287))","v":""},"",{"$f":"IF(B287=\"\",\"\",IF(VLOOKUP(B287,'Oman Results'!C287:AI1280,31)=\"x\",\"Yes\",\"\"))","v":""},{"$f":"IF(B287=\"\",\"\",IF(VLOOKUP(B287,'Oman Results'!C287:AI1280,31)=\"x\",'Oman Results'!G287,\"\"))","v":""},{"$f":"IF(B287=\"\",\"\",IF(VLOOKUP(B287,'Oman Results'!C287:AI1280,31)=\"x\",'Oman Results'!AJ287,\"\"))","v":""},{"$f":"IF(B287=\"\",\"\",IF(VLOOKUP(B287,'Oman Results'!C287:AI1280,31)=\"x\",'Oman Results'!AK287,\"\"))","v":""},null,null,"","","",""]
["",{"$f":"IF('Oman Results'!C288=\"\",\"\",'Oman Results'!C288)","v":""},{"$f":"IF(OR('Oman Results'!D288=\"\",'Oman Results'!D288=\"Totals\"),\"\",'Oman Results'!D288)","v":""},"",{"$f":"IF('Oman Results'!E288=\"\",\"\",'Oman Results'!E288)","v":""},{"$f":"IF('Oman Results'!F288=\"\",\"\",'Oman Results'!F288)","v":""},{"$f":"IF(B288=\"\",\"\",IF(VLOOKUP(B288,'Oman Results'!C288:AI1281,31)=\"x\",'Oman Results'!AK288,'Oman Results'!G288))","v":""},"",{"$f":"IF(B288=\"\",\"\",IF(VLOOKUP(B288,'Oman Results'!C288:AI1281,31)=\"x\",\"Yes\",\"\"))","v":""},{"$f":"IF(B288=\"\",\"\",IF(VLOOKUP(B288,'Oman Results'!C288:AI1281,31)=\"x\",'Oman Results'!G288,\"\"))","v":""},{"$f":"IF(B288=\"\",\"\",IF(VLOOKUP(B288,'Oman Results'!C288:AI1281,31)=\"x\",'Oman Results'!AJ288,\"\"))","v":""},{"$f":"IF(B288=\"\",\"\",IF(VLOOKUP(B288,'Oman Results'!C288:AI1281,31)=\"x\",'Oman Results'!AK288,\"\"))","v":""},null,null,"","","",""]
["",{"$f":"IF('Oman Results'!C289=\"\",\"\",'Oman Results'!C289)","v":""},{"$f":"IF(OR('Oman Results'!D289=\"\",'Oman Results'!D289=\"Totals\"),\"\",'Oman Results'!D289)","v":""},"",{"$f":"IF('Oman Results'!E289=\"\",\"\",'Oman Results'!E289)","v":""},{"$f":"IF('Oman Results'!F289=\"\",\"\",'Oman Results'!F289)","v":""},{"$f":"IF(B289=\"\",\"\",IF(VLOOKUP(B289,'Oman Results'!C289:AI1282,31)=\"x\",'Oman Results'!AK289,'Oman Results'!G289))","v":""},"",{"$f":"IF(B289=\"\",\"\",IF(VLOOKUP(B289,'Oman Results'!C289:AI1282,31)=\"x\",\"Yes\",\"\"))","v":""},{"$f":"IF(B289=\"\",\"\",IF(VLOOKUP(B289,'Oman Results'!C289:AI1282,31)=\"x\",'Oman Results'!G289,\"\"))","v":""},{"$f":"IF(B289=\"\",\"\",IF(VLOOKUP(B289,'Oman Results'!C289:AI1282,31)=\"x\",'Oman Results'!AJ289,\"\"))","v":""},{"$f":"IF(B289=\"\",\"\",IF(VLOOKUP(B289,'Oman Results'!C289:AI1282,31)=\"x\",'Oman Results'!AK289,\"\"))","v":""},null,null,"","","",""]
["",{"$f":"IF('Oman Results'!C290=\"\",\"\",'Oman Results'!C290)","v":""},{"$f":"IF(OR('Oman Results'!D290=\"\",'Oman Results'!D290=\"Totals\"),\"\",'Oman Results'!D290)","v":""},"",{"$f":"IF('Oman Results'!E290=\"\",\"\",'Oman Results'!E290)","v":""},{"$f":"IF('Oman Results'!F290=\"\",\"\",'Oman Results'!F290)","v":""},{"$f":"IF(B290=\"\",\"\",IF(VLOOKUP(B290,'Oman Results'!C290:AI1283,31)=\"x\",'Oman Results'!AK290,'Oman Results'!G290))","v":""},"",{"$f":"IF(B290=\"\",\"\",IF(VLOOKUP(B290,'Oman Results'!C290:AI1283,31)=\"x\",\"Yes\",\"\"))","v":""},{"$f":"IF(B290=\"\",\"\",IF(VLOOKUP(B290,'Oman Results'!C290:AI1283,31)=\"x\",'Oman Results'!G290,\"\"))","v":""},{"$f":"IF(B290=\"\",\"\",IF(VLOOKUP(B290,'Oman Results'!C290:AI1283,31)=\"x\",'Oman Results'!AJ290,\"\"))","v":""},{"$f":"IF(B290=\"\",\"\",IF(VLOOKUP(B290,'Oman Results'!C290:AI1283,31)=\"x\",'Oman Results'!AK290,\"\"))","v":""},null,null,"","","",""]
["",{"$f":"IF('Oman Results'!C291=\"\",\"\",'Oman Results'!C291)","v":""},{"$f":"IF(OR('Oman Results'!D291=\"\",'Oman Results'!D291=\"Totals\"),\"\",'Oman Results'!D291)","v":""},"",{"$f":"IF('Oman Results'!E291=\"\",\"\",'Oman Results'!E291)","v":""},{"$f":"IF('Oman Results'!F291=\"\",\"\",'Oman Results'!F291)","v":""},{"$f":"IF(B291=\"\",\"\",IF(VLOOKUP(B291,'Oman Results'!C291:AI1284,31)=\"x\",'Oman Results'!AK291,'Oman Results'!G291))","v":""},"",{"$f":"IF(B291=\"\",\"\",IF(VLOOKUP(B291,'Oman Results'!C291:AI1284,31)=\"x\",\"Yes\",\"\"))","v":""},{"$f":"IF(B291=\"\",\"\",IF(VLOOKUP(B291,'Oman Results'!C291:AI1284,31)=\"x\",'Oman Results'!G291,\"\"))","v":""},{"$f":"IF(B291=\"\",\"\",IF(VLOOKUP(B291,'Oman Results'!C291:AI1284,31)=\"x\",'Oman Results'!AJ291,\"\"))","v":""},{"$f":"IF(B291=\"\",\"\",IF(VLOOKUP(B291,'Oman Results'!C291:AI1284,31)=\"x\",'Oman Results'!AK291,\"\"))","v":""},null,null,"","","",""]
["",{"$f":"IF('Oman Results'!C292=\"\",\"\",'Oman Results'!C292)","v":""},{"$f":"IF(OR('Oman Results'!D292=\"\",'Oman Results'!D292=\"Totals\"),\"\",'Oman Results'!D292)","v":""},"",{"$f":"IF('Oman Results'!E292=\"\",\"\",'Oman Results'!E292)","v":""},{"$f":"IF('Oman Results'!F292=\"\",\"\",'Oman Results'!F292)","v":""},{"$f":"IF(B292=\"\",\"\",IF(VLOOKUP(B292,'Oman Results'!C292:AI1285,31)=\"x\",'Oman Results'!AK292,'Oman Results'!G292))","v":""},"",{"$f":"IF(B292=\"\",\"\",IF(VLOOKUP(B292,'Oman Results'!C292:AI1285,31)=\"x\",\"Yes\",\"\"))","v":""},{"$f":"IF(B292=\"\",\"\",IF(VLOOKUP(B292,'Oman Results'!C292:AI1285,31)=\"x\",'Oman Results'!G292,\"\"))","v":""},{"$f":"IF(B292=\"\",\"\",IF(VLOOKUP(B292,'Oman Results'!C292:AI1285,31)=\"x\",'Oman Results'!AJ292,\"\"))","v":""},{"$f":"IF(B292=\"\",\"\",IF(VLOOKUP(B292,'Oman Results'!C292:AI1285,31)=\"x\",'Oman Results'!AK292,\"\"))","v":""},null,null,"","","",""]
["",{"$f":"IF('Oman Results'!C293=\"\",\"\",'Oman Results'!C293)","v":""},{"$f":"IF(OR('Oman Results'!D293=\"\",'Oman Results'!D293=\"Totals\"),\"\",'Oman Results'!D293)","v":""},"",{"$f":"IF('Oman Results'!E293=\"\",\"\",'Oman Results'!E293)","v":""},{"$f":"IF('Oman Results'!F293=\"\",\"\",'Oman Results'!F293)","v":""},{"$f":"IF(B293=\"\",\"\",IF(VLOOKUP(B293,'Oman Results'!C293:AI1286,31)=\"x\",'Oman Results'!AK293,'Oman Results'!G293))","v":""},"",{"$f":"IF(B293=\"\",\"\",IF(VLOOKUP(B293,'Oman Results'!C293:AI1286,31)=\"x\",\"Yes\",\"\"))","v":""},{"$f":"IF(B293=\"\",\"\",IF(VLOOKUP(B293,'Oman Results'!C293:AI1286,31)=\"x\",'Oman Results'!G293,\"\"))","v":""},{"$f":"IF(B293=\"\",\"\",IF(VLOOKUP(B293,'Oman Results'!C293:AI1286,31)=\"x\",'Oman Results'!AJ293,\"\"))","v":""},{"$f":"IF(B293=\"\",\"\",IF(VLOOKUP(B293,'Oman Results'!C293:AI1286,31)=\"x\",'Oman Results'!AK293,\"\"))","v":""},null,null,"","","",""]
["",{"$f":"IF('Oman Results'!C294=\"\",\"\",'Oman Results'!C294)","v":""},{"$f":"IF(OR('Oman Results'!D294=\"\",'Oman Results'!D294=\"Totals\"),\"\",'Oman Results'!D294)","v":""},"",{"$f":"IF('Oman Results'!E294=\"\",\"\",'Oman Results'!E294)","v":""},{"$f":"IF('Oman Results'!F294=\"\",\"\",'Oman Results'!F294)","v":""},{"$f":"IF(B294=\"\",\"\",IF(VLOOKUP(B294,'Oman Results'!C294:AI1287,31)=\"x\",'Oman Results'!AK294,'Oman Results'!G294))","v":""},"",{"$f":"IF(B294=\"\",\"\",IF(VLOOKUP(B294,'Oman Results'!C294:AI1287,31)=\"x\",\"Yes\",\"\"))","v":""},{"$f":"IF(B294=\"\",\"\",IF(VLOOKUP(B294,'Oman Results'!C294:AI1287,31)=\"x\",'Oman Results'!G294,\"\"))","v":""},{"$f":"IF(B294=\"\",\"\",IF(VLOOKUP(B294,'Oman Results'!C294:AI1287,31)=\"x\",'Oman Results'!AJ294,\"\"))","v":""},{"$f":"IF(B294=\"\",\"\",IF(VLOOKUP(B294,'Oman Results'!C294:AI1287,31)=\"x\",'Oman Results'!AK294,\"\"))","v":""},null,null,"","","",""]
["",{"$f":"IF('Oman Results'!C295=\"\",\"\",'Oman Results'!C295)","v":""},{"$f":"IF(OR('Oman Results'!D295=\"\",'Oman Results'!D295=\"Totals\"),\"\",'Oman Results'!D295)","v":""},"",{"$f":"IF('Oman Results'!E295=\"\",\"\",'Oman Results'!E295)","v":""},{"$f":"IF('Oman Results'!F295=\"\",\"\",'Oman Results'!F295)","v":""},{"$f":"IF(B295=\"\",\"\",IF(VLOOKUP(B295,'Oman Results'!C295:AI1288,31)=\"x\",'Oman Results'!AK295,'Oman Results'!G295))","v":""},"",{"$f":"IF(B295=\"\",\"\",IF(VLOOKUP(B295,'Oman Results'!C295:AI1288,31)=\"x\",\"Yes\",\"\"))","v":""},{"$f":"IF(B295=\"\",\"\",IF(VLOOKUP(B295,'Oman Results'!C295:AI1288,31)=\"x\",'Oman Results'!G295,\"\"))","v":""},{"$f":"IF(B295=\"\",\"\",IF(VLOOKUP(B295,'Oman Results'!C295:AI1288,31)=\"x\",'Oman Results'!AJ295,\"\"))","v":""},{"$f":"IF(B295=\"\",\"\",IF(VLOOKUP(B295,'Oman Results'!C295:AI1288,31)=\"x\",'Oman Results'!AK295,\"\"))","v":""},null,null,"","","",""]
["",{"$f":"IF('Oman Results'!C296=\"\",\"\",'Oman Results'!C296)","v":""},{"$f":"IF(OR('Oman Results'!D296=\"\",'Oman Results'!D296=\"Totals\"),\"\",'Oman Results'!D296)","v":""},"",{"$f":"IF('Oman Results'!E296=\"\",\"\",'Oman Results'!E296)","v":""},{"$f":"IF('Oman Results'!F296=\"\",\"\",'Oman Results'!F296)","v":""},{"$f":"IF(B296=\"\",\"\",IF(VLOOKUP(B296,'Oman Results'!C296:AI1289,31)=\"x\",'Oman Results'!AK296,'Oman Results'!G296))","v":""},"",{"$f":"IF(B296=\"\",\"\",IF(VLOOKUP(B296,'Oman Results'!C296:AI1289,31)=\"x\",\"Yes\",\"\"))","v":""},{"$f":"IF(B296=\"\",\"\",IF(VLOOKUP(B296,'Oman Results'!C296:AI1289,31)=\"x\",'Oman Results'!G296,\"\"))","v":""},{"$f":"IF(B296=\"\",\"\",IF(VLOOKUP(B296,'Oman Results'!C296:AI1289,31)=\"x\",'Oman Results'!AJ296,\"\"))","v":""},{"$f":"IF(B296=\"\",\"\",IF(VLOOKUP(B296,'Oman Results'!C296:AI1289,31)=\"x\",'Oman Results'!AK296,\"\"))","v":""},null,null,"","","",""]
["",{"$f":"IF('Oman Results'!C297=\"\",\"\",'Oman Results'!C297)","v":""},{"$f":"IF(OR('Oman Results'!D297=\"\",'Oman Results'!D297=\"Totals\"),\"\",'Oman Results'!D297)","v":""},"",{"$f":"IF('Oman Results'!E297=\"\",\"\",'Oman Results'!E297)","v":""},{"$f":"IF('Oman Results'!F297=\"\",\"\",'Oman Results'!F297)","v":""},{"$f":"IF(B297=\"\",\"\",IF(VLOOKUP(B297,'Oman Results'!C297:AI1290,31)=\"x\",'Oman Results'!AK297,'Oman Results'!G297))","v":""},"",{"$f":"IF(B297=\"\",\"\",IF(VLOOKUP(B297,'Oman Results'!C297:AI1290,31)=\"x\",\"Yes\",\"\"))","v":""},{"$f":"IF(B297=\"\",\"\",IF(VLOOKUP(B297,'Oman Results'!C297:AI1290,31)=\"x\",'Oman Results'!G297,\"\"))","v":""},{"$f":"IF(B297=\"\",\"\",IF(VLOOKUP(B297,'Oman Results'!C297:AI1290,31)=\"x\",'Oman Results'!AJ297,\"\"))","v":""},{"$f":"IF(B297=\"\",\"\",IF(VLOOKUP(B297,'Oman Results'!C297:AI1290,31)=\"x\",'Oman Results'!AK297,\"\"))","v":""},null,null,"","","",""]
["",{"$f":"IF('Oman Results'!C298=\"\",\"\",'Oman Results'!C298)","v":""},{"$f":"IF(OR('Oman Results'!D298=\"\",'Oman Results'!D298=\"Totals\"),\"\",'Oman Results'!D298)","v":""},"",{"$f":"IF('Oman Results'!E298=\"\",\"\",'Oman Results'!E298)","v":""},{"$f":"IF('Oman Results'!F298=\"\",\"\",'Oman Results'!F298)","v":""},{"$f":"IF(B298=\"\",\"\",IF(VLOOKUP(B298,'Oman Results'!C298:AI1291,31)=\"x\",'Oman Results'!AK298,'Oman Results'!G298))","v":""},"",{"$f":"IF(B298=\"\",\"\",IF(VLOOKUP(B298,'Oman Results'!C298:AI1291,31)=\"x\",\"Yes\",\"\"))","v":""},{"$f":"IF(B298=\"\",\"\",IF(VLOOKUP(B298,'Oman Results'!C298:AI1291,31)=\"x\",'Oman Results'!G298,\"\"))","v":""},{"$f":"IF(B298=\"\",\"\",IF(VLOOKUP(B298,'Oman Results'!C298:AI1291,31)=\"x\",'Oman Results'!AJ298,\"\"))","v":""},{"$f":"IF(B298=\"\",\"\",IF(VLOOKUP(B298,'Oman Results'!C298:AI1291,31)=\"x\",'Oman Results'!AK298,\"\"))","v":""},null,null,"","","",""]
["",{"$f":"IF('Oman Results'!C299=\"\",\"\",'Oman Results'!C299)","v":""},{"$f":"IF(OR('Oman Results'!D299=\"\",'Oman Results'!D299=\"Totals\"),\"\",'Oman Results'!D299)","v":""},"",{"$f":"IF('Oman Results'!E299=\"\",\"\",'Oman Results'!E299)","v":""},{"$f":"IF('Oman Results'!F299=\"\",\"\",'Oman Results'!F299)","v":""},{"$f":"IF(B299=\"\",\"\",IF(VLOOKUP(B299,'Oman Results'!C299:AI1292,31)=\"x\",'Oman Results'!AK299,'Oman Results'!G299))","v":""},"",{"$f":"IF(B299=\"\",\"\",IF(VLOOKUP(B299,'Oman Results'!C299:AI1292,31)=\"x\",\"Yes\",\"\"))","v":""},{"$f":"IF(B299=\"\",\"\",IF(VLOOKUP(B299,'Oman Results'!C299:AI1292,31)=\"x\",'Oman Results'!G299,\"\"))","v":""},{"$f":"IF(B299=\"\",\"\",IF(VLOOKUP(B299,'Oman Results'!C299:AI1292,31)=\"x\",'Oman Results'!AJ299,\"\"))","v":""},{"$f":"IF(B299=\"\",\"\",IF(VLOOKUP(B299,'Oman Results'!C299:AI1292,31)=\"x\",'Oman Results'!AK299,\"\"))","v":""},null,null,"","","",""]
["",{"$f":"IF('Oman Results'!C300=\"\",\"\",'Oman Results'!C300)","v":""},{"$f":"IF(OR('Oman Results'!D300=\"\",'Oman Results'!D300=\"Totals\"),\"\",'Oman Results'!D300)","v":""},"",{"$f":"IF('Oman Results'!E300=\"\",\"\",'Oman Results'!E300)","v":""},{"$f":"IF('Oman Results'!F300=\"\",\"\",'Oman Results'!F300)","v":""},{"$f":"IF(B300=\"\",\"\",IF(VLOOKUP(B300,'Oman Results'!C300:AI1293,31)=\"x\",'Oman Results'!AK300,'Oman Results'!G300))","v":""},"",{"$f":"IF(B300=\"\",\"\",IF(VLOOKUP(B300,'Oman Results'!C300:AI1293,31)=\"x\",\"Yes\",\"\"))","v":""},{"$f":"IF(B300=\"\",\"\",IF(VLOOKUP(B300,'Oman Results'!C300:AI1293,31)=\"x\",'Oman Results'!G300,\"\"))","v":""},{"$f":"IF(B300=\"\",\"\",IF(VLOOKUP(B300,'Oman Results'!C300:AI1293,31)=\"x\",'Oman Results'!AJ300,\"\"))","v":""},{"$f":"IF(B300=\"\",\"\",IF(VLOOKUP(B300,'Oman Results'!C300:AI1293,31)=\"x\",'Oman Results'!AK300,\"\"))","v":""},null,null,"","","",""]
["",{"$f":"IF('Oman Results'!C301=\"\",\"\",'Oman Results'!C301)","v":""},{"$f":"IF(OR('Oman Results'!D301=\"\",'Oman Results'!D301=\"Totals\"),\"\",'Oman Results'!D301)","v":""},"",{"$f":"IF('Oman Results'!E301=\"\",\"\",'Oman Results'!E301)","v":""},{"$f":"IF('Oman Results'!F301=\"\",\"\",'Oman Results'!F301)","v":""},{"$f":"IF(B301=\"\",\"\",IF(VLOOKUP(B301,'Oman Results'!C301:AI1294,31)=\"x\",'Oman Results'!AK301,'Oman Results'!G301))","v":""},"",{"$f":"IF(B301=\"\",\"\",IF(VLOOKUP(B301,'Oman Results'!C301:AI1294,31)=\"x\",\"Yes\",\"\"))","v":""},{"$f":"IF(B301=\"\",\"\",IF(VLOOKUP(B301,'Oman Results'!C301:AI1294,31)=\"x\",'Oman Results'!G301,\"\"))","v":""},{"$f":"IF(B301=\"\",\"\",IF(VLOOKUP(B301,'Oman Results'!C301:AI1294,31)=\"x\",'Oman Results'!AJ301,\"\"))","v":""},{"$f":"IF(B301=\"\",\"\",IF(VLOOKUP(B301,'Oman Results'!C301:AI1294,31)=\"x\",'Oman Results'!AK301,\"\"))","v":""},null,null,"","","",""]
["",{"$f":"IF('Oman Results'!C302=\"\",\"\",'Oman Results'!C302)","v":""},{"$f":"IF(OR('Oman Results'!D302=\"\",'Oman Results'!D302=\"Totals\"),\"\",'Oman Results'!D302)","v":""},"",{"$f":"IF('Oman Results'!E302=\"\",\"\",'Oman Results'!E302)","v":""},{"$f":"IF('Oman Results'!F302=\"\",\"\",'Oman Results'!F302)","v":""},{"$f":"IF(B302=\"\",\"\",IF(VLOOKUP(B302,'Oman Results'!C302:AI1295,31)=\"x\",'Oman Results'!AK302,'Oman Results'!G302))","v":""},"",{"$f":"IF(B302=\"\",\"\",IF(VLOOKUP(B302,'Oman Results'!C302:AI1295,31)=\"x\",\"Yes\",\"\"))","v":""},{"$f":"IF(B302=\"\",\"\",IF(VLOOKUP(B302,'Oman Results'!C302:AI1295,31)=\"x\",'Oman Results'!G302,\"\"))","v":""},{"$f":"IF(B302=\"\",\"\",IF(VLOOKUP(B302,'Oman Results'!C302:AI1295,31)=\"x\",'Oman Results'!AJ302,\"\"))","v":""},{"$f":"IF(B302=\"\",\"\",IF(VLOOKUP(B302,'Oman Results'!C302:AI1295,31)=\"x\",'Oman Results'!AK302,\"\"))","v":""},null,null,"","","",""]
["",{"$f":"IF('Oman Results'!C303=\"\",\"\",'Oman Results'!C303)","v":""},{"$f":"IF(OR('Oman Results'!D303=\"\",'Oman Results'!D303=\"Totals\"),\"\",'Oman Results'!D303)","v":""},"",{"$f":"IF('Oman Results'!E303=\"\",\"\",'Oman Results'!E303)","v":""},{"$f":"IF('Oman Results'!F303=\"\",\"\",'Oman Results'!F303)","v":""},{"$f":"IF(B303=\"\",\"\",IF(VLOOKUP(B303,'Oman Results'!C303:AI1296,31)=\"x\",'Oman Results'!AK303,'Oman Results'!G303))","v":""},"",{"$f":"IF(B303=\"\",\"\",IF(VLOOKUP(B303,'Oman Results'!C303:AI1296,31)=\"x\",\"Yes\",\"\"))","v":""},{"$f":"IF(B303=\"\",\"\",IF(VLOOKUP(B303,'Oman Results'!C303:AI1296,31)=\"x\",'Oman Results'!G303,\"\"))","v":""},{"$f":"IF(B303=\"\",\"\",IF(VLOOKUP(B303,'Oman Results'!C303:AI1296,31)=\"x\",'Oman Results'!AJ303,\"\"))","v":""},{"$f":"IF(B303=\"\",\"\",IF(VLOOKUP(B303,'Oman Results'!C303:AI1296,31)=\"x\",'Oman Results'!AK303,\"\"))","v":""},null,null,"","","",""]
["",{"$f":"IF('Oman Results'!C304=\"\",\"\",'Oman Results'!C304)","v":""},{"$f":"IF(OR('Oman Results'!D304=\"\",'Oman Results'!D304=\"Totals\"),\"\",'Oman Results'!D304)","v":""},"",{"$f":"IF('Oman Results'!E304=\"\",\"\",'Oman Results'!E304)","v":""},{"$f":"IF('Oman Results'!F304=\"\",\"\",'Oman Results'!F304)","v":""},{"$f":"IF(B304=\"\",\"\",IF(VLOOKUP(B304,'Oman Results'!C304:AI1297,31)=\"x\",'Oman Results'!AK304,'Oman Results'!G304))","v":""},"",{"$f":"IF(B304=\"\",\"\",IF(VLOOKUP(B304,'Oman Results'!C304:AI1297,31)=\"x\",\"Yes\",\"\"))","v":""},{"$f":"IF(B304=\"\",\"\",IF(VLOOKUP(B304,'Oman Results'!C304:AI1297,31)=\"x\",'Oman Results'!G304,\"\"))","v":""},{"$f":"IF(B304=\"\",\"\",IF(VLOOKUP(B304,'Oman Results'!C304:AI1297,31)=\"x\",'Oman Results'!AJ304,\"\"))","v":""},{"$f":"IF(B304=\"\",\"\",IF(VLOOKUP(B304,'Oman Results'!C304:AI1297,31)=\"x\",'Oman Results'!AK304,\"\"))","v":""},null,null,"","","",""]
["",{"$f":"IF('Oman Results'!C305=\"\",\"\",'Oman Results'!C305)","v":""},{"$f":"IF(OR('Oman Results'!D305=\"\",'Oman Results'!D305=\"Totals\"),\"\",'Oman Results'!D305)","v":""},"",{"$f":"IF('Oman Results'!E305=\"\",\"\",'Oman Results'!E305)","v":""},{"$f":"IF('Oman Results'!F305=\"\",\"\",'Oman Results'!F305)","v":""},{"$f":"IF(B305=\"\",\"\",IF(VLOOKUP(B305,'Oman Results'!C305:AI1298,31)=\"x\",'Oman Results'!AK305,'Oman Results'!G305))","v":""},"",{"$f":"IF(B305=\"\",\"\",IF(VLOOKUP(B305,'Oman Results'!C305:AI1298,31)=\"x\",\"Yes\",\"\"))","v":""},{"$f":"IF(B305=\"\",\"\",IF(VLOOKUP(B305,'Oman Results'!C305:AI1298,31)=\"x\",'Oman Results'!G305,\"\"))","v":""},{"$f":"IF(B305=\"\",\"\",IF(VLOOKUP(B305,'Oman Results'!C305:AI1298,31)=\"x\",'Oman Results'!AJ305,\"\"))","v":""},{"$f":"IF(B305=\"\",\"\",IF(VLOOKUP(B305,'Oman Results'!C305:AI1298,31)=\"x\",'Oman Results'!AK305,\"\"))","v":""},null,null,"","","",""]
["",{"$f":"IF('Oman Results'!C306=\"\",\"\",'Oman Results'!C306)","v":""},{"$f":"IF(OR('Oman Results'!D306=\"\",'Oman Results'!D306=\"Totals\"),\"\",'Oman Results'!D306)","v":""},"",{"$f":"IF('Oman Results'!E306=\"\",\"\",'Oman Results'!E306)","v":""},{"$f":"IF('Oman Results'!F306=\"\",\"\",'Oman Results'!F306)","v":""},{"$f":"IF(B306=\"\",\"\",IF(VLOOKUP(B306,'Oman Results'!C306:AI1299,31)=\"x\",'Oman Results'!AK306,'Oman Results'!G306))","v":""},"",{"$f":"IF(B306=\"\",\"\",IF(VLOOKUP(B306,'Oman Results'!C306:AI1299,31)=\"x\",\"Yes\",\"\"))","v":""},{"$f":"IF(B306=\"\",\"\",IF(VLOOKUP(B306,'Oman Results'!C306:AI1299,31)=\"x\",'Oman Results'!G306,\"\"))","v":""},{"$f":"IF(B306=\"\",\"\",IF(VLOOKUP(B306,'Oman Results'!C306:AI1299,31)=\"x\",'Oman Results'!AJ306,\"\"))","v":""},{"$f":"IF(B306=\"\",\"\",IF(VLOOKUP(B306,'Oman Results'!C306:AI1299,31)=\"x\",'Oman Results'!AK306,\"\"))","v":""},null,null,"","","",""]
["",{"$f":"IF('Oman Results'!C307=\"\",\"\",'Oman Results'!C307)","v":""},{"$f":"IF(OR('Oman Results'!D307=\"\",'Oman Results'!D307=\"Totals\"),\"\",'Oman Results'!D307)","v":""},"",{"$f":"IF('Oman Results'!E307=\"\",\"\",'Oman Results'!E307)","v":""},{"$f":"IF('Oman Results'!F307=\"\",\"\",'Oman Results'!F307)","v":""},{"$f":"IF(B307=\"\",\"\",IF(VLOOKUP(B307,'Oman Results'!C307:AI1300,31)=\"x\",'Oman Results'!AK307,'Oman Results'!G307))","v":""},"",{"$f":"IF(B307=\"\",\"\",IF(VLOOKUP(B307,'Oman Results'!C307:AI1300,31)=\"x\",\"Yes\",\"\"))","v":""},{"$f":"IF(B307=\"\",\"\",IF(VLOOKUP(B307,'Oman Results'!C307:AI1300,31)=\"x\",'Oman Results'!G307,\"\"))","v":""},{"$f":"IF(B307=\"\",\"\",IF(VLOOKUP(B307,'Oman Results'!C307:AI1300,31)=\"x\",'Oman Results'!AJ307,\"\"))","v":""},{"$f":"IF(B307=\"\",\"\",IF(VLOOKUP(B307,'Oman Results'!C307:AI1300,31)=\"x\",'Oman Results'!AK307,\"\"))","v":""},null,null,"","","",""]
["",{"$f":"IF('Oman Results'!C308=\"\",\"\",'Oman Results'!C308)","v":""},{"$f":"IF(OR('Oman Results'!D308=\"\",'Oman Results'!D308=\"Totals\"),\"\",'Oman Results'!D308)","v":""},"",{"$f":"IF('Oman Results'!E308=\"\",\"\",'Oman Results'!E308)","v":""},{"$f":"IF('Oman Results'!F308=\"\",\"\",'Oman Results'!F308)","v":""},{"$f":"IF(B308=\"\",\"\",IF(VLOOKUP(B308,'Oman Results'!C308:AI1301,31)=\"x\",'Oman Results'!AK308,'Oman Results'!G308))","v":""},"",{"$f":"IF(B308=\"\",\"\",IF(VLOOKUP(B308,'Oman Results'!C308:AI1301,31)=\"x\",\"Yes\",\"\"))","v":""},{"$f":"IF(B308=\"\",\"\",IF(VLOOKUP(B308,'Oman Results'!C308:AI1301,31)=\"x\",'Oman Results'!G308,\"\"))","v":""},{"$f":"IF(B308=\"\",\"\",IF(VLOOKUP(B308,'Oman Results'!C308:AI1301,31)=\"x\",'Oman Results'!AJ308,\"\"))","v":""},{"$f":"IF(B308=\"\",\"\",IF(VLOOKUP(B308,'Oman Results'!C308:AI1301,31)=\"x\",'Oman Results'!AK308,\"\"))","v":""},null,null,"","","",""]
["",{"$f":"IF('Oman Results'!C309=\"\",\"\",'Oman Results'!C309)","v":""},{"$f":"IF(OR('Oman Results'!D309=\"\",'Oman Results'!D309=\"Totals\"),\"\",'Oman Results'!D309)","v":""},"",{"$f":"IF('Oman Results'!E309=\"\",\"\",'Oman Results'!E309)","v":""},{"$f":"IF('Oman Results'!F309=\"\",\"\",'Oman Results'!F309)","v":""},{"$f":"IF(B309=\"\",\"\",IF(VLOOKUP(B309,'Oman Results'!C309:AI1302,31)=\"x\",'Oman Results'!AK309,'Oman Results'!G309))","v":""},"",{"$f":"IF(B309=\"\",\"\",IF(VLOOKUP(B309,'Oman Results'!C309:AI1302,31)=\"x\",\"Yes\",\"\"))","v":""},{"$f":"IF(B309=\"\",\"\",IF(VLOOKUP(B309,'Oman Results'!C309:AI1302,31)=\"x\",'Oman Results'!G309,\"\"))","v":""},{"$f":"IF(B309=\"\",\"\",IF(VLOOKUP(B309,'Oman Results'!C309:AI1302,31)=\"x\",'Oman Results'!AJ309,\"\"))","v":""},{"$f":"IF(B309=\"\",\"\",IF(VLOOKUP(B309,'Oman Results'!C309:AI1302,31)=\"x\",'Oman Results'!AK309,\"\"))","v":""},null,null,"","","",""]
["",{"$f":"IF('Oman Results'!C310=\"\",\"\",'Oman Results'!C310)","v":""},{"$f":"IF(OR('Oman Results'!D310=\"\",'Oman Results'!D310=\"Totals\"),\"\",'Oman Results'!D310)","v":""},"",{"$f":"IF('Oman Results'!E310=\"\",\"\",'Oman Results'!E310)","v":""},{"$f":"IF('Oman Results'!F310=\"\",\"\",'Oman Results'!F310)","v":""},{"$f":"IF(B310=\"\",\"\",IF(VLOOKUP(B310,'Oman Results'!C310:AI1303,31)=\"x\",'Oman Results'!AK310,'Oman Results'!G310))","v":""},"",{"$f":"IF(B310=\"\",\"\",IF(VLOOKUP(B310,'Oman Results'!C310:AI1303,31)=\"x\",\"Yes\",\"\"))","v":""},{"$f":"IF(B310=\"\",\"\",IF(VLOOKUP(B310,'Oman Results'!C310:AI1303,31)=\"x\",'Oman Results'!G310,\"\"))","v":""},{"$f":"IF(B310=\"\",\"\",IF(VLOOKUP(B310,'Oman Results'!C310:AI1303,31)=\"x\",'Oman Results'!AJ310,\"\"))","v":""},{"$f":"IF(B310=\"\",\"\",IF(VLOOKUP(B310,'Oman Results'!C310:AI1303,31)=\"x\",'Oman Results'!AK310,\"\"))","v":""},null,null,"","","",""]
["",{"$f":"IF('Oman Results'!C311=\"\",\"\",'Oman Results'!C311)","v":""},{"$f":"IF(OR('Oman Results'!D311=\"\",'Oman Results'!D311=\"Totals\"),\"\",'Oman Results'!D311)","v":""},"",{"$f":"IF('Oman Results'!E311=\"\",\"\",'Oman Results'!E311)","v":""},{"$f":"IF('Oman Results'!F311=\"\",\"\",'Oman Results'!F311)","v":""},{"$f":"IF(B311=\"\",\"\",IF(VLOOKUP(B311,'Oman Results'!C311:AI1304,31)=\"x\",'Oman Results'!AK311,'Oman Results'!G311))","v":""},"",{"$f":"IF(B311=\"\",\"\",IF(VLOOKUP(B311,'Oman Results'!C311:AI1304,31)=\"x\",\"Yes\",\"\"))","v":""},{"$f":"IF(B311=\"\",\"\",IF(VLOOKUP(B311,'Oman Results'!C311:AI1304,31)=\"x\",'Oman Results'!G311,\"\"))","v":""},{"$f":"IF(B311=\"\",\"\",IF(VLOOKUP(B311,'Oman Results'!C311:AI1304,31)=\"x\",'Oman Results'!AJ311,\"\"))","v":""},{"$f":"IF(B311=\"\",\"\",IF(VLOOKUP(B311,'Oman Results'!C311:AI1304,31)=\"x\",'Oman Results'!AK311,\"\"))","v":""},null,null,"","","",""]
["",{"$f":"IF('Oman Results'!C312=\"\",\"\",'Oman Results'!C312)","v":""},{"$f":"IF(OR('Oman Results'!D312=\"\",'Oman Results'!D312=\"Totals\"),\"\",'Oman Results'!D312)","v":""},"",{"$f":"IF('Oman Results'!E312=\"\",\"\",'Oman Results'!E312)","v":""},{"$f":"IF('Oman Results'!F312=\"\",\"\",'Oman Results'!F312)","v":""},{"$f":"IF(B312=\"\",\"\",IF(VLOOKUP(B312,'Oman Results'!C312:AI1305,31)=\"x\",'Oman Results'!AK312,'Oman Results'!G312))","v":""},"",{"$f":"IF(B312=\"\",\"\",IF(VLOOKUP(B312,'Oman Results'!C312:AI1305,31)=\"x\",\"Yes\",\"\"))","v":""},{"$f":"IF(B312=\"\",\"\",IF(VLOOKUP(B312,'Oman Results'!C312:AI1305,31)=\"x\",'Oman Results'!G312,\"\"))","v":""},{"$f":"IF(B312=\"\",\"\",IF(VLOOKUP(B312,'Oman Results'!C312:AI1305,31)=\"x\",'Oman Results'!AJ312,\"\"))","v":""},{"$f":"IF(B312=\"\",\"\",IF(VLOOKUP(B312,'Oman Results'!C312:AI1305,31)=\"x\",'Oman Results'!AK312,\"\"))","v":""},null,null,"","","",""]
["",{"$f":"IF('Oman Results'!C313=\"\",\"\",'Oman Results'!C313)","v":""},{"$f":"IF(OR('Oman Results'!D313=\"\",'Oman Results'!D313=\"Totals\"),\"\",'Oman Results'!D313)","v":""},"",{"$f":"IF('Oman Results'!E313=\"\",\"\",'Oman Results'!E313)","v":""},{"$f":"IF('Oman Results'!F313=\"\",\"\",'Oman Results'!F313)","v":""},{"$f":"IF(B313=\"\",\"\",IF(VLOOKUP(B313,'Oman Results'!C313:AI1306,31)=\"x\",'Oman Results'!AK313,'Oman Results'!G313))","v":""},"",{"$f":"IF(B313=\"\",\"\",IF(VLOOKUP(B313,'Oman Results'!C313:AI1306,31)=\"x\",\"Yes\",\"\"))","v":""},{"$f":"IF(B313=\"\",\"\",IF(VLOOKUP(B313,'Oman Results'!C313:AI1306,31)=\"x\",'Oman Results'!G313,\"\"))","v":""},{"$f":"IF(B313=\"\",\"\",IF(VLOOKUP(B313,'Oman Results'!C313:AI1306,31)=\"x\",'Oman Results'!AJ313,\"\"))","v":""},{"$f":"IF(B313=\"\",\"\",IF(VLOOKUP(B313,'Oman Results'!C313:AI1306,31)=\"x\",'Oman Results'!AK313,\"\"))","v":""},null,null,"","","",""]
["",{"$f":"IF('Oman Results'!C314=\"\",\"\",'Oman Results'!C314)","v":""},{"$f":"IF(OR('Oman Results'!D314=\"\",'Oman Results'!D314=\"Totals\"),\"\",'Oman Results'!D314)","v":""},"",{"$f":"IF('Oman Results'!E314=\"\",\"\",'Oman Results'!E314)","v":""},{"$f":"IF('Oman Results'!F314=\"\",\"\",'Oman Results'!F314)","v":""},{"$f":"IF(B314=\"\",\"\",IF(VLOOKUP(B314,'Oman Results'!C314:AI1307,31)=\"x\",'Oman Results'!AK314,'Oman Results'!G314))","v":""},"",{"$f":"IF(B314=\"\",\"\",IF(VLOOKUP(B314,'Oman Results'!C314:AI1307,31)=\"x\",\"Yes\",\"\"))","v":""},{"$f":"IF(B314=\"\",\"\",IF(VLOOKUP(B314,'Oman Results'!C314:AI1307,31)=\"x\",'Oman Results'!G314,\"\"))","v":""},{"$f":"IF(B314=\"\",\"\",IF(VLOOKUP(B314,'Oman Results'!C314:AI1307,31)=\"x\",'Oman Results'!AJ314,\"\"))","v":""},{"$f":"IF(B314=\"\",\"\",IF(VLOOKUP(B314,'Oman Results'!C314:AI1307,31)=\"x\",'Oman Results'!AK314,\"\"))","v":""},null,null,"","","",""]
["",{"$f":"IF('Oman Results'!C315=\"\",\"\",'Oman Results'!C315)","v":""},{"$f":"IF(OR('Oman Results'!D315=\"\",'Oman Results'!D315=\"Totals\"),\"\",'Oman Results'!D315)","v":""},"",{"$f":"IF('Oman Results'!E315=\"\",\"\",'Oman Results'!E315)","v":""},{"$f":"IF('Oman Results'!F315=\"\",\"\",'Oman Results'!F315)","v":""},{"$f":"IF(B315=\"\",\"\",IF(VLOOKUP(B315,'Oman Results'!C315:AI1308,31)=\"x\",'Oman Results'!AK315,'Oman Results'!G315))","v":""},"",{"$f":"IF(B315=\"\",\"\",IF(VLOOKUP(B315,'Oman Results'!C315:AI1308,31)=\"x\",\"Yes\",\"\"))","v":""},{"$f":"IF(B315=\"\",\"\",IF(VLOOKUP(B315,'Oman Results'!C315:AI1308,31)=\"x\",'Oman Results'!G315,\"\"))","v":""},{"$f":"IF(B315=\"\",\"\",IF(VLOOKUP(B315,'Oman Results'!C315:AI1308,31)=\"x\",'Oman Results'!AJ315,\"\"))","v":""},{"$f":"IF(B315=\"\",\"\",IF(VLOOKUP(B315,'Oman Results'!C315:AI1308,31)=\"x\",'Oman Results'!AK315,\"\"))","v":""},null,null,"","","",""]
["",{"$f":"IF('Oman Results'!C316=\"\",\"\",'Oman Results'!C316)","v":""},{"$f":"IF(OR('Oman Results'!D316=\"\",'Oman Results'!D316=\"Totals\"),\"\",'Oman Results'!D316)","v":""},"",{"$f":"IF('Oman Results'!E316=\"\",\"\",'Oman Results'!E316)","v":""},{"$f":"IF('Oman Results'!F316=\"\",\"\",'Oman Results'!F316)","v":""},{"$f":"IF(B316=\"\",\"\",IF(VLOOKUP(B316,'Oman Results'!C316:AI1309,31)=\"x\",'Oman Results'!AK316,'Oman Results'!G316))","v":""},"",{"$f":"IF(B316=\"\",\"\",IF(VLOOKUP(B316,'Oman Results'!C316:AI1309,31)=\"x\",\"Yes\",\"\"))","v":""},{"$f":"IF(B316=\"\",\"\",IF(VLOOKUP(B316,'Oman Results'!C316:AI1309,31)=\"x\",'Oman Results'!G316,\"\"))","v":""},{"$f":"IF(B316=\"\",\"\",IF(VLOOKUP(B316,'Oman Results'!C316:AI1309,31)=\"x\",'Oman Results'!AJ316,\"\"))","v":""},{"$f":"IF(B316=\"\",\"\",IF(VLOOKUP(B316,'Oman Results'!C316:AI1309,31)=\"x\",'Oman Results'!AK316,\"\"))","v":""},null,null,"","","",""]
["",{"$f":"IF('Oman Results'!C317=\"\",\"\",'Oman Results'!C317)","v":""},{"$f":"IF(OR('Oman Results'!D317=\"\",'Oman Results'!D317=\"Totals\"),\"\",'Oman Results'!D317)","v":""},"",{"$f":"IF('Oman Results'!E317=\"\",\"\",'Oman Results'!E317)","v":""},{"$f":"IF('Oman Results'!F317=\"\",\"\",'Oman Results'!F317)","v":""},{"$f":"IF(B317=\"\",\"\",IF(VLOOKUP(B317,'Oman Results'!C317:AI1310,31)=\"x\",'Oman Results'!AK317,'Oman Results'!G317))","v":""},"",{"$f":"IF(B317=\"\",\"\",IF(VLOOKUP(B317,'Oman Results'!C317:AI1310,31)=\"x\",\"Yes\",\"\"))","v":""},{"$f":"IF(B317=\"\",\"\",IF(VLOOKUP(B317,'Oman Results'!C317:AI1310,31)=\"x\",'Oman Results'!G317,\"\"))","v":""},{"$f":"IF(B317=\"\",\"\",IF(VLOOKUP(B317,'Oman Results'!C317:AI1310,31)=\"x\",'Oman Results'!AJ317,\"\"))","v":""},{"$f":"IF(B317=\"\",\"\",IF(VLOOKUP(B317,'Oman Results'!C317:AI1310,31)=\"x\",'Oman Results'!AK317,\"\"))","v":""},null,null,"","","",""]
["",{"$f":"IF('Oman Results'!C318=\"\",\"\",'Oman Results'!C318)","v":""},{"$f":"IF(OR('Oman Results'!D318=\"\",'Oman Results'!D318=\"Totals\"),\"\",'Oman Results'!D318)","v":""},"",{"$f":"IF('Oman Results'!E318=\"\",\"\",'Oman Results'!E318)","v":""},{"$f":"IF('Oman Results'!F318=\"\",\"\",'Oman Results'!F318)","v":""},{"$f":"IF(B318=\"\",\"\",IF(VLOOKUP(B318,'Oman Results'!C318:AI1311,31)=\"x\",'Oman Results'!AK318,'Oman Results'!G318))","v":""},"",{"$f":"IF(B318=\"\",\"\",IF(VLOOKUP(B318,'Oman Results'!C318:AI1311,31)=\"x\",\"Yes\",\"\"))","v":""},{"$f":"IF(B318=\"\",\"\",IF(VLOOKUP(B318,'Oman Results'!C318:AI1311,31)=\"x\",'Oman Results'!G318,\"\"))","v":""},{"$f":"IF(B318=\"\",\"\",IF(VLOOKUP(B318,'Oman Results'!C318:AI1311,31)=\"x\",'Oman Results'!AJ318,\"\"))","v":""},{"$f":"IF(B318=\"\",\"\",IF(VLOOKUP(B318,'Oman Results'!C318:AI1311,31)=\"x\",'Oman Results'!AK318,\"\"))","v":""},null,null,"","","",""]
["",{"$f":"IF('Oman Results'!C319=\"\",\"\",'Oman Results'!C319)","v":""},{"$f":"IF(OR('Oman Results'!D319=\"\",'Oman Results'!D319=\"Totals\"),\"\",'Oman Results'!D319)","v":""},"",{"$f":"IF('Oman Results'!E319=\"\",\"\",'Oman Results'!E319)","v":""},{"$f":"IF('Oman Results'!F319=\"\",\"\",'Oman Results'!F319)","v":""},{"$f":"IF(B319=\"\",\"\",IF(VLOOKUP(B319,'Oman Results'!C319:AI1312,31)=\"x\",'Oman Results'!AK319,'Oman Results'!G319))","v":""},"",{"$f":"IF(B319=\"\",\"\",IF(VLOOKUP(B319,'Oman Results'!C319:AI1312,31)=\"x\",\"Yes\",\"\"))","v":""},{"$f":"IF(B319=\"\",\"\",IF(VLOOKUP(B319,'Oman Results'!C319:AI1312,31)=\"x\",'Oman Results'!G319,\"\"))","v":""},{"$f":"IF(B319=\"\",\"\",IF(VLOOKUP(B319,'Oman Results'!C319:AI1312,31)=\"x\",'Oman Results'!AJ319,\"\"))","v":""},{"$f":"IF(B319=\"\",\"\",IF(VLOOKUP(B319,'Oman Results'!C319:AI1312,31)=\"x\",'Oman Results'!AK319,\"\"))","v":""},null,null,"","","",""]
["",{"$f":"IF('Oman Results'!C320=\"\",\"\",'Oman Results'!C320)","v":""},{"$f":"IF(OR('Oman Results'!D320=\"\",'Oman Results'!D320=\"Totals\"),\"\",'Oman Results'!D320)","v":""},"",{"$f":"IF('Oman Results'!E320=\"\",\"\",'Oman Results'!E320)","v":""},{"$f":"IF('Oman Results'!F320=\"\",\"\",'Oman Results'!F320)","v":""},{"$f":"IF(B320=\"\",\"\",IF(VLOOKUP(B320,'Oman Results'!C320:AI1313,31)=\"x\",'Oman Results'!AK320,'Oman Results'!G320))","v":""},"",{"$f":"IF(B320=\"\",\"\",IF(VLOOKUP(B320,'Oman Results'!C320:AI1313,31)=\"x\",\"Yes\",\"\"))","v":""},{"$f":"IF(B320=\"\",\"\",IF(VLOOKUP(B320,'Oman Results'!C320:AI1313,31)=\"x\",'Oman Results'!G320,\"\"))","v":""},{"$f":"IF(B320=\"\",\"\",IF(VLOOKUP(B320,'Oman Results'!C320:AI1313,31)=\"x\",'Oman Results'!AJ320,\"\"))","v":""},{"$f":"IF(B320=\"\",\"\",IF(VLOOKUP(B320,'Oman Results'!C320:AI1313,31)=\"x\",'Oman Results'!AK320,\"\"))","v":""},null,null,"","","",""]
["",{"$f":"IF('Oman Results'!C321=\"\",\"\",'Oman Results'!C321)","v":""},{"$f":"IF(OR('Oman Results'!D321=\"\",'Oman Results'!D321=\"Totals\"),\"\",'Oman Results'!D321)","v":""},"",{"$f":"IF('Oman Results'!E321=\"\",\"\",'Oman Results'!E321)","v":""},{"$f":"IF('Oman Results'!F321=\"\",\"\",'Oman Results'!F321)","v":""},{"$f":"IF(B321=\"\",\"\",IF(VLOOKUP(B321,'Oman Results'!C321:AI1314,31)=\"x\",'Oman Results'!AK321,'Oman Results'!G321))","v":""},"",{"$f":"IF(B321=\"\",\"\",IF(VLOOKUP(B321,'Oman Results'!C321:AI1314,31)=\"x\",\"Yes\",\"\"))","v":""},{"$f":"IF(B321=\"\",\"\",IF(VLOOKUP(B321,'Oman Results'!C321:AI1314,31)=\"x\",'Oman Results'!G321,\"\"))","v":""},{"$f":"IF(B321=\"\",\"\",IF(VLOOKUP(B321,'Oman Results'!C321:AI1314,31)=\"x\",'Oman Results'!AJ321,\"\"))","v":""},{"$f":"IF(B321=\"\",\"\",IF(VLOOKUP(B321,'Oman Results'!C321:AI1314,31)=\"x\",'Oman Results'!AK321,\"\"))","v":""},null,null,"","","",""]
["",{"$f":"IF('Oman Results'!C322=\"\",\"\",'Oman Results'!C322)","v":""},{"$f":"IF(OR('Oman Results'!D322=\"\",'Oman Results'!D322=\"Totals\"),\"\",'Oman Results'!D322)","v":""},"",{"$f":"IF('Oman Results'!E322=\"\",\"\",'Oman Results'!E322)","v":""},{"$f":"IF('Oman Results'!F322=\"\",\"\",'Oman Results'!F322)","v":""},{"$f":"IF(B322=\"\",\"\",IF(VLOOKUP(B322,'Oman Results'!C322:AI1315,31)=\"x\",'Oman Results'!AK322,'Oman Results'!G322))","v":""},"",{"$f":"IF(B322=\"\",\"\",IF(VLOOKUP(B322,'Oman Results'!C322:AI1315,31)=\"x\",\"Yes\",\"\"))","v":""},{"$f":"IF(B322=\"\",\"\",IF(VLOOKUP(B322,'Oman Results'!C322:AI1315,31)=\"x\",'Oman Results'!G322,\"\"))","v":""},{"$f":"IF(B322=\"\",\"\",IF(VLOOKUP(B322,'Oman Results'!C322:AI1315,31)=\"x\",'Oman Results'!AJ322,\"\"))","v":""},{"$f":"IF(B322=\"\",\"\",IF(VLOOKUP(B322,'Oman Results'!C322:AI1315,31)=\"x\",'Oman Results'!AK322,\"\"))","v":""},null,null,"",{"$f":"IF(O322=1,G322,\"\")","v":""},"",{"$f":"IF(O322=1,\"\",H322)","v":""}]
["",{"$f":"IF('Oman Results'!C323=\"\",\"\",'Oman Results'!C323)","v":""},{"$f":"IF(OR('Oman Results'!D323=\"\",'Oman Results'!D323=\"Totals\"),\"\",'Oman Results'!D323)","v":""},{"$f":"IF(ISNUMBER(SEARCH(\"{\",C323)),\"Yes\", \"\")","v":""},{"$f":"IF('Oman Results'!E323=\"\",\"\",'Oman Results'!E323)","v":""},{"$f":"IF('Oman Results'!F323=\"\",\"\",'Oman Results'!F323)","v":""},{"$f":"IF(B323=\"\",\"\",IF(VLOOKUP(B323,'Oman Results'!C323:AI1316,31)=\"x\",'Oman Results'!AK323,'Oman Results'!G323))","v":""},{"$f":"IF(E323=\"\",\"\",E323*G323)","v":""},{"$f":"IF(B323=\"\",\"\",IF(VLOOKUP(B323,'Oman Results'!C323:AI1316,31)=\"x\",\"Yes\",\"\"))","v":""},{"$f":"IF(B323=\"\",\"\",IF(VLOOKUP(B323,'Oman Results'!C323:AI1316,31)=\"x\",'Oman Results'!G323,\"\"))","v":""},{"$f":"IF(B323=\"\",\"\",IF(VLOOKUP(B323,'Oman Results'!C323:AI1316,31)=\"x\",'Oman Results'!AJ323,\"\"))","v":""},{"$f":"IF(B323=\"\",\"\",IF(VLOOKUP(B323,'Oman Results'!C323:AI1316,31)=\"x\",'Oman Results'!AK323,\"\"))","v":""},null,null,{"$f":"IF(OR(LEFT(F323,3)=\"L.S\",LEFT(F323,2)=\"LS\"),1,\"\")","v":""},"",{"$f":"IF(I323=\"Yes\",G323,\"\")","v":""},""]
[{"$f":"IF(B324=\"\",\"\",1+A323)","v":""},{"$f":"IF('Oman Results'!C324=\"\",\"\",'Oman Results'!C324)","v":""},{"$f":"IF(OR('Oman Results'!D324=\"\",'Oman Results'!D324=\"Totals\"),\"\",'Oman Results'!D324)","v":""},"",{"$f":"IF('Oman Results'!E324=\"\",\"\",'Oman Results'!E324)","v":""},{"$f":"IF('Oman Results'!F324=\"\",\"\",'Oman Results'!F324)","v":""},{"$f":"IF(B324=\"\",\"\",IF(VLOOKUP(B324,'Oman Results'!C324:AI1317,31)=\"x\",'Oman Results'!AK324,'Oman Results'!G324))","v":""},"",{"$f":"IF(B324=\"\",\"\",IF(VLOOKUP(B324,'Oman Results'!C324:AI1317,31)=\"x\",\"Yes\",\"\"))","v":""},{"$f":"IF(B324=\"\",\"\",IF(VLOOKUP(B324,'Oman Results'!C324:AI1317,31)=\"x\",'Oman Results'!G324,\"\"))","v":""},{"$f":"IF(B324=\"\",\"\",IF(VLOOKUP(B324,'Oman Results'!C324:AI1317,31)=\"x\",'Oman Results'!AJ324,\"\"))","v":""},{"$f":"IF(B324=\"\",\"\",IF(VLOOKUP(B324,'Oman Results'!C324:AI1317,31)=\"x\",'Oman Results'!AK324,\"\"))","v":""},null,null,"","","",""]
["",{"$f":"IF('Oman Results'!C325=\"\",\"\",'Oman Results'!C325)","v":""},{"$f":"IF(OR('Oman Results'!D325=\"\",'Oman Results'!D325=\"Totals\"),\"\",'Oman Results'!D325)","v":""},"",{"$f":"IF('Oman Results'!E325=\"\",\"\",'Oman Results'!E325)","v":""},{"$f":"IF('Oman Results'!F325=\"\",\"\",'Oman Results'!F325)","v":""},{"$f":"IF(B325=\"\",\"\",IF(VLOOKUP(B325,'Oman Results'!C325:AI1318,31)=\"x\",'Oman Results'!AK325,'Oman Results'!G325))","v":""},"",{"$f":"IF(B325=\"\",\"\",IF(VLOOKUP(B325,'Oman Results'!C325:AI1318,31)=\"x\",\"Yes\",\"\"))","v":""},{"$f":"IF(B325=\"\",\"\",IF(VLOOKUP(B325,'Oman Results'!C325:AI1318,31)=\"x\",'Oman Results'!G325,\"\"))","v":""},{"$f":"IF(B325=\"\",\"\",IF(VLOOKUP(B325,'Oman Results'!C325:AI1318,31)=\"x\",'Oman Results'!AJ325,\"\"))","v":""},{"$f":"IF(B325=\"\",\"\",IF(VLOOKUP(B325,'Oman Results'!C325:AI1318,31)=\"x\",'Oman Results'!AK325,\"\"))","v":""},null,null,"","","",""]
["",{"$f":"IF('Oman Results'!C326=\"\",\"\",'Oman Results'!C326)","v":""},{"$f":"IF(OR('Oman Results'!D326=\"\",'Oman Results'!D326=\"Totals\"),\"\",'Oman Results'!D326)","v":""},"",{"$f":"IF('Oman Results'!E326=\"\",\"\",'Oman Results'!E326)","v":""},{"$f":"IF('Oman Results'!F326=\"\",\"\",'Oman Results'!F326)","v":""},{"$f":"IF(B326=\"\",\"\",IF(VLOOKUP(B326,'Oman Results'!C326:AI1319,31)=\"x\",'Oman Results'!AK326,'Oman Results'!G326))","v":""},"",{"$f":"IF(B326=\"\",\"\",IF(VLOOKUP(B326,'Oman Results'!C326:AI1319,31)=\"x\",\"Yes\",\"\"))","v":""},{"$f":"IF(B326=\"\",\"\",IF(VLOOKUP(B326,'Oman Results'!C326:AI1319,31)=\"x\",'Oman Results'!G326,\"\"))","v":""},{"$f":"IF(B326=\"\",\"\",IF(VLOOKUP(B326,'Oman Results'!C326:AI1319,31)=\"x\",'Oman Results'!AJ326,\"\"))","v":""},{"$f":"IF(B326=\"\",\"\",IF(VLOOKUP(B326,'Oman Results'!C326:AI1319,31)=\"x\",'Oman Results'!AK326,\"\"))","v":""},null,null,"","","",""]
["",{"$f":"IF('Oman Results'!C327=\"\",\"\",'Oman Results'!C327)","v":""},{"$f":"IF(OR('Oman Results'!D327=\"\",'Oman Results'!D327=\"Totals\"),\"\",'Oman Results'!D327)","v":""},"",{"$f":"IF('Oman Results'!E327=\"\",\"\",'Oman Results'!E327)","v":""},{"$f":"IF('Oman Results'!F327=\"\",\"\",'Oman Results'!F327)","v":""},{"$f":"IF(B327=\"\",\"\",IF(VLOOKUP(B327,'Oman Results'!C327:AI1320,31)=\"x\",'Oman Results'!AK327,'Oman Results'!G327))","v":""},"",{"$f":"IF(B327=\"\",\"\",IF(VLOOKUP(B327,'Oman Results'!C327:AI1320,31)=\"x\",\"Yes\",\"\"))","v":""},{"$f":"IF(B327=\"\",\"\",IF(VLOOKUP(B327,'Oman Results'!C327:AI1320,31)=\"x\",'Oman Results'!G327,\"\"))","v":""},{"$f":"IF(B327=\"\",\"\",IF(VLOOKUP(B327,'Oman Results'!C327:AI1320,31)=\"x\",'Oman Results'!AJ327,\"\"))","v":""},{"$f":"IF(B327=\"\",\"\",IF(VLOOKUP(B327,'Oman Results'!C327:AI1320,31)=\"x\",'Oman Results'!AK327,\"\"))","v":""},null,null,"","","",""]
["",{"$f":"IF('Oman Results'!C328=\"\",\"\",'Oman Results'!C328)","v":""},{"$f":"IF(OR('Oman Results'!D328=\"\",'Oman Results'!D328=\"Totals\"),\"\",'Oman Results'!D328)","v":""},"",{"$f":"IF('Oman Results'!E328=\"\",\"\",'Oman Results'!E328)","v":""},{"$f":"IF('Oman Results'!F328=\"\",\"\",'Oman Results'!F328)","v":""},{"$f":"IF(B328=\"\",\"\",IF(VLOOKUP(B328,'Oman Results'!C328:AI1321,31)=\"x\",'Oman Results'!AK328,'Oman Results'!G328))","v":""},"",{"$f":"IF(B328=\"\",\"\",IF(VLOOKUP(B328,'Oman Results'!C328:AI1321,31)=\"x\",\"Yes\",\"\"))","v":""},{"$f":"IF(B328=\"\",\"\",IF(VLOOKUP(B328,'Oman Results'!C328:AI1321,31)=\"x\",'Oman Results'!G328,\"\"))","v":""},{"$f":"IF(B328=\"\",\"\",IF(VLOOKUP(B328,'Oman Results'!C328:AI1321,31)=\"x\",'Oman Results'!AJ328,\"\"))","v":""},{"$f":"IF(B328=\"\",\"\",IF(VLOOKUP(B328,'Oman Results'!C328:AI1321,31)=\"x\",'Oman Results'!AK328,\"\"))","v":""},null,null,"","","",""]
["",{"$f":"IF('Oman Results'!C329=\"\",\"\",'Oman Results'!C329)","v":""},{"$f":"IF(OR('Oman Results'!D329=\"\",'Oman Results'!D329=\"Totals\"),\"\",'Oman Results'!D329)","v":""},"",{"$f":"IF('Oman Results'!E329=\"\",\"\",'Oman Results'!E329)","v":""},{"$f":"IF('Oman Results'!F329=\"\",\"\",'Oman Results'!F329)","v":""},{"$f":"IF(B329=\"\",\"\",IF(VLOOKUP(B329,'Oman Results'!C329:AI1322,31)=\"x\",'Oman Results'!AK329,'Oman Results'!G329))","v":""},"",{"$f":"IF(B329=\"\",\"\",IF(VLOOKUP(B329,'Oman Results'!C329:AI1322,31)=\"x\",\"Yes\",\"\"))","v":""},{"$f":"IF(B329=\"\",\"\",IF(VLOOKUP(B329,'Oman Results'!C329:AI1322,31)=\"x\",'Oman Results'!G329,\"\"))","v":""},{"$f":"IF(B329=\"\",\"\",IF(VLOOKUP(B329,'Oman Results'!C329:AI1322,31)=\"x\",'Oman Results'!AJ329,\"\"))","v":""},{"$f":"IF(B329=\"\",\"\",IF(VLOOKUP(B329,'Oman Results'!C329:AI1322,31)=\"x\",'Oman Results'!AK329,\"\"))","v":""},null,null,"","","",""]
["",{"$f":"IF('Oman Results'!C330=\"\",\"\",'Oman Results'!C330)","v":""},{"$f":"IF(OR('Oman Results'!D330=\"\",'Oman Results'!D330=\"Totals\"),\"\",'Oman Results'!D330)","v":""},"",{"$f":"IF('Oman Results'!E330=\"\",\"\",'Oman Results'!E330)","v":""},{"$f":"IF('Oman Results'!F330=\"\",\"\",'Oman Results'!F330)","v":""},{"$f":"IF(B330=\"\",\"\",IF(VLOOKUP(B330,'Oman Results'!C330:AI1323,31)=\"x\",'Oman Results'!AK330,'Oman Results'!G330))","v":""},"",{"$f":"IF(B330=\"\",\"\",IF(VLOOKUP(B330,'Oman Results'!C330:AI1323,31)=\"x\",\"Yes\",\"\"))","v":""},{"$f":"IF(B330=\"\",\"\",IF(VLOOKUP(B330,'Oman Results'!C330:AI1323,31)=\"x\",'Oman Results'!G330,\"\"))","v":""},{"$f":"IF(B330=\"\",\"\",IF(VLOOKUP(B330,'Oman Results'!C330:AI1323,31)=\"x\",'Oman Results'!AJ330,\"\"))","v":""},{"$f":"IF(B330=\"\",\"\",IF(VLOOKUP(B330,'Oman Results'!C330:AI1323,31)=\"x\",'Oman Results'!AK330,\"\"))","v":""},null,null,"","","",""]
["",{"$f":"IF('Oman Results'!C331=\"\",\"\",'Oman Results'!C331)","v":""},{"$f":"IF(OR('Oman Results'!D331=\"\",'Oman Results'!D331=\"Totals\"),\"\",'Oman Results'!D331)","v":""},"",{"$f":"IF('Oman Results'!E331=\"\",\"\",'Oman Results'!E331)","v":""},{"$f":"IF('Oman Results'!F331=\"\",\"\",'Oman Results'!F331)","v":""},{"$f":"IF(B331=\"\",\"\",IF(VLOOKUP(B331,'Oman Results'!C331:AI1324,31)=\"x\",'Oman Results'!AK331,'Oman Results'!G331))","v":""},"",{"$f":"IF(B331=\"\",\"\",IF(VLOOKUP(B331,'Oman Results'!C331:AI1324,31)=\"x\",\"Yes\",\"\"))","v":""},{"$f":"IF(B331=\"\",\"\",IF(VLOOKUP(B331,'Oman Results'!C331:AI1324,31)=\"x\",'Oman Results'!G331,\"\"))","v":""},{"$f":"IF(B331=\"\",\"\",IF(VLOOKUP(B331,'Oman Results'!C331:AI1324,31)=\"x\",'Oman Results'!AJ331,\"\"))","v":""},{"$f":"IF(B331=\"\",\"\",IF(VLOOKUP(B331,'Oman Results'!C331:AI1324,31)=\"x\",'Oman Results'!AK331,\"\"))","v":""},null,null,"","","",""]
["",{"$f":"IF('Oman Results'!C332=\"\",\"\",'Oman Results'!C332)","v":""},{"$f":"IF(OR('Oman Results'!D332=\"\",'Oman Results'!D332=\"Totals\"),\"\",'Oman Results'!D332)","v":""},"",{"$f":"IF('Oman Results'!E332=\"\",\"\",'Oman Results'!E332)","v":""},{"$f":"IF('Oman Results'!F332=\"\",\"\",'Oman Results'!F332)","v":""},{"$f":"IF(B332=\"\",\"\",IF(VLOOKUP(B332,'Oman Results'!C332:AI1325,31)=\"x\",'Oman Results'!AK332,'Oman Results'!G332))","v":""},"",{"$f":"IF(B332=\"\",\"\",IF(VLOOKUP(B332,'Oman Results'!C332:AI1325,31)=\"x\",\"Yes\",\"\"))","v":""},{"$f":"IF(B332=\"\",\"\",IF(VLOOKUP(B332,'Oman Results'!C332:AI1325,31)=\"x\",'Oman Results'!G332,\"\"))","v":""},{"$f":"IF(B332=\"\",\"\",IF(VLOOKUP(B332,'Oman Results'!C332:AI1325,31)=\"x\",'Oman Results'!AJ332,\"\"))","v":""},{"$f":"IF(B332=\"\",\"\",IF(VLOOKUP(B332,'Oman Results'!C332:AI1325,31)=\"x\",'Oman Results'!AK332,\"\"))","v":""},null,null,"","","",""]
["",{"$f":"IF('Oman Results'!C333=\"\",\"\",'Oman Results'!C333)","v":""},{"$f":"IF(OR('Oman Results'!D333=\"\",'Oman Results'!D333=\"Totals\"),\"\",'Oman Results'!D333)","v":""},"",{"$f":"IF('Oman Results'!E333=\"\",\"\",'Oman Results'!E333)","v":""},{"$f":"IF('Oman Results'!F333=\"\",\"\",'Oman Results'!F333)","v":""},{"$f":"IF(B333=\"\",\"\",IF(VLOOKUP(B333,'Oman Results'!C333:AI1326,31)=\"x\",'Oman Results'!AK333,'Oman Results'!G333))","v":""},"",{"$f":"IF(B333=\"\",\"\",IF(VLOOKUP(B333,'Oman Results'!C333:AI1326,31)=\"x\",\"Yes\",\"\"))","v":""},{"$f":"IF(B333=\"\",\"\",IF(VLOOKUP(B333,'Oman Results'!C333:AI1326,31)=\"x\",'Oman Results'!G333,\"\"))","v":""},{"$f":"IF(B333=\"\",\"\",IF(VLOOKUP(B333,'Oman Results'!C333:AI1326,31)=\"x\",'Oman Results'!AJ333,\"\"))","v":""},{"$f":"IF(B333=\"\",\"\",IF(VLOOKUP(B333,'Oman Results'!C333:AI1326,31)=\"x\",'Oman Results'!AK333,\"\"))","v":""},null,null,"","","",""]
["",{"$f":"IF('Oman Results'!C334=\"\",\"\",'Oman Results'!C334)","v":""},{"$f":"IF(OR('Oman Results'!D334=\"\",'Oman Results'!D334=\"Totals\"),\"\",'Oman Results'!D334)","v":""},"",{"$f":"IF('Oman Results'!E334=\"\",\"\",'Oman Results'!E334)","v":""},{"$f":"IF('Oman Results'!F334=\"\",\"\",'Oman Results'!F334)","v":""},{"$f":"IF(B334=\"\",\"\",IF(VLOOKUP(B334,'Oman Results'!C334:AI1327,31)=\"x\",'Oman Results'!AK334,'Oman Results'!G334))","v":""},"",{"$f":"IF(B334=\"\",\"\",IF(VLOOKUP(B334,'Oman Results'!C334:AI1327,31)=\"x\",\"Yes\",\"\"))","v":""},{"$f":"IF(B334=\"\",\"\",IF(VLOOKUP(B334,'Oman Results'!C334:AI1327,31)=\"x\",'Oman Results'!G334,\"\"))","v":""},{"$f":"IF(B334=\"\",\"\",IF(VLOOKUP(B334,'Oman Results'!C334:AI1327,31)=\"x\",'Oman Results'!AJ334,\"\"))","v":""},{"$f":"IF(B334=\"\",\"\",IF(VLOOKUP(B334,'Oman Results'!C334:AI1327,31)=\"x\",'Oman Results'!AK334,\"\"))","v":""},null,null,"","","",""]
["",{"$f":"IF('Oman Results'!C335=\"\",\"\",'Oman Results'!C335)","v":""},{"$f":"IF(OR('Oman Results'!D335=\"\",'Oman Results'!D335=\"Totals\"),\"\",'Oman Results'!D335)","v":""},"",{"$f":"IF('Oman Results'!E335=\"\",\"\",'Oman Results'!E335)","v":""},{"$f":"IF('Oman Results'!F335=\"\",\"\",'Oman Results'!F335)","v":""},{"$f":"IF(B335=\"\",\"\",IF(VLOOKUP(B335,'Oman Results'!C335:AI1328,31)=\"x\",'Oman Results'!AK335,'Oman Results'!G335))","v":""},"",{"$f":"IF(B335=\"\",\"\",IF(VLOOKUP(B335,'Oman Results'!C335:AI1328,31)=\"x\",\"Yes\",\"\"))","v":""},{"$f":"IF(B335=\"\",\"\",IF(VLOOKUP(B335,'Oman Results'!C335:AI1328,31)=\"x\",'Oman Results'!G335,\"\"))","v":""},{"$f":"IF(B335=\"\",\"\",IF(VLOOKUP(B335,'Oman Results'!C335:AI1328,31)=\"x\",'Oman Results'!AJ335,\"\"))","v":""},{"$f":"IF(B335=\"\",\"\",IF(VLOOKUP(B335,'Oman Results'!C335:AI1328,31)=\"x\",'Oman Results'!AK335,\"\"))","v":""},null,null,"","","",""]
["",{"$f":"IF('Oman Results'!C336=\"\",\"\",'Oman Results'!C336)","v":""},{"$f":"IF(OR('Oman Results'!D336=\"\",'Oman Results'!D336=\"Totals\"),\"\",'Oman Results'!D336)","v":""},"",{"$f":"IF('Oman Results'!E336=\"\",\"\",'Oman Results'!E336)","v":""},{"$f":"IF('Oman Results'!F336=\"\",\"\",'Oman Results'!F336)","v":""},{"$f":"IF(B336=\"\",\"\",IF(VLOOKUP(B336,'Oman Results'!C336:AI1329,31)=\"x\",'Oman Results'!AK336,'Oman Results'!G336))","v":""},"",{"$f":"IF(B336=\"\",\"\",IF(VLOOKUP(B336,'Oman Results'!C336:AI1329,31)=\"x\",\"Yes\",\"\"))","v":""},{"$f":"IF(B336=\"\",\"\",IF(VLOOKUP(B336,'Oman Results'!C336:AI1329,31)=\"x\",'Oman Results'!G336,\"\"))","v":""},{"$f":"IF(B336=\"\",\"\",IF(VLOOKUP(B336,'Oman Results'!C336:AI1329,31)=\"x\",'Oman Results'!AJ336,\"\"))","v":""},{"$f":"IF(B336=\"\",\"\",IF(VLOOKUP(B336,'Oman Results'!C336:AI1329,31)=\"x\",'Oman Results'!AK336,\"\"))","v":""},null,null,"","","",""]
["",{"$f":"IF('Oman Results'!C337=\"\",\"\",'Oman Results'!C337)","v":""},{"$f":"IF(OR('Oman Results'!D337=\"\",'Oman Results'!D337=\"Totals\"),\"\",'Oman Results'!D337)","v":""},"",{"$f":"IF('Oman Results'!E337=\"\",\"\",'Oman Results'!E337)","v":""},{"$f":"IF('Oman Results'!F337=\"\",\"\",'Oman Results'!F337)","v":""},{"$f":"IF(B337=\"\",\"\",IF(VLOOKUP(B337,'Oman Results'!C337:AI1330,31)=\"x\",'Oman Results'!AK337,'Oman Results'!G337))","v":""},"",{"$f":"IF(B337=\"\",\"\",IF(VLOOKUP(B337,'Oman Results'!C337:AI1330,31)=\"x\",\"Yes\",\"\"))","v":""},{"$f":"IF(B337=\"\",\"\",IF(VLOOKUP(B337,'Oman Results'!C337:AI1330,31)=\"x\",'Oman Results'!G337,\"\"))","v":""},{"$f":"IF(B337=\"\",\"\",IF(VLOOKUP(B337,'Oman Results'!C337:AI1330,31)=\"x\",'Oman Results'!AJ337,\"\"))","v":""},{"$f":"IF(B337=\"\",\"\",IF(VLOOKUP(B337,'Oman Results'!C337:AI1330,31)=\"x\",'Oman Results'!AK337,\"\"))","v":""},null,null,"","","",""]
["",{"$f":"IF('Oman Results'!C338=\"\",\"\",'Oman Results'!C338)","v":""},{"$f":"IF(OR('Oman Results'!D338=\"\",'Oman Results'!D338=\"Totals\"),\"\",'Oman Results'!D338)","v":""},"",{"$f":"IF('Oman Results'!E338=\"\",\"\",'Oman Results'!E338)","v":""},{"$f":"IF('Oman Results'!F338=\"\",\"\",'Oman Results'!F338)","v":""},{"$f":"IF(B338=\"\",\"\",IF(VLOOKUP(B338,'Oman Results'!C338:AI1331,31)=\"x\",'Oman Results'!AK338,'Oman Results'!G338))","v":""},"",{"$f":"IF(B338=\"\",\"\",IF(VLOOKUP(B338,'Oman Results'!C338:AI1331,31)=\"x\",\"Yes\",\"\"))","v":""},{"$f":"IF(B338=\"\",\"\",IF(VLOOKUP(B338,'Oman Results'!C338:AI1331,31)=\"x\",'Oman Results'!G338,\"\"))","v":""},{"$f":"IF(B338=\"\",\"\",IF(VLOOKUP(B338,'Oman Results'!C338:AI1331,31)=\"x\",'Oman Results'!AJ338,\"\"))","v":""},{"$f":"IF(B338=\"\",\"\",IF(VLOOKUP(B338,'Oman Results'!C338:AI1331,31)=\"x\",'Oman Results'!AK338,\"\"))","v":""},null,null,"","","",""]
["",{"$f":"IF('Oman Results'!C339=\"\",\"\",'Oman Results'!C339)","v":""},{"$f":"IF(OR('Oman Results'!D339=\"\",'Oman Results'!D339=\"Totals\"),\"\",'Oman Results'!D339)","v":""},"",{"$f":"IF('Oman Results'!E339=\"\",\"\",'Oman Results'!E339)","v":""},{"$f":"IF('Oman Results'!F339=\"\",\"\",'Oman Results'!F339)","v":""},{"$f":"IF(B339=\"\",\"\",IF(VLOOKUP(B339,'Oman Results'!C339:AI1332,31)=\"x\",'Oman Results'!AK339,'Oman Results'!G339))","v":""},"",{"$f":"IF(B339=\"\",\"\",IF(VLOOKUP(B339,'Oman Results'!C339:AI1332,31)=\"x\",\"Yes\",\"\"))","v":""},{"$f":"IF(B339=\"\",\"\",IF(VLOOKUP(B339,'Oman Results'!C339:AI1332,31)=\"x\",'Oman Results'!G339,\"\"))","v":""},{"$f":"IF(B339=\"\",\"\",IF(VLOOKUP(B339,'Oman Results'!C339:AI1332,31)=\"x\",'Oman Results'!AJ339,\"\"))","v":""},{"$f":"IF(B339=\"\",\"\",IF(VLOOKUP(B339,'Oman Results'!C339:AI1332,31)=\"x\",'Oman Results'!AK339,\"\"))","v":""},null,null,"","","",""]
["",{"$f":"IF('Oman Results'!C340=\"\",\"\",'Oman Results'!C340)","v":""},{"$f":"IF(OR('Oman Results'!D340=\"\",'Oman Results'!D340=\"Totals\"),\"\",'Oman Results'!D340)","v":""},"",{"$f":"IF('Oman Results'!E340=\"\",\"\",'Oman Results'!E340)","v":""},{"$f":"IF('Oman Results'!F340=\"\",\"\",'Oman Results'!F340)","v":""},{"$f":"IF(B340=\"\",\"\",IF(VLOOKUP(B340,'Oman Results'!C340:AI1333,31)=\"x\",'Oman Results'!AK340,'Oman Results'!G340))","v":""},"",{"$f":"IF(B340=\"\",\"\",IF(VLOOKUP(B340,'Oman Results'!C340:AI1333,31)=\"x\",\"Yes\",\"\"))","v":""},{"$f":"IF(B340=\"\",\"\",IF(VLOOKUP(B340,'Oman Results'!C340:AI1333,31)=\"x\",'Oman Results'!G340,\"\"))","v":""},{"$f":"IF(B340=\"\",\"\",IF(VLOOKUP(B340,'Oman Results'!C340:AI1333,31)=\"x\",'Oman Results'!AJ340,\"\"))","v":""},{"$f":"IF(B340=\"\",\"\",IF(VLOOKUP(B340,'Oman Results'!C340:AI1333,31)=\"x\",'Oman Results'!AK340,\"\"))","v":""},null,null,"","","",""]
["",{"$f":"IF('Oman Results'!C341=\"\",\"\",'Oman Results'!C341)","v":""},{"$f":"IF(OR('Oman Results'!D341=\"\",'Oman Results'!D341=\"Totals\"),\"\",'Oman Results'!D341)","v":""},"",{"$f":"IF('Oman Results'!E341=\"\",\"\",'Oman Results'!E341)","v":""},{"$f":"IF('Oman Results'!F341=\"\",\"\",'Oman Results'!F341)","v":""},{"$f":"IF(B341=\"\",\"\",IF(VLOOKUP(B341,'Oman Results'!C341:AI1334,31)=\"x\",'Oman Results'!AK341,'Oman Results'!G341))","v":""},"",{"$f":"IF(B341=\"\",\"\",IF(VLOOKUP(B341,'Oman Results'!C341:AI1334,31)=\"x\",\"Yes\",\"\"))","v":""},{"$f":"IF(B341=\"\",\"\",IF(VLOOKUP(B341,'Oman Results'!C341:AI1334,31)=\"x\",'Oman Results'!G341,\"\"))","v":""},{"$f":"IF(B341=\"\",\"\",IF(VLOOKUP(B341,'Oman Results'!C341:AI1334,31)=\"x\",'Oman Results'!AJ341,\"\"))","v":""},{"$f":"IF(B341=\"\",\"\",IF(VLOOKUP(B341,'Oman Results'!C341:AI1334,31)=\"x\",'Oman Results'!AK341,\"\"))","v":""},null,null,"","","",""]
["",{"$f":"IF('Oman Results'!C342=\"\",\"\",'Oman Results'!C342)","v":""},{"$f":"IF(OR('Oman Results'!D342=\"\",'Oman Results'!D342=\"Totals\"),\"\",'Oman Results'!D342)","v":""},"",{"$f":"IF('Oman Results'!E342=\"\",\"\",'Oman Results'!E342)","v":""},{"$f":"IF('Oman Results'!F342=\"\",\"\",'Oman Results'!F342)","v":""},{"$f":"IF(B342=\"\",\"\",IF(VLOOKUP(B342,'Oman Results'!C342:AI1335,31)=\"x\",'Oman Results'!AK342,'Oman Results'!G342))","v":""},"",{"$f":"IF(B342=\"\",\"\",IF(VLOOKUP(B342,'Oman Results'!C342:AI1335,31)=\"x\",\"Yes\",\"\"))","v":""},{"$f":"IF(B342=\"\",\"\",IF(VLOOKUP(B342,'Oman Results'!C342:AI1335,31)=\"x\",'Oman Results'!G342,\"\"))","v":""},{"$f":"IF(B342=\"\",\"\",IF(VLOOKUP(B342,'Oman Results'!C342:AI1335,31)=\"x\",'Oman Results'!AJ342,\"\"))","v":""},{"$f":"IF(B342=\"\",\"\",IF(VLOOKUP(B342,'Oman Results'!C342:AI1335,31)=\"x\",'Oman Results'!AK342,\"\"))","v":""},null,null,"","","",""]
["",{"$f":"IF('Oman Results'!C343=\"\",\"\",'Oman Results'!C343)","v":""},{"$f":"IF(OR('Oman Results'!D343=\"\",'Oman Results'!D343=\"Totals\"),\"\",'Oman Results'!D343)","v":""},"",{"$f":"IF('Oman Results'!E343=\"\",\"\",'Oman Results'!E343)","v":""},{"$f":"IF('Oman Results'!F343=\"\",\"\",'Oman Results'!F343)","v":""},{"$f":"IF(B343=\"\",\"\",IF(VLOOKUP(B343,'Oman Results'!C343:AI1336,31)=\"x\",'Oman Results'!AK343,'Oman Results'!G343))","v":""},"",{"$f":"IF(B343=\"\",\"\",IF(VLOOKUP(B343,'Oman Results'!C343:AI1336,31)=\"x\",\"Yes\",\"\"))","v":""},{"$f":"IF(B343=\"\",\"\",IF(VLOOKUP(B343,'Oman Results'!C343:AI1336,31)=\"x\",'Oman Results'!G343,\"\"))","v":""},{"$f":"IF(B343=\"\",\"\",IF(VLOOKUP(B343,'Oman Results'!C343:AI1336,31)=\"x\",'Oman Results'!AJ343,\"\"))","v":""},{"$f":"IF(B343=\"\",\"\",IF(VLOOKUP(B343,'Oman Results'!C343:AI1336,31)=\"x\",'Oman Results'!AK343,\"\"))","v":""},null,null,"","","",""]
["",{"$f":"IF('Oman Results'!C344=\"\",\"\",'Oman Results'!C344)","v":""},{"$f":"IF(OR('Oman Results'!D344=\"\",'Oman Results'!D344=\"Totals\"),\"\",'Oman Results'!D344)","v":""},"",{"$f":"IF('Oman Results'!E344=\"\",\"\",'Oman Results'!E344)","v":""},{"$f":"IF('Oman Results'!F344=\"\",\"\",'Oman Results'!F344)","v":""},{"$f":"IF(B344=\"\",\"\",IF(VLOOKUP(B344,'Oman Results'!C344:AI1337,31)=\"x\",'Oman Results'!AK344,'Oman Results'!G344))","v":""},"",{"$f":"IF(B344=\"\",\"\",IF(VLOOKUP(B344,'Oman Results'!C344:AI1337,31)=\"x\",\"Yes\",\"\"))","v":""},{"$f":"IF(B344=\"\",\"\",IF(VLOOKUP(B344,'Oman Results'!C344:AI1337,31)=\"x\",'Oman Results'!G344,\"\"))","v":""},{"$f":"IF(B344=\"\",\"\",IF(VLOOKUP(B344,'Oman Results'!C344:AI1337,31)=\"x\",'Oman Results'!AJ344,\"\"))","v":""},{"$f":"IF(B344=\"\",\"\",IF(VLOOKUP(B344,'Oman Results'!C344:AI1337,31)=\"x\",'Oman Results'!AK344,\"\"))","v":""},null,null,"","","",""]
["",{"$f":"IF('Oman Results'!C345=\"\",\"\",'Oman Results'!C345)","v":""},{"$f":"IF(OR('Oman Results'!D345=\"\",'Oman Results'!D345=\"Totals\"),\"\",'Oman Results'!D345)","v":""},"",{"$f":"IF('Oman Results'!E345=\"\",\"\",'Oman Results'!E345)","v":""},{"$f":"IF('Oman Results'!F345=\"\",\"\",'Oman Results'!F345)","v":""},{"$f":"IF(B345=\"\",\"\",IF(VLOOKUP(B345,'Oman Results'!C345:AI1338,31)=\"x\",'Oman Results'!AK345,'Oman Results'!G345))","v":""},"",{"$f":"IF(B345=\"\",\"\",IF(VLOOKUP(B345,'Oman Results'!C345:AI1338,31)=\"x\",\"Yes\",\"\"))","v":""},{"$f":"IF(B345=\"\",\"\",IF(VLOOKUP(B345,'Oman Results'!C345:AI1338,31)=\"x\",'Oman Results'!G345,\"\"))","v":""},{"$f":"IF(B345=\"\",\"\",IF(VLOOKUP(B345,'Oman Results'!C345:AI1338,31)=\"x\",'Oman Results'!AJ345,\"\"))","v":""},{"$f":"IF(B345=\"\",\"\",IF(VLOOKUP(B345,'Oman Results'!C345:AI1338,31)=\"x\",'Oman Results'!AK345,\"\"))","v":""},null,null,"","","",""]
["",{"$f":"IF('Oman Results'!C346=\"\",\"\",'Oman Results'!C346)","v":""},{"$f":"IF(OR('Oman Results'!D346=\"\",'Oman Results'!D346=\"Totals\"),\"\",'Oman Results'!D346)","v":""},"",{"$f":"IF('Oman Results'!E346=\"\",\"\",'Oman Results'!E346)","v":""},{"$f":"IF('Oman Results'!F346=\"\",\"\",'Oman Results'!F346)","v":""},{"$f":"IF(B346=\"\",\"\",IF(VLOOKUP(B346,'Oman Results'!C346:AI1339,31)=\"x\",'Oman Results'!AK346,'Oman Results'!G346))","v":""},"",{"$f":"IF(B346=\"\",\"\",IF(VLOOKUP(B346,'Oman Results'!C346:AI1339,31)=\"x\",\"Yes\",\"\"))","v":""},{"$f":"IF(B346=\"\",\"\",IF(VLOOKUP(B346,'Oman Results'!C346:AI1339,31)=\"x\",'Oman Results'!G346,\"\"))","v":""},{"$f":"IF(B346=\"\",\"\",IF(VLOOKUP(B346,'Oman Results'!C346:AI1339,31)=\"x\",'Oman Results'!AJ346,\"\"))","v":""},{"$f":"IF(B346=\"\",\"\",IF(VLOOKUP(B346,'Oman Results'!C346:AI1339,31)=\"x\",'Oman Results'!AK346,\"\"))","v":""},null,null,"","","",""]
["",{"$f":"IF('Oman Results'!C347=\"\",\"\",'Oman Results'!C347)","v":""},{"$f":"IF(OR('Oman Results'!D347=\"\",'Oman Results'!D347=\"Totals\"),\"\",'Oman Results'!D347)","v":""},"",{"$f":"IF('Oman Results'!E347=\"\",\"\",'Oman Results'!E347)","v":""},{"$f":"IF('Oman Results'!F347=\"\",\"\",'Oman Results'!F347)","v":""},{"$f":"IF(B347=\"\",\"\",IF(VLOOKUP(B347,'Oman Results'!C347:AI1340,31)=\"x\",'Oman Results'!AK347,'Oman Results'!G347))","v":""},"",{"$f":"IF(B347=\"\",\"\",IF(VLOOKUP(B347,'Oman Results'!C347:AI1340,31)=\"x\",\"Yes\",\"\"))","v":""},{"$f":"IF(B347=\"\",\"\",IF(VLOOKUP(B347,'Oman Results'!C347:AI1340,31)=\"x\",'Oman Results'!G347,\"\"))","v":""},{"$f":"IF(B347=\"\",\"\",IF(VLOOKUP(B347,'Oman Results'!C347:AI1340,31)=\"x\",'Oman Results'!AJ347,\"\"))","v":""},{"$f":"IF(B347=\"\",\"\",IF(VLOOKUP(B347,'Oman Results'!C347:AI1340,31)=\"x\",'Oman Results'!AK347,\"\"))","v":""},null,null,"","","",""]
["",{"$f":"IF('Oman Results'!C348=\"\",\"\",'Oman Results'!C348)","v":""},{"$f":"IF(OR('Oman Results'!D348=\"\",'Oman Results'!D348=\"Totals\"),\"\",'Oman Results'!D348)","v":""},"",{"$f":"IF('Oman Results'!E348=\"\",\"\",'Oman Results'!E348)","v":""},{"$f":"IF('Oman Results'!F348=\"\",\"\",'Oman Results'!F348)","v":""},{"$f":"IF(B348=\"\",\"\",IF(VLOOKUP(B348,'Oman Results'!C348:AI1341,31)=\"x\",'Oman Results'!AK348,'Oman Results'!G348))","v":""},"",{"$f":"IF(B348=\"\",\"\",IF(VLOOKUP(B348,'Oman Results'!C348:AI1341,31)=\"x\",\"Yes\",\"\"))","v":""},{"$f":"IF(B348=\"\",\"\",IF(VLOOKUP(B348,'Oman Results'!C348:AI1341,31)=\"x\",'Oman Results'!G348,\"\"))","v":""},{"$f":"IF(B348=\"\",\"\",IF(VLOOKUP(B348,'Oman Results'!C348:AI1341,31)=\"x\",'Oman Results'!AJ348,\"\"))","v":""},{"$f":"IF(B348=\"\",\"\",IF(VLOOKUP(B348,'Oman Results'!C348:AI1341,31)=\"x\",'Oman Results'!AK348,\"\"))","v":""},null,null,"","","",""]
["",{"$f":"IF('Oman Results'!C349=\"\",\"\",'Oman Results'!C349)","v":""},{"$f":"IF(OR('Oman Results'!D349=\"\",'Oman Results'!D349=\"Totals\"),\"\",'Oman Results'!D349)","v":""},"",{"$f":"IF('Oman Results'!E349=\"\",\"\",'Oman Results'!E349)","v":""},{"$f":"IF('Oman Results'!F349=\"\",\"\",'Oman Results'!F349)","v":""},{"$f":"IF(B349=\"\",\"\",IF(VLOOKUP(B349,'Oman Results'!C349:AI1342,31)=\"x\",'Oman Results'!AK349,'Oman Results'!G349))","v":""},"",{"$f":"IF(B349=\"\",\"\",IF(VLOOKUP(B349,'Oman Results'!C349:AI1342,31)=\"x\",\"Yes\",\"\"))","v":""},{"$f":"IF(B349=\"\",\"\",IF(VLOOKUP(B349,'Oman Results'!C349:AI1342,31)=\"x\",'Oman Results'!G349,\"\"))","v":""},{"$f":"IF(B349=\"\",\"\",IF(VLOOKUP(B349,'Oman Results'!C349:AI1342,31)=\"x\",'Oman Results'!AJ349,\"\"))","v":""},{"$f":"IF(B349=\"\",\"\",IF(VLOOKUP(B349,'Oman Results'!C349:AI1342,31)=\"x\",'Oman Results'!AK349,\"\"))","v":""},null,null,"","","",""]
["",{"$f":"IF('Oman Results'!C350=\"\",\"\",'Oman Results'!C350)","v":""},{"$f":"IF(OR('Oman Results'!D350=\"\",'Oman Results'!D350=\"Totals\"),\"\",'Oman Results'!D350)","v":""},"",{"$f":"IF('Oman Results'!E350=\"\",\"\",'Oman Results'!E350)","v":""},{"$f":"IF('Oman Results'!F350=\"\",\"\",'Oman Results'!F350)","v":""},{"$f":"IF(B350=\"\",\"\",IF(VLOOKUP(B350,'Oman Results'!C350:AI1343,31)=\"x\",'Oman Results'!AK350,'Oman Results'!G350))","v":""},"",{"$f":"IF(B350=\"\",\"\",IF(VLOOKUP(B350,'Oman Results'!C350:AI1343,31)=\"x\",\"Yes\",\"\"))","v":""},{"$f":"IF(B350=\"\",\"\",IF(VLOOKUP(B350,'Oman Results'!C350:AI1343,31)=\"x\",'Oman Results'!G350,\"\"))","v":""},{"$f":"IF(B350=\"\",\"\",IF(VLOOKUP(B350,'Oman Results'!C350:AI1343,31)=\"x\",'Oman Results'!AJ350,\"\"))","v":""},{"$f":"IF(B350=\"\",\"\",IF(VLOOKUP(B350,'Oman Results'!C350:AI1343,31)=\"x\",'Oman Results'!AK350,\"\"))","v":""},null,null,"","","",""]
["",{"$f":"IF('Oman Results'!C351=\"\",\"\",'Oman Results'!C351)","v":""},{"$f":"IF(OR('Oman Results'!D351=\"\",'Oman Results'!D351=\"Totals\"),\"\",'Oman Results'!D351)","v":""},"",{"$f":"IF('Oman Results'!E351=\"\",\"\",'Oman Results'!E351)","v":""},{"$f":"IF('Oman Results'!F351=\"\",\"\",'Oman Results'!F351)","v":""},{"$f":"IF(B351=\"\",\"\",IF(VLOOKUP(B351,'Oman Results'!C351:AI1344,31)=\"x\",'Oman Results'!AK351,'Oman Results'!G351))","v":""},"",{"$f":"IF(B351=\"\",\"\",IF(VLOOKUP(B351,'Oman Results'!C351:AI1344,31)=\"x\",\"Yes\",\"\"))","v":""},{"$f":"IF(B351=\"\",\"\",IF(VLOOKUP(B351,'Oman Results'!C351:AI1344,31)=\"x\",'Oman Results'!G351,\"\"))","v":""},{"$f":"IF(B351=\"\",\"\",IF(VLOOKUP(B351,'Oman Results'!C351:AI1344,31)=\"x\",'Oman Results'!AJ351,\"\"))","v":""},{"$f":"IF(B351=\"\",\"\",IF(VLOOKUP(B351,'Oman Results'!C351:AI1344,31)=\"x\",'Oman Results'!AK351,\"\"))","v":""},null,null,"","","",""]
["",{"$f":"IF('Oman Results'!C352=\"\",\"\",'Oman Results'!C352)","v":""},{"$f":"IF(OR('Oman Results'!D352=\"\",'Oman Results'!D352=\"Totals\"),\"\",'Oman Results'!D352)","v":""},"",{"$f":"IF('Oman Results'!E352=\"\",\"\",'Oman Results'!E352)","v":""},{"$f":"IF('Oman Results'!F352=\"\",\"\",'Oman Results'!F352)","v":""},{"$f":"IF(B352=\"\",\"\",IF(VLOOKUP(B352,'Oman Results'!C352:AI1345,31)=\"x\",'Oman Results'!AK352,'Oman Results'!G352))","v":""},"",{"$f":"IF(B352=\"\",\"\",IF(VLOOKUP(B352,'Oman Results'!C352:AI1345,31)=\"x\",\"Yes\",\"\"))","v":""},{"$f":"IF(B352=\"\",\"\",IF(VLOOKUP(B352,'Oman Results'!C352:AI1345,31)=\"x\",'Oman Results'!G352,\"\"))","v":""},{"$f":"IF(B352=\"\",\"\",IF(VLOOKUP(B352,'Oman Results'!C352:AI1345,31)=\"x\",'Oman Results'!AJ352,\"\"))","v":""},{"$f":"IF(B352=\"\",\"\",IF(VLOOKUP(B352,'Oman Results'!C352:AI1345,31)=\"x\",'Oman Results'!AK352,\"\"))","v":""},null,null,"","","",""]
["",{"$f":"IF('Oman Results'!C353=\"\",\"\",'Oman Results'!C353)","v":""},{"$f":"IF(OR('Oman Results'!D353=\"\",'Oman Results'!D353=\"Totals\"),\"\",'Oman Results'!D353)","v":""},"",{"$f":"IF('Oman Results'!E353=\"\",\"\",'Oman Results'!E353)","v":""},{"$f":"IF('Oman Results'!F353=\"\",\"\",'Oman Results'!F353)","v":""},{"$f":"IF(B353=\"\",\"\",IF(VLOOKUP(B353,'Oman Results'!C353:AI1346,31)=\"x\",'Oman Results'!AK353,'Oman Results'!G353))","v":""},"",{"$f":"IF(B353=\"\",\"\",IF(VLOOKUP(B353,'Oman Results'!C353:AI1346,31)=\"x\",\"Yes\",\"\"))","v":""},{"$f":"IF(B353=\"\",\"\",IF(VLOOKUP(B353,'Oman Results'!C353:AI1346,31)=\"x\",'Oman Results'!G353,\"\"))","v":""},{"$f":"IF(B353=\"\",\"\",IF(VLOOKUP(B353,'Oman Results'!C353:AI1346,31)=\"x\",'Oman Results'!AJ353,\"\"))","v":""},{"$f":"IF(B353=\"\",\"\",IF(VLOOKUP(B353,'Oman Results'!C353:AI1346,31)=\"x\",'Oman Results'!AK353,\"\"))","v":""},null,null,"","","",""]
["",{"$f":"IF('Oman Results'!C354=\"\",\"\",'Oman Results'!C354)","v":""},{"$f":"IF(OR('Oman Results'!D354=\"\",'Oman Results'!D354=\"Totals\"),\"\",'Oman Results'!D354)","v":""},"",{"$f":"IF('Oman Results'!E354=\"\",\"\",'Oman Results'!E354)","v":""},{"$f":"IF('Oman Results'!F354=\"\",\"\",'Oman Results'!F354)","v":""},{"$f":"IF(B354=\"\",\"\",IF(VLOOKUP(B354,'Oman Results'!C354:AI1347,31)=\"x\",'Oman Results'!AK354,'Oman Results'!G354))","v":""},"",{"$f":"IF(B354=\"\",\"\",IF(VLOOKUP(B354,'Oman Results'!C354:AI1347,31)=\"x\",\"Yes\",\"\"))","v":""},{"$f":"IF(B354=\"\",\"\",IF(VLOOKUP(B354,'Oman Results'!C354:AI1347,31)=\"x\",'Oman Results'!G354,\"\"))","v":""},{"$f":"IF(B354=\"\",\"\",IF(VLOOKUP(B354,'Oman Results'!C354:AI1347,31)=\"x\",'Oman Results'!AJ354,\"\"))","v":""},{"$f":"IF(B354=\"\",\"\",IF(VLOOKUP(B354,'Oman Results'!C354:AI1347,31)=\"x\",'Oman Results'!AK354,\"\"))","v":""},null,null,"","","",""]
["",{"$f":"IF('Oman Results'!C355=\"\",\"\",'Oman Results'!C355)","v":""},{"$f":"IF(OR('Oman Results'!D355=\"\",'Oman Results'!D355=\"Totals\"),\"\",'Oman Results'!D355)","v":""},"",{"$f":"IF('Oman Results'!E355=\"\",\"\",'Oman Results'!E355)","v":""},{"$f":"IF('Oman Results'!F355=\"\",\"\",'Oman Results'!F355)","v":""},{"$f":"IF(B355=\"\",\"\",IF(VLOOKUP(B355,'Oman Results'!C355:AI1348,31)=\"x\",'Oman Results'!AK355,'Oman Results'!G355))","v":""},"",{"$f":"IF(B355=\"\",\"\",IF(VLOOKUP(B355,'Oman Results'!C355:AI1348,31)=\"x\",\"Yes\",\"\"))","v":""},{"$f":"IF(B355=\"\",\"\",IF(VLOOKUP(B355,'Oman Results'!C355:AI1348,31)=\"x\",'Oman Results'!G355,\"\"))","v":""},{"$f":"IF(B355=\"\",\"\",IF(VLOOKUP(B355,'Oman Results'!C355:AI1348,31)=\"x\",'Oman Results'!AJ355,\"\"))","v":""},{"$f":"IF(B355=\"\",\"\",IF(VLOOKUP(B355,'Oman Results'!C355:AI1348,31)=\"x\",'Oman Results'!AK355,\"\"))","v":""},null,null,"","","",""]
["",{"$f":"IF('Oman Results'!C356=\"\",\"\",'Oman Results'!C356)","v":""},{"$f":"IF(OR('Oman Results'!D356=\"\",'Oman Results'!D356=\"Totals\"),\"\",'Oman Results'!D356)","v":""},"",{"$f":"IF('Oman Results'!E356=\"\",\"\",'Oman Results'!E356)","v":""},{"$f":"IF('Oman Results'!F356=\"\",\"\",'Oman Results'!F356)","v":""},{"$f":"IF(B356=\"\",\"\",IF(VLOOKUP(B356,'Oman Results'!C356:AI1349,31)=\"x\",'Oman Results'!AK356,'Oman Results'!G356))","v":""},"",{"$f":"IF(B356=\"\",\"\",IF(VLOOKUP(B356,'Oman Results'!C356:AI1349,31)=\"x\",\"Yes\",\"\"))","v":""},{"$f":"IF(B356=\"\",\"\",IF(VLOOKUP(B356,'Oman Results'!C356:AI1349,31)=\"x\",'Oman Results'!G356,\"\"))","v":""},{"$f":"IF(B356=\"\",\"\",IF(VLOOKUP(B356,'Oman Results'!C356:AI1349,31)=\"x\",'Oman Results'!AJ356,\"\"))","v":""},{"$f":"IF(B356=\"\",\"\",IF(VLOOKUP(B356,'Oman Results'!C356:AI1349,31)=\"x\",'Oman Results'!AK356,\"\"))","v":""},null,null,"","","",""]
["",{"$f":"IF('Oman Results'!C357=\"\",\"\",'Oman Results'!C357)","v":""},{"$f":"IF(OR('Oman Results'!D357=\"\",'Oman Results'!D357=\"Totals\"),\"\",'Oman Results'!D357)","v":""},"",{"$f":"IF('Oman Results'!E357=\"\",\"\",'Oman Results'!E357)","v":""},{"$f":"IF('Oman Results'!F357=\"\",\"\",'Oman Results'!F357)","v":""},{"$f":"IF(B357=\"\",\"\",IF(VLOOKUP(B357,'Oman Results'!C357:AI1350,31)=\"x\",'Oman Results'!AK357,'Oman Results'!G357))","v":""},"",{"$f":"IF(B357=\"\",\"\",IF(VLOOKUP(B357,'Oman Results'!C357:AI1350,31)=\"x\",\"Yes\",\"\"))","v":""},{"$f":"IF(B357=\"\",\"\",IF(VLOOKUP(B357,'Oman Results'!C357:AI1350,31)=\"x\",'Oman Results'!G357,\"\"))","v":""},{"$f":"IF(B357=\"\",\"\",IF(VLOOKUP(B357,'Oman Results'!C357:AI1350,31)=\"x\",'Oman Results'!AJ357,\"\"))","v":""},{"$f":"IF(B357=\"\",\"\",IF(VLOOKUP(B357,'Oman Results'!C357:AI1350,31)=\"x\",'Oman Results'!AK357,\"\"))","v":""},null,null,"","","",""]
["",{"$f":"IF('Oman Results'!C358=\"\",\"\",'Oman Results'!C358)","v":""},{"$f":"IF(OR('Oman Results'!D358=\"\",'Oman Results'!D358=\"Totals\"),\"\",'Oman Results'!D358)","v":""},"",{"$f":"IF('Oman Results'!E358=\"\",\"\",'Oman Results'!E358)","v":""},{"$f":"IF('Oman Results'!F358=\"\",\"\",'Oman Results'!F358)","v":""},{"$f":"IF(B358=\"\",\"\",IF(VLOOKUP(B358,'Oman Results'!C358:AI1351,31)=\"x\",'Oman Results'!AK358,'Oman Results'!G358))","v":""},"",{"$f":"IF(B358=\"\",\"\",IF(VLOOKUP(B358,'Oman Results'!C358:AI1351,31)=\"x\",\"Yes\",\"\"))","v":""},{"$f":"IF(B358=\"\",\"\",IF(VLOOKUP(B358,'Oman Results'!C358:AI1351,31)=\"x\",'Oman Results'!G358,\"\"))","v":""},{"$f":"IF(B358=\"\",\"\",IF(VLOOKUP(B358,'Oman Results'!C358:AI1351,31)=\"x\",'Oman Results'!AJ358,\"\"))","v":""},{"$f":"IF(B358=\"\",\"\",IF(VLOOKUP(B358,'Oman Results'!C358:AI1351,31)=\"x\",'Oman Results'!AK358,\"\"))","v":""},null,null,"","","",""]
["",{"$f":"IF('Oman Results'!C359=\"\",\"\",'Oman Results'!C359)","v":""},{"$f":"IF(OR('Oman Results'!D359=\"\",'Oman Results'!D359=\"Totals\"),\"\",'Oman Results'!D359)","v":""},"",{"$f":"IF('Oman Results'!E359=\"\",\"\",'Oman Results'!E359)","v":""},{"$f":"IF('Oman Results'!F359=\"\",\"\",'Oman Results'!F359)","v":""},{"$f":"IF(B359=\"\",\"\",IF(VLOOKUP(B359,'Oman Results'!C359:AI1352,31)=\"x\",'Oman Results'!AK359,'Oman Results'!G359))","v":""},"",{"$f":"IF(B359=\"\",\"\",IF(VLOOKUP(B359,'Oman Results'!C359:AI1352,31)=\"x\",\"Yes\",\"\"))","v":""},{"$f":"IF(B359=\"\",\"\",IF(VLOOKUP(B359,'Oman Results'!C359:AI1352,31)=\"x\",'Oman Results'!G359,\"\"))","v":""},{"$f":"IF(B359=\"\",\"\",IF(VLOOKUP(B359,'Oman Results'!C359:AI1352,31)=\"x\",'Oman Results'!AJ359,\"\"))","v":""},{"$f":"IF(B359=\"\",\"\",IF(VLOOKUP(B359,'Oman Results'!C359:AI1352,31)=\"x\",'Oman Results'!AK359,\"\"))","v":""},null,null,"","","",""]
["",{"$f":"IF('Oman Results'!C360=\"\",\"\",'Oman Results'!C360)","v":""},{"$f":"IF(OR('Oman Results'!D360=\"\",'Oman Results'!D360=\"Totals\"),\"\",'Oman Results'!D360)","v":""},"",{"$f":"IF('Oman Results'!E360=\"\",\"\",'Oman Results'!E360)","v":""},{"$f":"IF('Oman Results'!F360=\"\",\"\",'Oman Results'!F360)","v":""},{"$f":"IF(B360=\"\",\"\",IF(VLOOKUP(B360,'Oman Results'!C360:AI1353,31)=\"x\",'Oman Results'!AK360,'Oman Results'!G360))","v":""},"",{"$f":"IF(B360=\"\",\"\",IF(VLOOKUP(B360,'Oman Results'!C360:AI1353,31)=\"x\",\"Yes\",\"\"))","v":""},{"$f":"IF(B360=\"\",\"\",IF(VLOOKUP(B360,'Oman Results'!C360:AI1353,31)=\"x\",'Oman Results'!G360,\"\"))","v":""},{"$f":"IF(B360=\"\",\"\",IF(VLOOKUP(B360,'Oman Results'!C360:AI1353,31)=\"x\",'Oman Results'!AJ360,\"\"))","v":""},{"$f":"IF(B360=\"\",\"\",IF(VLOOKUP(B360,'Oman Results'!C360:AI1353,31)=\"x\",'Oman Results'!AK360,\"\"))","v":""},null,null,"","","",""]
["",{"$f":"IF('Oman Results'!C361=\"\",\"\",'Oman Results'!C361)","v":""},{"$f":"IF(OR('Oman Results'!D361=\"\",'Oman Results'!D361=\"Totals\"),\"\",'Oman Results'!D361)","v":""},"",{"$f":"IF('Oman Results'!E361=\"\",\"\",'Oman Results'!E361)","v":""},{"$f":"IF('Oman Results'!F361=\"\",\"\",'Oman Results'!F361)","v":""},{"$f":"IF(B361=\"\",\"\",IF(VLOOKUP(B361,'Oman Results'!C361:AI1354,31)=\"x\",'Oman Results'!AK361,'Oman Results'!G361))","v":""},"",{"$f":"IF(B361=\"\",\"\",IF(VLOOKUP(B361,'Oman Results'!C361:AI1354,31)=\"x\",\"Yes\",\"\"))","v":""},{"$f":"IF(B361=\"\",\"\",IF(VLOOKUP(B361,'Oman Results'!C361:AI1354,31)=\"x\",'Oman Results'!G361,\"\"))","v":""},{"$f":"IF(B361=\"\",\"\",IF(VLOOKUP(B361,'Oman Results'!C361:AI1354,31)=\"x\",'Oman Results'!AJ361,\"\"))","v":""},{"$f":"IF(B361=\"\",\"\",IF(VLOOKUP(B361,'Oman Results'!C361:AI1354,31)=\"x\",'Oman Results'!AK361,\"\"))","v":""},null,null,"","","",""]
["",{"$f":"IF('Oman Results'!C362=\"\",\"\",'Oman Results'!C362)","v":""},{"$f":"IF(OR('Oman Results'!D362=\"\",'Oman Results'!D362=\"Totals\"),\"\",'Oman Results'!D362)","v":""},"",{"$f":"IF('Oman Results'!E362=\"\",\"\",'Oman Results'!E362)","v":""},{"$f":"IF('Oman Results'!F362=\"\",\"\",'Oman Results'!F362)","v":""},{"$f":"IF(B362=\"\",\"\",IF(VLOOKUP(B362,'Oman Results'!C362:AI1355,31)=\"x\",'Oman Results'!AK362,'Oman Results'!G362))","v":""},"",{"$f":"IF(B362=\"\",\"\",IF(VLOOKUP(B362,'Oman Results'!C362:AI1355,31)=\"x\",\"Yes\",\"\"))","v":""},{"$f":"IF(B362=\"\",\"\",IF(VLOOKUP(B362,'Oman Results'!C362:AI1355,31)=\"x\",'Oman Results'!G362,\"\"))","v":""},{"$f":"IF(B362=\"\",\"\",IF(VLOOKUP(B362,'Oman Results'!C362:AI1355,31)=\"x\",'Oman Results'!AJ362,\"\"))","v":""},{"$f":"IF(B362=\"\",\"\",IF(VLOOKUP(B362,'Oman Results'!C362:AI1355,31)=\"x\",'Oman Results'!AK362,\"\"))","v":""},null,null,"","","",""]
["",{"$f":"IF('Oman Results'!C363=\"\",\"\",'Oman Results'!C363)","v":""},{"$f":"IF(OR('Oman Results'!D363=\"\",'Oman Results'!D363=\"Totals\"),\"\",'Oman Results'!D363)","v":""},"",{"$f":"IF('Oman Results'!E363=\"\",\"\",'Oman Results'!E363)","v":""},{"$f":"IF('Oman Results'!F363=\"\",\"\",'Oman Results'!F363)","v":""},{"$f":"IF(B363=\"\",\"\",IF(VLOOKUP(B363,'Oman Results'!C363:AI1356,31)=\"x\",'Oman Results'!AK363,'Oman Results'!G363))","v":""},"",{"$f":"IF(B363=\"\",\"\",IF(VLOOKUP(B363,'Oman Results'!C363:AI1356,31)=\"x\",\"Yes\",\"\"))","v":""},{"$f":"IF(B363=\"\",\"\",IF(VLOOKUP(B363,'Oman Results'!C363:AI1356,31)=\"x\",'Oman Results'!G363,\"\"))","v":""},{"$f":"IF(B363=\"\",\"\",IF(VLOOKUP(B363,'Oman Results'!C363:AI1356,31)=\"x\",'Oman Results'!AJ363,\"\"))","v":""},{"$f":"IF(B363=\"\",\"\",IF(VLOOKUP(B363,'Oman Results'!C363:AI1356,31)=\"x\",'Oman Results'!AK363,\"\"))","v":""},null,null,"","","",""]
["",{"$f":"IF('Oman Results'!C364=\"\",\"\",'Oman Results'!C364)","v":""},{"$f":"IF(OR('Oman Results'!D364=\"\",'Oman Results'!D364=\"Totals\"),\"\",'Oman Results'!D364)","v":""},"",{"$f":"IF('Oman Results'!E364=\"\",\"\",'Oman Results'!E364)","v":""},{"$f":"IF('Oman Results'!F364=\"\",\"\",'Oman Results'!F364)","v":""},{"$f":"IF(B364=\"\",\"\",IF(VLOOKUP(B364,'Oman Results'!C364:AI1357,31)=\"x\",'Oman Results'!AK364,'Oman Results'!G364))","v":""},"",{"$f":"IF(B364=\"\",\"\",IF(VLOOKUP(B364,'Oman Results'!C364:AI1357,31)=\"x\",\"Yes\",\"\"))","v":""},{"$f":"IF(B364=\"\",\"\",IF(VLOOKUP(B364,'Oman Results'!C364:AI1357,31)=\"x\",'Oman Results'!G364,\"\"))","v":""},{"$f":"IF(B364=\"\",\"\",IF(VLOOKUP(B364,'Oman Results'!C364:AI1357,31)=\"x\",'Oman Results'!AJ364,\"\"))","v":""},{"$f":"IF(B364=\"\",\"\",IF(VLOOKUP(B364,'Oman Results'!C364:AI1357,31)=\"x\",'Oman Results'!AK364,\"\"))","v":""},null,null,"","","",""]
["",{"$f":"IF('Oman Results'!C365=\"\",\"\",'Oman Results'!C365)","v":""},{"$f":"IF(OR('Oman Results'!D365=\"\",'Oman Results'!D365=\"Totals\"),\"\",'Oman Results'!D365)","v":""},"",{"$f":"IF('Oman Results'!E365=\"\",\"\",'Oman Results'!E365)","v":""},{"$f":"IF('Oman Results'!F365=\"\",\"\",'Oman Results'!F365)","v":""},{"$f":"IF(B365=\"\",\"\",IF(VLOOKUP(B365,'Oman Results'!C365:AI1358,31)=\"x\",'Oman Results'!AK365,'Oman Results'!G365))","v":""},"",{"$f":"IF(B365=\"\",\"\",IF(VLOOKUP(B365,'Oman Results'!C365:AI1358,31)=\"x\",\"Yes\",\"\"))","v":""},{"$f":"IF(B365=\"\",\"\",IF(VLOOKUP(B365,'Oman Results'!C365:AI1358,31)=\"x\",'Oman Results'!G365,\"\"))","v":""},{"$f":"IF(B365=\"\",\"\",IF(VLOOKUP(B365,'Oman Results'!C365:AI1358,31)=\"x\",'Oman Results'!AJ365,\"\"))","v":""},{"$f":"IF(B365=\"\",\"\",IF(VLOOKUP(B365,'Oman Results'!C365:AI1358,31)=\"x\",'Oman Results'!AK365,\"\"))","v":""},null,null,"","","",""]
["",{"$f":"IF('Oman Results'!C366=\"\",\"\",'Oman Results'!C366)","v":""},{"$f":"IF(OR('Oman Results'!D366=\"\",'Oman Results'!D366=\"Totals\"),\"\",'Oman Results'!D366)","v":""},"",{"$f":"IF('Oman Results'!E366=\"\",\"\",'Oman Results'!E366)","v":""},{"$f":"IF('Oman Results'!F366=\"\",\"\",'Oman Results'!F366)","v":""},{"$f":"IF(B366=\"\",\"\",IF(VLOOKUP(B366,'Oman Results'!C366:AI1359,31)=\"x\",'Oman Results'!AK366,'Oman Results'!G366))","v":""},"",{"$f":"IF(B366=\"\",\"\",IF(VLOOKUP(B366,'Oman Results'!C366:AI1359,31)=\"x\",\"Yes\",\"\"))","v":""},{"$f":"IF(B366=\"\",\"\",IF(VLOOKUP(B366,'Oman Results'!C366:AI1359,31)=\"x\",'Oman Results'!G366,\"\"))","v":""},{"$f":"IF(B366=\"\",\"\",IF(VLOOKUP(B366,'Oman Results'!C366:AI1359,31)=\"x\",'Oman Results'!AJ366,\"\"))","v":""},{"$f":"IF(B366=\"\",\"\",IF(VLOOKUP(B366,'Oman Results'!C366:AI1359,31)=\"x\",'Oman Results'!AK366,\"\"))","v":""},null,null,"","","",""]
["",{"$f":"IF('Oman Results'!C367=\"\",\"\",'Oman Results'!C367)","v":""},{"$f":"IF(OR('Oman Results'!D367=\"\",'Oman Results'!D367=\"Totals\"),\"\",'Oman Results'!D367)","v":""},"",{"$f":"IF('Oman Results'!E367=\"\",\"\",'Oman Results'!E367)","v":""},{"$f":"IF('Oman Results'!F367=\"\",\"\",'Oman Results'!F367)","v":""},{"$f":"IF(B367=\"\",\"\",IF(VLOOKUP(B367,'Oman Results'!C367:AI1360,31)=\"x\",'Oman Results'!AK367,'Oman Results'!G367))","v":""},"",{"$f":"IF(B367=\"\",\"\",IF(VLOOKUP(B367,'Oman Results'!C367:AI1360,31)=\"x\",\"Yes\",\"\"))","v":""},{"$f":"IF(B367=\"\",\"\",IF(VLOOKUP(B367,'Oman Results'!C367:AI1360,31)=\"x\",'Oman Results'!G367,\"\"))","v":""},{"$f":"IF(B367=\"\",\"\",IF(VLOOKUP(B367,'Oman Results'!C367:AI1360,31)=\"x\",'Oman Results'!AJ367,\"\"))","v":""},{"$f":"IF(B367=\"\",\"\",IF(VLOOKUP(B367,'Oman Results'!C367:AI1360,31)=\"x\",'Oman Results'!AK367,\"\"))","v":""},null,null,"","","",""]
["",{"$f":"IF('Oman Results'!C368=\"\",\"\",'Oman Results'!C368)","v":""},{"$f":"IF(OR('Oman Results'!D368=\"\",'Oman Results'!D368=\"Totals\"),\"\",'Oman Results'!D368)","v":""},"",{"$f":"IF('Oman Results'!E368=\"\",\"\",'Oman Results'!E368)","v":""},{"$f":"IF('Oman Results'!F368=\"\",\"\",'Oman Results'!F368)","v":""},{"$f":"IF(B368=\"\",\"\",IF(VLOOKUP(B368,'Oman Results'!C368:AI1361,31)=\"x\",'Oman Results'!AK368,'Oman Results'!G368))","v":""},"",{"$f":"IF(B368=\"\",\"\",IF(VLOOKUP(B368,'Oman Results'!C368:AI1361,31)=\"x\",\"Yes\",\"\"))","v":""},{"$f":"IF(B368=\"\",\"\",IF(VLOOKUP(B368,'Oman Results'!C368:AI1361,31)=\"x\",'Oman Results'!G368,\"\"))","v":""},{"$f":"IF(B368=\"\",\"\",IF(VLOOKUP(B368,'Oman Results'!C368:AI1361,31)=\"x\",'Oman Results'!AJ368,\"\"))","v":""},{"$f":"IF(B368=\"\",\"\",IF(VLOOKUP(B368,'Oman Results'!C368:AI1361,31)=\"x\",'Oman Results'!AK368,\"\"))","v":""},null,null,"","","",""]
["",{"$f":"IF('Oman Results'!C369=\"\",\"\",'Oman Results'!C369)","v":""},{"$f":"IF(OR('Oman Results'!D369=\"\",'Oman Results'!D369=\"Totals\"),\"\",'Oman Results'!D369)","v":""},"",{"$f":"IF('Oman Results'!E369=\"\",\"\",'Oman Results'!E369)","v":""},{"$f":"IF('Oman Results'!F369=\"\",\"\",'Oman Results'!F369)","v":""},{"$f":"IF(B369=\"\",\"\",IF(VLOOKUP(B369,'Oman Results'!C369:AI1362,31)=\"x\",'Oman Results'!AK369,'Oman Results'!G369))","v":""},"",{"$f":"IF(B369=\"\",\"\",IF(VLOOKUP(B369,'Oman Results'!C369:AI1362,31)=\"x\",\"Yes\",\"\"))","v":""},{"$f":"IF(B369=\"\",\"\",IF(VLOOKUP(B369,'Oman Results'!C369:AI1362,31)=\"x\",'Oman Results'!G369,\"\"))","v":""},{"$f":"IF(B369=\"\",\"\",IF(VLOOKUP(B369,'Oman Results'!C369:AI1362,31)=\"x\",'Oman Results'!AJ369,\"\"))","v":""},{"$f":"IF(B369=\"\",\"\",IF(VLOOKUP(B369,'Oman Results'!C369:AI1362,31)=\"x\",'Oman Results'!AK369,\"\"))","v":""},null,null,"","","",""]
["",{"$f":"IF('Oman Results'!C370=\"\",\"\",'Oman Results'!C370)","v":""},{"$f":"IF(OR('Oman Results'!D370=\"\",'Oman Results'!D370=\"Totals\"),\"\",'Oman Results'!D370)","v":""},"",{"$f":"IF('Oman Results'!E370=\"\",\"\",'Oman Results'!E370)","v":""},{"$f":"IF('Oman Results'!F370=\"\",\"\",'Oman Results'!F370)","v":""},{"$f":"IF(B370=\"\",\"\",IF(VLOOKUP(B370,'Oman Results'!C370:AI1363,31)=\"x\",'Oman Results'!AK370,'Oman Results'!G370))","v":""},"",{"$f":"IF(B370=\"\",\"\",IF(VLOOKUP(B370,'Oman Results'!C370:AI1363,31)=\"x\",\"Yes\",\"\"))","v":""},{"$f":"IF(B370=\"\",\"\",IF(VLOOKUP(B370,'Oman Results'!C370:AI1363,31)=\"x\",'Oman Results'!G370,\"\"))","v":""},{"$f":"IF(B370=\"\",\"\",IF(VLOOKUP(B370,'Oman Results'!C370:AI1363,31)=\"x\",'Oman Results'!AJ370,\"\"))","v":""},{"$f":"IF(B370=\"\",\"\",IF(VLOOKUP(B370,'Oman Results'!C370:AI1363,31)=\"x\",'Oman Results'!AK370,\"\"))","v":""},null,null,"","","",""]
["",{"$f":"IF('Oman Results'!C371=\"\",\"\",'Oman Results'!C371)","v":""},{"$f":"IF(OR('Oman Results'!D371=\"\",'Oman Results'!D371=\"Totals\"),\"\",'Oman Results'!D371)","v":""},"",{"$f":"IF('Oman Results'!E371=\"\",\"\",'Oman Results'!E371)","v":""},{"$f":"IF('Oman Results'!F371=\"\",\"\",'Oman Results'!F371)","v":""},{"$f":"IF(B371=\"\",\"\",IF(VLOOKUP(B371,'Oman Results'!C371:AI1364,31)=\"x\",'Oman Results'!AK371,'Oman Results'!G371))","v":""},"",{"$f":"IF(B371=\"\",\"\",IF(VLOOKUP(B371,'Oman Results'!C371:AI1364,31)=\"x\",\"Yes\",\"\"))","v":""},{"$f":"IF(B371=\"\",\"\",IF(VLOOKUP(B371,'Oman Results'!C371:AI1364,31)=\"x\",'Oman Results'!G371,\"\"))","v":""},{"$f":"IF(B371=\"\",\"\",IF(VLOOKUP(B371,'Oman Results'!C371:AI1364,31)=\"x\",'Oman Results'!AJ371,\"\"))","v":""},{"$f":"IF(B371=\"\",\"\",IF(VLOOKUP(B371,'Oman Results'!C371:AI1364,31)=\"x\",'Oman Results'!AK371,\"\"))","v":""},null,null,"","","",""]
["",{"$f":"IF('Oman Results'!C372=\"\",\"\",'Oman Results'!C372)","v":""},{"$f":"IF(OR('Oman Results'!D372=\"\",'Oman Results'!D372=\"Totals\"),\"\",'Oman Results'!D372)","v":""},"",{"$f":"IF('Oman Results'!E372=\"\",\"\",'Oman Results'!E372)","v":""},{"$f":"IF('Oman Results'!F372=\"\",\"\",'Oman Results'!F372)","v":""},{"$f":"IF(B372=\"\",\"\",IF(VLOOKUP(B372,'Oman Results'!C372:AI1365,31)=\"x\",'Oman Results'!AK372,'Oman Results'!G372))","v":""},"",{"$f":"IF(B372=\"\",\"\",IF(VLOOKUP(B372,'Oman Results'!C372:AI1365,31)=\"x\",\"Yes\",\"\"))","v":""},{"$f":"IF(B372=\"\",\"\",IF(VLOOKUP(B372,'Oman Results'!C372:AI1365,31)=\"x\",'Oman Results'!G372,\"\"))","v":""},{"$f":"IF(B372=\"\",\"\",IF(VLOOKUP(B372,'Oman Results'!C372:AI1365,31)=\"x\",'Oman Results'!AJ372,\"\"))","v":""},{"$f":"IF(B372=\"\",\"\",IF(VLOOKUP(B372,'Oman Results'!C372:AI1365,31)=\"x\",'Oman Results'!AK372,\"\"))","v":""},null,null,"","","",""]
["",{"$f":"IF('Oman Results'!C373=\"\",\"\",'Oman Results'!C373)","v":""},{"$f":"IF(OR('Oman Results'!D373=\"\",'Oman Results'!D373=\"Totals\"),\"\",'Oman Results'!D373)","v":""},"",{"$f":"IF('Oman Results'!E373=\"\",\"\",'Oman Results'!E373)","v":""},{"$f":"IF('Oman Results'!F373=\"\",\"\",'Oman Results'!F373)","v":""},{"$f":"IF(B373=\"\",\"\",IF(VLOOKUP(B373,'Oman Results'!C373:AI1366,31)=\"x\",'Oman Results'!AK373,'Oman Results'!G373))","v":""},"",{"$f":"IF(B373=\"\",\"\",IF(VLOOKUP(B373,'Oman Results'!C373:AI1366,31)=\"x\",\"Yes\",\"\"))","v":""},{"$f":"IF(B373=\"\",\"\",IF(VLOOKUP(B373,'Oman Results'!C373:AI1366,31)=\"x\",'Oman Results'!G373,\"\"))","v":""},{"$f":"IF(B373=\"\",\"\",IF(VLOOKUP(B373,'Oman Results'!C373:AI1366,31)=\"x\",'Oman Results'!AJ373,\"\"))","v":""},{"$f":"IF(B373=\"\",\"\",IF(VLOOKUP(B373,'Oman Results'!C373:AI1366,31)=\"x\",'Oman Results'!AK373,\"\"))","v":""},null,null,"","","",""]
["",{"$f":"IF('Oman Results'!C374=\"\",\"\",'Oman Results'!C374)","v":""},{"$f":"IF(OR('Oman Results'!D374=\"\",'Oman Results'!D374=\"Totals\"),\"\",'Oman Results'!D374)","v":""},"",{"$f":"IF('Oman Results'!E374=\"\",\"\",'Oman Results'!E374)","v":""},{"$f":"IF('Oman Results'!F374=\"\",\"\",'Oman Results'!F374)","v":""},{"$f":"IF(B374=\"\",\"\",IF(VLOOKUP(B374,'Oman Results'!C374:AI1367,31)=\"x\",'Oman Results'!AK374,'Oman Results'!G374))","v":""},"",{"$f":"IF(B374=\"\",\"\",IF(VLOOKUP(B374,'Oman Results'!C374:AI1367,31)=\"x\",\"Yes\",\"\"))","v":""},{"$f":"IF(B374=\"\",\"\",IF(VLOOKUP(B374,'Oman Results'!C374:AI1367,31)=\"x\",'Oman Results'!G374,\"\"))","v":""},{"$f":"IF(B374=\"\",\"\",IF(VLOOKUP(B374,'Oman Results'!C374:AI1367,31)=\"x\",'Oman Results'!AJ374,\"\"))","v":""},{"$f":"IF(B374=\"\",\"\",IF(VLOOKUP(B374,'Oman Results'!C374:AI1367,31)=\"x\",'Oman Results'!AK374,\"\"))","v":""},null,null,"","","",""]
["",{"$f":"IF('Oman Results'!C375=\"\",\"\",'Oman Results'!C375)","v":""},{"$f":"IF(OR('Oman Results'!D375=\"\",'Oman Results'!D375=\"Totals\"),\"\",'Oman Results'!D375)","v":""},"",{"$f":"IF('Oman Results'!E375=\"\",\"\",'Oman Results'!E375)","v":""},{"$f":"IF('Oman Results'!F375=\"\",\"\",'Oman Results'!F375)","v":""},{"$f":"IF(B375=\"\",\"\",IF(VLOOKUP(B375,'Oman Results'!C375:AI1368,31)=\"x\",'Oman Results'!AK375,'Oman Results'!G375))","v":""},"",{"$f":"IF(B375=\"\",\"\",IF(VLOOKUP(B375,'Oman Results'!C375:AI1368,31)=\"x\",\"Yes\",\"\"))","v":""},{"$f":"IF(B375=\"\",\"\",IF(VLOOKUP(B375,'Oman Results'!C375:AI1368,31)=\"x\",'Oman Results'!G375,\"\"))","v":""},{"$f":"IF(B375=\"\",\"\",IF(VLOOKUP(B375,'Oman Results'!C375:AI1368,31)=\"x\",'Oman Results'!AJ375,\"\"))","v":""},{"$f":"IF(B375=\"\",\"\",IF(VLOOKUP(B375,'Oman Results'!C375:AI1368,31)=\"x\",'Oman Results'!AK375,\"\"))","v":""},null,null,"","","",""]
["",{"$f":"IF('Oman Results'!C376=\"\",\"\",'Oman Results'!C376)","v":""},{"$f":"IF(OR('Oman Results'!D376=\"\",'Oman Results'!D376=\"Totals\"),\"\",'Oman Results'!D376)","v":""},"",{"$f":"IF('Oman Results'!E376=\"\",\"\",'Oman Results'!E376)","v":""},{"$f":"IF('Oman Results'!F376=\"\",\"\",'Oman Results'!F376)","v":""},{"$f":"IF(B376=\"\",\"\",IF(VLOOKUP(B376,'Oman Results'!C376:AI1369,31)=\"x\",'Oman Results'!AK376,'Oman Results'!G376))","v":""},"",{"$f":"IF(B376=\"\",\"\",IF(VLOOKUP(B376,'Oman Results'!C376:AI1369,31)=\"x\",\"Yes\",\"\"))","v":""},{"$f":"IF(B376=\"\",\"\",IF(VLOOKUP(B376,'Oman Results'!C376:AI1369,31)=\"x\",'Oman Results'!G376,\"\"))","v":""},{"$f":"IF(B376=\"\",\"\",IF(VLOOKUP(B376,'Oman Results'!C376:AI1369,31)=\"x\",'Oman Results'!AJ376,\"\"))","v":""},{"$f":"IF(B376=\"\",\"\",IF(VLOOKUP(B376,'Oman Results'!C376:AI1369,31)=\"x\",'Oman Results'!AK376,\"\"))","v":""},null,null,"","","",""]
["",{"$f":"IF('Oman Results'!C377=\"\",\"\",'Oman Results'!C377)","v":""},{"$f":"IF(OR('Oman Results'!D377=\"\",'Oman Results'!D377=\"Totals\"),\"\",'Oman Results'!D377)","v":""},"",{"$f":"IF('Oman Results'!E377=\"\",\"\",'Oman Results'!E377)","v":""},{"$f":"IF('Oman Results'!F377=\"\",\"\",'Oman Results'!F377)","v":""},{"$f":"IF(B377=\"\",\"\",IF(VLOOKUP(B377,'Oman Results'!C377:AI1370,31)=\"x\",'Oman Results'!AK377,'Oman Results'!G377))","v":""},"",{"$f":"IF(B377=\"\",\"\",IF(VLOOKUP(B377,'Oman Results'!C377:AI1370,31)=\"x\",\"Yes\",\"\"))","v":""},{"$f":"IF(B377=\"\",\"\",IF(VLOOKUP(B377,'Oman Results'!C377:AI1370,31)=\"x\",'Oman Results'!G377,\"\"))","v":""},{"$f":"IF(B377=\"\",\"\",IF(VLOOKUP(B377,'Oman Results'!C377:AI1370,31)=\"x\",'Oman Results'!AJ377,\"\"))","v":""},{"$f":"IF(B377=\"\",\"\",IF(VLOOKUP(B377,'Oman Results'!C377:AI1370,31)=\"x\",'Oman Results'!AK377,\"\"))","v":""},null,null,"","","",""]
["",{"$f":"IF('Oman Results'!C378=\"\",\"\",'Oman Results'!C378)","v":""},{"$f":"IF(OR('Oman Results'!D378=\"\",'Oman Results'!D378=\"Totals\"),\"\",'Oman Results'!D378)","v":""},"",{"$f":"IF('Oman Results'!E378=\"\",\"\",'Oman Results'!E378)","v":""},{"$f":"IF('Oman Results'!F378=\"\",\"\",'Oman Results'!F378)","v":""},{"$f":"IF(B378=\"\",\"\",IF(VLOOKUP(B378,'Oman Results'!C378:AI1371,31)=\"x\",'Oman Results'!AK378,'Oman Results'!G378))","v":""},"",{"$f":"IF(B378=\"\",\"\",IF(VLOOKUP(B378,'Oman Results'!C378:AI1371,31)=\"x\",\"Yes\",\"\"))","v":""},{"$f":"IF(B378=\"\",\"\",IF(VLOOKUP(B378,'Oman Results'!C378:AI1371,31)=\"x\",'Oman Results'!G378,\"\"))","v":""},{"$f":"IF(B378=\"\",\"\",IF(VLOOKUP(B378,'Oman Results'!C378:AI1371,31)=\"x\",'Oman Results'!AJ378,\"\"))","v":""},{"$f":"IF(B378=\"\",\"\",IF(VLOOKUP(B378,'Oman Results'!C378:AI1371,31)=\"x\",'Oman Results'!AK378,\"\"))","v":""},null,null,"","","",""]
["",{"$f":"IF('Oman Results'!C379=\"\",\"\",'Oman Results'!C379)","v":""},{"$f":"IF(OR('Oman Results'!D379=\"\",'Oman Results'!D379=\"Totals\"),\"\",'Oman Results'!D379)","v":""},"",{"$f":"IF('Oman Results'!E379=\"\",\"\",'Oman Results'!E379)","v":""},{"$f":"IF('Oman Results'!F379=\"\",\"\",'Oman Results'!F379)","v":""},{"$f":"IF(B379=\"\",\"\",IF(VLOOKUP(B379,'Oman Results'!C379:AI1372,31)=\"x\",'Oman Results'!AK379,'Oman Results'!G379))","v":""},"",{"$f":"IF(B379=\"\",\"\",IF(VLOOKUP(B379,'Oman Results'!C379:AI1372,31)=\"x\",\"Yes\",\"\"))","v":""},{"$f":"IF(B379=\"\",\"\",IF(VLOOKUP(B379,'Oman Results'!C379:AI1372,31)=\"x\",'Oman Results'!G379,\"\"))","v":""},{"$f":"IF(B379=\"\",\"\",IF(VLOOKUP(B379,'Oman Results'!C379:AI1372,31)=\"x\",'Oman Results'!AJ379,\"\"))","v":""},{"$f":"IF(B379=\"\",\"\",IF(VLOOKUP(B379,'Oman Results'!C379:AI1372,31)=\"x\",'Oman Results'!AK379,\"\"))","v":""},null,null,"","","",""]
["",{"$f":"IF('Oman Results'!C380=\"\",\"\",'Oman Results'!C380)","v":""},{"$f":"IF(OR('Oman Results'!D380=\"\",'Oman Results'!D380=\"Totals\"),\"\",'Oman Results'!D380)","v":""},"",{"$f":"IF('Oman Results'!E380=\"\",\"\",'Oman Results'!E380)","v":""},{"$f":"IF('Oman Results'!F380=\"\",\"\",'Oman Results'!F380)","v":""},{"$f":"IF(B380=\"\",\"\",IF(VLOOKUP(B380,'Oman Results'!C380:AI1373,31)=\"x\",'Oman Results'!AK380,'Oman Results'!G380))","v":""},"",{"$f":"IF(B380=\"\",\"\",IF(VLOOKUP(B380,'Oman Results'!C380:AI1373,31)=\"x\",\"Yes\",\"\"))","v":""},{"$f":"IF(B380=\"\",\"\",IF(VLOOKUP(B380,'Oman Results'!C380:AI1373,31)=\"x\",'Oman Results'!G380,\"\"))","v":""},{"$f":"IF(B380=\"\",\"\",IF(VLOOKUP(B380,'Oman Results'!C380:AI1373,31)=\"x\",'Oman Results'!AJ380,\"\"))","v":""},{"$f":"IF(B380=\"\",\"\",IF(VLOOKUP(B380,'Oman Results'!C380:AI1373,31)=\"x\",'Oman Results'!AK380,\"\"))","v":""},null,null,"","","",""]
["",{"$f":"IF('Oman Results'!C381=\"\",\"\",'Oman Results'!C381)","v":""},{"$f":"IF(OR('Oman Results'!D381=\"\",'Oman Results'!D381=\"Totals\"),\"\",'Oman Results'!D381)","v":""},"",{"$f":"IF('Oman Results'!E381=\"\",\"\",'Oman Results'!E381)","v":""},{"$f":"IF('Oman Results'!F381=\"\",\"\",'Oman Results'!F381)","v":""},{"$f":"IF(B381=\"\",\"\",IF(VLOOKUP(B381,'Oman Results'!C381:AI1374,31)=\"x\",'Oman Results'!AK381,'Oman Results'!G381))","v":""},"",{"$f":"IF(B381=\"\",\"\",IF(VLOOKUP(B381,'Oman Results'!C381:AI1374,31)=\"x\",\"Yes\",\"\"))","v":""},{"$f":"IF(B381=\"\",\"\",IF(VLOOKUP(B381,'Oman Results'!C381:AI1374,31)=\"x\",'Oman Results'!G381,\"\"))","v":""},{"$f":"IF(B381=\"\",\"\",IF(VLOOKUP(B381,'Oman Results'!C381:AI1374,31)=\"x\",'Oman Results'!AJ381,\"\"))","v":""},{"$f":"IF(B381=\"\",\"\",IF(VLOOKUP(B381,'Oman Results'!C381:AI1374,31)=\"x\",'Oman Results'!AK381,\"\"))","v":""},null,null,"","","",""]
["",{"$f":"IF('Oman Results'!C382=\"\",\"\",'Oman Results'!C382)","v":""},{"$f":"IF(OR('Oman Results'!D382=\"\",'Oman Results'!D382=\"Totals\"),\"\",'Oman Results'!D382)","v":""},"",{"$f":"IF('Oman Results'!E382=\"\",\"\",'Oman Results'!E382)","v":""},{"$f":"IF('Oman Results'!F382=\"\",\"\",'Oman Results'!F382)","v":""},{"$f":"IF(B382=\"\",\"\",IF(VLOOKUP(B382,'Oman Results'!C382:AI1375,31)=\"x\",'Oman Results'!AK382,'Oman Results'!G382))","v":""},"",{"$f":"IF(B382=\"\",\"\",IF(VLOOKUP(B382,'Oman Results'!C382:AI1375,31)=\"x\",\"Yes\",\"\"))","v":""},{"$f":"IF(B382=\"\",\"\",IF(VLOOKUP(B382,'Oman Results'!C382:AI1375,31)=\"x\",'Oman Results'!G382,\"\"))","v":""},{"$f":"IF(B382=\"\",\"\",IF(VLOOKUP(B382,'Oman Results'!C382:AI1375,31)=\"x\",'Oman Results'!AJ382,\"\"))","v":""},{"$f":"IF(B382=\"\",\"\",IF(VLOOKUP(B382,'Oman Results'!C382:AI1375,31)=\"x\",'Oman Results'!AK382,\"\"))","v":""},null,null,"","","",""]
["",{"$f":"IF('Oman Results'!C383=\"\",\"\",'Oman Results'!C383)","v":""},{"$f":"IF(OR('Oman Results'!D383=\"\",'Oman Results'!D383=\"Totals\"),\"\",'Oman Results'!D383)","v":""},"",{"$f":"IF('Oman Results'!E383=\"\",\"\",'Oman Results'!E383)","v":""},{"$f":"IF('Oman Results'!F383=\"\",\"\",'Oman Results'!F383)","v":""},{"$f":"IF(B383=\"\",\"\",IF(VLOOKUP(B383,'Oman Results'!C383:AI1376,31)=\"x\",'Oman Results'!AK383,'Oman Results'!G383))","v":""},"",{"$f":"IF(B383=\"\",\"\",IF(VLOOKUP(B383,'Oman Results'!C383:AI1376,31)=\"x\",\"Yes\",\"\"))","v":""},{"$f":"IF(B383=\"\",\"\",IF(VLOOKUP(B383,'Oman Results'!C383:AI1376,31)=\"x\",'Oman Results'!G383,\"\"))","v":""},{"$f":"IF(B383=\"\",\"\",IF(VLOOKUP(B383,'Oman Results'!C383:AI1376,31)=\"x\",'Oman Results'!AJ383,\"\"))","v":""},{"$f":"IF(B383=\"\",\"\",IF(VLOOKUP(B383,'Oman Results'!C383:AI1376,31)=\"x\",'Oman Results'!AK383,\"\"))","v":""},null,null,"","","",""]
["",{"$f":"IF('Oman Results'!C384=\"\",\"\",'Oman Results'!C384)","v":""},{"$f":"IF(OR('Oman Results'!D384=\"\",'Oman Results'!D384=\"Totals\"),\"\",'Oman Results'!D384)","v":""},"",{"$f":"IF('Oman Results'!E384=\"\",\"\",'Oman Results'!E384)","v":""},{"$f":"IF('Oman Results'!F384=\"\",\"\",'Oman Results'!F384)","v":""},{"$f":"IF(B384=\"\",\"\",IF(VLOOKUP(B384,'Oman Results'!C384:AI1377,31)=\"x\",'Oman Results'!AK384,'Oman Results'!G384))","v":""},"",{"$f":"IF(B384=\"\",\"\",IF(VLOOKUP(B384,'Oman Results'!C384:AI1377,31)=\"x\",\"Yes\",\"\"))","v":""},{"$f":"IF(B384=\"\",\"\",IF(VLOOKUP(B384,'Oman Results'!C384:AI1377,31)=\"x\",'Oman Results'!G384,\"\"))","v":""},{"$f":"IF(B384=\"\",\"\",IF(VLOOKUP(B384,'Oman Results'!C384:AI1377,31)=\"x\",'Oman Results'!AJ384,\"\"))","v":""},{"$f":"IF(B384=\"\",\"\",IF(VLOOKUP(B384,'Oman Results'!C384:AI1377,31)=\"x\",'Oman Results'!AK384,\"\"))","v":""},null,null,"","","",""]
["",{"$f":"IF('Oman Results'!C385=\"\",\"\",'Oman Results'!C385)","v":""},{"$f":"IF(OR('Oman Results'!D385=\"\",'Oman Results'!D385=\"Totals\"),\"\",'Oman Results'!D385)","v":""},"",{"$f":"IF('Oman Results'!E385=\"\",\"\",'Oman Results'!E385)","v":""},{"$f":"IF('Oman Results'!F385=\"\",\"\",'Oman Results'!F385)","v":""},{"$f":"IF(B385=\"\",\"\",IF(VLOOKUP(B385,'Oman Results'!C385:AI1378,31)=\"x\",'Oman Results'!AK385,'Oman Results'!G385))","v":""},"",{"$f":"IF(B385=\"\",\"\",IF(VLOOKUP(B385,'Oman Results'!C385:AI1378,31)=\"x\",\"Yes\",\"\"))","v":""},{"$f":"IF(B385=\"\",\"\",IF(VLOOKUP(B385,'Oman Results'!C385:AI1378,31)=\"x\",'Oman Results'!G385,\"\"))","v":""},{"$f":"IF(B385=\"\",\"\",IF(VLOOKUP(B385,'Oman Results'!C385:AI1378,31)=\"x\",'Oman Results'!AJ385,\"\"))","v":""},{"$f":"IF(B385=\"\",\"\",IF(VLOOKUP(B385,'Oman Results'!C385:AI1378,31)=\"x\",'Oman Results'!AK385,\"\"))","v":""},null,null,"","","",""]
["",{"$f":"IF('Oman Results'!C386=\"\",\"\",'Oman Results'!C386)","v":""},{"$f":"IF(OR('Oman Results'!D386=\"\",'Oman Results'!D386=\"Totals\"),\"\",'Oman Results'!D386)","v":""},"",{"$f":"IF('Oman Results'!E386=\"\",\"\",'Oman Results'!E386)","v":""},{"$f":"IF('Oman Results'!F386=\"\",\"\",'Oman Results'!F386)","v":""},{"$f":"IF(B386=\"\",\"\",IF(VLOOKUP(B386,'Oman Results'!C386:AI1379,31)=\"x\",'Oman Results'!AK386,'Oman Results'!G386))","v":""},"",{"$f":"IF(B386=\"\",\"\",IF(VLOOKUP(B386,'Oman Results'!C386:AI1379,31)=\"x\",\"Yes\",\"\"))","v":""},{"$f":"IF(B386=\"\",\"\",IF(VLOOKUP(B386,'Oman Results'!C386:AI1379,31)=\"x\",'Oman Results'!G386,\"\"))","v":""},{"$f":"IF(B386=\"\",\"\",IF(VLOOKUP(B386,'Oman Results'!C386:AI1379,31)=\"x\",'Oman Results'!AJ386,\"\"))","v":""},{"$f":"IF(B386=\"\",\"\",IF(VLOOKUP(B386,'Oman Results'!C386:AI1379,31)=\"x\",'Oman Results'!AK386,\"\"))","v":""},null,null,"",{"$f":"IF(O386=1,G386,\"\")","v":""},"",{"$f":"IF(O386=1,\"\",H386)","v":""}]
["",{"$f":"IF('Oman Results'!C387=\"\",\"\",'Oman Results'!C387)","v":""},{"$f":"IF(OR('Oman Results'!D387=\"\",'Oman Results'!D387=\"Totals\"),\"\",'Oman Results'!D387)","v":""},{"$f":"IF(ISNUMBER(SEARCH(\"{\",C387)),\"Yes\", \"\")","v":""},{"$f":"IF('Oman Results'!E387=\"\",\"\",'Oman Results'!E387)","v":""},{"$f":"IF('Oman Results'!F387=\"\",\"\",'Oman Results'!F387)","v":""},{"$f":"IF(B387=\"\",\"\",IF(VLOOKUP(B387,'Oman Results'!C387:AI1380,31)=\"x\",'Oman Results'!AK387,'Oman Results'!G387))","v":""},{"$f":"IF(E387=\"\",\"\",E387*G387)","v":""},{"$f":"IF(B387=\"\",\"\",IF(VLOOKUP(B387,'Oman Results'!C387:AI1380,31)=\"x\",\"Yes\",\"\"))","v":""},{"$f":"IF(B387=\"\",\"\",IF(VLOOKUP(B387,'Oman Results'!C387:AI1380,31)=\"x\",'Oman Results'!G387,\"\"))","v":""},{"$f":"IF(B387=\"\",\"\",IF(VLOOKUP(B387,'Oman Results'!C387:AI1380,31)=\"x\",'Oman Results'!AJ387,\"\"))","v":""},{"$f":"IF(B387=\"\",\"\",IF(VLOOKUP(B387,'Oman Results'!C387:AI1380,31)=\"x\",'Oman Results'!AK387,\"\"))","v":""},null,null,{"$f":"IF(OR(LEFT(F387,3)=\"L.S\",LEFT(F387,2)=\"LS\"),1,\"\")","v":""},"",{"$f":"IF(I387=\"Yes\",G387,\"\")","v":""},""]
[{"$f":"IF(B388=\"\",\"\",1+A387)","v":""},{"$f":"IF('Oman Results'!C388=\"\",\"\",'Oman Results'!C388)","v":""},{"$f":"IF(OR('Oman Results'!D388=\"\",'Oman Results'!D388=\"Totals\"),\"\",'Oman Results'!D388)","v":""},"",{"$f":"IF('Oman Results'!E388=\"\",\"\",'Oman Results'!E388)","v":""},{"$f":"IF('Oman Results'!F388=\"\",\"\",'Oman Results'!F388)","v":""},{"$f":"IF(B388=\"\",\"\",IF(VLOOKUP(B388,'Oman Results'!C388:AI1381,31)=\"x\",'Oman Results'!AK388,'Oman Results'!G388))","v":""},"",{"$f":"IF(B388=\"\",\"\",IF(VLOOKUP(B388,'Oman Results'!C388:AI1381,31)=\"x\",\"Yes\",\"\"))","v":""},{"$f":"IF(B388=\"\",\"\",IF(VLOOKUP(B388,'Oman Results'!C388:AI1381,31)=\"x\",'Oman Results'!G388,\"\"))","v":""},{"$f":"IF(B388=\"\",\"\",IF(VLOOKUP(B388,'Oman Results'!C388:AI1381,31)=\"x\",'Oman Results'!AJ388,\"\"))","v":""},{"$f":"IF(B388=\"\",\"\",IF(VLOOKUP(B388,'Oman Results'!C388:AI1381,31)=\"x\",'Oman Results'!AK388,\"\"))","v":""},null,null,"","","",""]
["",{"$f":"IF('Oman Results'!C389=\"\",\"\",'Oman Results'!C389)","v":""},{"$f":"IF(OR('Oman Results'!D389=\"\",'Oman Results'!D389=\"Totals\"),\"\",'Oman Results'!D389)","v":""},"",{"$f":"IF('Oman Results'!E389=\"\",\"\",'Oman Results'!E389)","v":""},{"$f":"IF('Oman Results'!F389=\"\",\"\",'Oman Results'!F389)","v":""},{"$f":"IF(B389=\"\",\"\",IF(VLOOKUP(B389,'Oman Results'!C389:AI1382,31)=\"x\",'Oman Results'!AK389,'Oman Results'!G389))","v":""},"",{"$f":"IF(B389=\"\",\"\",IF(VLOOKUP(B389,'Oman Results'!C389:AI1382,31)=\"x\",\"Yes\",\"\"))","v":""},{"$f":"IF(B389=\"\",\"\",IF(VLOOKUP(B389,'Oman Results'!C389:AI1382,31)=\"x\",'Oman Results'!G389,\"\"))","v":""},{"$f":"IF(B389=\"\",\"\",IF(VLOOKUP(B389,'Oman Results'!C389:AI1382,31)=\"x\",'Oman Results'!AJ389,\"\"))","v":""},{"$f":"IF(B389=\"\",\"\",IF(VLOOKUP(B389,'Oman Results'!C389:AI1382,31)=\"x\",'Oman Results'!AK389,\"\"))","v":""},null,null,"","","",""]
["",{"$f":"IF('Oman Results'!C390=\"\",\"\",'Oman Results'!C390)","v":""},{"$f":"IF(OR('Oman Results'!D390=\"\",'Oman Results'!D390=\"Totals\"),\"\",'Oman Results'!D390)","v":""},"",{"$f":"IF('Oman Results'!E390=\"\",\"\",'Oman Results'!E390)","v":""},{"$f":"IF('Oman Results'!F390=\"\",\"\",'Oman Results'!F390)","v":""},{"$f":"IF(B390=\"\",\"\",IF(VLOOKUP(B390,'Oman Results'!C390:AI1383,31)=\"x\",'Oman Results'!AK390,'Oman Results'!G390))","v":""},"",{"$f":"IF(B390=\"\",\"\",IF(VLOOKUP(B390,'Oman Results'!C390:AI1383,31)=\"x\",\"Yes\",\"\"))","v":""},{"$f":"IF(B390=\"\",\"\",IF(VLOOKUP(B390,'Oman Results'!C390:AI1383,31)=\"x\",'Oman Results'!G390,\"\"))","v":""},{"$f":"IF(B390=\"\",\"\",IF(VLOOKUP(B390,'Oman Results'!C390:AI1383,31)=\"x\",'Oman Results'!AJ390,\"\"))","v":""},{"$f":"IF(B390=\"\",\"\",IF(VLOOKUP(B390,'Oman Results'!C390:AI1383,31)=\"x\",'Oman Results'!AK390,\"\"))","v":""},null,null,"","","",""]
["",{"$f":"IF('Oman Results'!C391=\"\",\"\",'Oman Results'!C391)","v":""},{"$f":"IF(OR('Oman Results'!D391=\"\",'Oman Results'!D391=\"Totals\"),\"\",'Oman Results'!D391)","v":""},"",{"$f":"IF('Oman Results'!E391=\"\",\"\",'Oman Results'!E391)","v":""},{"$f":"IF('Oman Results'!F391=\"\",\"\",'Oman Results'!F391)","v":""},{"$f":"IF(B391=\"\",\"\",IF(VLOOKUP(B391,'Oman Results'!C391:AI1384,31)=\"x\",'Oman Results'!AK391,'Oman Results'!G391))","v":""},"",{"$f":"IF(B391=\"\",\"\",IF(VLOOKUP(B391,'Oman Results'!C391:AI1384,31)=\"x\",\"Yes\",\"\"))","v":""},{"$f":"IF(B391=\"\",\"\",IF(VLOOKUP(B391,'Oman Results'!C391:AI1384,31)=\"x\",'Oman Results'!G391,\"\"))","v":""},{"$f":"IF(B391=\"\",\"\",IF(VLOOKUP(B391,'Oman Results'!C391:AI1384,31)=\"x\",'Oman Results'!AJ391,\"\"))","v":""},{"$f":"IF(B391=\"\",\"\",IF(VLOOKUP(B391,'Oman Results'!C391:AI1384,31)=\"x\",'Oman Results'!AK391,\"\"))","v":""},null,null,"","","",""]
["",{"$f":"IF('Oman Results'!C392=\"\",\"\",'Oman Results'!C392)","v":""},{"$f":"IF(OR('Oman Results'!D392=\"\",'Oman Results'!D392=\"Totals\"),\"\",'Oman Results'!D392)","v":""},"",{"$f":"IF('Oman Results'!E392=\"\",\"\",'Oman Results'!E392)","v":""},{"$f":"IF('Oman Results'!F392=\"\",\"\",'Oman Results'!F392)","v":""},{"$f":"IF(B392=\"\",\"\",IF(VLOOKUP(B392,'Oman Results'!C392:AI1385,31)=\"x\",'Oman Results'!AK392,'Oman Results'!G392))","v":""},"",{"$f":"IF(B392=\"\",\"\",IF(VLOOKUP(B392,'Oman Results'!C392:AI1385,31)=\"x\",\"Yes\",\"\"))","v":""},{"$f":"IF(B392=\"\",\"\",IF(VLOOKUP(B392,'Oman Results'!C392:AI1385,31)=\"x\",'Oman Results'!G392,\"\"))","v":""},{"$f":"IF(B392=\"\",\"\",IF(VLOOKUP(B392,'Oman Results'!C392:AI1385,31)=\"x\",'Oman Results'!AJ392,\"\"))","v":""},{"$f":"IF(B392=\"\",\"\",IF(VLOOKUP(B392,'Oman Results'!C392:AI1385,31)=\"x\",'Oman Results'!AK392,\"\"))","v":""},null,null,"","","",""]
["",{"$f":"IF('Oman Results'!C393=\"\",\"\",'Oman Results'!C393)","v":""},{"$f":"IF(OR('Oman Results'!D393=\"\",'Oman Results'!D393=\"Totals\"),\"\",'Oman Results'!D393)","v":""},"",{"$f":"IF('Oman Results'!E393=\"\",\"\",'Oman Results'!E393)","v":""},{"$f":"IF('Oman Results'!F393=\"\",\"\",'Oman Results'!F393)","v":""},{"$f":"IF(B393=\"\",\"\",IF(VLOOKUP(B393,'Oman Results'!C393:AI1386,31)=\"x\",'Oman Results'!AK393,'Oman Results'!G393))","v":""},"",{"$f":"IF(B393=\"\",\"\",IF(VLOOKUP(B393,'Oman Results'!C393:AI1386,31)=\"x\",\"Yes\",\"\"))","v":""},{"$f":"IF(B393=\"\",\"\",IF(VLOOKUP(B393,'Oman Results'!C393:AI1386,31)=\"x\",'Oman Results'!G393,\"\"))","v":""},{"$f":"IF(B393=\"\",\"\",IF(VLOOKUP(B393,'Oman Results'!C393:AI1386,31)=\"x\",'Oman Results'!AJ393,\"\"))","v":""},{"$f":"IF(B393=\"\",\"\",IF(VLOOKUP(B393,'Oman Results'!C393:AI1386,31)=\"x\",'Oman Results'!AK393,\"\"))","v":""},null,null,"","","",""]
["",{"$f":"IF('Oman Results'!C394=\"\",\"\",'Oman Results'!C394)","v":""},{"$f":"IF(OR('Oman Results'!D394=\"\",'Oman Results'!D394=\"Totals\"),\"\",'Oman Results'!D394)","v":""},"",{"$f":"IF('Oman Results'!E394=\"\",\"\",'Oman Results'!E394)","v":""},{"$f":"IF('Oman Results'!F394=\"\",\"\",'Oman Results'!F394)","v":""},{"$f":"IF(B394=\"\",\"\",IF(VLOOKUP(B394,'Oman Results'!C394:AI1387,31)=\"x\",'Oman Results'!AK394,'Oman Results'!G394))","v":""},"",{"$f":"IF(B394=\"\",\"\",IF(VLOOKUP(B394,'Oman Results'!C394:AI1387,31)=\"x\",\"Yes\",\"\"))","v":""},{"$f":"IF(B394=\"\",\"\",IF(VLOOKUP(B394,'Oman Results'!C394:AI1387,31)=\"x\",'Oman Results'!G394,\"\"))","v":""},{"$f":"IF(B394=\"\",\"\",IF(VLOOKUP(B394,'Oman Results'!C394:AI1387,31)=\"x\",'Oman Results'!AJ394,\"\"))","v":""},{"$f":"IF(B394=\"\",\"\",IF(VLOOKUP(B394,'Oman Results'!C394:AI1387,31)=\"x\",'Oman Results'!AK394,\"\"))","v":""},null,null,"","","",""]
["",{"$f":"IF('Oman Results'!C395=\"\",\"\",'Oman Results'!C395)","v":""},{"$f":"IF(OR('Oman Results'!D395=\"\",'Oman Results'!D395=\"Totals\"),\"\",'Oman Results'!D395)","v":""},"",{"$f":"IF('Oman Results'!E395=\"\",\"\",'Oman Results'!E395)","v":""},{"$f":"IF('Oman Results'!F395=\"\",\"\",'Oman Results'!F395)","v":""},{"$f":"IF(B395=\"\",\"\",IF(VLOOKUP(B395,'Oman Results'!C395:AI1388,31)=\"x\",'Oman Results'!AK395,'Oman Results'!G395))","v":""},"",{"$f":"IF(B395=\"\",\"\",IF(VLOOKUP(B395,'Oman Results'!C395:AI1388,31)=\"x\",\"Yes\",\"\"))","v":""},{"$f":"IF(B395=\"\",\"\",IF(VLOOKUP(B395,'Oman Results'!C395:AI1388,31)=\"x\",'Oman Results'!G395,\"\"))","v":""},{"$f":"IF(B395=\"\",\"\",IF(VLOOKUP(B395,'Oman Results'!C395:AI1388,31)=\"x\",'Oman Results'!AJ395,\"\"))","v":""},{"$f":"IF(B395=\"\",\"\",IF(VLOOKUP(B395,'Oman Results'!C395:AI1388,31)=\"x\",'Oman Results'!AK395,\"\"))","v":""},null,null,"","","",""]
["",{"$f":"IF('Oman Results'!C396=\"\",\"\",'Oman Results'!C396)","v":""},{"$f":"IF(OR('Oman Results'!D396=\"\",'Oman Results'!D396=\"Totals\"),\"\",'Oman Results'!D396)","v":""},"",{"$f":"IF('Oman Results'!E396=\"\",\"\",'Oman Results'!E396)","v":""},{"$f":"IF('Oman Results'!F396=\"\",\"\",'Oman Results'!F396)","v":""},{"$f":"IF(B396=\"\",\"\",IF(VLOOKUP(B396,'Oman Results'!C396:AI1389,31)=\"x\",'Oman Results'!AK396,'Oman Results'!G396))","v":""},"",{"$f":"IF(B396=\"\",\"\",IF(VLOOKUP(B396,'Oman Results'!C396:AI1389,31)=\"x\",\"Yes\",\"\"))","v":""},{"$f":"IF(B396=\"\",\"\",IF(VLOOKUP(B396,'Oman Results'!C396:AI1389,31)=\"x\",'Oman Results'!G396,\"\"))","v":""},{"$f":"IF(B396=\"\",\"\",IF(VLOOKUP(B396,'Oman Results'!C396:AI1389,31)=\"x\",'Oman Results'!AJ396,\"\"))","v":""},{"$f":"IF(B396=\"\",\"\",IF(VLOOKUP(B396,'Oman Results'!C396:AI1389,31)=\"x\",'Oman Results'!AK396,\"\"))","v":""},null,null,"","","",""]
["",{"$f":"IF('Oman Results'!C397=\"\",\"\",'Oman Results'!C397)","v":""},{"$f":"IF(OR('Oman Results'!D397=\"\",'Oman Results'!D397=\"Totals\"),\"\",'Oman Results'!D397)","v":""},"",{"$f":"IF('Oman Results'!E397=\"\",\"\",'Oman Results'!E397)","v":""},{"$f":"IF('Oman Results'!F397=\"\",\"\",'Oman Results'!F397)","v":""},{"$f":"IF(B397=\"\",\"\",IF(VLOOKUP(B397,'Oman Results'!C397:AI1390,31)=\"x\",'Oman Results'!AK397,'Oman Results'!G397))","v":""},"",{"$f":"IF(B397=\"\",\"\",IF(VLOOKUP(B397,'Oman Results'!C397:AI1390,31)=\"x\",\"Yes\",\"\"))","v":""},{"$f":"IF(B397=\"\",\"\",IF(VLOOKUP(B397,'Oman Results'!C397:AI1390,31)=\"x\",'Oman Results'!G397,\"\"))","v":""},{"$f":"IF(B397=\"\",\"\",IF(VLOOKUP(B397,'Oman Results'!C397:AI1390,31)=\"x\",'Oman Results'!AJ397,\"\"))","v":""},{"$f":"IF(B397=\"\",\"\",IF(VLOOKUP(B397,'Oman Results'!C397:AI1390,31)=\"x\",'Oman Results'!AK397,\"\"))","v":""},null,null,"","","",""]
["",{"$f":"IF('Oman Results'!C398=\"\",\"\",'Oman Results'!C398)","v":""},{"$f":"IF(OR('Oman Results'!D398=\"\",'Oman Results'!D398=\"Totals\"),\"\",'Oman Results'!D398)","v":""},"",{"$f":"IF('Oman Results'!E398=\"\",\"\",'Oman Results'!E398)","v":""},{"$f":"IF('Oman Results'!F398=\"\",\"\",'Oman Results'!F398)","v":""},{"$f":"IF(B398=\"\",\"\",IF(VLOOKUP(B398,'Oman Results'!C398:AI1391,31)=\"x\",'Oman Results'!AK398,'Oman Results'!G398))","v":""},"",{"$f":"IF(B398=\"\",\"\",IF(VLOOKUP(B398,'Oman Results'!C398:AI1391,31)=\"x\",\"Yes\",\"\"))","v":""},{"$f":"IF(B398=\"\",\"\",IF(VLOOKUP(B398,'Oman Results'!C398:AI1391,31)=\"x\",'Oman Results'!G398,\"\"))","v":""},{"$f":"IF(B398=\"\",\"\",IF(VLOOKUP(B398,'Oman Results'!C398:AI1391,31)=\"x\",'Oman Results'!AJ398,\"\"))","v":""},{"$f":"IF(B398=\"\",\"\",IF(VLOOKUP(B398,'Oman Results'!C398:AI1391,31)=\"x\",'Oman Results'!AK398,\"\"))","v":""},null,null,"","","",""]
["",{"$f":"IF('Oman Results'!C399=\"\",\"\",'Oman Results'!C399)","v":""},{"$f":"IF(OR('Oman Results'!D399=\"\",'Oman Results'!D399=\"Totals\"),\"\",'Oman Results'!D399)","v":""},"",{"$f":"IF('Oman Results'!E399=\"\",\"\",'Oman Results'!E399)","v":""},{"$f":"IF('Oman Results'!F399=\"\",\"\",'Oman Results'!F399)","v":""},{"$f":"IF(B399=\"\",\"\",IF(VLOOKUP(B399,'Oman Results'!C399:AI1392,31)=\"x\",'Oman Results'!AK399,'Oman Results'!G399))","v":""},"",{"$f":"IF(B399=\"\",\"\",IF(VLOOKUP(B399,'Oman Results'!C399:AI1392,31)=\"x\",\"Yes\",\"\"))","v":""},{"$f":"IF(B399=\"\",\"\",IF(VLOOKUP(B399,'Oman Results'!C399:AI1392,31)=\"x\",'Oman Results'!G399,\"\"))","v":""},{"$f":"IF(B399=\"\",\"\",IF(VLOOKUP(B399,'Oman Results'!C399:AI1392,31)=\"x\",'Oman Results'!AJ399,\"\"))","v":""},{"$f":"IF(B399=\"\",\"\",IF(VLOOKUP(B399,'Oman Results'!C399:AI1392,31)=\"x\",'Oman Results'!AK399,\"\"))","v":""},null,null,"","","",""]
["",{"$f":"IF('Oman Results'!C400=\"\",\"\",'Oman Results'!C400)","v":""},{"$f":"IF(OR('Oman Results'!D400=\"\",'Oman Results'!D400=\"Totals\"),\"\",'Oman Results'!D400)","v":""},"",{"$f":"IF('Oman Results'!E400=\"\",\"\",'Oman Results'!E400)","v":""},{"$f":"IF('Oman Results'!F400=\"\",\"\",'Oman Results'!F400)","v":""},{"$f":"IF(B400=\"\",\"\",IF(VLOOKUP(B400,'Oman Results'!C400:AI1393,31)=\"x\",'Oman Results'!AK400,'Oman Results'!G400))","v":""},"",{"$f":"IF(B400=\"\",\"\",IF(VLOOKUP(B400,'Oman Results'!C400:AI1393,31)=\"x\",\"Yes\",\"\"))","v":""},{"$f":"IF(B400=\"\",\"\",IF(VLOOKUP(B400,'Oman Results'!C400:AI1393,31)=\"x\",'Oman Results'!G400,\"\"))","v":""},{"$f":"IF(B400=\"\",\"\",IF(VLOOKUP(B400,'Oman Results'!C400:AI1393,31)=\"x\",'Oman Results'!AJ400,\"\"))","v":""},{"$f":"IF(B400=\"\",\"\",IF(VLOOKUP(B400,'Oman Results'!C400:AI1393,31)=\"x\",'Oman Results'!AK400,\"\"))","v":""},null,null,"","","",""]
["",{"$f":"IF('Oman Results'!C401=\"\",\"\",'Oman Results'!C401)","v":""},{"$f":"IF(OR('Oman Results'!D401=\"\",'Oman Results'!D401=\"Totals\"),\"\",'Oman Results'!D401)","v":""},"",{"$f":"IF('Oman Results'!E401=\"\",\"\",'Oman Results'!E401)","v":""},{"$f":"IF('Oman Results'!F401=\"\",\"\",'Oman Results'!F401)","v":""},{"$f":"IF(B401=\"\",\"\",IF(VLOOKUP(B401,'Oman Results'!C401:AI1394,31)=\"x\",'Oman Results'!AK401,'Oman Results'!G401))","v":""},"",{"$f":"IF(B401=\"\",\"\",IF(VLOOKUP(B401,'Oman Results'!C401:AI1394,31)=\"x\",\"Yes\",\"\"))","v":""},{"$f":"IF(B401=\"\",\"\",IF(VLOOKUP(B401,'Oman Results'!C401:AI1394,31)=\"x\",'Oman Results'!G401,\"\"))","v":""},{"$f":"IF(B401=\"\",\"\",IF(VLOOKUP(B401,'Oman Results'!C401:AI1394,31)=\"x\",'Oman Results'!AJ401,\"\"))","v":""},{"$f":"IF(B401=\"\",\"\",IF(VLOOKUP(B401,'Oman Results'!C401:AI1394,31)=\"x\",'Oman Results'!AK401,\"\"))","v":""},null,null,"","","",""]
["",{"$f":"IF('Oman Results'!C402=\"\",\"\",'Oman Results'!C402)","v":""},{"$f":"IF(OR('Oman Results'!D402=\"\",'Oman Results'!D402=\"Totals\"),\"\",'Oman Results'!D402)","v":""},"",{"$f":"IF('Oman Results'!E402=\"\",\"\",'Oman Results'!E402)","v":""},{"$f":"IF('Oman Results'!F402=\"\",\"\",'Oman Results'!F402)","v":""},{"$f":"IF(B402=\"\",\"\",IF(VLOOKUP(B402,'Oman Results'!C402:AI1395,31)=\"x\",'Oman Results'!AK402,'Oman Results'!G402))","v":""},"",{"$f":"IF(B402=\"\",\"\",IF(VLOOKUP(B402,'Oman Results'!C402:AI1395,31)=\"x\",\"Yes\",\"\"))","v":""},{"$f":"IF(B402=\"\",\"\",IF(VLOOKUP(B402,'Oman Results'!C402:AI1395,31)=\"x\",'Oman Results'!G402,\"\"))","v":""},{"$f":"IF(B402=\"\",\"\",IF(VLOOKUP(B402,'Oman Results'!C402:AI1395,31)=\"x\",'Oman Results'!AJ402,\"\"))","v":""},{"$f":"IF(B402=\"\",\"\",IF(VLOOKUP(B402,'Oman Results'!C402:AI1395,31)=\"x\",'Oman Results'!AK402,\"\"))","v":""},null,null,"","","",""]
["",{"$f":"IF('Oman Results'!C403=\"\",\"\",'Oman Results'!C403)","v":""},{"$f":"IF(OR('Oman Results'!D403=\"\",'Oman Results'!D403=\"Totals\"),\"\",'Oman Results'!D403)","v":""},"",{"$f":"IF('Oman Results'!E403=\"\",\"\",'Oman Results'!E403)","v":""},{"$f":"IF('Oman Results'!F403=\"\",\"\",'Oman Results'!F403)","v":""},{"$f":"IF(B403=\"\",\"\",IF(VLOOKUP(B403,'Oman Results'!C403:AI1396,31)=\"x\",'Oman Results'!AK403,'Oman Results'!G403))","v":""},"",{"$f":"IF(B403=\"\",\"\",IF(VLOOKUP(B403,'Oman Results'!C403:AI1396,31)=\"x\",\"Yes\",\"\"))","v":""},{"$f":"IF(B403=\"\",\"\",IF(VLOOKUP(B403,'Oman Results'!C403:AI1396,31)=\"x\",'Oman Results'!G403,\"\"))","v":""},{"$f":"IF(B403=\"\",\"\",IF(VLOOKUP(B403,'Oman Results'!C403:AI1396,31)=\"x\",'Oman Results'!AJ403,\"\"))","v":""},{"$f":"IF(B403=\"\",\"\",IF(VLOOKUP(B403,'Oman Results'!C403:AI1396,31)=\"x\",'Oman Results'!AK403,\"\"))","v":""},null,null,"","","",""]
["",{"$f":"IF('Oman Results'!C404=\"\",\"\",'Oman Results'!C404)","v":""},{"$f":"IF(OR('Oman Results'!D404=\"\",'Oman Results'!D404=\"Totals\"),\"\",'Oman Results'!D404)","v":""},"",{"$f":"IF('Oman Results'!E404=\"\",\"\",'Oman Results'!E404)","v":""},{"$f":"IF('Oman Results'!F404=\"\",\"\",'Oman Results'!F404)","v":""},{"$f":"IF(B404=\"\",\"\",IF(VLOOKUP(B404,'Oman Results'!C404:AI1397,31)=\"x\",'Oman Results'!AK404,'Oman Results'!G404))","v":""},"",{"$f":"IF(B404=\"\",\"\",IF(VLOOKUP(B404,'Oman Results'!C404:AI1397,31)=\"x\",\"Yes\",\"\"))","v":""},{"$f":"IF(B404=\"\",\"\",IF(VLOOKUP(B404,'Oman Results'!C404:AI1397,31)=\"x\",'Oman Results'!G404,\"\"))","v":""},{"$f":"IF(B404=\"\",\"\",IF(VLOOKUP(B404,'Oman Results'!C404:AI1397,31)=\"x\",'Oman Results'!AJ404,\"\"))","v":""},{"$f":"IF(B404=\"\",\"\",IF(VLOOKUP(B404,'Oman Results'!C404:AI1397,31)=\"x\",'Oman Results'!AK404,\"\"))","v":""},null,null,"","","",""]
["",{"$f":"IF('Oman Results'!C405=\"\",\"\",'Oman Results'!C405)","v":""},{"$f":"IF(OR('Oman Results'!D405=\"\",'Oman Results'!D405=\"Totals\"),\"\",'Oman Results'!D405)","v":""},"",{"$f":"IF('Oman Results'!E405=\"\",\"\",'Oman Results'!E405)","v":""},{"$f":"IF('Oman Results'!F405=\"\",\"\",'Oman Results'!F405)","v":""},{"$f":"IF(B405=\"\",\"\",IF(VLOOKUP(B405,'Oman Results'!C405:AI1398,31)=\"x\",'Oman Results'!AK405,'Oman Results'!G405))","v":""},"",{"$f":"IF(B405=\"\",\"\",IF(VLOOKUP(B405,'Oman Results'!C405:AI1398,31)=\"x\",\"Yes\",\"\"))","v":""},{"$f":"IF(B405=\"\",\"\",IF(VLOOKUP(B405,'Oman Results'!C405:AI1398,31)=\"x\",'Oman Results'!G405,\"\"))","v":""},{"$f":"IF(B405=\"\",\"\",IF(VLOOKUP(B405,'Oman Results'!C405:AI1398,31)=\"x\",'Oman Results'!AJ405,\"\"))","v":""},{"$f":"IF(B405=\"\",\"\",IF(VLOOKUP(B405,'Oman Results'!C405:AI1398,31)=\"x\",'Oman Results'!AK405,\"\"))","v":""},null,null,"","","",""]
["",{"$f":"IF('Oman Results'!C406=\"\",\"\",'Oman Results'!C406)","v":""},{"$f":"IF(OR('Oman Results'!D406=\"\",'Oman Results'!D406=\"Totals\"),\"\",'Oman Results'!D406)","v":""},"",{"$f":"IF('Oman Results'!E406=\"\",\"\",'Oman Results'!E406)","v":""},{"$f":"IF('Oman Results'!F406=\"\",\"\",'Oman Results'!F406)","v":""},{"$f":"IF(B406=\"\",\"\",IF(VLOOKUP(B406,'Oman Results'!C406:AI1399,31)=\"x\",'Oman Results'!AK406,'Oman Results'!G406))","v":""},"",{"$f":"IF(B406=\"\",\"\",IF(VLOOKUP(B406,'Oman Results'!C406:AI1399,31)=\"x\",\"Yes\",\"\"))","v":""},{"$f":"IF(B406=\"\",\"\",IF(VLOOKUP(B406,'Oman Results'!C406:AI1399,31)=\"x\",'Oman Results'!G406,\"\"))","v":""},{"$f":"IF(B406=\"\",\"\",IF(VLOOKUP(B406,'Oman Results'!C406:AI1399,31)=\"x\",'Oman Results'!AJ406,\"\"))","v":""},{"$f":"IF(B406=\"\",\"\",IF(VLOOKUP(B406,'Oman Results'!C406:AI1399,31)=\"x\",'Oman Results'!AK406,\"\"))","v":""},null,null,"","","",""]
["",{"$f":"IF('Oman Results'!C407=\"\",\"\",'Oman Results'!C407)","v":""},{"$f":"IF(OR('Oman Results'!D407=\"\",'Oman Results'!D407=\"Totals\"),\"\",'Oman Results'!D407)","v":""},"",{"$f":"IF('Oman Results'!E407=\"\",\"\",'Oman Results'!E407)","v":""},{"$f":"IF('Oman Results'!F407=\"\",\"\",'Oman Results'!F407)","v":""},{"$f":"IF(B407=\"\",\"\",IF(VLOOKUP(B407,'Oman Results'!C407:AI1400,31)=\"x\",'Oman Results'!AK407,'Oman Results'!G407))","v":""},"",{"$f":"IF(B407=\"\",\"\",IF(VLOOKUP(B407,'Oman Results'!C407:AI1400,31)=\"x\",\"Yes\",\"\"))","v":""},{"$f":"IF(B407=\"\",\"\",IF(VLOOKUP(B407,'Oman Results'!C407:AI1400,31)=\"x\",'Oman Results'!G407,\"\"))","v":""},{"$f":"IF(B407=\"\",\"\",IF(VLOOKUP(B407,'Oman Results'!C407:AI1400,31)=\"x\",'Oman Results'!AJ407,\"\"))","v":""},{"$f":"IF(B407=\"\",\"\",IF(VLOOKUP(B407,'Oman Results'!C407:AI1400,31)=\"x\",'Oman Results'!AK407,\"\"))","v":""},null,null,"","","",""]
["",{"$f":"IF('Oman Results'!C408=\"\",\"\",'Oman Results'!C408)","v":""},{"$f":"IF(OR('Oman Results'!D408=\"\",'Oman Results'!D408=\"Totals\"),\"\",'Oman Results'!D408)","v":""},"",{"$f":"IF('Oman Results'!E408=\"\",\"\",'Oman Results'!E408)","v":""},{"$f":"IF('Oman Results'!F408=\"\",\"\",'Oman Results'!F408)","v":""},{"$f":"IF(B408=\"\",\"\",IF(VLOOKUP(B408,'Oman Results'!C408:AI1401,31)=\"x\",'Oman Results'!AK408,'Oman Results'!G408))","v":""},"",{"$f":"IF(B408=\"\",\"\",IF(VLOOKUP(B408,'Oman Results'!C408:AI1401,31)=\"x\",\"Yes\",\"\"))","v":""},{"$f":"IF(B408=\"\",\"\",IF(VLOOKUP(B408,'Oman Results'!C408:AI1401,31)=\"x\",'Oman Results'!G408,\"\"))","v":""},{"$f":"IF(B408=\"\",\"\",IF(VLOOKUP(B408,'Oman Results'!C408:AI1401,31)=\"x\",'Oman Results'!AJ408,\"\"))","v":""},{"$f":"IF(B408=\"\",\"\",IF(VLOOKUP(B408,'Oman Results'!C408:AI1401,31)=\"x\",'Oman Results'!AK408,\"\"))","v":""},null,null,"","","",""]
["",{"$f":"IF('Oman Results'!C409=\"\",\"\",'Oman Results'!C409)","v":""},{"$f":"IF(OR('Oman Results'!D409=\"\",'Oman Results'!D409=\"Totals\"),\"\",'Oman Results'!D409)","v":""},"",{"$f":"IF('Oman Results'!E409=\"\",\"\",'Oman Results'!E409)","v":""},{"$f":"IF('Oman Results'!F409=\"\",\"\",'Oman Results'!F409)","v":""},{"$f":"IF(B409=\"\",\"\",IF(VLOOKUP(B409,'Oman Results'!C409:AI1402,31)=\"x\",'Oman Results'!AK409,'Oman Results'!G409))","v":""},"",{"$f":"IF(B409=\"\",\"\",IF(VLOOKUP(B409,'Oman Results'!C409:AI1402,31)=\"x\",\"Yes\",\"\"))","v":""},{"$f":"IF(B409=\"\",\"\",IF(VLOOKUP(B409,'Oman Results'!C409:AI1402,31)=\"x\",'Oman Results'!G409,\"\"))","v":""},{"$f":"IF(B409=\"\",\"\",IF(VLOOKUP(B409,'Oman Results'!C409:AI1402,31)=\"x\",'Oman Results'!AJ409,\"\"))","v":""},{"$f":"IF(B409=\"\",\"\",IF(VLOOKUP(B409,'Oman Results'!C409:AI1402,31)=\"x\",'Oman Results'!AK409,\"\"))","v":""},null,null,"","","",""]
["",{"$f":"IF('Oman Results'!C410=\"\",\"\",'Oman Results'!C410)","v":""},{"$f":"IF(OR('Oman Results'!D410=\"\",'Oman Results'!D410=\"Totals\"),\"\",'Oman Results'!D410)","v":""},"",{"$f":"IF('Oman Results'!E410=\"\",\"\",'Oman Results'!E410)","v":""},{"$f":"IF('Oman Results'!F410=\"\",\"\",'Oman Results'!F410)","v":""},{"$f":"IF(B410=\"\",\"\",IF(VLOOKUP(B410,'Oman Results'!C410:AI1403,31)=\"x\",'Oman Results'!AK410,'Oman Results'!G410))","v":""},"",{"$f":"IF(B410=\"\",\"\",IF(VLOOKUP(B410,'Oman Results'!C410:AI1403,31)=\"x\",\"Yes\",\"\"))","v":""},{"$f":"IF(B410=\"\",\"\",IF(VLOOKUP(B410,'Oman Results'!C410:AI1403,31)=\"x\",'Oman Results'!G410,\"\"))","v":""},{"$f":"IF(B410=\"\",\"\",IF(VLOOKUP(B410,'Oman Results'!C410:AI1403,31)=\"x\",'Oman Results'!AJ410,\"\"))","v":""},{"$f":"IF(B410=\"\",\"\",IF(VLOOKUP(B410,'Oman Results'!C410:AI1403,31)=\"x\",'Oman Results'!AK410,\"\"))","v":""},null,null,"","","",""]
["",{"$f":"IF('Oman Results'!C411=\"\",\"\",'Oman Results'!C411)","v":""},{"$f":"IF(OR('Oman Results'!D411=\"\",'Oman Results'!D411=\"Totals\"),\"\",'Oman Results'!D411)","v":""},"",{"$f":"IF('Oman Results'!E411=\"\",\"\",'Oman Results'!E411)","v":""},{"$f":"IF('Oman Results'!F411=\"\",\"\",'Oman Results'!F411)","v":""},{"$f":"IF(B411=\"\",\"\",IF(VLOOKUP(B411,'Oman Results'!C411:AI1404,31)=\"x\",'Oman Results'!AK411,'Oman Results'!G411))","v":""},"",{"$f":"IF(B411=\"\",\"\",IF(VLOOKUP(B411,'Oman Results'!C411:AI1404,31)=\"x\",\"Yes\",\"\"))","v":""},{"$f":"IF(B411=\"\",\"\",IF(VLOOKUP(B411,'Oman Results'!C411:AI1404,31)=\"x\",'Oman Results'!G411,\"\"))","v":""},{"$f":"IF(B411=\"\",\"\",IF(VLOOKUP(B411,'Oman Results'!C411:AI1404,31)=\"x\",'Oman Results'!AJ411,\"\"))","v":""},{"$f":"IF(B411=\"\",\"\",IF(VLOOKUP(B411,'Oman Results'!C411:AI1404,31)=\"x\",'Oman Results'!AK411,\"\"))","v":""},null,null,"","","",""]
["",{"$f":"IF('Oman Results'!C412=\"\",\"\",'Oman Results'!C412)","v":""},{"$f":"IF(OR('Oman Results'!D412=\"\",'Oman Results'!D412=\"Totals\"),\"\",'Oman Results'!D412)","v":""},"",{"$f":"IF('Oman Results'!E412=\"\",\"\",'Oman Results'!E412)","v":""},{"$f":"IF('Oman Results'!F412=\"\",\"\",'Oman Results'!F412)","v":""},{"$f":"IF(B412=\"\",\"\",IF(VLOOKUP(B412,'Oman Results'!C412:AI1405,31)=\"x\",'Oman Results'!AK412,'Oman Results'!G412))","v":""},"",{"$f":"IF(B412=\"\",\"\",IF(VLOOKUP(B412,'Oman Results'!C412:AI1405,31)=\"x\",\"Yes\",\"\"))","v":""},{"$f":"IF(B412=\"\",\"\",IF(VLOOKUP(B412,'Oman Results'!C412:AI1405,31)=\"x\",'Oman Results'!G412,\"\"))","v":""},{"$f":"IF(B412=\"\",\"\",IF(VLOOKUP(B412,'Oman Results'!C412:AI1405,31)=\"x\",'Oman Results'!AJ412,\"\"))","v":""},{"$f":"IF(B412=\"\",\"\",IF(VLOOKUP(B412,'Oman Results'!C412:AI1405,31)=\"x\",'Oman Results'!AK412,\"\"))","v":""},null,null,"","","",""]
["",{"$f":"IF('Oman Results'!C413=\"\",\"\",'Oman Results'!C413)","v":""},{"$f":"IF(OR('Oman Results'!D413=\"\",'Oman Results'!D413=\"Totals\"),\"\",'Oman Results'!D413)","v":""},"",{"$f":"IF('Oman Results'!E413=\"\",\"\",'Oman Results'!E413)","v":""},{"$f":"IF('Oman Results'!F413=\"\",\"\",'Oman Results'!F413)","v":""},{"$f":"IF(B413=\"\",\"\",IF(VLOOKUP(B413,'Oman Results'!C413:AI1406,31)=\"x\",'Oman Results'!AK413,'Oman Results'!G413))","v":""},"",{"$f":"IF(B413=\"\",\"\",IF(VLOOKUP(B413,'Oman Results'!C413:AI1406,31)=\"x\",\"Yes\",\"\"))","v":""},{"$f":"IF(B413=\"\",\"\",IF(VLOOKUP(B413,'Oman Results'!C413:AI1406,31)=\"x\",'Oman Results'!G413,\"\"))","v":""},{"$f":"IF(B413=\"\",\"\",IF(VLOOKUP(B413,'Oman Results'!C413:AI1406,31)=\"x\",'Oman Results'!AJ413,\"\"))","v":""},{"$f":"IF(B413=\"\",\"\",IF(VLOOKUP(B413,'Oman Results'!C413:AI1406,31)=\"x\",'Oman Results'!AK413,\"\"))","v":""},null,null,"","","",""]
["",{"$f":"IF('Oman Results'!C414=\"\",\"\",'Oman Results'!C414)","v":""},{"$f":"IF(OR('Oman Results'!D414=\"\",'Oman Results'!D414=\"Totals\"),\"\",'Oman Results'!D414)","v":""},"",{"$f":"IF('Oman Results'!E414=\"\",\"\",'Oman Results'!E414)","v":""},{"$f":"IF('Oman Results'!F414=\"\",\"\",'Oman Results'!F414)","v":""},{"$f":"IF(B414=\"\",\"\",IF(VLOOKUP(B414,'Oman Results'!C414:AI1407,31)=\"x\",'Oman Results'!AK414,'Oman Results'!G414))","v":""},"",{"$f":"IF(B414=\"\",\"\",IF(VLOOKUP(B414,'Oman Results'!C414:AI1407,31)=\"x\",\"Yes\",\"\"))","v":""},{"$f":"IF(B414=\"\",\"\",IF(VLOOKUP(B414,'Oman Results'!C414:AI1407,31)=\"x\",'Oman Results'!G414,\"\"))","v":""},{"$f":"IF(B414=\"\",\"\",IF(VLOOKUP(B414,'Oman Results'!C414:AI1407,31)=\"x\",'Oman Results'!AJ414,\"\"))","v":""},{"$f":"IF(B414=\"\",\"\",IF(VLOOKUP(B414,'Oman Results'!C414:AI1407,31)=\"x\",'Oman Results'!AK414,\"\"))","v":""},null,null,"","","",""]
["",{"$f":"IF('Oman Results'!C415=\"\",\"\",'Oman Results'!C415)","v":""},{"$f":"IF(OR('Oman Results'!D415=\"\",'Oman Results'!D415=\"Totals\"),\"\",'Oman Results'!D415)","v":""},"",{"$f":"IF('Oman Results'!E415=\"\",\"\",'Oman Results'!E415)","v":""},{"$f":"IF('Oman Results'!F415=\"\",\"\",'Oman Results'!F415)","v":""},{"$f":"IF(B415=\"\",\"\",IF(VLOOKUP(B415,'Oman Results'!C415:AI1408,31)=\"x\",'Oman Results'!AK415,'Oman Results'!G415))","v":""},"",{"$f":"IF(B415=\"\",\"\",IF(VLOOKUP(B415,'Oman Results'!C415:AI1408,31)=\"x\",\"Yes\",\"\"))","v":""},{"$f":"IF(B415=\"\",\"\",IF(VLOOKUP(B415,'Oman Results'!C415:AI1408,31)=\"x\",'Oman Results'!G415,\"\"))","v":""},{"$f":"IF(B415=\"\",\"\",IF(VLOOKUP(B415,'Oman Results'!C415:AI1408,31)=\"x\",'Oman Results'!AJ415,\"\"))","v":""},{"$f":"IF(B415=\"\",\"\",IF(VLOOKUP(B415,'Oman Results'!C415:AI1408,31)=\"x\",'Oman Results'!AK415,\"\"))","v":""},null,null,"","","",""]
["",{"$f":"IF('Oman Results'!C416=\"\",\"\",'Oman Results'!C416)","v":""},{"$f":"IF(OR('Oman Results'!D416=\"\",'Oman Results'!D416=\"Totals\"),\"\",'Oman Results'!D416)","v":""},"",{"$f":"IF('Oman Results'!E416=\"\",\"\",'Oman Results'!E416)","v":""},{"$f":"IF('Oman Results'!F416=\"\",\"\",'Oman Results'!F416)","v":""},{"$f":"IF(B416=\"\",\"\",IF(VLOOKUP(B416,'Oman Results'!C416:AI1409,31)=\"x\",'Oman Results'!AK416,'Oman Results'!G416))","v":""},"",{"$f":"IF(B416=\"\",\"\",IF(VLOOKUP(B416,'Oman Results'!C416:AI1409,31)=\"x\",\"Yes\",\"\"))","v":""},{"$f":"IF(B416=\"\",\"\",IF(VLOOKUP(B416,'Oman Results'!C416:AI1409,31)=\"x\",'Oman Results'!G416,\"\"))","v":""},{"$f":"IF(B416=\"\",\"\",IF(VLOOKUP(B416,'Oman Results'!C416:AI1409,31)=\"x\",'Oman Results'!AJ416,\"\"))","v":""},{"$f":"IF(B416=\"\",\"\",IF(VLOOKUP(B416,'Oman Results'!C416:AI1409,31)=\"x\",'Oman Results'!AK416,\"\"))","v":""},null,null,"","","",""]
["",{"$f":"IF('Oman Results'!C417=\"\",\"\",'Oman Results'!C417)","v":""},{"$f":"IF(OR('Oman Results'!D417=\"\",'Oman Results'!D417=\"Totals\"),\"\",'Oman Results'!D417)","v":""},"",{"$f":"IF('Oman Results'!E417=\"\",\"\",'Oman Results'!E417)","v":""},{"$f":"IF('Oman Results'!F417=\"\",\"\",'Oman Results'!F417)","v":""},{"$f":"IF(B417=\"\",\"\",IF(VLOOKUP(B417,'Oman Results'!C417:AI1410,31)=\"x\",'Oman Results'!AK417,'Oman Results'!G417))","v":""},"",{"$f":"IF(B417=\"\",\"\",IF(VLOOKUP(B417,'Oman Results'!C417:AI1410,31)=\"x\",\"Yes\",\"\"))","v":""},{"$f":"IF(B417=\"\",\"\",IF(VLOOKUP(B417,'Oman Results'!C417:AI1410,31)=\"x\",'Oman Results'!G417,\"\"))","v":""},{"$f":"IF(B417=\"\",\"\",IF(VLOOKUP(B417,'Oman Results'!C417:AI1410,31)=\"x\",'Oman Results'!AJ417,\"\"))","v":""},{"$f":"IF(B417=\"\",\"\",IF(VLOOKUP(B417,'Oman Results'!C417:AI1410,31)=\"x\",'Oman Results'!AK417,\"\"))","v":""},null,null,"","","",""]
["",{"$f":"IF('Oman Results'!C418=\"\",\"\",'Oman Results'!C418)","v":""},{"$f":"IF(OR('Oman Results'!D418=\"\",'Oman Results'!D418=\"Totals\"),\"\",'Oman Results'!D418)","v":""},"",{"$f":"IF('Oman Results'!E418=\"\",\"\",'Oman Results'!E418)","v":""},{"$f":"IF('Oman Results'!F418=\"\",\"\",'Oman Results'!F418)","v":""},{"$f":"IF(B418=\"\",\"\",IF(VLOOKUP(B418,'Oman Results'!C418:AI1411,31)=\"x\",'Oman Results'!AK418,'Oman Results'!G418))","v":""},"",{"$f":"IF(B418=\"\",\"\",IF(VLOOKUP(B418,'Oman Results'!C418:AI1411,31)=\"x\",\"Yes\",\"\"))","v":""},{"$f":"IF(B418=\"\",\"\",IF(VLOOKUP(B418,'Oman Results'!C418:AI1411,31)=\"x\",'Oman Results'!G418,\"\"))","v":""},{"$f":"IF(B418=\"\",\"\",IF(VLOOKUP(B418,'Oman Results'!C418:AI1411,31)=\"x\",'Oman Results'!AJ418,\"\"))","v":""},{"$f":"IF(B418=\"\",\"\",IF(VLOOKUP(B418,'Oman Results'!C418:AI1411,31)=\"x\",'Oman Results'!AK418,\"\"))","v":""},null,null,"","","",""]
["",{"$f":"IF('Oman Results'!C419=\"\",\"\",'Oman Results'!C419)","v":""},{"$f":"IF(OR('Oman Results'!D419=\"\",'Oman Results'!D419=\"Totals\"),\"\",'Oman Results'!D419)","v":""},"",{"$f":"IF('Oman Results'!E419=\"\",\"\",'Oman Results'!E419)","v":""},{"$f":"IF('Oman Results'!F419=\"\",\"\",'Oman Results'!F419)","v":""},{"$f":"IF(B419=\"\",\"\",IF(VLOOKUP(B419,'Oman Results'!C419:AI1412,31)=\"x\",'Oman Results'!AK419,'Oman Results'!G419))","v":""},"",{"$f":"IF(B419=\"\",\"\",IF(VLOOKUP(B419,'Oman Results'!C419:AI1412,31)=\"x\",\"Yes\",\"\"))","v":""},{"$f":"IF(B419=\"\",\"\",IF(VLOOKUP(B419,'Oman Results'!C419:AI1412,31)=\"x\",'Oman Results'!G419,\"\"))","v":""},{"$f":"IF(B419=\"\",\"\",IF(VLOOKUP(B419,'Oman Results'!C419:AI1412,31)=\"x\",'Oman Results'!AJ419,\"\"))","v":""},{"$f":"IF(B419=\"\",\"\",IF(VLOOKUP(B419,'Oman Results'!C419:AI1412,31)=\"x\",'Oman Results'!AK419,\"\"))","v":""},null,null,"","","",""]
["",{"$f":"IF('Oman Results'!C420=\"\",\"\",'Oman Results'!C420)","v":""},{"$f":"IF(OR('Oman Results'!D420=\"\",'Oman Results'!D420=\"Totals\"),\"\",'Oman Results'!D420)","v":""},"",{"$f":"IF('Oman Results'!E420=\"\",\"\",'Oman Results'!E420)","v":""},{"$f":"IF('Oman Results'!F420=\"\",\"\",'Oman Results'!F420)","v":""},{"$f":"IF(B420=\"\",\"\",IF(VLOOKUP(B420,'Oman Results'!C420:AI1413,31)=\"x\",'Oman Results'!AK420,'Oman Results'!G420))","v":""},"",{"$f":"IF(B420=\"\",\"\",IF(VLOOKUP(B420,'Oman Results'!C420:AI1413,31)=\"x\",\"Yes\",\"\"))","v":""},{"$f":"IF(B420=\"\",\"\",IF(VLOOKUP(B420,'Oman Results'!C420:AI1413,31)=\"x\",'Oman Results'!G420,\"\"))","v":""},{"$f":"IF(B420=\"\",\"\",IF(VLOOKUP(B420,'Oman Results'!C420:AI1413,31)=\"x\",'Oman Results'!AJ420,\"\"))","v":""},{"$f":"IF(B420=\"\",\"\",IF(VLOOKUP(B420,'Oman Results'!C420:AI1413,31)=\"x\",'Oman Results'!AK420,\"\"))","v":""},null,null,"","","",""]
["",{"$f":"IF('Oman Results'!C421=\"\",\"\",'Oman Results'!C421)","v":""},{"$f":"IF(OR('Oman Results'!D421=\"\",'Oman Results'!D421=\"Totals\"),\"\",'Oman Results'!D421)","v":""},"",{"$f":"IF('Oman Results'!E421=\"\",\"\",'Oman Results'!E421)","v":""},{"$f":"IF('Oman Results'!F421=\"\",\"\",'Oman Results'!F421)","v":""},{"$f":"IF(B421=\"\",\"\",IF(VLOOKUP(B421,'Oman Results'!C421:AI1414,31)=\"x\",'Oman Results'!AK421,'Oman Results'!G421))","v":""},"",{"$f":"IF(B421=\"\",\"\",IF(VLOOKUP(B421,'Oman Results'!C421:AI1414,31)=\"x\",\"Yes\",\"\"))","v":""},{"$f":"IF(B421=\"\",\"\",IF(VLOOKUP(B421,'Oman Results'!C421:AI1414,31)=\"x\",'Oman Results'!G421,\"\"))","v":""},{"$f":"IF(B421=\"\",\"\",IF(VLOOKUP(B421,'Oman Results'!C421:AI1414,31)=\"x\",'Oman Results'!AJ421,\"\"))","v":""},{"$f":"IF(B421=\"\",\"\",IF(VLOOKUP(B421,'Oman Results'!C421:AI1414,31)=\"x\",'Oman Results'!AK421,\"\"))","v":""},null,null,"","","",""]
["",{"$f":"IF('Oman Results'!C422=\"\",\"\",'Oman Results'!C422)","v":""},{"$f":"IF(OR('Oman Results'!D422=\"\",'Oman Results'!D422=\"Totals\"),\"\",'Oman Results'!D422)","v":""},"",{"$f":"IF('Oman Results'!E422=\"\",\"\",'Oman Results'!E422)","v":""},{"$f":"IF('Oman Results'!F422=\"\",\"\",'Oman Results'!F422)","v":""},{"$f":"IF(B422=\"\",\"\",IF(VLOOKUP(B422,'Oman Results'!C422:AI1415,31)=\"x\",'Oman Results'!AK422,'Oman Results'!G422))","v":""},"",{"$f":"IF(B422=\"\",\"\",IF(VLOOKUP(B422,'Oman Results'!C422:AI1415,31)=\"x\",\"Yes\",\"\"))","v":""},{"$f":"IF(B422=\"\",\"\",IF(VLOOKUP(B422,'Oman Results'!C422:AI1415,31)=\"x\",'Oman Results'!G422,\"\"))","v":""},{"$f":"IF(B422=\"\",\"\",IF(VLOOKUP(B422,'Oman Results'!C422:AI1415,31)=\"x\",'Oman Results'!AJ422,\"\"))","v":""},{"$f":"IF(B422=\"\",\"\",IF(VLOOKUP(B422,'Oman Results'!C422:AI1415,31)=\"x\",'Oman Results'!AK422,\"\"))","v":""},null,null,"","","",""]
["",{"$f":"IF('Oman Results'!C423=\"\",\"\",'Oman Results'!C423)","v":""},{"$f":"IF(OR('Oman Results'!D423=\"\",'Oman Results'!D423=\"Totals\"),\"\",'Oman Results'!D423)","v":""},"",{"$f":"IF('Oman Results'!E423=\"\",\"\",'Oman Results'!E423)","v":""},{"$f":"IF('Oman Results'!F423=\"\",\"\",'Oman Results'!F423)","v":""},{"$f":"IF(B423=\"\",\"\",IF(VLOOKUP(B423,'Oman Results'!C423:AI1416,31)=\"x\",'Oman Results'!AK423,'Oman Results'!G423))","v":""},"",{"$f":"IF(B423=\"\",\"\",IF(VLOOKUP(B423,'Oman Results'!C423:AI1416,31)=\"x\",\"Yes\",\"\"))","v":""},{"$f":"IF(B423=\"\",\"\",IF(VLOOKUP(B423,'Oman Results'!C423:AI1416,31)=\"x\",'Oman Results'!G423,\"\"))","v":""},{"$f":"IF(B423=\"\",\"\",IF(VLOOKUP(B423,'Oman Results'!C423:AI1416,31)=\"x\",'Oman Results'!AJ423,\"\"))","v":""},{"$f":"IF(B423=\"\",\"\",IF(VLOOKUP(B423,'Oman Results'!C423:AI1416,31)=\"x\",'Oman Results'!AK423,\"\"))","v":""},null,null,"","","",""]
["",{"$f":"IF('Oman Results'!C424=\"\",\"\",'Oman Results'!C424)","v":""},{"$f":"IF(OR('Oman Results'!D424=\"\",'Oman Results'!D424=\"Totals\"),\"\",'Oman Results'!D424)","v":""},"",{"$f":"IF('Oman Results'!E424=\"\",\"\",'Oman Results'!E424)","v":""},{"$f":"IF('Oman Results'!F424=\"\",\"\",'Oman Results'!F424)","v":""},{"$f":"IF(B424=\"\",\"\",IF(VLOOKUP(B424,'Oman Results'!C424:AI1417,31)=\"x\",'Oman Results'!AK424,'Oman Results'!G424))","v":""},"",{"$f":"IF(B424=\"\",\"\",IF(VLOOKUP(B424,'Oman Results'!C424:AI1417,31)=\"x\",\"Yes\",\"\"))","v":""},{"$f":"IF(B424=\"\",\"\",IF(VLOOKUP(B424,'Oman Results'!C424:AI1417,31)=\"x\",'Oman Results'!G424,\"\"))","v":""},{"$f":"IF(B424=\"\",\"\",IF(VLOOKUP(B424,'Oman Results'!C424:AI1417,31)=\"x\",'Oman Results'!AJ424,\"\"))","v":""},{"$f":"IF(B424=\"\",\"\",IF(VLOOKUP(B424,'Oman Results'!C424:AI1417,31)=\"x\",'Oman Results'!AK424,\"\"))","v":""},null,null,"","","",""]
["",{"$f":"IF('Oman Results'!C425=\"\",\"\",'Oman Results'!C425)","v":""},{"$f":"IF(OR('Oman Results'!D425=\"\",'Oman Results'!D425=\"Totals\"),\"\",'Oman Results'!D425)","v":""},"",{"$f":"IF('Oman Results'!E425=\"\",\"\",'Oman Results'!E425)","v":""},{"$f":"IF('Oman Results'!F425=\"\",\"\",'Oman Results'!F425)","v":""},{"$f":"IF(B425=\"\",\"\",IF(VLOOKUP(B425,'Oman Results'!C425:AI1418,31)=\"x\",'Oman Results'!AK425,'Oman Results'!G425))","v":""},"",{"$f":"IF(B425=\"\",\"\",IF(VLOOKUP(B425,'Oman Results'!C425:AI1418,31)=\"x\",\"Yes\",\"\"))","v":""},{"$f":"IF(B425=\"\",\"\",IF(VLOOKUP(B425,'Oman Results'!C425:AI1418,31)=\"x\",'Oman Results'!G425,\"\"))","v":""},{"$f":"IF(B425=\"\",\"\",IF(VLOOKUP(B425,'Oman Results'!C425:AI1418,31)=\"x\",'Oman Results'!AJ425,\"\"))","v":""},{"$f":"IF(B425=\"\",\"\",IF(VLOOKUP(B425,'Oman Results'!C425:AI1418,31)=\"x\",'Oman Results'!AK425,\"\"))","v":""},null,null,"","","",""]
["",{"$f":"IF('Oman Results'!C426=\"\",\"\",'Oman Results'!C426)","v":""},{"$f":"IF(OR('Oman Results'!D426=\"\",'Oman Results'!D426=\"Totals\"),\"\",'Oman Results'!D426)","v":""},"",{"$f":"IF('Oman Results'!E426=\"\",\"\",'Oman Results'!E426)","v":""},{"$f":"IF('Oman Results'!F426=\"\",\"\",'Oman Results'!F426)","v":""},{"$f":"IF(B426=\"\",\"\",IF(VLOOKUP(B426,'Oman Results'!C426:AI1419,31)=\"x\",'Oman Results'!AK426,'Oman Results'!G426))","v":""},"",{"$f":"IF(B426=\"\",\"\",IF(VLOOKUP(B426,'Oman Results'!C426:AI1419,31)=\"x\",\"Yes\",\"\"))","v":""},{"$f":"IF(B426=\"\",\"\",IF(VLOOKUP(B426,'Oman Results'!C426:AI1419,31)=\"x\",'Oman Results'!G426,\"\"))","v":""},{"$f":"IF(B426=\"\",\"\",IF(VLOOKUP(B426,'Oman Results'!C426:AI1419,31)=\"x\",'Oman Results'!AJ426,\"\"))","v":""},{"$f":"IF(B426=\"\",\"\",IF(VLOOKUP(B426,'Oman Results'!C426:AI1419,31)=\"x\",'Oman Results'!AK426,\"\"))","v":""},null,null,"","","",""]
["",{"$f":"IF('Oman Results'!C427=\"\",\"\",'Oman Results'!C427)","v":""},{"$f":"IF(OR('Oman Results'!D427=\"\",'Oman Results'!D427=\"Totals\"),\"\",'Oman Results'!D427)","v":""},"",{"$f":"IF('Oman Results'!E427=\"\",\"\",'Oman Results'!E427)","v":""},{"$f":"IF('Oman Results'!F427=\"\",\"\",'Oman Results'!F427)","v":""},{"$f":"IF(B427=\"\",\"\",IF(VLOOKUP(B427,'Oman Results'!C427:AI1420,31)=\"x\",'Oman Results'!AK427,'Oman Results'!G427))","v":""},"",{"$f":"IF(B427=\"\",\"\",IF(VLOOKUP(B427,'Oman Results'!C427:AI1420,31)=\"x\",\"Yes\",\"\"))","v":""},{"$f":"IF(B427=\"\",\"\",IF(VLOOKUP(B427,'Oman Results'!C427:AI1420,31)=\"x\",'Oman Results'!G427,\"\"))","v":""},{"$f":"IF(B427=\"\",\"\",IF(VLOOKUP(B427,'Oman Results'!C427:AI1420,31)=\"x\",'Oman Results'!AJ427,\"\"))","v":""},{"$f":"IF(B427=\"\",\"\",IF(VLOOKUP(B427,'Oman Results'!C427:AI1420,31)=\"x\",'Oman Results'!AK427,\"\"))","v":""},null,null,"","","",""]
["",{"$f":"IF('Oman Results'!C428=\"\",\"\",'Oman Results'!C428)","v":""},{"$f":"IF(OR('Oman Results'!D428=\"\",'Oman Results'!D428=\"Totals\"),\"\",'Oman Results'!D428)","v":""},"",{"$f":"IF('Oman Results'!E428=\"\",\"\",'Oman Results'!E428)","v":""},{"$f":"IF('Oman Results'!F428=\"\",\"\",'Oman Results'!F428)","v":""},{"$f":"IF(B428=\"\",\"\",IF(VLOOKUP(B428,'Oman Results'!C428:AI1421,31)=\"x\",'Oman Results'!AK428,'Oman Results'!G428))","v":""},"",{"$f":"IF(B428=\"\",\"\",IF(VLOOKUP(B428,'Oman Results'!C428:AI1421,31)=\"x\",\"Yes\",\"\"))","v":""},{"$f":"IF(B428=\"\",\"\",IF(VLOOKUP(B428,'Oman Results'!C428:AI1421,31)=\"x\",'Oman Results'!G428,\"\"))","v":""},{"$f":"IF(B428=\"\",\"\",IF(VLOOKUP(B428,'Oman Results'!C428:AI1421,31)=\"x\",'Oman Results'!AJ428,\"\"))","v":""},{"$f":"IF(B428=\"\",\"\",IF(VLOOKUP(B428,'Oman Results'!C428:AI1421,31)=\"x\",'Oman Results'!AK428,\"\"))","v":""},null,null,"","","",""]
["",{"$f":"IF('Oman Results'!C429=\"\",\"\",'Oman Results'!C429)","v":""},{"$f":"IF(OR('Oman Results'!D429=\"\",'Oman Results'!D429=\"Totals\"),\"\",'Oman Results'!D429)","v":""},"",{"$f":"IF('Oman Results'!E429=\"\",\"\",'Oman Results'!E429)","v":""},{"$f":"IF('Oman Results'!F429=\"\",\"\",'Oman Results'!F429)","v":""},{"$f":"IF(B429=\"\",\"\",IF(VLOOKUP(B429,'Oman Results'!C429:AI1422,31)=\"x\",'Oman Results'!AK429,'Oman Results'!G429))","v":""},"",{"$f":"IF(B429=\"\",\"\",IF(VLOOKUP(B429,'Oman Results'!C429:AI1422,31)=\"x\",\"Yes\",\"\"))","v":""},{"$f":"IF(B429=\"\",\"\",IF(VLOOKUP(B429,'Oman Results'!C429:AI1422,31)=\"x\",'Oman Results'!G429,\"\"))","v":""},{"$f":"IF(B429=\"\",\"\",IF(VLOOKUP(B429,'Oman Results'!C429:AI1422,31)=\"x\",'Oman Results'!AJ429,\"\"))","v":""},{"$f":"IF(B429=\"\",\"\",IF(VLOOKUP(B429,'Oman Results'!C429:AI1422,31)=\"x\",'Oman Results'!AK429,\"\"))","v":""},null,null,"","","",""]
["",{"$f":"IF('Oman Results'!C430=\"\",\"\",'Oman Results'!C430)","v":""},{"$f":"IF(OR('Oman Results'!D430=\"\",'Oman Results'!D430=\"Totals\"),\"\",'Oman Results'!D430)","v":""},"",{"$f":"IF('Oman Results'!E430=\"\",\"\",'Oman Results'!E430)","v":""},{"$f":"IF('Oman Results'!F430=\"\",\"\",'Oman Results'!F430)","v":""},{"$f":"IF(B430=\"\",\"\",IF(VLOOKUP(B430,'Oman Results'!C430:AI1423,31)=\"x\",'Oman Results'!AK430,'Oman Results'!G430))","v":""},"",{"$f":"IF(B430=\"\",\"\",IF(VLOOKUP(B430,'Oman Results'!C430:AI1423,31)=\"x\",\"Yes\",\"\"))","v":""},{"$f":"IF(B430=\"\",\"\",IF(VLOOKUP(B430,'Oman Results'!C430:AI1423,31)=\"x\",'Oman Results'!G430,\"\"))","v":""},{"$f":"IF(B430=\"\",\"\",IF(VLOOKUP(B430,'Oman Results'!C430:AI1423,31)=\"x\",'Oman Results'!AJ430,\"\"))","v":""},{"$f":"IF(B430=\"\",\"\",IF(VLOOKUP(B430,'Oman Results'!C430:AI1423,31)=\"x\",'Oman Results'!AK430,\"\"))","v":""},null,null,"","","",""]
["",{"$f":"IF('Oman Results'!C431=\"\",\"\",'Oman Results'!C431)","v":""},{"$f":"IF(OR('Oman Results'!D431=\"\",'Oman Results'!D431=\"Totals\"),\"\",'Oman Results'!D431)","v":""},"",{"$f":"IF('Oman Results'!E431=\"\",\"\",'Oman Results'!E431)","v":""},{"$f":"IF('Oman Results'!F431=\"\",\"\",'Oman Results'!F431)","v":""},{"$f":"IF(B431=\"\",\"\",IF(VLOOKUP(B431,'Oman Results'!C431:AI1424,31)=\"x\",'Oman Results'!AK431,'Oman Results'!G431))","v":""},"",{"$f":"IF(B431=\"\",\"\",IF(VLOOKUP(B431,'Oman Results'!C431:AI1424,31)=\"x\",\"Yes\",\"\"))","v":""},{"$f":"IF(B431=\"\",\"\",IF(VLOOKUP(B431,'Oman Results'!C431:AI1424,31)=\"x\",'Oman Results'!G431,\"\"))","v":""},{"$f":"IF(B431=\"\",\"\",IF(VLOOKUP(B431,'Oman Results'!C431:AI1424,31)=\"x\",'Oman Results'!AJ431,\"\"))","v":""},{"$f":"IF(B431=\"\",\"\",IF(VLOOKUP(B431,'Oman Results'!C431:AI1424,31)=\"x\",'Oman Results'!AK431,\"\"))","v":""},null,null,"","","",""]
["",{"$f":"IF('Oman Results'!C432=\"\",\"\",'Oman Results'!C432)","v":""},{"$f":"IF(OR('Oman Results'!D432=\"\",'Oman Results'!D432=\"Totals\"),\"\",'Oman Results'!D432)","v":""},"",{"$f":"IF('Oman Results'!E432=\"\",\"\",'Oman Results'!E432)","v":""},{"$f":"IF('Oman Results'!F432=\"\",\"\",'Oman Results'!F432)","v":""},{"$f":"IF(B432=\"\",\"\",IF(VLOOKUP(B432,'Oman Results'!C432:AI1425,31)=\"x\",'Oman Results'!AK432,'Oman Results'!G432))","v":""},"",{"$f":"IF(B432=\"\",\"\",IF(VLOOKUP(B432,'Oman Results'!C432:AI1425,31)=\"x\",\"Yes\",\"\"))","v":""},{"$f":"IF(B432=\"\",\"\",IF(VLOOKUP(B432,'Oman Results'!C432:AI1425,31)=\"x\",'Oman Results'!G432,\"\"))","v":""},{"$f":"IF(B432=\"\",\"\",IF(VLOOKUP(B432,'Oman Results'!C432:AI1425,31)=\"x\",'Oman Results'!AJ432,\"\"))","v":""},{"$f":"IF(B432=\"\",\"\",IF(VLOOKUP(B432,'Oman Results'!C432:AI1425,31)=\"x\",'Oman Results'!AK432,\"\"))","v":""},null,null,"","","",""]
["",{"$f":"IF('Oman Results'!C433=\"\",\"\",'Oman Results'!C433)","v":""},{"$f":"IF(OR('Oman Results'!D433=\"\",'Oman Results'!D433=\"Totals\"),\"\",'Oman Results'!D433)","v":""},"",{"$f":"IF('Oman Results'!E433=\"\",\"\",'Oman Results'!E433)","v":""},{"$f":"IF('Oman Results'!F433=\"\",\"\",'Oman Results'!F433)","v":""},{"$f":"IF(B433=\"\",\"\",IF(VLOOKUP(B433,'Oman Results'!C433:AI1426,31)=\"x\",'Oman Results'!AK433,'Oman Results'!G433))","v":""},"",{"$f":"IF(B433=\"\",\"\",IF(VLOOKUP(B433,'Oman Results'!C433:AI1426,31)=\"x\",\"Yes\",\"\"))","v":""},{"$f":"IF(B433=\"\",\"\",IF(VLOOKUP(B433,'Oman Results'!C433:AI1426,31)=\"x\",'Oman Results'!G433,\"\"))","v":""},{"$f":"IF(B433=\"\",\"\",IF(VLOOKUP(B433,'Oman Results'!C433:AI1426,31)=\"x\",'Oman Results'!AJ433,\"\"))","v":""},{"$f":"IF(B433=\"\",\"\",IF(VLOOKUP(B433,'Oman Results'!C433:AI1426,31)=\"x\",'Oman Results'!AK433,\"\"))","v":""},null,null,"","","",""]
["",{"$f":"IF('Oman Results'!C434=\"\",\"\",'Oman Results'!C434)","v":""},{"$f":"IF(OR('Oman Results'!D434=\"\",'Oman Results'!D434=\"Totals\"),\"\",'Oman Results'!D434)","v":""},"",{"$f":"IF('Oman Results'!E434=\"\",\"\",'Oman Results'!E434)","v":""},{"$f":"IF('Oman Results'!F434=\"\",\"\",'Oman Results'!F434)","v":""},{"$f":"IF(B434=\"\",\"\",IF(VLOOKUP(B434,'Oman Results'!C434:AI1427,31)=\"x\",'Oman Results'!AK434,'Oman Results'!G434))","v":""},"",{"$f":"IF(B434=\"\",\"\",IF(VLOOKUP(B434,'Oman Results'!C434:AI1427,31)=\"x\",\"Yes\",\"\"))","v":""},{"$f":"IF(B434=\"\",\"\",IF(VLOOKUP(B434,'Oman Results'!C434:AI1427,31)=\"x\",'Oman Results'!G434,\"\"))","v":""},{"$f":"IF(B434=\"\",\"\",IF(VLOOKUP(B434,'Oman Results'!C434:AI1427,31)=\"x\",'Oman Results'!AJ434,\"\"))","v":""},{"$f":"IF(B434=\"\",\"\",IF(VLOOKUP(B434,'Oman Results'!C434:AI1427,31)=\"x\",'Oman Results'!AK434,\"\"))","v":""},null,null,"","","",""]
["",{"$f":"IF('Oman Results'!C435=\"\",\"\",'Oman Results'!C435)","v":""},{"$f":"IF(OR('Oman Results'!D435=\"\",'Oman Results'!D435=\"Totals\"),\"\",'Oman Results'!D435)","v":""},"",{"$f":"IF('Oman Results'!E435=\"\",\"\",'Oman Results'!E435)","v":""},{"$f":"IF('Oman Results'!F435=\"\",\"\",'Oman Results'!F435)","v":""},{"$f":"IF(B435=\"\",\"\",IF(VLOOKUP(B435,'Oman Results'!C435:AI1428,31)=\"x\",'Oman Results'!AK435,'Oman Results'!G435))","v":""},"",{"$f":"IF(B435=\"\",\"\",IF(VLOOKUP(B435,'Oman Results'!C435:AI1428,31)=\"x\",\"Yes\",\"\"))","v":""},{"$f":"IF(B435=\"\",\"\",IF(VLOOKUP(B435,'Oman Results'!C435:AI1428,31)=\"x\",'Oman Results'!G435,\"\"))","v":""},{"$f":"IF(B435=\"\",\"\",IF(VLOOKUP(B435,'Oman Results'!C435:AI1428,31)=\"x\",'Oman Results'!AJ435,\"\"))","v":""},{"$f":"IF(B435=\"\",\"\",IF(VLOOKUP(B435,'Oman Results'!C435:AI1428,31)=\"x\",'Oman Results'!AK435,\"\"))","v":""},null,null,"","","",""]
["",{"$f":"IF('Oman Results'!C436=\"\",\"\",'Oman Results'!C436)","v":""},{"$f":"IF(OR('Oman Results'!D436=\"\",'Oman Results'!D436=\"Totals\"),\"\",'Oman Results'!D436)","v":""},"",{"$f":"IF('Oman Results'!E436=\"\",\"\",'Oman Results'!E436)","v":""},{"$f":"IF('Oman Results'!F436=\"\",\"\",'Oman Results'!F436)","v":""},{"$f":"IF(B436=\"\",\"\",IF(VLOOKUP(B436,'Oman Results'!C436:AI1429,31)=\"x\",'Oman Results'!AK436,'Oman Results'!G436))","v":""},"",{"$f":"IF(B436=\"\",\"\",IF(VLOOKUP(B436,'Oman Results'!C436:AI1429,31)=\"x\",\"Yes\",\"\"))","v":""},{"$f":"IF(B436=\"\",\"\",IF(VLOOKUP(B436,'Oman Results'!C436:AI1429,31)=\"x\",'Oman Results'!G436,\"\"))","v":""},{"$f":"IF(B436=\"\",\"\",IF(VLOOKUP(B436,'Oman Results'!C436:AI1429,31)=\"x\",'Oman Results'!AJ436,\"\"))","v":""},{"$f":"IF(B436=\"\",\"\",IF(VLOOKUP(B436,'Oman Results'!C436:AI1429,31)=\"x\",'Oman Results'!AK436,\"\"))","v":""},null,null,"","","",""]
["",{"$f":"IF('Oman Results'!C437=\"\",\"\",'Oman Results'!C437)","v":""},{"$f":"IF(OR('Oman Results'!D437=\"\",'Oman Results'!D437=\"Totals\"),\"\",'Oman Results'!D437)","v":""},"",{"$f":"IF('Oman Results'!E437=\"\",\"\",'Oman Results'!E437)","v":""},{"$f":"IF('Oman Results'!F437=\"\",\"\",'Oman Results'!F437)","v":""},{"$f":"IF(B437=\"\",\"\",IF(VLOOKUP(B437,'Oman Results'!C437:AI1430,31)=\"x\",'Oman Results'!AK437,'Oman Results'!G437))","v":""},"",{"$f":"IF(B437=\"\",\"\",IF(VLOOKUP(B437,'Oman Results'!C437:AI1430,31)=\"x\",\"Yes\",\"\"))","v":""},{"$f":"IF(B437=\"\",\"\",IF(VLOOKUP(B437,'Oman Results'!C437:AI1430,31)=\"x\",'Oman Results'!G437,\"\"))","v":""},{"$f":"IF(B437=\"\",\"\",IF(VLOOKUP(B437,'Oman Results'!C437:AI1430,31)=\"x\",'Oman Results'!AJ437,\"\"))","v":""},{"$f":"IF(B437=\"\",\"\",IF(VLOOKUP(B437,'Oman Results'!C437:AI1430,31)=\"x\",'Oman Results'!AK437,\"\"))","v":""},null,null,"","","",""]
["",{"$f":"IF('Oman Results'!C438=\"\",\"\",'Oman Results'!C438)","v":""},{"$f":"IF(OR('Oman Results'!D438=\"\",'Oman Results'!D438=\"Totals\"),\"\",'Oman Results'!D438)","v":""},"",{"$f":"IF('Oman Results'!E438=\"\",\"\",'Oman Results'!E438)","v":""},{"$f":"IF('Oman Results'!F438=\"\",\"\",'Oman Results'!F438)","v":""},{"$f":"IF(B438=\"\",\"\",IF(VLOOKUP(B438,'Oman Results'!C438:AI1431,31)=\"x\",'Oman Results'!AK438,'Oman Results'!G438))","v":""},"",{"$f":"IF(B438=\"\",\"\",IF(VLOOKUP(B438,'Oman Results'!C438:AI1431,31)=\"x\",\"Yes\",\"\"))","v":""},{"$f":"IF(B438=\"\",\"\",IF(VLOOKUP(B438,'Oman Results'!C438:AI1431,31)=\"x\",'Oman Results'!G438,\"\"))","v":""},{"$f":"IF(B438=\"\",\"\",IF(VLOOKUP(B438,'Oman Results'!C438:AI1431,31)=\"x\",'Oman Results'!AJ438,\"\"))","v":""},{"$f":"IF(B438=\"\",\"\",IF(VLOOKUP(B438,'Oman Results'!C438:AI1431,31)=\"x\",'Oman Results'!AK438,\"\"))","v":""},null,null,"","","",""]
["",{"$f":"IF('Oman Results'!C439=\"\",\"\",'Oman Results'!C439)","v":""},{"$f":"IF(OR('Oman Results'!D439=\"\",'Oman Results'!D439=\"Totals\"),\"\",'Oman Results'!D439)","v":""},"",{"$f":"IF('Oman Results'!E439=\"\",\"\",'Oman Results'!E439)","v":""},{"$f":"IF('Oman Results'!F439=\"\",\"\",'Oman Results'!F439)","v":""},{"$f":"IF(B439=\"\",\"\",IF(VLOOKUP(B439,'Oman Results'!C439:AI1432,31)=\"x\",'Oman Results'!AK439,'Oman Results'!G439))","v":""},"",{"$f":"IF(B439=\"\",\"\",IF(VLOOKUP(B439,'Oman Results'!C439:AI1432,31)=\"x\",\"Yes\",\"\"))","v":""},{"$f":"IF(B439=\"\",\"\",IF(VLOOKUP(B439,'Oman Results'!C439:AI1432,31)=\"x\",'Oman Results'!G439,\"\"))","v":""},{"$f":"IF(B439=\"\",\"\",IF(VLOOKUP(B439,'Oman Results'!C439:AI1432,31)=\"x\",'Oman Results'!AJ439,\"\"))","v":""},{"$f":"IF(B439=\"\",\"\",IF(VLOOKUP(B439,'Oman Results'!C439:AI1432,31)=\"x\",'Oman Results'!AK439,\"\"))","v":""},null,null,"","","",""]
["",{"$f":"IF('Oman Results'!C440=\"\",\"\",'Oman Results'!C440)","v":""},{"$f":"IF(OR('Oman Results'!D440=\"\",'Oman Results'!D440=\"Totals\"),\"\",'Oman Results'!D440)","v":""},"",{"$f":"IF('Oman Results'!E440=\"\",\"\",'Oman Results'!E440)","v":""},{"$f":"IF('Oman Results'!F440=\"\",\"\",'Oman Results'!F440)","v":""},{"$f":"IF(B440=\"\",\"\",IF(VLOOKUP(B440,'Oman Results'!C440:AI1433,31)=\"x\",'Oman Results'!AK440,'Oman Results'!G440))","v":""},"",{"$f":"IF(B440=\"\",\"\",IF(VLOOKUP(B440,'Oman Results'!C440:AI1433,31)=\"x\",\"Yes\",\"\"))","v":""},{"$f":"IF(B440=\"\",\"\",IF(VLOOKUP(B440,'Oman Results'!C440:AI1433,31)=\"x\",'Oman Results'!G440,\"\"))","v":""},{"$f":"IF(B440=\"\",\"\",IF(VLOOKUP(B440,'Oman Results'!C440:AI1433,31)=\"x\",'Oman Results'!AJ440,\"\"))","v":""},{"$f":"IF(B440=\"\",\"\",IF(VLOOKUP(B440,'Oman Results'!C440:AI1433,31)=\"x\",'Oman Results'!AK440,\"\"))","v":""},null,null,"","","",""]
["",{"$f":"IF('Oman Results'!C441=\"\",\"\",'Oman Results'!C441)","v":""},{"$f":"IF(OR('Oman Results'!D441=\"\",'Oman Results'!D441=\"Totals\"),\"\",'Oman Results'!D441)","v":""},"",{"$f":"IF('Oman Results'!E441=\"\",\"\",'Oman Results'!E441)","v":""},{"$f":"IF('Oman Results'!F441=\"\",\"\",'Oman Results'!F441)","v":""},{"$f":"IF(B441=\"\",\"\",IF(VLOOKUP(B441,'Oman Results'!C441:AI1434,31)=\"x\",'Oman Results'!AK441,'Oman Results'!G441))","v":""},"",{"$f":"IF(B441=\"\",\"\",IF(VLOOKUP(B441,'Oman Results'!C441:AI1434,31)=\"x\",\"Yes\",\"\"))","v":""},{"$f":"IF(B441=\"\",\"\",IF(VLOOKUP(B441,'Oman Results'!C441:AI1434,31)=\"x\",'Oman Results'!G441,\"\"))","v":""},{"$f":"IF(B441=\"\",\"\",IF(VLOOKUP(B441,'Oman Results'!C441:AI1434,31)=\"x\",'Oman Results'!AJ441,\"\"))","v":""},{"$f":"IF(B441=\"\",\"\",IF(VLOOKUP(B441,'Oman Results'!C441:AI1434,31)=\"x\",'Oman Results'!AK441,\"\"))","v":""},null,null,"","","",""]
["",{"$f":"IF('Oman Results'!C442=\"\",\"\",'Oman Results'!C442)","v":""},{"$f":"IF(OR('Oman Results'!D442=\"\",'Oman Results'!D442=\"Totals\"),\"\",'Oman Results'!D442)","v":""},"",{"$f":"IF('Oman Results'!E442=\"\",\"\",'Oman Results'!E442)","v":""},{"$f":"IF('Oman Results'!F442=\"\",\"\",'Oman Results'!F442)","v":""},{"$f":"IF(B442=\"\",\"\",IF(VLOOKUP(B442,'Oman Results'!C442:AI1435,31)=\"x\",'Oman Results'!AK442,'Oman Results'!G442))","v":""},"",{"$f":"IF(B442=\"\",\"\",IF(VLOOKUP(B442,'Oman Results'!C442:AI1435,31)=\"x\",\"Yes\",\"\"))","v":""},{"$f":"IF(B442=\"\",\"\",IF(VLOOKUP(B442,'Oman Results'!C442:AI1435,31)=\"x\",'Oman Results'!G442,\"\"))","v":""},{"$f":"IF(B442=\"\",\"\",IF(VLOOKUP(B442,'Oman Results'!C442:AI1435,31)=\"x\",'Oman Results'!AJ442,\"\"))","v":""},{"$f":"IF(B442=\"\",\"\",IF(VLOOKUP(B442,'Oman Results'!C442:AI1435,31)=\"x\",'Oman Results'!AK442,\"\"))","v":""},null,null,"","","",""]
["",{"$f":"IF('Oman Results'!C443=\"\",\"\",'Oman Results'!C443)","v":""},{"$f":"IF(OR('Oman Results'!D443=\"\",'Oman Results'!D443=\"Totals\"),\"\",'Oman Results'!D443)","v":""},"",{"$f":"IF('Oman Results'!E443=\"\",\"\",'Oman Results'!E443)","v":""},{"$f":"IF('Oman Results'!F443=\"\",\"\",'Oman Results'!F443)","v":""},{"$f":"IF(B443=\"\",\"\",IF(VLOOKUP(B443,'Oman Results'!C443:AI1436,31)=\"x\",'Oman Results'!AK443,'Oman Results'!G443))","v":""},"",{"$f":"IF(B443=\"\",\"\",IF(VLOOKUP(B443,'Oman Results'!C443:AI1436,31)=\"x\",\"Yes\",\"\"))","v":""},{"$f":"IF(B443=\"\",\"\",IF(VLOOKUP(B443,'Oman Results'!C443:AI1436,31)=\"x\",'Oman Results'!G443,\"\"))","v":""},{"$f":"IF(B443=\"\",\"\",IF(VLOOKUP(B443,'Oman Results'!C443:AI1436,31)=\"x\",'Oman Results'!AJ443,\"\"))","v":""},{"$f":"IF(B443=\"\",\"\",IF(VLOOKUP(B443,'Oman Results'!C443:AI1436,31)=\"x\",'Oman Results'!AK443,\"\"))","v":""},null,null,"","","",""]
["",{"$f":"IF('Oman Results'!C444=\"\",\"\",'Oman Results'!C444)","v":""},{"$f":"IF(OR('Oman Results'!D444=\"\",'Oman Results'!D444=\"Totals\"),\"\",'Oman Results'!D444)","v":""},"",{"$f":"IF('Oman Results'!E444=\"\",\"\",'Oman Results'!E444)","v":""},{"$f":"IF('Oman Results'!F444=\"\",\"\",'Oman Results'!F444)","v":""},{"$f":"IF(B444=\"\",\"\",IF(VLOOKUP(B444,'Oman Results'!C444:AI1437,31)=\"x\",'Oman Results'!AK444,'Oman Results'!G444))","v":""},"",{"$f":"IF(B444=\"\",\"\",IF(VLOOKUP(B444,'Oman Results'!C444:AI1437,31)=\"x\",\"Yes\",\"\"))","v":""},{"$f":"IF(B444=\"\",\"\",IF(VLOOKUP(B444,'Oman Results'!C444:AI1437,31)=\"x\",'Oman Results'!G444,\"\"))","v":""},{"$f":"IF(B444=\"\",\"\",IF(VLOOKUP(B444,'Oman Results'!C444:AI1437,31)=\"x\",'Oman Results'!AJ444,\"\"))","v":""},{"$f":"IF(B444=\"\",\"\",IF(VLOOKUP(B444,'Oman Results'!C444:AI1437,31)=\"x\",'Oman Results'!AK444,\"\"))","v":""},null,null,"","","",""]
["",{"$f":"IF('Oman Results'!C445=\"\",\"\",'Oman Results'!C445)","v":""},{"$f":"IF(OR('Oman Results'!D445=\"\",'Oman Results'!D445=\"Totals\"),\"\",'Oman Results'!D445)","v":""},"",{"$f":"IF('Oman Results'!E445=\"\",\"\",'Oman Results'!E445)","v":""},{"$f":"IF('Oman Results'!F445=\"\",\"\",'Oman Results'!F445)","v":""},{"$f":"IF(B445=\"\",\"\",IF(VLOOKUP(B445,'Oman Results'!C445:AI1438,31)=\"x\",'Oman Results'!AK445,'Oman Results'!G445))","v":""},"",{"$f":"IF(B445=\"\",\"\",IF(VLOOKUP(B445,'Oman Results'!C445:AI1438,31)=\"x\",\"Yes\",\"\"))","v":""},{"$f":"IF(B445=\"\",\"\",IF(VLOOKUP(B445,'Oman Results'!C445:AI1438,31)=\"x\",'Oman Results'!G445,\"\"))","v":""},{"$f":"IF(B445=\"\",\"\",IF(VLOOKUP(B445,'Oman Results'!C445:AI1438,31)=\"x\",'Oman Results'!AJ445,\"\"))","v":""},{"$f":"IF(B445=\"\",\"\",IF(VLOOKUP(B445,'Oman Results'!C445:AI1438,31)=\"x\",'Oman Results'!AK445,\"\"))","v":""},null,null,"","","",""]
["",{"$f":"IF('Oman Results'!C446=\"\",\"\",'Oman Results'!C446)","v":""},{"$f":"IF(OR('Oman Results'!D446=\"\",'Oman Results'!D446=\"Totals\"),\"\",'Oman Results'!D446)","v":""},"",{"$f":"IF('Oman Results'!E446=\"\",\"\",'Oman Results'!E446)","v":""},{"$f":"IF('Oman Results'!F446=\"\",\"\",'Oman Results'!F446)","v":""},{"$f":"IF(B446=\"\",\"\",IF(VLOOKUP(B446,'Oman Results'!C446:AI1439,31)=\"x\",'Oman Results'!AK446,'Oman Results'!G446))","v":""},"",{"$f":"IF(B446=\"\",\"\",IF(VLOOKUP(B446,'Oman Results'!C446:AI1439,31)=\"x\",\"Yes\",\"\"))","v":""},{"$f":"IF(B446=\"\",\"\",IF(VLOOKUP(B446,'Oman Results'!C446:AI1439,31)=\"x\",'Oman Results'!G446,\"\"))","v":""},{"$f":"IF(B446=\"\",\"\",IF(VLOOKUP(B446,'Oman Results'!C446:AI1439,31)=\"x\",'Oman Results'!AJ446,\"\"))","v":""},{"$f":"IF(B446=\"\",\"\",IF(VLOOKUP(B446,'Oman Results'!C446:AI1439,31)=\"x\",'Oman Results'!AK446,\"\"))","v":""},null,null,"","","",""]
["",{"$f":"IF('Oman Results'!C447=\"\",\"\",'Oman Results'!C447)","v":""},{"$f":"IF(OR('Oman Results'!D447=\"\",'Oman Results'!D447=\"Totals\"),\"\",'Oman Results'!D447)","v":""},"",{"$f":"IF('Oman Results'!E447=\"\",\"\",'Oman Results'!E447)","v":""},{"$f":"IF('Oman Results'!F447=\"\",\"\",'Oman Results'!F447)","v":""},{"$f":"IF(B447=\"\",\"\",IF(VLOOKUP(B447,'Oman Results'!C447:AI1440,31)=\"x\",'Oman Results'!AK447,'Oman Results'!G447))","v":""},"",{"$f":"IF(B447=\"\",\"\",IF(VLOOKUP(B447,'Oman Results'!C447:AI1440,31)=\"x\",\"Yes\",\"\"))","v":""},{"$f":"IF(B447=\"\",\"\",IF(VLOOKUP(B447,'Oman Results'!C447:AI1440,31)=\"x\",'Oman Results'!G447,\"\"))","v":""},{"$f":"IF(B447=\"\",\"\",IF(VLOOKUP(B447,'Oman Results'!C447:AI1440,31)=\"x\",'Oman Results'!AJ447,\"\"))","v":""},{"$f":"IF(B447=\"\",\"\",IF(VLOOKUP(B447,'Oman Results'!C447:AI1440,31)=\"x\",'Oman Results'!AK447,\"\"))","v":""},null,null,"","","",""]
["",{"$f":"IF('Oman Results'!C448=\"\",\"\",'Oman Results'!C448)","v":""},{"$f":"IF(OR('Oman Results'!D448=\"\",'Oman Results'!D448=\"Totals\"),\"\",'Oman Results'!D448)","v":""},"",{"$f":"IF('Oman Results'!E448=\"\",\"\",'Oman Results'!E448)","v":""},{"$f":"IF('Oman Results'!F448=\"\",\"\",'Oman Results'!F448)","v":""},{"$f":"IF(B448=\"\",\"\",IF(VLOOKUP(B448,'Oman Results'!C448:AI1441,31)=\"x\",'Oman Results'!AK448,'Oman Results'!G448))","v":""},"",{"$f":"IF(B448=\"\",\"\",IF(VLOOKUP(B448,'Oman Results'!C448:AI1441,31)=\"x\",\"Yes\",\"\"))","v":""},{"$f":"IF(B448=\"\",\"\",IF(VLOOKUP(B448,'Oman Results'!C448:AI1441,31)=\"x\",'Oman Results'!G448,\"\"))","v":""},{"$f":"IF(B448=\"\",\"\",IF(VLOOKUP(B448,'Oman Results'!C448:AI1441,31)=\"x\",'Oman Results'!AJ448,\"\"))","v":""},{"$f":"IF(B448=\"\",\"\",IF(VLOOKUP(B448,'Oman Results'!C448:AI1441,31)=\"x\",'Oman Results'!AK448,\"\"))","v":""},null,null,"","","",""]
["",{"$f":"IF('Oman Results'!C449=\"\",\"\",'Oman Results'!C449)","v":""},{"$f":"IF(OR('Oman Results'!D449=\"\",'Oman Results'!D449=\"Totals\"),\"\",'Oman Results'!D449)","v":""},"",{"$f":"IF('Oman Results'!E449=\"\",\"\",'Oman Results'!E449)","v":""},{"$f":"IF('Oman Results'!F449=\"\",\"\",'Oman Results'!F449)","v":""},{"$f":"IF(B449=\"\",\"\",IF(VLOOKUP(B449,'Oman Results'!C449:AI1442,31)=\"x\",'Oman Results'!AK449,'Oman Results'!G449))","v":""},"",{"$f":"IF(B449=\"\",\"\",IF(VLOOKUP(B449,'Oman Results'!C449:AI1442,31)=\"x\",\"Yes\",\"\"))","v":""},{"$f":"IF(B449=\"\",\"\",IF(VLOOKUP(B449,'Oman Results'!C449:AI1442,31)=\"x\",'Oman Results'!G449,\"\"))","v":""},{"$f":"IF(B449=\"\",\"\",IF(VLOOKUP(B449,'Oman Results'!C449:AI1442,31)=\"x\",'Oman Results'!AJ449,\"\"))","v":""},{"$f":"IF(B449=\"\",\"\",IF(VLOOKUP(B449,'Oman Results'!C449:AI1442,31)=\"x\",'Oman Results'!AK449,\"\"))","v":""},null,null,"","","",""]
["",{"$f":"IF('Oman Results'!C450=\"\",\"\",'Oman Results'!C450)","v":""},{"$f":"IF(OR('Oman Results'!D450=\"\",'Oman Results'!D450=\"Totals\"),\"\",'Oman Results'!D450)","v":""},"",{"$f":"IF('Oman Results'!E450=\"\",\"\",'Oman Results'!E450)","v":""},{"$f":"IF('Oman Results'!F450=\"\",\"\",'Oman Results'!F450)","v":""},{"$f":"IF(B450=\"\",\"\",IF(VLOOKUP(B450,'Oman Results'!C450:AI1443,31)=\"x\",'Oman Results'!AK450,'Oman Results'!G450))","v":""},"",{"$f":"IF(B450=\"\",\"\",IF(VLOOKUP(B450,'Oman Results'!C450:AI1443,31)=\"x\",\"Yes\",\"\"))","v":""},{"$f":"IF(B450=\"\",\"\",IF(VLOOKUP(B450,'Oman Results'!C450:AI1443,31)=\"x\",'Oman Results'!G450,\"\"))","v":""},{"$f":"IF(B450=\"\",\"\",IF(VLOOKUP(B450,'Oman Results'!C450:AI1443,31)=\"x\",'Oman Results'!AJ450,\"\"))","v":""},{"$f":"IF(B450=\"\",\"\",IF(VLOOKUP(B450,'Oman Results'!C450:AI1443,31)=\"x\",'Oman Results'!AK450,\"\"))","v":""},null,null,"",{"$f":"IF(O450=1,G450,\"\")","v":""},"",{"$f":"IF(O450=1,\"\",H450)","v":""}]
["",{"$f":"IF('Oman Results'!C451=\"\",\"\",'Oman Results'!C451)","v":""},{"$f":"IF(OR('Oman Results'!D451=\"\",'Oman Results'!D451=\"Totals\"),\"\",'Oman Results'!D451)","v":""},{"$f":"IF(ISNUMBER(SEARCH(\"{\",C451)),\"Yes\", \"\")","v":""},{"$f":"IF('Oman Results'!E451=\"\",\"\",'Oman Results'!E451)","v":""},{"$f":"IF('Oman Results'!F451=\"\",\"\",'Oman Results'!F451)","v":""},{"$f":"IF(B451=\"\",\"\",IF(VLOOKUP(B451,'Oman Results'!C451:AI1444,31)=\"x\",'Oman Results'!AK451,'Oman Results'!G451))","v":""},{"$f":"IF(E451=\"\",\"\",E451*G451)","v":""},{"$f":"IF(B451=\"\",\"\",IF(VLOOKUP(B451,'Oman Results'!C451:AI1444,31)=\"x\",\"Yes\",\"\"))","v":""},{"$f":"IF(B451=\"\",\"\",IF(VLOOKUP(B451,'Oman Results'!C451:AI1444,31)=\"x\",'Oman Results'!G451,\"\"))","v":""},{"$f":"IF(B451=\"\",\"\",IF(VLOOKUP(B451,'Oman Results'!C451:AI1444,31)=\"x\",'Oman Results'!AJ451,\"\"))","v":""},{"$f":"IF(B451=\"\",\"\",IF(VLOOKUP(B451,'Oman Results'!C451:AI1444,31)=\"x\",'Oman Results'!AK451,\"\"))","v":""},null,null,{"$f":"IF(OR(LEFT(F451,3)=\"L.S\",LEFT(F451,2)=\"LS\"),1,\"\")","v":""},"",{"$f":"IF(I451=\"Yes\",G451,\"\")","v":""},""]
[{"$f":"IF(B452=\"\",\"\",1+A451)","v":""},{"$f":"IF('Oman Results'!C452=\"\",\"\",'Oman Results'!C452)","v":""},{"$f":"IF(OR('Oman Results'!D452=\"\",'Oman Results'!D452=\"Totals\"),\"\",'Oman Results'!D452)","v":""},"",{"$f":"IF('Oman Results'!E452=\"\",\"\",'Oman Results'!E452)","v":""},{"$f":"IF('Oman Results'!F452=\"\",\"\",'Oman Results'!F452)","v":""},{"$f":"IF(B452=\"\",\"\",IF(VLOOKUP(B452,'Oman Results'!C452:AI1445,31)=\"x\",'Oman Results'!AK452,'Oman Results'!G452))","v":""},"",{"$f":"IF(B452=\"\",\"\",IF(VLOOKUP(B452,'Oman Results'!C452:AI1445,31)=\"x\",\"Yes\",\"\"))","v":""},{"$f":"IF(B452=\"\",\"\",IF(VLOOKUP(B452,'Oman Results'!C452:AI1445,31)=\"x\",'Oman Results'!G452,\"\"))","v":""},{"$f":"IF(B452=\"\",\"\",IF(VLOOKUP(B452,'Oman Results'!C452:AI1445,31)=\"x\",'Oman Results'!AJ452,\"\"))","v":""},{"$f":"IF(B452=\"\",\"\",IF(VLOOKUP(B452,'Oman Results'!C452:AI1445,31)=\"x\",'Oman Results'!AK452,\"\"))","v":""},null,null,"","","",""]
["",{"$f":"IF('Oman Results'!C453=\"\",\"\",'Oman Results'!C453)","v":""},{"$f":"IF(OR('Oman Results'!D453=\"\",'Oman Results'!D453=\"Totals\"),\"\",'Oman Results'!D453)","v":""},"",{"$f":"IF('Oman Results'!E453=\"\",\"\",'Oman Results'!E453)","v":""},{"$f":"IF('Oman Results'!F453=\"\",\"\",'Oman Results'!F453)","v":""},{"$f":"IF(B453=\"\",\"\",IF(VLOOKUP(B453,'Oman Results'!C453:AI1446,31)=\"x\",'Oman Results'!AK453,'Oman Results'!G453))","v":""},"",{"$f":"IF(B453=\"\",\"\",IF(VLOOKUP(B453,'Oman Results'!C453:AI1446,31)=\"x\",\"Yes\",\"\"))","v":""},{"$f":"IF(B453=\"\",\"\",IF(VLOOKUP(B453,'Oman Results'!C453:AI1446,31)=\"x\",'Oman Results'!G453,\"\"))","v":""},{"$f":"IF(B453=\"\",\"\",IF(VLOOKUP(B453,'Oman Results'!C453:AI1446,31)=\"x\",'Oman Results'!AJ453,\"\"))","v":""},{"$f":"IF(B453=\"\",\"\",IF(VLOOKUP(B453,'Oman Results'!C453:AI1446,31)=\"x\",'Oman Results'!AK453,\"\"))","v":""},null,null,"","","",""]
["",{"$f":"IF('Oman Results'!C454=\"\",\"\",'Oman Results'!C454)","v":""},{"$f":"IF(OR('Oman Results'!D454=\"\",'Oman Results'!D454=\"Totals\"),\"\",'Oman Results'!D454)","v":""},"",{"$f":"IF('Oman Results'!E454=\"\",\"\",'Oman Results'!E454)","v":""},{"$f":"IF('Oman Results'!F454=\"\",\"\",'Oman Results'!F454)","v":""},{"$f":"IF(B454=\"\",\"\",IF(VLOOKUP(B454,'Oman Results'!C454:AI1447,31)=\"x\",'Oman Results'!AK454,'Oman Results'!G454))","v":""},"",{"$f":"IF(B454=\"\",\"\",IF(VLOOKUP(B454,'Oman Results'!C454:AI1447,31)=\"x\",\"Yes\",\"\"))","v":""},{"$f":"IF(B454=\"\",\"\",IF(VLOOKUP(B454,'Oman Results'!C454:AI1447,31)=\"x\",'Oman Results'!G454,\"\"))","v":""},{"$f":"IF(B454=\"\",\"\",IF(VLOOKUP(B454,'Oman Results'!C454:AI1447,31)=\"x\",'Oman Results'!AJ454,\"\"))","v":""},{"$f":"IF(B454=\"\",\"\",IF(VLOOKUP(B454,'Oman Results'!C454:AI1447,31)=\"x\",'Oman Results'!AK454,\"\"))","v":""},null,null,"","","",""]
["",{"$f":"IF('Oman Results'!C455=\"\",\"\",'Oman Results'!C455)","v":""},{"$f":"IF(OR('Oman Results'!D455=\"\",'Oman Results'!D455=\"Totals\"),\"\",'Oman Results'!D455)","v":""},"",{"$f":"IF('Oman Results'!E455=\"\",\"\",'Oman Results'!E455)","v":""},{"$f":"IF('Oman Results'!F455=\"\",\"\",'Oman Results'!F455)","v":""},{"$f":"IF(B455=\"\",\"\",IF(VLOOKUP(B455,'Oman Results'!C455:AI1448,31)=\"x\",'Oman Results'!AK455,'Oman Results'!G455))","v":""},"",{"$f":"IF(B455=\"\",\"\",IF(VLOOKUP(B455,'Oman Results'!C455:AI1448,31)=\"x\",\"Yes\",\"\"))","v":""},{"$f":"IF(B455=\"\",\"\",IF(VLOOKUP(B455,'Oman Results'!C455:AI1448,31)=\"x\",'Oman Results'!G455,\"\"))","v":""},{"$f":"IF(B455=\"\",\"\",IF(VLOOKUP(B455,'Oman Results'!C455:AI1448,31)=\"x\",'Oman Results'!AJ455,\"\"))","v":""},{"$f":"IF(B455=\"\",\"\",IF(VLOOKUP(B455,'Oman Results'!C455:AI1448,31)=\"x\",'Oman Results'!AK455,\"\"))","v":""},null,null,"","","",""]
["",{"$f":"IF('Oman Results'!C456=\"\",\"\",'Oman Results'!C456)","v":""},{"$f":"IF(OR('Oman Results'!D456=\"\",'Oman Results'!D456=\"Totals\"),\"\",'Oman Results'!D456)","v":""},"",{"$f":"IF('Oman Results'!E456=\"\",\"\",'Oman Results'!E456)","v":""},{"$f":"IF('Oman Results'!F456=\"\",\"\",'Oman Results'!F456)","v":""},{"$f":"IF(B456=\"\",\"\",IF(VLOOKUP(B456,'Oman Results'!C456:AI1449,31)=\"x\",'Oman Results'!AK456,'Oman Results'!G456))","v":""},"",{"$f":"IF(B456=\"\",\"\",IF(VLOOKUP(B456,'Oman Results'!C456:AI1449,31)=\"x\",\"Yes\",\"\"))","v":""},{"$f":"IF(B456=\"\",\"\",IF(VLOOKUP(B456,'Oman Results'!C456:AI1449,31)=\"x\",'Oman Results'!G456,\"\"))","v":""},{"$f":"IF(B456=\"\",\"\",IF(VLOOKUP(B456,'Oman Results'!C456:AI1449,31)=\"x\",'Oman Results'!AJ456,\"\"))","v":""},{"$f":"IF(B456=\"\",\"\",IF(VLOOKUP(B456,'Oman Results'!C456:AI1449,31)=\"x\",'Oman Results'!AK456,\"\"))","v":""},null,null,"","","",""]
["",{"$f":"IF('Oman Results'!C457=\"\",\"\",'Oman Results'!C457)","v":""},{"$f":"IF(OR('Oman Results'!D457=\"\",'Oman Results'!D457=\"Totals\"),\"\",'Oman Results'!D457)","v":""},"",{"$f":"IF('Oman Results'!E457=\"\",\"\",'Oman Results'!E457)","v":""},{"$f":"IF('Oman Results'!F457=\"\",\"\",'Oman Results'!F457)","v":""},{"$f":"IF(B457=\"\",\"\",IF(VLOOKUP(B457,'Oman Results'!C457:AI1450,31)=\"x\",'Oman Results'!AK457,'Oman Results'!G457))","v":""},"",{"$f":"IF(B457=\"\",\"\",IF(VLOOKUP(B457,'Oman Results'!C457:AI1450,31)=\"x\",\"Yes\",\"\"))","v":""},{"$f":"IF(B457=\"\",\"\",IF(VLOOKUP(B457,'Oman Results'!C457:AI1450,31)=\"x\",'Oman Results'!G457,\"\"))","v":""},{"$f":"IF(B457=\"\",\"\",IF(VLOOKUP(B457,'Oman Results'!C457:AI1450,31)=\"x\",'Oman Results'!AJ457,\"\"))","v":""},{"$f":"IF(B457=\"\",\"\",IF(VLOOKUP(B457,'Oman Results'!C457:AI1450,31)=\"x\",'Oman Results'!AK457,\"\"))","v":""},null,null,"","","",""]
["",{"$f":"IF('Oman Results'!C458=\"\",\"\",'Oman Results'!C458)","v":""},{"$f":"IF(OR('Oman Results'!D458=\"\",'Oman Results'!D458=\"Totals\"),\"\",'Oman Results'!D458)","v":""},"",{"$f":"IF('Oman Results'!E458=\"\",\"\",'Oman Results'!E458)","v":""},{"$f":"IF('Oman Results'!F458=\"\",\"\",'Oman Results'!F458)","v":""},{"$f":"IF(B458=\"\",\"\",IF(VLOOKUP(B458,'Oman Results'!C458:AI1451,31)=\"x\",'Oman Results'!AK458,'Oman Results'!G458))","v":""},"",{"$f":"IF(B458=\"\",\"\",IF(VLOOKUP(B458,'Oman Results'!C458:AI1451,31)=\"x\",\"Yes\",\"\"))","v":""},{"$f":"IF(B458=\"\",\"\",IF(VLOOKUP(B458,'Oman Results'!C458:AI1451,31)=\"x\",'Oman Results'!G458,\"\"))","v":""},{"$f":"IF(B458=\"\",\"\",IF(VLOOKUP(B458,'Oman Results'!C458:AI1451,31)=\"x\",'Oman Results'!AJ458,\"\"))","v":""},{"$f":"IF(B458=\"\",\"\",IF(VLOOKUP(B458,'Oman Results'!C458:AI1451,31)=\"x\",'Oman Results'!AK458,\"\"))","v":""},null,null,"","","",""]
["",{"$f":"IF('Oman Results'!C459=\"\",\"\",'Oman Results'!C459)","v":""},{"$f":"IF(OR('Oman Results'!D459=\"\",'Oman Results'!D459=\"Totals\"),\"\",'Oman Results'!D459)","v":""},"",{"$f":"IF('Oman Results'!E459=\"\",\"\",'Oman Results'!E459)","v":""},{"$f":"IF('Oman Results'!F459=\"\",\"\",'Oman Results'!F459)","v":""},{"$f":"IF(B459=\"\",\"\",IF(VLOOKUP(B459,'Oman Results'!C459:AI1452,31)=\"x\",'Oman Results'!AK459,'Oman Results'!G459))","v":""},"",{"$f":"IF(B459=\"\",\"\",IF(VLOOKUP(B459,'Oman Results'!C459:AI1452,31)=\"x\",\"Yes\",\"\"))","v":""},{"$f":"IF(B459=\"\",\"\",IF(VLOOKUP(B459,'Oman Results'!C459:AI1452,31)=\"x\",'Oman Results'!G459,\"\"))","v":""},{"$f":"IF(B459=\"\",\"\",IF(VLOOKUP(B459,'Oman Results'!C459:AI1452,31)=\"x\",'Oman Results'!AJ459,\"\"))","v":""},{"$f":"IF(B459=\"\",\"\",IF(VLOOKUP(B459,'Oman Results'!C459:AI1452,31)=\"x\",'Oman Results'!AK459,\"\"))","v":""},null,null,"","","",""]
["",{"$f":"IF('Oman Results'!C460=\"\",\"\",'Oman Results'!C460)","v":""},{"$f":"IF(OR('Oman Results'!D460=\"\",'Oman Results'!D460=\"Totals\"),\"\",'Oman Results'!D460)","v":""},"",{"$f":"IF('Oman Results'!E460=\"\",\"\",'Oman Results'!E460)","v":""},{"$f":"IF('Oman Results'!F460=\"\",\"\",'Oman Results'!F460)","v":""},{"$f":"IF(B460=\"\",\"\",IF(VLOOKUP(B460,'Oman Results'!C460:AI1453,31)=\"x\",'Oman Results'!AK460,'Oman Results'!G460))","v":""},"",{"$f":"IF(B460=\"\",\"\",IF(VLOOKUP(B460,'Oman Results'!C460:AI1453,31)=\"x\",\"Yes\",\"\"))","v":""},{"$f":"IF(B460=\"\",\"\",IF(VLOOKUP(B460,'Oman Results'!C460:AI1453,31)=\"x\",'Oman Results'!G460,\"\"))","v":""},{"$f":"IF(B460=\"\",\"\",IF(VLOOKUP(B460,'Oman Results'!C460:AI1453,31)=\"x\",'Oman Results'!AJ460,\"\"))","v":""},{"$f":"IF(B460=\"\",\"\",IF(VLOOKUP(B460,'Oman Results'!C460:AI1453,31)=\"x\",'Oman Results'!AK460,\"\"))","v":""},null,null,"","","",""]
["",{"$f":"IF('Oman Results'!C461=\"\",\"\",'Oman Results'!C461)","v":""},{"$f":"IF(OR('Oman Results'!D461=\"\",'Oman Results'!D461=\"Totals\"),\"\",'Oman Results'!D461)","v":""},"",{"$f":"IF('Oman Results'!E461=\"\",\"\",'Oman Results'!E461)","v":""},{"$f":"IF('Oman Results'!F461=\"\",\"\",'Oman Results'!F461)","v":""},{"$f":"IF(B461=\"\",\"\",IF(VLOOKUP(B461,'Oman Results'!C461:AI1454,31)=\"x\",'Oman Results'!AK461,'Oman Results'!G461))","v":""},"",{"$f":"IF(B461=\"\",\"\",IF(VLOOKUP(B461,'Oman Results'!C461:AI1454,31)=\"x\",\"Yes\",\"\"))","v":""},{"$f":"IF(B461=\"\",\"\",IF(VLOOKUP(B461,'Oman Results'!C461:AI1454,31)=\"x\",'Oman Results'!G461,\"\"))","v":""},{"$f":"IF(B461=\"\",\"\",IF(VLOOKUP(B461,'Oman Results'!C461:AI1454,31)=\"x\",'Oman Results'!AJ461,\"\"))","v":""},{"$f":"IF(B461=\"\",\"\",IF(VLOOKUP(B461,'Oman Results'!C461:AI1454,31)=\"x\",'Oman Results'!AK461,\"\"))","v":""},null,null,"","","",""]
["",{"$f":"IF('Oman Results'!C462=\"\",\"\",'Oman Results'!C462)","v":""},{"$f":"IF(OR('Oman Results'!D462=\"\",'Oman Results'!D462=\"Totals\"),\"\",'Oman Results'!D462)","v":""},"",{"$f":"IF('Oman Results'!E462=\"\",\"\",'Oman Results'!E462)","v":""},{"$f":"IF('Oman Results'!F462=\"\",\"\",'Oman Results'!F462)","v":""},{"$f":"IF(B462=\"\",\"\",IF(VLOOKUP(B462,'Oman Results'!C462:AI1455,31)=\"x\",'Oman Results'!AK462,'Oman Results'!G462))","v":""},"",{"$f":"IF(B462=\"\",\"\",IF(VLOOKUP(B462,'Oman Results'!C462:AI1455,31)=\"x\",\"Yes\",\"\"))","v":""},{"$f":"IF(B462=\"\",\"\",IF(VLOOKUP(B462,'Oman Results'!C462:AI1455,31)=\"x\",'Oman Results'!G462,\"\"))","v":""},{"$f":"IF(B462=\"\",\"\",IF(VLOOKUP(B462,'Oman Results'!C462:AI1455,31)=\"x\",'Oman Results'!AJ462,\"\"))","v":""},{"$f":"IF(B462=\"\",\"\",IF(VLOOKUP(B462,'Oman Results'!C462:AI1455,31)=\"x\",'Oman Results'!AK462,\"\"))","v":""},null,null,"","","",""]
["",{"$f":"IF('Oman Results'!C463=\"\",\"\",'Oman Results'!C463)","v":""},{"$f":"IF(OR('Oman Results'!D463=\"\",'Oman Results'!D463=\"Totals\"),\"\",'Oman Results'!D463)","v":""},"",{"$f":"IF('Oman Results'!E463=\"\",\"\",'Oman Results'!E463)","v":""},{"$f":"IF('Oman Results'!F463=\"\",\"\",'Oman Results'!F463)","v":""},{"$f":"IF(B463=\"\",\"\",IF(VLOOKUP(B463,'Oman Results'!C463:AI1456,31)=\"x\",'Oman Results'!AK463,'Oman Results'!G463))","v":""},"",{"$f":"IF(B463=\"\",\"\",IF(VLOOKUP(B463,'Oman Results'!C463:AI1456,31)=\"x\",\"Yes\",\"\"))","v":""},{"$f":"IF(B463=\"\",\"\",IF(VLOOKUP(B463,'Oman Results'!C463:AI1456,31)=\"x\",'Oman Results'!G463,\"\"))","v":""},{"$f":"IF(B463=\"\",\"\",IF(VLOOKUP(B463,'Oman Results'!C463:AI1456,31)=\"x\",'Oman Results'!AJ463,\"\"))","v":""},{"$f":"IF(B463=\"\",\"\",IF(VLOOKUP(B463,'Oman Results'!C463:AI1456,31)=\"x\",'Oman Results'!AK463,\"\"))","v":""},null,null,"","","",""]
["",{"$f":"IF('Oman Results'!C464=\"\",\"\",'Oman Results'!C464)","v":""},{"$f":"IF(OR('Oman Results'!D464=\"\",'Oman Results'!D464=\"Totals\"),\"\",'Oman Results'!D464)","v":""},"",{"$f":"IF('Oman Results'!E464=\"\",\"\",'Oman Results'!E464)","v":""},{"$f":"IF('Oman Results'!F464=\"\",\"\",'Oman Results'!F464)","v":""},{"$f":"IF(B464=\"\",\"\",IF(VLOOKUP(B464,'Oman Results'!C464:AI1457,31)=\"x\",'Oman Results'!AK464,'Oman Results'!G464))","v":""},"",{"$f":"IF(B464=\"\",\"\",IF(VLOOKUP(B464,'Oman Results'!C464:AI1457,31)=\"x\",\"Yes\",\"\"))","v":""},{"$f":"IF(B464=\"\",\"\",IF(VLOOKUP(B464,'Oman Results'!C464:AI1457,31)=\"x\",'Oman Results'!G464,\"\"))","v":""},{"$f":"IF(B464=\"\",\"\",IF(VLOOKUP(B464,'Oman Results'!C464:AI1457,31)=\"x\",'Oman Results'!AJ464,\"\"))","v":""},{"$f":"IF(B464=\"\",\"\",IF(VLOOKUP(B464,'Oman Results'!C464:AI1457,31)=\"x\",'Oman Results'!AK464,\"\"))","v":""},null,null,"","","",""]
["",{"$f":"IF('Oman Results'!C465=\"\",\"\",'Oman Results'!C465)","v":""},{"$f":"IF(OR('Oman Results'!D465=\"\",'Oman Results'!D465=\"Totals\"),\"\",'Oman Results'!D465)","v":""},"",{"$f":"IF('Oman Results'!E465=\"\",\"\",'Oman Results'!E465)","v":""},{"$f":"IF('Oman Results'!F465=\"\",\"\",'Oman Results'!F465)","v":""},{"$f":"IF(B465=\"\",\"\",IF(VLOOKUP(B465,'Oman Results'!C465:AI1458,31)=\"x\",'Oman Results'!AK465,'Oman Results'!G465))","v":""},"",{"$f":"IF(B465=\"\",\"\",IF(VLOOKUP(B465,'Oman Results'!C465:AI1458,31)=\"x\",\"Yes\",\"\"))","v":""},{"$f":"IF(B465=\"\",\"\",IF(VLOOKUP(B465,'Oman Results'!C465:AI1458,31)=\"x\",'Oman Results'!G465,\"\"))","v":""},{"$f":"IF(B465=\"\",\"\",IF(VLOOKUP(B465,'Oman Results'!C465:AI1458,31)=\"x\",'Oman Results'!AJ465,\"\"))","v":""},{"$f":"IF(B465=\"\",\"\",IF(VLOOKUP(B465,'Oman Results'!C465:AI1458,31)=\"x\",'Oman Results'!AK465,\"\"))","v":""},null,null,"","","",""]
["",{"$f":"IF('Oman Results'!C466=\"\",\"\",'Oman Results'!C466)","v":""},{"$f":"IF(OR('Oman Results'!D466=\"\",'Oman Results'!D466=\"Totals\"),\"\",'Oman Results'!D466)","v":""},"",{"$f":"IF('Oman Results'!E466=\"\",\"\",'Oman Results'!E466)","v":""},{"$f":"IF('Oman Results'!F466=\"\",\"\",'Oman Results'!F466)","v":""},{"$f":"IF(B466=\"\",\"\",IF(VLOOKUP(B466,'Oman Results'!C466:AI1459,31)=\"x\",'Oman Results'!AK466,'Oman Results'!G466))","v":""},"",{"$f":"IF(B466=\"\",\"\",IF(VLOOKUP(B466,'Oman Results'!C466:AI1459,31)=\"x\",\"Yes\",\"\"))","v":""},{"$f":"IF(B466=\"\",\"\",IF(VLOOKUP(B466,'Oman Results'!C466:AI1459,31)=\"x\",'Oman Results'!G466,\"\"))","v":""},{"$f":"IF(B466=\"\",\"\",IF(VLOOKUP(B466,'Oman Results'!C466:AI1459,31)=\"x\",'Oman Results'!AJ466,\"\"))","v":""},{"$f":"IF(B466=\"\",\"\",IF(VLOOKUP(B466,'Oman Results'!C466:AI1459,31)=\"x\",'Oman Results'!AK466,\"\"))","v":""},null,null,"","","",""]
["",{"$f":"IF('Oman Results'!C467=\"\",\"\",'Oman Results'!C467)","v":""},{"$f":"IF(OR('Oman Results'!D467=\"\",'Oman Results'!D467=\"Totals\"),\"\",'Oman Results'!D467)","v":""},"",{"$f":"IF('Oman Results'!E467=\"\",\"\",'Oman Results'!E467)","v":""},{"$f":"IF('Oman Results'!F467=\"\",\"\",'Oman Results'!F467)","v":""},{"$f":"IF(B467=\"\",\"\",IF(VLOOKUP(B467,'Oman Results'!C467:AI1460,31)=\"x\",'Oman Results'!AK467,'Oman Results'!G467))","v":""},"",{"$f":"IF(B467=\"\",\"\",IF(VLOOKUP(B467,'Oman Results'!C467:AI1460,31)=\"x\",\"Yes\",\"\"))","v":""},{"$f":"IF(B467=\"\",\"\",IF(VLOOKUP(B467,'Oman Results'!C467:AI1460,31)=\"x\",'Oman Results'!G467,\"\"))","v":""},{"$f":"IF(B467=\"\",\"\",IF(VLOOKUP(B467,'Oman Results'!C467:AI1460,31)=\"x\",'Oman Results'!AJ467,\"\"))","v":""},{"$f":"IF(B467=\"\",\"\",IF(VLOOKUP(B467,'Oman Results'!C467:AI1460,31)=\"x\",'Oman Results'!AK467,\"\"))","v":""},null,null,"","","",""]
["",{"$f":"IF('Oman Results'!C468=\"\",\"\",'Oman Results'!C468)","v":""},{"$f":"IF(OR('Oman Results'!D468=\"\",'Oman Results'!D468=\"Totals\"),\"\",'Oman Results'!D468)","v":""},"",{"$f":"IF('Oman Results'!E468=\"\",\"\",'Oman Results'!E468)","v":""},{"$f":"IF('Oman Results'!F468=\"\",\"\",'Oman Results'!F468)","v":""},{"$f":"IF(B468=\"\",\"\",IF(VLOOKUP(B468,'Oman Results'!C468:AI1461,31)=\"x\",'Oman Results'!AK468,'Oman Results'!G468))","v":""},"",{"$f":"IF(B468=\"\",\"\",IF(VLOOKUP(B468,'Oman Results'!C468:AI1461,31)=\"x\",\"Yes\",\"\"))","v":""},{"$f":"IF(B468=\"\",\"\",IF(VLOOKUP(B468,'Oman Results'!C468:AI1461,31)=\"x\",'Oman Results'!G468,\"\"))","v":""},{"$f":"IF(B468=\"\",\"\",IF(VLOOKUP(B468,'Oman Results'!C468:AI1461,31)=\"x\",'Oman Results'!AJ468,\"\"))","v":""},{"$f":"IF(B468=\"\",\"\",IF(VLOOKUP(B468,'Oman Results'!C468:AI1461,31)=\"x\",'Oman Results'!AK468,\"\"))","v":""},null,null,"","","",""]
["",{"$f":"IF('Oman Results'!C469=\"\",\"\",'Oman Results'!C469)","v":""},{"$f":"IF(OR('Oman Results'!D469=\"\",'Oman Results'!D469=\"Totals\"),\"\",'Oman Results'!D469)","v":""},"",{"$f":"IF('Oman Results'!E469=\"\",\"\",'Oman Results'!E469)","v":""},{"$f":"IF('Oman Results'!F469=\"\",\"\",'Oman Results'!F469)","v":""},{"$f":"IF(B469=\"\",\"\",IF(VLOOKUP(B469,'Oman Results'!C469:AI1462,31)=\"x\",'Oman Results'!AK469,'Oman Results'!G469))","v":""},"",{"$f":"IF(B469=\"\",\"\",IF(VLOOKUP(B469,'Oman Results'!C469:AI1462,31)=\"x\",\"Yes\",\"\"))","v":""},{"$f":"IF(B469=\"\",\"\",IF(VLOOKUP(B469,'Oman Results'!C469:AI1462,31)=\"x\",'Oman Results'!G469,\"\"))","v":""},{"$f":"IF(B469=\"\",\"\",IF(VLOOKUP(B469,'Oman Results'!C469:AI1462,31)=\"x\",'Oman Results'!AJ469,\"\"))","v":""},{"$f":"IF(B469=\"\",\"\",IF(VLOOKUP(B469,'Oman Results'!C469:AI1462,31)=\"x\",'Oman Results'!AK469,\"\"))","v":""},null,null,"","","",""]
["",{"$f":"IF('Oman Results'!C470=\"\",\"\",'Oman Results'!C470)","v":""},{"$f":"IF(OR('Oman Results'!D470=\"\",'Oman Results'!D470=\"Totals\"),\"\",'Oman Results'!D470)","v":""},"",{"$f":"IF('Oman Results'!E470=\"\",\"\",'Oman Results'!E470)","v":""},{"$f":"IF('Oman Results'!F470=\"\",\"\",'Oman Results'!F470)","v":""},{"$f":"IF(B470=\"\",\"\",IF(VLOOKUP(B470,'Oman Results'!C470:AI1463,31)=\"x\",'Oman Results'!AK470,'Oman Results'!G470))","v":""},"",{"$f":"IF(B470=\"\",\"\",IF(VLOOKUP(B470,'Oman Results'!C470:AI1463,31)=\"x\",\"Yes\",\"\"))","v":""},{"$f":"IF(B470=\"\",\"\",IF(VLOOKUP(B470,'Oman Results'!C470:AI1463,31)=\"x\",'Oman Results'!G470,\"\"))","v":""},{"$f":"IF(B470=\"\",\"\",IF(VLOOKUP(B470,'Oman Results'!C470:AI1463,31)=\"x\",'Oman Results'!AJ470,\"\"))","v":""},{"$f":"IF(B470=\"\",\"\",IF(VLOOKUP(B470,'Oman Results'!C470:AI1463,31)=\"x\",'Oman Results'!AK470,\"\"))","v":""},null,null,"","","",""]
["",{"$f":"IF('Oman Results'!C471=\"\",\"\",'Oman Results'!C471)","v":""},{"$f":"IF(OR('Oman Results'!D471=\"\",'Oman Results'!D471=\"Totals\"),\"\",'Oman Results'!D471)","v":""},"",{"$f":"IF('Oman Results'!E471=\"\",\"\",'Oman Results'!E471)","v":""},{"$f":"IF('Oman Results'!F471=\"\",\"\",'Oman Results'!F471)","v":""},{"$f":"IF(B471=\"\",\"\",IF(VLOOKUP(B471,'Oman Results'!C471:AI1464,31)=\"x\",'Oman Results'!AK471,'Oman Results'!G471))","v":""},"",{"$f":"IF(B471=\"\",\"\",IF(VLOOKUP(B471,'Oman Results'!C471:AI1464,31)=\"x\",\"Yes\",\"\"))","v":""},{"$f":"IF(B471=\"\",\"\",IF(VLOOKUP(B471,'Oman Results'!C471:AI1464,31)=\"x\",'Oman Results'!G471,\"\"))","v":""},{"$f":"IF(B471=\"\",\"\",IF(VLOOKUP(B471,'Oman Results'!C471:AI1464,31)=\"x\",'Oman Results'!AJ471,\"\"))","v":""},{"$f":"IF(B471=\"\",\"\",IF(VLOOKUP(B471,'Oman Results'!C471:AI1464,31)=\"x\",'Oman Results'!AK471,\"\"))","v":""},null,null,"","","",""]
["",{"$f":"IF('Oman Results'!C472=\"\",\"\",'Oman Results'!C472)","v":""},{"$f":"IF(OR('Oman Results'!D472=\"\",'Oman Results'!D472=\"Totals\"),\"\",'Oman Results'!D472)","v":""},"",{"$f":"IF('Oman Results'!E472=\"\",\"\",'Oman Results'!E472)","v":""},{"$f":"IF('Oman Results'!F472=\"\",\"\",'Oman Results'!F472)","v":""},{"$f":"IF(B472=\"\",\"\",IF(VLOOKUP(B472,'Oman Results'!C472:AI1465,31)=\"x\",'Oman Results'!AK472,'Oman Results'!G472))","v":""},"",{"$f":"IF(B472=\"\",\"\",IF(VLOOKUP(B472,'Oman Results'!C472:AI1465,31)=\"x\",\"Yes\",\"\"))","v":""},{"$f":"IF(B472=\"\",\"\",IF(VLOOKUP(B472,'Oman Results'!C472:AI1465,31)=\"x\",'Oman Results'!G472,\"\"))","v":""},{"$f":"IF(B472=\"\",\"\",IF(VLOOKUP(B472,'Oman Results'!C472:AI1465,31)=\"x\",'Oman Results'!AJ472,\"\"))","v":""},{"$f":"IF(B472=\"\",\"\",IF(VLOOKUP(B472,'Oman Results'!C472:AI1465,31)=\"x\",'Oman Results'!AK472,\"\"))","v":""},null,null,"","","",""]
["",{"$f":"IF('Oman Results'!C473=\"\",\"\",'Oman Results'!C473)","v":""},{"$f":"IF(OR('Oman Results'!D473=\"\",'Oman Results'!D473=\"Totals\"),\"\",'Oman Results'!D473)","v":""},"",{"$f":"IF('Oman Results'!E473=\"\",\"\",'Oman Results'!E473)","v":""},{"$f":"IF('Oman Results'!F473=\"\",\"\",'Oman Results'!F473)","v":""},{"$f":"IF(B473=\"\",\"\",IF(VLOOKUP(B473,'Oman Results'!C473:AI1466,31)=\"x\",'Oman Results'!AK473,'Oman Results'!G473))","v":""},"",{"$f":"IF(B473=\"\",\"\",IF(VLOOKUP(B473,'Oman Results'!C473:AI1466,31)=\"x\",\"Yes\",\"\"))","v":""},{"$f":"IF(B473=\"\",\"\",IF(VLOOKUP(B473,'Oman Results'!C473:AI1466,31)=\"x\",'Oman Results'!G473,\"\"))","v":""},{"$f":"IF(B473=\"\",\"\",IF(VLOOKUP(B473,'Oman Results'!C473:AI1466,31)=\"x\",'Oman Results'!AJ473,\"\"))","v":""},{"$f":"IF(B473=\"\",\"\",IF(VLOOKUP(B473,'Oman Results'!C473:AI1466,31)=\"x\",'Oman Results'!AK473,\"\"))","v":""},null,null,"","","",""]
["",{"$f":"IF('Oman Results'!C474=\"\",\"\",'Oman Results'!C474)","v":""},{"$f":"IF(OR('Oman Results'!D474=\"\",'Oman Results'!D474=\"Totals\"),\"\",'Oman Results'!D474)","v":""},"",{"$f":"IF('Oman Results'!E474=\"\",\"\",'Oman Results'!E474)","v":""},{"$f":"IF('Oman Results'!F474=\"\",\"\",'Oman Results'!F474)","v":""},{"$f":"IF(B474=\"\",\"\",IF(VLOOKUP(B474,'Oman Results'!C474:AI1467,31)=\"x\",'Oman Results'!AK474,'Oman Results'!G474))","v":""},"",{"$f":"IF(B474=\"\",\"\",IF(VLOOKUP(B474,'Oman Results'!C474:AI1467,31)=\"x\",\"Yes\",\"\"))","v":""},{"$f":"IF(B474=\"\",\"\",IF(VLOOKUP(B474,'Oman Results'!C474:AI1467,31)=\"x\",'Oman Results'!G474,\"\"))","v":""},{"$f":"IF(B474=\"\",\"\",IF(VLOOKUP(B474,'Oman Results'!C474:AI1467,31)=\"x\",'Oman Results'!AJ474,\"\"))","v":""},{"$f":"IF(B474=\"\",\"\",IF(VLOOKUP(B474,'Oman Results'!C474:AI1467,31)=\"x\",'Oman Results'!AK474,\"\"))","v":""},null,null,"","","",""]
["",{"$f":"IF('Oman Results'!C475=\"\",\"\",'Oman Results'!C475)","v":""},{"$f":"IF(OR('Oman Results'!D475=\"\",'Oman Results'!D475=\"Totals\"),\"\",'Oman Results'!D475)","v":""},"",{"$f":"IF('Oman Results'!E475=\"\",\"\",'Oman Results'!E475)","v":""},{"$f":"IF('Oman Results'!F475=\"\",\"\",'Oman Results'!F475)","v":""},{"$f":"IF(B475=\"\",\"\",IF(VLOOKUP(B475,'Oman Results'!C475:AI1468,31)=\"x\",'Oman Results'!AK475,'Oman Results'!G475))","v":""},"",{"$f":"IF(B475=\"\",\"\",IF(VLOOKUP(B475,'Oman Results'!C475:AI1468,31)=\"x\",\"Yes\",\"\"))","v":""},{"$f":"IF(B475=\"\",\"\",IF(VLOOKUP(B475,'Oman Results'!C475:AI1468,31)=\"x\",'Oman Results'!G475,\"\"))","v":""},{"$f":"IF(B475=\"\",\"\",IF(VLOOKUP(B475,'Oman Results'!C475:AI1468,31)=\"x\",'Oman Results'!AJ475,\"\"))","v":""},{"$f":"IF(B475=\"\",\"\",IF(VLOOKUP(B475,'Oman Results'!C475:AI1468,31)=\"x\",'Oman Results'!AK475,\"\"))","v":""},null,null,"","","",""]
["",{"$f":"IF('Oman Results'!C476=\"\",\"\",'Oman Results'!C476)","v":""},{"$f":"IF(OR('Oman Results'!D476=\"\",'Oman Results'!D476=\"Totals\"),\"\",'Oman Results'!D476)","v":""},"",{"$f":"IF('Oman Results'!E476=\"\",\"\",'Oman Results'!E476)","v":""},{"$f":"IF('Oman Results'!F476=\"\",\"\",'Oman Results'!F476)","v":""},{"$f":"IF(B476=\"\",\"\",IF(VLOOKUP(B476,'Oman Results'!C476:AI1469,31)=\"x\",'Oman Results'!AK476,'Oman Results'!G476))","v":""},"",{"$f":"IF(B476=\"\",\"\",IF(VLOOKUP(B476,'Oman Results'!C476:AI1469,31)=\"x\",\"Yes\",\"\"))","v":""},{"$f":"IF(B476=\"\",\"\",IF(VLOOKUP(B476,'Oman Results'!C476:AI1469,31)=\"x\",'Oman Results'!G476,\"\"))","v":""},{"$f":"IF(B476=\"\",\"\",IF(VLOOKUP(B476,'Oman Results'!C476:AI1469,31)=\"x\",'Oman Results'!AJ476,\"\"))","v":""},{"$f":"IF(B476=\"\",\"\",IF(VLOOKUP(B476,'Oman Results'!C476:AI1469,31)=\"x\",'Oman Results'!AK476,\"\"))","v":""},null,null,"","","",""]
["",{"$f":"IF('Oman Results'!C477=\"\",\"\",'Oman Results'!C477)","v":""},{"$f":"IF(OR('Oman Results'!D477=\"\",'Oman Results'!D477=\"Totals\"),\"\",'Oman Results'!D477)","v":""},"",{"$f":"IF('Oman Results'!E477=\"\",\"\",'Oman Results'!E477)","v":""},{"$f":"IF('Oman Results'!F477=\"\",\"\",'Oman Results'!F477)","v":""},{"$f":"IF(B477=\"\",\"\",IF(VLOOKUP(B477,'Oman Results'!C477:AI1470,31)=\"x\",'Oman Results'!AK477,'Oman Results'!G477))","v":""},"",{"$f":"IF(B477=\"\",\"\",IF(VLOOKUP(B477,'Oman Results'!C477:AI1470,31)=\"x\",\"Yes\",\"\"))","v":""},{"$f":"IF(B477=\"\",\"\",IF(VLOOKUP(B477,'Oman Results'!C477:AI1470,31)=\"x\",'Oman Results'!G477,\"\"))","v":""},{"$f":"IF(B477=\"\",\"\",IF(VLOOKUP(B477,'Oman Results'!C477:AI1470,31)=\"x\",'Oman Results'!AJ477,\"\"))","v":""},{"$f":"IF(B477=\"\",\"\",IF(VLOOKUP(B477,'Oman Results'!C477:AI1470,31)=\"x\",'Oman Results'!AK477,\"\"))","v":""},null,null,"","","",""]
["",{"$f":"IF('Oman Results'!C478=\"\",\"\",'Oman Results'!C478)","v":""},{"$f":"IF(OR('Oman Results'!D478=\"\",'Oman Results'!D478=\"Totals\"),\"\",'Oman Results'!D478)","v":""},"",{"$f":"IF('Oman Results'!E478=\"\",\"\",'Oman Results'!E478)","v":""},{"$f":"IF('Oman Results'!F478=\"\",\"\",'Oman Results'!F478)","v":""},{"$f":"IF(B478=\"\",\"\",IF(VLOOKUP(B478,'Oman Results'!C478:AI1471,31)=\"x\",'Oman Results'!AK478,'Oman Results'!G478))","v":""},"",{"$f":"IF(B478=\"\",\"\",IF(VLOOKUP(B478,'Oman Results'!C478:AI1471,31)=\"x\",\"Yes\",\"\"))","v":""},{"$f":"IF(B478=\"\",\"\",IF(VLOOKUP(B478,'Oman Results'!C478:AI1471,31)=\"x\",'Oman Results'!G478,\"\"))","v":""},{"$f":"IF(B478=\"\",\"\",IF(VLOOKUP(B478,'Oman Results'!C478:AI1471,31)=\"x\",'Oman Results'!AJ478,\"\"))","v":""},{"$f":"IF(B478=\"\",\"\",IF(VLOOKUP(B478,'Oman Results'!C478:AI1471,31)=\"x\",'Oman Results'!AK478,\"\"))","v":""},null,null,"","","",""]
["",{"$f":"IF('Oman Results'!C479=\"\",\"\",'Oman Results'!C479)","v":""},{"$f":"IF(OR('Oman Results'!D479=\"\",'Oman Results'!D479=\"Totals\"),\"\",'Oman Results'!D479)","v":""},"",{"$f":"IF('Oman Results'!E479=\"\",\"\",'Oman Results'!E479)","v":""},{"$f":"IF('Oman Results'!F479=\"\",\"\",'Oman Results'!F479)","v":""},{"$f":"IF(B479=\"\",\"\",IF(VLOOKUP(B479,'Oman Results'!C479:AI1472,31)=\"x\",'Oman Results'!AK479,'Oman Results'!G479))","v":""},"",{"$f":"IF(B479=\"\",\"\",IF(VLOOKUP(B479,'Oman Results'!C479:AI1472,31)=\"x\",\"Yes\",\"\"))","v":""},{"$f":"IF(B479=\"\",\"\",IF(VLOOKUP(B479,'Oman Results'!C479:AI1472,31)=\"x\",'Oman Results'!G479,\"\"))","v":""},{"$f":"IF(B479=\"\",\"\",IF(VLOOKUP(B479,'Oman Results'!C479:AI1472,31)=\"x\",'Oman Results'!AJ479,\"\"))","v":""},{"$f":"IF(B479=\"\",\"\",IF(VLOOKUP(B479,'Oman Results'!C479:AI1472,31)=\"x\",'Oman Results'!AK479,\"\"))","v":""},null,null,"","","",""]
["",{"$f":"IF('Oman Results'!C480=\"\",\"\",'Oman Results'!C480)","v":""},{"$f":"IF(OR('Oman Results'!D480=\"\",'Oman Results'!D480=\"Totals\"),\"\",'Oman Results'!D480)","v":""},"",{"$f":"IF('Oman Results'!E480=\"\",\"\",'Oman Results'!E480)","v":""},{"$f":"IF('Oman Results'!F480=\"\",\"\",'Oman Results'!F480)","v":""},{"$f":"IF(B480=\"\",\"\",IF(VLOOKUP(B480,'Oman Results'!C480:AI1473,31)=\"x\",'Oman Results'!AK480,'Oman Results'!G480))","v":""},"",{"$f":"IF(B480=\"\",\"\",IF(VLOOKUP(B480,'Oman Results'!C480:AI1473,31)=\"x\",\"Yes\",\"\"))","v":""},{"$f":"IF(B480=\"\",\"\",IF(VLOOKUP(B480,'Oman Results'!C480:AI1473,31)=\"x\",'Oman Results'!G480,\"\"))","v":""},{"$f":"IF(B480=\"\",\"\",IF(VLOOKUP(B480,'Oman Results'!C480:AI1473,31)=\"x\",'Oman Results'!AJ480,\"\"))","v":""},{"$f":"IF(B480=\"\",\"\",IF(VLOOKUP(B480,'Oman Results'!C480:AI1473,31)=\"x\",'Oman Results'!AK480,\"\"))","v":""},null,null,"","","",""]
["",{"$f":"IF('Oman Results'!C481=\"\",\"\",'Oman Results'!C481)","v":""},{"$f":"IF(OR('Oman Results'!D481=\"\",'Oman Results'!D481=\"Totals\"),\"\",'Oman Results'!D481)","v":""},"",{"$f":"IF('Oman Results'!E481=\"\",\"\",'Oman Results'!E481)","v":""},{"$f":"IF('Oman Results'!F481=\"\",\"\",'Oman Results'!F481)","v":""},{"$f":"IF(B481=\"\",\"\",IF(VLOOKUP(B481,'Oman Results'!C481:AI1474,31)=\"x\",'Oman Results'!AK481,'Oman Results'!G481))","v":""},"",{"$f":"IF(B481=\"\",\"\",IF(VLOOKUP(B481,'Oman Results'!C481:AI1474,31)=\"x\",\"Yes\",\"\"))","v":""},{"$f":"IF(B481=\"\",\"\",IF(VLOOKUP(B481,'Oman Results'!C481:AI1474,31)=\"x\",'Oman Results'!G481,\"\"))","v":""},{"$f":"IF(B481=\"\",\"\",IF(VLOOKUP(B481,'Oman Results'!C481:AI1474,31)=\"x\",'Oman Results'!AJ481,\"\"))","v":""},{"$f":"IF(B481=\"\",\"\",IF(VLOOKUP(B481,'Oman Results'!C481:AI1474,31)=\"x\",'Oman Results'!AK481,\"\"))","v":""},null,null,"","","",""]
["",{"$f":"IF('Oman Results'!C482=\"\",\"\",'Oman Results'!C482)","v":""},{"$f":"IF(OR('Oman Results'!D482=\"\",'Oman Results'!D482=\"Totals\"),\"\",'Oman Results'!D482)","v":""},"",{"$f":"IF('Oman Results'!E482=\"\",\"\",'Oman Results'!E482)","v":""},{"$f":"IF('Oman Results'!F482=\"\",\"\",'Oman Results'!F482)","v":""},{"$f":"IF(B482=\"\",\"\",IF(VLOOKUP(B482,'Oman Results'!C482:AI1475,31)=\"x\",'Oman Results'!AK482,'Oman Results'!G482))","v":""},"",{"$f":"IF(B482=\"\",\"\",IF(VLOOKUP(B482,'Oman Results'!C482:AI1475,31)=\"x\",\"Yes\",\"\"))","v":""},{"$f":"IF(B482=\"\",\"\",IF(VLOOKUP(B482,'Oman Results'!C482:AI1475,31)=\"x\",'Oman Results'!G482,\"\"))","v":""},{"$f":"IF(B482=\"\",\"\",IF(VLOOKUP(B482,'Oman Results'!C482:AI1475,31)=\"x\",'Oman Results'!AJ482,\"\"))","v":""},{"$f":"IF(B482=\"\",\"\",IF(VLOOKUP(B482,'Oman Results'!C482:AI1475,31)=\"x\",'Oman Results'!AK482,\"\"))","v":""},null,null,"","","",""]
["",{"$f":"IF('Oman Results'!C483=\"\",\"\",'Oman Results'!C483)","v":""},{"$f":"IF(OR('Oman Results'!D483=\"\",'Oman Results'!D483=\"Totals\"),\"\",'Oman Results'!D483)","v":""},"",{"$f":"IF('Oman Results'!E483=\"\",\"\",'Oman Results'!E483)","v":""},{"$f":"IF('Oman Results'!F483=\"\",\"\",'Oman Results'!F483)","v":""},{"$f":"IF(B483=\"\",\"\",IF(VLOOKUP(B483,'Oman Results'!C483:AI1476,31)=\"x\",'Oman Results'!AK483,'Oman Results'!G483))","v":""},"",{"$f":"IF(B483=\"\",\"\",IF(VLOOKUP(B483,'Oman Results'!C483:AI1476,31)=\"x\",\"Yes\",\"\"))","v":""},{"$f":"IF(B483=\"\",\"\",IF(VLOOKUP(B483,'Oman Results'!C483:AI1476,31)=\"x\",'Oman Results'!G483,\"\"))","v":""},{"$f":"IF(B483=\"\",\"\",IF(VLOOKUP(B483,'Oman Results'!C483:AI1476,31)=\"x\",'Oman Results'!AJ483,\"\"))","v":""},{"$f":"IF(B483=\"\",\"\",IF(VLOOKUP(B483,'Oman Results'!C483:AI1476,31)=\"x\",'Oman Results'!AK483,\"\"))","v":""},null,null,"","","",""]
["",{"$f":"IF('Oman Results'!C484=\"\",\"\",'Oman Results'!C484)","v":""},{"$f":"IF(OR('Oman Results'!D484=\"\",'Oman Results'!D484=\"Totals\"),\"\",'Oman Results'!D484)","v":""},"",{"$f":"IF('Oman Results'!E484=\"\",\"\",'Oman Results'!E484)","v":""},{"$f":"IF('Oman Results'!F484=\"\",\"\",'Oman Results'!F484)","v":""},{"$f":"IF(B484=\"\",\"\",IF(VLOOKUP(B484,'Oman Results'!C484:AI1477,31)=\"x\",'Oman Results'!AK484,'Oman Results'!G484))","v":""},"",{"$f":"IF(B484=\"\",\"\",IF(VLOOKUP(B484,'Oman Results'!C484:AI1477,31)=\"x\",\"Yes\",\"\"))","v":""},{"$f":"IF(B484=\"\",\"\",IF(VLOOKUP(B484,'Oman Results'!C484:AI1477,31)=\"x\",'Oman Results'!G484,\"\"))","v":""},{"$f":"IF(B484=\"\",\"\",IF(VLOOKUP(B484,'Oman Results'!C484:AI1477,31)=\"x\",'Oman Results'!AJ484,\"\"))","v":""},{"$f":"IF(B484=\"\",\"\",IF(VLOOKUP(B484,'Oman Results'!C484:AI1477,31)=\"x\",'Oman Results'!AK484,\"\"))","v":""},null,null,"","","",""]
["",{"$f":"IF('Oman Results'!C485=\"\",\"\",'Oman Results'!C485)","v":""},{"$f":"IF(OR('Oman Results'!D485=\"\",'Oman Results'!D485=\"Totals\"),\"\",'Oman Results'!D485)","v":""},"",{"$f":"IF('Oman Results'!E485=\"\",\"\",'Oman Results'!E485)","v":""},{"$f":"IF('Oman Results'!F485=\"\",\"\",'Oman Results'!F485)","v":""},{"$f":"IF(B485=\"\",\"\",IF(VLOOKUP(B485,'Oman Results'!C485:AI1478,31)=\"x\",'Oman Results'!AK485,'Oman Results'!G485))","v":""},"",{"$f":"IF(B485=\"\",\"\",IF(VLOOKUP(B485,'Oman Results'!C485:AI1478,31)=\"x\",\"Yes\",\"\"))","v":""},{"$f":"IF(B485=\"\",\"\",IF(VLOOKUP(B485,'Oman Results'!C485:AI1478,31)=\"x\",'Oman Results'!G485,\"\"))","v":""},{"$f":"IF(B485=\"\",\"\",IF(VLOOKUP(B485,'Oman Results'!C485:AI1478,31)=\"x\",'Oman Results'!AJ485,\"\"))","v":""},{"$f":"IF(B485=\"\",\"\",IF(VLOOKUP(B485,'Oman Results'!C485:AI1478,31)=\"x\",'Oman Results'!AK485,\"\"))","v":""},null,null,"","","",""]
["",{"$f":"IF('Oman Results'!C486=\"\",\"\",'Oman Results'!C486)","v":""},{"$f":"IF(OR('Oman Results'!D486=\"\",'Oman Results'!D486=\"Totals\"),\"\",'Oman Results'!D486)","v":""},"",{"$f":"IF('Oman Results'!E486=\"\",\"\",'Oman Results'!E486)","v":""},{"$f":"IF('Oman Results'!F486=\"\",\"\",'Oman Results'!F486)","v":""},{"$f":"IF(B486=\"\",\"\",IF(VLOOKUP(B486,'Oman Results'!C486:AI1479,31)=\"x\",'Oman Results'!AK486,'Oman Results'!G486))","v":""},"",{"$f":"IF(B486=\"\",\"\",IF(VLOOKUP(B486,'Oman Results'!C486:AI1479,31)=\"x\",\"Yes\",\"\"))","v":""},{"$f":"IF(B486=\"\",\"\",IF(VLOOKUP(B486,'Oman Results'!C486:AI1479,31)=\"x\",'Oman Results'!G486,\"\"))","v":""},{"$f":"IF(B486=\"\",\"\",IF(VLOOKUP(B486,'Oman Results'!C486:AI1479,31)=\"x\",'Oman Results'!AJ486,\"\"))","v":""},{"$f":"IF(B486=\"\",\"\",IF(VLOOKUP(B486,'Oman Results'!C486:AI1479,31)=\"x\",'Oman Results'!AK486,\"\"))","v":""},null,null,"","","",""]
["",{"$f":"IF('Oman Results'!C487=\"\",\"\",'Oman Results'!C487)","v":""},{"$f":"IF(OR('Oman Results'!D487=\"\",'Oman Results'!D487=\"Totals\"),\"\",'Oman Results'!D487)","v":""},"",{"$f":"IF('Oman Results'!E487=\"\",\"\",'Oman Results'!E487)","v":""},{"$f":"IF('Oman Results'!F487=\"\",\"\",'Oman Results'!F487)","v":""},{"$f":"IF(B487=\"\",\"\",IF(VLOOKUP(B487,'Oman Results'!C487:AI1480,31)=\"x\",'Oman Results'!AK487,'Oman Results'!G487))","v":""},"",{"$f":"IF(B487=\"\",\"\",IF(VLOOKUP(B487,'Oman Results'!C487:AI1480,31)=\"x\",\"Yes\",\"\"))","v":""},{"$f":"IF(B487=\"\",\"\",IF(VLOOKUP(B487,'Oman Results'!C487:AI1480,31)=\"x\",'Oman Results'!G487,\"\"))","v":""},{"$f":"IF(B487=\"\",\"\",IF(VLOOKUP(B487,'Oman Results'!C487:AI1480,31)=\"x\",'Oman Results'!AJ487,\"\"))","v":""},{"$f":"IF(B487=\"\",\"\",IF(VLOOKUP(B487,'Oman Results'!C487:AI1480,31)=\"x\",'Oman Results'!AK487,\"\"))","v":""},null,null,"","","",""]
["",{"$f":"IF('Oman Results'!C488=\"\",\"\",'Oman Results'!C488)","v":""},{"$f":"IF(OR('Oman Results'!D488=\"\",'Oman Results'!D488=\"Totals\"),\"\",'Oman Results'!D488)","v":""},"",{"$f":"IF('Oman Results'!E488=\"\",\"\",'Oman Results'!E488)","v":""},{"$f":"IF('Oman Results'!F488=\"\",\"\",'Oman Results'!F488)","v":""},{"$f":"IF(B488=\"\",\"\",IF(VLOOKUP(B488,'Oman Results'!C488:AI1481,31)=\"x\",'Oman Results'!AK488,'Oman Results'!G488))","v":""},"",{"$f":"IF(B488=\"\",\"\",IF(VLOOKUP(B488,'Oman Results'!C488:AI1481,31)=\"x\",\"Yes\",\"\"))","v":""},{"$f":"IF(B488=\"\",\"\",IF(VLOOKUP(B488,'Oman Results'!C488:AI1481,31)=\"x\",'Oman Results'!G488,\"\"))","v":""},{"$f":"IF(B488=\"\",\"\",IF(VLOOKUP(B488,'Oman Results'!C488:AI1481,31)=\"x\",'Oman Results'!AJ488,\"\"))","v":""},{"$f":"IF(B488=\"\",\"\",IF(VLOOKUP(B488,'Oman Results'!C488:AI1481,31)=\"x\",'Oman Results'!AK488,\"\"))","v":""},null,null,"","","",""]
["",{"$f":"IF('Oman Results'!C489=\"\",\"\",'Oman Results'!C489)","v":""},{"$f":"IF(OR('Oman Results'!D489=\"\",'Oman Results'!D489=\"Totals\"),\"\",'Oman Results'!D489)","v":""},"",{"$f":"IF('Oman Results'!E489=\"\",\"\",'Oman Results'!E489)","v":""},{"$f":"IF('Oman Results'!F489=\"\",\"\",'Oman Results'!F489)","v":""},{"$f":"IF(B489=\"\",\"\",IF(VLOOKUP(B489,'Oman Results'!C489:AI1482,31)=\"x\",'Oman Results'!AK489,'Oman Results'!G489))","v":""},"",{"$f":"IF(B489=\"\",\"\",IF(VLOOKUP(B489,'Oman Results'!C489:AI1482,31)=\"x\",\"Yes\",\"\"))","v":""},{"$f":"IF(B489=\"\",\"\",IF(VLOOKUP(B489,'Oman Results'!C489:AI1482,31)=\"x\",'Oman Results'!G489,\"\"))","v":""},{"$f":"IF(B489=\"\",\"\",IF(VLOOKUP(B489,'Oman Results'!C489:AI1482,31)=\"x\",'Oman Results'!AJ489,\"\"))","v":""},{"$f":"IF(B489=\"\",\"\",IF(VLOOKUP(B489,'Oman Results'!C489:AI1482,31)=\"x\",'Oman Results'!AK489,\"\"))","v":""},null,null,"","","",""]
["",{"$f":"IF('Oman Results'!C490=\"\",\"\",'Oman Results'!C490)","v":""},{"$f":"IF(OR('Oman Results'!D490=\"\",'Oman Results'!D490=\"Totals\"),\"\",'Oman Results'!D490)","v":""},"",{"$f":"IF('Oman Results'!E490=\"\",\"\",'Oman Results'!E490)","v":""},{"$f":"IF('Oman Results'!F490=\"\",\"\",'Oman Results'!F490)","v":""},{"$f":"IF(B490=\"\",\"\",IF(VLOOKUP(B490,'Oman Results'!C490:AI1483,31)=\"x\",'Oman Results'!AK490,'Oman Results'!G490))","v":""},"",{"$f":"IF(B490=\"\",\"\",IF(VLOOKUP(B490,'Oman Results'!C490:AI1483,31)=\"x\",\"Yes\",\"\"))","v":""},{"$f":"IF(B490=\"\",\"\",IF(VLOOKUP(B490,'Oman Results'!C490:AI1483,31)=\"x\",'Oman Results'!G490,\"\"))","v":""},{"$f":"IF(B490=\"\",\"\",IF(VLOOKUP(B490,'Oman Results'!C490:AI1483,31)=\"x\",'Oman Results'!AJ490,\"\"))","v":""},{"$f":"IF(B490=\"\",\"\",IF(VLOOKUP(B490,'Oman Results'!C490:AI1483,31)=\"x\",'Oman Results'!AK490,\"\"))","v":""},null,null,"","","",""]
["",{"$f":"IF('Oman Results'!C491=\"\",\"\",'Oman Results'!C491)","v":""},{"$f":"IF(OR('Oman Results'!D491=\"\",'Oman Results'!D491=\"Totals\"),\"\",'Oman Results'!D491)","v":""},"",{"$f":"IF('Oman Results'!E491=\"\",\"\",'Oman Results'!E491)","v":""},{"$f":"IF('Oman Results'!F491=\"\",\"\",'Oman Results'!F491)","v":""},{"$f":"IF(B491=\"\",\"\",IF(VLOOKUP(B491,'Oman Results'!C491:AI1484,31)=\"x\",'Oman Results'!AK491,'Oman Results'!G491))","v":""},"",{"$f":"IF(B491=\"\",\"\",IF(VLOOKUP(B491,'Oman Results'!C491:AI1484,31)=\"x\",\"Yes\",\"\"))","v":""},{"$f":"IF(B491=\"\",\"\",IF(VLOOKUP(B491,'Oman Results'!C491:AI1484,31)=\"x\",'Oman Results'!G491,\"\"))","v":""},{"$f":"IF(B491=\"\",\"\",IF(VLOOKUP(B491,'Oman Results'!C491:AI1484,31)=\"x\",'Oman Results'!AJ491,\"\"))","v":""},{"$f":"IF(B491=\"\",\"\",IF(VLOOKUP(B491,'Oman Results'!C491:AI1484,31)=\"x\",'Oman Results'!AK491,\"\"))","v":""},null,null,"","","",""]
["",{"$f":"IF('Oman Results'!C492=\"\",\"\",'Oman Results'!C492)","v":""},{"$f":"IF(OR('Oman Results'!D492=\"\",'Oman Results'!D492=\"Totals\"),\"\",'Oman Results'!D492)","v":""},"",{"$f":"IF('Oman Results'!E492=\"\",\"\",'Oman Results'!E492)","v":""},{"$f":"IF('Oman Results'!F492=\"\",\"\",'Oman Results'!F492)","v":""},{"$f":"IF(B492=\"\",\"\",IF(VLOOKUP(B492,'Oman Results'!C492:AI1485,31)=\"x\",'Oman Results'!AK492,'Oman Results'!G492))","v":""},"",{"$f":"IF(B492=\"\",\"\",IF(VLOOKUP(B492,'Oman Results'!C492:AI1485,31)=\"x\",\"Yes\",\"\"))","v":""},{"$f":"IF(B492=\"\",\"\",IF(VLOOKUP(B492,'Oman Results'!C492:AI1485,31)=\"x\",'Oman Results'!G492,\"\"))","v":""},{"$f":"IF(B492=\"\",\"\",IF(VLOOKUP(B492,'Oman Results'!C492:AI1485,31)=\"x\",'Oman Results'!AJ492,\"\"))","v":""},{"$f":"IF(B492=\"\",\"\",IF(VLOOKUP(B492,'Oman Results'!C492:AI1485,31)=\"x\",'Oman Results'!AK492,\"\"))","v":""},null,null,"","","",""]
["",{"$f":"IF('Oman Results'!C493=\"\",\"\",'Oman Results'!C493)","v":""},{"$f":"IF(OR('Oman Results'!D493=\"\",'Oman Results'!D493=\"Totals\"),\"\",'Oman Results'!D493)","v":""},"",{"$f":"IF('Oman Results'!E493=\"\",\"\",'Oman Results'!E493)","v":""},{"$f":"IF('Oman Results'!F493=\"\",\"\",'Oman Results'!F493)","v":""},{"$f":"IF(B493=\"\",\"\",IF(VLOOKUP(B493,'Oman Results'!C493:AI1486,31)=\"x\",'Oman Results'!AK493,'Oman Results'!G493))","v":""},"",{"$f":"IF(B493=\"\",\"\",IF(VLOOKUP(B493,'Oman Results'!C493:AI1486,31)=\"x\",\"Yes\",\"\"))","v":""},{"$f":"IF(B493=\"\",\"\",IF(VLOOKUP(B493,'Oman Results'!C493:AI1486,31)=\"x\",'Oman Results'!G493,\"\"))","v":""},{"$f":"IF(B493=\"\",\"\",IF(VLOOKUP(B493,'Oman Results'!C493:AI1486,31)=\"x\",'Oman Results'!AJ493,\"\"))","v":""},{"$f":"IF(B493=\"\",\"\",IF(VLOOKUP(B493,'Oman Results'!C493:AI1486,31)=\"x\",'Oman Results'!AK493,\"\"))","v":""},null,null,"","","",""]
["",{"$f":"IF('Oman Results'!C494=\"\",\"\",'Oman Results'!C494)","v":""},{"$f":"IF(OR('Oman Results'!D494=\"\",'Oman Results'!D494=\"Totals\"),\"\",'Oman Results'!D494)","v":""},"",{"$f":"IF('Oman Results'!E494=\"\",\"\",'Oman Results'!E494)","v":""},{"$f":"IF('Oman Results'!F494=\"\",\"\",'Oman Results'!F494)","v":""},{"$f":"IF(B494=\"\",\"\",IF(VLOOKUP(B494,'Oman Results'!C494:AI1487,31)=\"x\",'Oman Results'!AK494,'Oman Results'!G494))","v":""},"",{"$f":"IF(B494=\"\",\"\",IF(VLOOKUP(B494,'Oman Results'!C494:AI1487,31)=\"x\",\"Yes\",\"\"))","v":""},{"$f":"IF(B494=\"\",\"\",IF(VLOOKUP(B494,'Oman Results'!C494:AI1487,31)=\"x\",'Oman Results'!G494,\"\"))","v":""},{"$f":"IF(B494=\"\",\"\",IF(VLOOKUP(B494,'Oman Results'!C494:AI1487,31)=\"x\",'Oman Results'!AJ494,\"\"))","v":""},{"$f":"IF(B494=\"\",\"\",IF(VLOOKUP(B494,'Oman Results'!C494:AI1487,31)=\"x\",'Oman Results'!AK494,\"\"))","v":""},null,null,"","","",""]
["",{"$f":"IF('Oman Results'!C495=\"\",\"\",'Oman Results'!C495)","v":""},{"$f":"IF(OR('Oman Results'!D495=\"\",'Oman Results'!D495=\"Totals\"),\"\",'Oman Results'!D495)","v":""},"",{"$f":"IF('Oman Results'!E495=\"\",\"\",'Oman Results'!E495)","v":""},{"$f":"IF('Oman Results'!F495=\"\",\"\",'Oman Results'!F495)","v":""},{"$f":"IF(B495=\"\",\"\",IF(VLOOKUP(B495,'Oman Results'!C495:AI1488,31)=\"x\",'Oman Results'!AK495,'Oman Results'!G495))","v":""},"",{"$f":"IF(B495=\"\",\"\",IF(VLOOKUP(B495,'Oman Results'!C495:AI1488,31)=\"x\",\"Yes\",\"\"))","v":""},{"$f":"IF(B495=\"\",\"\",IF(VLOOKUP(B495,'Oman Results'!C495:AI1488,31)=\"x\",'Oman Results'!G495,\"\"))","v":""},{"$f":"IF(B495=\"\",\"\",IF(VLOOKUP(B495,'Oman Results'!C495:AI1488,31)=\"x\",'Oman Results'!AJ495,\"\"))","v":""},{"$f":"IF(B495=\"\",\"\",IF(VLOOKUP(B495,'Oman Results'!C495:AI1488,31)=\"x\",'Oman Results'!AK495,\"\"))","v":""},null,null,"","","",""]
["",{"$f":"IF('Oman Results'!C496=\"\",\"\",'Oman Results'!C496)","v":""},{"$f":"IF(OR('Oman Results'!D496=\"\",'Oman Results'!D496=\"Totals\"),\"\",'Oman Results'!D496)","v":""},"",{"$f":"IF('Oman Results'!E496=\"\",\"\",'Oman Results'!E496)","v":""},{"$f":"IF('Oman Results'!F496=\"\",\"\",'Oman Results'!F496)","v":""},{"$f":"IF(B496=\"\",\"\",IF(VLOOKUP(B496,'Oman Results'!C496:AI1489,31)=\"x\",'Oman Results'!AK496,'Oman Results'!G496))","v":""},"",{"$f":"IF(B496=\"\",\"\",IF(VLOOKUP(B496,'Oman Results'!C496:AI1489,31)=\"x\",\"Yes\",\"\"))","v":""},{"$f":"IF(B496=\"\",\"\",IF(VLOOKUP(B496,'Oman Results'!C496:AI1489,31)=\"x\",'Oman Results'!G496,\"\"))","v":""},{"$f":"IF(B496=\"\",\"\",IF(VLOOKUP(B496,'Oman Results'!C496:AI1489,31)=\"x\",'Oman Results'!AJ496,\"\"))","v":""},{"$f":"IF(B496=\"\",\"\",IF(VLOOKUP(B496,'Oman Results'!C496:AI1489,31)=\"x\",'Oman Results'!AK496,\"\"))","v":""},null,null,"","","",""]
["",{"$f":"IF('Oman Results'!C497=\"\",\"\",'Oman Results'!C497)","v":""},{"$f":"IF(OR('Oman Results'!D497=\"\",'Oman Results'!D497=\"Totals\"),\"\",'Oman Results'!D497)","v":""},"",{"$f":"IF('Oman Results'!E497=\"\",\"\",'Oman Results'!E497)","v":""},{"$f":"IF('Oman Results'!F497=\"\",\"\",'Oman Results'!F497)","v":""},{"$f":"IF(B497=\"\",\"\",IF(VLOOKUP(B497,'Oman Results'!C497:AI1490,31)=\"x\",'Oman Results'!AK497,'Oman Results'!G497))","v":""},"",{"$f":"IF(B497=\"\",\"\",IF(VLOOKUP(B497,'Oman Results'!C497:AI1490,31)=\"x\",\"Yes\",\"\"))","v":""},{"$f":"IF(B497=\"\",\"\",IF(VLOOKUP(B497,'Oman Results'!C497:AI1490,31)=\"x\",'Oman Results'!G497,\"\"))","v":""},{"$f":"IF(B497=\"\",\"\",IF(VLOOKUP(B497,'Oman Results'!C497:AI1490,31)=\"x\",'Oman Results'!AJ497,\"\"))","v":""},{"$f":"IF(B497=\"\",\"\",IF(VLOOKUP(B497,'Oman Results'!C497:AI1490,31)=\"x\",'Oman Results'!AK497,\"\"))","v":""},null,null,"","","",""]
["",{"$f":"IF('Oman Results'!C498=\"\",\"\",'Oman Results'!C498)","v":""},{"$f":"IF(OR('Oman Results'!D498=\"\",'Oman Results'!D498=\"Totals\"),\"\",'Oman Results'!D498)","v":""},"",{"$f":"IF('Oman Results'!E498=\"\",\"\",'Oman Results'!E498)","v":""},{"$f":"IF('Oman Results'!F498=\"\",\"\",'Oman Results'!F498)","v":""},{"$f":"IF(B498=\"\",\"\",IF(VLOOKUP(B498,'Oman Results'!C498:AI1491,31)=\"x\",'Oman Results'!AK498,'Oman Results'!G498))","v":""},"",{"$f":"IF(B498=\"\",\"\",IF(VLOOKUP(B498,'Oman Results'!C498:AI1491,31)=\"x\",\"Yes\",\"\"))","v":""},{"$f":"IF(B498=\"\",\"\",IF(VLOOKUP(B498,'Oman Results'!C498:AI1491,31)=\"x\",'Oman Results'!G498,\"\"))","v":""},{"$f":"IF(B498=\"\",\"\",IF(VLOOKUP(B498,'Oman Results'!C498:AI1491,31)=\"x\",'Oman Results'!AJ498,\"\"))","v":""},{"$f":"IF(B498=\"\",\"\",IF(VLOOKUP(B498,'Oman Results'!C498:AI1491,31)=\"x\",'Oman Results'!AK498,\"\"))","v":""},null,null,"","","",""]
["",{"$f":"IF('Oman Results'!C499=\"\",\"\",'Oman Results'!C499)","v":""},{"$f":"IF(OR('Oman Results'!D499=\"\",'Oman Results'!D499=\"Totals\"),\"\",'Oman Results'!D499)","v":""},"",{"$f":"IF('Oman Results'!E499=\"\",\"\",'Oman Results'!E499)","v":""},{"$f":"IF('Oman Results'!F499=\"\",\"\",'Oman Results'!F499)","v":""},{"$f":"IF(B499=\"\",\"\",IF(VLOOKUP(B499,'Oman Results'!C499:AI1492,31)=\"x\",'Oman Results'!AK499,'Oman Results'!G499))","v":""},"",{"$f":"IF(B499=\"\",\"\",IF(VLOOKUP(B499,'Oman Results'!C499:AI1492,31)=\"x\",\"Yes\",\"\"))","v":""},{"$f":"IF(B499=\"\",\"\",IF(VLOOKUP(B499,'Oman Results'!C499:AI1492,31)=\"x\",'Oman Results'!G499,\"\"))","v":""},{"$f":"IF(B499=\"\",\"\",IF(VLOOKUP(B499,'Oman Results'!C499:AI1492,31)=\"x\",'Oman Results'!AJ499,\"\"))","v":""},{"$f":"IF(B499=\"\",\"\",IF(VLOOKUP(B499,'Oman Results'!C499:AI1492,31)=\"x\",'Oman Results'!AK499,\"\"))","v":""},null,null,"","","",""]
["",{"$f":"IF('Oman Results'!C500=\"\",\"\",'Oman Results'!C500)","v":""},{"$f":"IF(OR('Oman Results'!D500=\"\",'Oman Results'!D500=\"Totals\"),\"\",'Oman Results'!D500)","v":""},"",{"$f":"IF('Oman Results'!E500=\"\",\"\",'Oman Results'!E500)","v":""},{"$f":"IF('Oman Results'!F500=\"\",\"\",'Oman Results'!F500)","v":""},{"$f":"IF(B500=\"\",\"\",IF(VLOOKUP(B500,'Oman Results'!C500:AI1493,31)=\"x\",'Oman Results'!AK500,'Oman Results'!G500))","v":""},"",{"$f":"IF(B500=\"\",\"\",IF(VLOOKUP(B500,'Oman Results'!C500:AI1493,31)=\"x\",\"Yes\",\"\"))","v":""},{"$f":"IF(B500=\"\",\"\",IF(VLOOKUP(B500,'Oman Results'!C500:AI1493,31)=\"x\",'Oman Results'!G500,\"\"))","v":""},{"$f":"IF(B500=\"\",\"\",IF(VLOOKUP(B500,'Oman Results'!C500:AI1493,31)=\"x\",'Oman Results'!AJ500,\"\"))","v":""},{"$f":"IF(B500=\"\",\"\",IF(VLOOKUP(B500,'Oman Results'!C500:AI1493,31)=\"x\",'Oman Results'!AK500,\"\"))","v":""},null,null,"","","",""]
["",{"$f":"IF('Oman Results'!C501=\"\",\"\",'Oman Results'!C501)","v":""},{"$f":"IF(OR('Oman Results'!D501=\"\",'Oman Results'!D501=\"Totals\"),\"\",'Oman Results'!D501)","v":""},"",{"$f":"IF('Oman Results'!E501=\"\",\"\",'Oman Results'!E501)","v":""},{"$f":"IF('Oman Results'!F501=\"\",\"\",'Oman Results'!F501)","v":""},{"$f":"IF(B501=\"\",\"\",IF(VLOOKUP(B501,'Oman Results'!C501:AI1494,31)=\"x\",'Oman Results'!AK501,'Oman Results'!G501))","v":""},"",{"$f":"IF(B501=\"\",\"\",IF(VLOOKUP(B501,'Oman Results'!C501:AI1494,31)=\"x\",\"Yes\",\"\"))","v":""},{"$f":"IF(B501=\"\",\"\",IF(VLOOKUP(B501,'Oman Results'!C501:AI1494,31)=\"x\",'Oman Results'!G501,\"\"))","v":""},{"$f":"IF(B501=\"\",\"\",IF(VLOOKUP(B501,'Oman Results'!C501:AI1494,31)=\"x\",'Oman Results'!AJ501,\"\"))","v":""},{"$f":"IF(B501=\"\",\"\",IF(VLOOKUP(B501,'Oman Results'!C501:AI1494,31)=\"x\",'Oman Results'!AK501,\"\"))","v":""},null,null,"","","",""]
["",{"$f":"IF('Oman Results'!C502=\"\",\"\",'Oman Results'!C502)","v":""},{"$f":"IF(OR('Oman Results'!D502=\"\",'Oman Results'!D502=\"Totals\"),\"\",'Oman Results'!D502)","v":""},"",{"$f":"IF('Oman Results'!E502=\"\",\"\",'Oman Results'!E502)","v":""},{"$f":"IF('Oman Results'!F502=\"\",\"\",'Oman Results'!F502)","v":""},{"$f":"IF(B502=\"\",\"\",IF(VLOOKUP(B502,'Oman Results'!C502:AI1495,31)=\"x\",'Oman Results'!AK502,'Oman Results'!G502))","v":""},"",{"$f":"IF(B502=\"\",\"\",IF(VLOOKUP(B502,'Oman Results'!C502:AI1495,31)=\"x\",\"Yes\",\"\"))","v":""},{"$f":"IF(B502=\"\",\"\",IF(VLOOKUP(B502,'Oman Results'!C502:AI1495,31)=\"x\",'Oman Results'!G502,\"\"))","v":""},{"$f":"IF(B502=\"\",\"\",IF(VLOOKUP(B502,'Oman Results'!C502:AI1495,31)=\"x\",'Oman Results'!AJ502,\"\"))","v":""},{"$f":"IF(B502=\"\",\"\",IF(VLOOKUP(B502,'Oman Results'!C502:AI1495,31)=\"x\",'Oman Results'!AK502,\"\"))","v":""},null,null,"","","",""]
["",{"$f":"IF('Oman Results'!C503=\"\",\"\",'Oman Results'!C503)","v":""},{"$f":"IF(OR('Oman Results'!D503=\"\",'Oman Results'!D503=\"Totals\"),\"\",'Oman Results'!D503)","v":""},"",{"$f":"IF('Oman Results'!E503=\"\",\"\",'Oman Results'!E503)","v":""},{"$f":"IF('Oman Results'!F503=\"\",\"\",'Oman Results'!F503)","v":""},{"$f":"IF(B503=\"\",\"\",IF(VLOOKUP(B503,'Oman Results'!C503:AI1496,31)=\"x\",'Oman Results'!AK503,'Oman Results'!G503))","v":""},"",{"$f":"IF(B503=\"\",\"\",IF(VLOOKUP(B503,'Oman Results'!C503:AI1496,31)=\"x\",\"Yes\",\"\"))","v":""},{"$f":"IF(B503=\"\",\"\",IF(VLOOKUP(B503,'Oman Results'!C503:AI1496,31)=\"x\",'Oman Results'!G503,\"\"))","v":""},{"$f":"IF(B503=\"\",\"\",IF(VLOOKUP(B503,'Oman Results'!C503:AI1496,31)=\"x\",'Oman Results'!AJ503,\"\"))","v":""},{"$f":"IF(B503=\"\",\"\",IF(VLOOKUP(B503,'Oman Results'!C503:AI1496,31)=\"x\",'Oman Results'!AK503,\"\"))","v":""},null,null,"","","",""]
["",{"$f":"IF('Oman Results'!C504=\"\",\"\",'Oman Results'!C504)","v":""},{"$f":"IF(OR('Oman Results'!D504=\"\",'Oman Results'!D504=\"Totals\"),\"\",'Oman Results'!D504)","v":""},"",{"$f":"IF('Oman Results'!E504=\"\",\"\",'Oman Results'!E504)","v":""},{"$f":"IF('Oman Results'!F504=\"\",\"\",'Oman Results'!F504)","v":""},{"$f":"IF(B504=\"\",\"\",IF(VLOOKUP(B504,'Oman Results'!C504:AI1497,31)=\"x\",'Oman Results'!AK504,'Oman Results'!G504))","v":""},"",{"$f":"IF(B504=\"\",\"\",IF(VLOOKUP(B504,'Oman Results'!C504:AI1497,31)=\"x\",\"Yes\",\"\"))","v":""},{"$f":"IF(B504=\"\",\"\",IF(VLOOKUP(B504,'Oman Results'!C504:AI1497,31)=\"x\",'Oman Results'!G504,\"\"))","v":""},{"$f":"IF(B504=\"\",\"\",IF(VLOOKUP(B504,'Oman Results'!C504:AI1497,31)=\"x\",'Oman Results'!AJ504,\"\"))","v":""},{"$f":"IF(B504=\"\",\"\",IF(VLOOKUP(B504,'Oman Results'!C504:AI1497,31)=\"x\",'Oman Results'!AK504,\"\"))","v":""},null,null,"","","",""]
["",{"$f":"IF('Oman Results'!C505=\"\",\"\",'Oman Results'!C505)","v":""},{"$f":"IF(OR('Oman Results'!D505=\"\",'Oman Results'!D505=\"Totals\"),\"\",'Oman Results'!D505)","v":""},"",{"$f":"IF('Oman Results'!E505=\"\",\"\",'Oman Results'!E505)","v":""},{"$f":"IF('Oman Results'!F505=\"\",\"\",'Oman Results'!F505)","v":""},{"$f":"IF(B505=\"\",\"\",IF(VLOOKUP(B505,'Oman Results'!C505:AI1498,31)=\"x\",'Oman Results'!AK505,'Oman Results'!G505))","v":""},"",{"$f":"IF(B505=\"\",\"\",IF(VLOOKUP(B505,'Oman Results'!C505:AI1498,31)=\"x\",\"Yes\",\"\"))","v":""},{"$f":"IF(B505=\"\",\"\",IF(VLOOKUP(B505,'Oman Results'!C505:AI1498,31)=\"x\",'Oman Results'!G505,\"\"))","v":""},{"$f":"IF(B505=\"\",\"\",IF(VLOOKUP(B505,'Oman Results'!C505:AI1498,31)=\"x\",'Oman Results'!AJ505,\"\"))","v":""},{"$f":"IF(B505=\"\",\"\",IF(VLOOKUP(B505,'Oman Results'!C505:AI1498,31)=\"x\",'Oman Results'!AK505,\"\"))","v":""},null,null,"","","",""]
["",{"$f":"IF('Oman Results'!C506=\"\",\"\",'Oman Results'!C506)","v":""},{"$f":"IF(OR('Oman Results'!D506=\"\",'Oman Results'!D506=\"Totals\"),\"\",'Oman Results'!D506)","v":""},"",{"$f":"IF('Oman Results'!E506=\"\",\"\",'Oman Results'!E506)","v":""},{"$f":"IF('Oman Results'!F506=\"\",\"\",'Oman Results'!F506)","v":""},{"$f":"IF(B506=\"\",\"\",IF(VLOOKUP(B506,'Oman Results'!C506:AI1499,31)=\"x\",'Oman Results'!AK506,'Oman Results'!G506))","v":""},"",{"$f":"IF(B506=\"\",\"\",IF(VLOOKUP(B506,'Oman Results'!C506:AI1499,31)=\"x\",\"Yes\",\"\"))","v":""},{"$f":"IF(B506=\"\",\"\",IF(VLOOKUP(B506,'Oman Results'!C506:AI1499,31)=\"x\",'Oman Results'!G506,\"\"))","v":""},{"$f":"IF(B506=\"\",\"\",IF(VLOOKUP(B506,'Oman Results'!C506:AI1499,31)=\"x\",'Oman Results'!AJ506,\"\"))","v":""},{"$f":"IF(B506=\"\",\"\",IF(VLOOKUP(B506,'Oman Results'!C506:AI1499,31)=\"x\",'Oman Results'!AK506,\"\"))","v":""},null,null,"","","",""]
["",{"$f":"IF('Oman Results'!C507=\"\",\"\",'Oman Results'!C507)","v":""},{"$f":"IF(OR('Oman Results'!D507=\"\",'Oman Results'!D507=\"Totals\"),\"\",'Oman Results'!D507)","v":""},"",{"$f":"IF('Oman Results'!E507=\"\",\"\",'Oman Results'!E507)","v":""},{"$f":"IF('Oman Results'!F507=\"\",\"\",'Oman Results'!F507)","v":""},{"$f":"IF(B507=\"\",\"\",IF(VLOOKUP(B507,'Oman Results'!C507:AI1500,31)=\"x\",'Oman Results'!AK507,'Oman Results'!G507))","v":""},"",{"$f":"IF(B507=\"\",\"\",IF(VLOOKUP(B507,'Oman Results'!C507:AI1500,31)=\"x\",\"Yes\",\"\"))","v":""},{"$f":"IF(B507=\"\",\"\",IF(VLOOKUP(B507,'Oman Results'!C507:AI1500,31)=\"x\",'Oman Results'!G507,\"\"))","v":""},{"$f":"IF(B507=\"\",\"\",IF(VLOOKUP(B507,'Oman Results'!C507:AI1500,31)=\"x\",'Oman Results'!AJ507,\"\"))","v":""},{"$f":"IF(B507=\"\",\"\",IF(VLOOKUP(B507,'Oman Results'!C507:AI1500,31)=\"x\",'Oman Results'!AK507,\"\"))","v":""},null,null,"","","",""]
["",{"$f":"IF('Oman Results'!C508=\"\",\"\",'Oman Results'!C508)","v":""},{"$f":"IF(OR('Oman Results'!D508=\"\",'Oman Results'!D508=\"Totals\"),\"\",'Oman Results'!D508)","v":""},"",{"$f":"IF('Oman Results'!E508=\"\",\"\",'Oman Results'!E508)","v":""},{"$f":"IF('Oman Results'!F508=\"\",\"\",'Oman Results'!F508)","v":""},{"$f":"IF(B508=\"\",\"\",IF(VLOOKUP(B508,'Oman Results'!C508:AI1501,31)=\"x\",'Oman Results'!AK508,'Oman Results'!G508))","v":""},"",{"$f":"IF(B508=\"\",\"\",IF(VLOOKUP(B508,'Oman Results'!C508:AI1501,31)=\"x\",\"Yes\",\"\"))","v":""},{"$f":"IF(B508=\"\",\"\",IF(VLOOKUP(B508,'Oman Results'!C508:AI1501,31)=\"x\",'Oman Results'!G508,\"\"))","v":""},{"$f":"IF(B508=\"\",\"\",IF(VLOOKUP(B508,'Oman Results'!C508:AI1501,31)=\"x\",'Oman Results'!AJ508,\"\"))","v":""},{"$f":"IF(B508=\"\",\"\",IF(VLOOKUP(B508,'Oman Results'!C508:AI1501,31)=\"x\",'Oman Results'!AK508,\"\"))","v":""},null,null,"","","",""]
["",{"$f":"IF('Oman Results'!C509=\"\",\"\",'Oman Results'!C509)","v":""},{"$f":"IF(OR('Oman Results'!D509=\"\",'Oman Results'!D509=\"Totals\"),\"\",'Oman Results'!D509)","v":""},"",{"$f":"IF('Oman Results'!E509=\"\",\"\",'Oman Results'!E509)","v":""},{"$f":"IF('Oman Results'!F509=\"\",\"\",'Oman Results'!F509)","v":""},{"$f":"IF(B509=\"\",\"\",IF(VLOOKUP(B509,'Oman Results'!C509:AI1502,31)=\"x\",'Oman Results'!AK509,'Oman Results'!G509))","v":""},"",{"$f":"IF(B509=\"\",\"\",IF(VLOOKUP(B509,'Oman Results'!C509:AI1502,31)=\"x\",\"Yes\",\"\"))","v":""},{"$f":"IF(B509=\"\",\"\",IF(VLOOKUP(B509,'Oman Results'!C509:AI1502,31)=\"x\",'Oman Results'!G509,\"\"))","v":""},{"$f":"IF(B509=\"\",\"\",IF(VLOOKUP(B509,'Oman Results'!C509:AI1502,31)=\"x\",'Oman Results'!AJ509,\"\"))","v":""},{"$f":"IF(B509=\"\",\"\",IF(VLOOKUP(B509,'Oman Results'!C509:AI1502,31)=\"x\",'Oman Results'!AK509,\"\"))","v":""},null,null,"","","",""]
["",{"$f":"IF('Oman Results'!C510=\"\",\"\",'Oman Results'!C510)","v":""},{"$f":"IF(OR('Oman Results'!D510=\"\",'Oman Results'!D510=\"Totals\"),\"\",'Oman Results'!D510)","v":""},"",{"$f":"IF('Oman Results'!E510=\"\",\"\",'Oman Results'!E510)","v":""},{"$f":"IF('Oman Results'!F510=\"\",\"\",'Oman Results'!F510)","v":""},{"$f":"IF(B510=\"\",\"\",IF(VLOOKUP(B510,'Oman Results'!C510:AI1503,31)=\"x\",'Oman Results'!AK510,'Oman Results'!G510))","v":""},"",{"$f":"IF(B510=\"\",\"\",IF(VLOOKUP(B510,'Oman Results'!C510:AI1503,31)=\"x\",\"Yes\",\"\"))","v":""},{"$f":"IF(B510=\"\",\"\",IF(VLOOKUP(B510,'Oman Results'!C510:AI1503,31)=\"x\",'Oman Results'!G510,\"\"))","v":""},{"$f":"IF(B510=\"\",\"\",IF(VLOOKUP(B510,'Oman Results'!C510:AI1503,31)=\"x\",'Oman Results'!AJ510,\"\"))","v":""},{"$f":"IF(B510=\"\",\"\",IF(VLOOKUP(B510,'Oman Results'!C510:AI1503,31)=\"x\",'Oman Results'!AK510,\"\"))","v":""},null,null,"","","",""]
["",{"$f":"IF('Oman Results'!C511=\"\",\"\",'Oman Results'!C511)","v":""},{"$f":"IF(OR('Oman Results'!D511=\"\",'Oman Results'!D511=\"Totals\"),\"\",'Oman Results'!D511)","v":""},"",{"$f":"IF('Oman Results'!E511=\"\",\"\",'Oman Results'!E511)","v":""},{"$f":"IF('Oman Results'!F511=\"\",\"\",'Oman Results'!F511)","v":""},{"$f":"IF(B511=\"\",\"\",IF(VLOOKUP(B511,'Oman Results'!C511:AI1504,31)=\"x\",'Oman Results'!AK511,'Oman Results'!G511))","v":""},"",{"$f":"IF(B511=\"\",\"\",IF(VLOOKUP(B511,'Oman Results'!C511:AI1504,31)=\"x\",\"Yes\",\"\"))","v":""},{"$f":"IF(B511=\"\",\"\",IF(VLOOKUP(B511,'Oman Results'!C511:AI1504,31)=\"x\",'Oman Results'!G511,\"\"))","v":""},{"$f":"IF(B511=\"\",\"\",IF(VLOOKUP(B511,'Oman Results'!C511:AI1504,31)=\"x\",'Oman Results'!AJ511,\"\"))","v":""},{"$f":"IF(B511=\"\",\"\",IF(VLOOKUP(B511,'Oman Results'!C511:AI1504,31)=\"x\",'Oman Results'!AK511,\"\"))","v":""},null,null,"","","",""]
["",{"$f":"IF('Oman Results'!C512=\"\",\"\",'Oman Results'!C512)","v":""},{"$f":"IF(OR('Oman Results'!D512=\"\",'Oman Results'!D512=\"Totals\"),\"\",'Oman Results'!D512)","v":""},"",{"$f":"IF('Oman Results'!E512=\"\",\"\",'Oman Results'!E512)","v":""},{"$f":"IF('Oman Results'!F512=\"\",\"\",'Oman Results'!F512)","v":""},{"$f":"IF(B512=\"\",\"\",IF(VLOOKUP(B512,'Oman Results'!C512:AI1505,31)=\"x\",'Oman Results'!AK512,'Oman Results'!G512))","v":""},"",{"$f":"IF(B512=\"\",\"\",IF(VLOOKUP(B512,'Oman Results'!C512:AI1505,31)=\"x\",\"Yes\",\"\"))","v":""},{"$f":"IF(B512=\"\",\"\",IF(VLOOKUP(B512,'Oman Results'!C512:AI1505,31)=\"x\",'Oman Results'!G512,\"\"))","v":""},{"$f":"IF(B512=\"\",\"\",IF(VLOOKUP(B512,'Oman Results'!C512:AI1505,31)=\"x\",'Oman Results'!AJ512,\"\"))","v":""},{"$f":"IF(B512=\"\",\"\",IF(VLOOKUP(B512,'Oman Results'!C512:AI1505,31)=\"x\",'Oman Results'!AK512,\"\"))","v":""},null,null,"","","",""]
["",{"$f":"IF('Oman Results'!C513=\"\",\"\",'Oman Results'!C513)","v":""},{"$f":"IF(OR('Oman Results'!D513=\"\",'Oman Results'!D513=\"Totals\"),\"\",'Oman Results'!D513)","v":""},"",{"$f":"IF('Oman Results'!E513=\"\",\"\",'Oman Results'!E513)","v":""},{"$f":"IF('Oman Results'!F513=\"\",\"\",'Oman Results'!F513)","v":""},{"$f":"IF(B513=\"\",\"\",IF(VLOOKUP(B513,'Oman Results'!C513:AI1506,31)=\"x\",'Oman Results'!AK513,'Oman Results'!G513))","v":""},"",{"$f":"IF(B513=\"\",\"\",IF(VLOOKUP(B513,'Oman Results'!C513:AI1506,31)=\"x\",\"Yes\",\"\"))","v":""},{"$f":"IF(B513=\"\",\"\",IF(VLOOKUP(B513,'Oman Results'!C513:AI1506,31)=\"x\",'Oman Results'!G513,\"\"))","v":""},{"$f":"IF(B513=\"\",\"\",IF(VLOOKUP(B513,'Oman Results'!C513:AI1506,31)=\"x\",'Oman Results'!AJ513,\"\"))","v":""},{"$f":"IF(B513=\"\",\"\",IF(VLOOKUP(B513,'Oman Results'!C513:AI1506,31)=\"x\",'Oman Results'!AK513,\"\"))","v":""},null,null,"","","",""]
["",{"$f":"IF('Oman Results'!C514=\"\",\"\",'Oman Results'!C514)","v":""},{"$f":"IF(OR('Oman Results'!D514=\"\",'Oman Results'!D514=\"Totals\"),\"\",'Oman Results'!D514)","v":""},"",{"$f":"IF('Oman Results'!E514=\"\",\"\",'Oman Results'!E514)","v":""},{"$f":"IF('Oman Results'!F514=\"\",\"\",'Oman Results'!F514)","v":""},{"$f":"IF(B514=\"\",\"\",IF(VLOOKUP(B514,'Oman Results'!C514:AI1507,31)=\"x\",'Oman Results'!AK514,'Oman Results'!G514))","v":""},"",{"$f":"IF(B514=\"\",\"\",IF(VLOOKUP(B514,'Oman Results'!C514:AI1507,31)=\"x\",\"Yes\",\"\"))","v":""},{"$f":"IF(B514=\"\",\"\",IF(VLOOKUP(B514,'Oman Results'!C514:AI1507,31)=\"x\",'Oman Results'!G514,\"\"))","v":""},{"$f":"IF(B514=\"\",\"\",IF(VLOOKUP(B514,'Oman Results'!C514:AI1507,31)=\"x\",'Oman Results'!AJ514,\"\"))","v":""},{"$f":"IF(B514=\"\",\"\",IF(VLOOKUP(B514,'Oman Results'!C514:AI1507,31)=\"x\",'Oman Results'!AK514,\"\"))","v":""},null,null,"",{"$f":"IF(O514=1,G514,\"\")","v":""},"",{"$f":"IF(O514=1,\"\",H514)","v":""}]
["",{"$f":"IF('Oman Results'!C515=\"\",\"\",'Oman Results'!C515)","v":""},{"$f":"IF(OR('Oman Results'!D515=\"\",'Oman Results'!D515=\"Totals\"),\"\",'Oman Results'!D515)","v":""},{"$f":"IF(ISNUMBER(SEARCH(\"{\",C515)),\"Yes\", \"\")","v":""},{"$f":"IF('Oman Results'!E515=\"\",\"\",'Oman Results'!E515)","v":""},{"$f":"IF('Oman Results'!F515=\"\",\"\",'Oman Results'!F515)","v":""},{"$f":"IF(B515=\"\",\"\",IF(VLOOKUP(B515,'Oman Results'!C515:AI1508,31)=\"x\",'Oman Results'!AK515,'Oman Results'!G515))","v":""},{"$f":"IF(E515=\"\",\"\",E515*G515)","v":""},{"$f":"IF(B515=\"\",\"\",IF(VLOOKUP(B515,'Oman Results'!C515:AI1508,31)=\"x\",\"Yes\",\"\"))","v":""},{"$f":"IF(B515=\"\",\"\",IF(VLOOKUP(B515,'Oman Results'!C515:AI1508,31)=\"x\",'Oman Results'!G515,\"\"))","v":""},{"$f":"IF(B515=\"\",\"\",IF(VLOOKUP(B515,'Oman Results'!C515:AI1508,31)=\"x\",'Oman Results'!AJ515,\"\"))","v":""},{"$f":"IF(B515=\"\",\"\",IF(VLOOKUP(B515,'Oman Results'!C515:AI1508,31)=\"x\",'Oman Results'!AK515,\"\"))","v":""},null,null,{"$f":"IF(OR(LEFT(F515,3)=\"L.S\",LEFT(F515,2)=\"LS\"),1,\"\")","v":""},"",{"$f":"IF(I515=\"Yes\",G515,\"\")","v":""},""]
[{"$f":"IF(B516=\"\",\"\",1+A515)","v":""},{"$f":"IF('Oman Results'!C516=\"\",\"\",'Oman Results'!C516)","v":""},{"$f":"IF(OR('Oman Results'!D516=\"\",'Oman Results'!D516=\"Totals\"),\"\",'Oman Results'!D516)","v":""},"",{"$f":"IF('Oman Results'!E516=\"\",\"\",'Oman Results'!E516)","v":""},{"$f":"IF('Oman Results'!F516=\"\",\"\",'Oman Results'!F516)","v":""},{"$f":"IF(B516=\"\",\"\",IF(VLOOKUP(B516,'Oman Results'!C516:AI1509,31)=\"x\",'Oman Results'!AK516,'Oman Results'!G516))","v":""},"",{"$f":"IF(B516=\"\",\"\",IF(VLOOKUP(B516,'Oman Results'!C516:AI1509,31)=\"x\",\"Yes\",\"\"))","v":""},{"$f":"IF(B516=\"\",\"\",IF(VLOOKUP(B516,'Oman Results'!C516:AI1509,31)=\"x\",'Oman Results'!G516,\"\"))","v":""},{"$f":"IF(B516=\"\",\"\",IF(VLOOKUP(B516,'Oman Results'!C516:AI1509,31)=\"x\",'Oman Results'!AJ516,\"\"))","v":""},{"$f":"IF(B516=\"\",\"\",IF(VLOOKUP(B516,'Oman Results'!C516:AI1509,31)=\"x\",'Oman Results'!AK516,\"\"))","v":""},null,null,"","","",""]
["",{"$f":"IF('Oman Results'!C517=\"\",\"\",'Oman Results'!C517)","v":""},{"$f":"IF(OR('Oman Results'!D517=\"\",'Oman Results'!D517=\"Totals\"),\"\",'Oman Results'!D517)","v":""},"",{"$f":"IF('Oman Results'!E517=\"\",\"\",'Oman Results'!E517)","v":""},{"$f":"IF('Oman Results'!F517=\"\",\"\",'Oman Results'!F517)","v":""},{"$f":"IF(B517=\"\",\"\",IF(VLOOKUP(B517,'Oman Results'!C517:AI1510,31)=\"x\",'Oman Results'!AK517,'Oman Results'!G517))","v":""},"",{"$f":"IF(B517=\"\",\"\",IF(VLOOKUP(B517,'Oman Results'!C517:AI1510,31)=\"x\",\"Yes\",\"\"))","v":""},{"$f":"IF(B517=\"\",\"\",IF(VLOOKUP(B517,'Oman Results'!C517:AI1510,31)=\"x\",'Oman Results'!G517,\"\"))","v":""},{"$f":"IF(B517=\"\",\"\",IF(VLOOKUP(B517,'Oman Results'!C517:AI1510,31)=\"x\",'Oman Results'!AJ517,\"\"))","v":""},{"$f":"IF(B517=\"\",\"\",IF(VLOOKUP(B517,'Oman Results'!C517:AI1510,31)=\"x\",'Oman Results'!AK517,\"\"))","v":""},null,null,"","","",""]
["",{"$f":"IF('Oman Results'!C518=\"\",\"\",'Oman Results'!C518)","v":""},{"$f":"IF(OR('Oman Results'!D518=\"\",'Oman Results'!D518=\"Totals\"),\"\",'Oman Results'!D518)","v":""},"",{"$f":"IF('Oman Results'!E518=\"\",\"\",'Oman Results'!E518)","v":""},{"$f":"IF('Oman Results'!F518=\"\",\"\",'Oman Results'!F518)","v":""},{"$f":"IF(B518=\"\",\"\",IF(VLOOKUP(B518,'Oman Results'!C518:AI1511,31)=\"x\",'Oman Results'!AK518,'Oman Results'!G518))","v":""},"",{"$f":"IF(B518=\"\",\"\",IF(VLOOKUP(B518,'Oman Results'!C518:AI1511,31)=\"x\",\"Yes\",\"\"))","v":""},{"$f":"IF(B518=\"\",\"\",IF(VLOOKUP(B518,'Oman Results'!C518:AI1511,31)=\"x\",'Oman Results'!G518,\"\"))","v":""},{"$f":"IF(B518=\"\",\"\",IF(VLOOKUP(B518,'Oman Results'!C518:AI1511,31)=\"x\",'Oman Results'!AJ518,\"\"))","v":""},{"$f":"IF(B518=\"\",\"\",IF(VLOOKUP(B518,'Oman Results'!C518:AI1511,31)=\"x\",'Oman Results'!AK518,\"\"))","v":""},null,null,"","","",""]
["",{"$f":"IF('Oman Results'!C519=\"\",\"\",'Oman Results'!C519)","v":""},{"$f":"IF(OR('Oman Results'!D519=\"\",'Oman Results'!D519=\"Totals\"),\"\",'Oman Results'!D519)","v":""},"",{"$f":"IF('Oman Results'!E519=\"\",\"\",'Oman Results'!E519)","v":""},{"$f":"IF('Oman Results'!F519=\"\",\"\",'Oman Results'!F519)","v":""},{"$f":"IF(B519=\"\",\"\",IF(VLOOKUP(B519,'Oman Results'!C519:AI1512,31)=\"x\",'Oman Results'!AK519,'Oman Results'!G519))","v":""},"",{"$f":"IF(B519=\"\",\"\",IF(VLOOKUP(B519,'Oman Results'!C519:AI1512,31)=\"x\",\"Yes\",\"\"))","v":""},{"$f":"IF(B519=\"\",\"\",IF(VLOOKUP(B519,'Oman Results'!C519:AI1512,31)=\"x\",'Oman Results'!G519,\"\"))","v":""},{"$f":"IF(B519=\"\",\"\",IF(VLOOKUP(B519,'Oman Results'!C519:AI1512,31)=\"x\",'Oman Results'!AJ519,\"\"))","v":""},{"$f":"IF(B519=\"\",\"\",IF(VLOOKUP(B519,'Oman Results'!C519:AI1512,31)=\"x\",'Oman Results'!AK519,\"\"))","v":""},null,null,"","","",""]
["",{"$f":"IF('Oman Results'!C520=\"\",\"\",'Oman Results'!C520)","v":""},{"$f":"IF(OR('Oman Results'!D520=\"\",'Oman Results'!D520=\"Totals\"),\"\",'Oman Results'!D520)","v":""},"",{"$f":"IF('Oman Results'!E520=\"\",\"\",'Oman Results'!E520)","v":""},{"$f":"IF('Oman Results'!F520=\"\",\"\",'Oman Results'!F520)","v":""},{"$f":"IF(B520=\"\",\"\",IF(VLOOKUP(B520,'Oman Results'!C520:AI1513,31)=\"x\",'Oman Results'!AK520,'Oman Results'!G520))","v":""},"",{"$f":"IF(B520=\"\",\"\",IF(VLOOKUP(B520,'Oman Results'!C520:AI1513,31)=\"x\",\"Yes\",\"\"))","v":""},{"$f":"IF(B520=\"\",\"\",IF(VLOOKUP(B520,'Oman Results'!C520:AI1513,31)=\"x\",'Oman Results'!G520,\"\"))","v":""},{"$f":"IF(B520=\"\",\"\",IF(VLOOKUP(B520,'Oman Results'!C520:AI1513,31)=\"x\",'Oman Results'!AJ520,\"\"))","v":""},{"$f":"IF(B520=\"\",\"\",IF(VLOOKUP(B520,'Oman Results'!C520:AI1513,31)=\"x\",'Oman Results'!AK520,\"\"))","v":""},null,null,"","","",""]
["",{"$f":"IF('Oman Results'!C521=\"\",\"\",'Oman Results'!C521)","v":""},{"$f":"IF(OR('Oman Results'!D521=\"\",'Oman Results'!D521=\"Totals\"),\"\",'Oman Results'!D521)","v":""},"",{"$f":"IF('Oman Results'!E521=\"\",\"\",'Oman Results'!E521)","v":""},{"$f":"IF('Oman Results'!F521=\"\",\"\",'Oman Results'!F521)","v":""},{"$f":"IF(B521=\"\",\"\",IF(VLOOKUP(B521,'Oman Results'!C521:AI1514,31)=\"x\",'Oman Results'!AK521,'Oman Results'!G521))","v":""},"",{"$f":"IF(B521=\"\",\"\",IF(VLOOKUP(B521,'Oman Results'!C521:AI1514,31)=\"x\",\"Yes\",\"\"))","v":""},{"$f":"IF(B521=\"\",\"\",IF(VLOOKUP(B521,'Oman Results'!C521:AI1514,31)=\"x\",'Oman Results'!G521,\"\"))","v":""},{"$f":"IF(B521=\"\",\"\",IF(VLOOKUP(B521,'Oman Results'!C521:AI1514,31)=\"x\",'Oman Results'!AJ521,\"\"))","v":""},{"$f":"IF(B521=\"\",\"\",IF(VLOOKUP(B521,'Oman Results'!C521:AI1514,31)=\"x\",'Oman Results'!AK521,\"\"))","v":""},null,null,"","","",""]
["",{"$f":"IF('Oman Results'!C522=\"\",\"\",'Oman Results'!C522)","v":""},{"$f":"IF(OR('Oman Results'!D522=\"\",'Oman Results'!D522=\"Totals\"),\"\",'Oman Results'!D522)","v":""},"",{"$f":"IF('Oman Results'!E522=\"\",\"\",'Oman Results'!E522)","v":""},{"$f":"IF('Oman Results'!F522=\"\",\"\",'Oman Results'!F522)","v":""},{"$f":"IF(B522=\"\",\"\",IF(VLOOKUP(B522,'Oman Results'!C522:AI1515,31)=\"x\",'Oman Results'!AK522,'Oman Results'!G522))","v":""},"",{"$f":"IF(B522=\"\",\"\",IF(VLOOKUP(B522,'Oman Results'!C522:AI1515,31)=\"x\",\"Yes\",\"\"))","v":""},{"$f":"IF(B522=\"\",\"\",IF(VLOOKUP(B522,'Oman Results'!C522:AI1515,31)=\"x\",'Oman Results'!G522,\"\"))","v":""},{"$f":"IF(B522=\"\",\"\",IF(VLOOKUP(B522,'Oman Results'!C522:AI1515,31)=\"x\",'Oman Results'!AJ522,\"\"))","v":""},{"$f":"IF(B522=\"\",\"\",IF(VLOOKUP(B522,'Oman Results'!C522:AI1515,31)=\"x\",'Oman Results'!AK522,\"\"))","v":""},null,null,"","","",""]
["",{"$f":"IF('Oman Results'!C523=\"\",\"\",'Oman Results'!C523)","v":""},{"$f":"IF(OR('Oman Results'!D523=\"\",'Oman Results'!D523=\"Totals\"),\"\",'Oman Results'!D523)","v":""},"",{"$f":"IF('Oman Results'!E523=\"\",\"\",'Oman Results'!E523)","v":""},{"$f":"IF('Oman Results'!F523=\"\",\"\",'Oman Results'!F523)","v":""},{"$f":"IF(B523=\"\",\"\",IF(VLOOKUP(B523,'Oman Results'!C523:AI1516,31)=\"x\",'Oman Results'!AK523,'Oman Results'!G523))","v":""},"",{"$f":"IF(B523=\"\",\"\",IF(VLOOKUP(B523,'Oman Results'!C523:AI1516,31)=\"x\",\"Yes\",\"\"))","v":""},{"$f":"IF(B523=\"\",\"\",IF(VLOOKUP(B523,'Oman Results'!C523:AI1516,31)=\"x\",'Oman Results'!G523,\"\"))","v":""},{"$f":"IF(B523=\"\",\"\",IF(VLOOKUP(B523,'Oman Results'!C523:AI1516,31)=\"x\",'Oman Results'!AJ523,\"\"))","v":""},{"$f":"IF(B523=\"\",\"\",IF(VLOOKUP(B523,'Oman Results'!C523:AI1516,31)=\"x\",'Oman Results'!AK523,\"\"))","v":""},null,null,"","","",""]
["",{"$f":"IF('Oman Results'!C524=\"\",\"\",'Oman Results'!C524)","v":""},{"$f":"IF(OR('Oman Results'!D524=\"\",'Oman Results'!D524=\"Totals\"),\"\",'Oman Results'!D524)","v":""},"",{"$f":"IF('Oman Results'!E524=\"\",\"\",'Oman Results'!E524)","v":""},{"$f":"IF('Oman Results'!F524=\"\",\"\",'Oman Results'!F524)","v":""},{"$f":"IF(B524=\"\",\"\",IF(VLOOKUP(B524,'Oman Results'!C524:AI1517,31)=\"x\",'Oman Results'!AK524,'Oman Results'!G524))","v":""},"",{"$f":"IF(B524=\"\",\"\",IF(VLOOKUP(B524,'Oman Results'!C524:AI1517,31)=\"x\",\"Yes\",\"\"))","v":""},{"$f":"IF(B524=\"\",\"\",IF(VLOOKUP(B524,'Oman Results'!C524:AI1517,31)=\"x\",'Oman Results'!G524,\"\"))","v":""},{"$f":"IF(B524=\"\",\"\",IF(VLOOKUP(B524,'Oman Results'!C524:AI1517,31)=\"x\",'Oman Results'!AJ524,\"\"))","v":""},{"$f":"IF(B524=\"\",\"\",IF(VLOOKUP(B524,'Oman Results'!C524:AI1517,31)=\"x\",'Oman Results'!AK524,\"\"))","v":""},null,null,"","","",""]
["",{"$f":"IF('Oman Results'!C525=\"\",\"\",'Oman Results'!C525)","v":""},{"$f":"IF(OR('Oman Results'!D525=\"\",'Oman Results'!D525=\"Totals\"),\"\",'Oman Results'!D525)","v":""},"",{"$f":"IF('Oman Results'!E525=\"\",\"\",'Oman Results'!E525)","v":""},{"$f":"IF('Oman Results'!F525=\"\",\"\",'Oman Results'!F525)","v":""},{"$f":"IF(B525=\"\",\"\",IF(VLOOKUP(B525,'Oman Results'!C525:AI1518,31)=\"x\",'Oman Results'!AK525,'Oman Results'!G525))","v":""},"",{"$f":"IF(B525=\"\",\"\",IF(VLOOKUP(B525,'Oman Results'!C525:AI1518,31)=\"x\",\"Yes\",\"\"))","v":""},{"$f":"IF(B525=\"\",\"\",IF(VLOOKUP(B525,'Oman Results'!C525:AI1518,31)=\"x\",'Oman Results'!G525,\"\"))","v":""},{"$f":"IF(B525=\"\",\"\",IF(VLOOKUP(B525,'Oman Results'!C525:AI1518,31)=\"x\",'Oman Results'!AJ525,\"\"))","v":""},{"$f":"IF(B525=\"\",\"\",IF(VLOOKUP(B525,'Oman Results'!C525:AI1518,31)=\"x\",'Oman Results'!AK525,\"\"))","v":""},null,null,"","","",""]
["",{"$f":"IF('Oman Results'!C526=\"\",\"\",'Oman Results'!C526)","v":""},{"$f":"IF(OR('Oman Results'!D526=\"\",'Oman Results'!D526=\"Totals\"),\"\",'Oman Results'!D526)","v":""},"",{"$f":"IF('Oman Results'!E526=\"\",\"\",'Oman Results'!E526)","v":""},{"$f":"IF('Oman Results'!F526=\"\",\"\",'Oman Results'!F526)","v":""},{"$f":"IF(B526=\"\",\"\",IF(VLOOKUP(B526,'Oman Results'!C526:AI1519,31)=\"x\",'Oman Results'!AK526,'Oman Results'!G526))","v":""},"",{"$f":"IF(B526=\"\",\"\",IF(VLOOKUP(B526,'Oman Results'!C526:AI1519,31)=\"x\",\"Yes\",\"\"))","v":""},{"$f":"IF(B526=\"\",\"\",IF(VLOOKUP(B526,'Oman Results'!C526:AI1519,31)=\"x\",'Oman Results'!G526,\"\"))","v":""},{"$f":"IF(B526=\"\",\"\",IF(VLOOKUP(B526,'Oman Results'!C526:AI1519,31)=\"x\",'Oman Results'!AJ526,\"\"))","v":""},{"$f":"IF(B526=\"\",\"\",IF(VLOOKUP(B526,'Oman Results'!C526:AI1519,31)=\"x\",'Oman Results'!AK526,\"\"))","v":""},null,null,"","","",""]
["",{"$f":"IF('Oman Results'!C527=\"\",\"\",'Oman Results'!C527)","v":""},{"$f":"IF(OR('Oman Results'!D527=\"\",'Oman Results'!D527=\"Totals\"),\"\",'Oman Results'!D527)","v":""},"",{"$f":"IF('Oman Results'!E527=\"\",\"\",'Oman Results'!E527)","v":""},{"$f":"IF('Oman Results'!F527=\"\",\"\",'Oman Results'!F527)","v":""},{"$f":"IF(B527=\"\",\"\",IF(VLOOKUP(B527,'Oman Results'!C527:AI1520,31)=\"x\",'Oman Results'!AK527,'Oman Results'!G527))","v":""},"",{"$f":"IF(B527=\"\",\"\",IF(VLOOKUP(B527,'Oman Results'!C527:AI1520,31)=\"x\",\"Yes\",\"\"))","v":""},{"$f":"IF(B527=\"\",\"\",IF(VLOOKUP(B527,'Oman Results'!C527:AI1520,31)=\"x\",'Oman Results'!G527,\"\"))","v":""},{"$f":"IF(B527=\"\",\"\",IF(VLOOKUP(B527,'Oman Results'!C527:AI1520,31)=\"x\",'Oman Results'!AJ527,\"\"))","v":""},{"$f":"IF(B527=\"\",\"\",IF(VLOOKUP(B527,'Oman Results'!C527:AI1520,31)=\"x\",'Oman Results'!AK527,\"\"))","v":""},null,null,"","","",""]
["",{"$f":"IF('Oman Results'!C528=\"\",\"\",'Oman Results'!C528)","v":""},{"$f":"IF(OR('Oman Results'!D528=\"\",'Oman Results'!D528=\"Totals\"),\"\",'Oman Results'!D528)","v":""},"",{"$f":"IF('Oman Results'!E528=\"\",\"\",'Oman Results'!E528)","v":""},{"$f":"IF('Oman Results'!F528=\"\",\"\",'Oman Results'!F528)","v":""},{"$f":"IF(B528=\"\",\"\",IF(VLOOKUP(B528,'Oman Results'!C528:AI1521,31)=\"x\",'Oman Results'!AK528,'Oman Results'!G528))","v":""},"",{"$f":"IF(B528=\"\",\"\",IF(VLOOKUP(B528,'Oman Results'!C528:AI1521,31)=\"x\",\"Yes\",\"\"))","v":""},{"$f":"IF(B528=\"\",\"\",IF(VLOOKUP(B528,'Oman Results'!C528:AI1521,31)=\"x\",'Oman Results'!G528,\"\"))","v":""},{"$f":"IF(B528=\"\",\"\",IF(VLOOKUP(B528,'Oman Results'!C528:AI1521,31)=\"x\",'Oman Results'!AJ528,\"\"))","v":""},{"$f":"IF(B528=\"\",\"\",IF(VLOOKUP(B528,'Oman Results'!C528:AI1521,31)=\"x\",'Oman Results'!AK528,\"\"))","v":""},null,null,"","","",""]
["",{"$f":"IF('Oman Results'!C529=\"\",\"\",'Oman Results'!C529)","v":""},{"$f":"IF(OR('Oman Results'!D529=\"\",'Oman Results'!D529=\"Totals\"),\"\",'Oman Results'!D529)","v":""},"",{"$f":"IF('Oman Results'!E529=\"\",\"\",'Oman Results'!E529)","v":""},{"$f":"IF('Oman Results'!F529=\"\",\"\",'Oman Results'!F529)","v":""},{"$f":"IF(B529=\"\",\"\",IF(VLOOKUP(B529,'Oman Results'!C529:AI1522,31)=\"x\",'Oman Results'!AK529,'Oman Results'!G529))","v":""},"",{"$f":"IF(B529=\"\",\"\",IF(VLOOKUP(B529,'Oman Results'!C529:AI1522,31)=\"x\",\"Yes\",\"\"))","v":""},{"$f":"IF(B529=\"\",\"\",IF(VLOOKUP(B529,'Oman Results'!C529:AI1522,31)=\"x\",'Oman Results'!G529,\"\"))","v":""},{"$f":"IF(B529=\"\",\"\",IF(VLOOKUP(B529,'Oman Results'!C529:AI1522,31)=\"x\",'Oman Results'!AJ529,\"\"))","v":""},{"$f":"IF(B529=\"\",\"\",IF(VLOOKUP(B529,'Oman Results'!C529:AI1522,31)=\"x\",'Oman Results'!AK529,\"\"))","v":""},null,null,"","","",""]
["",{"$f":"IF('Oman Results'!C530=\"\",\"\",'Oman Results'!C530)","v":""},{"$f":"IF(OR('Oman Results'!D530=\"\",'Oman Results'!D530=\"Totals\"),\"\",'Oman Results'!D530)","v":""},"",{"$f":"IF('Oman Results'!E530=\"\",\"\",'Oman Results'!E530)","v":""},{"$f":"IF('Oman Results'!F530=\"\",\"\",'Oman Results'!F530)","v":""},{"$f":"IF(B530=\"\",\"\",IF(VLOOKUP(B530,'Oman Results'!C530:AI1523,31)=\"x\",'Oman Results'!AK530,'Oman Results'!G530))","v":""},"",{"$f":"IF(B530=\"\",\"\",IF(VLOOKUP(B530,'Oman Results'!C530:AI1523,31)=\"x\",\"Yes\",\"\"))","v":""},{"$f":"IF(B530=\"\",\"\",IF(VLOOKUP(B530,'Oman Results'!C530:AI1523,31)=\"x\",'Oman Results'!G530,\"\"))","v":""},{"$f":"IF(B530=\"\",\"\",IF(VLOOKUP(B530,'Oman Results'!C530:AI1523,31)=\"x\",'Oman Results'!AJ530,\"\"))","v":""},{"$f":"IF(B530=\"\",\"\",IF(VLOOKUP(B530,'Oman Results'!C530:AI1523,31)=\"x\",'Oman Results'!AK530,\"\"))","v":""},null,null,"","","",""]
["",{"$f":"IF('Oman Results'!C531=\"\",\"\",'Oman Results'!C531)","v":""},{"$f":"IF(OR('Oman Results'!D531=\"\",'Oman Results'!D531=\"Totals\"),\"\",'Oman Results'!D531)","v":""},"",{"$f":"IF('Oman Results'!E531=\"\",\"\",'Oman Results'!E531)","v":""},{"$f":"IF('Oman Results'!F531=\"\",\"\",'Oman Results'!F531)","v":""},{"$f":"IF(B531=\"\",\"\",IF(VLOOKUP(B531,'Oman Results'!C531:AI1524,31)=\"x\",'Oman Results'!AK531,'Oman Results'!G531))","v":""},"",{"$f":"IF(B531=\"\",\"\",IF(VLOOKUP(B531,'Oman Results'!C531:AI1524,31)=\"x\",\"Yes\",\"\"))","v":""},{"$f":"IF(B531=\"\",\"\",IF(VLOOKUP(B531,'Oman Results'!C531:AI1524,31)=\"x\",'Oman Results'!G531,\"\"))","v":""},{"$f":"IF(B531=\"\",\"\",IF(VLOOKUP(B531,'Oman Results'!C531:AI1524,31)=\"x\",'Oman Results'!AJ531,\"\"))","v":""},{"$f":"IF(B531=\"\",\"\",IF(VLOOKUP(B531,'Oman Results'!C531:AI1524,31)=\"x\",'Oman Results'!AK531,\"\"))","v":""},null,null,"","","",""]
["",{"$f":"IF('Oman Results'!C532=\"\",\"\",'Oman Results'!C532)","v":""},{"$f":"IF(OR('Oman Results'!D532=\"\",'Oman Results'!D532=\"Totals\"),\"\",'Oman Results'!D532)","v":""},"",{"$f":"IF('Oman Results'!E532=\"\",\"\",'Oman Results'!E532)","v":""},{"$f":"IF('Oman Results'!F532=\"\",\"\",'Oman Results'!F532)","v":""},{"$f":"IF(B532=\"\",\"\",IF(VLOOKUP(B532,'Oman Results'!C532:AI1525,31)=\"x\",'Oman Results'!AK532,'Oman Results'!G532))","v":""},"",{"$f":"IF(B532=\"\",\"\",IF(VLOOKUP(B532,'Oman Results'!C532:AI1525,31)=\"x\",\"Yes\",\"\"))","v":""},{"$f":"IF(B532=\"\",\"\",IF(VLOOKUP(B532,'Oman Results'!C532:AI1525,31)=\"x\",'Oman Results'!G532,\"\"))","v":""},{"$f":"IF(B532=\"\",\"\",IF(VLOOKUP(B532,'Oman Results'!C532:AI1525,31)=\"x\",'Oman Results'!AJ532,\"\"))","v":""},{"$f":"IF(B532=\"\",\"\",IF(VLOOKUP(B532,'Oman Results'!C532:AI1525,31)=\"x\",'Oman Results'!AK532,\"\"))","v":""},null,null,"","","",""]
["",{"$f":"IF('Oman Results'!C533=\"\",\"\",'Oman Results'!C533)","v":""},{"$f":"IF(OR('Oman Results'!D533=\"\",'Oman Results'!D533=\"Totals\"),\"\",'Oman Results'!D533)","v":""},"",{"$f":"IF('Oman Results'!E533=\"\",\"\",'Oman Results'!E533)","v":""},{"$f":"IF('Oman Results'!F533=\"\",\"\",'Oman Results'!F533)","v":""},{"$f":"IF(B533=\"\",\"\",IF(VLOOKUP(B533,'Oman Results'!C533:AI1526,31)=\"x\",'Oman Results'!AK533,'Oman Results'!G533))","v":""},"",{"$f":"IF(B533=\"\",\"\",IF(VLOOKUP(B533,'Oman Results'!C533:AI1526,31)=\"x\",\"Yes\",\"\"))","v":""},{"$f":"IF(B533=\"\",\"\",IF(VLOOKUP(B533,'Oman Results'!C533:AI1526,31)=\"x\",'Oman Results'!G533,\"\"))","v":""},{"$f":"IF(B533=\"\",\"\",IF(VLOOKUP(B533,'Oman Results'!C533:AI1526,31)=\"x\",'Oman Results'!AJ533,\"\"))","v":""},{"$f":"IF(B533=\"\",\"\",IF(VLOOKUP(B533,'Oman Results'!C533:AI1526,31)=\"x\",'Oman Results'!AK533,\"\"))","v":""},null,null,"","","",""]
["",{"$f":"IF('Oman Results'!C534=\"\",\"\",'Oman Results'!C534)","v":""},{"$f":"IF(OR('Oman Results'!D534=\"\",'Oman Results'!D534=\"Totals\"),\"\",'Oman Results'!D534)","v":""},"",{"$f":"IF('Oman Results'!E534=\"\",\"\",'Oman Results'!E534)","v":""},{"$f":"IF('Oman Results'!F534=\"\",\"\",'Oman Results'!F534)","v":""},{"$f":"IF(B534=\"\",\"\",IF(VLOOKUP(B534,'Oman Results'!C534:AI1527,31)=\"x\",'Oman Results'!AK534,'Oman Results'!G534))","v":""},"",{"$f":"IF(B534=\"\",\"\",IF(VLOOKUP(B534,'Oman Results'!C534:AI1527,31)=\"x\",\"Yes\",\"\"))","v":""},{"$f":"IF(B534=\"\",\"\",IF(VLOOKUP(B534,'Oman Results'!C534:AI1527,31)=\"x\",'Oman Results'!G534,\"\"))","v":""},{"$f":"IF(B534=\"\",\"\",IF(VLOOKUP(B534,'Oman Results'!C534:AI1527,31)=\"x\",'Oman Results'!AJ534,\"\"))","v":""},{"$f":"IF(B534=\"\",\"\",IF(VLOOKUP(B534,'Oman Results'!C534:AI1527,31)=\"x\",'Oman Results'!AK534,\"\"))","v":""},null,null,"","","",""]
["",{"$f":"IF('Oman Results'!C535=\"\",\"\",'Oman Results'!C535)","v":""},{"$f":"IF(OR('Oman Results'!D535=\"\",'Oman Results'!D535=\"Totals\"),\"\",'Oman Results'!D535)","v":""},"",{"$f":"IF('Oman Results'!E535=\"\",\"\",'Oman Results'!E535)","v":""},{"$f":"IF('Oman Results'!F535=\"\",\"\",'Oman Results'!F535)","v":""},{"$f":"IF(B535=\"\",\"\",IF(VLOOKUP(B535,'Oman Results'!C535:AI1528,31)=\"x\",'Oman Results'!AK535,'Oman Results'!G535))","v":""},"",{"$f":"IF(B535=\"\",\"\",IF(VLOOKUP(B535,'Oman Results'!C535:AI1528,31)=\"x\",\"Yes\",\"\"))","v":""},{"$f":"IF(B535=\"\",\"\",IF(VLOOKUP(B535,'Oman Results'!C535:AI1528,31)=\"x\",'Oman Results'!G535,\"\"))","v":""},{"$f":"IF(B535=\"\",\"\",IF(VLOOKUP(B535,'Oman Results'!C535:AI1528,31)=\"x\",'Oman Results'!AJ535,\"\"))","v":""},{"$f":"IF(B535=\"\",\"\",IF(VLOOKUP(B535,'Oman Results'!C535:AI1528,31)=\"x\",'Oman Results'!AK535,\"\"))","v":""},null,null,"","","",""]
["",{"$f":"IF('Oman Results'!C536=\"\",\"\",'Oman Results'!C536)","v":""},{"$f":"IF(OR('Oman Results'!D536=\"\",'Oman Results'!D536=\"Totals\"),\"\",'Oman Results'!D536)","v":""},"",{"$f":"IF('Oman Results'!E536=\"\",\"\",'Oman Results'!E536)","v":""},{"$f":"IF('Oman Results'!F536=\"\",\"\",'Oman Results'!F536)","v":""},{"$f":"IF(B536=\"\",\"\",IF(VLOOKUP(B536,'Oman Results'!C536:AI1529,31)=\"x\",'Oman Results'!AK536,'Oman Results'!G536))","v":""},"",{"$f":"IF(B536=\"\",\"\",IF(VLOOKUP(B536,'Oman Results'!C536:AI1529,31)=\"x\",\"Yes\",\"\"))","v":""},{"$f":"IF(B536=\"\",\"\",IF(VLOOKUP(B536,'Oman Results'!C536:AI1529,31)=\"x\",'Oman Results'!G536,\"\"))","v":""},{"$f":"IF(B536=\"\",\"\",IF(VLOOKUP(B536,'Oman Results'!C536:AI1529,31)=\"x\",'Oman Results'!AJ536,\"\"))","v":""},{"$f":"IF(B536=\"\",\"\",IF(VLOOKUP(B536,'Oman Results'!C536:AI1529,31)=\"x\",'Oman Results'!AK536,\"\"))","v":""},null,null,"","","",""]
["",{"$f":"IF('Oman Results'!C537=\"\",\"\",'Oman Results'!C537)","v":""},{"$f":"IF(OR('Oman Results'!D537=\"\",'Oman Results'!D537=\"Totals\"),\"\",'Oman Results'!D537)","v":""},"",{"$f":"IF('Oman Results'!E537=\"\",\"\",'Oman Results'!E537)","v":""},{"$f":"IF('Oman Results'!F537=\"\",\"\",'Oman Results'!F537)","v":""},{"$f":"IF(B537=\"\",\"\",IF(VLOOKUP(B537,'Oman Results'!C537:AI1530,31)=\"x\",'Oman Results'!AK537,'Oman Results'!G537))","v":""},"",{"$f":"IF(B537=\"\",\"\",IF(VLOOKUP(B537,'Oman Results'!C537:AI1530,31)=\"x\",\"Yes\",\"\"))","v":""},{"$f":"IF(B537=\"\",\"\",IF(VLOOKUP(B537,'Oman Results'!C537:AI1530,31)=\"x\",'Oman Results'!G537,\"\"))","v":""},{"$f":"IF(B537=\"\",\"\",IF(VLOOKUP(B537,'Oman Results'!C537:AI1530,31)=\"x\",'Oman Results'!AJ537,\"\"))","v":""},{"$f":"IF(B537=\"\",\"\",IF(VLOOKUP(B537,'Oman Results'!C537:AI1530,31)=\"x\",'Oman Results'!AK537,\"\"))","v":""},null,null,"","","",""]
["",{"$f":"IF('Oman Results'!C538=\"\",\"\",'Oman Results'!C538)","v":""},{"$f":"IF(OR('Oman Results'!D538=\"\",'Oman Results'!D538=\"Totals\"),\"\",'Oman Results'!D538)","v":""},"",{"$f":"IF('Oman Results'!E538=\"\",\"\",'Oman Results'!E538)","v":""},{"$f":"IF('Oman Results'!F538=\"\",\"\",'Oman Results'!F538)","v":""},{"$f":"IF(B538=\"\",\"\",IF(VLOOKUP(B538,'Oman Results'!C538:AI1531,31)=\"x\",'Oman Results'!AK538,'Oman Results'!G538))","v":""},"",{"$f":"IF(B538=\"\",\"\",IF(VLOOKUP(B538,'Oman Results'!C538:AI1531,31)=\"x\",\"Yes\",\"\"))","v":""},{"$f":"IF(B538=\"\",\"\",IF(VLOOKUP(B538,'Oman Results'!C538:AI1531,31)=\"x\",'Oman Results'!G538,\"\"))","v":""},{"$f":"IF(B538=\"\",\"\",IF(VLOOKUP(B538,'Oman Results'!C538:AI1531,31)=\"x\",'Oman Results'!AJ538,\"\"))","v":""},{"$f":"IF(B538=\"\",\"\",IF(VLOOKUP(B538,'Oman Results'!C538:AI1531,31)=\"x\",'Oman Results'!AK538,\"\"))","v":""},null,null,"","","",""]
["",{"$f":"IF('Oman Results'!C539=\"\",\"\",'Oman Results'!C539)","v":""},{"$f":"IF(OR('Oman Results'!D539=\"\",'Oman Results'!D539=\"Totals\"),\"\",'Oman Results'!D539)","v":""},"",{"$f":"IF('Oman Results'!E539=\"\",\"\",'Oman Results'!E539)","v":""},{"$f":"IF('Oman Results'!F539=\"\",\"\",'Oman Results'!F539)","v":""},{"$f":"IF(B539=\"\",\"\",IF(VLOOKUP(B539,'Oman Results'!C539:AI1532,31)=\"x\",'Oman Results'!AK539,'Oman Results'!G539))","v":""},"",{"$f":"IF(B539=\"\",\"\",IF(VLOOKUP(B539,'Oman Results'!C539:AI1532,31)=\"x\",\"Yes\",\"\"))","v":""},{"$f":"IF(B539=\"\",\"\",IF(VLOOKUP(B539,'Oman Results'!C539:AI1532,31)=\"x\",'Oman Results'!G539,\"\"))","v":""},{"$f":"IF(B539=\"\",\"\",IF(VLOOKUP(B539,'Oman Results'!C539:AI1532,31)=\"x\",'Oman Results'!AJ539,\"\"))","v":""},{"$f":"IF(B539=\"\",\"\",IF(VLOOKUP(B539,'Oman Results'!C539:AI1532,31)=\"x\",'Oman Results'!AK539,\"\"))","v":""},null,null,"","","",""]
["",{"$f":"IF('Oman Results'!C540=\"\",\"\",'Oman Results'!C540)","v":""},{"$f":"IF(OR('Oman Results'!D540=\"\",'Oman Results'!D540=\"Totals\"),\"\",'Oman Results'!D540)","v":""},"",{"$f":"IF('Oman Results'!E540=\"\",\"\",'Oman Results'!E540)","v":""},{"$f":"IF('Oman Results'!F540=\"\",\"\",'Oman Results'!F540)","v":""},{"$f":"IF(B540=\"\",\"\",IF(VLOOKUP(B540,'Oman Results'!C540:AI1533,31)=\"x\",'Oman Results'!AK540,'Oman Results'!G540))","v":""},"",{"$f":"IF(B540=\"\",\"\",IF(VLOOKUP(B540,'Oman Results'!C540:AI1533,31)=\"x\",\"Yes\",\"\"))","v":""},{"$f":"IF(B540=\"\",\"\",IF(VLOOKUP(B540,'Oman Results'!C540:AI1533,31)=\"x\",'Oman Results'!G540,\"\"))","v":""},{"$f":"IF(B540=\"\",\"\",IF(VLOOKUP(B540,'Oman Results'!C540:AI1533,31)=\"x\",'Oman Results'!AJ540,\"\"))","v":""},{"$f":"IF(B540=\"\",\"\",IF(VLOOKUP(B540,'Oman Results'!C540:AI1533,31)=\"x\",'Oman Results'!AK540,\"\"))","v":""},null,null,"","","",""]
["",{"$f":"IF('Oman Results'!C541=\"\",\"\",'Oman Results'!C541)","v":""},{"$f":"IF(OR('Oman Results'!D541=\"\",'Oman Results'!D541=\"Totals\"),\"\",'Oman Results'!D541)","v":""},"",{"$f":"IF('Oman Results'!E541=\"\",\"\",'Oman Results'!E541)","v":""},{"$f":"IF('Oman Results'!F541=\"\",\"\",'Oman Results'!F541)","v":""},{"$f":"IF(B541=\"\",\"\",IF(VLOOKUP(B541,'Oman Results'!C541:AI1534,31)=\"x\",'Oman Results'!AK541,'Oman Results'!G541))","v":""},"",{"$f":"IF(B541=\"\",\"\",IF(VLOOKUP(B541,'Oman Results'!C541:AI1534,31)=\"x\",\"Yes\",\"\"))","v":""},{"$f":"IF(B541=\"\",\"\",IF(VLOOKUP(B541,'Oman Results'!C541:AI1534,31)=\"x\",'Oman Results'!G541,\"\"))","v":""},{"$f":"IF(B541=\"\",\"\",IF(VLOOKUP(B541,'Oman Results'!C541:AI1534,31)=\"x\",'Oman Results'!AJ541,\"\"))","v":""},{"$f":"IF(B541=\"\",\"\",IF(VLOOKUP(B541,'Oman Results'!C541:AI1534,31)=\"x\",'Oman Results'!AK541,\"\"))","v":""},null,null,"","","",""]
["",{"$f":"IF('Oman Results'!C542=\"\",\"\",'Oman Results'!C542)","v":""},{"$f":"IF(OR('Oman Results'!D542=\"\",'Oman Results'!D542=\"Totals\"),\"\",'Oman Results'!D542)","v":""},"",{"$f":"IF('Oman Results'!E542=\"\",\"\",'Oman Results'!E542)","v":""},{"$f":"IF('Oman Results'!F542=\"\",\"\",'Oman Results'!F542)","v":""},{"$f":"IF(B542=\"\",\"\",IF(VLOOKUP(B542,'Oman Results'!C542:AI1535,31)=\"x\",'Oman Results'!AK542,'Oman Results'!G542))","v":""},"",{"$f":"IF(B542=\"\",\"\",IF(VLOOKUP(B542,'Oman Results'!C542:AI1535,31)=\"x\",\"Yes\",\"\"))","v":""},{"$f":"IF(B542=\"\",\"\",IF(VLOOKUP(B542,'Oman Results'!C542:AI1535,31)=\"x\",'Oman Results'!G542,\"\"))","v":""},{"$f":"IF(B542=\"\",\"\",IF(VLOOKUP(B542,'Oman Results'!C542:AI1535,31)=\"x\",'Oman Results'!AJ542,\"\"))","v":""},{"$f":"IF(B542=\"\",\"\",IF(VLOOKUP(B542,'Oman Results'!C542:AI1535,31)=\"x\",'Oman Results'!AK542,\"\"))","v":""},null,null,"","","",""]
["",{"$f":"IF('Oman Results'!C543=\"\",\"\",'Oman Results'!C543)","v":""},{"$f":"IF(OR('Oman Results'!D543=\"\",'Oman Results'!D543=\"Totals\"),\"\",'Oman Results'!D543)","v":""},"",{"$f":"IF('Oman Results'!E543=\"\",\"\",'Oman Results'!E543)","v":""},{"$f":"IF('Oman Results'!F543=\"\",\"\",'Oman Results'!F543)","v":""},{"$f":"IF(B543=\"\",\"\",IF(VLOOKUP(B543,'Oman Results'!C543:AI1536,31)=\"x\",'Oman Results'!AK543,'Oman Results'!G543))","v":""},"",{"$f":"IF(B543=\"\",\"\",IF(VLOOKUP(B543,'Oman Results'!C543:AI1536,31)=\"x\",\"Yes\",\"\"))","v":""},{"$f":"IF(B543=\"\",\"\",IF(VLOOKUP(B543,'Oman Results'!C543:AI1536,31)=\"x\",'Oman Results'!G543,\"\"))","v":""},{"$f":"IF(B543=\"\",\"\",IF(VLOOKUP(B543,'Oman Results'!C543:AI1536,31)=\"x\",'Oman Results'!AJ543,\"\"))","v":""},{"$f":"IF(B543=\"\",\"\",IF(VLOOKUP(B543,'Oman Results'!C543:AI1536,31)=\"x\",'Oman Results'!AK543,\"\"))","v":""},null,null,"","","",""]
["",{"$f":"IF('Oman Results'!C544=\"\",\"\",'Oman Results'!C544)","v":""},{"$f":"IF(OR('Oman Results'!D544=\"\",'Oman Results'!D544=\"Totals\"),\"\",'Oman Results'!D544)","v":""},"",{"$f":"IF('Oman Results'!E544=\"\",\"\",'Oman Results'!E544)","v":""},{"$f":"IF('Oman Results'!F544=\"\",\"\",'Oman Results'!F544)","v":""},{"$f":"IF(B544=\"\",\"\",IF(VLOOKUP(B544,'Oman Results'!C544:AI1537,31)=\"x\",'Oman Results'!AK544,'Oman Results'!G544))","v":""},"",{"$f":"IF(B544=\"\",\"\",IF(VLOOKUP(B544,'Oman Results'!C544:AI1537,31)=\"x\",\"Yes\",\"\"))","v":""},{"$f":"IF(B544=\"\",\"\",IF(VLOOKUP(B544,'Oman Results'!C544:AI1537,31)=\"x\",'Oman Results'!G544,\"\"))","v":""},{"$f":"IF(B544=\"\",\"\",IF(VLOOKUP(B544,'Oman Results'!C544:AI1537,31)=\"x\",'Oman Results'!AJ544,\"\"))","v":""},{"$f":"IF(B544=\"\",\"\",IF(VLOOKUP(B544,'Oman Results'!C544:AI1537,31)=\"x\",'Oman Results'!AK544,\"\"))","v":""},null,null,"","","",""]
["",{"$f":"IF('Oman Results'!C545=\"\",\"\",'Oman Results'!C545)","v":""},{"$f":"IF(OR('Oman Results'!D545=\"\",'Oman Results'!D545=\"Totals\"),\"\",'Oman Results'!D545)","v":""},"",{"$f":"IF('Oman Results'!E545=\"\",\"\",'Oman Results'!E545)","v":""},{"$f":"IF('Oman Results'!F545=\"\",\"\",'Oman Results'!F545)","v":""},{"$f":"IF(B545=\"\",\"\",IF(VLOOKUP(B545,'Oman Results'!C545:AI1538,31)=\"x\",'Oman Results'!AK545,'Oman Results'!G545))","v":""},"",{"$f":"IF(B545=\"\",\"\",IF(VLOOKUP(B545,'Oman Results'!C545:AI1538,31)=\"x\",\"Yes\",\"\"))","v":""},{"$f":"IF(B545=\"\",\"\",IF(VLOOKUP(B545,'Oman Results'!C545:AI1538,31)=\"x\",'Oman Results'!G545,\"\"))","v":""},{"$f":"IF(B545=\"\",\"\",IF(VLOOKUP(B545,'Oman Results'!C545:AI1538,31)=\"x\",'Oman Results'!AJ545,\"\"))","v":""},{"$f":"IF(B545=\"\",\"\",IF(VLOOKUP(B545,'Oman Results'!C545:AI1538,31)=\"x\",'Oman Results'!AK545,\"\"))","v":""},null,null,"","","",""]
["",{"$f":"IF('Oman Results'!C546=\"\",\"\",'Oman Results'!C546)","v":""},{"$f":"IF(OR('Oman Results'!D546=\"\",'Oman Results'!D546=\"Totals\"),\"\",'Oman Results'!D546)","v":""},"",{"$f":"IF('Oman Results'!E546=\"\",\"\",'Oman Results'!E546)","v":""},{"$f":"IF('Oman Results'!F546=\"\",\"\",'Oman Results'!F546)","v":""},{"$f":"IF(B546=\"\",\"\",IF(VLOOKUP(B546,'Oman Results'!C546:AI1539,31)=\"x\",'Oman Results'!AK546,'Oman Results'!G546))","v":""},"",{"$f":"IF(B546=\"\",\"\",IF(VLOOKUP(B546,'Oman Results'!C546:AI1539,31)=\"x\",\"Yes\",\"\"))","v":""},{"$f":"IF(B546=\"\",\"\",IF(VLOOKUP(B546,'Oman Results'!C546:AI1539,31)=\"x\",'Oman Results'!G546,\"\"))","v":""},{"$f":"IF(B546=\"\",\"\",IF(VLOOKUP(B546,'Oman Results'!C546:AI1539,31)=\"x\",'Oman Results'!AJ546,\"\"))","v":""},{"$f":"IF(B546=\"\",\"\",IF(VLOOKUP(B546,'Oman Results'!C546:AI1539,31)=\"x\",'Oman Results'!AK546,\"\"))","v":""},null,null,"","","",""]
["",{"$f":"IF('Oman Results'!C547=\"\",\"\",'Oman Results'!C547)","v":""},{"$f":"IF(OR('Oman Results'!D547=\"\",'Oman Results'!D547=\"Totals\"),\"\",'Oman Results'!D547)","v":""},"",{"$f":"IF('Oman Results'!E547=\"\",\"\",'Oman Results'!E547)","v":""},{"$f":"IF('Oman Results'!F547=\"\",\"\",'Oman Results'!F547)","v":""},{"$f":"IF(B547=\"\",\"\",IF(VLOOKUP(B547,'Oman Results'!C547:AI1540,31)=\"x\",'Oman Results'!AK547,'Oman Results'!G547))","v":""},"",{"$f":"IF(B547=\"\",\"\",IF(VLOOKUP(B547,'Oman Results'!C547:AI1540,31)=\"x\",\"Yes\",\"\"))","v":""},{"$f":"IF(B547=\"\",\"\",IF(VLOOKUP(B547,'Oman Results'!C547:AI1540,31)=\"x\",'Oman Results'!G547,\"\"))","v":""},{"$f":"IF(B547=\"\",\"\",IF(VLOOKUP(B547,'Oman Results'!C547:AI1540,31)=\"x\",'Oman Results'!AJ547,\"\"))","v":""},{"$f":"IF(B547=\"\",\"\",IF(VLOOKUP(B547,'Oman Results'!C547:AI1540,31)=\"x\",'Oman Results'!AK547,\"\"))","v":""},null,null,"","","",""]
["",{"$f":"IF('Oman Results'!C548=\"\",\"\",'Oman Results'!C548)","v":""},{"$f":"IF(OR('Oman Results'!D548=\"\",'Oman Results'!D548=\"Totals\"),\"\",'Oman Results'!D548)","v":""},"",{"$f":"IF('Oman Results'!E548=\"\",\"\",'Oman Results'!E548)","v":""},{"$f":"IF('Oman Results'!F548=\"\",\"\",'Oman Results'!F548)","v":""},{"$f":"IF(B548=\"\",\"\",IF(VLOOKUP(B548,'Oman Results'!C548:AI1541,31)=\"x\",'Oman Results'!AK548,'Oman Results'!G548))","v":""},"",{"$f":"IF(B548=\"\",\"\",IF(VLOOKUP(B548,'Oman Results'!C548:AI1541,31)=\"x\",\"Yes\",\"\"))","v":""},{"$f":"IF(B548=\"\",\"\",IF(VLOOKUP(B548,'Oman Results'!C548:AI1541,31)=\"x\",'Oman Results'!G548,\"\"))","v":""},{"$f":"IF(B548=\"\",\"\",IF(VLOOKUP(B548,'Oman Results'!C548:AI1541,31)=\"x\",'Oman Results'!AJ548,\"\"))","v":""},{"$f":"IF(B548=\"\",\"\",IF(VLOOKUP(B548,'Oman Results'!C548:AI1541,31)=\"x\",'Oman Results'!AK548,\"\"))","v":""},null,null,"","","",""]
["",{"$f":"IF('Oman Results'!C549=\"\",\"\",'Oman Results'!C549)","v":""},{"$f":"IF(OR('Oman Results'!D549=\"\",'Oman Results'!D549=\"Totals\"),\"\",'Oman Results'!D549)","v":""},"",{"$f":"IF('Oman Results'!E549=\"\",\"\",'Oman Results'!E549)","v":""},{"$f":"IF('Oman Results'!F549=\"\",\"\",'Oman Results'!F549)","v":""},{"$f":"IF(B549=\"\",\"\",IF(VLOOKUP(B549,'Oman Results'!C549:AI1542,31)=\"x\",'Oman Results'!AK549,'Oman Results'!G549))","v":""},"",{"$f":"IF(B549=\"\",\"\",IF(VLOOKUP(B549,'Oman Results'!C549:AI1542,31)=\"x\",\"Yes\",\"\"))","v":""},{"$f":"IF(B549=\"\",\"\",IF(VLOOKUP(B549,'Oman Results'!C549:AI1542,31)=\"x\",'Oman Results'!G549,\"\"))","v":""},{"$f":"IF(B549=\"\",\"\",IF(VLOOKUP(B549,'Oman Results'!C549:AI1542,31)=\"x\",'Oman Results'!AJ549,\"\"))","v":""},{"$f":"IF(B549=\"\",\"\",IF(VLOOKUP(B549,'Oman Results'!C549:AI1542,31)=\"x\",'Oman Results'!AK549,\"\"))","v":""},null,null,"","","",""]
["",{"$f":"IF('Oman Results'!C550=\"\",\"\",'Oman Results'!C550)","v":""},{"$f":"IF(OR('Oman Results'!D550=\"\",'Oman Results'!D550=\"Totals\"),\"\",'Oman Results'!D550)","v":""},"",{"$f":"IF('Oman Results'!E550=\"\",\"\",'Oman Results'!E550)","v":""},{"$f":"IF('Oman Results'!F550=\"\",\"\",'Oman Results'!F550)","v":""},{"$f":"IF(B550=\"\",\"\",IF(VLOOKUP(B550,'Oman Results'!C550:AI1543,31)=\"x\",'Oman Results'!AK550,'Oman Results'!G550))","v":""},"",{"$f":"IF(B550=\"\",\"\",IF(VLOOKUP(B550,'Oman Results'!C550:AI1543,31)=\"x\",\"Yes\",\"\"))","v":""},{"$f":"IF(B550=\"\",\"\",IF(VLOOKUP(B550,'Oman Results'!C550:AI1543,31)=\"x\",'Oman Results'!G550,\"\"))","v":""},{"$f":"IF(B550=\"\",\"\",IF(VLOOKUP(B550,'Oman Results'!C550:AI1543,31)=\"x\",'Oman Results'!AJ550,\"\"))","v":""},{"$f":"IF(B550=\"\",\"\",IF(VLOOKUP(B550,'Oman Results'!C550:AI1543,31)=\"x\",'Oman Results'!AK550,\"\"))","v":""},null,null,"","","",""]
["",{"$f":"IF('Oman Results'!C551=\"\",\"\",'Oman Results'!C551)","v":""},{"$f":"IF(OR('Oman Results'!D551=\"\",'Oman Results'!D551=\"Totals\"),\"\",'Oman Results'!D551)","v":""},"",{"$f":"IF('Oman Results'!E551=\"\",\"\",'Oman Results'!E551)","v":""},{"$f":"IF('Oman Results'!F551=\"\",\"\",'Oman Results'!F551)","v":""},{"$f":"IF(B551=\"\",\"\",IF(VLOOKUP(B551,'Oman Results'!C551:AI1544,31)=\"x\",'Oman Results'!AK551,'Oman Results'!G551))","v":""},"",{"$f":"IF(B551=\"\",\"\",IF(VLOOKUP(B551,'Oman Results'!C551:AI1544,31)=\"x\",\"Yes\",\"\"))","v":""},{"$f":"IF(B551=\"\",\"\",IF(VLOOKUP(B551,'Oman Results'!C551:AI1544,31)=\"x\",'Oman Results'!G551,\"\"))","v":""},{"$f":"IF(B551=\"\",\"\",IF(VLOOKUP(B551,'Oman Results'!C551:AI1544,31)=\"x\",'Oman Results'!AJ551,\"\"))","v":""},{"$f":"IF(B551=\"\",\"\",IF(VLOOKUP(B551,'Oman Results'!C551:AI1544,31)=\"x\",'Oman Results'!AK551,\"\"))","v":""},null,null,"","","",""]
["",{"$f":"IF('Oman Results'!C552=\"\",\"\",'Oman Results'!C552)","v":""},{"$f":"IF(OR('Oman Results'!D552=\"\",'Oman Results'!D552=\"Totals\"),\"\",'Oman Results'!D552)","v":""},"",{"$f":"IF('Oman Results'!E552=\"\",\"\",'Oman Results'!E552)","v":""},{"$f":"IF('Oman Results'!F552=\"\",\"\",'Oman Results'!F552)","v":""},{"$f":"IF(B552=\"\",\"\",IF(VLOOKUP(B552,'Oman Results'!C552:AI1545,31)=\"x\",'Oman Results'!AK552,'Oman Results'!G552))","v":""},"",{"$f":"IF(B552=\"\",\"\",IF(VLOOKUP(B552,'Oman Results'!C552:AI1545,31)=\"x\",\"Yes\",\"\"))","v":""},{"$f":"IF(B552=\"\",\"\",IF(VLOOKUP(B552,'Oman Results'!C552:AI1545,31)=\"x\",'Oman Results'!G552,\"\"))","v":""},{"$f":"IF(B552=\"\",\"\",IF(VLOOKUP(B552,'Oman Results'!C552:AI1545,31)=\"x\",'Oman Results'!AJ552,\"\"))","v":""},{"$f":"IF(B552=\"\",\"\",IF(VLOOKUP(B552,'Oman Results'!C552:AI1545,31)=\"x\",'Oman Results'!AK552,\"\"))","v":""},null,null,"","","",""]
["",{"$f":"IF('Oman Results'!C553=\"\",\"\",'Oman Results'!C553)","v":""},{"$f":"IF(OR('Oman Results'!D553=\"\",'Oman Results'!D553=\"Totals\"),\"\",'Oman Results'!D553)","v":""},"",{"$f":"IF('Oman Results'!E553=\"\",\"\",'Oman Results'!E553)","v":""},{"$f":"IF('Oman Results'!F553=\"\",\"\",'Oman Results'!F553)","v":""},{"$f":"IF(B553=\"\",\"\",IF(VLOOKUP(B553,'Oman Results'!C553:AI1546,31)=\"x\",'Oman Results'!AK553,'Oman Results'!G553))","v":""},"",{"$f":"IF(B553=\"\",\"\",IF(VLOOKUP(B553,'Oman Results'!C553:AI1546,31)=\"x\",\"Yes\",\"\"))","v":""},{"$f":"IF(B553=\"\",\"\",IF(VLOOKUP(B553,'Oman Results'!C553:AI1546,31)=\"x\",'Oman Results'!G553,\"\"))","v":""},{"$f":"IF(B553=\"\",\"\",IF(VLOOKUP(B553,'Oman Results'!C553:AI1546,31)=\"x\",'Oman Results'!AJ553,\"\"))","v":""},{"$f":"IF(B553=\"\",\"\",IF(VLOOKUP(B553,'Oman Results'!C553:AI1546,31)=\"x\",'Oman Results'!AK553,\"\"))","v":""},null,null,"","","",""]
["",{"$f":"IF('Oman Results'!C554=\"\",\"\",'Oman Results'!C554)","v":""},{"$f":"IF(OR('Oman Results'!D554=\"\",'Oman Results'!D554=\"Totals\"),\"\",'Oman Results'!D554)","v":""},"",{"$f":"IF('Oman Results'!E554=\"\",\"\",'Oman Results'!E554)","v":""},{"$f":"IF('Oman Results'!F554=\"\",\"\",'Oman Results'!F554)","v":""},{"$f":"IF(B554=\"\",\"\",IF(VLOOKUP(B554,'Oman Results'!C554:AI1547,31)=\"x\",'Oman Results'!AK554,'Oman Results'!G554))","v":""},"",{"$f":"IF(B554=\"\",\"\",IF(VLOOKUP(B554,'Oman Results'!C554:AI1547,31)=\"x\",\"Yes\",\"\"))","v":""},{"$f":"IF(B554=\"\",\"\",IF(VLOOKUP(B554,'Oman Results'!C554:AI1547,31)=\"x\",'Oman Results'!G554,\"\"))","v":""},{"$f":"IF(B554=\"\",\"\",IF(VLOOKUP(B554,'Oman Results'!C554:AI1547,31)=\"x\",'Oman Results'!AJ554,\"\"))","v":""},{"$f":"IF(B554=\"\",\"\",IF(VLOOKUP(B554,'Oman Results'!C554:AI1547,31)=\"x\",'Oman Results'!AK554,\"\"))","v":""},null,null,"","","",""]
["",{"$f":"IF('Oman Results'!C555=\"\",\"\",'Oman Results'!C555)","v":""},{"$f":"IF(OR('Oman Results'!D555=\"\",'Oman Results'!D555=\"Totals\"),\"\",'Oman Results'!D555)","v":""},"",{"$f":"IF('Oman Results'!E555=\"\",\"\",'Oman Results'!E555)","v":""},{"$f":"IF('Oman Results'!F555=\"\",\"\",'Oman Results'!F555)","v":""},{"$f":"IF(B555=\"\",\"\",IF(VLOOKUP(B555,'Oman Results'!C555:AI1548,31)=\"x\",'Oman Results'!AK555,'Oman Results'!G555))","v":""},"",{"$f":"IF(B555=\"\",\"\",IF(VLOOKUP(B555,'Oman Results'!C555:AI1548,31)=\"x\",\"Yes\",\"\"))","v":""},{"$f":"IF(B555=\"\",\"\",IF(VLOOKUP(B555,'Oman Results'!C555:AI1548,31)=\"x\",'Oman Results'!G555,\"\"))","v":""},{"$f":"IF(B555=\"\",\"\",IF(VLOOKUP(B555,'Oman Results'!C555:AI1548,31)=\"x\",'Oman Results'!AJ555,\"\"))","v":""},{"$f":"IF(B555=\"\",\"\",IF(VLOOKUP(B555,'Oman Results'!C555:AI1548,31)=\"x\",'Oman Results'!AK555,\"\"))","v":""},null,null,"","","",""]
["",{"$f":"IF('Oman Results'!C556=\"\",\"\",'Oman Results'!C556)","v":""},{"$f":"IF(OR('Oman Results'!D556=\"\",'Oman Results'!D556=\"Totals\"),\"\",'Oman Results'!D556)","v":""},"",{"$f":"IF('Oman Results'!E556=\"\",\"\",'Oman Results'!E556)","v":""},{"$f":"IF('Oman Results'!F556=\"\",\"\",'Oman Results'!F556)","v":""},{"$f":"IF(B556=\"\",\"\",IF(VLOOKUP(B556,'Oman Results'!C556:AI1549,31)=\"x\",'Oman Results'!AK556,'Oman Results'!G556))","v":""},"",{"$f":"IF(B556=\"\",\"\",IF(VLOOKUP(B556,'Oman Results'!C556:AI1549,31)=\"x\",\"Yes\",\"\"))","v":""},{"$f":"IF(B556=\"\",\"\",IF(VLOOKUP(B556,'Oman Results'!C556:AI1549,31)=\"x\",'Oman Results'!G556,\"\"))","v":""},{"$f":"IF(B556=\"\",\"\",IF(VLOOKUP(B556,'Oman Results'!C556:AI1549,31)=\"x\",'Oman Results'!AJ556,\"\"))","v":""},{"$f":"IF(B556=\"\",\"\",IF(VLOOKUP(B556,'Oman Results'!C556:AI1549,31)=\"x\",'Oman Results'!AK556,\"\"))","v":""},null,null,"","","",""]
["",{"$f":"IF('Oman Results'!C557=\"\",\"\",'Oman Results'!C557)","v":""},{"$f":"IF(OR('Oman Results'!D557=\"\",'Oman Results'!D557=\"Totals\"),\"\",'Oman Results'!D557)","v":""},"",{"$f":"IF('Oman Results'!E557=\"\",\"\",'Oman Results'!E557)","v":""},{"$f":"IF('Oman Results'!F557=\"\",\"\",'Oman Results'!F557)","v":""},{"$f":"IF(B557=\"\",\"\",IF(VLOOKUP(B557,'Oman Results'!C557:AI1550,31)=\"x\",'Oman Results'!AK557,'Oman Results'!G557))","v":""},"",{"$f":"IF(B557=\"\",\"\",IF(VLOOKUP(B557,'Oman Results'!C557:AI1550,31)=\"x\",\"Yes\",\"\"))","v":""},{"$f":"IF(B557=\"\",\"\",IF(VLOOKUP(B557,'Oman Results'!C557:AI1550,31)=\"x\",'Oman Results'!G557,\"\"))","v":""},{"$f":"IF(B557=\"\",\"\",IF(VLOOKUP(B557,'Oman Results'!C557:AI1550,31)=\"x\",'Oman Results'!AJ557,\"\"))","v":""},{"$f":"IF(B557=\"\",\"\",IF(VLOOKUP(B557,'Oman Results'!C557:AI1550,31)=\"x\",'Oman Results'!AK557,\"\"))","v":""},null,null,"","","",""]
["",{"$f":"IF('Oman Results'!C558=\"\",\"\",'Oman Results'!C558)","v":""},{"$f":"IF(OR('Oman Results'!D558=\"\",'Oman Results'!D558=\"Totals\"),\"\",'Oman Results'!D558)","v":""},"",{"$f":"IF('Oman Results'!E558=\"\",\"\",'Oman Results'!E558)","v":""},{"$f":"IF('Oman Results'!F558=\"\",\"\",'Oman Results'!F558)","v":""},{"$f":"IF(B558=\"\",\"\",IF(VLOOKUP(B558,'Oman Results'!C558:AI1551,31)=\"x\",'Oman Results'!AK558,'Oman Results'!G558))","v":""},"",{"$f":"IF(B558=\"\",\"\",IF(VLOOKUP(B558,'Oman Results'!C558:AI1551,31)=\"x\",\"Yes\",\"\"))","v":""},{"$f":"IF(B558=\"\",\"\",IF(VLOOKUP(B558,'Oman Results'!C558:AI1551,31)=\"x\",'Oman Results'!G558,\"\"))","v":""},{"$f":"IF(B558=\"\",\"\",IF(VLOOKUP(B558,'Oman Results'!C558:AI1551,31)=\"x\",'Oman Results'!AJ558,\"\"))","v":""},{"$f":"IF(B558=\"\",\"\",IF(VLOOKUP(B558,'Oman Results'!C558:AI1551,31)=\"x\",'Oman Results'!AK558,\"\"))","v":""},null,null,"","","",""]
["",{"$f":"IF('Oman Results'!C559=\"\",\"\",'Oman Results'!C559)","v":""},{"$f":"IF(OR('Oman Results'!D559=\"\",'Oman Results'!D559=\"Totals\"),\"\",'Oman Results'!D559)","v":""},"",{"$f":"IF('Oman Results'!E559=\"\",\"\",'Oman Results'!E559)","v":""},{"$f":"IF('Oman Results'!F559=\"\",\"\",'Oman Results'!F559)","v":""},{"$f":"IF(B559=\"\",\"\",IF(VLOOKUP(B559,'Oman Results'!C559:AI1552,31)=\"x\",'Oman Results'!AK559,'Oman Results'!G559))","v":""},"",{"$f":"IF(B559=\"\",\"\",IF(VLOOKUP(B559,'Oman Results'!C559:AI1552,31)=\"x\",\"Yes\",\"\"))","v":""},{"$f":"IF(B559=\"\",\"\",IF(VLOOKUP(B559,'Oman Results'!C559:AI1552,31)=\"x\",'Oman Results'!G559,\"\"))","v":""},{"$f":"IF(B559=\"\",\"\",IF(VLOOKUP(B559,'Oman Results'!C559:AI1552,31)=\"x\",'Oman Results'!AJ559,\"\"))","v":""},{"$f":"IF(B559=\"\",\"\",IF(VLOOKUP(B559,'Oman Results'!C559:AI1552,31)=\"x\",'Oman Results'!AK559,\"\"))","v":""},null,null,"","","",""]
["",{"$f":"IF('Oman Results'!C560=\"\",\"\",'Oman Results'!C560)","v":""},{"$f":"IF(OR('Oman Results'!D560=\"\",'Oman Results'!D560=\"Totals\"),\"\",'Oman Results'!D560)","v":""},"",{"$f":"IF('Oman Results'!E560=\"\",\"\",'Oman Results'!E560)","v":""},{"$f":"IF('Oman Results'!F560=\"\",\"\",'Oman Results'!F560)","v":""},{"$f":"IF(B560=\"\",\"\",IF(VLOOKUP(B560,'Oman Results'!C560:AI1553,31)=\"x\",'Oman Results'!AK560,'Oman Results'!G560))","v":""},"",{"$f":"IF(B560=\"\",\"\",IF(VLOOKUP(B560,'Oman Results'!C560:AI1553,31)=\"x\",\"Yes\",\"\"))","v":""},{"$f":"IF(B560=\"\",\"\",IF(VLOOKUP(B560,'Oman Results'!C560:AI1553,31)=\"x\",'Oman Results'!G560,\"\"))","v":""},{"$f":"IF(B560=\"\",\"\",IF(VLOOKUP(B560,'Oman Results'!C560:AI1553,31)=\"x\",'Oman Results'!AJ560,\"\"))","v":""},{"$f":"IF(B560=\"\",\"\",IF(VLOOKUP(B560,'Oman Results'!C560:AI1553,31)=\"x\",'Oman Results'!AK560,\"\"))","v":""},null,null,"","","",""]
["",{"$f":"IF('Oman Results'!C561=\"\",\"\",'Oman Results'!C561)","v":""},{"$f":"IF(OR('Oman Results'!D561=\"\",'Oman Results'!D561=\"Totals\"),\"\",'Oman Results'!D561)","v":""},"",{"$f":"IF('Oman Results'!E561=\"\",\"\",'Oman Results'!E561)","v":""},{"$f":"IF('Oman Results'!F561=\"\",\"\",'Oman Results'!F561)","v":""},{"$f":"IF(B561=\"\",\"\",IF(VLOOKUP(B561,'Oman Results'!C561:AI1554,31)=\"x\",'Oman Results'!AK561,'Oman Results'!G561))","v":""},"",{"$f":"IF(B561=\"\",\"\",IF(VLOOKUP(B561,'Oman Results'!C561:AI1554,31)=\"x\",\"Yes\",\"\"))","v":""},{"$f":"IF(B561=\"\",\"\",IF(VLOOKUP(B561,'Oman Results'!C561:AI1554,31)=\"x\",'Oman Results'!G561,\"\"))","v":""},{"$f":"IF(B561=\"\",\"\",IF(VLOOKUP(B561,'Oman Results'!C561:AI1554,31)=\"x\",'Oman Results'!AJ561,\"\"))","v":""},{"$f":"IF(B561=\"\",\"\",IF(VLOOKUP(B561,'Oman Results'!C561:AI1554,31)=\"x\",'Oman Results'!AK561,\"\"))","v":""},null,null,"","","",""]
["",{"$f":"IF('Oman Results'!C562=\"\",\"\",'Oman Results'!C562)","v":""},{"$f":"IF(OR('Oman Results'!D562=\"\",'Oman Results'!D562=\"Totals\"),\"\",'Oman Results'!D562)","v":""},"",{"$f":"IF('Oman Results'!E562=\"\",\"\",'Oman Results'!E562)","v":""},{"$f":"IF('Oman Results'!F562=\"\",\"\",'Oman Results'!F562)","v":""},{"$f":"IF(B562=\"\",\"\",IF(VLOOKUP(B562,'Oman Results'!C562:AI1555,31)=\"x\",'Oman Results'!AK562,'Oman Results'!G562))","v":""},"",{"$f":"IF(B562=\"\",\"\",IF(VLOOKUP(B562,'Oman Results'!C562:AI1555,31)=\"x\",\"Yes\",\"\"))","v":""},{"$f":"IF(B562=\"\",\"\",IF(VLOOKUP(B562,'Oman Results'!C562:AI1555,31)=\"x\",'Oman Results'!G562,\"\"))","v":""},{"$f":"IF(B562=\"\",\"\",IF(VLOOKUP(B562,'Oman Results'!C562:AI1555,31)=\"x\",'Oman Results'!AJ562,\"\"))","v":""},{"$f":"IF(B562=\"\",\"\",IF(VLOOKUP(B562,'Oman Results'!C562:AI1555,31)=\"x\",'Oman Results'!AK562,\"\"))","v":""},null,null,"","","",""]
["",{"$f":"IF('Oman Results'!C563=\"\",\"\",'Oman Results'!C563)","v":""},{"$f":"IF(OR('Oman Results'!D563=\"\",'Oman Results'!D563=\"Totals\"),\"\",'Oman Results'!D563)","v":""},"",{"$f":"IF('Oman Results'!E563=\"\",\"\",'Oman Results'!E563)","v":""},{"$f":"IF('Oman Results'!F563=\"\",\"\",'Oman Results'!F563)","v":""},{"$f":"IF(B563=\"\",\"\",IF(VLOOKUP(B563,'Oman Results'!C563:AI1556,31)=\"x\",'Oman Results'!AK563,'Oman Results'!G563))","v":""},"",{"$f":"IF(B563=\"\",\"\",IF(VLOOKUP(B563,'Oman Results'!C563:AI1556,31)=\"x\",\"Yes\",\"\"))","v":""},{"$f":"IF(B563=\"\",\"\",IF(VLOOKUP(B563,'Oman Results'!C563:AI1556,31)=\"x\",'Oman Results'!G563,\"\"))","v":""},{"$f":"IF(B563=\"\",\"\",IF(VLOOKUP(B563,'Oman Results'!C563:AI1556,31)=\"x\",'Oman Results'!AJ563,\"\"))","v":""},{"$f":"IF(B563=\"\",\"\",IF(VLOOKUP(B563,'Oman Results'!C563:AI1556,31)=\"x\",'Oman Results'!AK563,\"\"))","v":""},null,null,"","","",""]
["",{"$f":"IF('Oman Results'!C564=\"\",\"\",'Oman Results'!C564)","v":""},{"$f":"IF(OR('Oman Results'!D564=\"\",'Oman Results'!D564=\"Totals\"),\"\",'Oman Results'!D564)","v":""},"",{"$f":"IF('Oman Results'!E564=\"\",\"\",'Oman Results'!E564)","v":""},{"$f":"IF('Oman Results'!F564=\"\",\"\",'Oman Results'!F564)","v":""},{"$f":"IF(B564=\"\",\"\",IF(VLOOKUP(B564,'Oman Results'!C564:AI1557,31)=\"x\",'Oman Results'!AK564,'Oman Results'!G564))","v":""},"",{"$f":"IF(B564=\"\",\"\",IF(VLOOKUP(B564,'Oman Results'!C564:AI1557,31)=\"x\",\"Yes\",\"\"))","v":""},{"$f":"IF(B564=\"\",\"\",IF(VLOOKUP(B564,'Oman Results'!C564:AI1557,31)=\"x\",'Oman Results'!G564,\"\"))","v":""},{"$f":"IF(B564=\"\",\"\",IF(VLOOKUP(B564,'Oman Results'!C564:AI1557,31)=\"x\",'Oman Results'!AJ564,\"\"))","v":""},{"$f":"IF(B564=\"\",\"\",IF(VLOOKUP(B564,'Oman Results'!C564:AI1557,31)=\"x\",'Oman Results'!AK564,\"\"))","v":""},null,null,"","","",""]
["",{"$f":"IF('Oman Results'!C565=\"\",\"\",'Oman Results'!C565)","v":""},{"$f":"IF(OR('Oman Results'!D565=\"\",'Oman Results'!D565=\"Totals\"),\"\",'Oman Results'!D565)","v":""},"",{"$f":"IF('Oman Results'!E565=\"\",\"\",'Oman Results'!E565)","v":""},{"$f":"IF('Oman Results'!F565=\"\",\"\",'Oman Results'!F565)","v":""},{"$f":"IF(B565=\"\",\"\",IF(VLOOKUP(B565,'Oman Results'!C565:AI1558,31)=\"x\",'Oman Results'!AK565,'Oman Results'!G565))","v":""},"",{"$f":"IF(B565=\"\",\"\",IF(VLOOKUP(B565,'Oman Results'!C565:AI1558,31)=\"x\",\"Yes\",\"\"))","v":""},{"$f":"IF(B565=\"\",\"\",IF(VLOOKUP(B565,'Oman Results'!C565:AI1558,31)=\"x\",'Oman Results'!G565,\"\"))","v":""},{"$f":"IF(B565=\"\",\"\",IF(VLOOKUP(B565,'Oman Results'!C565:AI1558,31)=\"x\",'Oman Results'!AJ565,\"\"))","v":""},{"$f":"IF(B565=\"\",\"\",IF(VLOOKUP(B565,'Oman Results'!C565:AI1558,31)=\"x\",'Oman Results'!AK565,\"\"))","v":""},null,null,"","","",""]
["",{"$f":"IF('Oman Results'!C566=\"\",\"\",'Oman Results'!C566)","v":""},{"$f":"IF(OR('Oman Results'!D566=\"\",'Oman Results'!D566=\"Totals\"),\"\",'Oman Results'!D566)","v":""},"",{"$f":"IF('Oman Results'!E566=\"\",\"\",'Oman Results'!E566)","v":""},{"$f":"IF('Oman Results'!F566=\"\",\"\",'Oman Results'!F566)","v":""},{"$f":"IF(B566=\"\",\"\",IF(VLOOKUP(B566,'Oman Results'!C566:AI1559,31)=\"x\",'Oman Results'!AK566,'Oman Results'!G566))","v":""},"",{"$f":"IF(B566=\"\",\"\",IF(VLOOKUP(B566,'Oman Results'!C566:AI1559,31)=\"x\",\"Yes\",\"\"))","v":""},{"$f":"IF(B566=\"\",\"\",IF(VLOOKUP(B566,'Oman Results'!C566:AI1559,31)=\"x\",'Oman Results'!G566,\"\"))","v":""},{"$f":"IF(B566=\"\",\"\",IF(VLOOKUP(B566,'Oman Results'!C566:AI1559,31)=\"x\",'Oman Results'!AJ566,\"\"))","v":""},{"$f":"IF(B566=\"\",\"\",IF(VLOOKUP(B566,'Oman Results'!C566:AI1559,31)=\"x\",'Oman Results'!AK566,\"\"))","v":""},null,null,"","","",""]
["",{"$f":"IF('Oman Results'!C567=\"\",\"\",'Oman Results'!C567)","v":""},{"$f":"IF(OR('Oman Results'!D567=\"\",'Oman Results'!D567=\"Totals\"),\"\",'Oman Results'!D567)","v":""},"",{"$f":"IF('Oman Results'!E567=\"\",\"\",'Oman Results'!E567)","v":""},{"$f":"IF('Oman Results'!F567=\"\",\"\",'Oman Results'!F567)","v":""},{"$f":"IF(B567=\"\",\"\",IF(VLOOKUP(B567,'Oman Results'!C567:AI1560,31)=\"x\",'Oman Results'!AK567,'Oman Results'!G567))","v":""},"",{"$f":"IF(B567=\"\",\"\",IF(VLOOKUP(B567,'Oman Results'!C567:AI1560,31)=\"x\",\"Yes\",\"\"))","v":""},{"$f":"IF(B567=\"\",\"\",IF(VLOOKUP(B567,'Oman Results'!C567:AI1560,31)=\"x\",'Oman Results'!G567,\"\"))","v":""},{"$f":"IF(B567=\"\",\"\",IF(VLOOKUP(B567,'Oman Results'!C567:AI1560,31)=\"x\",'Oman Results'!AJ567,\"\"))","v":""},{"$f":"IF(B567=\"\",\"\",IF(VLOOKUP(B567,'Oman Results'!C567:AI1560,31)=\"x\",'Oman Results'!AK567,\"\"))","v":""},null,null,"","","",""]
["",{"$f":"IF('Oman Results'!C568=\"\",\"\",'Oman Results'!C568)","v":""},{"$f":"IF(OR('Oman Results'!D568=\"\",'Oman Results'!D568=\"Totals\"),\"\",'Oman Results'!D568)","v":""},"",{"$f":"IF('Oman Results'!E568=\"\",\"\",'Oman Results'!E568)","v":""},{"$f":"IF('Oman Results'!F568=\"\",\"\",'Oman Results'!F568)","v":""},{"$f":"IF(B568=\"\",\"\",IF(VLOOKUP(B568,'Oman Results'!C568:AI1561,31)=\"x\",'Oman Results'!AK568,'Oman Results'!G568))","v":""},"",{"$f":"IF(B568=\"\",\"\",IF(VLOOKUP(B568,'Oman Results'!C568:AI1561,31)=\"x\",\"Yes\",\"\"))","v":""},{"$f":"IF(B568=\"\",\"\",IF(VLOOKUP(B568,'Oman Results'!C568:AI1561,31)=\"x\",'Oman Results'!G568,\"\"))","v":""},{"$f":"IF(B568=\"\",\"\",IF(VLOOKUP(B568,'Oman Results'!C568:AI1561,31)=\"x\",'Oman Results'!AJ568,\"\"))","v":""},{"$f":"IF(B568=\"\",\"\",IF(VLOOKUP(B568,'Oman Results'!C568:AI1561,31)=\"x\",'Oman Results'!AK568,\"\"))","v":""},null,null,"","","",""]
["",{"$f":"IF('Oman Results'!C569=\"\",\"\",'Oman Results'!C569)","v":""},{"$f":"IF(OR('Oman Results'!D569=\"\",'Oman Results'!D569=\"Totals\"),\"\",'Oman Results'!D569)","v":""},"",{"$f":"IF('Oman Results'!E569=\"\",\"\",'Oman Results'!E569)","v":""},{"$f":"IF('Oman Results'!F569=\"\",\"\",'Oman Results'!F569)","v":""},{"$f":"IF(B569=\"\",\"\",IF(VLOOKUP(B569,'Oman Results'!C569:AI1562,31)=\"x\",'Oman Results'!AK569,'Oman Results'!G569))","v":""},"",{"$f":"IF(B569=\"\",\"\",IF(VLOOKUP(B569,'Oman Results'!C569:AI1562,31)=\"x\",\"Yes\",\"\"))","v":""},{"$f":"IF(B569=\"\",\"\",IF(VLOOKUP(B569,'Oman Results'!C569:AI1562,31)=\"x\",'Oman Results'!G569,\"\"))","v":""},{"$f":"IF(B569=\"\",\"\",IF(VLOOKUP(B569,'Oman Results'!C569:AI1562,31)=\"x\",'Oman Results'!AJ569,\"\"))","v":""},{"$f":"IF(B569=\"\",\"\",IF(VLOOKUP(B569,'Oman Results'!C569:AI1562,31)=\"x\",'Oman Results'!AK569,\"\"))","v":""},null,null,"","","",""]
["",{"$f":"IF('Oman Results'!C570=\"\",\"\",'Oman Results'!C570)","v":""},{"$f":"IF(OR('Oman Results'!D570=\"\",'Oman Results'!D570=\"Totals\"),\"\",'Oman Results'!D570)","v":""},"",{"$f":"IF('Oman Results'!E570=\"\",\"\",'Oman Results'!E570)","v":""},{"$f":"IF('Oman Results'!F570=\"\",\"\",'Oman Results'!F570)","v":""},{"$f":"IF(B570=\"\",\"\",IF(VLOOKUP(B570,'Oman Results'!C570:AI1563,31)=\"x\",'Oman Results'!AK570,'Oman Results'!G570))","v":""},"",{"$f":"IF(B570=\"\",\"\",IF(VLOOKUP(B570,'Oman Results'!C570:AI1563,31)=\"x\",\"Yes\",\"\"))","v":""},{"$f":"IF(B570=\"\",\"\",IF(VLOOKUP(B570,'Oman Results'!C570:AI1563,31)=\"x\",'Oman Results'!G570,\"\"))","v":""},{"$f":"IF(B570=\"\",\"\",IF(VLOOKUP(B570,'Oman Results'!C570:AI1563,31)=\"x\",'Oman Results'!AJ570,\"\"))","v":""},{"$f":"IF(B570=\"\",\"\",IF(VLOOKUP(B570,'Oman Results'!C570:AI1563,31)=\"x\",'Oman Results'!AK570,\"\"))","v":""},null,null,"","","",""]
["",{"$f":"IF('Oman Results'!C571=\"\",\"\",'Oman Results'!C571)","v":""},{"$f":"IF(OR('Oman Results'!D571=\"\",'Oman Results'!D571=\"Totals\"),\"\",'Oman Results'!D571)","v":""},"",{"$f":"IF('Oman Results'!E571=\"\",\"\",'Oman Results'!E571)","v":""},{"$f":"IF('Oman Results'!F571=\"\",\"\",'Oman Results'!F571)","v":""},{"$f":"IF(B571=\"\",\"\",IF(VLOOKUP(B571,'Oman Results'!C571:AI1564,31)=\"x\",'Oman Results'!AK571,'Oman Results'!G571))","v":""},"",{"$f":"IF(B571=\"\",\"\",IF(VLOOKUP(B571,'Oman Results'!C571:AI1564,31)=\"x\",\"Yes\",\"\"))","v":""},{"$f":"IF(B571=\"\",\"\",IF(VLOOKUP(B571,'Oman Results'!C571:AI1564,31)=\"x\",'Oman Results'!G571,\"\"))","v":""},{"$f":"IF(B571=\"\",\"\",IF(VLOOKUP(B571,'Oman Results'!C571:AI1564,31)=\"x\",'Oman Results'!AJ571,\"\"))","v":""},{"$f":"IF(B571=\"\",\"\",IF(VLOOKUP(B571,'Oman Results'!C571:AI1564,31)=\"x\",'Oman Results'!AK571,\"\"))","v":""},null,null,"","","",""]
["",{"$f":"IF('Oman Results'!C572=\"\",\"\",'Oman Results'!C572)","v":""},{"$f":"IF(OR('Oman Results'!D572=\"\",'Oman Results'!D572=\"Totals\"),\"\",'Oman Results'!D572)","v":""},"",{"$f":"IF('Oman Results'!E572=\"\",\"\",'Oman Results'!E572)","v":""},{"$f":"IF('Oman Results'!F572=\"\",\"\",'Oman Results'!F572)","v":""},{"$f":"IF(B572=\"\",\"\",IF(VLOOKUP(B572,'Oman Results'!C572:AI1565,31)=\"x\",'Oman Results'!AK572,'Oman Results'!G572))","v":""},"",{"$f":"IF(B572=\"\",\"\",IF(VLOOKUP(B572,'Oman Results'!C572:AI1565,31)=\"x\",\"Yes\",\"\"))","v":""},{"$f":"IF(B572=\"\",\"\",IF(VLOOKUP(B572,'Oman Results'!C572:AI1565,31)=\"x\",'Oman Results'!G572,\"\"))","v":""},{"$f":"IF(B572=\"\",\"\",IF(VLOOKUP(B572,'Oman Results'!C572:AI1565,31)=\"x\",'Oman Results'!AJ572,\"\"))","v":""},{"$f":"IF(B572=\"\",\"\",IF(VLOOKUP(B572,'Oman Results'!C572:AI1565,31)=\"x\",'Oman Results'!AK572,\"\"))","v":""},null,null,"","","",""]
["",{"$f":"IF('Oman Results'!C573=\"\",\"\",'Oman Results'!C573)","v":""},{"$f":"IF(OR('Oman Results'!D573=\"\",'Oman Results'!D573=\"Totals\"),\"\",'Oman Results'!D573)","v":""},"",{"$f":"IF('Oman Results'!E573=\"\",\"\",'Oman Results'!E573)","v":""},{"$f":"IF('Oman Results'!F573=\"\",\"\",'Oman Results'!F573)","v":""},{"$f":"IF(B573=\"\",\"\",IF(VLOOKUP(B573,'Oman Results'!C573:AI1566,31)=\"x\",'Oman Results'!AK573,'Oman Results'!G573))","v":""},"",{"$f":"IF(B573=\"\",\"\",IF(VLOOKUP(B573,'Oman Results'!C573:AI1566,31)=\"x\",\"Yes\",\"\"))","v":""},{"$f":"IF(B573=\"\",\"\",IF(VLOOKUP(B573,'Oman Results'!C573:AI1566,31)=\"x\",'Oman Results'!G573,\"\"))","v":""},{"$f":"IF(B573=\"\",\"\",IF(VLOOKUP(B573,'Oman Results'!C573:AI1566,31)=\"x\",'Oman Results'!AJ573,\"\"))","v":""},{"$f":"IF(B573=\"\",\"\",IF(VLOOKUP(B573,'Oman Results'!C573:AI1566,31)=\"x\",'Oman Results'!AK573,\"\"))","v":""},null,null,"","","",""]
["",{"$f":"IF('Oman Results'!C574=\"\",\"\",'Oman Results'!C574)","v":""},{"$f":"IF(OR('Oman Results'!D574=\"\",'Oman Results'!D574=\"Totals\"),\"\",'Oman Results'!D574)","v":""},"",{"$f":"IF('Oman Results'!E574=\"\",\"\",'Oman Results'!E574)","v":""},{"$f":"IF('Oman Results'!F574=\"\",\"\",'Oman Results'!F574)","v":""},{"$f":"IF(B574=\"\",\"\",IF(VLOOKUP(B574,'Oman Results'!C574:AI1567,31)=\"x\",'Oman Results'!AK574,'Oman Results'!G574))","v":""},"",{"$f":"IF(B574=\"\",\"\",IF(VLOOKUP(B574,'Oman Results'!C574:AI1567,31)=\"x\",\"Yes\",\"\"))","v":""},{"$f":"IF(B574=\"\",\"\",IF(VLOOKUP(B574,'Oman Results'!C574:AI1567,31)=\"x\",'Oman Results'!G574,\"\"))","v":""},{"$f":"IF(B574=\"\",\"\",IF(VLOOKUP(B574,'Oman Results'!C574:AI1567,31)=\"x\",'Oman Results'!AJ574,\"\"))","v":""},{"$f":"IF(B574=\"\",\"\",IF(VLOOKUP(B574,'Oman Results'!C574:AI1567,31)=\"x\",'Oman Results'!AK574,\"\"))","v":""},null,null,"","","",""]
["",{"$f":"IF('Oman Results'!C575=\"\",\"\",'Oman Results'!C575)","v":""},{"$f":"IF(OR('Oman Results'!D575=\"\",'Oman Results'!D575=\"Totals\"),\"\",'Oman Results'!D575)","v":""},"",{"$f":"IF('Oman Results'!E575=\"\",\"\",'Oman Results'!E575)","v":""},{"$f":"IF('Oman Results'!F575=\"\",\"\",'Oman Results'!F575)","v":""},{"$f":"IF(B575=\"\",\"\",IF(VLOOKUP(B575,'Oman Results'!C575:AI1568,31)=\"x\",'Oman Results'!AK575,'Oman Results'!G575))","v":""},"",{"$f":"IF(B575=\"\",\"\",IF(VLOOKUP(B575,'Oman Results'!C575:AI1568,31)=\"x\",\"Yes\",\"\"))","v":""},{"$f":"IF(B575=\"\",\"\",IF(VLOOKUP(B575,'Oman Results'!C575:AI1568,31)=\"x\",'Oman Results'!G575,\"\"))","v":""},{"$f":"IF(B575=\"\",\"\",IF(VLOOKUP(B575,'Oman Results'!C575:AI1568,31)=\"x\",'Oman Results'!AJ575,\"\"))","v":""},{"$f":"IF(B575=\"\",\"\",IF(VLOOKUP(B575,'Oman Results'!C575:AI1568,31)=\"x\",'Oman Results'!AK575,\"\"))","v":""},null,null,"","","",""]
["",{"$f":"IF('Oman Results'!C576=\"\",\"\",'Oman Results'!C576)","v":""},{"$f":"IF(OR('Oman Results'!D576=\"\",'Oman Results'!D576=\"Totals\"),\"\",'Oman Results'!D576)","v":""},"",{"$f":"IF('Oman Results'!E576=\"\",\"\",'Oman Results'!E576)","v":""},{"$f":"IF('Oman Results'!F576=\"\",\"\",'Oman Results'!F576)","v":""},{"$f":"IF(B576=\"\",\"\",IF(VLOOKUP(B576,'Oman Results'!C576:AI1569,31)=\"x\",'Oman Results'!AK576,'Oman Results'!G576))","v":""},"",{"$f":"IF(B576=\"\",\"\",IF(VLOOKUP(B576,'Oman Results'!C576:AI1569,31)=\"x\",\"Yes\",\"\"))","v":""},{"$f":"IF(B576=\"\",\"\",IF(VLOOKUP(B576,'Oman Results'!C576:AI1569,31)=\"x\",'Oman Results'!G576,\"\"))","v":""},{"$f":"IF(B576=\"\",\"\",IF(VLOOKUP(B576,'Oman Results'!C576:AI1569,31)=\"x\",'Oman Results'!AJ576,\"\"))","v":""},{"$f":"IF(B576=\"\",\"\",IF(VLOOKUP(B576,'Oman Results'!C576:AI1569,31)=\"x\",'Oman Results'!AK576,\"\"))","v":""},null,null,"","","",""]
["",{"$f":"IF('Oman Results'!C577=\"\",\"\",'Oman Results'!C577)","v":""},{"$f":"IF(OR('Oman Results'!D577=\"\",'Oman Results'!D577=\"Totals\"),\"\",'Oman Results'!D577)","v":""},"",{"$f":"IF('Oman Results'!E577=\"\",\"\",'Oman Results'!E577)","v":""},{"$f":"IF('Oman Results'!F577=\"\",\"\",'Oman Results'!F577)","v":""},{"$f":"IF(B577=\"\",\"\",IF(VLOOKUP(B577,'Oman Results'!C577:AI1570,31)=\"x\",'Oman Results'!AK577,'Oman Results'!G577))","v":""},"",{"$f":"IF(B577=\"\",\"\",IF(VLOOKUP(B577,'Oman Results'!C577:AI1570,31)=\"x\",\"Yes\",\"\"))","v":""},{"$f":"IF(B577=\"\",\"\",IF(VLOOKUP(B577,'Oman Results'!C577:AI1570,31)=\"x\",'Oman Results'!G577,\"\"))","v":""},{"$f":"IF(B577=\"\",\"\",IF(VLOOKUP(B577,'Oman Results'!C577:AI1570,31)=\"x\",'Oman Results'!AJ577,\"\"))","v":""},{"$f":"IF(B577=\"\",\"\",IF(VLOOKUP(B577,'Oman Results'!C577:AI1570,31)=\"x\",'Oman Results'!AK577,\"\"))","v":""},null,null,"","","",""]
["",{"$f":"IF('Oman Results'!C578=\"\",\"\",'Oman Results'!C578)","v":""},{"$f":"IF(OR('Oman Results'!D578=\"\",'Oman Results'!D578=\"Totals\"),\"\",'Oman Results'!D578)","v":""},"",{"$f":"IF('Oman Results'!E578=\"\",\"\",'Oman Results'!E578)","v":""},{"$f":"IF('Oman Results'!F578=\"\",\"\",'Oman Results'!F578)","v":""},{"$f":"IF(B578=\"\",\"\",IF(VLOOKUP(B578,'Oman Results'!C578:AI1571,31)=\"x\",'Oman Results'!AK578,'Oman Results'!G578))","v":""},"",{"$f":"IF(B578=\"\",\"\",IF(VLOOKUP(B578,'Oman Results'!C578:AI1571,31)=\"x\",\"Yes\",\"\"))","v":""},{"$f":"IF(B578=\"\",\"\",IF(VLOOKUP(B578,'Oman Results'!C578:AI1571,31)=\"x\",'Oman Results'!G578,\"\"))","v":""},{"$f":"IF(B578=\"\",\"\",IF(VLOOKUP(B578,'Oman Results'!C578:AI1571,31)=\"x\",'Oman Results'!AJ578,\"\"))","v":""},{"$f":"IF(B578=\"\",\"\",IF(VLOOKUP(B578,'Oman Results'!C578:AI1571,31)=\"x\",'Oman Results'!AK578,\"\"))","v":""},null,null,"",{"$f":"IF(O578=1,G578,\"\")","v":""},"",{"$f":"IF(O578=1,\"\",H578)","v":""}]
["",{"$f":"IF('Oman Results'!C579=\"\",\"\",'Oman Results'!C579)","v":""},{"$f":"IF(OR('Oman Results'!D579=\"\",'Oman Results'!D579=\"Totals\"),\"\",'Oman Results'!D579)","v":""},{"$f":"IF(ISNUMBER(SEARCH(\"{\",C579)),\"Yes\", \"\")","v":""},{"$f":"IF('Oman Results'!E579=\"\",\"\",'Oman Results'!E579)","v":""},{"$f":"IF('Oman Results'!F579=\"\",\"\",'Oman Results'!F579)","v":""},{"$f":"IF(B579=\"\",\"\",IF(VLOOKUP(B579,'Oman Results'!C579:AI1572,31)=\"x\",'Oman Results'!AK579,'Oman Results'!G579))","v":""},{"$f":"IF(E579=\"\",\"\",E579*G579)","v":""},{"$f":"IF(B579=\"\",\"\",IF(VLOOKUP(B579,'Oman Results'!C579:AI1572,31)=\"x\",\"Yes\",\"\"))","v":""},{"$f":"IF(B579=\"\",\"\",IF(VLOOKUP(B579,'Oman Results'!C579:AI1572,31)=\"x\",'Oman Results'!G579,\"\"))","v":""},{"$f":"IF(B579=\"\",\"\",IF(VLOOKUP(B579,'Oman Results'!C579:AI1572,31)=\"x\",'Oman Results'!AJ579,\"\"))","v":""},{"$f":"IF(B579=\"\",\"\",IF(VLOOKUP(B579,'Oman Results'!C579:AI1572,31)=\"x\",'Oman Results'!AK579,\"\"))","v":""},null,null,{"$f":"IF(OR(LEFT(F579,3)=\"L.S\",LEFT(F579,2)=\"LS\"),1,\"\")","v":""},"",{"$f":"IF(I579=\"Yes\",G579,\"\")","v":""},""]
[{"$f":"IF(B580=\"\",\"\",1+A579)","v":""},{"$f":"IF('Oman Results'!C580=\"\",\"\",'Oman Results'!C580)","v":""},{"$f":"IF(OR('Oman Results'!D580=\"\",'Oman Results'!D580=\"Totals\"),\"\",'Oman Results'!D580)","v":""},"",{"$f":"IF('Oman Results'!E580=\"\",\"\",'Oman Results'!E580)","v":""},{"$f":"IF('Oman Results'!F580=\"\",\"\",'Oman Results'!F580)","v":""},{"$f":"IF(B580=\"\",\"\",IF(VLOOKUP(B580,'Oman Results'!C580:AI1573,31)=\"x\",'Oman Results'!AK580,'Oman Results'!G580))","v":""},"",{"$f":"IF(B580=\"\",\"\",IF(VLOOKUP(B580,'Oman Results'!C580:AI1573,31)=\"x\",\"Yes\",\"\"))","v":""},{"$f":"IF(B580=\"\",\"\",IF(VLOOKUP(B580,'Oman Results'!C580:AI1573,31)=\"x\",'Oman Results'!G580,\"\"))","v":""},{"$f":"IF(B580=\"\",\"\",IF(VLOOKUP(B580,'Oman Results'!C580:AI1573,31)=\"x\",'Oman Results'!AJ580,\"\"))","v":""},{"$f":"IF(B580=\"\",\"\",IF(VLOOKUP(B580,'Oman Results'!C580:AI1573,31)=\"x\",'Oman Results'!AK580,\"\"))","v":""},null,null,"","","",""]
["",{"$f":"IF('Oman Results'!C581=\"\",\"\",'Oman Results'!C581)","v":""},{"$f":"IF(OR('Oman Results'!D581=\"\",'Oman Results'!D581=\"Totals\"),\"\",'Oman Results'!D581)","v":""},"",{"$f":"IF('Oman Results'!E581=\"\",\"\",'Oman Results'!E581)","v":""},{"$f":"IF('Oman Results'!F581=\"\",\"\",'Oman Results'!F581)","v":""},{"$f":"IF(B581=\"\",\"\",IF(VLOOKUP(B581,'Oman Results'!C581:AI1574,31)=\"x\",'Oman Results'!AK581,'Oman Results'!G581))","v":""},"",{"$f":"IF(B581=\"\",\"\",IF(VLOOKUP(B581,'Oman Results'!C581:AI1574,31)=\"x\",\"Yes\",\"\"))","v":""},{"$f":"IF(B581=\"\",\"\",IF(VLOOKUP(B581,'Oman Results'!C581:AI1574,31)=\"x\",'Oman Results'!G581,\"\"))","v":""},{"$f":"IF(B581=\"\",\"\",IF(VLOOKUP(B581,'Oman Results'!C581:AI1574,31)=\"x\",'Oman Results'!AJ581,\"\"))","v":""},{"$f":"IF(B581=\"\",\"\",IF(VLOOKUP(B581,'Oman Results'!C581:AI1574,31)=\"x\",'Oman Results'!AK581,\"\"))","v":""},null,null,"","","",""]
["",{"$f":"IF('Oman Results'!C582=\"\",\"\",'Oman Results'!C582)","v":""},{"$f":"IF(OR('Oman Results'!D582=\"\",'Oman Results'!D582=\"Totals\"),\"\",'Oman Results'!D582)","v":""},"",{"$f":"IF('Oman Results'!E582=\"\",\"\",'Oman Results'!E582)","v":""},{"$f":"IF('Oman Results'!F582=\"\",\"\",'Oman Results'!F582)","v":""},{"$f":"IF(B582=\"\",\"\",IF(VLOOKUP(B582,'Oman Results'!C582:AI1575,31)=\"x\",'Oman Results'!AK582,'Oman Results'!G582))","v":""},"",{"$f":"IF(B582=\"\",\"\",IF(VLOOKUP(B582,'Oman Results'!C582:AI1575,31)=\"x\",\"Yes\",\"\"))","v":""},{"$f":"IF(B582=\"\",\"\",IF(VLOOKUP(B582,'Oman Results'!C582:AI1575,31)=\"x\",'Oman Results'!G582,\"\"))","v":""},{"$f":"IF(B582=\"\",\"\",IF(VLOOKUP(B582,'Oman Results'!C582:AI1575,31)=\"x\",'Oman Results'!AJ582,\"\"))","v":""},{"$f":"IF(B582=\"\",\"\",IF(VLOOKUP(B582,'Oman Results'!C582:AI1575,31)=\"x\",'Oman Results'!AK582,\"\"))","v":""},null,null,"","","",""]
["",{"$f":"IF('Oman Results'!C583=\"\",\"\",'Oman Results'!C583)","v":""},{"$f":"IF(OR('Oman Results'!D583=\"\",'Oman Results'!D583=\"Totals\"),\"\",'Oman Results'!D583)","v":""},"",{"$f":"IF('Oman Results'!E583=\"\",\"\",'Oman Results'!E583)","v":""},{"$f":"IF('Oman Results'!F583=\"\",\"\",'Oman Results'!F583)","v":""},{"$f":"IF(B583=\"\",\"\",IF(VLOOKUP(B583,'Oman Results'!C583:AI1576,31)=\"x\",'Oman Results'!AK583,'Oman Results'!G583))","v":""},"",{"$f":"IF(B583=\"\",\"\",IF(VLOOKUP(B583,'Oman Results'!C583:AI1576,31)=\"x\",\"Yes\",\"\"))","v":""},{"$f":"IF(B583=\"\",\"\",IF(VLOOKUP(B583,'Oman Results'!C583:AI1576,31)=\"x\",'Oman Results'!G583,\"\"))","v":""},{"$f":"IF(B583=\"\",\"\",IF(VLOOKUP(B583,'Oman Results'!C583:AI1576,31)=\"x\",'Oman Results'!AJ583,\"\"))","v":""},{"$f":"IF(B583=\"\",\"\",IF(VLOOKUP(B583,'Oman Results'!C583:AI1576,31)=\"x\",'Oman Results'!AK583,\"\"))","v":""},null,null,"","","",""]
["",{"$f":"IF('Oman Results'!C584=\"\",\"\",'Oman Results'!C584)","v":""},{"$f":"IF(OR('Oman Results'!D584=\"\",'Oman Results'!D584=\"Totals\"),\"\",'Oman Results'!D584)","v":""},"",{"$f":"IF('Oman Results'!E584=\"\",\"\",'Oman Results'!E584)","v":""},{"$f":"IF('Oman Results'!F584=\"\",\"\",'Oman Results'!F584)","v":""},{"$f":"IF(B584=\"\",\"\",IF(VLOOKUP(B584,'Oman Results'!C584:AI1577,31)=\"x\",'Oman Results'!AK584,'Oman Results'!G584))","v":""},"",{"$f":"IF(B584=\"\",\"\",IF(VLOOKUP(B584,'Oman Results'!C584:AI1577,31)=\"x\",\"Yes\",\"\"))","v":""},{"$f":"IF(B584=\"\",\"\",IF(VLOOKUP(B584,'Oman Results'!C584:AI1577,31)=\"x\",'Oman Results'!G584,\"\"))","v":""},{"$f":"IF(B584=\"\",\"\",IF(VLOOKUP(B584,'Oman Results'!C584:AI1577,31)=\"x\",'Oman Results'!AJ584,\"\"))","v":""},{"$f":"IF(B584=\"\",\"\",IF(VLOOKUP(B584,'Oman Results'!C584:AI1577,31)=\"x\",'Oman Results'!AK584,\"\"))","v":""},null,null,"","","",""]
["",{"$f":"IF('Oman Results'!C585=\"\",\"\",'Oman Results'!C585)","v":""},{"$f":"IF(OR('Oman Results'!D585=\"\",'Oman Results'!D585=\"Totals\"),\"\",'Oman Results'!D585)","v":""},"",{"$f":"IF('Oman Results'!E585=\"\",\"\",'Oman Results'!E585)","v":""},{"$f":"IF('Oman Results'!F585=\"\",\"\",'Oman Results'!F585)","v":""},{"$f":"IF(B585=\"\",\"\",IF(VLOOKUP(B585,'Oman Results'!C585:AI1578,31)=\"x\",'Oman Results'!AK585,'Oman Results'!G585))","v":""},"",{"$f":"IF(B585=\"\",\"\",IF(VLOOKUP(B585,'Oman Results'!C585:AI1578,31)=\"x\",\"Yes\",\"\"))","v":""},{"$f":"IF(B585=\"\",\"\",IF(VLOOKUP(B585,'Oman Results'!C585:AI1578,31)=\"x\",'Oman Results'!G585,\"\"))","v":""},{"$f":"IF(B585=\"\",\"\",IF(VLOOKUP(B585,'Oman Results'!C585:AI1578,31)=\"x\",'Oman Results'!AJ585,\"\"))","v":""},{"$f":"IF(B585=\"\",\"\",IF(VLOOKUP(B585,'Oman Results'!C585:AI1578,31)=\"x\",'Oman Results'!AK585,\"\"))","v":""},null,null,"","","",""]
["",{"$f":"IF('Oman Results'!C586=\"\",\"\",'Oman Results'!C586)","v":""},{"$f":"IF(OR('Oman Results'!D586=\"\",'Oman Results'!D586=\"Totals\"),\"\",'Oman Results'!D586)","v":""},"",{"$f":"IF('Oman Results'!E586=\"\",\"\",'Oman Results'!E586)","v":""},{"$f":"IF('Oman Results'!F586=\"\",\"\",'Oman Results'!F586)","v":""},{"$f":"IF(B586=\"\",\"\",IF(VLOOKUP(B586,'Oman Results'!C586:AI1579,31)=\"x\",'Oman Results'!AK586,'Oman Results'!G586))","v":""},"",{"$f":"IF(B586=\"\",\"\",IF(VLOOKUP(B586,'Oman Results'!C586:AI1579,31)=\"x\",\"Yes\",\"\"))","v":""},{"$f":"IF(B586=\"\",\"\",IF(VLOOKUP(B586,'Oman Results'!C586:AI1579,31)=\"x\",'Oman Results'!G586,\"\"))","v":""},{"$f":"IF(B586=\"\",\"\",IF(VLOOKUP(B586,'Oman Results'!C586:AI1579,31)=\"x\",'Oman Results'!AJ586,\"\"))","v":""},{"$f":"IF(B586=\"\",\"\",IF(VLOOKUP(B586,'Oman Results'!C586:AI1579,31)=\"x\",'Oman Results'!AK586,\"\"))","v":""},null,null,"","","",""]
["",{"$f":"IF('Oman Results'!C587=\"\",\"\",'Oman Results'!C587)","v":""},{"$f":"IF(OR('Oman Results'!D587=\"\",'Oman Results'!D587=\"Totals\"),\"\",'Oman Results'!D587)","v":""},"",{"$f":"IF('Oman Results'!E587=\"\",\"\",'Oman Results'!E587)","v":""},{"$f":"IF('Oman Results'!F587=\"\",\"\",'Oman Results'!F587)","v":""},{"$f":"IF(B587=\"\",\"\",IF(VLOOKUP(B587,'Oman Results'!C587:AI1580,31)=\"x\",'Oman Results'!AK587,'Oman Results'!G587))","v":""},"",{"$f":"IF(B587=\"\",\"\",IF(VLOOKUP(B587,'Oman Results'!C587:AI1580,31)=\"x\",\"Yes\",\"\"))","v":""},{"$f":"IF(B587=\"\",\"\",IF(VLOOKUP(B587,'Oman Results'!C587:AI1580,31)=\"x\",'Oman Results'!G587,\"\"))","v":""},{"$f":"IF(B587=\"\",\"\",IF(VLOOKUP(B587,'Oman Results'!C587:AI1580,31)=\"x\",'Oman Results'!AJ587,\"\"))","v":""},{"$f":"IF(B587=\"\",\"\",IF(VLOOKUP(B587,'Oman Results'!C587:AI1580,31)=\"x\",'Oman Results'!AK587,\"\"))","v":""},null,null,"","","",""]
["",{"$f":"IF('Oman Results'!C588=\"\",\"\",'Oman Results'!C588)","v":""},{"$f":"IF(OR('Oman Results'!D588=\"\",'Oman Results'!D588=\"Totals\"),\"\",'Oman Results'!D588)","v":""},"",{"$f":"IF('Oman Results'!E588=\"\",\"\",'Oman Results'!E588)","v":""},{"$f":"IF('Oman Results'!F588=\"\",\"\",'Oman Results'!F588)","v":""},{"$f":"IF(B588=\"\",\"\",IF(VLOOKUP(B588,'Oman Results'!C588:AI1581,31)=\"x\",'Oman Results'!AK588,'Oman Results'!G588))","v":""},"",{"$f":"IF(B588=\"\",\"\",IF(VLOOKUP(B588,'Oman Results'!C588:AI1581,31)=\"x\",\"Yes\",\"\"))","v":""},{"$f":"IF(B588=\"\",\"\",IF(VLOOKUP(B588,'Oman Results'!C588:AI1581,31)=\"x\",'Oman Results'!G588,\"\"))","v":""},{"$f":"IF(B588=\"\",\"\",IF(VLOOKUP(B588,'Oman Results'!C588:AI1581,31)=\"x\",'Oman Results'!AJ588,\"\"))","v":""},{"$f":"IF(B588=\"\",\"\",IF(VLOOKUP(B588,'Oman Results'!C588:AI1581,31)=\"x\",'Oman Results'!AK588,\"\"))","v":""},null,null,"","","",""]
["",{"$f":"IF('Oman Results'!C589=\"\",\"\",'Oman Results'!C589)","v":""},{"$f":"IF(OR('Oman Results'!D589=\"\",'Oman Results'!D589=\"Totals\"),\"\",'Oman Results'!D589)","v":""},"",{"$f":"IF('Oman Results'!E589=\"\",\"\",'Oman Results'!E589)","v":""},{"$f":"IF('Oman Results'!F589=\"\",\"\",'Oman Results'!F589)","v":""},{"$f":"IF(B589=\"\",\"\",IF(VLOOKUP(B589,'Oman Results'!C589:AI1582,31)=\"x\",'Oman Results'!AK589,'Oman Results'!G589))","v":""},"",{"$f":"IF(B589=\"\",\"\",IF(VLOOKUP(B589,'Oman Results'!C589:AI1582,31)=\"x\",\"Yes\",\"\"))","v":""},{"$f":"IF(B589=\"\",\"\",IF(VLOOKUP(B589,'Oman Results'!C589:AI1582,31)=\"x\",'Oman Results'!G589,\"\"))","v":""},{"$f":"IF(B589=\"\",\"\",IF(VLOOKUP(B589,'Oman Results'!C589:AI1582,31)=\"x\",'Oman Results'!AJ589,\"\"))","v":""},{"$f":"IF(B589=\"\",\"\",IF(VLOOKUP(B589,'Oman Results'!C589:AI1582,31)=\"x\",'Oman Results'!AK589,\"\"))","v":""},null,null,"","","",""]
["",{"$f":"IF('Oman Results'!C590=\"\",\"\",'Oman Results'!C590)","v":""},{"$f":"IF(OR('Oman Results'!D590=\"\",'Oman Results'!D590=\"Totals\"),\"\",'Oman Results'!D590)","v":""},"",{"$f":"IF('Oman Results'!E590=\"\",\"\",'Oman Results'!E590)","v":""},{"$f":"IF('Oman Results'!F590=\"\",\"\",'Oman Results'!F590)","v":""},{"$f":"IF(B590=\"\",\"\",IF(VLOOKUP(B590,'Oman Results'!C590:AI1583,31)=\"x\",'Oman Results'!AK590,'Oman Results'!G590))","v":""},"",{"$f":"IF(B590=\"\",\"\",IF(VLOOKUP(B590,'Oman Results'!C590:AI1583,31)=\"x\",\"Yes\",\"\"))","v":""},{"$f":"IF(B590=\"\",\"\",IF(VLOOKUP(B590,'Oman Results'!C590:AI1583,31)=\"x\",'Oman Results'!G590,\"\"))","v":""},{"$f":"IF(B590=\"\",\"\",IF(VLOOKUP(B590,'Oman Results'!C590:AI1583,31)=\"x\",'Oman Results'!AJ590,\"\"))","v":""},{"$f":"IF(B590=\"\",\"\",IF(VLOOKUP(B590,'Oman Results'!C590:AI1583,31)=\"x\",'Oman Results'!AK590,\"\"))","v":""},null,null,"","","",""]
["",{"$f":"IF('Oman Results'!C591=\"\",\"\",'Oman Results'!C591)","v":""},{"$f":"IF(OR('Oman Results'!D591=\"\",'Oman Results'!D591=\"Totals\"),\"\",'Oman Results'!D591)","v":""},"",{"$f":"IF('Oman Results'!E591=\"\",\"\",'Oman Results'!E591)","v":""},{"$f":"IF('Oman Results'!F591=\"\",\"\",'Oman Results'!F591)","v":""},{"$f":"IF(B591=\"\",\"\",IF(VLOOKUP(B591,'Oman Results'!C591:AI1584,31)=\"x\",'Oman Results'!AK591,'Oman Results'!G591))","v":""},"",{"$f":"IF(B591=\"\",\"\",IF(VLOOKUP(B591,'Oman Results'!C591:AI1584,31)=\"x\",\"Yes\",\"\"))","v":""},{"$f":"IF(B591=\"\",\"\",IF(VLOOKUP(B591,'Oman Results'!C591:AI1584,31)=\"x\",'Oman Results'!G591,\"\"))","v":""},{"$f":"IF(B591=\"\",\"\",IF(VLOOKUP(B591,'Oman Results'!C591:AI1584,31)=\"x\",'Oman Results'!AJ591,\"\"))","v":""},{"$f":"IF(B591=\"\",\"\",IF(VLOOKUP(B591,'Oman Results'!C591:AI1584,31)=\"x\",'Oman Results'!AK591,\"\"))","v":""},null,null,"","","",""]
["",{"$f":"IF('Oman Results'!C592=\"\",\"\",'Oman Results'!C592)","v":""},{"$f":"IF(OR('Oman Results'!D592=\"\",'Oman Results'!D592=\"Totals\"),\"\",'Oman Results'!D592)","v":""},"",{"$f":"IF('Oman Results'!E592=\"\",\"\",'Oman Results'!E592)","v":""},{"$f":"IF('Oman Results'!F592=\"\",\"\",'Oman Results'!F592)","v":""},{"$f":"IF(B592=\"\",\"\",IF(VLOOKUP(B592,'Oman Results'!C592:AI1585,31)=\"x\",'Oman Results'!AK592,'Oman Results'!G592))","v":""},"",{"$f":"IF(B592=\"\",\"\",IF(VLOOKUP(B592,'Oman Results'!C592:AI1585,31)=\"x\",\"Yes\",\"\"))","v":""},{"$f":"IF(B592=\"\",\"\",IF(VLOOKUP(B592,'Oman Results'!C592:AI1585,31)=\"x\",'Oman Results'!G592,\"\"))","v":""},{"$f":"IF(B592=\"\",\"\",IF(VLOOKUP(B592,'Oman Results'!C592:AI1585,31)=\"x\",'Oman Results'!AJ592,\"\"))","v":""},{"$f":"IF(B592=\"\",\"\",IF(VLOOKUP(B592,'Oman Results'!C592:AI1585,31)=\"x\",'Oman Results'!AK592,\"\"))","v":""},null,null,"","","",""]
["",{"$f":"IF('Oman Results'!C593=\"\",\"\",'Oman Results'!C593)","v":""},{"$f":"IF(OR('Oman Results'!D593=\"\",'Oman Results'!D593=\"Totals\"),\"\",'Oman Results'!D593)","v":""},"",{"$f":"IF('Oman Results'!E593=\"\",\"\",'Oman Results'!E593)","v":""},{"$f":"IF('Oman Results'!F593=\"\",\"\",'Oman Results'!F593)","v":""},{"$f":"IF(B593=\"\",\"\",IF(VLOOKUP(B593,'Oman Results'!C593:AI1586,31)=\"x\",'Oman Results'!AK593,'Oman Results'!G593))","v":""},"",{"$f":"IF(B593=\"\",\"\",IF(VLOOKUP(B593,'Oman Results'!C593:AI1586,31)=\"x\",\"Yes\",\"\"))","v":""},{"$f":"IF(B593=\"\",\"\",IF(VLOOKUP(B593,'Oman Results'!C593:AI1586,31)=\"x\",'Oman Results'!G593,\"\"))","v":""},{"$f":"IF(B593=\"\",\"\",IF(VLOOKUP(B593,'Oman Results'!C593:AI1586,31)=\"x\",'Oman Results'!AJ593,\"\"))","v":""},{"$f":"IF(B593=\"\",\"\",IF(VLOOKUP(B593,'Oman Results'!C593:AI1586,31)=\"x\",'Oman Results'!AK593,\"\"))","v":""},null,null,"","","",""]
["",{"$f":"IF('Oman Results'!C594=\"\",\"\",'Oman Results'!C594)","v":""},{"$f":"IF(OR('Oman Results'!D594=\"\",'Oman Results'!D594=\"Totals\"),\"\",'Oman Results'!D594)","v":""},"",{"$f":"IF('Oman Results'!E594=\"\",\"\",'Oman Results'!E594)","v":""},{"$f":"IF('Oman Results'!F594=\"\",\"\",'Oman Results'!F594)","v":""},{"$f":"IF(B594=\"\",\"\",IF(VLOOKUP(B594,'Oman Results'!C594:AI1587,31)=\"x\",'Oman Results'!AK594,'Oman Results'!G594))","v":""},"",{"$f":"IF(B594=\"\",\"\",IF(VLOOKUP(B594,'Oman Results'!C594:AI1587,31)=\"x\",\"Yes\",\"\"))","v":""},{"$f":"IF(B594=\"\",\"\",IF(VLOOKUP(B594,'Oman Results'!C594:AI1587,31)=\"x\",'Oman Results'!G594,\"\"))","v":""},{"$f":"IF(B594=\"\",\"\",IF(VLOOKUP(B594,'Oman Results'!C594:AI1587,31)=\"x\",'Oman Results'!AJ594,\"\"))","v":""},{"$f":"IF(B594=\"\",\"\",IF(VLOOKUP(B594,'Oman Results'!C594:AI1587,31)=\"x\",'Oman Results'!AK594,\"\"))","v":""},null,null,"","","",""]
["",{"$f":"IF('Oman Results'!C595=\"\",\"\",'Oman Results'!C595)","v":""},{"$f":"IF(OR('Oman Results'!D595=\"\",'Oman Results'!D595=\"Totals\"),\"\",'Oman Results'!D595)","v":""},"",{"$f":"IF('Oman Results'!E595=\"\",\"\",'Oman Results'!E595)","v":""},{"$f":"IF('Oman Results'!F595=\"\",\"\",'Oman Results'!F595)","v":""},{"$f":"IF(B595=\"\",\"\",IF(VLOOKUP(B595,'Oman Results'!C595:AI1588,31)=\"x\",'Oman Results'!AK595,'Oman Results'!G595))","v":""},"",{"$f":"IF(B595=\"\",\"\",IF(VLOOKUP(B595,'Oman Results'!C595:AI1588,31)=\"x\",\"Yes\",\"\"))","v":""},{"$f":"IF(B595=\"\",\"\",IF(VLOOKUP(B595,'Oman Results'!C595:AI1588,31)=\"x\",'Oman Results'!G595,\"\"))","v":""},{"$f":"IF(B595=\"\",\"\",IF(VLOOKUP(B595,'Oman Results'!C595:AI1588,31)=\"x\",'Oman Results'!AJ595,\"\"))","v":""},{"$f":"IF(B595=\"\",\"\",IF(VLOOKUP(B595,'Oman Results'!C595:AI1588,31)=\"x\",'Oman Results'!AK595,\"\"))","v":""},null,null,"","","",""]
["",{"$f":"IF('Oman Results'!C596=\"\",\"\",'Oman Results'!C596)","v":""},{"$f":"IF(OR('Oman Results'!D596=\"\",'Oman Results'!D596=\"Totals\"),\"\",'Oman Results'!D596)","v":""},"",{"$f":"IF('Oman Results'!E596=\"\",\"\",'Oman Results'!E596)","v":""},{"$f":"IF('Oman Results'!F596=\"\",\"\",'Oman Results'!F596)","v":""},{"$f":"IF(B596=\"\",\"\",IF(VLOOKUP(B596,'Oman Results'!C596:AI1589,31)=\"x\",'Oman Results'!AK596,'Oman Results'!G596))","v":""},"",{"$f":"IF(B596=\"\",\"\",IF(VLOOKUP(B596,'Oman Results'!C596:AI1589,31)=\"x\",\"Yes\",\"\"))","v":""},{"$f":"IF(B596=\"\",\"\",IF(VLOOKUP(B596,'Oman Results'!C596:AI1589,31)=\"x\",'Oman Results'!G596,\"\"))","v":""},{"$f":"IF(B596=\"\",\"\",IF(VLOOKUP(B596,'Oman Results'!C596:AI1589,31)=\"x\",'Oman Results'!AJ596,\"\"))","v":""},{"$f":"IF(B596=\"\",\"\",IF(VLOOKUP(B596,'Oman Results'!C596:AI1589,31)=\"x\",'Oman Results'!AK596,\"\"))","v":""},null,null,"","","",""]
["",{"$f":"IF('Oman Results'!C597=\"\",\"\",'Oman Results'!C597)","v":""},{"$f":"IF(OR('Oman Results'!D597=\"\",'Oman Results'!D597=\"Totals\"),\"\",'Oman Results'!D597)","v":""},"",{"$f":"IF('Oman Results'!E597=\"\",\"\",'Oman Results'!E597)","v":""},{"$f":"IF('Oman Results'!F597=\"\",\"\",'Oman Results'!F597)","v":""},{"$f":"IF(B597=\"\",\"\",IF(VLOOKUP(B597,'Oman Results'!C597:AI1590,31)=\"x\",'Oman Results'!AK597,'Oman Results'!G597))","v":""},"",{"$f":"IF(B597=\"\",\"\",IF(VLOOKUP(B597,'Oman Results'!C597:AI1590,31)=\"x\",\"Yes\",\"\"))","v":""},{"$f":"IF(B597=\"\",\"\",IF(VLOOKUP(B597,'Oman Results'!C597:AI1590,31)=\"x\",'Oman Results'!G597,\"\"))","v":""},{"$f":"IF(B597=\"\",\"\",IF(VLOOKUP(B597,'Oman Results'!C597:AI1590,31)=\"x\",'Oman Results'!AJ597,\"\"))","v":""},{"$f":"IF(B597=\"\",\"\",IF(VLOOKUP(B597,'Oman Results'!C597:AI1590,31)=\"x\",'Oman Results'!AK597,\"\"))","v":""},null,null,"","","",""]
["",{"$f":"IF('Oman Results'!C598=\"\",\"\",'Oman Results'!C598)","v":""},{"$f":"IF(OR('Oman Results'!D598=\"\",'Oman Results'!D598=\"Totals\"),\"\",'Oman Results'!D598)","v":""},"",{"$f":"IF('Oman Results'!E598=\"\",\"\",'Oman Results'!E598)","v":""},{"$f":"IF('Oman Results'!F598=\"\",\"\",'Oman Results'!F598)","v":""},{"$f":"IF(B598=\"\",\"\",IF(VLOOKUP(B598,'Oman Results'!C598:AI1591,31)=\"x\",'Oman Results'!AK598,'Oman Results'!G598))","v":""},"",{"$f":"IF(B598=\"\",\"\",IF(VLOOKUP(B598,'Oman Results'!C598:AI1591,31)=\"x\",\"Yes\",\"\"))","v":""},{"$f":"IF(B598=\"\",\"\",IF(VLOOKUP(B598,'Oman Results'!C598:AI1591,31)=\"x\",'Oman Results'!G598,\"\"))","v":""},{"$f":"IF(B598=\"\",\"\",IF(VLOOKUP(B598,'Oman Results'!C598:AI1591,31)=\"x\",'Oman Results'!AJ598,\"\"))","v":""},{"$f":"IF(B598=\"\",\"\",IF(VLOOKUP(B598,'Oman Results'!C598:AI1591,31)=\"x\",'Oman Results'!AK598,\"\"))","v":""},null,null,"","","",""]
["",{"$f":"IF('Oman Results'!C599=\"\",\"\",'Oman Results'!C599)","v":""},{"$f":"IF(OR('Oman Results'!D599=\"\",'Oman Results'!D599=\"Totals\"),\"\",'Oman Results'!D599)","v":""},"",{"$f":"IF('Oman Results'!E599=\"\",\"\",'Oman Results'!E599)","v":""},{"$f":"IF('Oman Results'!F599=\"\",\"\",'Oman Results'!F599)","v":""},{"$f":"IF(B599=\"\",\"\",IF(VLOOKUP(B599,'Oman Results'!C599:AI1592,31)=\"x\",'Oman Results'!AK599,'Oman Results'!G599))","v":""},"",{"$f":"IF(B599=\"\",\"\",IF(VLOOKUP(B599,'Oman Results'!C599:AI1592,31)=\"x\",\"Yes\",\"\"))","v":""},{"$f":"IF(B599=\"\",\"\",IF(VLOOKUP(B599,'Oman Results'!C599:AI1592,31)=\"x\",'Oman Results'!G599,\"\"))","v":""},{"$f":"IF(B599=\"\",\"\",IF(VLOOKUP(B599,'Oman Results'!C599:AI1592,31)=\"x\",'Oman Results'!AJ599,\"\"))","v":""},{"$f":"IF(B599=\"\",\"\",IF(VLOOKUP(B599,'Oman Results'!C599:AI1592,31)=\"x\",'Oman Results'!AK599,\"\"))","v":""},null,null,"","","",""]
["",{"$f":"IF('Oman Results'!C600=\"\",\"\",'Oman Results'!C600)","v":""},{"$f":"IF(OR('Oman Results'!D600=\"\",'Oman Results'!D600=\"Totals\"),\"\",'Oman Results'!D600)","v":""},"",{"$f":"IF('Oman Results'!E600=\"\",\"\",'Oman Results'!E600)","v":""},{"$f":"IF('Oman Results'!F600=\"\",\"\",'Oman Results'!F600)","v":""},{"$f":"IF(B600=\"\",\"\",IF(VLOOKUP(B600,'Oman Results'!C600:AI1593,31)=\"x\",'Oman Results'!AK600,'Oman Results'!G600))","v":""},"",{"$f":"IF(B600=\"\",\"\",IF(VLOOKUP(B600,'Oman Results'!C600:AI1593,31)=\"x\",\"Yes\",\"\"))","v":""},{"$f":"IF(B600=\"\",\"\",IF(VLOOKUP(B600,'Oman Results'!C600:AI1593,31)=\"x\",'Oman Results'!G600,\"\"))","v":""},{"$f":"IF(B600=\"\",\"\",IF(VLOOKUP(B600,'Oman Results'!C600:AI1593,31)=\"x\",'Oman Results'!AJ600,\"\"))","v":""},{"$f":"IF(B600=\"\",\"\",IF(VLOOKUP(B600,'Oman Results'!C600:AI1593,31)=\"x\",'Oman Results'!AK600,\"\"))","v":""},null,null,"","","",""]
["",{"$f":"IF('Oman Results'!C601=\"\",\"\",'Oman Results'!C601)","v":""},{"$f":"IF(OR('Oman Results'!D601=\"\",'Oman Results'!D601=\"Totals\"),\"\",'Oman Results'!D601)","v":""},"",{"$f":"IF('Oman Results'!E601=\"\",\"\",'Oman Results'!E601)","v":""},{"$f":"IF('Oman Results'!F601=\"\",\"\",'Oman Results'!F601)","v":""},{"$f":"IF(B601=\"\",\"\",IF(VLOOKUP(B601,'Oman Results'!C601:AI1594,31)=\"x\",'Oman Results'!AK601,'Oman Results'!G601))","v":""},"",{"$f":"IF(B601=\"\",\"\",IF(VLOOKUP(B601,'Oman Results'!C601:AI1594,31)=\"x\",\"Yes\",\"\"))","v":""},{"$f":"IF(B601=\"\",\"\",IF(VLOOKUP(B601,'Oman Results'!C601:AI1594,31)=\"x\",'Oman Results'!G601,\"\"))","v":""},{"$f":"IF(B601=\"\",\"\",IF(VLOOKUP(B601,'Oman Results'!C601:AI1594,31)=\"x\",'Oman Results'!AJ601,\"\"))","v":""},{"$f":"IF(B601=\"\",\"\",IF(VLOOKUP(B601,'Oman Results'!C601:AI1594,31)=\"x\",'Oman Results'!AK601,\"\"))","v":""},null,null,"","","",""]
["",{"$f":"IF('Oman Results'!C602=\"\",\"\",'Oman Results'!C602)","v":""},{"$f":"IF(OR('Oman Results'!D602=\"\",'Oman Results'!D602=\"Totals\"),\"\",'Oman Results'!D602)","v":""},"",{"$f":"IF('Oman Results'!E602=\"\",\"\",'Oman Results'!E602)","v":""},{"$f":"IF('Oman Results'!F602=\"\",\"\",'Oman Results'!F602)","v":""},{"$f":"IF(B602=\"\",\"\",IF(VLOOKUP(B602,'Oman Results'!C602:AI1595,31)=\"x\",'Oman Results'!AK602,'Oman Results'!G602))","v":""},"",{"$f":"IF(B602=\"\",\"\",IF(VLOOKUP(B602,'Oman Results'!C602:AI1595,31)=\"x\",\"Yes\",\"\"))","v":""},{"$f":"IF(B602=\"\",\"\",IF(VLOOKUP(B602,'Oman Results'!C602:AI1595,31)=\"x\",'Oman Results'!G602,\"\"))","v":""},{"$f":"IF(B602=\"\",\"\",IF(VLOOKUP(B602,'Oman Results'!C602:AI1595,31)=\"x\",'Oman Results'!AJ602,\"\"))","v":""},{"$f":"IF(B602=\"\",\"\",IF(VLOOKUP(B602,'Oman Results'!C602:AI1595,31)=\"x\",'Oman Results'!AK602,\"\"))","v":""},null,null,"","","",""]
["",{"$f":"IF('Oman Results'!C603=\"\",\"\",'Oman Results'!C603)","v":""},{"$f":"IF(OR('Oman Results'!D603=\"\",'Oman Results'!D603=\"Totals\"),\"\",'Oman Results'!D603)","v":""},"",{"$f":"IF('Oman Results'!E603=\"\",\"\",'Oman Results'!E603)","v":""},{"$f":"IF('Oman Results'!F603=\"\",\"\",'Oman Results'!F603)","v":""},{"$f":"IF(B603=\"\",\"\",IF(VLOOKUP(B603,'Oman Results'!C603:AI1596,31)=\"x\",'Oman Results'!AK603,'Oman Results'!G603))","v":""},"",{"$f":"IF(B603=\"\",\"\",IF(VLOOKUP(B603,'Oman Results'!C603:AI1596,31)=\"x\",\"Yes\",\"\"))","v":""},{"$f":"IF(B603=\"\",\"\",IF(VLOOKUP(B603,'Oman Results'!C603:AI1596,31)=\"x\",'Oman Results'!G603,\"\"))","v":""},{"$f":"IF(B603=\"\",\"\",IF(VLOOKUP(B603,'Oman Results'!C603:AI1596,31)=\"x\",'Oman Results'!AJ603,\"\"))","v":""},{"$f":"IF(B603=\"\",\"\",IF(VLOOKUP(B603,'Oman Results'!C603:AI1596,31)=\"x\",'Oman Results'!AK603,\"\"))","v":""},null,null,"","","",""]
["",{"$f":"IF('Oman Results'!C604=\"\",\"\",'Oman Results'!C604)","v":""},{"$f":"IF(OR('Oman Results'!D604=\"\",'Oman Results'!D604=\"Totals\"),\"\",'Oman Results'!D604)","v":""},"",{"$f":"IF('Oman Results'!E604=\"\",\"\",'Oman Results'!E604)","v":""},{"$f":"IF('Oman Results'!F604=\"\",\"\",'Oman Results'!F604)","v":""},{"$f":"IF(B604=\"\",\"\",IF(VLOOKUP(B604,'Oman Results'!C604:AI1597,31)=\"x\",'Oman Results'!AK604,'Oman Results'!G604))","v":""},"",{"$f":"IF(B604=\"\",\"\",IF(VLOOKUP(B604,'Oman Results'!C604:AI1597,31)=\"x\",\"Yes\",\"\"))","v":""},{"$f":"IF(B604=\"\",\"\",IF(VLOOKUP(B604,'Oman Results'!C604:AI1597,31)=\"x\",'Oman Results'!G604,\"\"))","v":""},{"$f":"IF(B604=\"\",\"\",IF(VLOOKUP(B604,'Oman Results'!C604:AI1597,31)=\"x\",'Oman Results'!AJ604,\"\"))","v":""},{"$f":"IF(B604=\"\",\"\",IF(VLOOKUP(B604,'Oman Results'!C604:AI1597,31)=\"x\",'Oman Results'!AK604,\"\"))","v":""},null,null,"","","",""]
["",{"$f":"IF('Oman Results'!C605=\"\",\"\",'Oman Results'!C605)","v":""},{"$f":"IF(OR('Oman Results'!D605=\"\",'Oman Results'!D605=\"Totals\"),\"\",'Oman Results'!D605)","v":""},"",{"$f":"IF('Oman Results'!E605=\"\",\"\",'Oman Results'!E605)","v":""},{"$f":"IF('Oman Results'!F605=\"\",\"\",'Oman Results'!F605)","v":""},{"$f":"IF(B605=\"\",\"\",IF(VLOOKUP(B605,'Oman Results'!C605:AI1598,31)=\"x\",'Oman Results'!AK605,'Oman Results'!G605))","v":""},"",{"$f":"IF(B605=\"\",\"\",IF(VLOOKUP(B605,'Oman Results'!C605:AI1598,31)=\"x\",\"Yes\",\"\"))","v":""},{"$f":"IF(B605=\"\",\"\",IF(VLOOKUP(B605,'Oman Results'!C605:AI1598,31)=\"x\",'Oman Results'!G605,\"\"))","v":""},{"$f":"IF(B605=\"\",\"\",IF(VLOOKUP(B605,'Oman Results'!C605:AI1598,31)=\"x\",'Oman Results'!AJ605,\"\"))","v":""},{"$f":"IF(B605=\"\",\"\",IF(VLOOKUP(B605,'Oman Results'!C605:AI1598,31)=\"x\",'Oman Results'!AK605,\"\"))","v":""},null,null,"","","",""]
["",{"$f":"IF('Oman Results'!C606=\"\",\"\",'Oman Results'!C606)","v":""},{"$f":"IF(OR('Oman Results'!D606=\"\",'Oman Results'!D606=\"Totals\"),\"\",'Oman Results'!D606)","v":""},"",{"$f":"IF('Oman Results'!E606=\"\",\"\",'Oman Results'!E606)","v":""},{"$f":"IF('Oman Results'!F606=\"\",\"\",'Oman Results'!F606)","v":""},{"$f":"IF(B606=\"\",\"\",IF(VLOOKUP(B606,'Oman Results'!C606:AI1599,31)=\"x\",'Oman Results'!AK606,'Oman Results'!G606))","v":""},"",{"$f":"IF(B606=\"\",\"\",IF(VLOOKUP(B606,'Oman Results'!C606:AI1599,31)=\"x\",\"Yes\",\"\"))","v":""},{"$f":"IF(B606=\"\",\"\",IF(VLOOKUP(B606,'Oman Results'!C606:AI1599,31)=\"x\",'Oman Results'!G606,\"\"))","v":""},{"$f":"IF(B606=\"\",\"\",IF(VLOOKUP(B606,'Oman Results'!C606:AI1599,31)=\"x\",'Oman Results'!AJ606,\"\"))","v":""},{"$f":"IF(B606=\"\",\"\",IF(VLOOKUP(B606,'Oman Results'!C606:AI1599,31)=\"x\",'Oman Results'!AK606,\"\"))","v":""},null,null,"","","",""]
["",{"$f":"IF('Oman Results'!C607=\"\",\"\",'Oman Results'!C607)","v":""},{"$f":"IF(OR('Oman Results'!D607=\"\",'Oman Results'!D607=\"Totals\"),\"\",'Oman Results'!D607)","v":""},"",{"$f":"IF('Oman Results'!E607=\"\",\"\",'Oman Results'!E607)","v":""},{"$f":"IF('Oman Results'!F607=\"\",\"\",'Oman Results'!F607)","v":""},{"$f":"IF(B607=\"\",\"\",IF(VLOOKUP(B607,'Oman Results'!C607:AI1600,31)=\"x\",'Oman Results'!AK607,'Oman Results'!G607))","v":""},"",{"$f":"IF(B607=\"\",\"\",IF(VLOOKUP(B607,'Oman Results'!C607:AI1600,31)=\"x\",\"Yes\",\"\"))","v":""},{"$f":"IF(B607=\"\",\"\",IF(VLOOKUP(B607,'Oman Results'!C607:AI1600,31)=\"x\",'Oman Results'!G607,\"\"))","v":""},{"$f":"IF(B607=\"\",\"\",IF(VLOOKUP(B607,'Oman Results'!C607:AI1600,31)=\"x\",'Oman Results'!AJ607,\"\"))","v":""},{"$f":"IF(B607=\"\",\"\",IF(VLOOKUP(B607,'Oman Results'!C607:AI1600,31)=\"x\",'Oman Results'!AK607,\"\"))","v":""},null,null,"","","",""]
["",{"$f":"IF('Oman Results'!C608=\"\",\"\",'Oman Results'!C608)","v":""},{"$f":"IF(OR('Oman Results'!D608=\"\",'Oman Results'!D608=\"Totals\"),\"\",'Oman Results'!D608)","v":""},"",{"$f":"IF('Oman Results'!E608=\"\",\"\",'Oman Results'!E608)","v":""},{"$f":"IF('Oman Results'!F608=\"\",\"\",'Oman Results'!F608)","v":""},{"$f":"IF(B608=\"\",\"\",IF(VLOOKUP(B608,'Oman Results'!C608:AI1601,31)=\"x\",'Oman Results'!AK608,'Oman Results'!G608))","v":""},"",{"$f":"IF(B608=\"\",\"\",IF(VLOOKUP(B608,'Oman Results'!C608:AI1601,31)=\"x\",\"Yes\",\"\"))","v":""},{"$f":"IF(B608=\"\",\"\",IF(VLOOKUP(B608,'Oman Results'!C608:AI1601,31)=\"x\",'Oman Results'!G608,\"\"))","v":""},{"$f":"IF(B608=\"\",\"\",IF(VLOOKUP(B608,'Oman Results'!C608:AI1601,31)=\"x\",'Oman Results'!AJ608,\"\"))","v":""},{"$f":"IF(B608=\"\",\"\",IF(VLOOKUP(B608,'Oman Results'!C608:AI1601,31)=\"x\",'Oman Results'!AK608,\"\"))","v":""},null,null,"","","",""]
["",{"$f":"IF('Oman Results'!C609=\"\",\"\",'Oman Results'!C609)","v":""},{"$f":"IF(OR('Oman Results'!D609=\"\",'Oman Results'!D609=\"Totals\"),\"\",'Oman Results'!D609)","v":""},"",{"$f":"IF('Oman Results'!E609=\"\",\"\",'Oman Results'!E609)","v":""},{"$f":"IF('Oman Results'!F609=\"\",\"\",'Oman Results'!F609)","v":""},{"$f":"IF(B609=\"\",\"\",IF(VLOOKUP(B609,'Oman Results'!C609:AI1602,31)=\"x\",'Oman Results'!AK609,'Oman Results'!G609))","v":""},"",{"$f":"IF(B609=\"\",\"\",IF(VLOOKUP(B609,'Oman Results'!C609:AI1602,31)=\"x\",\"Yes\",\"\"))","v":""},{"$f":"IF(B609=\"\",\"\",IF(VLOOKUP(B609,'Oman Results'!C609:AI1602,31)=\"x\",'Oman Results'!G609,\"\"))","v":""},{"$f":"IF(B609=\"\",\"\",IF(VLOOKUP(B609,'Oman Results'!C609:AI1602,31)=\"x\",'Oman Results'!AJ609,\"\"))","v":""},{"$f":"IF(B609=\"\",\"\",IF(VLOOKUP(B609,'Oman Results'!C609:AI1602,31)=\"x\",'Oman Results'!AK609,\"\"))","v":""},null,null,"","","",""]
["",{"$f":"IF('Oman Results'!C610=\"\",\"\",'Oman Results'!C610)","v":""},{"$f":"IF(OR('Oman Results'!D610=\"\",'Oman Results'!D610=\"Totals\"),\"\",'Oman Results'!D610)","v":""},"",{"$f":"IF('Oman Results'!E610=\"\",\"\",'Oman Results'!E610)","v":""},{"$f":"IF('Oman Results'!F610=\"\",\"\",'Oman Results'!F610)","v":""},{"$f":"IF(B610=\"\",\"\",IF(VLOOKUP(B610,'Oman Results'!C610:AI1603,31)=\"x\",'Oman Results'!AK610,'Oman Results'!G610))","v":""},"",{"$f":"IF(B610=\"\",\"\",IF(VLOOKUP(B610,'Oman Results'!C610:AI1603,31)=\"x\",\"Yes\",\"\"))","v":""},{"$f":"IF(B610=\"\",\"\",IF(VLOOKUP(B610,'Oman Results'!C610:AI1603,31)=\"x\",'Oman Results'!G610,\"\"))","v":""},{"$f":"IF(B610=\"\",\"\",IF(VLOOKUP(B610,'Oman Results'!C610:AI1603,31)=\"x\",'Oman Results'!AJ610,\"\"))","v":""},{"$f":"IF(B610=\"\",\"\",IF(VLOOKUP(B610,'Oman Results'!C610:AI1603,31)=\"x\",'Oman Results'!AK610,\"\"))","v":""},null,null,"","","",""]
["",{"$f":"IF('Oman Results'!C611=\"\",\"\",'Oman Results'!C611)","v":""},{"$f":"IF(OR('Oman Results'!D611=\"\",'Oman Results'!D611=\"Totals\"),\"\",'Oman Results'!D611)","v":""},"",{"$f":"IF('Oman Results'!E611=\"\",\"\",'Oman Results'!E611)","v":""},{"$f":"IF('Oman Results'!F611=\"\",\"\",'Oman Results'!F611)","v":""},{"$f":"IF(B611=\"\",\"\",IF(VLOOKUP(B611,'Oman Results'!C611:AI1604,31)=\"x\",'Oman Results'!AK611,'Oman Results'!G611))","v":""},"",{"$f":"IF(B611=\"\",\"\",IF(VLOOKUP(B611,'Oman Results'!C611:AI1604,31)=\"x\",\"Yes\",\"\"))","v":""},{"$f":"IF(B611=\"\",\"\",IF(VLOOKUP(B611,'Oman Results'!C611:AI1604,31)=\"x\",'Oman Results'!G611,\"\"))","v":""},{"$f":"IF(B611=\"\",\"\",IF(VLOOKUP(B611,'Oman Results'!C611:AI1604,31)=\"x\",'Oman Results'!AJ611,\"\"))","v":""},{"$f":"IF(B611=\"\",\"\",IF(VLOOKUP(B611,'Oman Results'!C611:AI1604,31)=\"x\",'Oman Results'!AK611,\"\"))","v":""},null,null,"","","",""]
["",{"$f":"IF('Oman Results'!C612=\"\",\"\",'Oman Results'!C612)","v":""},{"$f":"IF(OR('Oman Results'!D612=\"\",'Oman Results'!D612=\"Totals\"),\"\",'Oman Results'!D612)","v":""},"",{"$f":"IF('Oman Results'!E612=\"\",\"\",'Oman Results'!E612)","v":""},{"$f":"IF('Oman Results'!F612=\"\",\"\",'Oman Results'!F612)","v":""},{"$f":"IF(B612=\"\",\"\",IF(VLOOKUP(B612,'Oman Results'!C612:AI1605,31)=\"x\",'Oman Results'!AK612,'Oman Results'!G612))","v":""},"",{"$f":"IF(B612=\"\",\"\",IF(VLOOKUP(B612,'Oman Results'!C612:AI1605,31)=\"x\",\"Yes\",\"\"))","v":""},{"$f":"IF(B612=\"\",\"\",IF(VLOOKUP(B612,'Oman Results'!C612:AI1605,31)=\"x\",'Oman Results'!G612,\"\"))","v":""},{"$f":"IF(B612=\"\",\"\",IF(VLOOKUP(B612,'Oman Results'!C612:AI1605,31)=\"x\",'Oman Results'!AJ612,\"\"))","v":""},{"$f":"IF(B612=\"\",\"\",IF(VLOOKUP(B612,'Oman Results'!C612:AI1605,31)=\"x\",'Oman Results'!AK612,\"\"))","v":""},null,null,"","","",""]
["",{"$f":"IF('Oman Results'!C613=\"\",\"\",'Oman Results'!C613)","v":""},{"$f":"IF(OR('Oman Results'!D613=\"\",'Oman Results'!D613=\"Totals\"),\"\",'Oman Results'!D613)","v":""},"",{"$f":"IF('Oman Results'!E613=\"\",\"\",'Oman Results'!E613)","v":""},{"$f":"IF('Oman Results'!F613=\"\",\"\",'Oman Results'!F613)","v":""},{"$f":"IF(B613=\"\",\"\",IF(VLOOKUP(B613,'Oman Results'!C613:AI1606,31)=\"x\",'Oman Results'!AK613,'Oman Results'!G613))","v":""},"",{"$f":"IF(B613=\"\",\"\",IF(VLOOKUP(B613,'Oman Results'!C613:AI1606,31)=\"x\",\"Yes\",\"\"))","v":""},{"$f":"IF(B613=\"\",\"\",IF(VLOOKUP(B613,'Oman Results'!C613:AI1606,31)=\"x\",'Oman Results'!G613,\"\"))","v":""},{"$f":"IF(B613=\"\",\"\",IF(VLOOKUP(B613,'Oman Results'!C613:AI1606,31)=\"x\",'Oman Results'!AJ613,\"\"))","v":""},{"$f":"IF(B613=\"\",\"\",IF(VLOOKUP(B613,'Oman Results'!C613:AI1606,31)=\"x\",'Oman Results'!AK613,\"\"))","v":""},null,null,"","","",""]
["",{"$f":"IF('Oman Results'!C614=\"\",\"\",'Oman Results'!C614)","v":""},{"$f":"IF(OR('Oman Results'!D614=\"\",'Oman Results'!D614=\"Totals\"),\"\",'Oman Results'!D614)","v":""},"",{"$f":"IF('Oman Results'!E614=\"\",\"\",'Oman Results'!E614)","v":""},{"$f":"IF('Oman Results'!F614=\"\",\"\",'Oman Results'!F614)","v":""},{"$f":"IF(B614=\"\",\"\",IF(VLOOKUP(B614,'Oman Results'!C614:AI1607,31)=\"x\",'Oman Results'!AK614,'Oman Results'!G614))","v":""},"",{"$f":"IF(B614=\"\",\"\",IF(VLOOKUP(B614,'Oman Results'!C614:AI1607,31)=\"x\",\"Yes\",\"\"))","v":""},{"$f":"IF(B614=\"\",\"\",IF(VLOOKUP(B614,'Oman Results'!C614:AI1607,31)=\"x\",'Oman Results'!G614,\"\"))","v":""},{"$f":"IF(B614=\"\",\"\",IF(VLOOKUP(B614,'Oman Results'!C614:AI1607,31)=\"x\",'Oman Results'!AJ614,\"\"))","v":""},{"$f":"IF(B614=\"\",\"\",IF(VLOOKUP(B614,'Oman Results'!C614:AI1607,31)=\"x\",'Oman Results'!AK614,\"\"))","v":""},null,null,"","","",""]
["",{"$f":"IF('Oman Results'!C615=\"\",\"\",'Oman Results'!C615)","v":""},{"$f":"IF(OR('Oman Results'!D615=\"\",'Oman Results'!D615=\"Totals\"),\"\",'Oman Results'!D615)","v":""},"",{"$f":"IF('Oman Results'!E615=\"\",\"\",'Oman Results'!E615)","v":""},{"$f":"IF('Oman Results'!F615=\"\",\"\",'Oman Results'!F615)","v":""},{"$f":"IF(B615=\"\",\"\",IF(VLOOKUP(B615,'Oman Results'!C615:AI1608,31)=\"x\",'Oman Results'!AK615,'Oman Results'!G615))","v":""},"",{"$f":"IF(B615=\"\",\"\",IF(VLOOKUP(B615,'Oman Results'!C615:AI1608,31)=\"x\",\"Yes\",\"\"))","v":""},{"$f":"IF(B615=\"\",\"\",IF(VLOOKUP(B615,'Oman Results'!C615:AI1608,31)=\"x\",'Oman Results'!G615,\"\"))","v":""},{"$f":"IF(B615=\"\",\"\",IF(VLOOKUP(B615,'Oman Results'!C615:AI1608,31)=\"x\",'Oman Results'!AJ615,\"\"))","v":""},{"$f":"IF(B615=\"\",\"\",IF(VLOOKUP(B615,'Oman Results'!C615:AI1608,31)=\"x\",'Oman Results'!AK615,\"\"))","v":""},null,null,"","","",""]
["",{"$f":"IF('Oman Results'!C616=\"\",\"\",'Oman Results'!C616)","v":""},{"$f":"IF(OR('Oman Results'!D616=\"\",'Oman Results'!D616=\"Totals\"),\"\",'Oman Results'!D616)","v":""},"",{"$f":"IF('Oman Results'!E616=\"\",\"\",'Oman Results'!E616)","v":""},{"$f":"IF('Oman Results'!F616=\"\",\"\",'Oman Results'!F616)","v":""},{"$f":"IF(B616=\"\",\"\",IF(VLOOKUP(B616,'Oman Results'!C616:AI1609,31)=\"x\",'Oman Results'!AK616,'Oman Results'!G616))","v":""},"",{"$f":"IF(B616=\"\",\"\",IF(VLOOKUP(B616,'Oman Results'!C616:AI1609,31)=\"x\",\"Yes\",\"\"))","v":""},{"$f":"IF(B616=\"\",\"\",IF(VLOOKUP(B616,'Oman Results'!C616:AI1609,31)=\"x\",'Oman Results'!G616,\"\"))","v":""},{"$f":"IF(B616=\"\",\"\",IF(VLOOKUP(B616,'Oman Results'!C616:AI1609,31)=\"x\",'Oman Results'!AJ616,\"\"))","v":""},{"$f":"IF(B616=\"\",\"\",IF(VLOOKUP(B616,'Oman Results'!C616:AI1609,31)=\"x\",'Oman Results'!AK616,\"\"))","v":""},null,null,"","","",""]
["",{"$f":"IF('Oman Results'!C617=\"\",\"\",'Oman Results'!C617)","v":""},{"$f":"IF(OR('Oman Results'!D617=\"\",'Oman Results'!D617=\"Totals\"),\"\",'Oman Results'!D617)","v":""},"",{"$f":"IF('Oman Results'!E617=\"\",\"\",'Oman Results'!E617)","v":""},{"$f":"IF('Oman Results'!F617=\"\",\"\",'Oman Results'!F617)","v":""},{"$f":"IF(B617=\"\",\"\",IF(VLOOKUP(B617,'Oman Results'!C617:AI1610,31)=\"x\",'Oman Results'!AK617,'Oman Results'!G617))","v":""},"",{"$f":"IF(B617=\"\",\"\",IF(VLOOKUP(B617,'Oman Results'!C617:AI1610,31)=\"x\",\"Yes\",\"\"))","v":""},{"$f":"IF(B617=\"\",\"\",IF(VLOOKUP(B617,'Oman Results'!C617:AI1610,31)=\"x\",'Oman Results'!G617,\"\"))","v":""},{"$f":"IF(B617=\"\",\"\",IF(VLOOKUP(B617,'Oman Results'!C617:AI1610,31)=\"x\",'Oman Results'!AJ617,\"\"))","v":""},{"$f":"IF(B617=\"\",\"\",IF(VLOOKUP(B617,'Oman Results'!C617:AI1610,31)=\"x\",'Oman Results'!AK617,\"\"))","v":""},null,null,"","","",""]
["",{"$f":"IF('Oman Results'!C618=\"\",\"\",'Oman Results'!C618)","v":""},{"$f":"IF(OR('Oman Results'!D618=\"\",'Oman Results'!D618=\"Totals\"),\"\",'Oman Results'!D618)","v":""},"",{"$f":"IF('Oman Results'!E618=\"\",\"\",'Oman Results'!E618)","v":""},{"$f":"IF('Oman Results'!F618=\"\",\"\",'Oman Results'!F618)","v":""},{"$f":"IF(B618=\"\",\"\",IF(VLOOKUP(B618,'Oman Results'!C618:AI1611,31)=\"x\",'Oman Results'!AK618,'Oman Results'!G618))","v":""},"",{"$f":"IF(B618=\"\",\"\",IF(VLOOKUP(B618,'Oman Results'!C618:AI1611,31)=\"x\",\"Yes\",\"\"))","v":""},{"$f":"IF(B618=\"\",\"\",IF(VLOOKUP(B618,'Oman Results'!C618:AI1611,31)=\"x\",'Oman Results'!G618,\"\"))","v":""},{"$f":"IF(B618=\"\",\"\",IF(VLOOKUP(B618,'Oman Results'!C618:AI1611,31)=\"x\",'Oman Results'!AJ618,\"\"))","v":""},{"$f":"IF(B618=\"\",\"\",IF(VLOOKUP(B618,'Oman Results'!C618:AI1611,31)=\"x\",'Oman Results'!AK618,\"\"))","v":""},null,null,"","","",""]
["",{"$f":"IF('Oman Results'!C619=\"\",\"\",'Oman Results'!C619)","v":""},{"$f":"IF(OR('Oman Results'!D619=\"\",'Oman Results'!D619=\"Totals\"),\"\",'Oman Results'!D619)","v":""},"",{"$f":"IF('Oman Results'!E619=\"\",\"\",'Oman Results'!E619)","v":""},{"$f":"IF('Oman Results'!F619=\"\",\"\",'Oman Results'!F619)","v":""},{"$f":"IF(B619=\"\",\"\",IF(VLOOKUP(B619,'Oman Results'!C619:AI1612,31)=\"x\",'Oman Results'!AK619,'Oman Results'!G619))","v":""},"",{"$f":"IF(B619=\"\",\"\",IF(VLOOKUP(B619,'Oman Results'!C619:AI1612,31)=\"x\",\"Yes\",\"\"))","v":""},{"$f":"IF(B619=\"\",\"\",IF(VLOOKUP(B619,'Oman Results'!C619:AI1612,31)=\"x\",'Oman Results'!G619,\"\"))","v":""},{"$f":"IF(B619=\"\",\"\",IF(VLOOKUP(B619,'Oman Results'!C619:AI1612,31)=\"x\",'Oman Results'!AJ619,\"\"))","v":""},{"$f":"IF(B619=\"\",\"\",IF(VLOOKUP(B619,'Oman Results'!C619:AI1612,31)=\"x\",'Oman Results'!AK619,\"\"))","v":""},null,null,"","","",""]
["",{"$f":"IF('Oman Results'!C620=\"\",\"\",'Oman Results'!C620)","v":""},{"$f":"IF(OR('Oman Results'!D620=\"\",'Oman Results'!D620=\"Totals\"),\"\",'Oman Results'!D620)","v":""},"",{"$f":"IF('Oman Results'!E620=\"\",\"\",'Oman Results'!E620)","v":""},{"$f":"IF('Oman Results'!F620=\"\",\"\",'Oman Results'!F620)","v":""},{"$f":"IF(B620=\"\",\"\",IF(VLOOKUP(B620,'Oman Results'!C620:AI1613,31)=\"x\",'Oman Results'!AK620,'Oman Results'!G620))","v":""},"",{"$f":"IF(B620=\"\",\"\",IF(VLOOKUP(B620,'Oman Results'!C620:AI1613,31)=\"x\",\"Yes\",\"\"))","v":""},{"$f":"IF(B620=\"\",\"\",IF(VLOOKUP(B620,'Oman Results'!C620:AI1613,31)=\"x\",'Oman Results'!G620,\"\"))","v":""},{"$f":"IF(B620=\"\",\"\",IF(VLOOKUP(B620,'Oman Results'!C620:AI1613,31)=\"x\",'Oman Results'!AJ620,\"\"))","v":""},{"$f":"IF(B620=\"\",\"\",IF(VLOOKUP(B620,'Oman Results'!C620:AI1613,31)=\"x\",'Oman Results'!AK620,\"\"))","v":""},null,null,"","","",""]
["",{"$f":"IF('Oman Results'!C621=\"\",\"\",'Oman Results'!C621)","v":""},{"$f":"IF(OR('Oman Results'!D621=\"\",'Oman Results'!D621=\"Totals\"),\"\",'Oman Results'!D621)","v":""},"",{"$f":"IF('Oman Results'!E621=\"\",\"\",'Oman Results'!E621)","v":""},{"$f":"IF('Oman Results'!F621=\"\",\"\",'Oman Results'!F621)","v":""},{"$f":"IF(B621=\"\",\"\",IF(VLOOKUP(B621,'Oman Results'!C621:AI1614,31)=\"x\",'Oman Results'!AK621,'Oman Results'!G621))","v":""},"",{"$f":"IF(B621=\"\",\"\",IF(VLOOKUP(B621,'Oman Results'!C621:AI1614,31)=\"x\",\"Yes\",\"\"))","v":""},{"$f":"IF(B621=\"\",\"\",IF(VLOOKUP(B621,'Oman Results'!C621:AI1614,31)=\"x\",'Oman Results'!G621,\"\"))","v":""},{"$f":"IF(B621=\"\",\"\",IF(VLOOKUP(B621,'Oman Results'!C621:AI1614,31)=\"x\",'Oman Results'!AJ621,\"\"))","v":""},{"$f":"IF(B621=\"\",\"\",IF(VLOOKUP(B621,'Oman Results'!C621:AI1614,31)=\"x\",'Oman Results'!AK621,\"\"))","v":""},null,null,"","","",""]
["",{"$f":"IF('Oman Results'!C622=\"\",\"\",'Oman Results'!C622)","v":""},{"$f":"IF(OR('Oman Results'!D622=\"\",'Oman Results'!D622=\"Totals\"),\"\",'Oman Results'!D622)","v":""},"",{"$f":"IF('Oman Results'!E622=\"\",\"\",'Oman Results'!E622)","v":""},{"$f":"IF('Oman Results'!F622=\"\",\"\",'Oman Results'!F622)","v":""},{"$f":"IF(B622=\"\",\"\",IF(VLOOKUP(B622,'Oman Results'!C622:AI1615,31)=\"x\",'Oman Results'!AK622,'Oman Results'!G622))","v":""},"",{"$f":"IF(B622=\"\",\"\",IF(VLOOKUP(B622,'Oman Results'!C622:AI1615,31)=\"x\",\"Yes\",\"\"))","v":""},{"$f":"IF(B622=\"\",\"\",IF(VLOOKUP(B622,'Oman Results'!C622:AI1615,31)=\"x\",'Oman Results'!G622,\"\"))","v":""},{"$f":"IF(B622=\"\",\"\",IF(VLOOKUP(B622,'Oman Results'!C622:AI1615,31)=\"x\",'Oman Results'!AJ622,\"\"))","v":""},{"$f":"IF(B622=\"\",\"\",IF(VLOOKUP(B622,'Oman Results'!C622:AI1615,31)=\"x\",'Oman Results'!AK622,\"\"))","v":""},null,null,"","","",""]
["",{"$f":"IF('Oman Results'!C623=\"\",\"\",'Oman Results'!C623)","v":""},{"$f":"IF(OR('Oman Results'!D623=\"\",'Oman Results'!D623=\"Totals\"),\"\",'Oman Results'!D623)","v":""},"",{"$f":"IF('Oman Results'!E623=\"\",\"\",'Oman Results'!E623)","v":""},{"$f":"IF('Oman Results'!F623=\"\",\"\",'Oman Results'!F623)","v":""},{"$f":"IF(B623=\"\",\"\",IF(VLOOKUP(B623,'Oman Results'!C623:AI1616,31)=\"x\",'Oman Results'!AK623,'Oman Results'!G623))","v":""},"",{"$f":"IF(B623=\"\",\"\",IF(VLOOKUP(B623,'Oman Results'!C623:AI1616,31)=\"x\",\"Yes\",\"\"))","v":""},{"$f":"IF(B623=\"\",\"\",IF(VLOOKUP(B623,'Oman Results'!C623:AI1616,31)=\"x\",'Oman Results'!G623,\"\"))","v":""},{"$f":"IF(B623=\"\",\"\",IF(VLOOKUP(B623,'Oman Results'!C623:AI1616,31)=\"x\",'Oman Results'!AJ623,\"\"))","v":""},{"$f":"IF(B623=\"\",\"\",IF(VLOOKUP(B623,'Oman Results'!C623:AI1616,31)=\"x\",'Oman Results'!AK623,\"\"))","v":""},null,null,"","","",""]
["",{"$f":"IF('Oman Results'!C624=\"\",\"\",'Oman Results'!C624)","v":""},{"$f":"IF(OR('Oman Results'!D624=\"\",'Oman Results'!D624=\"Totals\"),\"\",'Oman Results'!D624)","v":""},"",{"$f":"IF('Oman Results'!E624=\"\",\"\",'Oman Results'!E624)","v":""},{"$f":"IF('Oman Results'!F624=\"\",\"\",'Oman Results'!F624)","v":""},{"$f":"IF(B624=\"\",\"\",IF(VLOOKUP(B624,'Oman Results'!C624:AI1617,31)=\"x\",'Oman Results'!AK624,'Oman Results'!G624))","v":""},"",{"$f":"IF(B624=\"\",\"\",IF(VLOOKUP(B624,'Oman Results'!C624:AI1617,31)=\"x\",\"Yes\",\"\"))","v":""},{"$f":"IF(B624=\"\",\"\",IF(VLOOKUP(B624,'Oman Results'!C624:AI1617,31)=\"x\",'Oman Results'!G624,\"\"))","v":""},{"$f":"IF(B624=\"\",\"\",IF(VLOOKUP(B624,'Oman Results'!C624:AI1617,31)=\"x\",'Oman Results'!AJ624,\"\"))","v":""},{"$f":"IF(B624=\"\",\"\",IF(VLOOKUP(B624,'Oman Results'!C624:AI1617,31)=\"x\",'Oman Results'!AK624,\"\"))","v":""},null,null,"","","",""]
["",{"$f":"IF('Oman Results'!C625=\"\",\"\",'Oman Results'!C625)","v":""},{"$f":"IF(OR('Oman Results'!D625=\"\",'Oman Results'!D625=\"Totals\"),\"\",'Oman Results'!D625)","v":""},"",{"$f":"IF('Oman Results'!E625=\"\",\"\",'Oman Results'!E625)","v":""},{"$f":"IF('Oman Results'!F625=\"\",\"\",'Oman Results'!F625)","v":""},{"$f":"IF(B625=\"\",\"\",IF(VLOOKUP(B625,'Oman Results'!C625:AI1618,31)=\"x\",'Oman Results'!AK625,'Oman Results'!G625))","v":""},"",{"$f":"IF(B625=\"\",\"\",IF(VLOOKUP(B625,'Oman Results'!C625:AI1618,31)=\"x\",\"Yes\",\"\"))","v":""},{"$f":"IF(B625=\"\",\"\",IF(VLOOKUP(B625,'Oman Results'!C625:AI1618,31)=\"x\",'Oman Results'!G625,\"\"))","v":""},{"$f":"IF(B625=\"\",\"\",IF(VLOOKUP(B625,'Oman Results'!C625:AI1618,31)=\"x\",'Oman Results'!AJ625,\"\"))","v":""},{"$f":"IF(B625=\"\",\"\",IF(VLOOKUP(B625,'Oman Results'!C625:AI1618,31)=\"x\",'Oman Results'!AK625,\"\"))","v":""},null,null,"","","",""]
["",{"$f":"IF('Oman Results'!C626=\"\",\"\",'Oman Results'!C626)","v":""},{"$f":"IF(OR('Oman Results'!D626=\"\",'Oman Results'!D626=\"Totals\"),\"\",'Oman Results'!D626)","v":""},"",{"$f":"IF('Oman Results'!E626=\"\",\"\",'Oman Results'!E626)","v":""},{"$f":"IF('Oman Results'!F626=\"\",\"\",'Oman Results'!F626)","v":""},{"$f":"IF(B626=\"\",\"\",IF(VLOOKUP(B626,'Oman Results'!C626:AI1619,31)=\"x\",'Oman Results'!AK626,'Oman Results'!G626))","v":""},"",{"$f":"IF(B626=\"\",\"\",IF(VLOOKUP(B626,'Oman Results'!C626:AI1619,31)=\"x\",\"Yes\",\"\"))","v":""},{"$f":"IF(B626=\"\",\"\",IF(VLOOKUP(B626,'Oman Results'!C626:AI1619,31)=\"x\",'Oman Results'!G626,\"\"))","v":""},{"$f":"IF(B626=\"\",\"\",IF(VLOOKUP(B626,'Oman Results'!C626:AI1619,31)=\"x\",'Oman Results'!AJ626,\"\"))","v":""},{"$f":"IF(B626=\"\",\"\",IF(VLOOKUP(B626,'Oman Results'!C626:AI1619,31)=\"x\",'Oman Results'!AK626,\"\"))","v":""},null,null,"","","",""]
["",{"$f":"IF('Oman Results'!C627=\"\",\"\",'Oman Results'!C627)","v":""},{"$f":"IF(OR('Oman Results'!D627=\"\",'Oman Results'!D627=\"Totals\"),\"\",'Oman Results'!D627)","v":""},"",{"$f":"IF('Oman Results'!E627=\"\",\"\",'Oman Results'!E627)","v":""},{"$f":"IF('Oman Results'!F627=\"\",\"\",'Oman Results'!F627)","v":""},{"$f":"IF(B627=\"\",\"\",IF(VLOOKUP(B627,'Oman Results'!C627:AI1620,31)=\"x\",'Oman Results'!AK627,'Oman Results'!G627))","v":""},"",{"$f":"IF(B627=\"\",\"\",IF(VLOOKUP(B627,'Oman Results'!C627:AI1620,31)=\"x\",\"Yes\",\"\"))","v":""},{"$f":"IF(B627=\"\",\"\",IF(VLOOKUP(B627,'Oman Results'!C627:AI1620,31)=\"x\",'Oman Results'!G627,\"\"))","v":""},{"$f":"IF(B627=\"\",\"\",IF(VLOOKUP(B627,'Oman Results'!C627:AI1620,31)=\"x\",'Oman Results'!AJ627,\"\"))","v":""},{"$f":"IF(B627=\"\",\"\",IF(VLOOKUP(B627,'Oman Results'!C627:AI1620,31)=\"x\",'Oman Results'!AK627,\"\"))","v":""},null,null,"","","",""]
["",{"$f":"IF('Oman Results'!C628=\"\",\"\",'Oman Results'!C628)","v":""},{"$f":"IF(OR('Oman Results'!D628=\"\",'Oman Results'!D628=\"Totals\"),\"\",'Oman Results'!D628)","v":""},"",{"$f":"IF('Oman Results'!E628=\"\",\"\",'Oman Results'!E628)","v":""},{"$f":"IF('Oman Results'!F628=\"\",\"\",'Oman Results'!F628)","v":""},{"$f":"IF(B628=\"\",\"\",IF(VLOOKUP(B628,'Oman Results'!C628:AI1621,31)=\"x\",'Oman Results'!AK628,'Oman Results'!G628))","v":""},"",{"$f":"IF(B628=\"\",\"\",IF(VLOOKUP(B628,'Oman Results'!C628:AI1621,31)=\"x\",\"Yes\",\"\"))","v":""},{"$f":"IF(B628=\"\",\"\",IF(VLOOKUP(B628,'Oman Results'!C628:AI1621,31)=\"x\",'Oman Results'!G628,\"\"))","v":""},{"$f":"IF(B628=\"\",\"\",IF(VLOOKUP(B628,'Oman Results'!C628:AI1621,31)=\"x\",'Oman Results'!AJ628,\"\"))","v":""},{"$f":"IF(B628=\"\",\"\",IF(VLOOKUP(B628,'Oman Results'!C628:AI1621,31)=\"x\",'Oman Results'!AK628,\"\"))","v":""},null,null,"","","",""]
["",{"$f":"IF('Oman Results'!C629=\"\",\"\",'Oman Results'!C629)","v":""},{"$f":"IF(OR('Oman Results'!D629=\"\",'Oman Results'!D629=\"Totals\"),\"\",'Oman Results'!D629)","v":""},"",{"$f":"IF('Oman Results'!E629=\"\",\"\",'Oman Results'!E629)","v":""},{"$f":"IF('Oman Results'!F629=\"\",\"\",'Oman Results'!F629)","v":""},{"$f":"IF(B629=\"\",\"\",IF(VLOOKUP(B629,'Oman Results'!C629:AI1622,31)=\"x\",'Oman Results'!AK629,'Oman Results'!G629))","v":""},"",{"$f":"IF(B629=\"\",\"\",IF(VLOOKUP(B629,'Oman Results'!C629:AI1622,31)=\"x\",\"Yes\",\"\"))","v":""},{"$f":"IF(B629=\"\",\"\",IF(VLOOKUP(B629,'Oman Results'!C629:AI1622,31)=\"x\",'Oman Results'!G629,\"\"))","v":""},{"$f":"IF(B629=\"\",\"\",IF(VLOOKUP(B629,'Oman Results'!C629:AI1622,31)=\"x\",'Oman Results'!AJ629,\"\"))","v":""},{"$f":"IF(B629=\"\",\"\",IF(VLOOKUP(B629,'Oman Results'!C629:AI1622,31)=\"x\",'Oman Results'!AK629,\"\"))","v":""},null,null,"","","",""]
["",{"$f":"IF('Oman Results'!C630=\"\",\"\",'Oman Results'!C630)","v":""},{"$f":"IF(OR('Oman Results'!D630=\"\",'Oman Results'!D630=\"Totals\"),\"\",'Oman Results'!D630)","v":""},"",{"$f":"IF('Oman Results'!E630=\"\",\"\",'Oman Results'!E630)","v":""},{"$f":"IF('Oman Results'!F630=\"\",\"\",'Oman Results'!F630)","v":""},{"$f":"IF(B630=\"\",\"\",IF(VLOOKUP(B630,'Oman Results'!C630:AI1623,31)=\"x\",'Oman Results'!AK630,'Oman Results'!G630))","v":""},"",{"$f":"IF(B630=\"\",\"\",IF(VLOOKUP(B630,'Oman Results'!C630:AI1623,31)=\"x\",\"Yes\",\"\"))","v":""},{"$f":"IF(B630=\"\",\"\",IF(VLOOKUP(B630,'Oman Results'!C630:AI1623,31)=\"x\",'Oman Results'!G630,\"\"))","v":""},{"$f":"IF(B630=\"\",\"\",IF(VLOOKUP(B630,'Oman Results'!C630:AI1623,31)=\"x\",'Oman Results'!AJ630,\"\"))","v":""},{"$f":"IF(B630=\"\",\"\",IF(VLOOKUP(B630,'Oman Results'!C630:AI1623,31)=\"x\",'Oman Results'!AK630,\"\"))","v":""},null,null,"","","",""]
["",{"$f":"IF('Oman Results'!C631=\"\",\"\",'Oman Results'!C631)","v":""},{"$f":"IF(OR('Oman Results'!D631=\"\",'Oman Results'!D631=\"Totals\"),\"\",'Oman Results'!D631)","v":""},"",{"$f":"IF('Oman Results'!E631=\"\",\"\",'Oman Results'!E631)","v":""},{"$f":"IF('Oman Results'!F631=\"\",\"\",'Oman Results'!F631)","v":""},{"$f":"IF(B631=\"\",\"\",IF(VLOOKUP(B631,'Oman Results'!C631:AI1624,31)=\"x\",'Oman Results'!AK631,'Oman Results'!G631))","v":""},"",{"$f":"IF(B631=\"\",\"\",IF(VLOOKUP(B631,'Oman Results'!C631:AI1624,31)=\"x\",\"Yes\",\"\"))","v":""},{"$f":"IF(B631=\"\",\"\",IF(VLOOKUP(B631,'Oman Results'!C631:AI1624,31)=\"x\",'Oman Results'!G631,\"\"))","v":""},{"$f":"IF(B631=\"\",\"\",IF(VLOOKUP(B631,'Oman Results'!C631:AI1624,31)=\"x\",'Oman Results'!AJ631,\"\"))","v":""},{"$f":"IF(B631=\"\",\"\",IF(VLOOKUP(B631,'Oman Results'!C631:AI1624,31)=\"x\",'Oman Results'!AK631,\"\"))","v":""},null,null,"","","",""]
["",{"$f":"IF('Oman Results'!C632=\"\",\"\",'Oman Results'!C632)","v":""},{"$f":"IF(OR('Oman Results'!D632=\"\",'Oman Results'!D632=\"Totals\"),\"\",'Oman Results'!D632)","v":""},"",{"$f":"IF('Oman Results'!E632=\"\",\"\",'Oman Results'!E632)","v":""},{"$f":"IF('Oman Results'!F632=\"\",\"\",'Oman Results'!F632)","v":""},{"$f":"IF(B632=\"\",\"\",IF(VLOOKUP(B632,'Oman Results'!C632:AI1625,31)=\"x\",'Oman Results'!AK632,'Oman Results'!G632))","v":""},"",{"$f":"IF(B632=\"\",\"\",IF(VLOOKUP(B632,'Oman Results'!C632:AI1625,31)=\"x\",\"Yes\",\"\"))","v":""},{"$f":"IF(B632=\"\",\"\",IF(VLOOKUP(B632,'Oman Results'!C632:AI1625,31)=\"x\",'Oman Results'!G632,\"\"))","v":""},{"$f":"IF(B632=\"\",\"\",IF(VLOOKUP(B632,'Oman Results'!C632:AI1625,31)=\"x\",'Oman Results'!AJ632,\"\"))","v":""},{"$f":"IF(B632=\"\",\"\",IF(VLOOKUP(B632,'Oman Results'!C632:AI1625,31)=\"x\",'Oman Results'!AK632,\"\"))","v":""},null,null,"","","",""]
["",{"$f":"IF('Oman Results'!C633=\"\",\"\",'Oman Results'!C633)","v":""},{"$f":"IF(OR('Oman Results'!D633=\"\",'Oman Results'!D633=\"Totals\"),\"\",'Oman Results'!D633)","v":""},"",{"$f":"IF('Oman Results'!E633=\"\",\"\",'Oman Results'!E633)","v":""},{"$f":"IF('Oman Results'!F633=\"\",\"\",'Oman Results'!F633)","v":""},{"$f":"IF(B633=\"\",\"\",IF(VLOOKUP(B633,'Oman Results'!C633:AI1626,31)=\"x\",'Oman Results'!AK633,'Oman Results'!G633))","v":""},"",{"$f":"IF(B633=\"\",\"\",IF(VLOOKUP(B633,'Oman Results'!C633:AI1626,31)=\"x\",\"Yes\",\"\"))","v":""},{"$f":"IF(B633=\"\",\"\",IF(VLOOKUP(B633,'Oman Results'!C633:AI1626,31)=\"x\",'Oman Results'!G633,\"\"))","v":""},{"$f":"IF(B633=\"\",\"\",IF(VLOOKUP(B633,'Oman Results'!C633:AI1626,31)=\"x\",'Oman Results'!AJ633,\"\"))","v":""},{"$f":"IF(B633=\"\",\"\",IF(VLOOKUP(B633,'Oman Results'!C633:AI1626,31)=\"x\",'Oman Results'!AK633,\"\"))","v":""},null,null,"","","",""]
["",{"$f":"IF('Oman Results'!C634=\"\",\"\",'Oman Results'!C634)","v":""},{"$f":"IF(OR('Oman Results'!D634=\"\",'Oman Results'!D634=\"Totals\"),\"\",'Oman Results'!D634)","v":""},"",{"$f":"IF('Oman Results'!E634=\"\",\"\",'Oman Results'!E634)","v":""},{"$f":"IF('Oman Results'!F634=\"\",\"\",'Oman Results'!F634)","v":""},{"$f":"IF(B634=\"\",\"\",IF(VLOOKUP(B634,'Oman Results'!C634:AI1627,31)=\"x\",'Oman Results'!AK634,'Oman Results'!G634))","v":""},"",{"$f":"IF(B634=\"\",\"\",IF(VLOOKUP(B634,'Oman Results'!C634:AI1627,31)=\"x\",\"Yes\",\"\"))","v":""},{"$f":"IF(B634=\"\",\"\",IF(VLOOKUP(B634,'Oman Results'!C634:AI1627,31)=\"x\",'Oman Results'!G634,\"\"))","v":""},{"$f":"IF(B634=\"\",\"\",IF(VLOOKUP(B634,'Oman Results'!C634:AI1627,31)=\"x\",'Oman Results'!AJ634,\"\"))","v":""},{"$f":"IF(B634=\"\",\"\",IF(VLOOKUP(B634,'Oman Results'!C634:AI1627,31)=\"x\",'Oman Results'!AK634,\"\"))","v":""},null,null,"","","",""]
["",{"$f":"IF('Oman Results'!C635=\"\",\"\",'Oman Results'!C635)","v":""},{"$f":"IF(OR('Oman Results'!D635=\"\",'Oman Results'!D635=\"Totals\"),\"\",'Oman Results'!D635)","v":""},"",{"$f":"IF('Oman Results'!E635=\"\",\"\",'Oman Results'!E635)","v":""},{"$f":"IF('Oman Results'!F635=\"\",\"\",'Oman Results'!F635)","v":""},{"$f":"IF(B635=\"\",\"\",IF(VLOOKUP(B635,'Oman Results'!C635:AI1628,31)=\"x\",'Oman Results'!AK635,'Oman Results'!G635))","v":""},"",{"$f":"IF(B635=\"\",\"\",IF(VLOOKUP(B635,'Oman Results'!C635:AI1628,31)=\"x\",\"Yes\",\"\"))","v":""},{"$f":"IF(B635=\"\",\"\",IF(VLOOKUP(B635,'Oman Results'!C635:AI1628,31)=\"x\",'Oman Results'!G635,\"\"))","v":""},{"$f":"IF(B635=\"\",\"\",IF(VLOOKUP(B635,'Oman Results'!C635:AI1628,31)=\"x\",'Oman Results'!AJ635,\"\"))","v":""},{"$f":"IF(B635=\"\",\"\",IF(VLOOKUP(B635,'Oman Results'!C635:AI1628,31)=\"x\",'Oman Results'!AK635,\"\"))","v":""},null,null,"","","",""]
["",{"$f":"IF('Oman Results'!C636=\"\",\"\",'Oman Results'!C636)","v":""},{"$f":"IF(OR('Oman Results'!D636=\"\",'Oman Results'!D636=\"Totals\"),\"\",'Oman Results'!D636)","v":""},"",{"$f":"IF('Oman Results'!E636=\"\",\"\",'Oman Results'!E636)","v":""},{"$f":"IF('Oman Results'!F636=\"\",\"\",'Oman Results'!F636)","v":""},{"$f":"IF(B636=\"\",\"\",IF(VLOOKUP(B636,'Oman Results'!C636:AI1629,31)=\"x\",'Oman Results'!AK636,'Oman Results'!G636))","v":""},"",{"$f":"IF(B636=\"\",\"\",IF(VLOOKUP(B636,'Oman Results'!C636:AI1629,31)=\"x\",\"Yes\",\"\"))","v":""},{"$f":"IF(B636=\"\",\"\",IF(VLOOKUP(B636,'Oman Results'!C636:AI1629,31)=\"x\",'Oman Results'!G636,\"\"))","v":""},{"$f":"IF(B636=\"\",\"\",IF(VLOOKUP(B636,'Oman Results'!C636:AI1629,31)=\"x\",'Oman Results'!AJ636,\"\"))","v":""},{"$f":"IF(B636=\"\",\"\",IF(VLOOKUP(B636,'Oman Results'!C636:AI1629,31)=\"x\",'Oman Results'!AK636,\"\"))","v":""},null,null,"","","",""]
["",{"$f":"IF('Oman Results'!C637=\"\",\"\",'Oman Results'!C637)","v":""},{"$f":"IF(OR('Oman Results'!D637=\"\",'Oman Results'!D637=\"Totals\"),\"\",'Oman Results'!D637)","v":""},"",{"$f":"IF('Oman Results'!E637=\"\",\"\",'Oman Results'!E637)","v":""},{"$f":"IF('Oman Results'!F637=\"\",\"\",'Oman Results'!F637)","v":""},{"$f":"IF(B637=\"\",\"\",IF(VLOOKUP(B637,'Oman Results'!C637:AI1630,31)=\"x\",'Oman Results'!AK637,'Oman Results'!G637))","v":""},"",{"$f":"IF(B637=\"\",\"\",IF(VLOOKUP(B637,'Oman Results'!C637:AI1630,31)=\"x\",\"Yes\",\"\"))","v":""},{"$f":"IF(B637=\"\",\"\",IF(VLOOKUP(B637,'Oman Results'!C637:AI1630,31)=\"x\",'Oman Results'!G637,\"\"))","v":""},{"$f":"IF(B637=\"\",\"\",IF(VLOOKUP(B637,'Oman Results'!C637:AI1630,31)=\"x\",'Oman Results'!AJ637,\"\"))","v":""},{"$f":"IF(B637=\"\",\"\",IF(VLOOKUP(B637,'Oman Results'!C637:AI1630,31)=\"x\",'Oman Results'!AK637,\"\"))","v":""},null,null,"","","",""]
["",{"$f":"IF('Oman Results'!C638=\"\",\"\",'Oman Results'!C638)","v":""},{"$f":"IF(OR('Oman Results'!D638=\"\",'Oman Results'!D638=\"Totals\"),\"\",'Oman Results'!D638)","v":""},"",{"$f":"IF('Oman Results'!E638=\"\",\"\",'Oman Results'!E638)","v":""},{"$f":"IF('Oman Results'!F638=\"\",\"\",'Oman Results'!F638)","v":""},{"$f":"IF(B638=\"\",\"\",IF(VLOOKUP(B638,'Oman Results'!C638:AI1631,31)=\"x\",'Oman Results'!AK638,'Oman Results'!G638))","v":""},"",{"$f":"IF(B638=\"\",\"\",IF(VLOOKUP(B638,'Oman Results'!C638:AI1631,31)=\"x\",\"Yes\",\"\"))","v":""},{"$f":"IF(B638=\"\",\"\",IF(VLOOKUP(B638,'Oman Results'!C638:AI1631,31)=\"x\",'Oman Results'!G638,\"\"))","v":""},{"$f":"IF(B638=\"\",\"\",IF(VLOOKUP(B638,'Oman Results'!C638:AI1631,31)=\"x\",'Oman Results'!AJ638,\"\"))","v":""},{"$f":"IF(B638=\"\",\"\",IF(VLOOKUP(B638,'Oman Results'!C638:AI1631,31)=\"x\",'Oman Results'!AK638,\"\"))","v":""},null,null,"","","",""]
["",{"$f":"IF('Oman Results'!C639=\"\",\"\",'Oman Results'!C639)","v":""},{"$f":"IF(OR('Oman Results'!D639=\"\",'Oman Results'!D639=\"Totals\"),\"\",'Oman Results'!D639)","v":""},"",{"$f":"IF('Oman Results'!E639=\"\",\"\",'Oman Results'!E639)","v":""},{"$f":"IF('Oman Results'!F639=\"\",\"\",'Oman Results'!F639)","v":""},{"$f":"IF(B639=\"\",\"\",IF(VLOOKUP(B639,'Oman Results'!C639:AI1632,31)=\"x\",'Oman Results'!AK639,'Oman Results'!G639))","v":""},"",{"$f":"IF(B639=\"\",\"\",IF(VLOOKUP(B639,'Oman Results'!C639:AI1632,31)=\"x\",\"Yes\",\"\"))","v":""},{"$f":"IF(B639=\"\",\"\",IF(VLOOKUP(B639,'Oman Results'!C639:AI1632,31)=\"x\",'Oman Results'!G639,\"\"))","v":""},{"$f":"IF(B639=\"\",\"\",IF(VLOOKUP(B639,'Oman Results'!C639:AI1632,31)=\"x\",'Oman Results'!AJ639,\"\"))","v":""},{"$f":"IF(B639=\"\",\"\",IF(VLOOKUP(B639,'Oman Results'!C639:AI1632,31)=\"x\",'Oman Results'!AK639,\"\"))","v":""},null,null,"","","",""]
["",{"$f":"IF('Oman Results'!C640=\"\",\"\",'Oman Results'!C640)","v":""},{"$f":"IF(OR('Oman Results'!D640=\"\",'Oman Results'!D640=\"Totals\"),\"\",'Oman Results'!D640)","v":""},"",{"$f":"IF('Oman Results'!E640=\"\",\"\",'Oman Results'!E640)","v":""},{"$f":"IF('Oman Results'!F640=\"\",\"\",'Oman Results'!F640)","v":""},{"$f":"IF(B640=\"\",\"\",IF(VLOOKUP(B640,'Oman Results'!C640:AI1633,31)=\"x\",'Oman Results'!AK640,'Oman Results'!G640))","v":""},"",{"$f":"IF(B640=\"\",\"\",IF(VLOOKUP(B640,'Oman Results'!C640:AI1633,31)=\"x\",\"Yes\",\"\"))","v":""},{"$f":"IF(B640=\"\",\"\",IF(VLOOKUP(B640,'Oman Results'!C640:AI1633,31)=\"x\",'Oman Results'!G640,\"\"))","v":""},{"$f":"IF(B640=\"\",\"\",IF(VLOOKUP(B640,'Oman Results'!C640:AI1633,31)=\"x\",'Oman Results'!AJ640,\"\"))","v":""},{"$f":"IF(B640=\"\",\"\",IF(VLOOKUP(B640,'Oman Results'!C640:AI1633,31)=\"x\",'Oman Results'!AK640,\"\"))","v":""},null,null,"","","",""]
["",{"$f":"IF('Oman Results'!C641=\"\",\"\",'Oman Results'!C641)","v":""},{"$f":"IF(OR('Oman Results'!D641=\"\",'Oman Results'!D641=\"Totals\"),\"\",'Oman Results'!D641)","v":""},"",{"$f":"IF('Oman Results'!E641=\"\",\"\",'Oman Results'!E641)","v":""},{"$f":"IF('Oman Results'!F641=\"\",\"\",'Oman Results'!F641)","v":""},{"$f":"IF(B641=\"\",\"\",IF(VLOOKUP(B641,'Oman Results'!C641:AI1634,31)=\"x\",'Oman Results'!AK641,'Oman Results'!G641))","v":""},"",{"$f":"IF(B641=\"\",\"\",IF(VLOOKUP(B641,'Oman Results'!C641:AI1634,31)=\"x\",\"Yes\",\"\"))","v":""},{"$f":"IF(B641=\"\",\"\",IF(VLOOKUP(B641,'Oman Results'!C641:AI1634,31)=\"x\",'Oman Results'!G641,\"\"))","v":""},{"$f":"IF(B641=\"\",\"\",IF(VLOOKUP(B641,'Oman Results'!C641:AI1634,31)=\"x\",'Oman Results'!AJ641,\"\"))","v":""},{"$f":"IF(B641=\"\",\"\",IF(VLOOKUP(B641,'Oman Results'!C641:AI1634,31)=\"x\",'Oman Results'!AK641,\"\"))","v":""},null,null,"","","",""]
["",{"$f":"IF('Oman Results'!C642=\"\",\"\",'Oman Results'!C642)","v":""},{"$f":"IF(OR('Oman Results'!D642=\"\",'Oman Results'!D642=\"Totals\"),\"\",'Oman Results'!D642)","v":""},"",{"$f":"IF('Oman Results'!E642=\"\",\"\",'Oman Results'!E642)","v":""},{"$f":"IF('Oman Results'!F642=\"\",\"\",'Oman Results'!F642)","v":""},{"$f":"IF(B642=\"\",\"\",IF(VLOOKUP(B642,'Oman Results'!C642:AI1635,31)=\"x\",'Oman Results'!AK642,'Oman Results'!G642))","v":""},"",{"$f":"IF(B642=\"\",\"\",IF(VLOOKUP(B642,'Oman Results'!C642:AI1635,31)=\"x\",\"Yes\",\"\"))","v":""},{"$f":"IF(B642=\"\",\"\",IF(VLOOKUP(B642,'Oman Results'!C642:AI1635,31)=\"x\",'Oman Results'!G642,\"\"))","v":""},{"$f":"IF(B642=\"\",\"\",IF(VLOOKUP(B642,'Oman Results'!C642:AI1635,31)=\"x\",'Oman Results'!AJ642,\"\"))","v":""},{"$f":"IF(B642=\"\",\"\",IF(VLOOKUP(B642,'Oman Results'!C642:AI1635,31)=\"x\",'Oman Results'!AK642,\"\"))","v":""},null,null,"",{"$f":"IF(O642=1,G642,\"\")","v":""},"",{"$f":"IF(O642=1,\"\",H642)","v":""}]
["",{"$f":"IF('Oman Results'!C643=\"\",\"\",'Oman Results'!C643)","v":""},{"$f":"IF(OR('Oman Results'!D643=\"\",'Oman Results'!D643=\"Totals\"),\"\",'Oman Results'!D643)","v":""},{"$f":"IF(ISNUMBER(SEARCH(\"{\",C643)),\"Yes\", \"\")","v":""},{"$f":"IF('Oman Results'!E643=\"\",\"\",'Oman Results'!E643)","v":""},{"$f":"IF('Oman Results'!F643=\"\",\"\",'Oman Results'!F643)","v":""},{"$f":"IF(B643=\"\",\"\",IF(VLOOKUP(B643,'Oman Results'!C643:AI1636,31)=\"x\",'Oman Results'!AK643,'Oman Results'!G643))","v":""},{"$f":"IF(E643=\"\",\"\",E643*G643)","v":""},{"$f":"IF(B643=\"\",\"\",IF(VLOOKUP(B643,'Oman Results'!C643:AI1636,31)=\"x\",\"Yes\",\"\"))","v":""},{"$f":"IF(B643=\"\",\"\",IF(VLOOKUP(B643,'Oman Results'!C643:AI1636,31)=\"x\",'Oman Results'!G643,\"\"))","v":""},{"$f":"IF(B643=\"\",\"\",IF(VLOOKUP(B643,'Oman Results'!C643:AI1636,31)=\"x\",'Oman Results'!AJ643,\"\"))","v":""},{"$f":"IF(B643=\"\",\"\",IF(VLOOKUP(B643,'Oman Results'!C643:AI1636,31)=\"x\",'Oman Results'!AK643,\"\"))","v":""},null,null,{"$f":"IF(OR(LEFT(F643,3)=\"L.S\",LEFT(F643,2)=\"LS\"),1,\"\")","v":""},"",{"$f":"IF(I643=\"Yes\",G643,\"\")","v":""},""]
[{"$f":"IF(B644=\"\",\"\",1+A643)","v":""},{"$f":"IF('Oman Results'!C644=\"\",\"\",'Oman Results'!C644)","v":""},{"$f":"IF(OR('Oman Results'!D644=\"\",'Oman Results'!D644=\"Totals\"),\"\",'Oman Results'!D644)","v":""},"",{"$f":"IF('Oman Results'!E644=\"\",\"\",'Oman Results'!E644)","v":""},{"$f":"IF('Oman Results'!F644=\"\",\"\",'Oman Results'!F644)","v":""},{"$f":"IF(B644=\"\",\"\",IF(VLOOKUP(B644,'Oman Results'!C644:AI1637,31)=\"x\",'Oman Results'!AK644,'Oman Results'!G644))","v":""},"",{"$f":"IF(B644=\"\",\"\",IF(VLOOKUP(B644,'Oman Results'!C644:AI1637,31)=\"x\",\"Yes\",\"\"))","v":""},{"$f":"IF(B644=\"\",\"\",IF(VLOOKUP(B644,'Oman Results'!C644:AI1637,31)=\"x\",'Oman Results'!G644,\"\"))","v":""},{"$f":"IF(B644=\"\",\"\",IF(VLOOKUP(B644,'Oman Results'!C644:AI1637,31)=\"x\",'Oman Results'!AJ644,\"\"))","v":""},{"$f":"IF(B644=\"\",\"\",IF(VLOOKUP(B644,'Oman Results'!C644:AI1637,31)=\"x\",'Oman Results'!AK644,\"\"))","v":""},null,null,"","","",""]
["",{"$f":"IF('Oman Results'!C645=\"\",\"\",'Oman Results'!C645)","v":""},{"$f":"IF(OR('Oman Results'!D645=\"\",'Oman Results'!D645=\"Totals\"),\"\",'Oman Results'!D645)","v":""},"",{"$f":"IF('Oman Results'!E645=\"\",\"\",'Oman Results'!E645)","v":""},{"$f":"IF('Oman Results'!F645=\"\",\"\",'Oman Results'!F645)","v":""},{"$f":"IF(B645=\"\",\"\",IF(VLOOKUP(B645,'Oman Results'!C645:AI1638,31)=\"x\",'Oman Results'!AK645,'Oman Results'!G645))","v":""},"",{"$f":"IF(B645=\"\",\"\",IF(VLOOKUP(B645,'Oman Results'!C645:AI1638,31)=\"x\",\"Yes\",\"\"))","v":""},{"$f":"IF(B645=\"\",\"\",IF(VLOOKUP(B645,'Oman Results'!C645:AI1638,31)=\"x\",'Oman Results'!G645,\"\"))","v":""},{"$f":"IF(B645=\"\",\"\",IF(VLOOKUP(B645,'Oman Results'!C645:AI1638,31)=\"x\",'Oman Results'!AJ645,\"\"))","v":""},{"$f":"IF(B645=\"\",\"\",IF(VLOOKUP(B645,'Oman Results'!C645:AI1638,31)=\"x\",'Oman Results'!AK645,\"\"))","v":""},null,null,"","","",""]
["",{"$f":"IF('Oman Results'!C646=\"\",\"\",'Oman Results'!C646)","v":""},{"$f":"IF(OR('Oman Results'!D646=\"\",'Oman Results'!D646=\"Totals\"),\"\",'Oman Results'!D646)","v":""},"",{"$f":"IF('Oman Results'!E646=\"\",\"\",'Oman Results'!E646)","v":""},{"$f":"IF('Oman Results'!F646=\"\",\"\",'Oman Results'!F646)","v":""},{"$f":"IF(B646=\"\",\"\",IF(VLOOKUP(B646,'Oman Results'!C646:AI1639,31)=\"x\",'Oman Results'!AK646,'Oman Results'!G646))","v":""},"",{"$f":"IF(B646=\"\",\"\",IF(VLOOKUP(B646,'Oman Results'!C646:AI1639,31)=\"x\",\"Yes\",\"\"))","v":""},{"$f":"IF(B646=\"\",\"\",IF(VLOOKUP(B646,'Oman Results'!C646:AI1639,31)=\"x\",'Oman Results'!G646,\"\"))","v":""},{"$f":"IF(B646=\"\",\"\",IF(VLOOKUP(B646,'Oman Results'!C646:AI1639,31)=\"x\",'Oman Results'!AJ646,\"\"))","v":""},{"$f":"IF(B646=\"\",\"\",IF(VLOOKUP(B646,'Oman Results'!C646:AI1639,31)=\"x\",'Oman Results'!AK646,\"\"))","v":""},null,null,"","","",""]
["",{"$f":"IF('Oman Results'!C647=\"\",\"\",'Oman Results'!C647)","v":""},{"$f":"IF(OR('Oman Results'!D647=\"\",'Oman Results'!D647=\"Totals\"),\"\",'Oman Results'!D647)","v":""},"",{"$f":"IF('Oman Results'!E647=\"\",\"\",'Oman Results'!E647)","v":""},{"$f":"IF('Oman Results'!F647=\"\",\"\",'Oman Results'!F647)","v":""},{"$f":"IF(B647=\"\",\"\",IF(VLOOKUP(B647,'Oman Results'!C647:AI1640,31)=\"x\",'Oman Results'!AK647,'Oman Results'!G647))","v":""},"",{"$f":"IF(B647=\"\",\"\",IF(VLOOKUP(B647,'Oman Results'!C647:AI1640,31)=\"x\",\"Yes\",\"\"))","v":""},{"$f":"IF(B647=\"\",\"\",IF(VLOOKUP(B647,'Oman Results'!C647:AI1640,31)=\"x\",'Oman Results'!G647,\"\"))","v":""},{"$f":"IF(B647=\"\",\"\",IF(VLOOKUP(B647,'Oman Results'!C647:AI1640,31)=\"x\",'Oman Results'!AJ647,\"\"))","v":""},{"$f":"IF(B647=\"\",\"\",IF(VLOOKUP(B647,'Oman Results'!C647:AI1640,31)=\"x\",'Oman Results'!AK647,\"\"))","v":""},null,null,"","","",""]
["",{"$f":"IF('Oman Results'!C648=\"\",\"\",'Oman Results'!C648)","v":""},{"$f":"IF(OR('Oman Results'!D648=\"\",'Oman Results'!D648=\"Totals\"),\"\",'Oman Results'!D648)","v":""},"",{"$f":"IF('Oman Results'!E648=\"\",\"\",'Oman Results'!E648)","v":""},{"$f":"IF('Oman Results'!F648=\"\",\"\",'Oman Results'!F648)","v":""},{"$f":"IF(B648=\"\",\"\",IF(VLOOKUP(B648,'Oman Results'!C648:AI1641,31)=\"x\",'Oman Results'!AK648,'Oman Results'!G648))","v":""},"",{"$f":"IF(B648=\"\",\"\",IF(VLOOKUP(B648,'Oman Results'!C648:AI1641,31)=\"x\",\"Yes\",\"\"))","v":""},{"$f":"IF(B648=\"\",\"\",IF(VLOOKUP(B648,'Oman Results'!C648:AI1641,31)=\"x\",'Oman Results'!G648,\"\"))","v":""},{"$f":"IF(B648=\"\",\"\",IF(VLOOKUP(B648,'Oman Results'!C648:AI1641,31)=\"x\",'Oman Results'!AJ648,\"\"))","v":""},{"$f":"IF(B648=\"\",\"\",IF(VLOOKUP(B648,'Oman Results'!C648:AI1641,31)=\"x\",'Oman Results'!AK648,\"\"))","v":""},null,null,"","","",""]
["",{"$f":"IF('Oman Results'!C649=\"\",\"\",'Oman Results'!C649)","v":""},{"$f":"IF(OR('Oman Results'!D649=\"\",'Oman Results'!D649=\"Totals\"),\"\",'Oman Results'!D649)","v":""},"",{"$f":"IF('Oman Results'!E649=\"\",\"\",'Oman Results'!E649)","v":""},{"$f":"IF('Oman Results'!F649=\"\",\"\",'Oman Results'!F649)","v":""},{"$f":"IF(B649=\"\",\"\",IF(VLOOKUP(B649,'Oman Results'!C649:AI1642,31)=\"x\",'Oman Results'!AK649,'Oman Results'!G649))","v":""},"",{"$f":"IF(B649=\"\",\"\",IF(VLOOKUP(B649,'Oman Results'!C649:AI1642,31)=\"x\",\"Yes\",\"\"))","v":""},{"$f":"IF(B649=\"\",\"\",IF(VLOOKUP(B649,'Oman Results'!C649:AI1642,31)=\"x\",'Oman Results'!G649,\"\"))","v":""},{"$f":"IF(B649=\"\",\"\",IF(VLOOKUP(B649,'Oman Results'!C649:AI1642,31)=\"x\",'Oman Results'!AJ649,\"\"))","v":""},{"$f":"IF(B649=\"\",\"\",IF(VLOOKUP(B649,'Oman Results'!C649:AI1642,31)=\"x\",'Oman Results'!AK649,\"\"))","v":""},null,null,"","","",""]
["",{"$f":"IF('Oman Results'!C650=\"\",\"\",'Oman Results'!C650)","v":""},{"$f":"IF(OR('Oman Results'!D650=\"\",'Oman Results'!D650=\"Totals\"),\"\",'Oman Results'!D650)","v":""},"",{"$f":"IF('Oman Results'!E650=\"\",\"\",'Oman Results'!E650)","v":""},{"$f":"IF('Oman Results'!F650=\"\",\"\",'Oman Results'!F650)","v":""},{"$f":"IF(B650=\"\",\"\",IF(VLOOKUP(B650,'Oman Results'!C650:AI1643,31)=\"x\",'Oman Results'!AK650,'Oman Results'!G650))","v":""},"",{"$f":"IF(B650=\"\",\"\",IF(VLOOKUP(B650,'Oman Results'!C650:AI1643,31)=\"x\",\"Yes\",\"\"))","v":""},{"$f":"IF(B650=\"\",\"\",IF(VLOOKUP(B650,'Oman Results'!C650:AI1643,31)=\"x\",'Oman Results'!G650,\"\"))","v":""},{"$f":"IF(B650=\"\",\"\",IF(VLOOKUP(B650,'Oman Results'!C650:AI1643,31)=\"x\",'Oman Results'!AJ650,\"\"))","v":""},{"$f":"IF(B650=\"\",\"\",IF(VLOOKUP(B650,'Oman Results'!C650:AI1643,31)=\"x\",'Oman Results'!AK650,\"\"))","v":""},null,null,"","","",""]
["",{"$f":"IF('Oman Results'!C651=\"\",\"\",'Oman Results'!C651)","v":""},{"$f":"IF(OR('Oman Results'!D651=\"\",'Oman Results'!D651=\"Totals\"),\"\",'Oman Results'!D651)","v":""},"",{"$f":"IF('Oman Results'!E651=\"\",\"\",'Oman Results'!E651)","v":""},{"$f":"IF('Oman Results'!F651=\"\",\"\",'Oman Results'!F651)","v":""},{"$f":"IF(B651=\"\",\"\",IF(VLOOKUP(B651,'Oman Results'!C651:AI1644,31)=\"x\",'Oman Results'!AK651,'Oman Results'!G651))","v":""},"",{"$f":"IF(B651=\"\",\"\",IF(VLOOKUP(B651,'Oman Results'!C651:AI1644,31)=\"x\",\"Yes\",\"\"))","v":""},{"$f":"IF(B651=\"\",\"\",IF(VLOOKUP(B651,'Oman Results'!C651:AI1644,31)=\"x\",'Oman Results'!G651,\"\"))","v":""},{"$f":"IF(B651=\"\",\"\",IF(VLOOKUP(B651,'Oman Results'!C651:AI1644,31)=\"x\",'Oman Results'!AJ651,\"\"))","v":""},{"$f":"IF(B651=\"\",\"\",IF(VLOOKUP(B651,'Oman Results'!C651:AI1644,31)=\"x\",'Oman Results'!AK651,\"\"))","v":""},null,null,"","","",""]
["",{"$f":"IF('Oman Results'!C652=\"\",\"\",'Oman Results'!C652)","v":""},{"$f":"IF(OR('Oman Results'!D652=\"\",'Oman Results'!D652=\"Totals\"),\"\",'Oman Results'!D652)","v":""},"",{"$f":"IF('Oman Results'!E652=\"\",\"\",'Oman Results'!E652)","v":""},{"$f":"IF('Oman Results'!F652=\"\",\"\",'Oman Results'!F652)","v":""},{"$f":"IF(B652=\"\",\"\",IF(VLOOKUP(B652,'Oman Results'!C652:AI1645,31)=\"x\",'Oman Results'!AK652,'Oman Results'!G652))","v":""},"",{"$f":"IF(B652=\"\",\"\",IF(VLOOKUP(B652,'Oman Results'!C652:AI1645,31)=\"x\",\"Yes\",\"\"))","v":""},{"$f":"IF(B652=\"\",\"\",IF(VLOOKUP(B652,'Oman Results'!C652:AI1645,31)=\"x\",'Oman Results'!G652,\"\"))","v":""},{"$f":"IF(B652=\"\",\"\",IF(VLOOKUP(B652,'Oman Results'!C652:AI1645,31)=\"x\",'Oman Results'!AJ652,\"\"))","v":""},{"$f":"IF(B652=\"\",\"\",IF(VLOOKUP(B652,'Oman Results'!C652:AI1645,31)=\"x\",'Oman Results'!AK652,\"\"))","v":""},null,null,"","","",""]
["",{"$f":"IF('Oman Results'!C653=\"\",\"\",'Oman Results'!C653)","v":""},{"$f":"IF(OR('Oman Results'!D653=\"\",'Oman Results'!D653=\"Totals\"),\"\",'Oman Results'!D653)","v":""},"",{"$f":"IF('Oman Results'!E653=\"\",\"\",'Oman Results'!E653)","v":""},{"$f":"IF('Oman Results'!F653=\"\",\"\",'Oman Results'!F653)","v":""},{"$f":"IF(B653=\"\",\"\",IF(VLOOKUP(B653,'Oman Results'!C653:AI1646,31)=\"x\",'Oman Results'!AK653,'Oman Results'!G653))","v":""},"",{"$f":"IF(B653=\"\",\"\",IF(VLOOKUP(B653,'Oman Results'!C653:AI1646,31)=\"x\",\"Yes\",\"\"))","v":""},{"$f":"IF(B653=\"\",\"\",IF(VLOOKUP(B653,'Oman Results'!C653:AI1646,31)=\"x\",'Oman Results'!G653,\"\"))","v":""},{"$f":"IF(B653=\"\",\"\",IF(VLOOKUP(B653,'Oman Results'!C653:AI1646,31)=\"x\",'Oman Results'!AJ653,\"\"))","v":""},{"$f":"IF(B653=\"\",\"\",IF(VLOOKUP(B653,'Oman Results'!C653:AI1646,31)=\"x\",'Oman Results'!AK653,\"\"))","v":""},null,null,"","","",""]
["",{"$f":"IF('Oman Results'!C654=\"\",\"\",'Oman Results'!C654)","v":""},{"$f":"IF(OR('Oman Results'!D654=\"\",'Oman Results'!D654=\"Totals\"),\"\",'Oman Results'!D654)","v":""},"",{"$f":"IF('Oman Results'!E654=\"\",\"\",'Oman Results'!E654)","v":""},{"$f":"IF('Oman Results'!F654=\"\",\"\",'Oman Results'!F654)","v":""},{"$f":"IF(B654=\"\",\"\",IF(VLOOKUP(B654,'Oman Results'!C654:AI1647,31)=\"x\",'Oman Results'!AK654,'Oman Results'!G654))","v":""},"",{"$f":"IF(B654=\"\",\"\",IF(VLOOKUP(B654,'Oman Results'!C654:AI1647,31)=\"x\",\"Yes\",\"\"))","v":""},{"$f":"IF(B654=\"\",\"\",IF(VLOOKUP(B654,'Oman Results'!C654:AI1647,31)=\"x\",'Oman Results'!G654,\"\"))","v":""},{"$f":"IF(B654=\"\",\"\",IF(VLOOKUP(B654,'Oman Results'!C654:AI1647,31)=\"x\",'Oman Results'!AJ654,\"\"))","v":""},{"$f":"IF(B654=\"\",\"\",IF(VLOOKUP(B654,'Oman Results'!C654:AI1647,31)=\"x\",'Oman Results'!AK654,\"\"))","v":""},null,null,"","","",""]
["",{"$f":"IF('Oman Results'!C655=\"\",\"\",'Oman Results'!C655)","v":""},{"$f":"IF(OR('Oman Results'!D655=\"\",'Oman Results'!D655=\"Totals\"),\"\",'Oman Results'!D655)","v":""},"",{"$f":"IF('Oman Results'!E655=\"\",\"\",'Oman Results'!E655)","v":""},{"$f":"IF('Oman Results'!F655=\"\",\"\",'Oman Results'!F655)","v":""},{"$f":"IF(B655=\"\",\"\",IF(VLOOKUP(B655,'Oman Results'!C655:AI1648,31)=\"x\",'Oman Results'!AK655,'Oman Results'!G655))","v":""},"",{"$f":"IF(B655=\"\",\"\",IF(VLOOKUP(B655,'Oman Results'!C655:AI1648,31)=\"x\",\"Yes\",\"\"))","v":""},{"$f":"IF(B655=\"\",\"\",IF(VLOOKUP(B655,'Oman Results'!C655:AI1648,31)=\"x\",'Oman Results'!G655,\"\"))","v":""},{"$f":"IF(B655=\"\",\"\",IF(VLOOKUP(B655,'Oman Results'!C655:AI1648,31)=\"x\",'Oman Results'!AJ655,\"\"))","v":""},{"$f":"IF(B655=\"\",\"\",IF(VLOOKUP(B655,'Oman Results'!C655:AI1648,31)=\"x\",'Oman Results'!AK655,\"\"))","v":""},null,null,"","","",""]
["",{"$f":"IF('Oman Results'!C656=\"\",\"\",'Oman Results'!C656)","v":""},{"$f":"IF(OR('Oman Results'!D656=\"\",'Oman Results'!D656=\"Totals\"),\"\",'Oman Results'!D656)","v":""},"",{"$f":"IF('Oman Results'!E656=\"\",\"\",'Oman Results'!E656)","v":""},{"$f":"IF('Oman Results'!F656=\"\",\"\",'Oman Results'!F656)","v":""},{"$f":"IF(B656=\"\",\"\",IF(VLOOKUP(B656,'Oman Results'!C656:AI1649,31)=\"x\",'Oman Results'!AK656,'Oman Results'!G656))","v":""},"",{"$f":"IF(B656=\"\",\"\",IF(VLOOKUP(B656,'Oman Results'!C656:AI1649,31)=\"x\",\"Yes\",\"\"))","v":""},{"$f":"IF(B656=\"\",\"\",IF(VLOOKUP(B656,'Oman Results'!C656:AI1649,31)=\"x\",'Oman Results'!G656,\"\"))","v":""},{"$f":"IF(B656=\"\",\"\",IF(VLOOKUP(B656,'Oman Results'!C656:AI1649,31)=\"x\",'Oman Results'!AJ656,\"\"))","v":""},{"$f":"IF(B656=\"\",\"\",IF(VLOOKUP(B656,'Oman Results'!C656:AI1649,31)=\"x\",'Oman Results'!AK656,\"\"))","v":""},null,null,"","","",""]
["",{"$f":"IF('Oman Results'!C657=\"\",\"\",'Oman Results'!C657)","v":""},{"$f":"IF(OR('Oman Results'!D657=\"\",'Oman Results'!D657=\"Totals\"),\"\",'Oman Results'!D657)","v":""},"",{"$f":"IF('Oman Results'!E657=\"\",\"\",'Oman Results'!E657)","v":""},{"$f":"IF('Oman Results'!F657=\"\",\"\",'Oman Results'!F657)","v":""},{"$f":"IF(B657=\"\",\"\",IF(VLOOKUP(B657,'Oman Results'!C657:AI1650,31)=\"x\",'Oman Results'!AK657,'Oman Results'!G657))","v":""},"",{"$f":"IF(B657=\"\",\"\",IF(VLOOKUP(B657,'Oman Results'!C657:AI1650,31)=\"x\",\"Yes\",\"\"))","v":""},{"$f":"IF(B657=\"\",\"\",IF(VLOOKUP(B657,'Oman Results'!C657:AI1650,31)=\"x\",'Oman Results'!G657,\"\"))","v":""},{"$f":"IF(B657=\"\",\"\",IF(VLOOKUP(B657,'Oman Results'!C657:AI1650,31)=\"x\",'Oman Results'!AJ657,\"\"))","v":""},{"$f":"IF(B657=\"\",\"\",IF(VLOOKUP(B657,'Oman Results'!C657:AI1650,31)=\"x\",'Oman Results'!AK657,\"\"))","v":""},null,null,"","","",""]
["",{"$f":"IF('Oman Results'!C658=\"\",\"\",'Oman Results'!C658)","v":""},{"$f":"IF(OR('Oman Results'!D658=\"\",'Oman Results'!D658=\"Totals\"),\"\",'Oman Results'!D658)","v":""},"",{"$f":"IF('Oman Results'!E658=\"\",\"\",'Oman Results'!E658)","v":""},{"$f":"IF('Oman Results'!F658=\"\",\"\",'Oman Results'!F658)","v":""},{"$f":"IF(B658=\"\",\"\",IF(VLOOKUP(B658,'Oman Results'!C658:AI1651,31)=\"x\",'Oman Results'!AK658,'Oman Results'!G658))","v":""},"",{"$f":"IF(B658=\"\",\"\",IF(VLOOKUP(B658,'Oman Results'!C658:AI1651,31)=\"x\",\"Yes\",\"\"))","v":""},{"$f":"IF(B658=\"\",\"\",IF(VLOOKUP(B658,'Oman Results'!C658:AI1651,31)=\"x\",'Oman Results'!G658,\"\"))","v":""},{"$f":"IF(B658=\"\",\"\",IF(VLOOKUP(B658,'Oman Results'!C658:AI1651,31)=\"x\",'Oman Results'!AJ658,\"\"))","v":""},{"$f":"IF(B658=\"\",\"\",IF(VLOOKUP(B658,'Oman Results'!C658:AI1651,31)=\"x\",'Oman Results'!AK658,\"\"))","v":""},null,null,"","","",""]
["",{"$f":"IF('Oman Results'!C659=\"\",\"\",'Oman Results'!C659)","v":""},{"$f":"IF(OR('Oman Results'!D659=\"\",'Oman Results'!D659=\"Totals\"),\"\",'Oman Results'!D659)","v":""},"",{"$f":"IF('Oman Results'!E659=\"\",\"\",'Oman Results'!E659)","v":""},{"$f":"IF('Oman Results'!F659=\"\",\"\",'Oman Results'!F659)","v":""},{"$f":"IF(B659=\"\",\"\",IF(VLOOKUP(B659,'Oman Results'!C659:AI1652,31)=\"x\",'Oman Results'!AK659,'Oman Results'!G659))","v":""},"",{"$f":"IF(B659=\"\",\"\",IF(VLOOKUP(B659,'Oman Results'!C659:AI1652,31)=\"x\",\"Yes\",\"\"))","v":""},{"$f":"IF(B659=\"\",\"\",IF(VLOOKUP(B659,'Oman Results'!C659:AI1652,31)=\"x\",'Oman Results'!G659,\"\"))","v":""},{"$f":"IF(B659=\"\",\"\",IF(VLOOKUP(B659,'Oman Results'!C659:AI1652,31)=\"x\",'Oman Results'!AJ659,\"\"))","v":""},{"$f":"IF(B659=\"\",\"\",IF(VLOOKUP(B659,'Oman Results'!C659:AI1652,31)=\"x\",'Oman Results'!AK659,\"\"))","v":""},null,null,"","","",""]
["",{"$f":"IF('Oman Results'!C660=\"\",\"\",'Oman Results'!C660)","v":""},{"$f":"IF(OR('Oman Results'!D660=\"\",'Oman Results'!D660=\"Totals\"),\"\",'Oman Results'!D660)","v":""},"",{"$f":"IF('Oman Results'!E660=\"\",\"\",'Oman Results'!E660)","v":""},{"$f":"IF('Oman Results'!F660=\"\",\"\",'Oman Results'!F660)","v":""},{"$f":"IF(B660=\"\",\"\",IF(VLOOKUP(B660,'Oman Results'!C660:AI1653,31)=\"x\",'Oman Results'!AK660,'Oman Results'!G660))","v":""},"",{"$f":"IF(B660=\"\",\"\",IF(VLOOKUP(B660,'Oman Results'!C660:AI1653,31)=\"x\",\"Yes\",\"\"))","v":""},{"$f":"IF(B660=\"\",\"\",IF(VLOOKUP(B660,'Oman Results'!C660:AI1653,31)=\"x\",'Oman Results'!G660,\"\"))","v":""},{"$f":"IF(B660=\"\",\"\",IF(VLOOKUP(B660,'Oman Results'!C660:AI1653,31)=\"x\",'Oman Results'!AJ660,\"\"))","v":""},{"$f":"IF(B660=\"\",\"\",IF(VLOOKUP(B660,'Oman Results'!C660:AI1653,31)=\"x\",'Oman Results'!AK660,\"\"))","v":""},null,null,"","","",""]
["",{"$f":"IF('Oman Results'!C661=\"\",\"\",'Oman Results'!C661)","v":""},{"$f":"IF(OR('Oman Results'!D661=\"\",'Oman Results'!D661=\"Totals\"),\"\",'Oman Results'!D661)","v":""},"",{"$f":"IF('Oman Results'!E661=\"\",\"\",'Oman Results'!E661)","v":""},{"$f":"IF('Oman Results'!F661=\"\",\"\",'Oman Results'!F661)","v":""},{"$f":"IF(B661=\"\",\"\",IF(VLOOKUP(B661,'Oman Results'!C661:AI1654,31)=\"x\",'Oman Results'!AK661,'Oman Results'!G661))","v":""},"",{"$f":"IF(B661=\"\",\"\",IF(VLOOKUP(B661,'Oman Results'!C661:AI1654,31)=\"x\",\"Yes\",\"\"))","v":""},{"$f":"IF(B661=\"\",\"\",IF(VLOOKUP(B661,'Oman Results'!C661:AI1654,31)=\"x\",'Oman Results'!G661,\"\"))","v":""},{"$f":"IF(B661=\"\",\"\",IF(VLOOKUP(B661,'Oman Results'!C661:AI1654,31)=\"x\",'Oman Results'!AJ661,\"\"))","v":""},{"$f":"IF(B661=\"\",\"\",IF(VLOOKUP(B661,'Oman Results'!C661:AI1654,31)=\"x\",'Oman Results'!AK661,\"\"))","v":""},null,null,"","","",""]
["",{"$f":"IF('Oman Results'!C662=\"\",\"\",'Oman Results'!C662)","v":""},{"$f":"IF(OR('Oman Results'!D662=\"\",'Oman Results'!D662=\"Totals\"),\"\",'Oman Results'!D662)","v":""},"",{"$f":"IF('Oman Results'!E662=\"\",\"\",'Oman Results'!E662)","v":""},{"$f":"IF('Oman Results'!F662=\"\",\"\",'Oman Results'!F662)","v":""},{"$f":"IF(B662=\"\",\"\",IF(VLOOKUP(B662,'Oman Results'!C662:AI1655,31)=\"x\",'Oman Results'!AK662,'Oman Results'!G662))","v":""},"",{"$f":"IF(B662=\"\",\"\",IF(VLOOKUP(B662,'Oman Results'!C662:AI1655,31)=\"x\",\"Yes\",\"\"))","v":""},{"$f":"IF(B662=\"\",\"\",IF(VLOOKUP(B662,'Oman Results'!C662:AI1655,31)=\"x\",'Oman Results'!G662,\"\"))","v":""},{"$f":"IF(B662=\"\",\"\",IF(VLOOKUP(B662,'Oman Results'!C662:AI1655,31)=\"x\",'Oman Results'!AJ662,\"\"))","v":""},{"$f":"IF(B662=\"\",\"\",IF(VLOOKUP(B662,'Oman Results'!C662:AI1655,31)=\"x\",'Oman Results'!AK662,\"\"))","v":""},null,null,"","","",""]
["",{"$f":"IF('Oman Results'!C663=\"\",\"\",'Oman Results'!C663)","v":""},{"$f":"IF(OR('Oman Results'!D663=\"\",'Oman Results'!D663=\"Totals\"),\"\",'Oman Results'!D663)","v":""},"",{"$f":"IF('Oman Results'!E663=\"\",\"\",'Oman Results'!E663)","v":""},{"$f":"IF('Oman Results'!F663=\"\",\"\",'Oman Results'!F663)","v":""},{"$f":"IF(B663=\"\",\"\",IF(VLOOKUP(B663,'Oman Results'!C663:AI1656,31)=\"x\",'Oman Results'!AK663,'Oman Results'!G663))","v":""},"",{"$f":"IF(B663=\"\",\"\",IF(VLOOKUP(B663,'Oman Results'!C663:AI1656,31)=\"x\",\"Yes\",\"\"))","v":""},{"$f":"IF(B663=\"\",\"\",IF(VLOOKUP(B663,'Oman Results'!C663:AI1656,31)=\"x\",'Oman Results'!G663,\"\"))","v":""},{"$f":"IF(B663=\"\",\"\",IF(VLOOKUP(B663,'Oman Results'!C663:AI1656,31)=\"x\",'Oman Results'!AJ663,\"\"))","v":""},{"$f":"IF(B663=\"\",\"\",IF(VLOOKUP(B663,'Oman Results'!C663:AI1656,31)=\"x\",'Oman Results'!AK663,\"\"))","v":""},null,null,"","","",""]
["",{"$f":"IF('Oman Results'!C664=\"\",\"\",'Oman Results'!C664)","v":""},{"$f":"IF(OR('Oman Results'!D664=\"\",'Oman Results'!D664=\"Totals\"),\"\",'Oman Results'!D664)","v":""},"",{"$f":"IF('Oman Results'!E664=\"\",\"\",'Oman Results'!E664)","v":""},{"$f":"IF('Oman Results'!F664=\"\",\"\",'Oman Results'!F664)","v":""},{"$f":"IF(B664=\"\",\"\",IF(VLOOKUP(B664,'Oman Results'!C664:AI1657,31)=\"x\",'Oman Results'!AK664,'Oman Results'!G664))","v":""},"",{"$f":"IF(B664=\"\",\"\",IF(VLOOKUP(B664,'Oman Results'!C664:AI1657,31)=\"x\",\"Yes\",\"\"))","v":""},{"$f":"IF(B664=\"\",\"\",IF(VLOOKUP(B664,'Oman Results'!C664:AI1657,31)=\"x\",'Oman Results'!G664,\"\"))","v":""},{"$f":"IF(B664=\"\",\"\",IF(VLOOKUP(B664,'Oman Results'!C664:AI1657,31)=\"x\",'Oman Results'!AJ664,\"\"))","v":""},{"$f":"IF(B664=\"\",\"\",IF(VLOOKUP(B664,'Oman Results'!C664:AI1657,31)=\"x\",'Oman Results'!AK664,\"\"))","v":""},null,null,"","","",""]
["",{"$f":"IF('Oman Results'!C665=\"\",\"\",'Oman Results'!C665)","v":""},{"$f":"IF(OR('Oman Results'!D665=\"\",'Oman Results'!D665=\"Totals\"),\"\",'Oman Results'!D665)","v":""},"",{"$f":"IF('Oman Results'!E665=\"\",\"\",'Oman Results'!E665)","v":""},{"$f":"IF('Oman Results'!F665=\"\",\"\",'Oman Results'!F665)","v":""},{"$f":"IF(B665=\"\",\"\",IF(VLOOKUP(B665,'Oman Results'!C665:AI1658,31)=\"x\",'Oman Results'!AK665,'Oman Results'!G665))","v":""},"",{"$f":"IF(B665=\"\",\"\",IF(VLOOKUP(B665,'Oman Results'!C665:AI1658,31)=\"x\",\"Yes\",\"\"))","v":""},{"$f":"IF(B665=\"\",\"\",IF(VLOOKUP(B665,'Oman Results'!C665:AI1658,31)=\"x\",'Oman Results'!G665,\"\"))","v":""},{"$f":"IF(B665=\"\",\"\",IF(VLOOKUP(B665,'Oman Results'!C665:AI1658,31)=\"x\",'Oman Results'!AJ665,\"\"))","v":""},{"$f":"IF(B665=\"\",\"\",IF(VLOOKUP(B665,'Oman Results'!C665:AI1658,31)=\"x\",'Oman Results'!AK665,\"\"))","v":""},null,null,"","","",""]
["",{"$f":"IF('Oman Results'!C666=\"\",\"\",'Oman Results'!C666)","v":""},{"$f":"IF(OR('Oman Results'!D666=\"\",'Oman Results'!D666=\"Totals\"),\"\",'Oman Results'!D666)","v":""},"",{"$f":"IF('Oman Results'!E666=\"\",\"\",'Oman Results'!E666)","v":""},{"$f":"IF('Oman Results'!F666=\"\",\"\",'Oman Results'!F666)","v":""},{"$f":"IF(B666=\"\",\"\",IF(VLOOKUP(B666,'Oman Results'!C666:AI1659,31)=\"x\",'Oman Results'!AK666,'Oman Results'!G666))","v":""},"",{"$f":"IF(B666=\"\",\"\",IF(VLOOKUP(B666,'Oman Results'!C666:AI1659,31)=\"x\",\"Yes\",\"\"))","v":""},{"$f":"IF(B666=\"\",\"\",IF(VLOOKUP(B666,'Oman Results'!C666:AI1659,31)=\"x\",'Oman Results'!G666,\"\"))","v":""},{"$f":"IF(B666=\"\",\"\",IF(VLOOKUP(B666,'Oman Results'!C666:AI1659,31)=\"x\",'Oman Results'!AJ666,\"\"))","v":""},{"$f":"IF(B666=\"\",\"\",IF(VLOOKUP(B666,'Oman Results'!C666:AI1659,31)=\"x\",'Oman Results'!AK666,\"\"))","v":""},null,null,"","","",""]
["",{"$f":"IF('Oman Results'!C667=\"\",\"\",'Oman Results'!C667)","v":""},{"$f":"IF(OR('Oman Results'!D667=\"\",'Oman Results'!D667=\"Totals\"),\"\",'Oman Results'!D667)","v":""},"",{"$f":"IF('Oman Results'!E667=\"\",\"\",'Oman Results'!E667)","v":""},{"$f":"IF('Oman Results'!F667=\"\",\"\",'Oman Results'!F667)","v":""},{"$f":"IF(B667=\"\",\"\",IF(VLOOKUP(B667,'Oman Results'!C667:AI1660,31)=\"x\",'Oman Results'!AK667,'Oman Results'!G667))","v":""},"",{"$f":"IF(B667=\"\",\"\",IF(VLOOKUP(B667,'Oman Results'!C667:AI1660,31)=\"x\",\"Yes\",\"\"))","v":""},{"$f":"IF(B667=\"\",\"\",IF(VLOOKUP(B667,'Oman Results'!C667:AI1660,31)=\"x\",'Oman Results'!G667,\"\"))","v":""},{"$f":"IF(B667=\"\",\"\",IF(VLOOKUP(B667,'Oman Results'!C667:AI1660,31)=\"x\",'Oman Results'!AJ667,\"\"))","v":""},{"$f":"IF(B667=\"\",\"\",IF(VLOOKUP(B667,'Oman Results'!C667:AI1660,31)=\"x\",'Oman Results'!AK667,\"\"))","v":""},null,null,"","","",""]
["",{"$f":"IF('Oman Results'!C668=\"\",\"\",'Oman Results'!C668)","v":""},{"$f":"IF(OR('Oman Results'!D668=\"\",'Oman Results'!D668=\"Totals\"),\"\",'Oman Results'!D668)","v":""},"",{"$f":"IF('Oman Results'!E668=\"\",\"\",'Oman Results'!E668)","v":""},{"$f":"IF('Oman Results'!F668=\"\",\"\",'Oman Results'!F668)","v":""},{"$f":"IF(B668=\"\",\"\",IF(VLOOKUP(B668,'Oman Results'!C668:AI1661,31)=\"x\",'Oman Results'!AK668,'Oman Results'!G668))","v":""},"",{"$f":"IF(B668=\"\",\"\",IF(VLOOKUP(B668,'Oman Results'!C668:AI1661,31)=\"x\",\"Yes\",\"\"))","v":""},{"$f":"IF(B668=\"\",\"\",IF(VLOOKUP(B668,'Oman Results'!C668:AI1661,31)=\"x\",'Oman Results'!G668,\"\"))","v":""},{"$f":"IF(B668=\"\",\"\",IF(VLOOKUP(B668,'Oman Results'!C668:AI1661,31)=\"x\",'Oman Results'!AJ668,\"\"))","v":""},{"$f":"IF(B668=\"\",\"\",IF(VLOOKUP(B668,'Oman Results'!C668:AI1661,31)=\"x\",'Oman Results'!AK668,\"\"))","v":""},null,null,"","","",""]
["",{"$f":"IF('Oman Results'!C669=\"\",\"\",'Oman Results'!C669)","v":""},{"$f":"IF(OR('Oman Results'!D669=\"\",'Oman Results'!D669=\"Totals\"),\"\",'Oman Results'!D669)","v":""},"",{"$f":"IF('Oman Results'!E669=\"\",\"\",'Oman Results'!E669)","v":""},{"$f":"IF('Oman Results'!F669=\"\",\"\",'Oman Results'!F669)","v":""},{"$f":"IF(B669=\"\",\"\",IF(VLOOKUP(B669,'Oman Results'!C669:AI1662,31)=\"x\",'Oman Results'!AK669,'Oman Results'!G669))","v":""},"",{"$f":"IF(B669=\"\",\"\",IF(VLOOKUP(B669,'Oman Results'!C669:AI1662,31)=\"x\",\"Yes\",\"\"))","v":""},{"$f":"IF(B669=\"\",\"\",IF(VLOOKUP(B669,'Oman Results'!C669:AI1662,31)=\"x\",'Oman Results'!G669,\"\"))","v":""},{"$f":"IF(B669=\"\",\"\",IF(VLOOKUP(B669,'Oman Results'!C669:AI1662,31)=\"x\",'Oman Results'!AJ669,\"\"))","v":""},{"$f":"IF(B669=\"\",\"\",IF(VLOOKUP(B669,'Oman Results'!C669:AI1662,31)=\"x\",'Oman Results'!AK669,\"\"))","v":""},null,null,"","","",""]
["",{"$f":"IF('Oman Results'!C670=\"\",\"\",'Oman Results'!C670)","v":""},{"$f":"IF(OR('Oman Results'!D670=\"\",'Oman Results'!D670=\"Totals\"),\"\",'Oman Results'!D670)","v":""},"",{"$f":"IF('Oman Results'!E670=\"\",\"\",'Oman Results'!E670)","v":""},{"$f":"IF('Oman Results'!F670=\"\",\"\",'Oman Results'!F670)","v":""},{"$f":"IF(B670=\"\",\"\",IF(VLOOKUP(B670,'Oman Results'!C670:AI1663,31)=\"x\",'Oman Results'!AK670,'Oman Results'!G670))","v":""},"",{"$f":"IF(B670=\"\",\"\",IF(VLOOKUP(B670,'Oman Results'!C670:AI1663,31)=\"x\",\"Yes\",\"\"))","v":""},{"$f":"IF(B670=\"\",\"\",IF(VLOOKUP(B670,'Oman Results'!C670:AI1663,31)=\"x\",'Oman Results'!G670,\"\"))","v":""},{"$f":"IF(B670=\"\",\"\",IF(VLOOKUP(B670,'Oman Results'!C670:AI1663,31)=\"x\",'Oman Results'!AJ670,\"\"))","v":""},{"$f":"IF(B670=\"\",\"\",IF(VLOOKUP(B670,'Oman Results'!C670:AI1663,31)=\"x\",'Oman Results'!AK670,\"\"))","v":""},null,null,"","","",""]
["",{"$f":"IF('Oman Results'!C671=\"\",\"\",'Oman Results'!C671)","v":""},{"$f":"IF(OR('Oman Results'!D671=\"\",'Oman Results'!D671=\"Totals\"),\"\",'Oman Results'!D671)","v":""},"",{"$f":"IF('Oman Results'!E671=\"\",\"\",'Oman Results'!E671)","v":""},{"$f":"IF('Oman Results'!F671=\"\",\"\",'Oman Results'!F671)","v":""},{"$f":"IF(B671=\"\",\"\",IF(VLOOKUP(B671,'Oman Results'!C671:AI1664,31)=\"x\",'Oman Results'!AK671,'Oman Results'!G671))","v":""},"",{"$f":"IF(B671=\"\",\"\",IF(VLOOKUP(B671,'Oman Results'!C671:AI1664,31)=\"x\",\"Yes\",\"\"))","v":""},{"$f":"IF(B671=\"\",\"\",IF(VLOOKUP(B671,'Oman Results'!C671:AI1664,31)=\"x\",'Oman Results'!G671,\"\"))","v":""},{"$f":"IF(B671=\"\",\"\",IF(VLOOKUP(B671,'Oman Results'!C671:AI1664,31)=\"x\",'Oman Results'!AJ671,\"\"))","v":""},{"$f":"IF(B671=\"\",\"\",IF(VLOOKUP(B671,'Oman Results'!C671:AI1664,31)=\"x\",'Oman Results'!AK671,\"\"))","v":""},null,null,"","","",""]
["",{"$f":"IF('Oman Results'!C672=\"\",\"\",'Oman Results'!C672)","v":""},{"$f":"IF(OR('Oman Results'!D672=\"\",'Oman Results'!D672=\"Totals\"),\"\",'Oman Results'!D672)","v":""},"",{"$f":"IF('Oman Results'!E672=\"\",\"\",'Oman Results'!E672)","v":""},{"$f":"IF('Oman Results'!F672=\"\",\"\",'Oman Results'!F672)","v":""},{"$f":"IF(B672=\"\",\"\",IF(VLOOKUP(B672,'Oman Results'!C672:AI1665,31)=\"x\",'Oman Results'!AK672,'Oman Results'!G672))","v":""},"",{"$f":"IF(B672=\"\",\"\",IF(VLOOKUP(B672,'Oman Results'!C672:AI1665,31)=\"x\",\"Yes\",\"\"))","v":""},{"$f":"IF(B672=\"\",\"\",IF(VLOOKUP(B672,'Oman Results'!C672:AI1665,31)=\"x\",'Oman Results'!G672,\"\"))","v":""},{"$f":"IF(B672=\"\",\"\",IF(VLOOKUP(B672,'Oman Results'!C672:AI1665,31)=\"x\",'Oman Results'!AJ672,\"\"))","v":""},{"$f":"IF(B672=\"\",\"\",IF(VLOOKUP(B672,'Oman Results'!C672:AI1665,31)=\"x\",'Oman Results'!AK672,\"\"))","v":""},null,null,"","","",""]
["",{"$f":"IF('Oman Results'!C673=\"\",\"\",'Oman Results'!C673)","v":""},{"$f":"IF(OR('Oman Results'!D673=\"\",'Oman Results'!D673=\"Totals\"),\"\",'Oman Results'!D673)","v":""},"",{"$f":"IF('Oman Results'!E673=\"\",\"\",'Oman Results'!E673)","v":""},{"$f":"IF('Oman Results'!F673=\"\",\"\",'Oman Results'!F673)","v":""},{"$f":"IF(B673=\"\",\"\",IF(VLOOKUP(B673,'Oman Results'!C673:AI1666,31)=\"x\",'Oman Results'!AK673,'Oman Results'!G673))","v":""},"",{"$f":"IF(B673=\"\",\"\",IF(VLOOKUP(B673,'Oman Results'!C673:AI1666,31)=\"x\",\"Yes\",\"\"))","v":""},{"$f":"IF(B673=\"\",\"\",IF(VLOOKUP(B673,'Oman Results'!C673:AI1666,31)=\"x\",'Oman Results'!G673,\"\"))","v":""},{"$f":"IF(B673=\"\",\"\",IF(VLOOKUP(B673,'Oman Results'!C673:AI1666,31)=\"x\",'Oman Results'!AJ673,\"\"))","v":""},{"$f":"IF(B673=\"\",\"\",IF(VLOOKUP(B673,'Oman Results'!C673:AI1666,31)=\"x\",'Oman Results'!AK673,\"\"))","v":""},null,null,"","","",""]
["",{"$f":"IF('Oman Results'!C674=\"\",\"\",'Oman Results'!C674)","v":""},{"$f":"IF(OR('Oman Results'!D674=\"\",'Oman Results'!D674=\"Totals\"),\"\",'Oman Results'!D674)","v":""},"",{"$f":"IF('Oman Results'!E674=\"\",\"\",'Oman Results'!E674)","v":""},{"$f":"IF('Oman Results'!F674=\"\",\"\",'Oman Results'!F674)","v":""},{"$f":"IF(B674=\"\",\"\",IF(VLOOKUP(B674,'Oman Results'!C674:AI1667,31)=\"x\",'Oman Results'!AK674,'Oman Results'!G674))","v":""},"",{"$f":"IF(B674=\"\",\"\",IF(VLOOKUP(B674,'Oman Results'!C674:AI1667,31)=\"x\",\"Yes\",\"\"))","v":""},{"$f":"IF(B674=\"\",\"\",IF(VLOOKUP(B674,'Oman Results'!C674:AI1667,31)=\"x\",'Oman Results'!G674,\"\"))","v":""},{"$f":"IF(B674=\"\",\"\",IF(VLOOKUP(B674,'Oman Results'!C674:AI1667,31)=\"x\",'Oman Results'!AJ674,\"\"))","v":""},{"$f":"IF(B674=\"\",\"\",IF(VLOOKUP(B674,'Oman Results'!C674:AI1667,31)=\"x\",'Oman Results'!AK674,\"\"))","v":""},null,null,"","","",""]
["",{"$f":"IF('Oman Results'!C675=\"\",\"\",'Oman Results'!C675)","v":""},{"$f":"IF(OR('Oman Results'!D675=\"\",'Oman Results'!D675=\"Totals\"),\"\",'Oman Results'!D675)","v":""},"",{"$f":"IF('Oman Results'!E675=\"\",\"\",'Oman Results'!E675)","v":""},{"$f":"IF('Oman Results'!F675=\"\",\"\",'Oman Results'!F675)","v":""},{"$f":"IF(B675=\"\",\"\",IF(VLOOKUP(B675,'Oman Results'!C675:AI1668,31)=\"x\",'Oman Results'!AK675,'Oman Results'!G675))","v":""},"",{"$f":"IF(B675=\"\",\"\",IF(VLOOKUP(B675,'Oman Results'!C675:AI1668,31)=\"x\",\"Yes\",\"\"))","v":""},{"$f":"IF(B675=\"\",\"\",IF(VLOOKUP(B675,'Oman Results'!C675:AI1668,31)=\"x\",'Oman Results'!G675,\"\"))","v":""},{"$f":"IF(B675=\"\",\"\",IF(VLOOKUP(B675,'Oman Results'!C675:AI1668,31)=\"x\",'Oman Results'!AJ675,\"\"))","v":""},{"$f":"IF(B675=\"\",\"\",IF(VLOOKUP(B675,'Oman Results'!C675:AI1668,31)=\"x\",'Oman Results'!AK675,\"\"))","v":""},null,null,"","","",""]
["",{"$f":"IF('Oman Results'!C676=\"\",\"\",'Oman Results'!C676)","v":""},{"$f":"IF(OR('Oman Results'!D676=\"\",'Oman Results'!D676=\"Totals\"),\"\",'Oman Results'!D676)","v":""},"",{"$f":"IF('Oman Results'!E676=\"\",\"\",'Oman Results'!E676)","v":""},{"$f":"IF('Oman Results'!F676=\"\",\"\",'Oman Results'!F676)","v":""},{"$f":"IF(B676=\"\",\"\",IF(VLOOKUP(B676,'Oman Results'!C676:AI1669,31)=\"x\",'Oman Results'!AK676,'Oman Results'!G676))","v":""},"",{"$f":"IF(B676=\"\",\"\",IF(VLOOKUP(B676,'Oman Results'!C676:AI1669,31)=\"x\",\"Yes\",\"\"))","v":""},{"$f":"IF(B676=\"\",\"\",IF(VLOOKUP(B676,'Oman Results'!C676:AI1669,31)=\"x\",'Oman Results'!G676,\"\"))","v":""},{"$f":"IF(B676=\"\",\"\",IF(VLOOKUP(B676,'Oman Results'!C676:AI1669,31)=\"x\",'Oman Results'!AJ676,\"\"))","v":""},{"$f":"IF(B676=\"\",\"\",IF(VLOOKUP(B676,'Oman Results'!C676:AI1669,31)=\"x\",'Oman Results'!AK676,\"\"))","v":""},null,null,"","","",""]
["",{"$f":"IF('Oman Results'!C677=\"\",\"\",'Oman Results'!C677)","v":""},{"$f":"IF(OR('Oman Results'!D677=\"\",'Oman Results'!D677=\"Totals\"),\"\",'Oman Results'!D677)","v":""},"",{"$f":"IF('Oman Results'!E677=\"\",\"\",'Oman Results'!E677)","v":""},{"$f":"IF('Oman Results'!F677=\"\",\"\",'Oman Results'!F677)","v":""},{"$f":"IF(B677=\"\",\"\",IF(VLOOKUP(B677,'Oman Results'!C677:AI1670,31)=\"x\",'Oman Results'!AK677,'Oman Results'!G677))","v":""},"",{"$f":"IF(B677=\"\",\"\",IF(VLOOKUP(B677,'Oman Results'!C677:AI1670,31)=\"x\",\"Yes\",\"\"))","v":""},{"$f":"IF(B677=\"\",\"\",IF(VLOOKUP(B677,'Oman Results'!C677:AI1670,31)=\"x\",'Oman Results'!G677,\"\"))","v":""},{"$f":"IF(B677=\"\",\"\",IF(VLOOKUP(B677,'Oman Results'!C677:AI1670,31)=\"x\",'Oman Results'!AJ677,\"\"))","v":""},{"$f":"IF(B677=\"\",\"\",IF(VLOOKUP(B677,'Oman Results'!C677:AI1670,31)=\"x\",'Oman Results'!AK677,\"\"))","v":""},null,null,"","","",""]
["",{"$f":"IF('Oman Results'!C678=\"\",\"\",'Oman Results'!C678)","v":""},{"$f":"IF(OR('Oman Results'!D678=\"\",'Oman Results'!D678=\"Totals\"),\"\",'Oman Results'!D678)","v":""},"",{"$f":"IF('Oman Results'!E678=\"\",\"\",'Oman Results'!E678)","v":""},{"$f":"IF('Oman Results'!F678=\"\",\"\",'Oman Results'!F678)","v":""},{"$f":"IF(B678=\"\",\"\",IF(VLOOKUP(B678,'Oman Results'!C678:AI1671,31)=\"x\",'Oman Results'!AK678,'Oman Results'!G678))","v":""},"",{"$f":"IF(B678=\"\",\"\",IF(VLOOKUP(B678,'Oman Results'!C678:AI1671,31)=\"x\",\"Yes\",\"\"))","v":""},{"$f":"IF(B678=\"\",\"\",IF(VLOOKUP(B678,'Oman Results'!C678:AI1671,31)=\"x\",'Oman Results'!G678,\"\"))","v":""},{"$f":"IF(B678=\"\",\"\",IF(VLOOKUP(B678,'Oman Results'!C678:AI1671,31)=\"x\",'Oman Results'!AJ678,\"\"))","v":""},{"$f":"IF(B678=\"\",\"\",IF(VLOOKUP(B678,'Oman Results'!C678:AI1671,31)=\"x\",'Oman Results'!AK678,\"\"))","v":""},null,null,"","","",""]
["",{"$f":"IF('Oman Results'!C679=\"\",\"\",'Oman Results'!C679)","v":""},{"$f":"IF(OR('Oman Results'!D679=\"\",'Oman Results'!D679=\"Totals\"),\"\",'Oman Results'!D679)","v":""},"",{"$f":"IF('Oman Results'!E679=\"\",\"\",'Oman Results'!E679)","v":""},{"$f":"IF('Oman Results'!F679=\"\",\"\",'Oman Results'!F679)","v":""},{"$f":"IF(B679=\"\",\"\",IF(VLOOKUP(B679,'Oman Results'!C679:AI1672,31)=\"x\",'Oman Results'!AK679,'Oman Results'!G679))","v":""},"",{"$f":"IF(B679=\"\",\"\",IF(VLOOKUP(B679,'Oman Results'!C679:AI1672,31)=\"x\",\"Yes\",\"\"))","v":""},{"$f":"IF(B679=\"\",\"\",IF(VLOOKUP(B679,'Oman Results'!C679:AI1672,31)=\"x\",'Oman Results'!G679,\"\"))","v":""},{"$f":"IF(B679=\"\",\"\",IF(VLOOKUP(B679,'Oman Results'!C679:AI1672,31)=\"x\",'Oman Results'!AJ679,\"\"))","v":""},{"$f":"IF(B679=\"\",\"\",IF(VLOOKUP(B679,'Oman Results'!C679:AI1672,31)=\"x\",'Oman Results'!AK679,\"\"))","v":""},null,null,"","","",""]
["",{"$f":"IF('Oman Results'!C680=\"\",\"\",'Oman Results'!C680)","v":""},{"$f":"IF(OR('Oman Results'!D680=\"\",'Oman Results'!D680=\"Totals\"),\"\",'Oman Results'!D680)","v":""},"",{"$f":"IF('Oman Results'!E680=\"\",\"\",'Oman Results'!E680)","v":""},{"$f":"IF('Oman Results'!F680=\"\",\"\",'Oman Results'!F680)","v":""},{"$f":"IF(B680=\"\",\"\",IF(VLOOKUP(B680,'Oman Results'!C680:AI1673,31)=\"x\",'Oman Results'!AK680,'Oman Results'!G680))","v":""},"",{"$f":"IF(B680=\"\",\"\",IF(VLOOKUP(B680,'Oman Results'!C680:AI1673,31)=\"x\",\"Yes\",\"\"))","v":""},{"$f":"IF(B680=\"\",\"\",IF(VLOOKUP(B680,'Oman Results'!C680:AI1673,31)=\"x\",'Oman Results'!G680,\"\"))","v":""},{"$f":"IF(B680=\"\",\"\",IF(VLOOKUP(B680,'Oman Results'!C680:AI1673,31)=\"x\",'Oman Results'!AJ680,\"\"))","v":""},{"$f":"IF(B680=\"\",\"\",IF(VLOOKUP(B680,'Oman Results'!C680:AI1673,31)=\"x\",'Oman Results'!AK680,\"\"))","v":""},null,null,"","","",""]
["",{"$f":"IF('Oman Results'!C681=\"\",\"\",'Oman Results'!C681)","v":""},{"$f":"IF(OR('Oman Results'!D681=\"\",'Oman Results'!D681=\"Totals\"),\"\",'Oman Results'!D681)","v":""},"",{"$f":"IF('Oman Results'!E681=\"\",\"\",'Oman Results'!E681)","v":""},{"$f":"IF('Oman Results'!F681=\"\",\"\",'Oman Results'!F681)","v":""},{"$f":"IF(B681=\"\",\"\",IF(VLOOKUP(B681,'Oman Results'!C681:AI1674,31)=\"x\",'Oman Results'!AK681,'Oman Results'!G681))","v":""},"",{"$f":"IF(B681=\"\",\"\",IF(VLOOKUP(B681,'Oman Results'!C681:AI1674,31)=\"x\",\"Yes\",\"\"))","v":""},{"$f":"IF(B681=\"\",\"\",IF(VLOOKUP(B681,'Oman Results'!C681:AI1674,31)=\"x\",'Oman Results'!G681,\"\"))","v":""},{"$f":"IF(B681=\"\",\"\",IF(VLOOKUP(B681,'Oman Results'!C681:AI1674,31)=\"x\",'Oman Results'!AJ681,\"\"))","v":""},{"$f":"IF(B681=\"\",\"\",IF(VLOOKUP(B681,'Oman Results'!C681:AI1674,31)=\"x\",'Oman Results'!AK681,\"\"))","v":""},null,null,"","","",""]
["",{"$f":"IF('Oman Results'!C682=\"\",\"\",'Oman Results'!C682)","v":""},{"$f":"IF(OR('Oman Results'!D682=\"\",'Oman Results'!D682=\"Totals\"),\"\",'Oman Results'!D682)","v":""},"",{"$f":"IF('Oman Results'!E682=\"\",\"\",'Oman Results'!E682)","v":""},{"$f":"IF('Oman Results'!F682=\"\",\"\",'Oman Results'!F682)","v":""},{"$f":"IF(B682=\"\",\"\",IF(VLOOKUP(B682,'Oman Results'!C682:AI1675,31)=\"x\",'Oman Results'!AK682,'Oman Results'!G682))","v":""},"",{"$f":"IF(B682=\"\",\"\",IF(VLOOKUP(B682,'Oman Results'!C682:AI1675,31)=\"x\",\"Yes\",\"\"))","v":""},{"$f":"IF(B682=\"\",\"\",IF(VLOOKUP(B682,'Oman Results'!C682:AI1675,31)=\"x\",'Oman Results'!G682,\"\"))","v":""},{"$f":"IF(B682=\"\",\"\",IF(VLOOKUP(B682,'Oman Results'!C682:AI1675,31)=\"x\",'Oman Results'!AJ682,\"\"))","v":""},{"$f":"IF(B682=\"\",\"\",IF(VLOOKUP(B682,'Oman Results'!C682:AI1675,31)=\"x\",'Oman Results'!AK682,\"\"))","v":""},null,null,"","","",""]
["",{"$f":"IF('Oman Results'!C683=\"\",\"\",'Oman Results'!C683)","v":""},{"$f":"IF(OR('Oman Results'!D683=\"\",'Oman Results'!D683=\"Totals\"),\"\",'Oman Results'!D683)","v":""},"",{"$f":"IF('Oman Results'!E683=\"\",\"\",'Oman Results'!E683)","v":""},{"$f":"IF('Oman Results'!F683=\"\",\"\",'Oman Results'!F683)","v":""},{"$f":"IF(B683=\"\",\"\",IF(VLOOKUP(B683,'Oman Results'!C683:AI1676,31)=\"x\",'Oman Results'!AK683,'Oman Results'!G683))","v":""},"",{"$f":"IF(B683=\"\",\"\",IF(VLOOKUP(B683,'Oman Results'!C683:AI1676,31)=\"x\",\"Yes\",\"\"))","v":""},{"$f":"IF(B683=\"\",\"\",IF(VLOOKUP(B683,'Oman Results'!C683:AI1676,31)=\"x\",'Oman Results'!G683,\"\"))","v":""},{"$f":"IF(B683=\"\",\"\",IF(VLOOKUP(B683,'Oman Results'!C683:AI1676,31)=\"x\",'Oman Results'!AJ683,\"\"))","v":""},{"$f":"IF(B683=\"\",\"\",IF(VLOOKUP(B683,'Oman Results'!C683:AI1676,31)=\"x\",'Oman Results'!AK683,\"\"))","v":""},null,null,"","","",""]
["",{"$f":"IF('Oman Results'!C684=\"\",\"\",'Oman Results'!C684)","v":""},{"$f":"IF(OR('Oman Results'!D684=\"\",'Oman Results'!D684=\"Totals\"),\"\",'Oman Results'!D684)","v":""},"",{"$f":"IF('Oman Results'!E684=\"\",\"\",'Oman Results'!E684)","v":""},{"$f":"IF('Oman Results'!F684=\"\",\"\",'Oman Results'!F684)","v":""},{"$f":"IF(B684=\"\",\"\",IF(VLOOKUP(B684,'Oman Results'!C684:AI1677,31)=\"x\",'Oman Results'!AK684,'Oman Results'!G684))","v":""},"",{"$f":"IF(B684=\"\",\"\",IF(VLOOKUP(B684,'Oman Results'!C684:AI1677,31)=\"x\",\"Yes\",\"\"))","v":""},{"$f":"IF(B684=\"\",\"\",IF(VLOOKUP(B684,'Oman Results'!C684:AI1677,31)=\"x\",'Oman Results'!G684,\"\"))","v":""},{"$f":"IF(B684=\"\",\"\",IF(VLOOKUP(B684,'Oman Results'!C684:AI1677,31)=\"x\",'Oman Results'!AJ684,\"\"))","v":""},{"$f":"IF(B684=\"\",\"\",IF(VLOOKUP(B684,'Oman Results'!C684:AI1677,31)=\"x\",'Oman Results'!AK684,\"\"))","v":""},null,null,"","","",""]
["",{"$f":"IF('Oman Results'!C685=\"\",\"\",'Oman Results'!C685)","v":""},{"$f":"IF(OR('Oman Results'!D685=\"\",'Oman Results'!D685=\"Totals\"),\"\",'Oman Results'!D685)","v":""},"",{"$f":"IF('Oman Results'!E685=\"\",\"\",'Oman Results'!E685)","v":""},{"$f":"IF('Oman Results'!F685=\"\",\"\",'Oman Results'!F685)","v":""},{"$f":"IF(B685=\"\",\"\",IF(VLOOKUP(B685,'Oman Results'!C685:AI1678,31)=\"x\",'Oman Results'!AK685,'Oman Results'!G685))","v":""},"",{"$f":"IF(B685=\"\",\"\",IF(VLOOKUP(B685,'Oman Results'!C685:AI1678,31)=\"x\",\"Yes\",\"\"))","v":""},{"$f":"IF(B685=\"\",\"\",IF(VLOOKUP(B685,'Oman Results'!C685:AI1678,31)=\"x\",'Oman Results'!G685,\"\"))","v":""},{"$f":"IF(B685=\"\",\"\",IF(VLOOKUP(B685,'Oman Results'!C685:AI1678,31)=\"x\",'Oman Results'!AJ685,\"\"))","v":""},{"$f":"IF(B685=\"\",\"\",IF(VLOOKUP(B685,'Oman Results'!C685:AI1678,31)=\"x\",'Oman Results'!AK685,\"\"))","v":""},null,null,"","","",""]
["",{"$f":"IF('Oman Results'!C686=\"\",\"\",'Oman Results'!C686)","v":""},{"$f":"IF(OR('Oman Results'!D686=\"\",'Oman Results'!D686=\"Totals\"),\"\",'Oman Results'!D686)","v":""},"",{"$f":"IF('Oman Results'!E686=\"\",\"\",'Oman Results'!E686)","v":""},{"$f":"IF('Oman Results'!F686=\"\",\"\",'Oman Results'!F686)","v":""},{"$f":"IF(B686=\"\",\"\",IF(VLOOKUP(B686,'Oman Results'!C686:AI1679,31)=\"x\",'Oman Results'!AK686,'Oman Results'!G686))","v":""},"",{"$f":"IF(B686=\"\",\"\",IF(VLOOKUP(B686,'Oman Results'!C686:AI1679,31)=\"x\",\"Yes\",\"\"))","v":""},{"$f":"IF(B686=\"\",\"\",IF(VLOOKUP(B686,'Oman Results'!C686:AI1679,31)=\"x\",'Oman Results'!G686,\"\"))","v":""},{"$f":"IF(B686=\"\",\"\",IF(VLOOKUP(B686,'Oman Results'!C686:AI1679,31)=\"x\",'Oman Results'!AJ686,\"\"))","v":""},{"$f":"IF(B686=\"\",\"\",IF(VLOOKUP(B686,'Oman Results'!C686:AI1679,31)=\"x\",'Oman Results'!AK686,\"\"))","v":""},null,null,"","","",""]
["",{"$f":"IF('Oman Results'!C687=\"\",\"\",'Oman Results'!C687)","v":""},{"$f":"IF(OR('Oman Results'!D687=\"\",'Oman Results'!D687=\"Totals\"),\"\",'Oman Results'!D687)","v":""},"",{"$f":"IF('Oman Results'!E687=\"\",\"\",'Oman Results'!E687)","v":""},{"$f":"IF('Oman Results'!F687=\"\",\"\",'Oman Results'!F687)","v":""},{"$f":"IF(B687=\"\",\"\",IF(VLOOKUP(B687,'Oman Results'!C687:AI1680,31)=\"x\",'Oman Results'!AK687,'Oman Results'!G687))","v":""},"",{"$f":"IF(B687=\"\",\"\",IF(VLOOKUP(B687,'Oman Results'!C687:AI1680,31)=\"x\",\"Yes\",\"\"))","v":""},{"$f":"IF(B687=\"\",\"\",IF(VLOOKUP(B687,'Oman Results'!C687:AI1680,31)=\"x\",'Oman Results'!G687,\"\"))","v":""},{"$f":"IF(B687=\"\",\"\",IF(VLOOKUP(B687,'Oman Results'!C687:AI1680,31)=\"x\",'Oman Results'!AJ687,\"\"))","v":""},{"$f":"IF(B687=\"\",\"\",IF(VLOOKUP(B687,'Oman Results'!C687:AI1680,31)=\"x\",'Oman Results'!AK687,\"\"))","v":""},null,null,"","","",""]
["",{"$f":"IF('Oman Results'!C688=\"\",\"\",'Oman Results'!C688)","v":""},{"$f":"IF(OR('Oman Results'!D688=\"\",'Oman Results'!D688=\"Totals\"),\"\",'Oman Results'!D688)","v":""},"",{"$f":"IF('Oman Results'!E688=\"\",\"\",'Oman Results'!E688)","v":""},{"$f":"IF('Oman Results'!F688=\"\",\"\",'Oman Results'!F688)","v":""},{"$f":"IF(B688=\"\",\"\",IF(VLOOKUP(B688,'Oman Results'!C688:AI1681,31)=\"x\",'Oman Results'!AK688,'Oman Results'!G688))","v":""},"",{"$f":"IF(B688=\"\",\"\",IF(VLOOKUP(B688,'Oman Results'!C688:AI1681,31)=\"x\",\"Yes\",\"\"))","v":""},{"$f":"IF(B688=\"\",\"\",IF(VLOOKUP(B688,'Oman Results'!C688:AI1681,31)=\"x\",'Oman Results'!G688,\"\"))","v":""},{"$f":"IF(B688=\"\",\"\",IF(VLOOKUP(B688,'Oman Results'!C688:AI1681,31)=\"x\",'Oman Results'!AJ688,\"\"))","v":""},{"$f":"IF(B688=\"\",\"\",IF(VLOOKUP(B688,'Oman Results'!C688:AI1681,31)=\"x\",'Oman Results'!AK688,\"\"))","v":""},null,null,"","","",""]
["",{"$f":"IF('Oman Results'!C689=\"\",\"\",'Oman Results'!C689)","v":""},{"$f":"IF(OR('Oman Results'!D689=\"\",'Oman Results'!D689=\"Totals\"),\"\",'Oman Results'!D689)","v":""},"",{"$f":"IF('Oman Results'!E689=\"\",\"\",'Oman Results'!E689)","v":""},{"$f":"IF('Oman Results'!F689=\"\",\"\",'Oman Results'!F689)","v":""},{"$f":"IF(B689=\"\",\"\",IF(VLOOKUP(B689,'Oman Results'!C689:AI1682,31)=\"x\",'Oman Results'!AK689,'Oman Results'!G689))","v":""},"",{"$f":"IF(B689=\"\",\"\",IF(VLOOKUP(B689,'Oman Results'!C689:AI1682,31)=\"x\",\"Yes\",\"\"))","v":""},{"$f":"IF(B689=\"\",\"\",IF(VLOOKUP(B689,'Oman Results'!C689:AI1682,31)=\"x\",'Oman Results'!G689,\"\"))","v":""},{"$f":"IF(B689=\"\",\"\",IF(VLOOKUP(B689,'Oman Results'!C689:AI1682,31)=\"x\",'Oman Results'!AJ689,\"\"))","v":""},{"$f":"IF(B689=\"\",\"\",IF(VLOOKUP(B689,'Oman Results'!C689:AI1682,31)=\"x\",'Oman Results'!AK689,\"\"))","v":""},null,null,"","","",""]
["",{"$f":"IF('Oman Results'!C690=\"\",\"\",'Oman Results'!C690)","v":""},{"$f":"IF(OR('Oman Results'!D690=\"\",'Oman Results'!D690=\"Totals\"),\"\",'Oman Results'!D690)","v":""},"",{"$f":"IF('Oman Results'!E690=\"\",\"\",'Oman Results'!E690)","v":""},{"$f":"IF('Oman Results'!F690=\"\",\"\",'Oman Results'!F690)","v":""},{"$f":"IF(B690=\"\",\"\",IF(VLOOKUP(B690,'Oman Results'!C690:AI1683,31)=\"x\",'Oman Results'!AK690,'Oman Results'!G690))","v":""},"",{"$f":"IF(B690=\"\",\"\",IF(VLOOKUP(B690,'Oman Results'!C690:AI1683,31)=\"x\",\"Yes\",\"\"))","v":""},{"$f":"IF(B690=\"\",\"\",IF(VLOOKUP(B690,'Oman Results'!C690:AI1683,31)=\"x\",'Oman Results'!G690,\"\"))","v":""},{"$f":"IF(B690=\"\",\"\",IF(VLOOKUP(B690,'Oman Results'!C690:AI1683,31)=\"x\",'Oman Results'!AJ690,\"\"))","v":""},{"$f":"IF(B690=\"\",\"\",IF(VLOOKUP(B690,'Oman Results'!C690:AI1683,31)=\"x\",'Oman Results'!AK690,\"\"))","v":""},null,null,"","","",""]
["",{"$f":"IF('Oman Results'!C691=\"\",\"\",'Oman Results'!C691)","v":""},{"$f":"IF(OR('Oman Results'!D691=\"\",'Oman Results'!D691=\"Totals\"),\"\",'Oman Results'!D691)","v":""},"",{"$f":"IF('Oman Results'!E691=\"\",\"\",'Oman Results'!E691)","v":""},{"$f":"IF('Oman Results'!F691=\"\",\"\",'Oman Results'!F691)","v":""},{"$f":"IF(B691=\"\",\"\",IF(VLOOKUP(B691,'Oman Results'!C691:AI1684,31)=\"x\",'Oman Results'!AK691,'Oman Results'!G691))","v":""},"",{"$f":"IF(B691=\"\",\"\",IF(VLOOKUP(B691,'Oman Results'!C691:AI1684,31)=\"x\",\"Yes\",\"\"))","v":""},{"$f":"IF(B691=\"\",\"\",IF(VLOOKUP(B691,'Oman Results'!C691:AI1684,31)=\"x\",'Oman Results'!G691,\"\"))","v":""},{"$f":"IF(B691=\"\",\"\",IF(VLOOKUP(B691,'Oman Results'!C691:AI1684,31)=\"x\",'Oman Results'!AJ691,\"\"))","v":""},{"$f":"IF(B691=\"\",\"\",IF(VLOOKUP(B691,'Oman Results'!C691:AI1684,31)=\"x\",'Oman Results'!AK691,\"\"))","v":""},null,null,"","","",""]
["",{"$f":"IF('Oman Results'!C692=\"\",\"\",'Oman Results'!C692)","v":""},{"$f":"IF(OR('Oman Results'!D692=\"\",'Oman Results'!D692=\"Totals\"),\"\",'Oman Results'!D692)","v":""},"",{"$f":"IF('Oman Results'!E692=\"\",\"\",'Oman Results'!E692)","v":""},{"$f":"IF('Oman Results'!F692=\"\",\"\",'Oman Results'!F692)","v":""},{"$f":"IF(B692=\"\",\"\",IF(VLOOKUP(B692,'Oman Results'!C692:AI1685,31)=\"x\",'Oman Results'!AK692,'Oman Results'!G692))","v":""},"",{"$f":"IF(B692=\"\",\"\",IF(VLOOKUP(B692,'Oman Results'!C692:AI1685,31)=\"x\",\"Yes\",\"\"))","v":""},{"$f":"IF(B692=\"\",\"\",IF(VLOOKUP(B692,'Oman Results'!C692:AI1685,31)=\"x\",'Oman Results'!G692,\"\"))","v":""},{"$f":"IF(B692=\"\",\"\",IF(VLOOKUP(B692,'Oman Results'!C692:AI1685,31)=\"x\",'Oman Results'!AJ692,\"\"))","v":""},{"$f":"IF(B692=\"\",\"\",IF(VLOOKUP(B692,'Oman Results'!C692:AI1685,31)=\"x\",'Oman Results'!AK692,\"\"))","v":""},null,null,"","","",""]
["",{"$f":"IF('Oman Results'!C693=\"\",\"\",'Oman Results'!C693)","v":""},{"$f":"IF(OR('Oman Results'!D693=\"\",'Oman Results'!D693=\"Totals\"),\"\",'Oman Results'!D693)","v":""},"",{"$f":"IF('Oman Results'!E693=\"\",\"\",'Oman Results'!E693)","v":""},{"$f":"IF('Oman Results'!F693=\"\",\"\",'Oman Results'!F693)","v":""},{"$f":"IF(B693=\"\",\"\",IF(VLOOKUP(B693,'Oman Results'!C693:AI1686,31)=\"x\",'Oman Results'!AK693,'Oman Results'!G693))","v":""},"",{"$f":"IF(B693=\"\",\"\",IF(VLOOKUP(B693,'Oman Results'!C693:AI1686,31)=\"x\",\"Yes\",\"\"))","v":""},{"$f":"IF(B693=\"\",\"\",IF(VLOOKUP(B693,'Oman Results'!C693:AI1686,31)=\"x\",'Oman Results'!G693,\"\"))","v":""},{"$f":"IF(B693=\"\",\"\",IF(VLOOKUP(B693,'Oman Results'!C693:AI1686,31)=\"x\",'Oman Results'!AJ693,\"\"))","v":""},{"$f":"IF(B693=\"\",\"\",IF(VLOOKUP(B693,'Oman Results'!C693:AI1686,31)=\"x\",'Oman Results'!AK693,\"\"))","v":""},null,null,"","","",""]
["",{"$f":"IF('Oman Results'!C694=\"\",\"\",'Oman Results'!C694)","v":""},{"$f":"IF(OR('Oman Results'!D694=\"\",'Oman Results'!D694=\"Totals\"),\"\",'Oman Results'!D694)","v":""},"",{"$f":"IF('Oman Results'!E694=\"\",\"\",'Oman Results'!E694)","v":""},{"$f":"IF('Oman Results'!F694=\"\",\"\",'Oman Results'!F694)","v":""},{"$f":"IF(B694=\"\",\"\",IF(VLOOKUP(B694,'Oman Results'!C694:AI1687,31)=\"x\",'Oman Results'!AK694,'Oman Results'!G694))","v":""},"",{"$f":"IF(B694=\"\",\"\",IF(VLOOKUP(B694,'Oman Results'!C694:AI1687,31)=\"x\",\"Yes\",\"\"))","v":""},{"$f":"IF(B694=\"\",\"\",IF(VLOOKUP(B694,'Oman Results'!C694:AI1687,31)=\"x\",'Oman Results'!G694,\"\"))","v":""},{"$f":"IF(B694=\"\",\"\",IF(VLOOKUP(B694,'Oman Results'!C694:AI1687,31)=\"x\",'Oman Results'!AJ694,\"\"))","v":""},{"$f":"IF(B694=\"\",\"\",IF(VLOOKUP(B694,'Oman Results'!C694:AI1687,31)=\"x\",'Oman Results'!AK694,\"\"))","v":""},null,null,"","","",""]
["",{"$f":"IF('Oman Results'!C695=\"\",\"\",'Oman Results'!C695)","v":""},{"$f":"IF(OR('Oman Results'!D695=\"\",'Oman Results'!D695=\"Totals\"),\"\",'Oman Results'!D695)","v":""},"",{"$f":"IF('Oman Results'!E695=\"\",\"\",'Oman Results'!E695)","v":""},{"$f":"IF('Oman Results'!F695=\"\",\"\",'Oman Results'!F695)","v":""},{"$f":"IF(B695=\"\",\"\",IF(VLOOKUP(B695,'Oman Results'!C695:AI1688,31)=\"x\",'Oman Results'!AK695,'Oman Results'!G695))","v":""},"",{"$f":"IF(B695=\"\",\"\",IF(VLOOKUP(B695,'Oman Results'!C695:AI1688,31)=\"x\",\"Yes\",\"\"))","v":""},{"$f":"IF(B695=\"\",\"\",IF(VLOOKUP(B695,'Oman Results'!C695:AI1688,31)=\"x\",'Oman Results'!G695,\"\"))","v":""},{"$f":"IF(B695=\"\",\"\",IF(VLOOKUP(B695,'Oman Results'!C695:AI1688,31)=\"x\",'Oman Results'!AJ695,\"\"))","v":""},{"$f":"IF(B695=\"\",\"\",IF(VLOOKUP(B695,'Oman Results'!C695:AI1688,31)=\"x\",'Oman Results'!AK695,\"\"))","v":""},null,null,"","","",""]
["",{"$f":"IF('Oman Results'!C696=\"\",\"\",'Oman Results'!C696)","v":""},{"$f":"IF(OR('Oman Results'!D696=\"\",'Oman Results'!D696=\"Totals\"),\"\",'Oman Results'!D696)","v":""},"",{"$f":"IF('Oman Results'!E696=\"\",\"\",'Oman Results'!E696)","v":""},{"$f":"IF('Oman Results'!F696=\"\",\"\",'Oman Results'!F696)","v":""},{"$f":"IF(B696=\"\",\"\",IF(VLOOKUP(B696,'Oman Results'!C696:AI1689,31)=\"x\",'Oman Results'!AK696,'Oman Results'!G696))","v":""},"",{"$f":"IF(B696=\"\",\"\",IF(VLOOKUP(B696,'Oman Results'!C696:AI1689,31)=\"x\",\"Yes\",\"\"))","v":""},{"$f":"IF(B696=\"\",\"\",IF(VLOOKUP(B696,'Oman Results'!C696:AI1689,31)=\"x\",'Oman Results'!G696,\"\"))","v":""},{"$f":"IF(B696=\"\",\"\",IF(VLOOKUP(B696,'Oman Results'!C696:AI1689,31)=\"x\",'Oman Results'!AJ696,\"\"))","v":""},{"$f":"IF(B696=\"\",\"\",IF(VLOOKUP(B696,'Oman Results'!C696:AI1689,31)=\"x\",'Oman Results'!AK696,\"\"))","v":""},null,null,"","","",""]
["",{"$f":"IF('Oman Results'!C697=\"\",\"\",'Oman Results'!C697)","v":""},{"$f":"IF(OR('Oman Results'!D697=\"\",'Oman Results'!D697=\"Totals\"),\"\",'Oman Results'!D697)","v":""},"",{"$f":"IF('Oman Results'!E697=\"\",\"\",'Oman Results'!E697)","v":""},{"$f":"IF('Oman Results'!F697=\"\",\"\",'Oman Results'!F697)","v":""},{"$f":"IF(B697=\"\",\"\",IF(VLOOKUP(B697,'Oman Results'!C697:AI1690,31)=\"x\",'Oman Results'!AK697,'Oman Results'!G697))","v":""},"",{"$f":"IF(B697=\"\",\"\",IF(VLOOKUP(B697,'Oman Results'!C697:AI1690,31)=\"x\",\"Yes\",\"\"))","v":""},{"$f":"IF(B697=\"\",\"\",IF(VLOOKUP(B697,'Oman Results'!C697:AI1690,31)=\"x\",'Oman Results'!G697,\"\"))","v":""},{"$f":"IF(B697=\"\",\"\",IF(VLOOKUP(B697,'Oman Results'!C697:AI1690,31)=\"x\",'Oman Results'!AJ697,\"\"))","v":""},{"$f":"IF(B697=\"\",\"\",IF(VLOOKUP(B697,'Oman Results'!C697:AI1690,31)=\"x\",'Oman Results'!AK697,\"\"))","v":""},null,null,"","","",""]
["",{"$f":"IF('Oman Results'!C698=\"\",\"\",'Oman Results'!C698)","v":""},{"$f":"IF(OR('Oman Results'!D698=\"\",'Oman Results'!D698=\"Totals\"),\"\",'Oman Results'!D698)","v":""},"",{"$f":"IF('Oman Results'!E698=\"\",\"\",'Oman Results'!E698)","v":""},{"$f":"IF('Oman Results'!F698=\"\",\"\",'Oman Results'!F698)","v":""},{"$f":"IF(B698=\"\",\"\",IF(VLOOKUP(B698,'Oman Results'!C698:AI1691,31)=\"x\",'Oman Results'!AK698,'Oman Results'!G698))","v":""},"",{"$f":"IF(B698=\"\",\"\",IF(VLOOKUP(B698,'Oman Results'!C698:AI1691,31)=\"x\",\"Yes\",\"\"))","v":""},{"$f":"IF(B698=\"\",\"\",IF(VLOOKUP(B698,'Oman Results'!C698:AI1691,31)=\"x\",'Oman Results'!G698,\"\"))","v":""},{"$f":"IF(B698=\"\",\"\",IF(VLOOKUP(B698,'Oman Results'!C698:AI1691,31)=\"x\",'Oman Results'!AJ698,\"\"))","v":""},{"$f":"IF(B698=\"\",\"\",IF(VLOOKUP(B698,'Oman Results'!C698:AI1691,31)=\"x\",'Oman Results'!AK698,\"\"))","v":""},null,null,"","","",""]
["",{"$f":"IF('Oman Results'!C699=\"\",\"\",'Oman Results'!C699)","v":""},{"$f":"IF(OR('Oman Results'!D699=\"\",'Oman Results'!D699=\"Totals\"),\"\",'Oman Results'!D699)","v":""},"",{"$f":"IF('Oman Results'!E699=\"\",\"\",'Oman Results'!E699)","v":""},{"$f":"IF('Oman Results'!F699=\"\",\"\",'Oman Results'!F699)","v":""},{"$f":"IF(B699=\"\",\"\",IF(VLOOKUP(B699,'Oman Results'!C699:AI1692,31)=\"x\",'Oman Results'!AK699,'Oman Results'!G699))","v":""},"",{"$f":"IF(B699=\"\",\"\",IF(VLOOKUP(B699,'Oman Results'!C699:AI1692,31)=\"x\",\"Yes\",\"\"))","v":""},{"$f":"IF(B699=\"\",\"\",IF(VLOOKUP(B699,'Oman Results'!C699:AI1692,31)=\"x\",'Oman Results'!G699,\"\"))","v":""},{"$f":"IF(B699=\"\",\"\",IF(VLOOKUP(B699,'Oman Results'!C699:AI1692,31)=\"x\",'Oman Results'!AJ699,\"\"))","v":""},{"$f":"IF(B699=\"\",\"\",IF(VLOOKUP(B699,'Oman Results'!C699:AI1692,31)=\"x\",'Oman Results'!AK699,\"\"))","v":""},null,null,"","","",""]
["",{"$f":"IF('Oman Results'!C700=\"\",\"\",'Oman Results'!C700)","v":""},{"$f":"IF(OR('Oman Results'!D700=\"\",'Oman Results'!D700=\"Totals\"),\"\",'Oman Results'!D700)","v":""},"",{"$f":"IF('Oman Results'!E700=\"\",\"\",'Oman Results'!E700)","v":""},{"$f":"IF('Oman Results'!F700=\"\",\"\",'Oman Results'!F700)","v":""},{"$f":"IF(B700=\"\",\"\",IF(VLOOKUP(B700,'Oman Results'!C700:AI1693,31)=\"x\",'Oman Results'!AK700,'Oman Results'!G700))","v":""},"",{"$f":"IF(B700=\"\",\"\",IF(VLOOKUP(B700,'Oman Results'!C700:AI1693,31)=\"x\",\"Yes\",\"\"))","v":""},{"$f":"IF(B700=\"\",\"\",IF(VLOOKUP(B700,'Oman Results'!C700:AI1693,31)=\"x\",'Oman Results'!G700,\"\"))","v":""},{"$f":"IF(B700=\"\",\"\",IF(VLOOKUP(B700,'Oman Results'!C700:AI1693,31)=\"x\",'Oman Results'!AJ700,\"\"))","v":""},{"$f":"IF(B700=\"\",\"\",IF(VLOOKUP(B700,'Oman Results'!C700:AI1693,31)=\"x\",'Oman Results'!AK700,\"\"))","v":""},null,null,"","","",""]
["",{"$f":"IF('Oman Results'!C701=\"\",\"\",'Oman Results'!C701)","v":""},{"$f":"IF(OR('Oman Results'!D701=\"\",'Oman Results'!D701=\"Totals\"),\"\",'Oman Results'!D701)","v":""},"",{"$f":"IF('Oman Results'!E701=\"\",\"\",'Oman Results'!E701)","v":""},{"$f":"IF('Oman Results'!F701=\"\",\"\",'Oman Results'!F701)","v":""},{"$f":"IF(B701=\"\",\"\",IF(VLOOKUP(B701,'Oman Results'!C701:AI1694,31)=\"x\",'Oman Results'!AK701,'Oman Results'!G701))","v":""},"",{"$f":"IF(B701=\"\",\"\",IF(VLOOKUP(B701,'Oman Results'!C701:AI1694,31)=\"x\",\"Yes\",\"\"))","v":""},{"$f":"IF(B701=\"\",\"\",IF(VLOOKUP(B701,'Oman Results'!C701:AI1694,31)=\"x\",'Oman Results'!G701,\"\"))","v":""},{"$f":"IF(B701=\"\",\"\",IF(VLOOKUP(B701,'Oman Results'!C701:AI1694,31)=\"x\",'Oman Results'!AJ701,\"\"))","v":""},{"$f":"IF(B701=\"\",\"\",IF(VLOOKUP(B701,'Oman Results'!C701:AI1694,31)=\"x\",'Oman Results'!AK701,\"\"))","v":""},null,null,"","","",""]
["",{"$f":"IF('Oman Results'!C702=\"\",\"\",'Oman Results'!C702)","v":""},{"$f":"IF(OR('Oman Results'!D702=\"\",'Oman Results'!D702=\"Totals\"),\"\",'Oman Results'!D702)","v":""},"",{"$f":"IF('Oman Results'!E702=\"\",\"\",'Oman Results'!E702)","v":""},{"$f":"IF('Oman Results'!F702=\"\",\"\",'Oman Results'!F702)","v":""},{"$f":"IF(B702=\"\",\"\",IF(VLOOKUP(B702,'Oman Results'!C702:AI1695,31)=\"x\",'Oman Results'!AK702,'Oman Results'!G702))","v":""},"",{"$f":"IF(B702=\"\",\"\",IF(VLOOKUP(B702,'Oman Results'!C702:AI1695,31)=\"x\",\"Yes\",\"\"))","v":""},{"$f":"IF(B702=\"\",\"\",IF(VLOOKUP(B702,'Oman Results'!C702:AI1695,31)=\"x\",'Oman Results'!G702,\"\"))","v":""},{"$f":"IF(B702=\"\",\"\",IF(VLOOKUP(B702,'Oman Results'!C702:AI1695,31)=\"x\",'Oman Results'!AJ702,\"\"))","v":""},{"$f":"IF(B702=\"\",\"\",IF(VLOOKUP(B702,'Oman Results'!C702:AI1695,31)=\"x\",'Oman Results'!AK702,\"\"))","v":""},null,null,"","","",""]
["",{"$f":"IF('Oman Results'!C703=\"\",\"\",'Oman Results'!C703)","v":""},{"$f":"IF(OR('Oman Results'!D703=\"\",'Oman Results'!D703=\"Totals\"),\"\",'Oman Results'!D703)","v":""},"",{"$f":"IF('Oman Results'!E703=\"\",\"\",'Oman Results'!E703)","v":""},{"$f":"IF('Oman Results'!F703=\"\",\"\",'Oman Results'!F703)","v":""},{"$f":"IF(B703=\"\",\"\",IF(VLOOKUP(B703,'Oman Results'!C703:AI1696,31)=\"x\",'Oman Results'!AK703,'Oman Results'!G703))","v":""},"",{"$f":"IF(B703=\"\",\"\",IF(VLOOKUP(B703,'Oman Results'!C703:AI1696,31)=\"x\",\"Yes\",\"\"))","v":""},{"$f":"IF(B703=\"\",\"\",IF(VLOOKUP(B703,'Oman Results'!C703:AI1696,31)=\"x\",'Oman Results'!G703,\"\"))","v":""},{"$f":"IF(B703=\"\",\"\",IF(VLOOKUP(B703,'Oman Results'!C703:AI1696,31)=\"x\",'Oman Results'!AJ703,\"\"))","v":""},{"$f":"IF(B703=\"\",\"\",IF(VLOOKUP(B703,'Oman Results'!C703:AI1696,31)=\"x\",'Oman Results'!AK703,\"\"))","v":""},null,null,"","","",""]
["",{"$f":"IF('Oman Results'!C704=\"\",\"\",'Oman Results'!C704)","v":""},{"$f":"IF(OR('Oman Results'!D704=\"\",'Oman Results'!D704=\"Totals\"),\"\",'Oman Results'!D704)","v":""},"",{"$f":"IF('Oman Results'!E704=\"\",\"\",'Oman Results'!E704)","v":""},{"$f":"IF('Oman Results'!F704=\"\",\"\",'Oman Results'!F704)","v":""},{"$f":"IF(B704=\"\",\"\",IF(VLOOKUP(B704,'Oman Results'!C704:AI1697,31)=\"x\",'Oman Results'!AK704,'Oman Results'!G704))","v":""},"",{"$f":"IF(B704=\"\",\"\",IF(VLOOKUP(B704,'Oman Results'!C704:AI1697,31)=\"x\",\"Yes\",\"\"))","v":""},{"$f":"IF(B704=\"\",\"\",IF(VLOOKUP(B704,'Oman Results'!C704:AI1697,31)=\"x\",'Oman Results'!G704,\"\"))","v":""},{"$f":"IF(B704=\"\",\"\",IF(VLOOKUP(B704,'Oman Results'!C704:AI1697,31)=\"x\",'Oman Results'!AJ704,\"\"))","v":""},{"$f":"IF(B704=\"\",\"\",IF(VLOOKUP(B704,'Oman Results'!C704:AI1697,31)=\"x\",'Oman Results'!AK704,\"\"))","v":""},null,null,"","","",""]
["",{"$f":"IF('Oman Results'!C705=\"\",\"\",'Oman Results'!C705)","v":""},{"$f":"IF(OR('Oman Results'!D705=\"\",'Oman Results'!D705=\"Totals\"),\"\",'Oman Results'!D705)","v":""},"",{"$f":"IF('Oman Results'!E705=\"\",\"\",'Oman Results'!E705)","v":""},{"$f":"IF('Oman Results'!F705=\"\",\"\",'Oman Results'!F705)","v":""},{"$f":"IF(B705=\"\",\"\",IF(VLOOKUP(B705,'Oman Results'!C705:AI1698,31)=\"x\",'Oman Results'!AK705,'Oman Results'!G705))","v":""},"",{"$f":"IF(B705=\"\",\"\",IF(VLOOKUP(B705,'Oman Results'!C705:AI1698,31)=\"x\",\"Yes\",\"\"))","v":""},{"$f":"IF(B705=\"\",\"\",IF(VLOOKUP(B705,'Oman Results'!C705:AI1698,31)=\"x\",'Oman Results'!G705,\"\"))","v":""},{"$f":"IF(B705=\"\",\"\",IF(VLOOKUP(B705,'Oman Results'!C705:AI1698,31)=\"x\",'Oman Results'!AJ705,\"\"))","v":""},{"$f":"IF(B705=\"\",\"\",IF(VLOOKUP(B705,'Oman Results'!C705:AI1698,31)=\"x\",'Oman Results'!AK705,\"\"))","v":""},null,null,"","","",""]
["",{"$f":"IF('Oman Results'!C706=\"\",\"\",'Oman Results'!C706)","v":""},{"$f":"IF(OR('Oman Results'!D706=\"\",'Oman Results'!D706=\"Totals\"),\"\",'Oman Results'!D706)","v":""},"",{"$f":"IF('Oman Results'!E706=\"\",\"\",'Oman Results'!E706)","v":""},{"$f":"IF('Oman Results'!F706=\"\",\"\",'Oman Results'!F706)","v":""},{"$f":"IF(B706=\"\",\"\",IF(VLOOKUP(B706,'Oman Results'!C706:AI1699,31)=\"x\",'Oman Results'!AK706,'Oman Results'!G706))","v":""},"",{"$f":"IF(B706=\"\",\"\",IF(VLOOKUP(B706,'Oman Results'!C706:AI1699,31)=\"x\",\"Yes\",\"\"))","v":""},{"$f":"IF(B706=\"\",\"\",IF(VLOOKUP(B706,'Oman Results'!C706:AI1699,31)=\"x\",'Oman Results'!G706,\"\"))","v":""},{"$f":"IF(B706=\"\",\"\",IF(VLOOKUP(B706,'Oman Results'!C706:AI1699,31)=\"x\",'Oman Results'!AJ706,\"\"))","v":""},{"$f":"IF(B706=\"\",\"\",IF(VLOOKUP(B706,'Oman Results'!C706:AI1699,31)=\"x\",'Oman Results'!AK706,\"\"))","v":""},null,null,"",{"$f":"IF(O706=1,G706,\"\")","v":""},"",{"$f":"IF(O706=1,\"\",H706)","v":""}]
["",{"$f":"IF('Oman Results'!C707=\"\",\"\",'Oman Results'!C707)","v":""},{"$f":"IF(OR('Oman Results'!D707=\"\",'Oman Results'!D707=\"Totals\"),\"\",'Oman Results'!D707)","v":""},{"$f":"IF(ISNUMBER(SEARCH(\"{\",C707)),\"Yes\", \"\")","v":""},{"$f":"IF('Oman Results'!E707=\"\",\"\",'Oman Results'!E707)","v":""},{"$f":"IF('Oman Results'!F707=\"\",\"\",'Oman Results'!F707)","v":""},{"$f":"IF(B707=\"\",\"\",IF(VLOOKUP(B707,'Oman Results'!C707:AI1700,31)=\"x\",'Oman Results'!AK707,'Oman Results'!G707))","v":""},{"$f":"IF(E707=\"\",\"\",E707*G707)","v":""},{"$f":"IF(B707=\"\",\"\",IF(VLOOKUP(B707,'Oman Results'!C707:AI1700,31)=\"x\",\"Yes\",\"\"))","v":""},{"$f":"IF(B707=\"\",\"\",IF(VLOOKUP(B707,'Oman Results'!C707:AI1700,31)=\"x\",'Oman Results'!G707,\"\"))","v":""},{"$f":"IF(B707=\"\",\"\",IF(VLOOKUP(B707,'Oman Results'!C707:AI1700,31)=\"x\",'Oman Results'!AJ707,\"\"))","v":""},{"$f":"IF(B707=\"\",\"\",IF(VLOOKUP(B707,'Oman Results'!C707:AI1700,31)=\"x\",'Oman Results'!AK707,\"\"))","v":""},null,null,{"$f":"IF(OR(LEFT(F707,3)=\"L.S\",LEFT(F707,2)=\"LS\"),1,\"\")","v":""},"",{"$f":"IF(I707=\"Yes\",G707,\"\")","v":""},""]
[{"$f":"IF(B708=\"\",\"\",1+A707)","v":""},{"$f":"IF('Oman Results'!C708=\"\",\"\",'Oman Results'!C708)","v":""},{"$f":"IF(OR('Oman Results'!D708=\"\",'Oman Results'!D708=\"Totals\"),\"\",'Oman Results'!D708)","v":""},"",{"$f":"IF('Oman Results'!E708=\"\",\"\",'Oman Results'!E708)","v":""},{"$f":"IF('Oman Results'!F708=\"\",\"\",'Oman Results'!F708)","v":""},{"$f":"IF(B708=\"\",\"\",IF(VLOOKUP(B708,'Oman Results'!C708:AI1701,31)=\"x\",'Oman Results'!AK708,'Oman Results'!G708))","v":""},"",{"$f":"IF(B708=\"\",\"\",IF(VLOOKUP(B708,'Oman Results'!C708:AI1701,31)=\"x\",\"Yes\",\"\"))","v":""},{"$f":"IF(B708=\"\",\"\",IF(VLOOKUP(B708,'Oman Results'!C708:AI1701,31)=\"x\",'Oman Results'!G708,\"\"))","v":""},{"$f":"IF(B708=\"\",\"\",IF(VLOOKUP(B708,'Oman Results'!C708:AI1701,31)=\"x\",'Oman Results'!AJ708,\"\"))","v":""},{"$f":"IF(B708=\"\",\"\",IF(VLOOKUP(B708,'Oman Results'!C708:AI1701,31)=\"x\",'Oman Results'!AK708,\"\"))","v":""},null,null,"","","",""]
["",{"$f":"IF('Oman Results'!C709=\"\",\"\",'Oman Results'!C709)","v":""},{"$f":"IF(OR('Oman Results'!D709=\"\",'Oman Results'!D709=\"Totals\"),\"\",'Oman Results'!D709)","v":""},"",{"$f":"IF('Oman Results'!E709=\"\",\"\",'Oman Results'!E709)","v":""},{"$f":"IF('Oman Results'!F709=\"\",\"\",'Oman Results'!F709)","v":""},{"$f":"IF(B709=\"\",\"\",IF(VLOOKUP(B709,'Oman Results'!C709:AI1702,31)=\"x\",'Oman Results'!AK709,'Oman Results'!G709))","v":""},"",{"$f":"IF(B709=\"\",\"\",IF(VLOOKUP(B709,'Oman Results'!C709:AI1702,31)=\"x\",\"Yes\",\"\"))","v":""},{"$f":"IF(B709=\"\",\"\",IF(VLOOKUP(B709,'Oman Results'!C709:AI1702,31)=\"x\",'Oman Results'!G709,\"\"))","v":""},{"$f":"IF(B709=\"\",\"\",IF(VLOOKUP(B709,'Oman Results'!C709:AI1702,31)=\"x\",'Oman Results'!AJ709,\"\"))","v":""},{"$f":"IF(B709=\"\",\"\",IF(VLOOKUP(B709,'Oman Results'!C709:AI1702,31)=\"x\",'Oman Results'!AK709,\"\"))","v":""},null,null,"","","",""]
["",{"$f":"IF('Oman Results'!C710=\"\",\"\",'Oman Results'!C710)","v":""},{"$f":"IF(OR('Oman Results'!D710=\"\",'Oman Results'!D710=\"Totals\"),\"\",'Oman Results'!D710)","v":""},"",{"$f":"IF('Oman Results'!E710=\"\",\"\",'Oman Results'!E710)","v":""},{"$f":"IF('Oman Results'!F710=\"\",\"\",'Oman Results'!F710)","v":""},{"$f":"IF(B710=\"\",\"\",IF(VLOOKUP(B710,'Oman Results'!C710:AI1703,31)=\"x\",'Oman Results'!AK710,'Oman Results'!G710))","v":""},"",{"$f":"IF(B710=\"\",\"\",IF(VLOOKUP(B710,'Oman Results'!C710:AI1703,31)=\"x\",\"Yes\",\"\"))","v":""},{"$f":"IF(B710=\"\",\"\",IF(VLOOKUP(B710,'Oman Results'!C710:AI1703,31)=\"x\",'Oman Results'!G710,\"\"))","v":""},{"$f":"IF(B710=\"\",\"\",IF(VLOOKUP(B710,'Oman Results'!C710:AI1703,31)=\"x\",'Oman Results'!AJ710,\"\"))","v":""},{"$f":"IF(B710=\"\",\"\",IF(VLOOKUP(B710,'Oman Results'!C710:AI1703,31)=\"x\",'Oman Results'!AK710,\"\"))","v":""},null,null,"","","",""]
["",{"$f":"IF('Oman Results'!C711=\"\",\"\",'Oman Results'!C711)","v":""},{"$f":"IF(OR('Oman Results'!D711=\"\",'Oman Results'!D711=\"Totals\"),\"\",'Oman Results'!D711)","v":""},"",{"$f":"IF('Oman Results'!E711=\"\",\"\",'Oman Results'!E711)","v":""},{"$f":"IF('Oman Results'!F711=\"\",\"\",'Oman Results'!F711)","v":""},{"$f":"IF(B711=\"\",\"\",IF(VLOOKUP(B711,'Oman Results'!C711:AI1704,31)=\"x\",'Oman Results'!AK711,'Oman Results'!G711))","v":""},"",{"$f":"IF(B711=\"\",\"\",IF(VLOOKUP(B711,'Oman Results'!C711:AI1704,31)=\"x\",\"Yes\",\"\"))","v":""},{"$f":"IF(B711=\"\",\"\",IF(VLOOKUP(B711,'Oman Results'!C711:AI1704,31)=\"x\",'Oman Results'!G711,\"\"))","v":""},{"$f":"IF(B711=\"\",\"\",IF(VLOOKUP(B711,'Oman Results'!C711:AI1704,31)=\"x\",'Oman Results'!AJ711,\"\"))","v":""},{"$f":"IF(B711=\"\",\"\",IF(VLOOKUP(B711,'Oman Results'!C711:AI1704,31)=\"x\",'Oman Results'!AK711,\"\"))","v":""},null,null,"","","",""]
["",{"$f":"IF('Oman Results'!C712=\"\",\"\",'Oman Results'!C712)","v":""},{"$f":"IF(OR('Oman Results'!D712=\"\",'Oman Results'!D712=\"Totals\"),\"\",'Oman Results'!D712)","v":""},"",{"$f":"IF('Oman Results'!E712=\"\",\"\",'Oman Results'!E712)","v":""},{"$f":"IF('Oman Results'!F712=\"\",\"\",'Oman Results'!F712)","v":""},{"$f":"IF(B712=\"\",\"\",IF(VLOOKUP(B712,'Oman Results'!C712:AI1705,31)=\"x\",'Oman Results'!AK712,'Oman Results'!G712))","v":""},"",{"$f":"IF(B712=\"\",\"\",IF(VLOOKUP(B712,'Oman Results'!C712:AI1705,31)=\"x\",\"Yes\",\"\"))","v":""},{"$f":"IF(B712=\"\",\"\",IF(VLOOKUP(B712,'Oman Results'!C712:AI1705,31)=\"x\",'Oman Results'!G712,\"\"))","v":""},{"$f":"IF(B712=\"\",\"\",IF(VLOOKUP(B712,'Oman Results'!C712:AI1705,31)=\"x\",'Oman Results'!AJ712,\"\"))","v":""},{"$f":"IF(B712=\"\",\"\",IF(VLOOKUP(B712,'Oman Results'!C712:AI1705,31)=\"x\",'Oman Results'!AK712,\"\"))","v":""},null,null,"","","",""]
["",{"$f":"IF('Oman Results'!C713=\"\",\"\",'Oman Results'!C713)","v":""},{"$f":"IF(OR('Oman Results'!D713=\"\",'Oman Results'!D713=\"Totals\"),\"\",'Oman Results'!D713)","v":""},"",{"$f":"IF('Oman Results'!E713=\"\",\"\",'Oman Results'!E713)","v":""},{"$f":"IF('Oman Results'!F713=\"\",\"\",'Oman Results'!F713)","v":""},{"$f":"IF(B713=\"\",\"\",IF(VLOOKUP(B713,'Oman Results'!C713:AI1706,31)=\"x\",'Oman Results'!AK713,'Oman Results'!G713))","v":""},"",{"$f":"IF(B713=\"\",\"\",IF(VLOOKUP(B713,'Oman Results'!C713:AI1706,31)=\"x\",\"Yes\",\"\"))","v":""},{"$f":"IF(B713=\"\",\"\",IF(VLOOKUP(B713,'Oman Results'!C713:AI1706,31)=\"x\",'Oman Results'!G713,\"\"))","v":""},{"$f":"IF(B713=\"\",\"\",IF(VLOOKUP(B713,'Oman Results'!C713:AI1706,31)=\"x\",'Oman Results'!AJ713,\"\"))","v":""},{"$f":"IF(B713=\"\",\"\",IF(VLOOKUP(B713,'Oman Results'!C713:AI1706,31)=\"x\",'Oman Results'!AK713,\"\"))","v":""},null,null,"","","",""]
["",{"$f":"IF('Oman Results'!C714=\"\",\"\",'Oman Results'!C714)","v":""},{"$f":"IF(OR('Oman Results'!D714=\"\",'Oman Results'!D714=\"Totals\"),\"\",'Oman Results'!D714)","v":""},"",{"$f":"IF('Oman Results'!E714=\"\",\"\",'Oman Results'!E714)","v":""},{"$f":"IF('Oman Results'!F714=\"\",\"\",'Oman Results'!F714)","v":""},{"$f":"IF(B714=\"\",\"\",IF(VLOOKUP(B714,'Oman Results'!C714:AI1707,31)=\"x\",'Oman Results'!AK714,'Oman Results'!G714))","v":""},"",{"$f":"IF(B714=\"\",\"\",IF(VLOOKUP(B714,'Oman Results'!C714:AI1707,31)=\"x\",\"Yes\",\"\"))","v":""},{"$f":"IF(B714=\"\",\"\",IF(VLOOKUP(B714,'Oman Results'!C714:AI1707,31)=\"x\",'Oman Results'!G714,\"\"))","v":""},{"$f":"IF(B714=\"\",\"\",IF(VLOOKUP(B714,'Oman Results'!C714:AI1707,31)=\"x\",'Oman Results'!AJ714,\"\"))","v":""},{"$f":"IF(B714=\"\",\"\",IF(VLOOKUP(B714,'Oman Results'!C714:AI1707,31)=\"x\",'Oman Results'!AK714,\"\"))","v":""},null,null,"","","",""]
["",{"$f":"IF('Oman Results'!C715=\"\",\"\",'Oman Results'!C715)","v":""},{"$f":"IF(OR('Oman Results'!D715=\"\",'Oman Results'!D715=\"Totals\"),\"\",'Oman Results'!D715)","v":""},"",{"$f":"IF('Oman Results'!E715=\"\",\"\",'Oman Results'!E715)","v":""},{"$f":"IF('Oman Results'!F715=\"\",\"\",'Oman Results'!F715)","v":""},{"$f":"IF(B715=\"\",\"\",IF(VLOOKUP(B715,'Oman Results'!C715:AI1708,31)=\"x\",'Oman Results'!AK715,'Oman Results'!G715))","v":""},"",{"$f":"IF(B715=\"\",\"\",IF(VLOOKUP(B715,'Oman Results'!C715:AI1708,31)=\"x\",\"Yes\",\"\"))","v":""},{"$f":"IF(B715=\"\",\"\",IF(VLOOKUP(B715,'Oman Results'!C715:AI1708,31)=\"x\",'Oman Results'!G715,\"\"))","v":""},{"$f":"IF(B715=\"\",\"\",IF(VLOOKUP(B715,'Oman Results'!C715:AI1708,31)=\"x\",'Oman Results'!AJ715,\"\"))","v":""},{"$f":"IF(B715=\"\",\"\",IF(VLOOKUP(B715,'Oman Results'!C715:AI1708,31)=\"x\",'Oman Results'!AK715,\"\"))","v":""},null,null,"","","",""]
["",{"$f":"IF('Oman Results'!C716=\"\",\"\",'Oman Results'!C716)","v":""},{"$f":"IF(OR('Oman Results'!D716=\"\",'Oman Results'!D716=\"Totals\"),\"\",'Oman Results'!D716)","v":""},"",{"$f":"IF('Oman Results'!E716=\"\",\"\",'Oman Results'!E716)","v":""},{"$f":"IF('Oman Results'!F716=\"\",\"\",'Oman Results'!F716)","v":""},{"$f":"IF(B716=\"\",\"\",IF(VLOOKUP(B716,'Oman Results'!C716:AI1709,31)=\"x\",'Oman Results'!AK716,'Oman Results'!G716))","v":""},"",{"$f":"IF(B716=\"\",\"\",IF(VLOOKUP(B716,'Oman Results'!C716:AI1709,31)=\"x\",\"Yes\",\"\"))","v":""},{"$f":"IF(B716=\"\",\"\",IF(VLOOKUP(B716,'Oman Results'!C716:AI1709,31)=\"x\",'Oman Results'!G716,\"\"))","v":""},{"$f":"IF(B716=\"\",\"\",IF(VLOOKUP(B716,'Oman Results'!C716:AI1709,31)=\"x\",'Oman Results'!AJ716,\"\"))","v":""},{"$f":"IF(B716=\"\",\"\",IF(VLOOKUP(B716,'Oman Results'!C716:AI1709,31)=\"x\",'Oman Results'!AK716,\"\"))","v":""},null,null,"","","",""]
["",{"$f":"IF('Oman Results'!C717=\"\",\"\",'Oman Results'!C717)","v":""},{"$f":"IF(OR('Oman Results'!D717=\"\",'Oman Results'!D717=\"Totals\"),\"\",'Oman Results'!D717)","v":""},"",{"$f":"IF('Oman Results'!E717=\"\",\"\",'Oman Results'!E717)","v":""},{"$f":"IF('Oman Results'!F717=\"\",\"\",'Oman Results'!F717)","v":""},{"$f":"IF(B717=\"\",\"\",IF(VLOOKUP(B717,'Oman Results'!C717:AI1710,31)=\"x\",'Oman Results'!AK717,'Oman Results'!G717))","v":""},"",{"$f":"IF(B717=\"\",\"\",IF(VLOOKUP(B717,'Oman Results'!C717:AI1710,31)=\"x\",\"Yes\",\"\"))","v":""},{"$f":"IF(B717=\"\",\"\",IF(VLOOKUP(B717,'Oman Results'!C717:AI1710,31)=\"x\",'Oman Results'!G717,\"\"))","v":""},{"$f":"IF(B717=\"\",\"\",IF(VLOOKUP(B717,'Oman Results'!C717:AI1710,31)=\"x\",'Oman Results'!AJ717,\"\"))","v":""},{"$f":"IF(B717=\"\",\"\",IF(VLOOKUP(B717,'Oman Results'!C717:AI1710,31)=\"x\",'Oman Results'!AK717,\"\"))","v":""},null,null,"","","",""]
["",{"$f":"IF('Oman Results'!C718=\"\",\"\",'Oman Results'!C718)","v":""},{"$f":"IF(OR('Oman Results'!D718=\"\",'Oman Results'!D718=\"Totals\"),\"\",'Oman Results'!D718)","v":""},"",{"$f":"IF('Oman Results'!E718=\"\",\"\",'Oman Results'!E718)","v":""},{"$f":"IF('Oman Results'!F718=\"\",\"\",'Oman Results'!F718)","v":""},{"$f":"IF(B718=\"\",\"\",IF(VLOOKUP(B718,'Oman Results'!C718:AI1711,31)=\"x\",'Oman Results'!AK718,'Oman Results'!G718))","v":""},"",{"$f":"IF(B718=\"\",\"\",IF(VLOOKUP(B718,'Oman Results'!C718:AI1711,31)=\"x\",\"Yes\",\"\"))","v":""},{"$f":"IF(B718=\"\",\"\",IF(VLOOKUP(B718,'Oman Results'!C718:AI1711,31)=\"x\",'Oman Results'!G718,\"\"))","v":""},{"$f":"IF(B718=\"\",\"\",IF(VLOOKUP(B718,'Oman Results'!C718:AI1711,31)=\"x\",'Oman Results'!AJ718,\"\"))","v":""},{"$f":"IF(B718=\"\",\"\",IF(VLOOKUP(B718,'Oman Results'!C718:AI1711,31)=\"x\",'Oman Results'!AK718,\"\"))","v":""},null,null,"","","",""]
["",{"$f":"IF('Oman Results'!C719=\"\",\"\",'Oman Results'!C719)","v":""},{"$f":"IF(OR('Oman Results'!D719=\"\",'Oman Results'!D719=\"Totals\"),\"\",'Oman Results'!D719)","v":""},"",{"$f":"IF('Oman Results'!E719=\"\",\"\",'Oman Results'!E719)","v":""},{"$f":"IF('Oman Results'!F719=\"\",\"\",'Oman Results'!F719)","v":""},{"$f":"IF(B719=\"\",\"\",IF(VLOOKUP(B719,'Oman Results'!C719:AI1712,31)=\"x\",'Oman Results'!AK719,'Oman Results'!G719))","v":""},"",{"$f":"IF(B719=\"\",\"\",IF(VLOOKUP(B719,'Oman Results'!C719:AI1712,31)=\"x\",\"Yes\",\"\"))","v":""},{"$f":"IF(B719=\"\",\"\",IF(VLOOKUP(B719,'Oman Results'!C719:AI1712,31)=\"x\",'Oman Results'!G719,\"\"))","v":""},{"$f":"IF(B719=\"\",\"\",IF(VLOOKUP(B719,'Oman Results'!C719:AI1712,31)=\"x\",'Oman Results'!AJ719,\"\"))","v":""},{"$f":"IF(B719=\"\",\"\",IF(VLOOKUP(B719,'Oman Results'!C719:AI1712,31)=\"x\",'Oman Results'!AK719,\"\"))","v":""},null,null,"","","",""]
["",{"$f":"IF('Oman Results'!C720=\"\",\"\",'Oman Results'!C720)","v":""},{"$f":"IF(OR('Oman Results'!D720=\"\",'Oman Results'!D720=\"Totals\"),\"\",'Oman Results'!D720)","v":""},"",{"$f":"IF('Oman Results'!E720=\"\",\"\",'Oman Results'!E720)","v":""},{"$f":"IF('Oman Results'!F720=\"\",\"\",'Oman Results'!F720)","v":""},{"$f":"IF(B720=\"\",\"\",IF(VLOOKUP(B720,'Oman Results'!C720:AI1713,31)=\"x\",'Oman Results'!AK720,'Oman Results'!G720))","v":""},"",{"$f":"IF(B720=\"\",\"\",IF(VLOOKUP(B720,'Oman Results'!C720:AI1713,31)=\"x\",\"Yes\",\"\"))","v":""},{"$f":"IF(B720=\"\",\"\",IF(VLOOKUP(B720,'Oman Results'!C720:AI1713,31)=\"x\",'Oman Results'!G720,\"\"))","v":""},{"$f":"IF(B720=\"\",\"\",IF(VLOOKUP(B720,'Oman Results'!C720:AI1713,31)=\"x\",'Oman Results'!AJ720,\"\"))","v":""},{"$f":"IF(B720=\"\",\"\",IF(VLOOKUP(B720,'Oman Results'!C720:AI1713,31)=\"x\",'Oman Results'!AK720,\"\"))","v":""},null,null,"","","",""]
["",{"$f":"IF('Oman Results'!C721=\"\",\"\",'Oman Results'!C721)","v":""},{"$f":"IF(OR('Oman Results'!D721=\"\",'Oman Results'!D721=\"Totals\"),\"\",'Oman Results'!D721)","v":""},"",{"$f":"IF('Oman Results'!E721=\"\",\"\",'Oman Results'!E721)","v":""},{"$f":"IF('Oman Results'!F721=\"\",\"\",'Oman Results'!F721)","v":""},{"$f":"IF(B721=\"\",\"\",IF(VLOOKUP(B721,'Oman Results'!C721:AI1714,31)=\"x\",'Oman Results'!AK721,'Oman Results'!G721))","v":""},"",{"$f":"IF(B721=\"\",\"\",IF(VLOOKUP(B721,'Oman Results'!C721:AI1714,31)=\"x\",\"Yes\",\"\"))","v":""},{"$f":"IF(B721=\"\",\"\",IF(VLOOKUP(B721,'Oman Results'!C721:AI1714,31)=\"x\",'Oman Results'!G721,\"\"))","v":""},{"$f":"IF(B721=\"\",\"\",IF(VLOOKUP(B721,'Oman Results'!C721:AI1714,31)=\"x\",'Oman Results'!AJ721,\"\"))","v":""},{"$f":"IF(B721=\"\",\"\",IF(VLOOKUP(B721,'Oman Results'!C721:AI1714,31)=\"x\",'Oman Results'!AK721,\"\"))","v":""},null,null,"","","",""]
["",{"$f":"IF('Oman Results'!C722=\"\",\"\",'Oman Results'!C722)","v":""},{"$f":"IF(OR('Oman Results'!D722=\"\",'Oman Results'!D722=\"Totals\"),\"\",'Oman Results'!D722)","v":""},"",{"$f":"IF('Oman Results'!E722=\"\",\"\",'Oman Results'!E722)","v":""},{"$f":"IF('Oman Results'!F722=\"\",\"\",'Oman Results'!F722)","v":""},{"$f":"IF(B722=\"\",\"\",IF(VLOOKUP(B722,'Oman Results'!C722:AI1715,31)=\"x\",'Oman Results'!AK722,'Oman Results'!G722))","v":""},"",{"$f":"IF(B722=\"\",\"\",IF(VLOOKUP(B722,'Oman Results'!C722:AI1715,31)=\"x\",\"Yes\",\"\"))","v":""},{"$f":"IF(B722=\"\",\"\",IF(VLOOKUP(B722,'Oman Results'!C722:AI1715,31)=\"x\",'Oman Results'!G722,\"\"))","v":""},{"$f":"IF(B722=\"\",\"\",IF(VLOOKUP(B722,'Oman Results'!C722:AI1715,31)=\"x\",'Oman Results'!AJ722,\"\"))","v":""},{"$f":"IF(B722=\"\",\"\",IF(VLOOKUP(B722,'Oman Results'!C722:AI1715,31)=\"x\",'Oman Results'!AK722,\"\"))","v":""},null,null,"","","",""]
["",{"$f":"IF('Oman Results'!C723=\"\",\"\",'Oman Results'!C723)","v":""},{"$f":"IF(OR('Oman Results'!D723=\"\",'Oman Results'!D723=\"Totals\"),\"\",'Oman Results'!D723)","v":""},"",{"$f":"IF('Oman Results'!E723=\"\",\"\",'Oman Results'!E723)","v":""},{"$f":"IF('Oman Results'!F723=\"\",\"\",'Oman Results'!F723)","v":""},{"$f":"IF(B723=\"\",\"\",IF(VLOOKUP(B723,'Oman Results'!C723:AI1716,31)=\"x\",'Oman Results'!AK723,'Oman Results'!G723))","v":""},"",{"$f":"IF(B723=\"\",\"\",IF(VLOOKUP(B723,'Oman Results'!C723:AI1716,31)=\"x\",\"Yes\",\"\"))","v":""},{"$f":"IF(B723=\"\",\"\",IF(VLOOKUP(B723,'Oman Results'!C723:AI1716,31)=\"x\",'Oman Results'!G723,\"\"))","v":""},{"$f":"IF(B723=\"\",\"\",IF(VLOOKUP(B723,'Oman Results'!C723:AI1716,31)=\"x\",'Oman Results'!AJ723,\"\"))","v":""},{"$f":"IF(B723=\"\",\"\",IF(VLOOKUP(B723,'Oman Results'!C723:AI1716,31)=\"x\",'Oman Results'!AK723,\"\"))","v":""},null,null,"","","",""]
["",{"$f":"IF('Oman Results'!C724=\"\",\"\",'Oman Results'!C724)","v":""},{"$f":"IF(OR('Oman Results'!D724=\"\",'Oman Results'!D724=\"Totals\"),\"\",'Oman Results'!D724)","v":""},"",{"$f":"IF('Oman Results'!E724=\"\",\"\",'Oman Results'!E724)","v":""},{"$f":"IF('Oman Results'!F724=\"\",\"\",'Oman Results'!F724)","v":""},{"$f":"IF(B724=\"\",\"\",IF(VLOOKUP(B724,'Oman Results'!C724:AI1717,31)=\"x\",'Oman Results'!AK724,'Oman Results'!G724))","v":""},"",{"$f":"IF(B724=\"\",\"\",IF(VLOOKUP(B724,'Oman Results'!C724:AI1717,31)=\"x\",\"Yes\",\"\"))","v":""},{"$f":"IF(B724=\"\",\"\",IF(VLOOKUP(B724,'Oman Results'!C724:AI1717,31)=\"x\",'Oman Results'!G724,\"\"))","v":""},{"$f":"IF(B724=\"\",\"\",IF(VLOOKUP(B724,'Oman Results'!C724:AI1717,31)=\"x\",'Oman Results'!AJ724,\"\"))","v":""},{"$f":"IF(B724=\"\",\"\",IF(VLOOKUP(B724,'Oman Results'!C724:AI1717,31)=\"x\",'Oman Results'!AK724,\"\"))","v":""},null,null,"","","",""]
["",{"$f":"IF('Oman Results'!C725=\"\",\"\",'Oman Results'!C725)","v":""},{"$f":"IF(OR('Oman Results'!D725=\"\",'Oman Results'!D725=\"Totals\"),\"\",'Oman Results'!D725)","v":""},"",{"$f":"IF('Oman Results'!E725=\"\",\"\",'Oman Results'!E725)","v":""},{"$f":"IF('Oman Results'!F725=\"\",\"\",'Oman Results'!F725)","v":""},{"$f":"IF(B725=\"\",\"\",IF(VLOOKUP(B725,'Oman Results'!C725:AI1718,31)=\"x\",'Oman Results'!AK725,'Oman Results'!G725))","v":""},"",{"$f":"IF(B725=\"\",\"\",IF(VLOOKUP(B725,'Oman Results'!C725:AI1718,31)=\"x\",\"Yes\",\"\"))","v":""},{"$f":"IF(B725=\"\",\"\",IF(VLOOKUP(B725,'Oman Results'!C725:AI1718,31)=\"x\",'Oman Results'!G725,\"\"))","v":""},{"$f":"IF(B725=\"\",\"\",IF(VLOOKUP(B725,'Oman Results'!C725:AI1718,31)=\"x\",'Oman Results'!AJ725,\"\"))","v":""},{"$f":"IF(B725=\"\",\"\",IF(VLOOKUP(B725,'Oman Results'!C725:AI1718,31)=\"x\",'Oman Results'!AK725,\"\"))","v":""},null,null,"","","",""]
["",{"$f":"IF('Oman Results'!C726=\"\",\"\",'Oman Results'!C726)","v":""},{"$f":"IF(OR('Oman Results'!D726=\"\",'Oman Results'!D726=\"Totals\"),\"\",'Oman Results'!D726)","v":""},"",{"$f":"IF('Oman Results'!E726=\"\",\"\",'Oman Results'!E726)","v":""},{"$f":"IF('Oman Results'!F726=\"\",\"\",'Oman Results'!F726)","v":""},{"$f":"IF(B726=\"\",\"\",IF(VLOOKUP(B726,'Oman Results'!C726:AI1719,31)=\"x\",'Oman Results'!AK726,'Oman Results'!G726))","v":""},"",{"$f":"IF(B726=\"\",\"\",IF(VLOOKUP(B726,'Oman Results'!C726:AI1719,31)=\"x\",\"Yes\",\"\"))","v":""},{"$f":"IF(B726=\"\",\"\",IF(VLOOKUP(B726,'Oman Results'!C726:AI1719,31)=\"x\",'Oman Results'!G726,\"\"))","v":""},{"$f":"IF(B726=\"\",\"\",IF(VLOOKUP(B726,'Oman Results'!C726:AI1719,31)=\"x\",'Oman Results'!AJ726,\"\"))","v":""},{"$f":"IF(B726=\"\",\"\",IF(VLOOKUP(B726,'Oman Results'!C726:AI1719,31)=\"x\",'Oman Results'!AK726,\"\"))","v":""},null,null,"","","",""]
["",{"$f":"IF('Oman Results'!C727=\"\",\"\",'Oman Results'!C727)","v":""},{"$f":"IF(OR('Oman Results'!D727=\"\",'Oman Results'!D727=\"Totals\"),\"\",'Oman Results'!D727)","v":""},"",{"$f":"IF('Oman Results'!E727=\"\",\"\",'Oman Results'!E727)","v":""},{"$f":"IF('Oman Results'!F727=\"\",\"\",'Oman Results'!F727)","v":""},{"$f":"IF(B727=\"\",\"\",IF(VLOOKUP(B727,'Oman Results'!C727:AI1720,31)=\"x\",'Oman Results'!AK727,'Oman Results'!G727))","v":""},"",{"$f":"IF(B727=\"\",\"\",IF(VLOOKUP(B727,'Oman Results'!C727:AI1720,31)=\"x\",\"Yes\",\"\"))","v":""},{"$f":"IF(B727=\"\",\"\",IF(VLOOKUP(B727,'Oman Results'!C727:AI1720,31)=\"x\",'Oman Results'!G727,\"\"))","v":""},{"$f":"IF(B727=\"\",\"\",IF(VLOOKUP(B727,'Oman Results'!C727:AI1720,31)=\"x\",'Oman Results'!AJ727,\"\"))","v":""},{"$f":"IF(B727=\"\",\"\",IF(VLOOKUP(B727,'Oman Results'!C727:AI1720,31)=\"x\",'Oman Results'!AK727,\"\"))","v":""},null,null,"","","",""]
["",{"$f":"IF('Oman Results'!C728=\"\",\"\",'Oman Results'!C728)","v":""},{"$f":"IF(OR('Oman Results'!D728=\"\",'Oman Results'!D728=\"Totals\"),\"\",'Oman Results'!D728)","v":""},"",{"$f":"IF('Oman Results'!E728=\"\",\"\",'Oman Results'!E728)","v":""},{"$f":"IF('Oman Results'!F728=\"\",\"\",'Oman Results'!F728)","v":""},{"$f":"IF(B728=\"\",\"\",IF(VLOOKUP(B728,'Oman Results'!C728:AI1721,31)=\"x\",'Oman Results'!AK728,'Oman Results'!G728))","v":""},"",{"$f":"IF(B728=\"\",\"\",IF(VLOOKUP(B728,'Oman Results'!C728:AI1721,31)=\"x\",\"Yes\",\"\"))","v":""},{"$f":"IF(B728=\"\",\"\",IF(VLOOKUP(B728,'Oman Results'!C728:AI1721,31)=\"x\",'Oman Results'!G728,\"\"))","v":""},{"$f":"IF(B728=\"\",\"\",IF(VLOOKUP(B728,'Oman Results'!C728:AI1721,31)=\"x\",'Oman Results'!AJ728,\"\"))","v":""},{"$f":"IF(B728=\"\",\"\",IF(VLOOKUP(B728,'Oman Results'!C728:AI1721,31)=\"x\",'Oman Results'!AK728,\"\"))","v":""},null,null,"","","",""]
["",{"$f":"IF('Oman Results'!C729=\"\",\"\",'Oman Results'!C729)","v":""},{"$f":"IF(OR('Oman Results'!D729=\"\",'Oman Results'!D729=\"Totals\"),\"\",'Oman Results'!D729)","v":""},"",{"$f":"IF('Oman Results'!E729=\"\",\"\",'Oman Results'!E729)","v":""},{"$f":"IF('Oman Results'!F729=\"\",\"\",'Oman Results'!F729)","v":""},{"$f":"IF(B729=\"\",\"\",IF(VLOOKUP(B729,'Oman Results'!C729:AI1722,31)=\"x\",'Oman Results'!AK729,'Oman Results'!G729))","v":""},"",{"$f":"IF(B729=\"\",\"\",IF(VLOOKUP(B729,'Oman Results'!C729:AI1722,31)=\"x\",\"Yes\",\"\"))","v":""},{"$f":"IF(B729=\"\",\"\",IF(VLOOKUP(B729,'Oman Results'!C729:AI1722,31)=\"x\",'Oman Results'!G729,\"\"))","v":""},{"$f":"IF(B729=\"\",\"\",IF(VLOOKUP(B729,'Oman Results'!C729:AI1722,31)=\"x\",'Oman Results'!AJ729,\"\"))","v":""},{"$f":"IF(B729=\"\",\"\",IF(VLOOKUP(B729,'Oman Results'!C729:AI1722,31)=\"x\",'Oman Results'!AK729,\"\"))","v":""},null,null,"","","",""]
["",{"$f":"IF('Oman Results'!C730=\"\",\"\",'Oman Results'!C730)","v":""},{"$f":"IF(OR('Oman Results'!D730=\"\",'Oman Results'!D730=\"Totals\"),\"\",'Oman Results'!D730)","v":""},"",{"$f":"IF('Oman Results'!E730=\"\",\"\",'Oman Results'!E730)","v":""},{"$f":"IF('Oman Results'!F730=\"\",\"\",'Oman Results'!F730)","v":""},{"$f":"IF(B730=\"\",\"\",IF(VLOOKUP(B730,'Oman Results'!C730:AI1723,31)=\"x\",'Oman Results'!AK730,'Oman Results'!G730))","v":""},"",{"$f":"IF(B730=\"\",\"\",IF(VLOOKUP(B730,'Oman Results'!C730:AI1723,31)=\"x\",\"Yes\",\"\"))","v":""},{"$f":"IF(B730=\"\",\"\",IF(VLOOKUP(B730,'Oman Results'!C730:AI1723,31)=\"x\",'Oman Results'!G730,\"\"))","v":""},{"$f":"IF(B730=\"\",\"\",IF(VLOOKUP(B730,'Oman Results'!C730:AI1723,31)=\"x\",'Oman Results'!AJ730,\"\"))","v":""},{"$f":"IF(B730=\"\",\"\",IF(VLOOKUP(B730,'Oman Results'!C730:AI1723,31)=\"x\",'Oman Results'!AK730,\"\"))","v":""},null,null,"","","",""]
["",{"$f":"IF('Oman Results'!C731=\"\",\"\",'Oman Results'!C731)","v":""},{"$f":"IF(OR('Oman Results'!D731=\"\",'Oman Results'!D731=\"Totals\"),\"\",'Oman Results'!D731)","v":""},"",{"$f":"IF('Oman Results'!E731=\"\",\"\",'Oman Results'!E731)","v":""},{"$f":"IF('Oman Results'!F731=\"\",\"\",'Oman Results'!F731)","v":""},{"$f":"IF(B731=\"\",\"\",IF(VLOOKUP(B731,'Oman Results'!C731:AI1724,31)=\"x\",'Oman Results'!AK731,'Oman Results'!G731))","v":""},"",{"$f":"IF(B731=\"\",\"\",IF(VLOOKUP(B731,'Oman Results'!C731:AI1724,31)=\"x\",\"Yes\",\"\"))","v":""},{"$f":"IF(B731=\"\",\"\",IF(VLOOKUP(B731,'Oman Results'!C731:AI1724,31)=\"x\",'Oman Results'!G731,\"\"))","v":""},{"$f":"IF(B731=\"\",\"\",IF(VLOOKUP(B731,'Oman Results'!C731:AI1724,31)=\"x\",'Oman Results'!AJ731,\"\"))","v":""},{"$f":"IF(B731=\"\",\"\",IF(VLOOKUP(B731,'Oman Results'!C731:AI1724,31)=\"x\",'Oman Results'!AK731,\"\"))","v":""},null,null,"","","",""]
["",{"$f":"IF('Oman Results'!C732=\"\",\"\",'Oman Results'!C732)","v":""},{"$f":"IF(OR('Oman Results'!D732=\"\",'Oman Results'!D732=\"Totals\"),\"\",'Oman Results'!D732)","v":""},"",{"$f":"IF('Oman Results'!E732=\"\",\"\",'Oman Results'!E732)","v":""},{"$f":"IF('Oman Results'!F732=\"\",\"\",'Oman Results'!F732)","v":""},{"$f":"IF(B732=\"\",\"\",IF(VLOOKUP(B732,'Oman Results'!C732:AI1725,31)=\"x\",'Oman Results'!AK732,'Oman Results'!G732))","v":""},"",{"$f":"IF(B732=\"\",\"\",IF(VLOOKUP(B732,'Oman Results'!C732:AI1725,31)=\"x\",\"Yes\",\"\"))","v":""},{"$f":"IF(B732=\"\",\"\",IF(VLOOKUP(B732,'Oman Results'!C732:AI1725,31)=\"x\",'Oman Results'!G732,\"\"))","v":""},{"$f":"IF(B732=\"\",\"\",IF(VLOOKUP(B732,'Oman Results'!C732:AI1725,31)=\"x\",'Oman Results'!AJ732,\"\"))","v":""},{"$f":"IF(B732=\"\",\"\",IF(VLOOKUP(B732,'Oman Results'!C732:AI1725,31)=\"x\",'Oman Results'!AK732,\"\"))","v":""},null,null,"","","",""]
["",{"$f":"IF('Oman Results'!C733=\"\",\"\",'Oman Results'!C733)","v":""},{"$f":"IF(OR('Oman Results'!D733=\"\",'Oman Results'!D733=\"Totals\"),\"\",'Oman Results'!D733)","v":""},"",{"$f":"IF('Oman Results'!E733=\"\",\"\",'Oman Results'!E733)","v":""},{"$f":"IF('Oman Results'!F733=\"\",\"\",'Oman Results'!F733)","v":""},{"$f":"IF(B733=\"\",\"\",IF(VLOOKUP(B733,'Oman Results'!C733:AI1726,31)=\"x\",'Oman Results'!AK733,'Oman Results'!G733))","v":""},"",{"$f":"IF(B733=\"\",\"\",IF(VLOOKUP(B733,'Oman Results'!C733:AI1726,31)=\"x\",\"Yes\",\"\"))","v":""},{"$f":"IF(B733=\"\",\"\",IF(VLOOKUP(B733,'Oman Results'!C733:AI1726,31)=\"x\",'Oman Results'!G733,\"\"))","v":""},{"$f":"IF(B733=\"\",\"\",IF(VLOOKUP(B733,'Oman Results'!C733:AI1726,31)=\"x\",'Oman Results'!AJ733,\"\"))","v":""},{"$f":"IF(B733=\"\",\"\",IF(VLOOKUP(B733,'Oman Results'!C733:AI1726,31)=\"x\",'Oman Results'!AK733,\"\"))","v":""},null,null,"","","",""]
["",{"$f":"IF('Oman Results'!C734=\"\",\"\",'Oman Results'!C734)","v":""},{"$f":"IF(OR('Oman Results'!D734=\"\",'Oman Results'!D734=\"Totals\"),\"\",'Oman Results'!D734)","v":""},"",{"$f":"IF('Oman Results'!E734=\"\",\"\",'Oman Results'!E734)","v":""},{"$f":"IF('Oman Results'!F734=\"\",\"\",'Oman Results'!F734)","v":""},{"$f":"IF(B734=\"\",\"\",IF(VLOOKUP(B734,'Oman Results'!C734:AI1727,31)=\"x\",'Oman Results'!AK734,'Oman Results'!G734))","v":""},"",{"$f":"IF(B734=\"\",\"\",IF(VLOOKUP(B734,'Oman Results'!C734:AI1727,31)=\"x\",\"Yes\",\"\"))","v":""},{"$f":"IF(B734=\"\",\"\",IF(VLOOKUP(B734,'Oman Results'!C734:AI1727,31)=\"x\",'Oman Results'!G734,\"\"))","v":""},{"$f":"IF(B734=\"\",\"\",IF(VLOOKUP(B734,'Oman Results'!C734:AI1727,31)=\"x\",'Oman Results'!AJ734,\"\"))","v":""},{"$f":"IF(B734=\"\",\"\",IF(VLOOKUP(B734,'Oman Results'!C734:AI1727,31)=\"x\",'Oman Results'!AK734,\"\"))","v":""},null,null,"","","",""]
["",{"$f":"IF('Oman Results'!C735=\"\",\"\",'Oman Results'!C735)","v":""},{"$f":"IF(OR('Oman Results'!D735=\"\",'Oman Results'!D735=\"Totals\"),\"\",'Oman Results'!D735)","v":""},"",{"$f":"IF('Oman Results'!E735=\"\",\"\",'Oman Results'!E735)","v":""},{"$f":"IF('Oman Results'!F735=\"\",\"\",'Oman Results'!F735)","v":""},{"$f":"IF(B735=\"\",\"\",IF(VLOOKUP(B735,'Oman Results'!C735:AI1728,31)=\"x\",'Oman Results'!AK735,'Oman Results'!G735))","v":""},"",{"$f":"IF(B735=\"\",\"\",IF(VLOOKUP(B735,'Oman Results'!C735:AI1728,31)=\"x\",\"Yes\",\"\"))","v":""},{"$f":"IF(B735=\"\",\"\",IF(VLOOKUP(B735,'Oman Results'!C735:AI1728,31)=\"x\",'Oman Results'!G735,\"\"))","v":""},{"$f":"IF(B735=\"\",\"\",IF(VLOOKUP(B735,'Oman Results'!C735:AI1728,31)=\"x\",'Oman Results'!AJ735,\"\"))","v":""},{"$f":"IF(B735=\"\",\"\",IF(VLOOKUP(B735,'Oman Results'!C735:AI1728,31)=\"x\",'Oman Results'!AK735,\"\"))","v":""},null,null,"","","",""]
["",{"$f":"IF('Oman Results'!C736=\"\",\"\",'Oman Results'!C736)","v":""},{"$f":"IF(OR('Oman Results'!D736=\"\",'Oman Results'!D736=\"Totals\"),\"\",'Oman Results'!D736)","v":""},"",{"$f":"IF('Oman Results'!E736=\"\",\"\",'Oman Results'!E736)","v":""},{"$f":"IF('Oman Results'!F736=\"\",\"\",'Oman Results'!F736)","v":""},{"$f":"IF(B736=\"\",\"\",IF(VLOOKUP(B736,'Oman Results'!C736:AI1729,31)=\"x\",'Oman Results'!AK736,'Oman Results'!G736))","v":""},"",{"$f":"IF(B736=\"\",\"\",IF(VLOOKUP(B736,'Oman Results'!C736:AI1729,31)=\"x\",\"Yes\",\"\"))","v":""},{"$f":"IF(B736=\"\",\"\",IF(VLOOKUP(B736,'Oman Results'!C736:AI1729,31)=\"x\",'Oman Results'!G736,\"\"))","v":""},{"$f":"IF(B736=\"\",\"\",IF(VLOOKUP(B736,'Oman Results'!C736:AI1729,31)=\"x\",'Oman Results'!AJ736,\"\"))","v":""},{"$f":"IF(B736=\"\",\"\",IF(VLOOKUP(B736,'Oman Results'!C736:AI1729,31)=\"x\",'Oman Results'!AK736,\"\"))","v":""},null,null,"","","",""]
["",{"$f":"IF('Oman Results'!C737=\"\",\"\",'Oman Results'!C737)","v":""},{"$f":"IF(OR('Oman Results'!D737=\"\",'Oman Results'!D737=\"Totals\"),\"\",'Oman Results'!D737)","v":""},"",{"$f":"IF('Oman Results'!E737=\"\",\"\",'Oman Results'!E737)","v":""},{"$f":"IF('Oman Results'!F737=\"\",\"\",'Oman Results'!F737)","v":""},{"$f":"IF(B737=\"\",\"\",IF(VLOOKUP(B737,'Oman Results'!C737:AI1730,31)=\"x\",'Oman Results'!AK737,'Oman Results'!G737))","v":""},"",{"$f":"IF(B737=\"\",\"\",IF(VLOOKUP(B737,'Oman Results'!C737:AI1730,31)=\"x\",\"Yes\",\"\"))","v":""},{"$f":"IF(B737=\"\",\"\",IF(VLOOKUP(B737,'Oman Results'!C737:AI1730,31)=\"x\",'Oman Results'!G737,\"\"))","v":""},{"$f":"IF(B737=\"\",\"\",IF(VLOOKUP(B737,'Oman Results'!C737:AI1730,31)=\"x\",'Oman Results'!AJ737,\"\"))","v":""},{"$f":"IF(B737=\"\",\"\",IF(VLOOKUP(B737,'Oman Results'!C737:AI1730,31)=\"x\",'Oman Results'!AK737,\"\"))","v":""},null,null,"","","",""]
["",{"$f":"IF('Oman Results'!C738=\"\",\"\",'Oman Results'!C738)","v":""},{"$f":"IF(OR('Oman Results'!D738=\"\",'Oman Results'!D738=\"Totals\"),\"\",'Oman Results'!D738)","v":""},"",{"$f":"IF('Oman Results'!E738=\"\",\"\",'Oman Results'!E738)","v":""},{"$f":"IF('Oman Results'!F738=\"\",\"\",'Oman Results'!F738)","v":""},{"$f":"IF(B738=\"\",\"\",IF(VLOOKUP(B738,'Oman Results'!C738:AI1731,31)=\"x\",'Oman Results'!AK738,'Oman Results'!G738))","v":""},"",{"$f":"IF(B738=\"\",\"\",IF(VLOOKUP(B738,'Oman Results'!C738:AI1731,31)=\"x\",\"Yes\",\"\"))","v":""},{"$f":"IF(B738=\"\",\"\",IF(VLOOKUP(B738,'Oman Results'!C738:AI1731,31)=\"x\",'Oman Results'!G738,\"\"))","v":""},{"$f":"IF(B738=\"\",\"\",IF(VLOOKUP(B738,'Oman Results'!C738:AI1731,31)=\"x\",'Oman Results'!AJ738,\"\"))","v":""},{"$f":"IF(B738=\"\",\"\",IF(VLOOKUP(B738,'Oman Results'!C738:AI1731,31)=\"x\",'Oman Results'!AK738,\"\"))","v":""},null,null,"","","",""]
["",{"$f":"IF('Oman Results'!C739=\"\",\"\",'Oman Results'!C739)","v":""},{"$f":"IF(OR('Oman Results'!D739=\"\",'Oman Results'!D739=\"Totals\"),\"\",'Oman Results'!D739)","v":""},"",{"$f":"IF('Oman Results'!E739=\"\",\"\",'Oman Results'!E739)","v":""},{"$f":"IF('Oman Results'!F739=\"\",\"\",'Oman Results'!F739)","v":""},{"$f":"IF(B739=\"\",\"\",IF(VLOOKUP(B739,'Oman Results'!C739:AI1732,31)=\"x\",'Oman Results'!AK739,'Oman Results'!G739))","v":""},"",{"$f":"IF(B739=\"\",\"\",IF(VLOOKUP(B739,'Oman Results'!C739:AI1732,31)=\"x\",\"Yes\",\"\"))","v":""},{"$f":"IF(B739=\"\",\"\",IF(VLOOKUP(B739,'Oman Results'!C739:AI1732,31)=\"x\",'Oman Results'!G739,\"\"))","v":""},{"$f":"IF(B739=\"\",\"\",IF(VLOOKUP(B739,'Oman Results'!C739:AI1732,31)=\"x\",'Oman Results'!AJ739,\"\"))","v":""},{"$f":"IF(B739=\"\",\"\",IF(VLOOKUP(B739,'Oman Results'!C739:AI1732,31)=\"x\",'Oman Results'!AK739,\"\"))","v":""},null,null,"","","",""]
["",{"$f":"IF('Oman Results'!C740=\"\",\"\",'Oman Results'!C740)","v":""},{"$f":"IF(OR('Oman Results'!D740=\"\",'Oman Results'!D740=\"Totals\"),\"\",'Oman Results'!D740)","v":""},"",{"$f":"IF('Oman Results'!E740=\"\",\"\",'Oman Results'!E740)","v":""},{"$f":"IF('Oman Results'!F740=\"\",\"\",'Oman Results'!F740)","v":""},{"$f":"IF(B740=\"\",\"\",IF(VLOOKUP(B740,'Oman Results'!C740:AI1733,31)=\"x\",'Oman Results'!AK740,'Oman Results'!G740))","v":""},"",{"$f":"IF(B740=\"\",\"\",IF(VLOOKUP(B740,'Oman Results'!C740:AI1733,31)=\"x\",\"Yes\",\"\"))","v":""},{"$f":"IF(B740=\"\",\"\",IF(VLOOKUP(B740,'Oman Results'!C740:AI1733,31)=\"x\",'Oman Results'!G740,\"\"))","v":""},{"$f":"IF(B740=\"\",\"\",IF(VLOOKUP(B740,'Oman Results'!C740:AI1733,31)=\"x\",'Oman Results'!AJ740,\"\"))","v":""},{"$f":"IF(B740=\"\",\"\",IF(VLOOKUP(B740,'Oman Results'!C740:AI1733,31)=\"x\",'Oman Results'!AK740,\"\"))","v":""},null,null,"","","",""]
["",{"$f":"IF('Oman Results'!C741=\"\",\"\",'Oman Results'!C741)","v":""},{"$f":"IF(OR('Oman Results'!D741=\"\",'Oman Results'!D741=\"Totals\"),\"\",'Oman Results'!D741)","v":""},"",{"$f":"IF('Oman Results'!E741=\"\",\"\",'Oman Results'!E741)","v":""},{"$f":"IF('Oman Results'!F741=\"\",\"\",'Oman Results'!F741)","v":""},{"$f":"IF(B741=\"\",\"\",IF(VLOOKUP(B741,'Oman Results'!C741:AI1734,31)=\"x\",'Oman Results'!AK741,'Oman Results'!G741))","v":""},"",{"$f":"IF(B741=\"\",\"\",IF(VLOOKUP(B741,'Oman Results'!C741:AI1734,31)=\"x\",\"Yes\",\"\"))","v":""},{"$f":"IF(B741=\"\",\"\",IF(VLOOKUP(B741,'Oman Results'!C741:AI1734,31)=\"x\",'Oman Results'!G741,\"\"))","v":""},{"$f":"IF(B741=\"\",\"\",IF(VLOOKUP(B741,'Oman Results'!C741:AI1734,31)=\"x\",'Oman Results'!AJ741,\"\"))","v":""},{"$f":"IF(B741=\"\",\"\",IF(VLOOKUP(B741,'Oman Results'!C741:AI1734,31)=\"x\",'Oman Results'!AK741,\"\"))","v":""},null,null,"","","",""]
["",{"$f":"IF('Oman Results'!C742=\"\",\"\",'Oman Results'!C742)","v":""},{"$f":"IF(OR('Oman Results'!D742=\"\",'Oman Results'!D742=\"Totals\"),\"\",'Oman Results'!D742)","v":""},"",{"$f":"IF('Oman Results'!E742=\"\",\"\",'Oman Results'!E742)","v":""},{"$f":"IF('Oman Results'!F742=\"\",\"\",'Oman Results'!F742)","v":""},{"$f":"IF(B742=\"\",\"\",IF(VLOOKUP(B742,'Oman Results'!C742:AI1735,31)=\"x\",'Oman Results'!AK742,'Oman Results'!G742))","v":""},"",{"$f":"IF(B742=\"\",\"\",IF(VLOOKUP(B742,'Oman Results'!C742:AI1735,31)=\"x\",\"Yes\",\"\"))","v":""},{"$f":"IF(B742=\"\",\"\",IF(VLOOKUP(B742,'Oman Results'!C742:AI1735,31)=\"x\",'Oman Results'!G742,\"\"))","v":""},{"$f":"IF(B742=\"\",\"\",IF(VLOOKUP(B742,'Oman Results'!C742:AI1735,31)=\"x\",'Oman Results'!AJ742,\"\"))","v":""},{"$f":"IF(B742=\"\",\"\",IF(VLOOKUP(B742,'Oman Results'!C742:AI1735,31)=\"x\",'Oman Results'!AK742,\"\"))","v":""},null,null,"","","",""]
["",{"$f":"IF('Oman Results'!C743=\"\",\"\",'Oman Results'!C743)","v":""},{"$f":"IF(OR('Oman Results'!D743=\"\",'Oman Results'!D743=\"Totals\"),\"\",'Oman Results'!D743)","v":""},"",{"$f":"IF('Oman Results'!E743=\"\",\"\",'Oman Results'!E743)","v":""},{"$f":"IF('Oman Results'!F743=\"\",\"\",'Oman Results'!F743)","v":""},{"$f":"IF(B743=\"\",\"\",IF(VLOOKUP(B743,'Oman Results'!C743:AI1736,31)=\"x\",'Oman Results'!AK743,'Oman Results'!G743))","v":""},"",{"$f":"IF(B743=\"\",\"\",IF(VLOOKUP(B743,'Oman Results'!C743:AI1736,31)=\"x\",\"Yes\",\"\"))","v":""},{"$f":"IF(B743=\"\",\"\",IF(VLOOKUP(B743,'Oman Results'!C743:AI1736,31)=\"x\",'Oman Results'!G743,\"\"))","v":""},{"$f":"IF(B743=\"\",\"\",IF(VLOOKUP(B743,'Oman Results'!C743:AI1736,31)=\"x\",'Oman Results'!AJ743,\"\"))","v":""},{"$f":"IF(B743=\"\",\"\",IF(VLOOKUP(B743,'Oman Results'!C743:AI1736,31)=\"x\",'Oman Results'!AK743,\"\"))","v":""},null,null,"","","",""]
["",{"$f":"IF('Oman Results'!C744=\"\",\"\",'Oman Results'!C744)","v":""},{"$f":"IF(OR('Oman Results'!D744=\"\",'Oman Results'!D744=\"Totals\"),\"\",'Oman Results'!D744)","v":""},"",{"$f":"IF('Oman Results'!E744=\"\",\"\",'Oman Results'!E744)","v":""},{"$f":"IF('Oman Results'!F744=\"\",\"\",'Oman Results'!F744)","v":""},{"$f":"IF(B744=\"\",\"\",IF(VLOOKUP(B744,'Oman Results'!C744:AI1737,31)=\"x\",'Oman Results'!AK744,'Oman Results'!G744))","v":""},"",{"$f":"IF(B744=\"\",\"\",IF(VLOOKUP(B744,'Oman Results'!C744:AI1737,31)=\"x\",\"Yes\",\"\"))","v":""},{"$f":"IF(B744=\"\",\"\",IF(VLOOKUP(B744,'Oman Results'!C744:AI1737,31)=\"x\",'Oman Results'!G744,\"\"))","v":""},{"$f":"IF(B744=\"\",\"\",IF(VLOOKUP(B744,'Oman Results'!C744:AI1737,31)=\"x\",'Oman Results'!AJ744,\"\"))","v":""},{"$f":"IF(B744=\"\",\"\",IF(VLOOKUP(B744,'Oman Results'!C744:AI1737,31)=\"x\",'Oman Results'!AK744,\"\"))","v":""},null,null,"","","",""]
["",{"$f":"IF('Oman Results'!C745=\"\",\"\",'Oman Results'!C745)","v":""},{"$f":"IF(OR('Oman Results'!D745=\"\",'Oman Results'!D745=\"Totals\"),\"\",'Oman Results'!D745)","v":""},"",{"$f":"IF('Oman Results'!E745=\"\",\"\",'Oman Results'!E745)","v":""},{"$f":"IF('Oman Results'!F745=\"\",\"\",'Oman Results'!F745)","v":""},{"$f":"IF(B745=\"\",\"\",IF(VLOOKUP(B745,'Oman Results'!C745:AI1738,31)=\"x\",'Oman Results'!AK745,'Oman Results'!G745))","v":""},"",{"$f":"IF(B745=\"\",\"\",IF(VLOOKUP(B745,'Oman Results'!C745:AI1738,31)=\"x\",\"Yes\",\"\"))","v":""},{"$f":"IF(B745=\"\",\"\",IF(VLOOKUP(B745,'Oman Results'!C745:AI1738,31)=\"x\",'Oman Results'!G745,\"\"))","v":""},{"$f":"IF(B745=\"\",\"\",IF(VLOOKUP(B745,'Oman Results'!C745:AI1738,31)=\"x\",'Oman Results'!AJ745,\"\"))","v":""},{"$f":"IF(B745=\"\",\"\",IF(VLOOKUP(B745,'Oman Results'!C745:AI1738,31)=\"x\",'Oman Results'!AK745,\"\"))","v":""},null,null,"","","",""]
["",{"$f":"IF('Oman Results'!C746=\"\",\"\",'Oman Results'!C746)","v":""},{"$f":"IF(OR('Oman Results'!D746=\"\",'Oman Results'!D746=\"Totals\"),\"\",'Oman Results'!D746)","v":""},"",{"$f":"IF('Oman Results'!E746=\"\",\"\",'Oman Results'!E746)","v":""},{"$f":"IF('Oman Results'!F746=\"\",\"\",'Oman Results'!F746)","v":""},{"$f":"IF(B746=\"\",\"\",IF(VLOOKUP(B746,'Oman Results'!C746:AI1739,31)=\"x\",'Oman Results'!AK746,'Oman Results'!G746))","v":""},"",{"$f":"IF(B746=\"\",\"\",IF(VLOOKUP(B746,'Oman Results'!C746:AI1739,31)=\"x\",\"Yes\",\"\"))","v":""},{"$f":"IF(B746=\"\",\"\",IF(VLOOKUP(B746,'Oman Results'!C746:AI1739,31)=\"x\",'Oman Results'!G746,\"\"))","v":""},{"$f":"IF(B746=\"\",\"\",IF(VLOOKUP(B746,'Oman Results'!C746:AI1739,31)=\"x\",'Oman Results'!AJ746,\"\"))","v":""},{"$f":"IF(B746=\"\",\"\",IF(VLOOKUP(B746,'Oman Results'!C746:AI1739,31)=\"x\",'Oman Results'!AK746,\"\"))","v":""},null,null,"","","",""]
["",{"$f":"IF('Oman Results'!C747=\"\",\"\",'Oman Results'!C747)","v":""},{"$f":"IF(OR('Oman Results'!D747=\"\",'Oman Results'!D747=\"Totals\"),\"\",'Oman Results'!D747)","v":""},"",{"$f":"IF('Oman Results'!E747=\"\",\"\",'Oman Results'!E747)","v":""},{"$f":"IF('Oman Results'!F747=\"\",\"\",'Oman Results'!F747)","v":""},{"$f":"IF(B747=\"\",\"\",IF(VLOOKUP(B747,'Oman Results'!C747:AI1740,31)=\"x\",'Oman Results'!AK747,'Oman Results'!G747))","v":""},"",{"$f":"IF(B747=\"\",\"\",IF(VLOOKUP(B747,'Oman Results'!C747:AI1740,31)=\"x\",\"Yes\",\"\"))","v":""},{"$f":"IF(B747=\"\",\"\",IF(VLOOKUP(B747,'Oman Results'!C747:AI1740,31)=\"x\",'Oman Results'!G747,\"\"))","v":""},{"$f":"IF(B747=\"\",\"\",IF(VLOOKUP(B747,'Oman Results'!C747:AI1740,31)=\"x\",'Oman Results'!AJ747,\"\"))","v":""},{"$f":"IF(B747=\"\",\"\",IF(VLOOKUP(B747,'Oman Results'!C747:AI1740,31)=\"x\",'Oman Results'!AK747,\"\"))","v":""},null,null,"","","",""]
["",{"$f":"IF('Oman Results'!C748=\"\",\"\",'Oman Results'!C748)","v":""},{"$f":"IF(OR('Oman Results'!D748=\"\",'Oman Results'!D748=\"Totals\"),\"\",'Oman Results'!D748)","v":""},"",{"$f":"IF('Oman Results'!E748=\"\",\"\",'Oman Results'!E748)","v":""},{"$f":"IF('Oman Results'!F748=\"\",\"\",'Oman Results'!F748)","v":""},{"$f":"IF(B748=\"\",\"\",IF(VLOOKUP(B748,'Oman Results'!C748:AI1741,31)=\"x\",'Oman Results'!AK748,'Oman Results'!G748))","v":""},"",{"$f":"IF(B748=\"\",\"\",IF(VLOOKUP(B748,'Oman Results'!C748:AI1741,31)=\"x\",\"Yes\",\"\"))","v":""},{"$f":"IF(B748=\"\",\"\",IF(VLOOKUP(B748,'Oman Results'!C748:AI1741,31)=\"x\",'Oman Results'!G748,\"\"))","v":""},{"$f":"IF(B748=\"\",\"\",IF(VLOOKUP(B748,'Oman Results'!C748:AI1741,31)=\"x\",'Oman Results'!AJ748,\"\"))","v":""},{"$f":"IF(B748=\"\",\"\",IF(VLOOKUP(B748,'Oman Results'!C748:AI1741,31)=\"x\",'Oman Results'!AK748,\"\"))","v":""},null,null,"","","",""]
["",{"$f":"IF('Oman Results'!C749=\"\",\"\",'Oman Results'!C749)","v":""},{"$f":"IF(OR('Oman Results'!D749=\"\",'Oman Results'!D749=\"Totals\"),\"\",'Oman Results'!D749)","v":""},"",{"$f":"IF('Oman Results'!E749=\"\",\"\",'Oman Results'!E749)","v":""},{"$f":"IF('Oman Results'!F749=\"\",\"\",'Oman Results'!F749)","v":""},{"$f":"IF(B749=\"\",\"\",IF(VLOOKUP(B749,'Oman Results'!C749:AI1742,31)=\"x\",'Oman Results'!AK749,'Oman Results'!G749))","v":""},"",{"$f":"IF(B749=\"\",\"\",IF(VLOOKUP(B749,'Oman Results'!C749:AI1742,31)=\"x\",\"Yes\",\"\"))","v":""},{"$f":"IF(B749=\"\",\"\",IF(VLOOKUP(B749,'Oman Results'!C749:AI1742,31)=\"x\",'Oman Results'!G749,\"\"))","v":""},{"$f":"IF(B749=\"\",\"\",IF(VLOOKUP(B749,'Oman Results'!C749:AI1742,31)=\"x\",'Oman Results'!AJ749,\"\"))","v":""},{"$f":"IF(B749=\"\",\"\",IF(VLOOKUP(B749,'Oman Results'!C749:AI1742,31)=\"x\",'Oman Results'!AK749,\"\"))","v":""},null,null,"","","",""]
["",{"$f":"IF('Oman Results'!C750=\"\",\"\",'Oman Results'!C750)","v":""},{"$f":"IF(OR('Oman Results'!D750=\"\",'Oman Results'!D750=\"Totals\"),\"\",'Oman Results'!D750)","v":""},"",{"$f":"IF('Oman Results'!E750=\"\",\"\",'Oman Results'!E750)","v":""},{"$f":"IF('Oman Results'!F750=\"\",\"\",'Oman Results'!F750)","v":""},{"$f":"IF(B750=\"\",\"\",IF(VLOOKUP(B750,'Oman Results'!C750:AI1743,31)=\"x\",'Oman Results'!AK750,'Oman Results'!G750))","v":""},"",{"$f":"IF(B750=\"\",\"\",IF(VLOOKUP(B750,'Oman Results'!C750:AI1743,31)=\"x\",\"Yes\",\"\"))","v":""},{"$f":"IF(B750=\"\",\"\",IF(VLOOKUP(B750,'Oman Results'!C750:AI1743,31)=\"x\",'Oman Results'!G750,\"\"))","v":""},{"$f":"IF(B750=\"\",\"\",IF(VLOOKUP(B750,'Oman Results'!C750:AI1743,31)=\"x\",'Oman Results'!AJ750,\"\"))","v":""},{"$f":"IF(B750=\"\",\"\",IF(VLOOKUP(B750,'Oman Results'!C750:AI1743,31)=\"x\",'Oman Results'!AK750,\"\"))","v":""},null,null,"","","",""]
["",{"$f":"IF('Oman Results'!C751=\"\",\"\",'Oman Results'!C751)","v":""},{"$f":"IF(OR('Oman Results'!D751=\"\",'Oman Results'!D751=\"Totals\"),\"\",'Oman Results'!D751)","v":""},"",{"$f":"IF('Oman Results'!E751=\"\",\"\",'Oman Results'!E751)","v":""},{"$f":"IF('Oman Results'!F751=\"\",\"\",'Oman Results'!F751)","v":""},{"$f":"IF(B751=\"\",\"\",IF(VLOOKUP(B751,'Oman Results'!C751:AI1744,31)=\"x\",'Oman Results'!AK751,'Oman Results'!G751))","v":""},"",{"$f":"IF(B751=\"\",\"\",IF(VLOOKUP(B751,'Oman Results'!C751:AI1744,31)=\"x\",\"Yes\",\"\"))","v":""},{"$f":"IF(B751=\"\",\"\",IF(VLOOKUP(B751,'Oman Results'!C751:AI1744,31)=\"x\",'Oman Results'!G751,\"\"))","v":""},{"$f":"IF(B751=\"\",\"\",IF(VLOOKUP(B751,'Oman Results'!C751:AI1744,31)=\"x\",'Oman Results'!AJ751,\"\"))","v":""},{"$f":"IF(B751=\"\",\"\",IF(VLOOKUP(B751,'Oman Results'!C751:AI1744,31)=\"x\",'Oman Results'!AK751,\"\"))","v":""},null,null,"","","",""]
["",{"$f":"IF('Oman Results'!C752=\"\",\"\",'Oman Results'!C752)","v":""},{"$f":"IF(OR('Oman Results'!D752=\"\",'Oman Results'!D752=\"Totals\"),\"\",'Oman Results'!D752)","v":""},"",{"$f":"IF('Oman Results'!E752=\"\",\"\",'Oman Results'!E752)","v":""},{"$f":"IF('Oman Results'!F752=\"\",\"\",'Oman Results'!F752)","v":""},{"$f":"IF(B752=\"\",\"\",IF(VLOOKUP(B752,'Oman Results'!C752:AI1745,31)=\"x\",'Oman Results'!AK752,'Oman Results'!G752))","v":""},"",{"$f":"IF(B752=\"\",\"\",IF(VLOOKUP(B752,'Oman Results'!C752:AI1745,31)=\"x\",\"Yes\",\"\"))","v":""},{"$f":"IF(B752=\"\",\"\",IF(VLOOKUP(B752,'Oman Results'!C752:AI1745,31)=\"x\",'Oman Results'!G752,\"\"))","v":""},{"$f":"IF(B752=\"\",\"\",IF(VLOOKUP(B752,'Oman Results'!C752:AI1745,31)=\"x\",'Oman Results'!AJ752,\"\"))","v":""},{"$f":"IF(B752=\"\",\"\",IF(VLOOKUP(B752,'Oman Results'!C752:AI1745,31)=\"x\",'Oman Results'!AK752,\"\"))","v":""},null,null,"","","",""]
["",{"$f":"IF('Oman Results'!C753=\"\",\"\",'Oman Results'!C753)","v":""},{"$f":"IF(OR('Oman Results'!D753=\"\",'Oman Results'!D753=\"Totals\"),\"\",'Oman Results'!D753)","v":""},"",{"$f":"IF('Oman Results'!E753=\"\",\"\",'Oman Results'!E753)","v":""},{"$f":"IF('Oman Results'!F753=\"\",\"\",'Oman Results'!F753)","v":""},{"$f":"IF(B753=\"\",\"\",IF(VLOOKUP(B753,'Oman Results'!C753:AI1746,31)=\"x\",'Oman Results'!AK753,'Oman Results'!G753))","v":""},"",{"$f":"IF(B753=\"\",\"\",IF(VLOOKUP(B753,'Oman Results'!C753:AI1746,31)=\"x\",\"Yes\",\"\"))","v":""},{"$f":"IF(B753=\"\",\"\",IF(VLOOKUP(B753,'Oman Results'!C753:AI1746,31)=\"x\",'Oman Results'!G753,\"\"))","v":""},{"$f":"IF(B753=\"\",\"\",IF(VLOOKUP(B753,'Oman Results'!C753:AI1746,31)=\"x\",'Oman Results'!AJ753,\"\"))","v":""},{"$f":"IF(B753=\"\",\"\",IF(VLOOKUP(B753,'Oman Results'!C753:AI1746,31)=\"x\",'Oman Results'!AK753,\"\"))","v":""},null,null,"","","",""]
["",{"$f":"IF('Oman Results'!C754=\"\",\"\",'Oman Results'!C754)","v":""},{"$f":"IF(OR('Oman Results'!D754=\"\",'Oman Results'!D754=\"Totals\"),\"\",'Oman Results'!D754)","v":""},"",{"$f":"IF('Oman Results'!E754=\"\",\"\",'Oman Results'!E754)","v":""},{"$f":"IF('Oman Results'!F754=\"\",\"\",'Oman Results'!F754)","v":""},{"$f":"IF(B754=\"\",\"\",IF(VLOOKUP(B754,'Oman Results'!C754:AI1747,31)=\"x\",'Oman Results'!AK754,'Oman Results'!G754))","v":""},"",{"$f":"IF(B754=\"\",\"\",IF(VLOOKUP(B754,'Oman Results'!C754:AI1747,31)=\"x\",\"Yes\",\"\"))","v":""},{"$f":"IF(B754=\"\",\"\",IF(VLOOKUP(B754,'Oman Results'!C754:AI1747,31)=\"x\",'Oman Results'!G754,\"\"))","v":""},{"$f":"IF(B754=\"\",\"\",IF(VLOOKUP(B754,'Oman Results'!C754:AI1747,31)=\"x\",'Oman Results'!AJ754,\"\"))","v":""},{"$f":"IF(B754=\"\",\"\",IF(VLOOKUP(B754,'Oman Results'!C754:AI1747,31)=\"x\",'Oman Results'!AK754,\"\"))","v":""},null,null,"","","",""]
["",{"$f":"IF('Oman Results'!C755=\"\",\"\",'Oman Results'!C755)","v":""},{"$f":"IF(OR('Oman Results'!D755=\"\",'Oman Results'!D755=\"Totals\"),\"\",'Oman Results'!D755)","v":""},"",{"$f":"IF('Oman Results'!E755=\"\",\"\",'Oman Results'!E755)","v":""},{"$f":"IF('Oman Results'!F755=\"\",\"\",'Oman Results'!F755)","v":""},{"$f":"IF(B755=\"\",\"\",IF(VLOOKUP(B755,'Oman Results'!C755:AI1748,31)=\"x\",'Oman Results'!AK755,'Oman Results'!G755))","v":""},"",{"$f":"IF(B755=\"\",\"\",IF(VLOOKUP(B755,'Oman Results'!C755:AI1748,31)=\"x\",\"Yes\",\"\"))","v":""},{"$f":"IF(B755=\"\",\"\",IF(VLOOKUP(B755,'Oman Results'!C755:AI1748,31)=\"x\",'Oman Results'!G755,\"\"))","v":""},{"$f":"IF(B755=\"\",\"\",IF(VLOOKUP(B755,'Oman Results'!C755:AI1748,31)=\"x\",'Oman Results'!AJ755,\"\"))","v":""},{"$f":"IF(B755=\"\",\"\",IF(VLOOKUP(B755,'Oman Results'!C755:AI1748,31)=\"x\",'Oman Results'!AK755,\"\"))","v":""},null,null,"","","",""]
["",{"$f":"IF('Oman Results'!C756=\"\",\"\",'Oman Results'!C756)","v":""},{"$f":"IF(OR('Oman Results'!D756=\"\",'Oman Results'!D756=\"Totals\"),\"\",'Oman Results'!D756)","v":""},"",{"$f":"IF('Oman Results'!E756=\"\",\"\",'Oman Results'!E756)","v":""},{"$f":"IF('Oman Results'!F756=\"\",\"\",'Oman Results'!F756)","v":""},{"$f":"IF(B756=\"\",\"\",IF(VLOOKUP(B756,'Oman Results'!C756:AI1749,31)=\"x\",'Oman Results'!AK756,'Oman Results'!G756))","v":""},"",{"$f":"IF(B756=\"\",\"\",IF(VLOOKUP(B756,'Oman Results'!C756:AI1749,31)=\"x\",\"Yes\",\"\"))","v":""},{"$f":"IF(B756=\"\",\"\",IF(VLOOKUP(B756,'Oman Results'!C756:AI1749,31)=\"x\",'Oman Results'!G756,\"\"))","v":""},{"$f":"IF(B756=\"\",\"\",IF(VLOOKUP(B756,'Oman Results'!C756:AI1749,31)=\"x\",'Oman Results'!AJ756,\"\"))","v":""},{"$f":"IF(B756=\"\",\"\",IF(VLOOKUP(B756,'Oman Results'!C756:AI1749,31)=\"x\",'Oman Results'!AK756,\"\"))","v":""},null,null,"","","",""]
["",{"$f":"IF('Oman Results'!C757=\"\",\"\",'Oman Results'!C757)","v":""},{"$f":"IF(OR('Oman Results'!D757=\"\",'Oman Results'!D757=\"Totals\"),\"\",'Oman Results'!D757)","v":""},"",{"$f":"IF('Oman Results'!E757=\"\",\"\",'Oman Results'!E757)","v":""},{"$f":"IF('Oman Results'!F757=\"\",\"\",'Oman Results'!F757)","v":""},{"$f":"IF(B757=\"\",\"\",IF(VLOOKUP(B757,'Oman Results'!C757:AI1750,31)=\"x\",'Oman Results'!AK757,'Oman Results'!G757))","v":""},"",{"$f":"IF(B757=\"\",\"\",IF(VLOOKUP(B757,'Oman Results'!C757:AI1750,31)=\"x\",\"Yes\",\"\"))","v":""},{"$f":"IF(B757=\"\",\"\",IF(VLOOKUP(B757,'Oman Results'!C757:AI1750,31)=\"x\",'Oman Results'!G757,\"\"))","v":""},{"$f":"IF(B757=\"\",\"\",IF(VLOOKUP(B757,'Oman Results'!C757:AI1750,31)=\"x\",'Oman Results'!AJ757,\"\"))","v":""},{"$f":"IF(B757=\"\",\"\",IF(VLOOKUP(B757,'Oman Results'!C757:AI1750,31)=\"x\",'Oman Results'!AK757,\"\"))","v":""},null,null,"","","",""]
["",{"$f":"IF('Oman Results'!C758=\"\",\"\",'Oman Results'!C758)","v":""},{"$f":"IF(OR('Oman Results'!D758=\"\",'Oman Results'!D758=\"Totals\"),\"\",'Oman Results'!D758)","v":""},"",{"$f":"IF('Oman Results'!E758=\"\",\"\",'Oman Results'!E758)","v":""},{"$f":"IF('Oman Results'!F758=\"\",\"\",'Oman Results'!F758)","v":""},{"$f":"IF(B758=\"\",\"\",IF(VLOOKUP(B758,'Oman Results'!C758:AI1751,31)=\"x\",'Oman Results'!AK758,'Oman Results'!G758))","v":""},"",{"$f":"IF(B758=\"\",\"\",IF(VLOOKUP(B758,'Oman Results'!C758:AI1751,31)=\"x\",\"Yes\",\"\"))","v":""},{"$f":"IF(B758=\"\",\"\",IF(VLOOKUP(B758,'Oman Results'!C758:AI1751,31)=\"x\",'Oman Results'!G758,\"\"))","v":""},{"$f":"IF(B758=\"\",\"\",IF(VLOOKUP(B758,'Oman Results'!C758:AI1751,31)=\"x\",'Oman Results'!AJ758,\"\"))","v":""},{"$f":"IF(B758=\"\",\"\",IF(VLOOKUP(B758,'Oman Results'!C758:AI1751,31)=\"x\",'Oman Results'!AK758,\"\"))","v":""},null,null,"","","",""]
["",{"$f":"IF('Oman Results'!C759=\"\",\"\",'Oman Results'!C759)","v":""},{"$f":"IF(OR('Oman Results'!D759=\"\",'Oman Results'!D759=\"Totals\"),\"\",'Oman Results'!D759)","v":""},"",{"$f":"IF('Oman Results'!E759=\"\",\"\",'Oman Results'!E759)","v":""},{"$f":"IF('Oman Results'!F759=\"\",\"\",'Oman Results'!F759)","v":""},{"$f":"IF(B759=\"\",\"\",IF(VLOOKUP(B759,'Oman Results'!C759:AI1752,31)=\"x\",'Oman Results'!AK759,'Oman Results'!G759))","v":""},"",{"$f":"IF(B759=\"\",\"\",IF(VLOOKUP(B759,'Oman Results'!C759:AI1752,31)=\"x\",\"Yes\",\"\"))","v":""},{"$f":"IF(B759=\"\",\"\",IF(VLOOKUP(B759,'Oman Results'!C759:AI1752,31)=\"x\",'Oman Results'!G759,\"\"))","v":""},{"$f":"IF(B759=\"\",\"\",IF(VLOOKUP(B759,'Oman Results'!C759:AI1752,31)=\"x\",'Oman Results'!AJ759,\"\"))","v":""},{"$f":"IF(B759=\"\",\"\",IF(VLOOKUP(B759,'Oman Results'!C759:AI1752,31)=\"x\",'Oman Results'!AK759,\"\"))","v":""},null,null,"","","",""]
["",{"$f":"IF('Oman Results'!C760=\"\",\"\",'Oman Results'!C760)","v":""},{"$f":"IF(OR('Oman Results'!D760=\"\",'Oman Results'!D760=\"Totals\"),\"\",'Oman Results'!D760)","v":""},"",{"$f":"IF('Oman Results'!E760=\"\",\"\",'Oman Results'!E760)","v":""},{"$f":"IF('Oman Results'!F760=\"\",\"\",'Oman Results'!F760)","v":""},{"$f":"IF(B760=\"\",\"\",IF(VLOOKUP(B760,'Oman Results'!C760:AI1753,31)=\"x\",'Oman Results'!AK760,'Oman Results'!G760))","v":""},"",{"$f":"IF(B760=\"\",\"\",IF(VLOOKUP(B760,'Oman Results'!C760:AI1753,31)=\"x\",\"Yes\",\"\"))","v":""},{"$f":"IF(B760=\"\",\"\",IF(VLOOKUP(B760,'Oman Results'!C760:AI1753,31)=\"x\",'Oman Results'!G760,\"\"))","v":""},{"$f":"IF(B760=\"\",\"\",IF(VLOOKUP(B760,'Oman Results'!C760:AI1753,31)=\"x\",'Oman Results'!AJ760,\"\"))","v":""},{"$f":"IF(B760=\"\",\"\",IF(VLOOKUP(B760,'Oman Results'!C760:AI1753,31)=\"x\",'Oman Results'!AK760,\"\"))","v":""},null,null,"","","",""]
["",{"$f":"IF('Oman Results'!C761=\"\",\"\",'Oman Results'!C761)","v":""},{"$f":"IF(OR('Oman Results'!D761=\"\",'Oman Results'!D761=\"Totals\"),\"\",'Oman Results'!D761)","v":""},"",{"$f":"IF('Oman Results'!E761=\"\",\"\",'Oman Results'!E761)","v":""},{"$f":"IF('Oman Results'!F761=\"\",\"\",'Oman Results'!F761)","v":""},{"$f":"IF(B761=\"\",\"\",IF(VLOOKUP(B761,'Oman Results'!C761:AI1754,31)=\"x\",'Oman Results'!AK761,'Oman Results'!G761))","v":""},"",{"$f":"IF(B761=\"\",\"\",IF(VLOOKUP(B761,'Oman Results'!C761:AI1754,31)=\"x\",\"Yes\",\"\"))","v":""},{"$f":"IF(B761=\"\",\"\",IF(VLOOKUP(B761,'Oman Results'!C761:AI1754,31)=\"x\",'Oman Results'!G761,\"\"))","v":""},{"$f":"IF(B761=\"\",\"\",IF(VLOOKUP(B761,'Oman Results'!C761:AI1754,31)=\"x\",'Oman Results'!AJ761,\"\"))","v":""},{"$f":"IF(B761=\"\",\"\",IF(VLOOKUP(B761,'Oman Results'!C761:AI1754,31)=\"x\",'Oman Results'!AK761,\"\"))","v":""},null,null,"","","",""]
["",{"$f":"IF('Oman Results'!C762=\"\",\"\",'Oman Results'!C762)","v":""},{"$f":"IF(OR('Oman Results'!D762=\"\",'Oman Results'!D762=\"Totals\"),\"\",'Oman Results'!D762)","v":""},"",{"$f":"IF('Oman Results'!E762=\"\",\"\",'Oman Results'!E762)","v":""},{"$f":"IF('Oman Results'!F762=\"\",\"\",'Oman Results'!F762)","v":""},{"$f":"IF(B762=\"\",\"\",IF(VLOOKUP(B762,'Oman Results'!C762:AI1755,31)=\"x\",'Oman Results'!AK762,'Oman Results'!G762))","v":""},"",{"$f":"IF(B762=\"\",\"\",IF(VLOOKUP(B762,'Oman Results'!C762:AI1755,31)=\"x\",\"Yes\",\"\"))","v":""},{"$f":"IF(B762=\"\",\"\",IF(VLOOKUP(B762,'Oman Results'!C762:AI1755,31)=\"x\",'Oman Results'!G762,\"\"))","v":""},{"$f":"IF(B762=\"\",\"\",IF(VLOOKUP(B762,'Oman Results'!C762:AI1755,31)=\"x\",'Oman Results'!AJ762,\"\"))","v":""},{"$f":"IF(B762=\"\",\"\",IF(VLOOKUP(B762,'Oman Results'!C762:AI1755,31)=\"x\",'Oman Results'!AK762,\"\"))","v":""},null,null,"","","",""]
["",{"$f":"IF('Oman Results'!C763=\"\",\"\",'Oman Results'!C763)","v":""},{"$f":"IF(OR('Oman Results'!D763=\"\",'Oman Results'!D763=\"Totals\"),\"\",'Oman Results'!D763)","v":""},"",{"$f":"IF('Oman Results'!E763=\"\",\"\",'Oman Results'!E763)","v":""},{"$f":"IF('Oman Results'!F763=\"\",\"\",'Oman Results'!F763)","v":""},{"$f":"IF(B763=\"\",\"\",IF(VLOOKUP(B763,'Oman Results'!C763:AI1756,31)=\"x\",'Oman Results'!AK763,'Oman Results'!G763))","v":""},"",{"$f":"IF(B763=\"\",\"\",IF(VLOOKUP(B763,'Oman Results'!C763:AI1756,31)=\"x\",\"Yes\",\"\"))","v":""},{"$f":"IF(B763=\"\",\"\",IF(VLOOKUP(B763,'Oman Results'!C763:AI1756,31)=\"x\",'Oman Results'!G763,\"\"))","v":""},{"$f":"IF(B763=\"\",\"\",IF(VLOOKUP(B763,'Oman Results'!C763:AI1756,31)=\"x\",'Oman Results'!AJ763,\"\"))","v":""},{"$f":"IF(B763=\"\",\"\",IF(VLOOKUP(B763,'Oman Results'!C763:AI1756,31)=\"x\",'Oman Results'!AK763,\"\"))","v":""},null,null,"","","",""]
["",{"$f":"IF('Oman Results'!C764=\"\",\"\",'Oman Results'!C764)","v":""},{"$f":"IF(OR('Oman Results'!D764=\"\",'Oman Results'!D764=\"Totals\"),\"\",'Oman Results'!D764)","v":""},"",{"$f":"IF('Oman Results'!E764=\"\",\"\",'Oman Results'!E764)","v":""},{"$f":"IF('Oman Results'!F764=\"\",\"\",'Oman Results'!F764)","v":""},{"$f":"IF(B764=\"\",\"\",IF(VLOOKUP(B764,'Oman Results'!C764:AI1757,31)=\"x\",'Oman Results'!AK764,'Oman Results'!G764))","v":""},"",{"$f":"IF(B764=\"\",\"\",IF(VLOOKUP(B764,'Oman Results'!C764:AI1757,31)=\"x\",\"Yes\",\"\"))","v":""},{"$f":"IF(B764=\"\",\"\",IF(VLOOKUP(B764,'Oman Results'!C764:AI1757,31)=\"x\",'Oman Results'!G764,\"\"))","v":""},{"$f":"IF(B764=\"\",\"\",IF(VLOOKUP(B764,'Oman Results'!C764:AI1757,31)=\"x\",'Oman Results'!AJ764,\"\"))","v":""},{"$f":"IF(B764=\"\",\"\",IF(VLOOKUP(B764,'Oman Results'!C764:AI1757,31)=\"x\",'Oman Results'!AK764,\"\"))","v":""},null,null,"","","",""]
["",{"$f":"IF('Oman Results'!C765=\"\",\"\",'Oman Results'!C765)","v":""},{"$f":"IF(OR('Oman Results'!D765=\"\",'Oman Results'!D765=\"Totals\"),\"\",'Oman Results'!D765)","v":""},"",{"$f":"IF('Oman Results'!E765=\"\",\"\",'Oman Results'!E765)","v":""},{"$f":"IF('Oman Results'!F765=\"\",\"\",'Oman Results'!F765)","v":""},{"$f":"IF(B765=\"\",\"\",IF(VLOOKUP(B765,'Oman Results'!C765:AI1758,31)=\"x\",'Oman Results'!AK765,'Oman Results'!G765))","v":""},"",{"$f":"IF(B765=\"\",\"\",IF(VLOOKUP(B765,'Oman Results'!C765:AI1758,31)=\"x\",\"Yes\",\"\"))","v":""},{"$f":"IF(B765=\"\",\"\",IF(VLOOKUP(B765,'Oman Results'!C765:AI1758,31)=\"x\",'Oman Results'!G765,\"\"))","v":""},{"$f":"IF(B765=\"\",\"\",IF(VLOOKUP(B765,'Oman Results'!C765:AI1758,31)=\"x\",'Oman Results'!AJ765,\"\"))","v":""},{"$f":"IF(B765=\"\",\"\",IF(VLOOKUP(B765,'Oman Results'!C765:AI1758,31)=\"x\",'Oman Results'!AK765,\"\"))","v":""},null,null,"","","",""]
["",{"$f":"IF('Oman Results'!C766=\"\",\"\",'Oman Results'!C766)","v":""},{"$f":"IF(OR('Oman Results'!D766=\"\",'Oman Results'!D766=\"Totals\"),\"\",'Oman Results'!D766)","v":""},"",{"$f":"IF('Oman Results'!E766=\"\",\"\",'Oman Results'!E766)","v":""},{"$f":"IF('Oman Results'!F766=\"\",\"\",'Oman Results'!F766)","v":""},{"$f":"IF(B766=\"\",\"\",IF(VLOOKUP(B766,'Oman Results'!C766:AI1759,31)=\"x\",'Oman Results'!AK766,'Oman Results'!G766))","v":""},"",{"$f":"IF(B766=\"\",\"\",IF(VLOOKUP(B766,'Oman Results'!C766:AI1759,31)=\"x\",\"Yes\",\"\"))","v":""},{"$f":"IF(B766=\"\",\"\",IF(VLOOKUP(B766,'Oman Results'!C766:AI1759,31)=\"x\",'Oman Results'!G766,\"\"))","v":""},{"$f":"IF(B766=\"\",\"\",IF(VLOOKUP(B766,'Oman Results'!C766:AI1759,31)=\"x\",'Oman Results'!AJ766,\"\"))","v":""},{"$f":"IF(B766=\"\",\"\",IF(VLOOKUP(B766,'Oman Results'!C766:AI1759,31)=\"x\",'Oman Results'!AK766,\"\"))","v":""},null,null,"","","",""]
["",{"$f":"IF('Oman Results'!C767=\"\",\"\",'Oman Results'!C767)","v":""},{"$f":"IF(OR('Oman Results'!D767=\"\",'Oman Results'!D767=\"Totals\"),\"\",'Oman Results'!D767)","v":""},"",{"$f":"IF('Oman Results'!E767=\"\",\"\",'Oman Results'!E767)","v":""},{"$f":"IF('Oman Results'!F767=\"\",\"\",'Oman Results'!F767)","v":""},{"$f":"IF(B767=\"\",\"\",IF(VLOOKUP(B767,'Oman Results'!C767:AI1760,31)=\"x\",'Oman Results'!AK767,'Oman Results'!G767))","v":""},"",{"$f":"IF(B767=\"\",\"\",IF(VLOOKUP(B767,'Oman Results'!C767:AI1760,31)=\"x\",\"Yes\",\"\"))","v":""},{"$f":"IF(B767=\"\",\"\",IF(VLOOKUP(B767,'Oman Results'!C767:AI1760,31)=\"x\",'Oman Results'!G767,\"\"))","v":""},{"$f":"IF(B767=\"\",\"\",IF(VLOOKUP(B767,'Oman Results'!C767:AI1760,31)=\"x\",'Oman Results'!AJ767,\"\"))","v":""},{"$f":"IF(B767=\"\",\"\",IF(VLOOKUP(B767,'Oman Results'!C767:AI1760,31)=\"x\",'Oman Results'!AK767,\"\"))","v":""},null,null,"","","",""]
["",{"$f":"IF('Oman Results'!C768=\"\",\"\",'Oman Results'!C768)","v":""},{"$f":"IF(OR('Oman Results'!D768=\"\",'Oman Results'!D768=\"Totals\"),\"\",'Oman Results'!D768)","v":""},"",{"$f":"IF('Oman Results'!E768=\"\",\"\",'Oman Results'!E768)","v":""},{"$f":"IF('Oman Results'!F768=\"\",\"\",'Oman Results'!F768)","v":""},{"$f":"IF(B768=\"\",\"\",IF(VLOOKUP(B768,'Oman Results'!C768:AI1761,31)=\"x\",'Oman Results'!AK768,'Oman Results'!G768))","v":""},"",{"$f":"IF(B768=\"\",\"\",IF(VLOOKUP(B768,'Oman Results'!C768:AI1761,31)=\"x\",\"Yes\",\"\"))","v":""},{"$f":"IF(B768=\"\",\"\",IF(VLOOKUP(B768,'Oman Results'!C768:AI1761,31)=\"x\",'Oman Results'!G768,\"\"))","v":""},{"$f":"IF(B768=\"\",\"\",IF(VLOOKUP(B768,'Oman Results'!C768:AI1761,31)=\"x\",'Oman Results'!AJ768,\"\"))","v":""},{"$f":"IF(B768=\"\",\"\",IF(VLOOKUP(B768,'Oman Results'!C768:AI1761,31)=\"x\",'Oman Results'!AK768,\"\"))","v":""},null,null,"","","",""]
["",{"$f":"IF('Oman Results'!C769=\"\",\"\",'Oman Results'!C769)","v":""},{"$f":"IF(OR('Oman Results'!D769=\"\",'Oman Results'!D769=\"Totals\"),\"\",'Oman Results'!D769)","v":""},"",{"$f":"IF('Oman Results'!E769=\"\",\"\",'Oman Results'!E769)","v":""},{"$f":"IF('Oman Results'!F769=\"\",\"\",'Oman Results'!F769)","v":""},{"$f":"IF(B769=\"\",\"\",IF(VLOOKUP(B769,'Oman Results'!C769:AI1762,31)=\"x\",'Oman Results'!AK769,'Oman Results'!G769))","v":""},"",{"$f":"IF(B769=\"\",\"\",IF(VLOOKUP(B769,'Oman Results'!C769:AI1762,31)=\"x\",\"Yes\",\"\"))","v":""},{"$f":"IF(B769=\"\",\"\",IF(VLOOKUP(B769,'Oman Results'!C769:AI1762,31)=\"x\",'Oman Results'!G769,\"\"))","v":""},{"$f":"IF(B769=\"\",\"\",IF(VLOOKUP(B769,'Oman Results'!C769:AI1762,31)=\"x\",'Oman Results'!AJ769,\"\"))","v":""},{"$f":"IF(B769=\"\",\"\",IF(VLOOKUP(B769,'Oman Results'!C769:AI1762,31)=\"x\",'Oman Results'!AK769,\"\"))","v":""},null,null,"","","",""]
["",{"$f":"IF('Oman Results'!C770=\"\",\"\",'Oman Results'!C770)","v":""},{"$f":"IF(OR('Oman Results'!D770=\"\",'Oman Results'!D770=\"Totals\"),\"\",'Oman Results'!D770)","v":""},"",{"$f":"IF('Oman Results'!E770=\"\",\"\",'Oman Results'!E770)","v":""},{"$f":"IF('Oman Results'!F770=\"\",\"\",'Oman Results'!F770)","v":""},{"$f":"IF(B770=\"\",\"\",IF(VLOOKUP(B770,'Oman Results'!C770:AI1763,31)=\"x\",'Oman Results'!AK770,'Oman Results'!G770))","v":""},"",{"$f":"IF(B770=\"\",\"\",IF(VLOOKUP(B770,'Oman Results'!C770:AI1763,31)=\"x\",\"Yes\",\"\"))","v":""},{"$f":"IF(B770=\"\",\"\",IF(VLOOKUP(B770,'Oman Results'!C770:AI1763,31)=\"x\",'Oman Results'!G770,\"\"))","v":""},{"$f":"IF(B770=\"\",\"\",IF(VLOOKUP(B770,'Oman Results'!C770:AI1763,31)=\"x\",'Oman Results'!AJ770,\"\"))","v":""},{"$f":"IF(B770=\"\",\"\",IF(VLOOKUP(B770,'Oman Results'!C770:AI1763,31)=\"x\",'Oman Results'!AK770,\"\"))","v":""},null,null,"",{"$f":"IF(O770=1,G770,\"\")","v":""},"",{"$f":"IF(O770=1,\"\",H770)","v":""}]
["",{"$f":"IF('Oman Results'!C771=\"\",\"\",'Oman Results'!C771)","v":""},{"$f":"IF(OR('Oman Results'!D771=\"\",'Oman Results'!D771=\"Totals\"),\"\",'Oman Results'!D771)","v":""},{"$f":"IF(ISNUMBER(SEARCH(\"{\",C771)),\"Yes\", \"\")","v":""},{"$f":"IF('Oman Results'!E771=\"\",\"\",'Oman Results'!E771)","v":""},{"$f":"IF('Oman Results'!F771=\"\",\"\",'Oman Results'!F771)","v":""},{"$f":"IF(B771=\"\",\"\",IF(VLOOKUP(B771,'Oman Results'!C771:AI1764,31)=\"x\",'Oman Results'!AK771,'Oman Results'!G771))","v":""},{"$f":"IF(E771=\"\",\"\",E771*G771)","v":""},{"$f":"IF(B771=\"\",\"\",IF(VLOOKUP(B771,'Oman Results'!C771:AI1764,31)=\"x\",\"Yes\",\"\"))","v":""},{"$f":"IF(B771=\"\",\"\",IF(VLOOKUP(B771,'Oman Results'!C771:AI1764,31)=\"x\",'Oman Results'!G771,\"\"))","v":""},{"$f":"IF(B771=\"\",\"\",IF(VLOOKUP(B771,'Oman Results'!C771:AI1764,31)=\"x\",'Oman Results'!AJ771,\"\"))","v":""},{"$f":"IF(B771=\"\",\"\",IF(VLOOKUP(B771,'Oman Results'!C771:AI1764,31)=\"x\",'Oman Results'!AK771,\"\"))","v":""},null,null,{"$f":"IF(OR(LEFT(F771,3)=\"L.S\",LEFT(F771,2)=\"LS\"),1,\"\")","v":""},"",{"$f":"IF(I771=\"Yes\",G771,\"\")","v":""},""]
[{"$f":"IF(B772=\"\",\"\",1+A771)","v":""},{"$f":"IF('Oman Results'!C772=\"\",\"\",'Oman Results'!C772)","v":""},{"$f":"IF(OR('Oman Results'!D772=\"\",'Oman Results'!D772=\"Totals\"),\"\",'Oman Results'!D772)","v":""},"",{"$f":"IF('Oman Results'!E772=\"\",\"\",'Oman Results'!E772)","v":""},{"$f":"IF('Oman Results'!F772=\"\",\"\",'Oman Results'!F772)","v":""},{"$f":"IF(B772=\"\",\"\",IF(VLOOKUP(B772,'Oman Results'!C772:AI1765,31)=\"x\",'Oman Results'!AK772,'Oman Results'!G772))","v":""},"",{"$f":"IF(B772=\"\",\"\",IF(VLOOKUP(B772,'Oman Results'!C772:AI1765,31)=\"x\",\"Yes\",\"\"))","v":""},{"$f":"IF(B772=\"\",\"\",IF(VLOOKUP(B772,'Oman Results'!C772:AI1765,31)=\"x\",'Oman Results'!G772,\"\"))","v":""},{"$f":"IF(B772=\"\",\"\",IF(VLOOKUP(B772,'Oman Results'!C772:AI1765,31)=\"x\",'Oman Results'!AJ772,\"\"))","v":""},{"$f":"IF(B772=\"\",\"\",IF(VLOOKUP(B772,'Oman Results'!C772:AI1765,31)=\"x\",'Oman Results'!AK772,\"\"))","v":""},null,null,"","","",""]
["",{"$f":"IF('Oman Results'!C773=\"\",\"\",'Oman Results'!C773)","v":""},{"$f":"IF(OR('Oman Results'!D773=\"\",'Oman Results'!D773=\"Totals\"),\"\",'Oman Results'!D773)","v":""},"",{"$f":"IF('Oman Results'!E773=\"\",\"\",'Oman Results'!E773)","v":""},{"$f":"IF('Oman Results'!F773=\"\",\"\",'Oman Results'!F773)","v":""},{"$f":"IF(B773=\"\",\"\",IF(VLOOKUP(B773,'Oman Results'!C773:AI1766,31)=\"x\",'Oman Results'!AK773,'Oman Results'!G773))","v":""},"",{"$f":"IF(B773=\"\",\"\",IF(VLOOKUP(B773,'Oman Results'!C773:AI1766,31)=\"x\",\"Yes\",\"\"))","v":""},{"$f":"IF(B773=\"\",\"\",IF(VLOOKUP(B773,'Oman Results'!C773:AI1766,31)=\"x\",'Oman Results'!G773,\"\"))","v":""},{"$f":"IF(B773=\"\",\"\",IF(VLOOKUP(B773,'Oman Results'!C773:AI1766,31)=\"x\",'Oman Results'!AJ773,\"\"))","v":""},{"$f":"IF(B773=\"\",\"\",IF(VLOOKUP(B773,'Oman Results'!C773:AI1766,31)=\"x\",'Oman Results'!AK773,\"\"))","v":""},null,null,"","","",""]
["",{"$f":"IF('Oman Results'!C774=\"\",\"\",'Oman Results'!C774)","v":""},{"$f":"IF(OR('Oman Results'!D774=\"\",'Oman Results'!D774=\"Totals\"),\"\",'Oman Results'!D774)","v":""},"",{"$f":"IF('Oman Results'!E774=\"\",\"\",'Oman Results'!E774)","v":""},{"$f":"IF('Oman Results'!F774=\"\",\"\",'Oman Results'!F774)","v":""},{"$f":"IF(B774=\"\",\"\",IF(VLOOKUP(B774,'Oman Results'!C774:AI1767,31)=\"x\",'Oman Results'!AK774,'Oman Results'!G774))","v":""},"",{"$f":"IF(B774=\"\",\"\",IF(VLOOKUP(B774,'Oman Results'!C774:AI1767,31)=\"x\",\"Yes\",\"\"))","v":""},{"$f":"IF(B774=\"\",\"\",IF(VLOOKUP(B774,'Oman Results'!C774:AI1767,31)=\"x\",'Oman Results'!G774,\"\"))","v":""},{"$f":"IF(B774=\"\",\"\",IF(VLOOKUP(B774,'Oman Results'!C774:AI1767,31)=\"x\",'Oman Results'!AJ774,\"\"))","v":""},{"$f":"IF(B774=\"\",\"\",IF(VLOOKUP(B774,'Oman Results'!C774:AI1767,31)=\"x\",'Oman Results'!AK774,\"\"))","v":""},null,null,"","","",""]
["",{"$f":"IF('Oman Results'!C775=\"\",\"\",'Oman Results'!C775)","v":""},{"$f":"IF(OR('Oman Results'!D775=\"\",'Oman Results'!D775=\"Totals\"),\"\",'Oman Results'!D775)","v":""},"",{"$f":"IF('Oman Results'!E775=\"\",\"\",'Oman Results'!E775)","v":""},{"$f":"IF('Oman Results'!F775=\"\",\"\",'Oman Results'!F775)","v":""},{"$f":"IF(B775=\"\",\"\",IF(VLOOKUP(B775,'Oman Results'!C775:AI1768,31)=\"x\",'Oman Results'!AK775,'Oman Results'!G775))","v":""},"",{"$f":"IF(B775=\"\",\"\",IF(VLOOKUP(B775,'Oman Results'!C775:AI1768,31)=\"x\",\"Yes\",\"\"))","v":""},{"$f":"IF(B775=\"\",\"\",IF(VLOOKUP(B775,'Oman Results'!C775:AI1768,31)=\"x\",'Oman Results'!G775,\"\"))","v":""},{"$f":"IF(B775=\"\",\"\",IF(VLOOKUP(B775,'Oman Results'!C775:AI1768,31)=\"x\",'Oman Results'!AJ775,\"\"))","v":""},{"$f":"IF(B775=\"\",\"\",IF(VLOOKUP(B775,'Oman Results'!C775:AI1768,31)=\"x\",'Oman Results'!AK775,\"\"))","v":""},null,null,"","","",""]
["",{"$f":"IF('Oman Results'!C776=\"\",\"\",'Oman Results'!C776)","v":""},{"$f":"IF(OR('Oman Results'!D776=\"\",'Oman Results'!D776=\"Totals\"),\"\",'Oman Results'!D776)","v":""},"",{"$f":"IF('Oman Results'!E776=\"\",\"\",'Oman Results'!E776)","v":""},{"$f":"IF('Oman Results'!F776=\"\",\"\",'Oman Results'!F776)","v":""},{"$f":"IF(B776=\"\",\"\",IF(VLOOKUP(B776,'Oman Results'!C776:AI1769,31)=\"x\",'Oman Results'!AK776,'Oman Results'!G776))","v":""},"",{"$f":"IF(B776=\"\",\"\",IF(VLOOKUP(B776,'Oman Results'!C776:AI1769,31)=\"x\",\"Yes\",\"\"))","v":""},{"$f":"IF(B776=\"\",\"\",IF(VLOOKUP(B776,'Oman Results'!C776:AI1769,31)=\"x\",'Oman Results'!G776,\"\"))","v":""},{"$f":"IF(B776=\"\",\"\",IF(VLOOKUP(B776,'Oman Results'!C776:AI1769,31)=\"x\",'Oman Results'!AJ776,\"\"))","v":""},{"$f":"IF(B776=\"\",\"\",IF(VLOOKUP(B776,'Oman Results'!C776:AI1769,31)=\"x\",'Oman Results'!AK776,\"\"))","v":""},null,null,"","","",""]
["",{"$f":"IF('Oman Results'!C777=\"\",\"\",'Oman Results'!C777)","v":""},{"$f":"IF(OR('Oman Results'!D777=\"\",'Oman Results'!D777=\"Totals\"),\"\",'Oman Results'!D777)","v":""},"",{"$f":"IF('Oman Results'!E777=\"\",\"\",'Oman Results'!E777)","v":""},{"$f":"IF('Oman Results'!F777=\"\",\"\",'Oman Results'!F777)","v":""},{"$f":"IF(B777=\"\",\"\",IF(VLOOKUP(B777,'Oman Results'!C777:AI1770,31)=\"x\",'Oman Results'!AK777,'Oman Results'!G777))","v":""},"",{"$f":"IF(B777=\"\",\"\",IF(VLOOKUP(B777,'Oman Results'!C777:AI1770,31)=\"x\",\"Yes\",\"\"))","v":""},{"$f":"IF(B777=\"\",\"\",IF(VLOOKUP(B777,'Oman Results'!C777:AI1770,31)=\"x\",'Oman Results'!G777,\"\"))","v":""},{"$f":"IF(B777=\"\",\"\",IF(VLOOKUP(B777,'Oman Results'!C777:AI1770,31)=\"x\",'Oman Results'!AJ777,\"\"))","v":""},{"$f":"IF(B777=\"\",\"\",IF(VLOOKUP(B777,'Oman Results'!C777:AI1770,31)=\"x\",'Oman Results'!AK777,\"\"))","v":""},null,null,"","","",""]
["",{"$f":"IF('Oman Results'!C778=\"\",\"\",'Oman Results'!C778)","v":""},{"$f":"IF(OR('Oman Results'!D778=\"\",'Oman Results'!D778=\"Totals\"),\"\",'Oman Results'!D778)","v":""},"",{"$f":"IF('Oman Results'!E778=\"\",\"\",'Oman Results'!E778)","v":""},{"$f":"IF('Oman Results'!F778=\"\",\"\",'Oman Results'!F778)","v":""},{"$f":"IF(B778=\"\",\"\",IF(VLOOKUP(B778,'Oman Results'!C778:AI1771,31)=\"x\",'Oman Results'!AK778,'Oman Results'!G778))","v":""},"",{"$f":"IF(B778=\"\",\"\",IF(VLOOKUP(B778,'Oman Results'!C778:AI1771,31)=\"x\",\"Yes\",\"\"))","v":""},{"$f":"IF(B778=\"\",\"\",IF(VLOOKUP(B778,'Oman Results'!C778:AI1771,31)=\"x\",'Oman Results'!G778,\"\"))","v":""},{"$f":"IF(B778=\"\",\"\",IF(VLOOKUP(B778,'Oman Results'!C778:AI1771,31)=\"x\",'Oman Results'!AJ778,\"\"))","v":""},{"$f":"IF(B778=\"\",\"\",IF(VLOOKUP(B778,'Oman Results'!C778:AI1771,31)=\"x\",'Oman Results'!AK778,\"\"))","v":""},null,null,"","","",""]
["",{"$f":"IF('Oman Results'!C779=\"\",\"\",'Oman Results'!C779)","v":""},{"$f":"IF(OR('Oman Results'!D779=\"\",'Oman Results'!D779=\"Totals\"),\"\",'Oman Results'!D779)","v":""},"",{"$f":"IF('Oman Results'!E779=\"\",\"\",'Oman Results'!E779)","v":""},{"$f":"IF('Oman Results'!F779=\"\",\"\",'Oman Results'!F779)","v":""},{"$f":"IF(B779=\"\",\"\",IF(VLOOKUP(B779,'Oman Results'!C779:AI1772,31)=\"x\",'Oman Results'!AK779,'Oman Results'!G779))","v":""},"",{"$f":"IF(B779=\"\",\"\",IF(VLOOKUP(B779,'Oman Results'!C779:AI1772,31)=\"x\",\"Yes\",\"\"))","v":""},{"$f":"IF(B779=\"\",\"\",IF(VLOOKUP(B779,'Oman Results'!C779:AI1772,31)=\"x\",'Oman Results'!G779,\"\"))","v":""},{"$f":"IF(B779=\"\",\"\",IF(VLOOKUP(B779,'Oman Results'!C779:AI1772,31)=\"x\",'Oman Results'!AJ779,\"\"))","v":""},{"$f":"IF(B779=\"\",\"\",IF(VLOOKUP(B779,'Oman Results'!C779:AI1772,31)=\"x\",'Oman Results'!AK779,\"\"))","v":""},null,null,"","","",""]
["",{"$f":"IF('Oman Results'!C780=\"\",\"\",'Oman Results'!C780)","v":""},{"$f":"IF(OR('Oman Results'!D780=\"\",'Oman Results'!D780=\"Totals\"),\"\",'Oman Results'!D780)","v":""},"",{"$f":"IF('Oman Results'!E780=\"\",\"\",'Oman Results'!E780)","v":""},{"$f":"IF('Oman Results'!F780=\"\",\"\",'Oman Results'!F780)","v":""},{"$f":"IF(B780=\"\",\"\",IF(VLOOKUP(B780,'Oman Results'!C780:AI1773,31)=\"x\",'Oman Results'!AK780,'Oman Results'!G780))","v":""},"",{"$f":"IF(B780=\"\",\"\",IF(VLOOKUP(B780,'Oman Results'!C780:AI1773,31)=\"x\",\"Yes\",\"\"))","v":""},{"$f":"IF(B780=\"\",\"\",IF(VLOOKUP(B780,'Oman Results'!C780:AI1773,31)=\"x\",'Oman Results'!G780,\"\"))","v":""},{"$f":"IF(B780=\"\",\"\",IF(VLOOKUP(B780,'Oman Results'!C780:AI1773,31)=\"x\",'Oman Results'!AJ780,\"\"))","v":""},{"$f":"IF(B780=\"\",\"\",IF(VLOOKUP(B780,'Oman Results'!C780:AI1773,31)=\"x\",'Oman Results'!AK780,\"\"))","v":""},null,null,"","","",""]
["",{"$f":"IF('Oman Results'!C781=\"\",\"\",'Oman Results'!C781)","v":""},{"$f":"IF(OR('Oman Results'!D781=\"\",'Oman Results'!D781=\"Totals\"),\"\",'Oman Results'!D781)","v":""},"",{"$f":"IF('Oman Results'!E781=\"\",\"\",'Oman Results'!E781)","v":""},{"$f":"IF('Oman Results'!F781=\"\",\"\",'Oman Results'!F781)","v":""},{"$f":"IF(B781=\"\",\"\",IF(VLOOKUP(B781,'Oman Results'!C781:AI1774,31)=\"x\",'Oman Results'!AK781,'Oman Results'!G781))","v":""},"",{"$f":"IF(B781=\"\",\"\",IF(VLOOKUP(B781,'Oman Results'!C781:AI1774,31)=\"x\",\"Yes\",\"\"))","v":""},{"$f":"IF(B781=\"\",\"\",IF(VLOOKUP(B781,'Oman Results'!C781:AI1774,31)=\"x\",'Oman Results'!G781,\"\"))","v":""},{"$f":"IF(B781=\"\",\"\",IF(VLOOKUP(B781,'Oman Results'!C781:AI1774,31)=\"x\",'Oman Results'!AJ781,\"\"))","v":""},{"$f":"IF(B781=\"\",\"\",IF(VLOOKUP(B781,'Oman Results'!C781:AI1774,31)=\"x\",'Oman Results'!AK781,\"\"))","v":""},null,null,"","","",""]
["",{"$f":"IF('Oman Results'!C782=\"\",\"\",'Oman Results'!C782)","v":""},{"$f":"IF(OR('Oman Results'!D782=\"\",'Oman Results'!D782=\"Totals\"),\"\",'Oman Results'!D782)","v":""},"",{"$f":"IF('Oman Results'!E782=\"\",\"\",'Oman Results'!E782)","v":""},{"$f":"IF('Oman Results'!F782=\"\",\"\",'Oman Results'!F782)","v":""},{"$f":"IF(B782=\"\",\"\",IF(VLOOKUP(B782,'Oman Results'!C782:AI1775,31)=\"x\",'Oman Results'!AK782,'Oman Results'!G782))","v":""},"",{"$f":"IF(B782=\"\",\"\",IF(VLOOKUP(B782,'Oman Results'!C782:AI1775,31)=\"x\",\"Yes\",\"\"))","v":""},{"$f":"IF(B782=\"\",\"\",IF(VLOOKUP(B782,'Oman Results'!C782:AI1775,31)=\"x\",'Oman Results'!G782,\"\"))","v":""},{"$f":"IF(B782=\"\",\"\",IF(VLOOKUP(B782,'Oman Results'!C782:AI1775,31)=\"x\",'Oman Results'!AJ782,\"\"))","v":""},{"$f":"IF(B782=\"\",\"\",IF(VLOOKUP(B782,'Oman Results'!C782:AI1775,31)=\"x\",'Oman Results'!AK782,\"\"))","v":""},null,null,"","","",""]
["",{"$f":"IF('Oman Results'!C783=\"\",\"\",'Oman Results'!C783)","v":""},{"$f":"IF(OR('Oman Results'!D783=\"\",'Oman Results'!D783=\"Totals\"),\"\",'Oman Results'!D783)","v":""},"",{"$f":"IF('Oman Results'!E783=\"\",\"\",'Oman Results'!E783)","v":""},{"$f":"IF('Oman Results'!F783=\"\",\"\",'Oman Results'!F783)","v":""},{"$f":"IF(B783=\"\",\"\",IF(VLOOKUP(B783,'Oman Results'!C783:AI1776,31)=\"x\",'Oman Results'!AK783,'Oman Results'!G783))","v":""},"",{"$f":"IF(B783=\"\",\"\",IF(VLOOKUP(B783,'Oman Results'!C783:AI1776,31)=\"x\",\"Yes\",\"\"))","v":""},{"$f":"IF(B783=\"\",\"\",IF(VLOOKUP(B783,'Oman Results'!C783:AI1776,31)=\"x\",'Oman Results'!G783,\"\"))","v":""},{"$f":"IF(B783=\"\",\"\",IF(VLOOKUP(B783,'Oman Results'!C783:AI1776,31)=\"x\",'Oman Results'!AJ783,\"\"))","v":""},{"$f":"IF(B783=\"\",\"\",IF(VLOOKUP(B783,'Oman Results'!C783:AI1776,31)=\"x\",'Oman Results'!AK783,\"\"))","v":""},null,null,"","","",""]
["",{"$f":"IF('Oman Results'!C784=\"\",\"\",'Oman Results'!C784)","v":""},{"$f":"IF(OR('Oman Results'!D784=\"\",'Oman Results'!D784=\"Totals\"),\"\",'Oman Results'!D784)","v":""},"",{"$f":"IF('Oman Results'!E784=\"\",\"\",'Oman Results'!E784)","v":""},{"$f":"IF('Oman Results'!F784=\"\",\"\",'Oman Results'!F784)","v":""},{"$f":"IF(B784=\"\",\"\",IF(VLOOKUP(B784,'Oman Results'!C784:AI1777,31)=\"x\",'Oman Results'!AK784,'Oman Results'!G784))","v":""},"",{"$f":"IF(B784=\"\",\"\",IF(VLOOKUP(B784,'Oman Results'!C784:AI1777,31)=\"x\",\"Yes\",\"\"))","v":""},{"$f":"IF(B784=\"\",\"\",IF(VLOOKUP(B784,'Oman Results'!C784:AI1777,31)=\"x\",'Oman Results'!G784,\"\"))","v":""},{"$f":"IF(B784=\"\",\"\",IF(VLOOKUP(B784,'Oman Results'!C784:AI1777,31)=\"x\",'Oman Results'!AJ784,\"\"))","v":""},{"$f":"IF(B784=\"\",\"\",IF(VLOOKUP(B784,'Oman Results'!C784:AI1777,31)=\"x\",'Oman Results'!AK784,\"\"))","v":""},null,null,"","","",""]
["",{"$f":"IF('Oman Results'!C785=\"\",\"\",'Oman Results'!C785)","v":""},{"$f":"IF(OR('Oman Results'!D785=\"\",'Oman Results'!D785=\"Totals\"),\"\",'Oman Results'!D785)","v":""},"",{"$f":"IF('Oman Results'!E785=\"\",\"\",'Oman Results'!E785)","v":""},{"$f":"IF('Oman Results'!F785=\"\",\"\",'Oman Results'!F785)","v":""},{"$f":"IF(B785=\"\",\"\",IF(VLOOKUP(B785,'Oman Results'!C785:AI1778,31)=\"x\",'Oman Results'!AK785,'Oman Results'!G785))","v":""},"",{"$f":"IF(B785=\"\",\"\",IF(VLOOKUP(B785,'Oman Results'!C785:AI1778,31)=\"x\",\"Yes\",\"\"))","v":""},{"$f":"IF(B785=\"\",\"\",IF(VLOOKUP(B785,'Oman Results'!C785:AI1778,31)=\"x\",'Oman Results'!G785,\"\"))","v":""},{"$f":"IF(B785=\"\",\"\",IF(VLOOKUP(B785,'Oman Results'!C785:AI1778,31)=\"x\",'Oman Results'!AJ785,\"\"))","v":""},{"$f":"IF(B785=\"\",\"\",IF(VLOOKUP(B785,'Oman Results'!C785:AI1778,31)=\"x\",'Oman Results'!AK785,\"\"))","v":""},null,null,"","","",""]
["",{"$f":"IF('Oman Results'!C786=\"\",\"\",'Oman Results'!C786)","v":""},{"$f":"IF(OR('Oman Results'!D786=\"\",'Oman Results'!D786=\"Totals\"),\"\",'Oman Results'!D786)","v":""},"",{"$f":"IF('Oman Results'!E786=\"\",\"\",'Oman Results'!E786)","v":""},{"$f":"IF('Oman Results'!F786=\"\",\"\",'Oman Results'!F786)","v":""},{"$f":"IF(B786=\"\",\"\",IF(VLOOKUP(B786,'Oman Results'!C786:AI1779,31)=\"x\",'Oman Results'!AK786,'Oman Results'!G786))","v":""},"",{"$f":"IF(B786=\"\",\"\",IF(VLOOKUP(B786,'Oman Results'!C786:AI1779,31)=\"x\",\"Yes\",\"\"))","v":""},{"$f":"IF(B786=\"\",\"\",IF(VLOOKUP(B786,'Oman Results'!C786:AI1779,31)=\"x\",'Oman Results'!G786,\"\"))","v":""},{"$f":"IF(B786=\"\",\"\",IF(VLOOKUP(B786,'Oman Results'!C786:AI1779,31)=\"x\",'Oman Results'!AJ786,\"\"))","v":""},{"$f":"IF(B786=\"\",\"\",IF(VLOOKUP(B786,'Oman Results'!C786:AI1779,31)=\"x\",'Oman Results'!AK786,\"\"))","v":""},null,null,"","","",""]
["",{"$f":"IF('Oman Results'!C787=\"\",\"\",'Oman Results'!C787)","v":""},{"$f":"IF(OR('Oman Results'!D787=\"\",'Oman Results'!D787=\"Totals\"),\"\",'Oman Results'!D787)","v":""},"",{"$f":"IF('Oman Results'!E787=\"\",\"\",'Oman Results'!E787)","v":""},{"$f":"IF('Oman Results'!F787=\"\",\"\",'Oman Results'!F787)","v":""},{"$f":"IF(B787=\"\",\"\",IF(VLOOKUP(B787,'Oman Results'!C787:AI1780,31)=\"x\",'Oman Results'!AK787,'Oman Results'!G787))","v":""},"",{"$f":"IF(B787=\"\",\"\",IF(VLOOKUP(B787,'Oman Results'!C787:AI1780,31)=\"x\",\"Yes\",\"\"))","v":""},{"$f":"IF(B787=\"\",\"\",IF(VLOOKUP(B787,'Oman Results'!C787:AI1780,31)=\"x\",'Oman Results'!G787,\"\"))","v":""},{"$f":"IF(B787=\"\",\"\",IF(VLOOKUP(B787,'Oman Results'!C787:AI1780,31)=\"x\",'Oman Results'!AJ787,\"\"))","v":""},{"$f":"IF(B787=\"\",\"\",IF(VLOOKUP(B787,'Oman Results'!C787:AI1780,31)=\"x\",'Oman Results'!AK787,\"\"))","v":""},null,null,"","","",""]
["",{"$f":"IF('Oman Results'!C788=\"\",\"\",'Oman Results'!C788)","v":""},{"$f":"IF(OR('Oman Results'!D788=\"\",'Oman Results'!D788=\"Totals\"),\"\",'Oman Results'!D788)","v":""},"",{"$f":"IF('Oman Results'!E788=\"\",\"\",'Oman Results'!E788)","v":""},{"$f":"IF('Oman Results'!F788=\"\",\"\",'Oman Results'!F788)","v":""},{"$f":"IF(B788=\"\",\"\",IF(VLOOKUP(B788,'Oman Results'!C788:AI1781,31)=\"x\",'Oman Results'!AK788,'Oman Results'!G788))","v":""},"",{"$f":"IF(B788=\"\",\"\",IF(VLOOKUP(B788,'Oman Results'!C788:AI1781,31)=\"x\",\"Yes\",\"\"))","v":""},{"$f":"IF(B788=\"\",\"\",IF(VLOOKUP(B788,'Oman Results'!C788:AI1781,31)=\"x\",'Oman Results'!G788,\"\"))","v":""},{"$f":"IF(B788=\"\",\"\",IF(VLOOKUP(B788,'Oman Results'!C788:AI1781,31)=\"x\",'Oman Results'!AJ788,\"\"))","v":""},{"$f":"IF(B788=\"\",\"\",IF(VLOOKUP(B788,'Oman Results'!C788:AI1781,31)=\"x\",'Oman Results'!AK788,\"\"))","v":""},null,null,"","","",""]
["",{"$f":"IF('Oman Results'!C789=\"\",\"\",'Oman Results'!C789)","v":""},{"$f":"IF(OR('Oman Results'!D789=\"\",'Oman Results'!D789=\"Totals\"),\"\",'Oman Results'!D789)","v":""},"",{"$f":"IF('Oman Results'!E789=\"\",\"\",'Oman Results'!E789)","v":""},{"$f":"IF('Oman Results'!F789=\"\",\"\",'Oman Results'!F789)","v":""},{"$f":"IF(B789=\"\",\"\",IF(VLOOKUP(B789,'Oman Results'!C789:AI1782,31)=\"x\",'Oman Results'!AK789,'Oman Results'!G789))","v":""},"",{"$f":"IF(B789=\"\",\"\",IF(VLOOKUP(B789,'Oman Results'!C789:AI1782,31)=\"x\",\"Yes\",\"\"))","v":""},{"$f":"IF(B789=\"\",\"\",IF(VLOOKUP(B789,'Oman Results'!C789:AI1782,31)=\"x\",'Oman Results'!G789,\"\"))","v":""},{"$f":"IF(B789=\"\",\"\",IF(VLOOKUP(B789,'Oman Results'!C789:AI1782,31)=\"x\",'Oman Results'!AJ789,\"\"))","v":""},{"$f":"IF(B789=\"\",\"\",IF(VLOOKUP(B789,'Oman Results'!C789:AI1782,31)=\"x\",'Oman Results'!AK789,\"\"))","v":""},null,null,"","","",""]
["",{"$f":"IF('Oman Results'!C790=\"\",\"\",'Oman Results'!C790)","v":""},{"$f":"IF(OR('Oman Results'!D790=\"\",'Oman Results'!D790=\"Totals\"),\"\",'Oman Results'!D790)","v":""},"",{"$f":"IF('Oman Results'!E790=\"\",\"\",'Oman Results'!E790)","v":""},{"$f":"IF('Oman Results'!F790=\"\",\"\",'Oman Results'!F790)","v":""},{"$f":"IF(B790=\"\",\"\",IF(VLOOKUP(B790,'Oman Results'!C790:AI1783,31)=\"x\",'Oman Results'!AK790,'Oman Results'!G790))","v":""},"",{"$f":"IF(B790=\"\",\"\",IF(VLOOKUP(B790,'Oman Results'!C790:AI1783,31)=\"x\",\"Yes\",\"\"))","v":""},{"$f":"IF(B790=\"\",\"\",IF(VLOOKUP(B790,'Oman Results'!C790:AI1783,31)=\"x\",'Oman Results'!G790,\"\"))","v":""},{"$f":"IF(B790=\"\",\"\",IF(VLOOKUP(B790,'Oman Results'!C790:AI1783,31)=\"x\",'Oman Results'!AJ790,\"\"))","v":""},{"$f":"IF(B790=\"\",\"\",IF(VLOOKUP(B790,'Oman Results'!C790:AI1783,31)=\"x\",'Oman Results'!AK790,\"\"))","v":""},null,null,"","","",""]
["",{"$f":"IF('Oman Results'!C791=\"\",\"\",'Oman Results'!C791)","v":""},{"$f":"IF(OR('Oman Results'!D791=\"\",'Oman Results'!D791=\"Totals\"),\"\",'Oman Results'!D791)","v":""},"",{"$f":"IF('Oman Results'!E791=\"\",\"\",'Oman Results'!E791)","v":""},{"$f":"IF('Oman Results'!F791=\"\",\"\",'Oman Results'!F791)","v":""},{"$f":"IF(B791=\"\",\"\",IF(VLOOKUP(B791,'Oman Results'!C791:AI1784,31)=\"x\",'Oman Results'!AK791,'Oman Results'!G791))","v":""},"",{"$f":"IF(B791=\"\",\"\",IF(VLOOKUP(B791,'Oman Results'!C791:AI1784,31)=\"x\",\"Yes\",\"\"))","v":""},{"$f":"IF(B791=\"\",\"\",IF(VLOOKUP(B791,'Oman Results'!C791:AI1784,31)=\"x\",'Oman Results'!G791,\"\"))","v":""},{"$f":"IF(B791=\"\",\"\",IF(VLOOKUP(B791,'Oman Results'!C791:AI1784,31)=\"x\",'Oman Results'!AJ791,\"\"))","v":""},{"$f":"IF(B791=\"\",\"\",IF(VLOOKUP(B791,'Oman Results'!C791:AI1784,31)=\"x\",'Oman Results'!AK791,\"\"))","v":""},null,null,"","","",""]
["",{"$f":"IF('Oman Results'!C792=\"\",\"\",'Oman Results'!C792)","v":""},{"$f":"IF(OR('Oman Results'!D792=\"\",'Oman Results'!D792=\"Totals\"),\"\",'Oman Results'!D792)","v":""},"",{"$f":"IF('Oman Results'!E792=\"\",\"\",'Oman Results'!E792)","v":""},{"$f":"IF('Oman Results'!F792=\"\",\"\",'Oman Results'!F792)","v":""},{"$f":"IF(B792=\"\",\"\",IF(VLOOKUP(B792,'Oman Results'!C792:AI1785,31)=\"x\",'Oman Results'!AK792,'Oman Results'!G792))","v":""},"",{"$f":"IF(B792=\"\",\"\",IF(VLOOKUP(B792,'Oman Results'!C792:AI1785,31)=\"x\",\"Yes\",\"\"))","v":""},{"$f":"IF(B792=\"\",\"\",IF(VLOOKUP(B792,'Oman Results'!C792:AI1785,31)=\"x\",'Oman Results'!G792,\"\"))","v":""},{"$f":"IF(B792=\"\",\"\",IF(VLOOKUP(B792,'Oman Results'!C792:AI1785,31)=\"x\",'Oman Results'!AJ792,\"\"))","v":""},{"$f":"IF(B792=\"\",\"\",IF(VLOOKUP(B792,'Oman Results'!C792:AI1785,31)=\"x\",'Oman Results'!AK792,\"\"))","v":""},null,null,"","","",""]
["",{"$f":"IF('Oman Results'!C793=\"\",\"\",'Oman Results'!C793)","v":""},{"$f":"IF(OR('Oman Results'!D793=\"\",'Oman Results'!D793=\"Totals\"),\"\",'Oman Results'!D793)","v":""},"",{"$f":"IF('Oman Results'!E793=\"\",\"\",'Oman Results'!E793)","v":""},{"$f":"IF('Oman Results'!F793=\"\",\"\",'Oman Results'!F793)","v":""},{"$f":"IF(B793=\"\",\"\",IF(VLOOKUP(B793,'Oman Results'!C793:AI1786,31)=\"x\",'Oman Results'!AK793,'Oman Results'!G793))","v":""},"",{"$f":"IF(B793=\"\",\"\",IF(VLOOKUP(B793,'Oman Results'!C793:AI1786,31)=\"x\",\"Yes\",\"\"))","v":""},{"$f":"IF(B793=\"\",\"\",IF(VLOOKUP(B793,'Oman Results'!C793:AI1786,31)=\"x\",'Oman Results'!G793,\"\"))","v":""},{"$f":"IF(B793=\"\",\"\",IF(VLOOKUP(B793,'Oman Results'!C793:AI1786,31)=\"x\",'Oman Results'!AJ793,\"\"))","v":""},{"$f":"IF(B793=\"\",\"\",IF(VLOOKUP(B793,'Oman Results'!C793:AI1786,31)=\"x\",'Oman Results'!AK793,\"\"))","v":""},null,null,"","","",""]
["",{"$f":"IF('Oman Results'!C794=\"\",\"\",'Oman Results'!C794)","v":""},{"$f":"IF(OR('Oman Results'!D794=\"\",'Oman Results'!D794=\"Totals\"),\"\",'Oman Results'!D794)","v":""},"",{"$f":"IF('Oman Results'!E794=\"\",\"\",'Oman Results'!E794)","v":""},{"$f":"IF('Oman Results'!F794=\"\",\"\",'Oman Results'!F794)","v":""},{"$f":"IF(B794=\"\",\"\",IF(VLOOKUP(B794,'Oman Results'!C794:AI1787,31)=\"x\",'Oman Results'!AK794,'Oman Results'!G794))","v":""},"",{"$f":"IF(B794=\"\",\"\",IF(VLOOKUP(B794,'Oman Results'!C794:AI1787,31)=\"x\",\"Yes\",\"\"))","v":""},{"$f":"IF(B794=\"\",\"\",IF(VLOOKUP(B794,'Oman Results'!C794:AI1787,31)=\"x\",'Oman Results'!G794,\"\"))","v":""},{"$f":"IF(B794=\"\",\"\",IF(VLOOKUP(B794,'Oman Results'!C794:AI1787,31)=\"x\",'Oman Results'!AJ794,\"\"))","v":""},{"$f":"IF(B794=\"\",\"\",IF(VLOOKUP(B794,'Oman Results'!C794:AI1787,31)=\"x\",'Oman Results'!AK794,\"\"))","v":""},null,null,"","","",""]
["",{"$f":"IF('Oman Results'!C795=\"\",\"\",'Oman Results'!C795)","v":""},{"$f":"IF(OR('Oman Results'!D795=\"\",'Oman Results'!D795=\"Totals\"),\"\",'Oman Results'!D795)","v":""},"",{"$f":"IF('Oman Results'!E795=\"\",\"\",'Oman Results'!E795)","v":""},{"$f":"IF('Oman Results'!F795=\"\",\"\",'Oman Results'!F795)","v":""},{"$f":"IF(B795=\"\",\"\",IF(VLOOKUP(B795,'Oman Results'!C795:AI1788,31)=\"x\",'Oman Results'!AK795,'Oman Results'!G795))","v":""},"",{"$f":"IF(B795=\"\",\"\",IF(VLOOKUP(B795,'Oman Results'!C795:AI1788,31)=\"x\",\"Yes\",\"\"))","v":""},{"$f":"IF(B795=\"\",\"\",IF(VLOOKUP(B795,'Oman Results'!C795:AI1788,31)=\"x\",'Oman Results'!G795,\"\"))","v":""},{"$f":"IF(B795=\"\",\"\",IF(VLOOKUP(B795,'Oman Results'!C795:AI1788,31)=\"x\",'Oman Results'!AJ795,\"\"))","v":""},{"$f":"IF(B795=\"\",\"\",IF(VLOOKUP(B795,'Oman Results'!C795:AI1788,31)=\"x\",'Oman Results'!AK795,\"\"))","v":""},null,null,"","","",""]
["",{"$f":"IF('Oman Results'!C796=\"\",\"\",'Oman Results'!C796)","v":""},{"$f":"IF(OR('Oman Results'!D796=\"\",'Oman Results'!D796=\"Totals\"),\"\",'Oman Results'!D796)","v":""},"",{"$f":"IF('Oman Results'!E796=\"\",\"\",'Oman Results'!E796)","v":""},{"$f":"IF('Oman Results'!F796=\"\",\"\",'Oman Results'!F796)","v":""},{"$f":"IF(B796=\"\",\"\",IF(VLOOKUP(B796,'Oman Results'!C796:AI1789,31)=\"x\",'Oman Results'!AK796,'Oman Results'!G796))","v":""},"",{"$f":"IF(B796=\"\",\"\",IF(VLOOKUP(B796,'Oman Results'!C796:AI1789,31)=\"x\",\"Yes\",\"\"))","v":""},{"$f":"IF(B796=\"\",\"\",IF(VLOOKUP(B796,'Oman Results'!C796:AI1789,31)=\"x\",'Oman Results'!G796,\"\"))","v":""},{"$f":"IF(B796=\"\",\"\",IF(VLOOKUP(B796,'Oman Results'!C796:AI1789,31)=\"x\",'Oman Results'!AJ796,\"\"))","v":""},{"$f":"IF(B796=\"\",\"\",IF(VLOOKUP(B796,'Oman Results'!C796:AI1789,31)=\"x\",'Oman Results'!AK796,\"\"))","v":""},null,null,"","","",""]
["",{"$f":"IF('Oman Results'!C797=\"\",\"\",'Oman Results'!C797)","v":""},{"$f":"IF(OR('Oman Results'!D797=\"\",'Oman Results'!D797=\"Totals\"),\"\",'Oman Results'!D797)","v":""},"",{"$f":"IF('Oman Results'!E797=\"\",\"\",'Oman Results'!E797)","v":""},{"$f":"IF('Oman Results'!F797=\"\",\"\",'Oman Results'!F797)","v":""},{"$f":"IF(B797=\"\",\"\",IF(VLOOKUP(B797,'Oman Results'!C797:AI1790,31)=\"x\",'Oman Results'!AK797,'Oman Results'!G797))","v":""},"",{"$f":"IF(B797=\"\",\"\",IF(VLOOKUP(B797,'Oman Results'!C797:AI1790,31)=\"x\",\"Yes\",\"\"))","v":""},{"$f":"IF(B797=\"\",\"\",IF(VLOOKUP(B797,'Oman Results'!C797:AI1790,31)=\"x\",'Oman Results'!G797,\"\"))","v":""},{"$f":"IF(B797=\"\",\"\",IF(VLOOKUP(B797,'Oman Results'!C797:AI1790,31)=\"x\",'Oman Results'!AJ797,\"\"))","v":""},{"$f":"IF(B797=\"\",\"\",IF(VLOOKUP(B797,'Oman Results'!C797:AI1790,31)=\"x\",'Oman Results'!AK797,\"\"))","v":""},null,null,"","","",""]
["",{"$f":"IF('Oman Results'!C798=\"\",\"\",'Oman Results'!C798)","v":""},{"$f":"IF(OR('Oman Results'!D798=\"\",'Oman Results'!D798=\"Totals\"),\"\",'Oman Results'!D798)","v":""},"",{"$f":"IF('Oman Results'!E798=\"\",\"\",'Oman Results'!E798)","v":""},{"$f":"IF('Oman Results'!F798=\"\",\"\",'Oman Results'!F798)","v":""},{"$f":"IF(B798=\"\",\"\",IF(VLOOKUP(B798,'Oman Results'!C798:AI1791,31)=\"x\",'Oman Results'!AK798,'Oman Results'!G798))","v":""},"",{"$f":"IF(B798=\"\",\"\",IF(VLOOKUP(B798,'Oman Results'!C798:AI1791,31)=\"x\",\"Yes\",\"\"))","v":""},{"$f":"IF(B798=\"\",\"\",IF(VLOOKUP(B798,'Oman Results'!C798:AI1791,31)=\"x\",'Oman Results'!G798,\"\"))","v":""},{"$f":"IF(B798=\"\",\"\",IF(VLOOKUP(B798,'Oman Results'!C798:AI1791,31)=\"x\",'Oman Results'!AJ798,\"\"))","v":""},{"$f":"IF(B798=\"\",\"\",IF(VLOOKUP(B798,'Oman Results'!C798:AI1791,31)=\"x\",'Oman Results'!AK798,\"\"))","v":""},null,null,"","","",""]
["",{"$f":"IF('Oman Results'!C799=\"\",\"\",'Oman Results'!C799)","v":""},{"$f":"IF(OR('Oman Results'!D799=\"\",'Oman Results'!D799=\"Totals\"),\"\",'Oman Results'!D799)","v":""},"",{"$f":"IF('Oman Results'!E799=\"\",\"\",'Oman Results'!E799)","v":""},{"$f":"IF('Oman Results'!F799=\"\",\"\",'Oman Results'!F799)","v":""},{"$f":"IF(B799=\"\",\"\",IF(VLOOKUP(B799,'Oman Results'!C799:AI1792,31)=\"x\",'Oman Results'!AK799,'Oman Results'!G799))","v":""},"",{"$f":"IF(B799=\"\",\"\",IF(VLOOKUP(B799,'Oman Results'!C799:AI1792,31)=\"x\",\"Yes\",\"\"))","v":""},{"$f":"IF(B799=\"\",\"\",IF(VLOOKUP(B799,'Oman Results'!C799:AI1792,31)=\"x\",'Oman Results'!G799,\"\"))","v":""},{"$f":"IF(B799=\"\",\"\",IF(VLOOKUP(B799,'Oman Results'!C799:AI1792,31)=\"x\",'Oman Results'!AJ799,\"\"))","v":""},{"$f":"IF(B799=\"\",\"\",IF(VLOOKUP(B799,'Oman Results'!C799:AI1792,31)=\"x\",'Oman Results'!AK799,\"\"))","v":""},null,null,"","","",""]
["",{"$f":"IF('Oman Results'!C800=\"\",\"\",'Oman Results'!C800)","v":""},{"$f":"IF(OR('Oman Results'!D800=\"\",'Oman Results'!D800=\"Totals\"),\"\",'Oman Results'!D800)","v":""},"",{"$f":"IF('Oman Results'!E800=\"\",\"\",'Oman Results'!E800)","v":""},{"$f":"IF('Oman Results'!F800=\"\",\"\",'Oman Results'!F800)","v":""},{"$f":"IF(B800=\"\",\"\",IF(VLOOKUP(B800,'Oman Results'!C800:AI1793,31)=\"x\",'Oman Results'!AK800,'Oman Results'!G800))","v":""},"",{"$f":"IF(B800=\"\",\"\",IF(VLOOKUP(B800,'Oman Results'!C800:AI1793,31)=\"x\",\"Yes\",\"\"))","v":""},{"$f":"IF(B800=\"\",\"\",IF(VLOOKUP(B800,'Oman Results'!C800:AI1793,31)=\"x\",'Oman Results'!G800,\"\"))","v":""},{"$f":"IF(B800=\"\",\"\",IF(VLOOKUP(B800,'Oman Results'!C800:AI1793,31)=\"x\",'Oman Results'!AJ800,\"\"))","v":""},{"$f":"IF(B800=\"\",\"\",IF(VLOOKUP(B800,'Oman Results'!C800:AI1793,31)=\"x\",'Oman Results'!AK800,\"\"))","v":""},null,null,"","","",""]

{"sheet":"Oman Results","index":3,"n_rows":995,"n_cols":55,"rows_kept":995,"cut":false,"hidden":false,"merged":[]}
[null,null,"*PAY ITEM*","Description","Quantity","Unit","Unit Price","Extension","Comparison #1","Extension #1","Count","Std. Dev.","Comparison #2","Extension #2","Count","Std. Dev.","Comparison #3","Extension #3","Count","Std. Dev.","Section","Sort Code","Alternate","Unit Variance","Total Variance","Bid Count","Bid Tot EXCL","Bid Tot EXCL2","Comp1","Comp1","Comp1","Round","Put x to \nSelect",null,"Unit Price After","Enter \n LS % ","New Unit Price","Warning",null,"Orig. Oman Amount:",{"$f":"SUMPRODUCT(E2:E995,G2:G995)","v":15346414.941000002},"Total Without Selected LS Items :",{"$f":"IF(AO1=\"\",\"\",SUMPRODUCT(E2:E995,AI2:AI995))","v":15217912.931000004},"Selected LS Items Amount:",{"$f":"IF(AO1=\"\",\"\",SUM(AK2:AK995))","v":1065253.9051700002},"Total Original Amount With Manual LS:",{"$f":"SUMPRODUCT(E2:E995,AI2:AI995)+SUMPRODUCT(E2:E995,AK2:AK995)","v":16283166.836170003},{"$f":"IF(AO1=\"\",\"\",SUMPRODUCT(AI2:AI995,AH2:AH995))","v":2017411.68},{"$f":"IF(AO1=\"\",\"\",SUMPRODUCT(AH2:AH995,G2:G995))","v":2145913.6900000004},"x","Oman","Manual %","Manual $",null,"Unit Price"]
[{"$f":"LEFT(C2,9)","v":"105-06845"},null,"105-06845           ","CONSTRUCTION ENGINEERING                                                                            ",1,"L.S. ",24269.77,24269.77,24269.77,24269.77,0,0,0,0,0,0,0,0,0,0,100,1,"                    ",0,0,0,24270,24270,24270,0,0,0,"x",{"$f":"IF(OR(LEFT(F2,2)=\"LS\",LEFT(F2,3)=\"L.S\"),1,0)","v":1},{"$f":"IF(G2=\"\",\"\",IF(AND(AG2<>\"\",AH2=1),0,G2))","v":0},0.04,{"$f":"IF(G2=\"\",\"\",IF(AND(AG2=\"x\",AH2=1),AJ2*$AQ$1,0))","v":608716.51724000019},{"$f":"IF(AND(AH2=1,AG2<>\"x\",AG2<>\"\"),\"You can only use x\",IF(AND(AH2=1,AG2=\"\",AJ2<>\"\"),\"Put x to Calculate\",\"\"))","v":""},null,null,null,null,null,null,null,null,null,null,null,null,null,null,null,null,24269.77]
[{"$f":"LEFT(C3,9)","v":"110-01001"},null,"110-01001           ","MOBILIZATION AND DEMOBILIZATION                                                                     ",1,"L.S. ",104232.24,104232.24,104232.24,104232.24,0,0,0,0,0,0,0,0,0,0,100,2,"                    ",0,0,0,104232,104232,104232,0,0,0,"x",{"$f":"IF(OR(LEFT(F3,2)=\"LS\",LEFT(F3,3)=\"L.S\"),1,0)","v":1},0,0.03,456537.38793000008,"",null,null,null,null,null,null,null,null,null,null,null,null,null,null,null,null,104232.24]
[{"$f":"LEFT(C4,9)","v":"201-52370"},null,"201-52370           ","CLEARING RIGHT OF WAY                                                                               ",1,"L.S. ",47271.03,47271.03,47271.03,47271.03,0,0,0,0,0,0,0,0,0,0,200,3,"                    ",0,0,0,47271,47271,47271,0,0,0,null,1,47271.03,null,0,"",null,null,null,null,null,null,null,null,null,null,null,null,null,null,null,null,47271.03]
["202-02240",null,"202-02240           ","PAVEMENT REMOVAL                                                                                    ",10050,"S.Y. ",7.51,75475.5,7.51,75475.5,0,0,0,0,0,0,0,0,0,0,200,4,"                    ",0,0,0,75476,75476,75476,0,0,0,null,0,7.51,null,0,"",null,null,null,null,null,null,null,null,null,null,null,null,null,null,null,null,7.51]
["202-51328",null,"202-51328           ","PRESENT STRUCTURE, REMOVE PORTIONS                                                                  ",1,"L.S. ",949288.28,949288.28,949288.28,949288.28,0,0,0,0,0,0,0,0,0,0,200,5,"                    ",0,0,0,949288,949288,949288,0,0,0,null,1,949288.28,null,0,"",null,null,null,null,null,null,null,null,null,null,null,null,null,null,null,null,949288.28]
["202-51330",null,"202-51330           ","PRESENT STRUCTURE, REMOVE                                                                           ",1,"L.S. ",65079.96,65079.96,65079.96,65079.96,0,0,0,0,0,0,0,0,0,0,200,6,"                    ",0,0,0,65080,65080,65080,0,0,0,null,1,65079.96,null,0,"",null,null,null,null,null,null,null,null,null,null,null,null,null,null,null,null,65079.96]
["202-74035",null,"202-74035           ","SIGN, REMOVE                                                                                        ",20,"EACH ",82.19,1643.8,82.19,1643.8,0,0,0,0,0,0,0,0,0,0,200,7,"                    ",0,0,0,1644,1644,1644,0,0,0,null,0,{"$f":"IF(G8=\"\",\"\",IF(AND(AG8<>\"\",AH8=1),0,G8))","v":82.19},null,0,"",null,null,null,null,null,null,null,null,null,null,null,null,null,null,null,null,82.19]
["202-74055",null,"202-74055           ","OVERHEAD SIGN STRUCTURE, BOX TRUSS, REMOVE                                                          ",5,"EACH ",3035.57,15177.85,3035.57,15177.85,0,0,0,0,0,0,0,0,0,0,200,8,"                    ",0,0,0,15178,15178,15178,0,0,0,null,0,3035.57,null,0,"",null,null,null,null,null,null,null,null,null,null,null,null,null,null,null,null,3035.57]
["202-85996",null,"202-85996           ","LIGHT STANDARD AND MAST ARM, REMOVE                                                                 ",2,"EACH ",401,802,401,802,0,0,0,0,0,0,0,0,0,0,200,9,"                    ",0,0,0,802,802,802,0,0,0,null,0,401,null,0,"",null,null,null,null,null,null,null,null,null,null,null,null,null,null,null,null,401]
["202-90413",null,"202-90413           ","SLOPEWALL, CONCRETE, 4 IN, REMOVE                                                                   ",400,"S.Y. ",59,23600,59,23600,0,0,0,0,0,0,0,0,0,0,200,10,"                    ",0,0,0,23600,23600,23600,0,0,0,null,0,59,null,{"$f":"IF(G11=\"\",\"\",IF(AND(AG11=\"x\",AH11=1),AJ11*$AQ$1,0))","v":0},"",null,null,null,null,null,null,null,null,null,null,null,null,null,null,null,null,59]
["202-93741",null,"202-93741           ","GUARDRAIL END TREATMENT, REMOVE                                                                     ",15,"EACH ",362.69,5440.35,362.69,5440.35,0,0,0,0,0,0,0,0,0,0,200,11,"                    ",0,0,0,5440,5440,5440,0,0,0,null,0,362.69,null,0,"",null,null,null,null,null,null,null,null,null,null,null,null,null,null,null,null,362.69]
["202-94954",null,"202-94954           ","BARRIER WALL, CONCRETE, REMOVE                                                                      ",750,"L.F. ",18.309999999999999,13732.5,18.309999999999999,13732.5,0,0,0,0,0,0,0,0,0,0,200,12,"                    ",0,0,0,13733,13733,13733,0,0,0,null,0,18.309999999999999,null,0,"",null,null,null,null,null,null,null,null,null,null,null,null,null,null,null,null,18.309999999999999]
["202-95027",null,"202-95027           ","IMPACT ATTENUATOR, REMOVE                                                                           ",2,"EACH ",798,1596,798,1596,0,0,0,0,0,0,0,0,0,0,200,13,"                    ",0,0,0,1596,1596,1596,0,0,0,null,0,798,null,0,"",null,null,null,null,null,null,null,null,null,null,null,null,null,null,null,null,798]
["202-96022",null,"202-96022           ","CONCRETE FOUNDATION, REMOVE                                                                         ",1,"EACH ",389.52,389.52,389.52,389.52,0,0,0,0,0,0,0,0,0,0,200,14,"                    ",0,0,0,390,390,390,0,0,0,null,0,389.52,null,0,"",null,null,null,null,null,null,null,null,null,null,null,null,null,null,null,null,389.52]
["202-96328",null,"202-96328           ","FOUNDATION, STREET LIGHT, REMOVE                                                                    ",23,"EACH ",961,22103,961,22103,0,0,0,0,0,0,0,0,0,0,200,15,"                    ",0,0,0,22103,22103,22103,0,0,0,null,0,961,null,0,"",null,null,null,null,null,null,null,null,null,null,null,null,null,null,null,null,961]
["203-02000",null,"203-02000           ","EXCAVATION, COMMON                                                                                  ",65200,"C.Y. ",9.23,601796,9.23,601796,0,0,0,0,0,0,0,0,0,0,200,16,"                    ",0,0,0,601796,601796,601796,0,0,0,null,0,9.23,null,0,"",null,null,null,null,null,null,null,null,null,null,null,null,null,null,null,null,9.23]
["203-02070",null,"203-02070           ","BORROW                                                                                              ",20800,"C.Y. ",5.84,121472,5.84,121472,0,0,0,0,0,0,0,0,0,0,200,17,"                    ",0,0,0,121472,121472,121472,0,0,0,null,0,5.84,null,0,"",null,null,null,null,null,null,null,null,null,null,null,null,null,null,null,null,5.84]
["205-03371",null,"205-03371           ","SEDIMENT, REMOVE                                                                                    ",65,"C.Y. ",13.47,875.55,13.47,875.55,0,0,0,0,0,0,0,0,0,0,200,18,"                    ",0,0,0,876,876,876,0,0,0,null,0,13.47,null,0,"",null,null,null,null,null,null,null,null,null,null,null,null,null,null,null,null,13.47]
["205-06930",null,"205-06930           ","SPLASHPAD, RIPRAP                                                                                   ",2.7,"TON  ",44.77,120.88,44.77,120.88,0,0,0,0,0,0,0,0,0,0,200,19,"                    ",0,0,0,121,121,121,0,0,0,null,0,44.77,null,0,"",null,null,null,null,null,null,null,null,null,null,null,null,null,null,null,null,44.77]
["205-06931",null,"205-06931           ","TEMPORARY CHECK DAM, REVETMENT RIPRAP                                                               ",750,"TON  ",42.44,31830,42.44,31830,0,0,0,0,0,0,0,0,0,0,200,20,"                    ",0,0,0,31830,31830,31830,0,0,0,null,0,42.44,null,0,"",null,null,null,null,null,null,null,null,null,null,null,null,null,null,null,null,42.44]
["205-06936",null,"205-06936           ","TEMPORARY SEDIMENT TRAP                                                                             ",80,"TON  ",40.58,3246.4,40.58,3246.4,0,0,0,0,0,0,0,0,0,0,200,21,"                    ",0,0,0,3246,3246,3246,0,0,0,null,0,40.58,null,0,"",null,null,null,null,null,null,null,null,null,null,null,null,null,null,null,null,40.58]
["205-06937",null,"205-06937           ","TEMPORARY SILT FENCE                                                                                ",15160,"L.F. ",1.58,23952.799999999999,1.58,23952.799999999999,0,0,0,0,0,0,0,0,0,0,200,22,"                    ",0,0,0,23953,23953,23953,0,0,0,null,0,1.58,null,0,"",null,null,null,null,null,null,null,null,null,null,null,null,null,null,null,null,1.58]
["205-06938",null,"205-06938           ","TEMPORARY SLOPE DRAIN                                                                               ",175,"L.F. ",16.920000000000002,2961,16.920000000000002,2961,0,0,0,0,0,0,0,0,0,0,200,23,"                    ",0,0,0,2961,2961,2961,0,0,0,null,0,16.920000000000002,null,0,"",null,null,null,null,null,null,null,null,null,null,null,null,null,null,null,null,16.920000000000002]
["207-08263",null,"207-08263           ","SUBGRADE TREATMENT, TYPE IA                                                                         ",65400,"S.Y. ",6.28,410712,6.28,410712,0,0,0,0,0,0,0,0,0,0,200,24,"                    ",0,0,0,410712,410712,410712,0,0,0,null,0,6.28,null,0,"",null,null,null,null,null,null,null,null,null,null,null,null,null,null,null,null,6.28]
["211-02050",null,"211-02050           ","B BORROW                                                                                            ",35850,"C.Y. ",19.260000000000002,690471,19.260000000000002,690471,0,0,0,0,0,0,0,0,0,0,200,25,"                    ",0,0,0,690471,690471,690471,0,0,0,null,0,19.260000000000002,null,0,"",null,null,null,null,null,null,null,null,null,null,null,null,null,null,null,null,19.260000000000002]
["211-09264",null,"211-09264           ","STRUCTURAL BACKFILL, TYPE 1                                                                         ",80,"C.Y. ",19.11,1528.8,19.11,1528.8,0,0,0,0,0,0,0,0,0,0,200,26,"                    ",0,0,0,1529,1529,1529,0,0,0,null,0,19.11,null,0,"",null,null,null,null,null,null,null,null,null,null,null,null,null,null,null,null,19.11]
["211-09266",null,"211-09266           ","STRUCTURAL BACKFILL, TYPE 3                                                                         ",50900,"C.Y. ",22.07,1123363,22.07,1123363,0,0,0,0,0,0,0,0,0,0,200,27,"                    ",0,0,0,1123363,1123363,1123363,0,0,0,null,0,22.07,null,0,"",null,null,null,null,null,null,null,null,null,null,null,null,null,null,null,null,22.07]
["216-06397",null,"216-06397           ","WIRE MESH                                                                                           ",415,"S.Y. ",31.75,13176.25,31.75,13176.25,0,0,0,0,0,0,0,0,0,0,200,28,"                    ",0,0,0,13176,13176,13176,0,0,0,null,0,31.75,null,0,"",null,null,null,null,null,null,null,null,null,null,null,null,null,null,null,null,31.75]
["302-07455",null,"302-07455           ","DENSE GRADED SUBBASE                                                                                ",148,"C.Y. ",58.34,8634.32,58.34,8634.32,0,0,0,0,0,0,0,0,0,0,300,29,"                    ",0,0,0,8634,8634,8634,0,0,0,null,0,58.34,null,0,"",null,null,null,null,null,null,null,null,null,null,null,null,null,null,null,null,58.34]
["302-08562",null,"302-08562           ","COARSE AGGREGATE, NO 8                                                                              ",880,"TON  ",29.49,25951.200000000001,29.49,25951.200000000001,0,0,0,0,0,0,0,0,0,0,300,30,"                    ",0,0,0,25951,25951,25951,0,0,0,null,0,29.49,null,0,"",null,null,null,null,null,null,null,null,null,null,null,null,null,null,null,null,29.49]
["303-01180",null,"303-01180           ","COMPACTED AGGREGATE, NO. 53                                                                         ",6450,"TON  ",20.46,131967,20.46,131967,0,0,0,0,0,0,0,0,0,0,300,31,"                    ",0,0,0,131967,131967,131967,0,0,0,null,0,20.46,null,0,"",null,null,null,null,null,null,null,null,null,null,null,null,null,null,null,null,20.46]
["306-08042",null,"306-08042           ","MILLING, SCARIFICATION/PROFILE                                                                      ",36100,"S.Y. ",0.47,16967,0.47,16967,0,0,0,0,0,0,0,0,0,0,300,32,"                    ",0,0,0,16967,16967,16967,0,0,0,null,0,0.47,null,0,"",null,null,null,null,null,null,null,null,null,null,null,null,null,null,null,null,0.47]
["401-06264",null,"401-06264           ","PROFILOGRAPH, HMA                                                                                   ",1,"L.S. ",5027.78,5027.78,5027.78,5027.78,0,0,0,0,0,0,0,0,0,0,400,33,"                    ",0,0,0,5028,5028,5028,0,0,0,null,1,5027.78,null,0,"",null,null,null,null,null,null,null,null,null,null,null,null,null,null,null,null,5027.78]
["401-07335",null,"401-07335           ","QC/QA-HMA, 4, 76, SURFACE, 9.5 mm                                                                   ",7500,"TON  ",84,630000,84,630000,0,0,0,0,0,0,0,0,0,0,400,34,"                    ",0,0,0,630000,630000,630000,0,0,0,null,0,84,null,0,"",null,null,null,null,null,null,null,null,null,null,null,null,null,null,null,null,84]
["401-07404",null,"401-07404           ","QC/QA-HMA, 4, 76, INTERMEDIATE, 19.0 mm                                                             ",7900,"TON  ",63,497700,63,497700,0,0,0,0,0,0,0,0,0,0,400,35,"                    ",0,0,0,497700,497700,497700,0,0,0,null,0,63,null,0,"",null,null,null,null,null,null,null,null,null,null,null,null,null,null,null,null,63]
["401-07409",null,"401-07409           ","QC/QA-HMA, 4, 64, BASE, 25.0 mm                                                                     ",28350,"TON  ",52.53,1489225.5,52.53,1489225.5,0,0,0,0,0,0,0,0,0,0,400,36,"                    ",0,0,0,1489226,1489226,1489226,0,0,0,null,0,52.53,null,0,"",null,null,null,null,null,null,null,null,null,null,null,null,null,null,null,null,52.53]
["401-07429",null,"401-07429           ","QC/QA-HMA, 5, 76, INTERMEDIATE, OG, 19.0 mm                                                         ",10500,"TON  ",55.33,580965,55.33,580965,0,0,0,0,0,0,0,0,0,0,400,37,"                    ",0,0,0,580965,580965,580965,0,0,0,null,0,55.33,null,0,"",null,null,null,null,null,null,null,null,null,null,null,null,null,null,null,null,55.33]
["406-05520",null,"406-05520           ","ASPHALT FOR TACK COAT                                                                               ",80,"TON  ",353.75,28300,353.75,28300,0,0,0,0,0,0,0,0,0,0,400,38,"                    ",0,0,0,28300,28300,28300,0,0,0,null,0,353.75,null,0,"",null,null,null,null,null,null,null,null,null,null,null,null,null,null,null,null,353.75]
["601-01128",null,"601-01128           ","GUARDRAIL, TRANSITION TYPE WGB                                                                      ",6,"EACH ",1328.82,7972.92,1328.82,7972.92,0,0,0,0,0,0,0,0,0,0,600,39,"                    ",0,0,0,7973,7973,7973,0,0,0,null,0,1328.82,null,0,"",null,null,null,null,null,null,null,null,null,null,null,null,null,null,null,null,1328.82]
["601-01522",null,"601-01522           ","GUARDRAIL, TRANSITION TYPE TGB                                                                      ",5,"EACH ",2055.17,10275.85,2055.17,10275.85,0,0,0,0,0,0,0,0,0,0,600,40,"                    ",0,0,0,10276,10276,10276,0,0,0,null,0,2055.17,null,0,"",null,null,null,null,null,null,null,null,null,null,null,null,null,null,null,null,2055.17]
["601-02241",null,"601-02241           ","GUARDRAIL, REMOVE                                                                                   ",4800,"L.F. ",3.31,15888,3.31,15888,0,0,0,0,0,0,0,0,0,0,600,41,"                    ",0,0,0,15888,15888,15888,0,0,0,null,0,3.31,null,0,"",null,null,null,null,null,null,null,null,null,null,null,null,null,null,null,null,3.31]
["601-06233",null,"601-06233           ","IMPACT ATTENUATOR, ED, W1, TL-3                                                                     ",1,"EACH ",8265.48,8265.48,8265.48,8265.48,0,0,0,0,0,0,0,0,0,0,600,42,"                    ",0,0,0,8265,8265,8265,0,0,0,null,0,8265.48,null,0,"",null,null,null,null,null,null,null,null,null,null,null,null,null,null,null,null,8265.48]
["601-06416",null,"601-06416           ","IMPACT ATTENUATOR SPARE PARTS PACKAGE, ED, W1, TL-3                                                 ",1,"EACH ",659,659,659,659,0,0,0,0,0,0,0,0,0,0,600,43,"                    ",0,0,0,659,659,659,0,0,0,null,0,659,null,0,"",null,null,null,null,null,null,null,null,null,null,null,null,null,null,null,null,659]
["601-08433",null,"601-08433           ","GUARDRAIL END TREATMENT, TYPE OS, SPARE PARTS PACKAGE, STAGE 1                                      ",11,"EACH ",637.59,7013.49,637.59,7013.49,0,0,0,0,0,0,0,0,0,0,600,44,"                    ",0,0,0,7013,7013,7013,0,0,0,null,0,637.59,null,0,"",null,null,null,null,null,null,null,null,null,null,null,null,null,null,null,null,637.59]
["601-08434",null,"601-08434           ","GUARDRAIL END TREATMENT, TYPE OS, SPARE PARTS PACKAGE, STAGE 2                                      ",13,"EACH ",1059.8599999999999,13778.18,1059.8599999999999,13778.18,0,0,0,0,0,0,0,0,0,0,600,45,"                    ",0,0,0,13778,13778,13778,0,0,0,null,0,1059.8599999999999,null,0,"",null,null,null,null,null,null,null,null,null,null,null,null,null,null,null,null,1059.8599999999999]
["601-09149",null,"601-09149           ","IMPACT ATTENUATOR, CR1, W1, TL-3                                                                    ",3,"EACH ",26133.33,78399.990000000005,26133.33,78399.990000000005,0,0,0,0,0,0,0,0,0,0,600,46,"                    ",0,0,0,78400,78400,78400,0,0,0,null,0,26133.33,null,0,"",null,null,null,null,null,null,null,null,null,null,null,null,null,null,null,null,26133.33]
["601-94689",null,"601-94689           ","GUARDRAIL END TREATMENT, OS                                                                         ",15,"EACH ",2633.72,39505.800000000003,2633.72,39505.800000000003,0,0,0,0,0,0,0,0,0,0,600,47,"                    ",0,0,0,39506,39506,39506,0,0,0,null,0,2633.72,null,0,"",null,null,null,null,null,null,null,null,null,null,null,null,null,null,null,null,2633.72]
["601-99105",null,"601-99105           ","GUARDRAIL, W-BEAM, 6 FT 3 IN SPACING                                                                ",5300,"L.F. ",19.62,103986,19.62,103986,0,0,0,0,0,0,0,0,0,0,600,48,"                    ",0,0,0,103986,103986,103986,0,0,0,null,0,19.62,null,0,"",null,null,null,null,null,null,null,null,null,null,null,null,null,null,null,null,19.62]
["602-06729",null,"602-06729           ","BARRIER DELINEATOR                                                                                  ",131,"EACH ",16.11,2110.41,16.11,2110.41,0,0,0,0,0,0,0,0,0,0,600,49,"                    ",0,0,0,2110,2110,2110,0,0,0,null,0,16.11,null,0,"",null,null,null,null,null,null,null,null,null,null,null,null,null,null,null,null,16.11]
["602-08605",null,"602-08605           ","CONCRETE BARRIER, 33 IN                                                                             ",5900,"L.F. ",86.92,512828,86.92,512828,0,0,0,0,0,0,0,0,0,0,600,50,"                    ",0,0,0,512828,512828,512828,0,0,0,null,0,86.92,null,0,"",null,null,null,null,null,null,null,null,null,null,null,null,null,null,null,null,86.92]
["604-06411",null,"604-06411           ","IMPACT ATTENUATOR SPARE PARTS PACKAGE, CR, W1, TL-3                                                 ",3,"EACH ",550,1650,550,1650,0,0,0,0,0,0,0,0,0,0,600,51,"                    ",0,0,0,1650,1650,1650,0,0,0,null,0,550,null,0,"",null,null,null,null,null,null,null,null,null,null,null,null,null,null,null,null,550]
["605-06140",null,"605-06140           ","CURB AND GUTTER, CONCRETE                                                                           ",145,"L.F. ",15.5,2247.5,15.5,2247.5,0,0,0,0,0,0,0,0,0,0,600,52,"                    ",0,0,0,2248,2248,2248,0,0,0,null,0,15.5,null,0,"",null,null,null,null,null,null,null,null,null,null,null,null,null,null,null,null,15.5]
["606-07484",null,"606-07484           ","MILLED HMA SHOULDER CORRUGATIONS                                                                    ",39500,"L.F. ",0.19,7505,0.19,7505,0,0,0,0,0,0,0,0,0,0,600,53,"                    ",0,0,0,7505,7505,7505,0,0,0,null,0,0.19,null,0,"",null,null,null,null,null,null,null,null,null,null,null,null,null,null,null,null,0.19]
["609-06259",null,"609-06259           ","REINFORCED CONCRETE BRIDGE APPROACH 12 IN                                                           ",880,"S.Y. ",78.3,68904,78.3,68904,0,0,0,0,0,0,0,0,0,0,600,54,"                    ",0,0,0,68904,68904,68904,0,0,0,null,0,78.3,null,0,"",null,null,null,null,null,null,null,null,null,null,null,null,null,null,null,null,78.3]
["615-06505",null,"615-06505           ","MONUMENT, B                                                                                         ",45,"EACH ",671.47,30216.15,671.47,30216.15,0,0,0,0,0,0,0,0,0,0,600,55,"                    ",0,0,0,30216,30216,30216,0,0,0,null,0,671.47,null,0,"",null,null,null,null,null,null,null,null,null,null,null,null,null,null,null,null,671.47]
["615-06510",null,"615-06510           ","MONUMENT, C                                                                                         ",6,"EACH ",470.75,2824.5,470.75,2824.5,0,0,0,0,0,0,0,0,0,0,600,56,"                    ",0,0,0,2825,2825,2825,0,0,0,null,0,470.75,null,0,"",null,null,null,null,null,null,null,null,null,null,null,null,null,null,null,null,470.75]
["615-06527",null,"615-06527           ","MONUMENT, SECTION CORNER                                                                            ",2,"EACH ",609.65,1219.3,609.65,1219.3,0,0,0,0,0,0,0,0,0,0,600,57,"                    ",0,0,0,1219,1219,1219,0,0,0,null,0,609.65,null,0,"",null,null,null,null,null,null,null,null,null,null,null,null,null,null,null,null,609.65]
["615-92498",null,"615-92498           ","BENCH MARK                                                                                          ",1,"EACH ",388.33,388.33,388.33,388.33,0,0,0,0,0,0,0,0,0,0,600,58,"                    ",0,0,0,388,388,388,0,0,0,null,0,388.33,null,0,"",null,null,null,null,null,null,null,null,null,null,null,null,null,null,null,null,388.33]
["621-01004",null,"621-01004           ","MOBILIZATION AND DEMOBILIZATION FOR SEEDING                                                         ",18,"EACH ",425.45,7658.1,425.45,7658.1,0,0,0,0,0,0,0,0,0,0,600,59,"                    ",0,0,0,7658,7658,7658,0,0,0,null,0,425.45,null,0,"",null,null,null,null,null,null,null,null,null,null,null,null,null,null,null,null,425.45]
["621-06545",null,"621-06545           ","FERTILIZER                                                                                          ",7.2,"TON  ",341.51,2458.87,341.51,2458.87,0,0,0,0,0,0,0,0,0,0,600,60,"                    ",0,0,0,2459,2459,2459,0,0,0,null,0,341.51,null,0,"",null,null,null,null,null,null,null,null,null,null,null,null,null,null,null,null,341.51]
["621-06554",null,"621-06554           ","SEED MIXTURE, U                                                                                     ",2275,"LBS  ",4.2699999999999996,9714.25,4.2699999999999996,9714.25,0,0,0,0,0,0,0,0,0,0,600,61,"                    ",0,0,0,9714,9714,9714,0,0,0,null,0,4.2699999999999996,null,0,"",null,null,null,null,null,null,null,null,null,null,null,null,null,null,null,null,4.2699999999999996]
["621-06557",null,"621-06557           ","SEED MIXTURE, T                                                                                     ",1045,"LBS  ",2.33,2434.85,2.33,2434.85,0,0,0,0,0,0,0,0,0,0,600,62,"                    ",0,0,0,2435,2435,2435,0,0,0,null,0,2.33,null,0,"",null,null,null,null,null,null,null,null,null,null,null,null,null,null,null,null,2.33]
["621-06565",null,"621-06565           ","MULCHING MATERIAL                                                                                   ",42,"TON  ",278.57,11699.94,278.57,11699.94,0,0,0,0,0,0,0,0,0,0,600,63,"                    ",0,0,0,11700,11700,11700,0,0,0,null,0,278.57,null,0,"",null,null,null,null,null,null,null,null,null,null,null,null,null,null,null,null,278.57]
["621-06574",null,"621-06574           ","SODDING                                                                                             ",1675,"S.Y. ",3.15,5276.25,3.15,5276.25,0,0,0,0,0,0,0,0,0,0,600,64,"                    ",0,0,0,5276,5276,5276,0,0,0,null,0,3.15,null,0,"",null,null,null,null,null,null,null,null,null,null,null,null,null,null,null,null,3.15]
["628-09403",null,"628-09403           ","FIELD OFFICE, C                                                                                     ",18,"MONTH",2376.11,42769.98,2376.11,42769.98,0,0,0,0,0,0,0,0,0,0,600,65,"                    ",0,0,0,42770,42770,42770,0,0,0,null,0,2376.11,null,0,{"$f":"IF(AND(AH66=1,AG66<>\"x\",AG66<>\"\"),\"You can only use x\",IF(AND(AH66=1,AG66=\"\",AJ66<>\"\"),\"Put x to Calculate\",\"\"))","v":""},null,null,null,null,null,null,null,null,null,null,null,null,null,null,null,null,2376.11]
["701-01814",null,"701-01814           ","MOBILIZATION FOR DYNAMIC PILE MONITORING AND EQUIPMENT                                              ",2,"EACH ",1264.76,2529.52,1264.76,2529.52,0,0,0,0,0,0,0,0,0,0,700,66,"                    ",0,0,0,2530,2530,2530,0,0,0,null,{"$f":"IF(OR(LEFT(F67,2)=\"LS\",LEFT(F67,3)=\"L.S\"),1,0)","v":0},{"$f":"IF(G67=\"\",\"\",IF(AND(AG67<>\"\",AH67=1),0,G67))","v":1264.76},null,0,"",null,null,null,null,null,null,null,null,null,null,null,null,null,null,null,null,1264.76]
[{"$f":"LEFT(C68,9)","v":"701-05780"},null,"701-05780           ","DRILLED SHAFT CONCRETE                                                                              ",350,"C.Y. ",526,184100,526,184100,0,0,0,0,0,0,0,0,0,0,700,67,"                    ",0,0,0,184100,184100,184100,0,0,0,null,0,526,null,0,"",null,null,null,null,null,null,null,null,null,null,null,null,null,null,null,null,526]
["701-05781",null,"701-05781           ","UNCLASSIFIED SHAFT EXCAVATION                                                                       ",180,"C.Y. ",345,62100,345,62100,0,0,0,0,0,0,0,0,0,0,700,68,"                    ",0,0,0,62100,62100,62100,0,0,0,null,0,345,null,0,"",null,null,null,null,null,null,null,null,null,null,null,null,null,null,null,null,345]
["701-05782",null,"701-05782           ","UNCLASSIFIED EXTRA DEPTH EXCAVATION                                                                 ",50,"C.Y. ",509,25450,509,25450,0,0,0,0,0,0,0,0,0,0,700,69,"                    ",0,0,0,25450,25450,25450,0,0,0,null,0,509,null,0,"",null,null,null,null,null,null,null,null,null,null,null,null,null,null,null,null,509]
["701-05783",null,"701-05783           ","OBSTRUCTIONS                                                                                        ",30,"HOUR ",703,21090,703,21090,0,0,0,0,0,0,0,0,0,0,700,70,"                    ",0,0,0,21090,21090,21090,0,0,0,null,0,703,null,0,"",null,null,null,null,null,null,null,null,null,null,null,null,null,null,null,null,703]
["701-06011",null,"701-06011           ","DYNAMIC PILE LOAD TEST                                                                              ",4,"EACH ",1829.48,7317.92,1829.48,7317.92,0,0,0,0,0,0,0,0,0,0,700,71,"                    ",0,0,0,7318,7318,7318,0,0,0,null,0,1829.48,null,0,"",null,null,null,null,null,null,null,null,null,null,null,null,null,null,null,null,1829.48]
["701-09557",null,"701-09557           ","TEST PILE, DYNAMIC, PRODUCTION                                                                      ",350,"L.F. ",48.69,17041.5,48.69,17041.5,0,0,0,0,0,0,0,0,0,0,700,72,"                    ",0,0,0,17042,17042,17042,0,0,0,null,0,48.69,null,0,"",null,null,null,null,null,null,null,null,null,null,null,null,null,null,null,null,48.69]
["701-09559",null,"701-09559           ","TEST PILE, DYNAMIC, RESTRIKE                                                                        ",5,"EACH ",1356.13,6780.65,1356.13,6780.65,0,0,0,0,0,0,0,0,0,0,700,73,"                    ",0,0,0,6781,6781,6781,0,0,0,null,0,1356.13,null,0,"",null,null,null,null,null,null,null,null,null,null,null,null,null,null,null,null,1356.13]
["701-09683",null,"701-09683           ","PILE SHOE, HP 12 X 74                                                                               ",85,"EACH ",150,12750,150,12750,0,0,0,0,0,0,0,0,0,0,700,74,"                    ",0,0,0,12750,12750,12750,0,0,0,null,0,150,null,{"$f":"IF(G75=\"\",\"\",IF(AND(AG75=\"x\",AH75=1),AJ75*$AQ$1,0))","v":0},"",null,null,null,null,null,null,null,null,null,null,null,null,null,null,null,null,150]
["701-95780",null,"701-95780           ","PILE, STEEL H, HP 12 IN X 74                                                                        ",5780,"L.F. ",27.33,157967.4,27.33,157967.4,0,0,0,0,0,0,0,0,0,0,700,75,"                    ",0,0,0,157967,157967,157967,0,0,0,null,0,27.33,null,0,"",null,null,null,null,null,null,null,null,null,null,null,null,null,null,null,null,27.33]
["702-51005",null,"702-51005           ","CONCRETE, A, SUBSTRUCTURE                                                                           ",815,"C.Y. ",545.87,444884.05,545.87,444884.05,0,0,0,0,0,0,0,0,0,0,700,76,"                    ",0,0,0,444884,444884,444884,0,0,0,null,0,545.87,null,0,"",null,null,null,null,null,null,null,null,null,null,null,null,null,null,null,null,545.87]
["702-51110",null,"702-51110           ","GRATES, BASINS, AND FITTINGS, CAST IRON                                                             ",10200,"LBS  ",5.15,52530,5.15,52530,0,0,0,0,0,0,0,0,0,0,700,77,"                    ",0,0,0,52530,52530,52530,0,0,0,null,0,5.15,null,0,"",null,null,null,null,null,null,null,null,null,null,null,null,null,null,null,null,5.15]
["703-06028",null,"703-06028           ","REINFORCING BARS                                                                                    ",89175,"LBS  ",0.9,80257.5,0.9,80257.5,0,0,0,0,0,0,0,0,0,0,700,78,"                    ",0,0,0,80258,80258,80258,0,0,0,null,0,0.9,null,0,"",null,null,null,null,null,null,null,null,null,null,null,null,null,null,null,null,0.9]
["703-06029",null,"703-06029           ","REINFORCING BARS, EPOXY COATED                                                                      ",388200,"LBS  ",0.94,364908,0.94,364908,0,0,0,0,0,0,0,0,0,0,700,79,"                    ",0,0,0,364908,364908,364908,0,0,0,null,0,0.94,null,0,"",null,null,null,null,null,null,null,null,null,null,null,null,null,null,null,null,0.94]
["704-51002",null,"704-51002           ","CONCRETE, C, SUPERSTRUCTURE                                                                         ",955,"C.Y. ",558.25,533128.75,558.25,533128.75,0,0,0,0,0,0,0,0,0,0,700,80,"                    ",0,0,0,533129,533129,533129,0,0,0,null,0,558.25,null,0,"",null,null,null,null,null,null,null,null,null,null,null,null,null,null,null,null,558.25]
["706-05734",null,"706-05734           ","CONCRETE BRIDGE RAILING TRANSITION, TBT                                                             ",8,"EACH ",1836,14688,1836,14688,0,0,0,0,0,0,0,0,0,0,700,81,"                    ",0,0,0,14688,14688,14688,0,0,0,null,0,1836,null,0,"",null,null,null,null,null,null,null,null,null,null,null,null,null,null,null,null,1836]
["706-08496",null,"706-08496           ","REINFORCED CONCRETE MOMENT SLAB, 12 IN                                                              ",3350,"S.Y. ",85.42,286157,85.42,286157,0,0,0,0,0,0,0,0,0,0,700,82,"                    ",0,0,0,286157,286157,286157,0,0,0,null,0,85.42,null,0,"",null,null,null,null,null,null,null,null,null,null,null,null,null,null,null,null,85.42]
["706-51020",null,"706-51020           ","RAILING, CONCRETE, C                                                                                ",240,"C.Y. ",496.11,119066.4,496.11,119066.4,0,0,0,0,0,0,0,0,0,0,700,83,"                    ",0,0,0,119066,119066,119066,0,0,0,null,0,496.11,null,0,"",null,null,null,null,null,null,null,null,null,null,null,null,null,null,null,null,496.11]
["707-01065",null,"707-01065           ","POST-TENSIONING                                                                                     ",1,"L.S. ",324000,324000,324000,324000,0,0,0,0,0,0,0,0,0,0,700,84,"                    ",0,0,0,324000,324000,324000,0,0,0,null,1,324000,null,0,"",null,null,null,null,null,null,null,null,null,null,null,null,null,null,null,null,324000]
["709-51821",null,"709-51821           ","SURFACE SEAL                                                                                        ",1,"L.S. ",9377.93,9377.93,9377.93,9377.93,0,0,0,0,0,0,0,0,0,0,700,85,"                    ",0,0,0,9378,9378,9378,0,0,0,null,1,9377.93,null,0,"",null,null,null,null,null,null,null,null,null,null,null,null,null,null,null,null,9377.93]
["711-51038",null,"711-51038           ","STRUCTURAL STEEL                                                                                    ",1,"L.S. ",569071.25,569071.25,569071.25,569071.25,0,0,0,0,0,0,0,0,0,0,700,86,"                    ",0,0,0,569071,569071,569071,0,0,0,null,1,569071.25,null,0,"",null,null,null,null,null,null,null,null,null,null,null,null,null,null,null,null,569071.25]
["713-51820",null,"713-51820           ","TEMPORARY SUPPORT                                                                                   ",1,"L.S. ",962.56,962.56,962.56,962.56,0,0,0,0,0,0,0,0,0,0,700,87,"                    ",0,0,0,963,963,963,0,0,0,null,1,962.56,null,0,"",null,null,null,null,null,null,null,null,null,null,null,null,null,null,null,null,962.56]
["714-44240",null,"714-44240           ","Item Not Found in the Current Pay Item                                                              ",150,"C.Y. ",635.64,95346,635.64,95346,0,0,0,0,0,0,0,0,0,0,700,88,"                    ",0,0,0,95346,95346,95346,0,0,0,null,0,635.64,null,0,"",null,null,null,null,null,null,null,null,null,null,null,null,null,null,null,null,635.64]
["715-02246",null,"715-02246           ","PIPE END SECTION, 48 IN                                                                             ",2,"EACH ",2547.81,5095.62,2547.81,5095.62,0,0,0,0,0,0,0,0,0,0,700,89,"                    ",0,0,0,5096,5096,5096,0,0,0,null,0,2547.81,null,0,"",null,null,null,null,null,null,null,null,null,null,null,null,null,null,null,null,2547.81]
["715-05048",null,"715-05048           ","PIPE, TYPE 4 CIRCULAR 6 IN                                                                          ",25000,"L.F. ",3.49,87250,3.49,87250,0,0,0,0,0,0,0,0,0,0,700,90,"                    ",0,0,0,87250,87250,87250,0,0,0,null,0,3.49,null,0,"",null,null,null,null,null,null,null,null,null,null,null,null,null,null,null,null,3.49]
["715-05053",null,"715-05053           ","PIPE, UNDERDRAIN, OUTLET 6 IN                                                                       ",1100,"L.F. ",14.15,15565,14.15,15565,0,0,0,0,0,0,0,0,0,0,700,91,"                    ",0,0,0,15565,15565,15565,0,0,0,null,0,14.15,null,0,"",null,null,null,null,null,null,null,null,null,null,null,null,null,null,null,null,14.15]
["715-05152",null,"715-05152           ","PIPE, TYPE 2 CIRCULAR 18 IN                                                                         ",55,"L.F. ",39.619999999999997,2179.1,39.619999999999997,2179.1,0,0,0,0,0,0,0,0,0,0,700,92,"                    ",0,0,0,2179,2179,2179,0,0,0,null,0,39.619999999999997,null,0,"",null,null,null,null,null,null,null,null,null,null,null,null,null,null,null,null,39.619999999999997]
["715-05161",null,"715-05161           ","PIPE, TYPE 2 CIRCULAR 48 IN                                                                         ",125,"L.F. ",156.57,19571.25,156.57,19571.25,0,0,0,0,0,0,0,0,0,0,700,93,"                    ",0,0,0,19571,19571,19571,0,0,0,null,0,156.57,null,0,"",null,null,null,null,null,null,null,null,null,null,null,null,null,null,null,null,156.57]
["715-05177",null,"715-05177           ","PIPE, TYPE 3 CIRCULAR 36 IN                                                                         ",200,"L.F. ",94,18800,94,18800,0,0,0,0,0,0,0,0,0,0,700,94,"                    ",0,0,0,18800,18800,18800,0,0,0,null,0,94,null,0,"",null,null,null,null,null,null,null,null,null,null,null,null,null,null,null,null,94]
["715-05422",null,"715-05422           ","PIPE, SLOTTED DRAIN, 12 IN                                                                          ",1500,"L.F. ",62.62,93930,62.62,93930,0,0,0,0,0,0,0,0,0,0,700,95,"                    ",0,0,0,93930,93930,93930,0,0,0,null,0,62.62,null,0,"",null,null,null,null,null,null,null,null,null,null,null,null,null,null,null,null,62.62]
["715-05428",null,"715-05428           ","PIPE SLOTTED VANE DRAIN, 12 IN                                                                      ",2775,"L.F. ",112.15,311216.25,112.15,311216.25,0,0,0,0,0,0,0,0,0,0,700,96,"                    ",0,0,0,311216,311216,311216,0,0,0,null,0,112.15,null,0,"",null,null,null,null,null,null,null,null,null,null,null,null,null,null,null,null,112.15]
["715-05756",null,"715-05756           ","PIPE EXTENSION, CIRCULAR 12 IN                                                                      ",450,"L.F. ",35,15750,35,15750,0,0,0,0,0,0,0,0,0,0,700,97,"                    ",0,0,0,15750,15750,15750,0,0,0,null,0,35,null,0,"",null,null,null,null,null,null,null,null,null,null,null,null,null,null,null,null,35]
["715-05757",null,"715-05757           ","PIPE EXTENSION, CIRCULAR 36 IN                                                                      ",75,"L.F. ",61,4575,61,4575,0,0,0,0,0,0,0,0,0,0,700,98,"                    ",0,0,0,4575,4575,4575,0,0,0,null,0,61,null,0,"",null,null,null,null,null,null,null,null,null,null,null,null,null,null,null,null,61]
["715-06337",null,"715-06337           ","PIPE EXTENSION, CIRCULAR, 48 IN                                                                     ",35,"L.F. ",215,7525,215,7525,0,0,0,0,0,0,0,0,0,0,700,99,"                    ",0,0,0,7525,7525,7525,0,0,0,null,0,215,null,0,"",null,null,null,null,null,null,null,null,null,null,null,null,null,null,null,null,215]
["715-46000",null,"715-46000           ","PIPE END SECTION, 12 IN                                                                             ",8,"EACH ",403.07,3224.56,403.07,3224.56,0,0,0,0,0,0,0,0,0,0,700,100,"                    ",0,0,0,3225,3225,3225,0,0,0,null,0,403.07,null,0,"",null,null,null,null,null,null,null,null,null,null,null,null,null,null,null,null,403.07]
["715-46010",null,"715-46010           ","PIPE END SECTION, 18 IN                                                                             ",1,"EACH ",477.62,477.62,477.62,477.62,0,0,0,0,0,0,0,0,0,0,700,101,"                    ",0,0,0,478,478,478,0,0,0,null,0,477.62,null,0,"",null,null,null,null,null,null,null,null,null,null,null,null,null,null,null,null,477.62]
["715-46040",null,"715-46040           ","PIPE END SECTION, 36 IN                                                                             ",3,"EACH ",1056.8900000000001,3170.67,1056.8900000000001,3170.67,0,0,0,0,0,0,0,0,0,0,700,102,"                    ",0,0,0,3171,3171,3171,0,0,0,null,0,1056.8900000000001,null,0,"",null,null,null,null,null,null,null,null,null,null,null,null,null,null,null,null,1056.8900000000001]
["718-06528",null,"718-06528           ","OUTLET PROTECTOR, 1                                                                                 ",35,"EACH ",592.49,20737.150000000001,592.49,20737.150000000001,0,0,0,0,0,0,0,0,0,0,700,103,"                    ",0,0,0,20737,20737,20737,0,0,0,null,0,592.49,null,0,"",null,null,null,null,null,null,null,null,null,null,null,null,null,null,null,null,592.49]
["718-06529",null,"718-06529           ","OUTLET PROTECTOR, 2                                                                                 ",34,"EACH ",561.63,19095.419999999998,561.63,19095.419999999998,0,0,0,0,0,0,0,0,0,0,700,104,"                    ",0,0,0,19095,19095,19095,0,0,0,null,0,561.63,null,0,"",null,null,null,null,null,null,null,null,null,null,null,null,null,null,null,null,561.63]
["718-06532",null,"718-06532           ","VIDEO INSPECTION FOR UNDERDRAINS                                                                    ",9000,"L.F. ",0.99,8910,0.99,8910,0,0,0,0,0,0,0,0,0,0,700,105,"                    ",0,0,0,8910,8910,8910,0,0,0,null,0,0.99,null,0,"",null,null,null,null,null,null,null,null,null,null,null,null,null,null,null,null,0.99]
["718-52610",null,"718-52610           ","AGGREGATE FOR UNDERDRAINS                                                                           ",2310,"C.Y. ",33.68,77800.800000000003,33.68,77800.800000000003,0,0,0,0,0,0,0,0,0,0,700,106,"                    ",0,0,0,77801,77801,77801,0,0,0,null,0,33.68,null,0,"",null,null,null,null,null,null,null,null,null,null,null,null,null,null,null,null,33.68]
["718-99153",null,"718-99153           ","GEOTEXTILES FOR UNDERDRAIN                                                                          ",22550,"S.Y. ",1.1399999999999999,25707,1.1399999999999999,25707,0,0,0,0,0,0,0,0,0,0,700,107,"                    ",0,0,0,25707,25707,25707,0,0,0,null,0,1.1399999999999999,null,0,"",null,null,null,null,null,null,null,null,null,null,null,null,null,null,null,null,1.1399999999999999]
["720-07302",null,"720-07302           ","INLET, TYPE HA, WITH SLOTTED DRAIN                                                                  ",28,"EACH ",3150,88200,3150,88200,0,0,0,0,0,0,0,0,0,0,700,108,"                    ",0,0,0,88200,88200,88200,0,0,0,null,0,3150,null,0,"",null,null,null,null,null,null,null,null,null,null,null,null,null,null,null,null,3150]
["720-45030",null,"720-45030           ","INLET, E7                                                                                           ",2,"EACH ",1415.55,2831.1,1415.55,2831.1,0,0,0,0,0,0,0,0,0,0,700,109,"                    ",0,0,0,2831,2831,2831,0,0,0,null,0,1415.55,null,0,"",null,null,null,null,null,null,null,null,null,null,null,null,null,null,null,null,1415.55]
["720-45065",null,"720-45065           ","INLET, N12                                                                                          ",1,"EACH ",2793.57,2793.57,2793.57,2793.57,0,0,0,0,0,0,0,0,0,0,700,110,"                    ",0,0,0,2794,2794,2794,0,0,0,null,0,2793.57,null,0,"",null,null,null,null,null,null,null,null,null,null,null,null,null,null,null,null,2793.57]
["722-51842",null,"722-51842           ","BRIDGE DECK OVERLAY                                                                                 ",1200,"S.Y. ",68.3,81960,68.3,81960,0,0,0,0,0,0,0,0,0,0,700,111,"                    ",0,0,0,81960,81960,81960,0,0,0,null,0,68.3,null,0,"",null,null,null,null,null,null,null,null,null,null,null,null,null,null,null,null,68.3]
["722-51846",null,"722-51846           ","BRIDGE DECK OVERLAY, ADDITIONAL                                                                     ",4,"C.Y. ",530.41999999999996,2121.6799999999998,530.41999999999996,2121.6799999999998,0,0,0,0,0,0,0,0,0,0,700,112,"                    ",0,0,0,2122,2122,2122,0,0,0,null,0,530.41999999999996,null,0,"",null,null,null,null,null,null,null,null,null,null,null,null,null,null,null,null,530.41999999999996]
["722-60824",null,"722-60824           ","SURFACE MILLING                                                                                     ",1250,"S.Y. ",4.4400000000000004,5550,4.4400000000000004,5550,0,0,0,0,0,0,0,0,0,0,700,113,"                    ",0,0,0,5550,5550,5550,0,0,0,null,0,4.4400000000000004,null,0,"",null,null,null,null,null,null,null,null,null,null,null,null,null,null,null,null,4.4400000000000004]
["724-51925",null,"724-51925           ","STRUCTURAL EXPANSION JOINT, SS                                                                      ",198,"L.F. ",160.16,31711.68,160.16,31711.68,0,0,0,0,0,0,0,0,0,0,700,114,"                    ",0,0,0,31712,31712,31712,0,0,0,null,0,160.16,null,0,"",null,null,null,null,null,null,null,null,null,null,null,null,null,null,null,null,160.16]
["726-92406",null,"726-92406           ","BEARING ASSEMBLY, ELASTOMERIC                                                                       ",16,"EACH ",1110,17760,1110,17760,0,0,0,0,0,0,0,0,0,0,700,115,"                    ",0,0,0,17760,17760,17760,0,0,0,null,0,1110,null,0,"",null,null,null,null,null,null,null,null,null,null,null,null,null,null,null,null,1110]
["731-06223",null,"731-06223           ","SOIL NAILED WALL                                                                                    ",275,"S.Y. ",508,139700,508,139700,0,0,0,0,0,0,0,0,0,0,700,116,"                    ",0,0,0,139700,139700,139700,0,0,0,null,0,508,null,0,"",null,null,null,null,null,null,null,null,null,null,null,null,null,null,null,null,508]
["731-07016",null,"731-07016           ","FACE PANELS, WIRE                                                                                   ",15000,"S.F. ",14,210000,14,210000,0,0,0,0,0,0,0,0,0,0,700,117,"                    ",0,0,0,210000,210000,210000,0,0,0,null,0,14,null,0,"",null,null,null,null,null,null,null,null,null,null,null,null,null,null,null,null,14]
["731-93945",null,"731-93945           ","FACE PANELS, CONCRETE                                                                               ",65000,"S.F. ",12.8,832000,12.8,832000,0,0,0,0,0,0,0,0,0,0,700,118,"                    ",0,0,0,832000,832000,832000,0,0,0,null,0,12.8,null,0,"",null,null,null,null,null,null,null,null,null,null,null,null,null,null,null,null,12.8]
["731-93946",null,"731-93946           ","WALL ERECTION                                                                                       ",76000,"S.F. ",5.17,392920,5.17,392920,0,0,0,0,0,0,0,0,0,0,700,119,"                    ",0,0,0,392920,392920,392920,0,0,0,null,0,5.17,null,0,"",null,null,null,null,null,null,null,null,null,null,null,null,null,null,null,null,5.17]
["731-93947",null,"731-93947           ","LEVELING PAD, CONCRETE                                                                              ",2200,"L.F. ",31.36,68992,31.36,68992,0,0,0,0,0,0,0,0,0,0,700,120,"                    ",0,0,0,68992,68992,68992,0,0,0,null,0,31.36,null,0,"",null,null,null,null,null,null,null,null,null,null,null,null,null,null,null,null,31.36]
["801-03290",null,"801-03290           ","CONSTRUCTION SIGN, C                                                                                ",2,"EACH ",190.73,381.46,190.73,381.46,0,0,0,0,0,0,0,0,0,0,800,121,"                    ",0,0,0,381,381,381,0,0,0,null,0,190.73,null,0,"",null,null,null,null,null,null,null,null,null,null,null,null,null,null,null,null,190.73]
["801-06207",null,"801-06207           ","TEMPORARY PAVEMENT MARKING, REMOVABLE, 4 IN                                                         ",27000,"L.F. ",0.85,22950,0.85,22950,0,0,0,0,0,0,0,0,0,0,800,122,"                    ",0,0,0,22950,22950,22950,0,0,0,null,0,0.85,null,0,"",null,null,null,null,null,null,null,null,null,null,null,null,null,null,null,null,0.85]
["801-06625",null,"801-06625           ","DETOUR ROUTE MARKER ASSEMBLY                                                                        ",15,"EACH ",97.97,1469.55,97.97,1469.55,0,0,0,0,0,0,0,0,0,0,800,123,"                    ",0,0,0,1470,1470,1470,0,0,0,null,0,97.97,null,0,"",null,null,null,null,null,null,null,null,null,null,null,null,null,null,null,null,97.97]
["801-06640",null,"801-06640           ","CONSTRUCTION SIGN, A                                                                                ",37,"EACH ",142.49,5272.13,142.49,5272.13,0,0,0,0,0,0,0,0,0,0,800,124,"                    ",0,0,0,5272,5272,5272,0,0,0,null,0,142.49,null,0,"",null,null,null,null,null,null,null,null,null,null,null,null,null,null,null,null,142.49]
["801-06645",null,"801-06645           ","CONSTRUCTION SIGN, B                                                                                ",11,"EACH ",66.599999999999994,732.6,66.599999999999994,732.6,0,0,0,0,0,0,0,0,0,0,800,125,"                    ",0,0,0,733,733,733,0,0,0,null,0,66.599999999999994,null,0,"",null,null,null,null,null,null,null,null,null,null,null,null,null,null,null,null,66.599999999999994]
["801-06710",null,"801-06710           ","FLASHING ARROW SIGN                                                                                 ",365,"DAY  ",9.76,3562.4,9.76,3562.4,0,0,0,0,0,0,0,0,0,0,800,126,"                    ",0,0,0,3562,3562,3562,0,0,0,null,0,9.76,null,0,"",null,null,null,null,null,null,null,null,null,null,null,null,null,null,null,null,9.76]
["801-06775",null,"801-06775           ","MAINTAINING TRAFFIC                                                                                 ",1,"L.S. ",47332.89,47332.89,47332.89,47332.89,0,0,0,0,0,0,0,0,0,0,800,127,"                    ",0,0,0,47333,47333,47333,0,0,0,null,1,47332.89,null,0,"",null,null,null,null,null,null,null,null,null,null,null,null,null,null,null,null,47332.89]
["801-07024",null,"801-07024           ","ENERGY ABSORBING TERMINAL, CZ, TL-3                                                                 ",4,"EACH ",6587.49,26349.96,6587.49,26349.96,0,0,0,0,0,0,0,0,0,0,800,128,"                    ",0,0,0,26350,26350,26350,0,0,0,null,0,6587.49,null,0,"",null,null,null,null,null,null,null,null,null,null,null,null,null,null,null,null,6587.49]
["801-07119",null,"801-07119           ","BARRICADE, III-B                                                                                    ",85,"L.F. ",14.32,1217.2,14.32,1217.2,0,0,0,0,0,0,0,0,0,0,800,129,"                    ",0,0,0,1217,1217,1217,0,0,0,null,0,14.32,null,0,{"$f":"IF(AND(AH130=1,AG130<>\"x\",AG130<>\"\"),\"You can only use x\",IF(AND(AH130=1,AG130=\"\",AJ130<>\"\"),\"Put x to Calculate\",\"\"))","v":""},null,null,null,null,null,null,null,null,null,null,null,null,null,null,null,null,14.32]
["801-08401",null,"801-08401           ","TEMPORARY TRAFFIC BARRIER, TYPE 2                                                                   ",9500,"L.F. ",19.45,184775,19.45,184775,0,0,0,0,0,0,0,0,0,0,800,130,"                    ",0,0,0,184775,184775,184775,0,0,0,null,{"$f":"IF(OR(LEFT(F131,2)=\"LS\",LEFT(F131,3)=\"L.S\"),1,0)","v":0},{"$f":"IF(G131=\"\",\"\",IF(AND(AG131<>\"\",AH131=1),0,G131))","v":19.45},null,0,"",null,null,null,null,null,null,null,null,null,null,null,null,null,null,null,null,19.45]
[{"$f":"LEFT(C132,9)","v":"802-02158"},null,"802-02158           ","SIGN, PANEL, REMOVE AND REINSTALL                                                                   ",1,"EACH ",412.5,412.5,412.5,412.5,0,0,0,0,0,0,0,0,0,0,800,131,"                    ",0,0,0,413,413,413,0,0,0,null,0,412.5,null,0,"",null,null,null,null,null,null,null,null,null,null,null,null,null,null,null,null,412.5]
["802-03783",null,"802-03783           ","SIGN, PANEL, REMOVE                                                                                 ",13,"EACH ",135,1755,135,1755,0,0,0,0,0,0,0,0,0,0,800,132,"                    ",0,0,0,1755,1755,1755,0,0,0,null,0,135,null,0,"",null,null,null,null,null,null,null,null,null,null,null,null,null,null,null,null,135]
["802-05701",null,"802-05701           ","SIGN POST, SQUARE, TYPE 1, REINFORCED ANCHOR BASE                                                   ",45,"L.F. ",11.08,498.6,11.08,498.6,0,0,0,0,0,0,0,0,0,0,800,133,"                    ",0,0,0,499,499,499,0,0,0,null,0,11.08,null,0,"",null,null,null,null,null,null,null,null,null,null,null,null,null,null,null,null,11.08]
["802-05702",null,"802-05702           ","SIGN POST, SQUARE, TYPE 2, REINFORCED ANCHOR BASE                                                   ",350,"L.F. ",13.42,4697,13.42,4697,0,0,0,0,0,0,0,0,0,0,800,134,"                    ",0,0,0,4697,4697,4697,0,0,0,null,0,13.42,null,0,"",null,null,null,null,null,null,null,null,null,null,null,null,null,null,null,null,13.42]
["802-05703",null,"802-05703           ","SIGN POST, SQUARE, TYPE 3, REINFORCED ANCHOR BASE                                                   ",56,"L.F. ",20,1120,20,1120,0,0,0,0,0,0,0,0,0,0,800,135,"                    ",0,0,0,1120,1120,1120,0,0,0,null,0,20,null,0,"",null,null,null,null,null,null,null,null,null,null,null,null,null,null,null,null,20]
["802-07057",null,"802-07057           ","SIGN, PANEL, WITH LEGEND                                                                            ",1050,"S.F. ",15.07,15823.5,15.07,15823.5,0,0,0,0,0,0,0,0,0,0,800,136,"                    ",0,0,0,15824,15824,15824,0,0,0,null,0,15.07,null,0,"",null,null,null,null,null,null,null,null,null,null,null,null,null,null,null,null,15.07]
["802-09709",null,"802-09709           ","BOX TRUSS SIGN STRUCTURE FOUNDATION 33 IN HEIGHT                                                    ",10,"EACH ",0,0,0,0,0,0,0,0,0,0,0,0,0,0,800,137,"                    ",0,0,0,0,0,0,0,0,0,null,0,0,null,0,"",null,null,null,null,null,null,null,null,null,null,null,null,null,null,null,null,0]
["802-09715",null,"802-09715           ","OVERHEAD SIGN STRUCTURE, D                                                                          ",5,"EACH ",5000,25000,5000,25000,0,0,0,0,0,0,0,0,0,0,800,138,"                    ",0,0,0,25000,25000,25000,0,0,0,null,0,5000,null,{"$f":"IF(G139=\"\",\"\",IF(AND(AG139=\"x\",AH139=1),AJ139*$AQ$1,0))","v":0},"",null,null,null,null,null,null,null,null,null,null,null,null,null,null,null,null,5000]
["802-09838",null,"802-09838           ","SIGN, SHEET, WITH LEGEND 0.080\"                                                                     ",210,"S.F. ",10.220000000000001,2146.1999999999998,10.220000000000001,2146.1999999999998,0,0,0,0,0,0,0,0,0,0,800,139,"                    ",0,0,0,2146,2146,2146,0,0,0,null,0,10.220000000000001,null,0,"",null,null,null,null,null,null,null,null,null,null,null,null,null,null,null,null,10.220000000000001]
["802-09840",null,"802-09840           ","SIGN, SHEET, WITH LEGEND 0.100 IN THICKNESS                                                         ",44,"S.F. ",10.18,447.92,10.18,447.92,0,0,0,0,0,0,0,0,0,0,800,140,"                    ",0,0,0,448,448,448,0,0,0,null,0,10.18,null,0,"",null,null,null,null,null,null,null,null,null,null,null,null,null,null,null,null,10.18]
["804-06725",null,"804-06725           ","DELINEATOR WITH POST, D1                                                                            ",130,"EACH ",27,3510,27,3510,0,0,0,0,0,0,0,0,0,0,800,141,"                    ",0,0,0,3510,3510,3510,0,0,0,null,0,27,null,0,"",null,null,null,null,null,null,null,null,null,null,null,null,null,null,null,null,27]
["804-06771",null,"804-06771           ","DELINEATOR POST, FLEXIBLE                                                                           ",75,"EACH ",43.18,3238.5,43.18,3238.5,0,0,0,0,0,0,0,0,0,0,800,142,"                    ",0,0,0,3239,3239,3239,0,0,0,null,0,43.18,null,0,"",null,null,null,null,null,null,null,null,null,null,null,null,null,null,null,null,43.18]
["805-02328",null,"805-02328           ","SIGNAL CABLE, 1C/14 GA                                                                              ",800,"L.F. ",0.32,256,0.32,256,0,0,0,0,0,0,0,0,0,0,800,143,"                    ",0,0,0,256,256,256,0,0,0,null,0,0.32,null,0,"",null,null,null,null,null,null,null,null,null,null,null,null,null,null,null,null,0.32]
["805-09042",null,"805-09042           ","Item Not Found in the Current Pay Item                                                              ",230,"L.F. ",0.7,161,0.7,161,0,0,0,0,0,0,0,0,0,0,800,144,"                    ",0,0,0,161,161,161,0,0,0,null,0,0.7,null,0,"",null,null,null,null,null,null,null,null,null,null,null,null,null,null,null,null,0.7]
["805-78205",null,"805-78205           ","TRAFFIC SIGNAL HEAD, 3 FACE, 12 IN RED, AMBER, GREEN                                                ",2,"EACH ",527.76,1055.52,527.76,1055.52,0,0,0,0,0,0,0,0,0,0,800,145,"                    ",0,0,0,1056,1056,1056,0,0,0,null,0,527.76,null,0,"",null,null,null,null,null,null,null,null,null,null,null,null,null,null,null,null,527.76]
["805-78485",null,"805-78485           ","SIGNAL CABLE, 5C/14GA                                                                               ",175,"L.F. ",1.68,294,1.68,294,0,0,0,0,0,0,0,0,0,0,800,146,"                    ",0,0,0,294,294,294,0,0,0,null,0,1.68,null,0,"",null,null,null,null,null,null,null,null,null,null,null,null,null,null,null,null,1.68]
["805-78490",null,"805-78490           ","SIGNAL CABLE, 7C/14GA                                                                               ",210,"L.F. ",1.78,373.8,1.78,373.8,0,0,0,0,0,0,0,0,0,0,800,147,"                    ",0,0,0,374,374,374,0,0,0,null,0,1.78,null,0,"",null,null,null,null,null,null,null,null,null,null,null,null,null,null,null,null,1.78]
["805-78510",null,"805-78510           ","SIGNAL CABLE, 2C/16GA., SHIELDED                                                                    ",645,"L.F. ",0.97,625.65,0.97,625.65,0,0,0,0,0,0,0,0,0,0,800,148,"                    ",0,0,0,626,626,626,0,0,0,null,0,0.97,null,0,"",null,null,null,null,null,null,null,null,null,null,null,null,null,null,null,null,0.97]
["805-78785",null,"805-78785           ","SIGNAL DETECTOR HOUSING                                                                             ",2,"EACH ",655.21,1310.42,655.21,1310.42,0,0,0,0,0,0,0,0,0,0,800,149,"                    ",0,0,0,1310,1310,1310,0,0,0,null,0,655.21,null,0,"",null,null,null,null,null,null,null,null,null,null,null,null,null,null,null,null,655.21]
["805-78795",null,"805-78795           ","SAW CUT FOR ROADWAY LOOP AND SEALANT                                                                ",232,"L.F. ",7.65,1774.8,7.65,1774.8,0,0,0,0,0,0,0,0,0,0,800,150,"                    ",0,0,0,1775,1775,1775,0,0,0,null,0,7.65,null,0,"",null,null,null,null,null,null,null,null,null,null,null,null,null,null,null,null,7.65]
["805-92504",null,"805-92504           ","LOOP DETECTOR DELAY AMPLIFIER, 2 CHANNEL                                                            ",2,"EACH ",236.84,473.68,236.84,473.68,0,0,0,0,0,0,0,0,0,0,800,151,"                    ",0,0,0,474,474,474,0,0,0,null,0,236.84,null,0,"",null,null,null,null,null,null,null,null,null,null,null,null,null,null,null,null,236.84]
["807-01122",null,"807-01122           ","LIGHT POLE, HIGH MAST, RELOCATE                                                                     ",1,"EACH ",1520,1520,1520,1520,0,0,0,0,0,0,0,0,0,0,800,152,"                    ",0,0,0,1520,1520,1520,0,0,0,null,0,1520,null,0,"",null,null,null,null,null,null,null,null,null,null,null,null,null,null,null,null,1520]
["807-01606",null,"807-01606           ","HIGH MAST TOWER WINCH DRIVE                                                                         ",1,"EACH ",2534,2534,2534,2534,0,0,0,0,0,0,0,0,0,0,800,153,"                    ",0,0,0,2534,2534,2534,0,0,0,null,0,2534,null,0,"",null,null,null,null,null,null,null,null,null,null,null,null,null,null,null,null,2534]
["807-02191",null,"807-02191           ","HANDHOLE, LIGHTING                                                                                  ",10,"EACH ",741.36,7413.6,741.36,7413.6,0,0,0,0,0,0,0,0,0,0,800,154,"                    ",0,0,0,7414,7414,7414,0,0,0,null,0,741.36,null,0,"",null,null,null,null,null,null,null,null,null,null,null,null,null,null,null,null,741.36]
["807-02193",null,"807-02193           ","LIGHT STANDARD FOUNDATION, 3FT DIAMETER X 8FT                                                       ",17,"EACH ",825.62,14035.54,825.62,14035.54,0,0,0,0,0,0,0,0,0,0,800,155,"                    ",0,0,0,14036,14036,14036,0,0,0,null,0,825.62,null,0,"",null,null,null,null,null,null,null,null,null,null,null,null,null,null,null,null,825.62]
["807-02822",null,"807-02822           ","LIGHT POLE, STEEL, RELOCATE                                                                         ",17,"EACH ",1550,26350,1550,26350,0,0,0,0,0,0,0,0,0,0,800,156,"                    ",0,0,0,26350,26350,26350,0,0,0,null,0,1550,null,0,"",null,null,null,null,null,null,null,null,null,null,null,null,null,null,null,null,1550]
["807-06592",null,"807-06592           ","CONDUIT, STEEL, GALVANIZED, 2 IN                                                                    ",414,"L.F. ",13.62,5638.68,13.62,5638.68,0,0,0,0,0,0,0,0,0,0,800,157,"                    ",0,0,0,5639,5639,5639,0,0,0,null,0,13.62,null,0,"",null,null,null,null,null,null,null,null,null,null,null,null,null,null,null,null,13.62]
["807-09637",null,"807-09637           ","WIRE, NO 6 COPPER IN PLASTIC DUCT, IN CONDUIT 4 1/C                                                 ",330,"L.F. ",10,3300,10,3300,0,0,0,0,0,0,0,0,0,0,800,158,"                    ",0,0,0,3300,3300,3300,0,0,0,null,0,10,null,0,"",null,null,null,null,null,null,null,null,null,null,null,null,null,null,null,null,10]
["807-09638",null,"807-09638           ","WIRE, NO 6 COPPER IN PLASTIC DUCT, IN TRENCH, 4 1/C                                                 ",6200,"L.F. ",8,49600,8,49600,0,0,0,0,0,0,0,0,0,0,800,159,"                    ",0,0,0,49600,49600,49600,0,0,0,null,0,8,null,0,"",null,null,null,null,null,null,null,null,null,null,null,null,null,null,null,null,8]
["807-82320",null,"807-82320           ","LIGHT POLE, HIGH MAST, 115 FT E.M.H.                                                                ",1,"EACH ",156,156,156,156,0,0,0,0,0,0,0,0,0,0,800,160,"                    ",0,0,0,156,156,156,0,0,0,null,0,156,null,0,"",null,null,null,null,null,null,null,null,null,null,null,null,null,null,null,null,156]
["807-86665",null,"807-86665           ","LUMINAIRE, HIGH MAST, HIGH PRESSURE SODIUM, 1000 WATT                                               ",6,"EACH ",607.46,3644.76,607.46,3644.76,0,0,0,0,0,0,0,0,0,0,800,161,"                    ",0,0,0,3645,3645,3645,0,0,0,null,0,607.46,null,0,"",null,null,null,null,null,null,null,null,null,null,null,null,null,null,null,null,607.46]
["807-86832",null,"807-86832           ","LIGHTING FOUNDATION, CONCRETE, WITH GROUNDING, HIGH MAST TOW                                        ",2,"EACH ",7219,14438,7219,14438,0,0,0,0,0,0,0,0,0,0,800,162,"                    ",0,0,0,14438,14438,14438,0,0,0,null,0,7219,null,0,"",null,null,null,null,null,null,null,null,null,null,null,null,null,null,null,null,7219]
["807-86910",null,"807-86910           ","CONNECTOR KIT, UNFUSED                                                                              ",17,"EACH ",24.75,420.75,24.75,420.75,0,0,0,0,0,0,0,0,0,0,800,163,"                    ",0,0,0,421,421,421,0,0,0,null,0,24.75,null,0,"",null,null,null,null,null,null,null,null,null,null,null,null,null,null,null,null,24.75]
["807-86915",null,"807-86915           ","CONNECTOR KIT, FUSED                                                                                ",17,"EACH ",26.59,452.03,26.59,452.03,0,0,0,0,0,0,0,0,0,0,800,164,"                    ",0,0,0,452,452,452,0,0,0,null,0,26.59,null,0,"",null,null,null,null,null,null,null,null,null,null,null,null,null,null,null,null,26.59]
["807-86925",null,"807-86925           ","MULTIPLE COMPRESSION FITTING, WATERPROOFED                                                          ",50,"EACH ",31.47,1573.5,31.47,1573.5,0,0,0,0,0,0,0,0,0,0,800,165,"                    ",0,0,0,1574,1574,1574,0,0,0,null,0,31.47,null,0,"",null,null,null,null,null,null,null,null,null,null,null,null,null,null,null,null,31.47]
["807-86935",null,"807-86935           ","INSULATION LINK, WATERPROOFED                                                                       ",58,"EACH ",27.66,1604.28,27.66,1604.28,0,0,0,0,0,0,0,0,0,0,800,166,"                    ",0,0,0,1604,1604,1604,0,0,0,null,0,27.66,null,0,"",null,null,null,null,null,null,null,null,null,null,null,null,null,null,null,null,27.66]
["808-06701",null,"808-06701           ","LINE, THERMOPLASTIC, BROKEN, WHITE, 4 IN                                                            ",600,"L.F. ",0.52,312,0.52,312,0,0,0,0,0,0,0,0,0,0,800,167,"                    ",0,0,0,312,312,312,0,0,0,null,0,0.52,null,0,"",null,null,null,null,null,null,null,null,null,null,null,null,null,null,null,null,0.52]
["808-06702",null,"808-06702           ","LINE, THERMOPLASTIC, BROKEN, WHITE, 5 IN                                                            ",5800,"L.F. ",0.44,2552,0.44,2552,0,0,0,0,0,0,0,0,0,0,800,168,"                    ",0,0,0,2552,2552,2552,0,0,0,null,0,0.44,null,0,"",null,null,null,null,null,null,null,null,null,null,null,null,null,null,null,null,0.44]
["808-06703",null,"808-06703           ","LINE, THERMOPLASTIC, SOLID, WHITE, 4 IN.                                                            ",29800,"L.F. ",0.41,12218,0.41,12218,0,0,0,0,0,0,0,0,0,0,800,169,"                    ",0,0,0,12218,12218,12218,0,0,0,null,0,0.41,null,0,"",null,null,null,null,null,null,null,null,null,null,null,null,null,null,null,null,0.41]
["808-06705",null,"808-06705           ","LINE, THERMOPLASTIC, SOLID, WHITE, 8 IN                                                             ",5840,"L.F. ",1.01,5898.4,1.01,5898.4,0,0,0,0,0,0,0,0,0,0,800,170,"                    ",0,0,0,5898,5898,5898,0,0,0,null,0,1.01,null,0,"",null,null,null,null,null,null,null,null,null,null,null,null,null,null,null,null,1.01]
["808-06706",null,"808-06706           ","LINE, THERMOPLASTIC, SOLID, WHITE, 24 IN                                                            ",595,"L.F. ",4.7699999999999996,2838.15,4.7699999999999996,2838.15,0,0,0,0,0,0,0,0,0,0,800,171,"                    ",0,0,0,2838,2838,2838,0,0,0,null,0,4.7699999999999996,null,0,"",null,null,null,null,null,null,null,null,null,null,null,null,null,null,null,null,4.7699999999999996]
["808-06716",null,"808-06716           ","LINE, REMOVE                                                                                        ",9800,"L.F. ",0.28000000000000003,2744,0.28000000000000003,2744,0,0,0,0,0,0,0,0,0,0,800,172,"                    ",0,0,0,2744,2744,2744,0,0,0,null,0,0.28000000000000003,null,0,"",null,null,null,null,null,null,null,null,null,null,null,null,null,null,null,null,0.28000000000000003]
["808-75215",null,"808-75215           ","LINE, THERMOPLASTIC, SOLID, WHITE 12 IN                                                             ",975,"L.F. ",2.67,2603.25,2.67,2603.25,0,0,0,0,0,0,0,0,0,0,800,173,"                    ",0,0,0,2603,2603,2603,0,0,0,null,0,2.67,null,0,"",null,null,null,null,null,null,null,null,null,null,null,null,null,null,null,null,2.67]
["808-75245",null,"808-75245           ","LINE, THERMOPLASTIC, SOLID, YELLOW, 4 IN                                                            ",20440,"L.F. ",0.42,8584.7999999999993,0.42,8584.7999999999993,0,0,0,0,0,0,0,0,0,0,800,174,"                    ",0,0,0,8585,8585,8585,0,0,0,null,0,0.42,null,0,"",null,null,null,null,null,null,null,null,null,null,null,null,null,null,null,null,0.42]
["808-75297",null,"808-75297           ","TRANSVERSE MARKING, THERMOPLASTIC, STOP LINE, 24 IN                                                 ",60,"L.F. ",5.2,312,5.2,312,0,0,0,0,0,0,0,0,0,0,800,175,"                    ",0,0,0,312,312,312,0,0,0,null,0,5.2,null,0,"",null,null,null,null,null,null,null,null,null,null,null,null,null,null,null,null,5.2]
["808-75320",null,"808-75320           ","PAVEMENT MESSAGE MARKING, THERMOPLASTIC, LANE INDICATION ARROW                                      ",12,"EACH ",78.62,943.44,78.62,943.44,0,0,0,0,0,0,0,0,0,0,800,176,"                    ",0,0,0,943,943,943,0,0,0,null,0,78.62,null,0,"",null,null,null,null,null,null,null,null,null,null,null,null,null,null,null,null,78.62]
["808-75325",null,"808-75325           ","PAVEMENT MESSAGE MARKING, THERMOPLASTIC, (ONLY)                                                     ",4,"EACH ",94.34,377.36,94.34,377.36,0,0,0,0,0,0,0,0,0,0,800,177,"                    ",0,0,0,377,377,377,0,0,0,null,0,94.34,null,0,"",null,null,null,null,null,null,null,null,null,null,null,null,null,null,null,null,94.34]
["808-75998",null,"808-75998           ","SNOWPLOWABLE RAISED PAVEMENT MARKER                                                                 ",1130,"EACH ",16.559999999999999,18712.8,16.559999999999999,18712.8,0,0,0,0,0,0,0,0,0,0,800,178,"                    ",0,0,0,18713,18713,18713,0,0,0,null,0,16.559999999999999,null,0,"",null,null,null,null,null,null,null,null,null,null,null,null,null,null,null,null,16.559999999999999]
["",null,null,null,null,null,null,null,null,null,null,null,null,null,null,null,null,null,null,null,null,null,null,null,null,null,null,null,null,null,null,null,null,0,"",null,"",""]
["",null,null,"TOTALS",null,null,null,15346414.939999999,null,15346414.939999999,null,null,null,0,null,null,null,0,null,null,null,null,null,null,0,null,15346415,null,null,null,null,null,null,0,"",null,"",""]
["",null,null,null,null,null,null,null,null,null,null,null,null,null,null,null,null,null,null,null,null,null,null,null,null,null,null,null,null,null,null,null,null,0,"",null,"",""]
["",null,null,null,null,null,null,null,null,null,null,null,null,null,null,null,null,null,null,null,null,null,null,null,null,null,null,null,null,null,null,null,null,0,"",null,"",""]
["",null,null,null,null,null,null,null,null,null,null,null,null,null,null,null,null,null,null,null,null,null,null,null,null,null,null,null,null,null,null,null,null,0,"",null,"",""]
["",null,null,null,null,null,null,null,null,null,null,null,null,null,null,null,null,null,null,null,null,null,null,null,null,null,null,null,null,null,null,null,null,0,"",null,"",""]
["",null,null,null,null,null,null,null,null,null,null,null,null,null,null,null,null,null,null,null,null,null,null,null,null,null,null,null,null,null,null,null,null,0,"",null,"",""]
["",null,null,null,null,null,null,null,null,null,null,null,null,null,null,null,null,null,null,null,null,null,null,null,null,null,null,null,null,null,null,null,null,0,"",null,"",""]
["",null,null,null,null,null,null,null,null,null,null,null,null,null,null,null,null,null,null,null,null,null,null,null,null,null,null,null,null,null,null,null,null,0,"",null,"",""]
["",null,null,null,null,null,null,null,null,null,null,null,null,null,null,null,null,null,null,null,null,null,null,null,null,null,null,null,null,null,null,null,null,0,"",null,"",""]
["",null,null,null,null,null,null,null,null,null,null,null,null,null,null,null,null,null,null,null,null,null,null,null,null,null,null,null,null,null,null,null,null,0,"",null,"",""]
["",null,null,null,null,null,null,null,null,null,null,null,null,null,null,null,null,null,null,null,null,null,null,null,null,null,null,null,null,null,null,null,null,0,"",null,"",""]
["",null,null,null,null,null,null,null,null,null,null,null,null,null,null,null,null,null,null,null,null,null,null,null,null,null,null,null,null,null,null,null,null,0,"",null,"",""]
["",null,null,null,null,null,null,null,null,null,null,null,null,null,null,null,null,null,null,null,null,null,null,null,null,null,null,null,null,null,null,null,null,0,"",null,"",""]
["",null,null,null,null,null,null,null,null,null,null,null,null,null,null,null,null,null,null,null,null,null,null,null,null,null,null,null,null,null,null,null,null,0,"",null,"",{"$f":"IF(AND(AH194=1,AG194<>\"x\",AG194<>\"\"),\"You can only use x\",IF(AND(AH194=1,AG194=\"\",AJ194<>\"\"),\"Put x to Calculate\",\"\"))","v":""}]
["",null,null,null,null,null,null,null,null,null,null,null,null,null,null,null,null,null,null,null,null,null,null,null,null,null,null,null,null,null,null,null,null,{"$f":"IF(OR(LEFT(F195,2)=\"LS\",LEFT(F195,3)=\"L.S\"),1,0)","v":0},{"$f":"IF(G195=\"\",\"\",IF(AND(AG195<>\"\",AH195=1),0,G195))","v":""},null,"",""]
[{"$f":"LEFT(C196,9)","v":""},null,null,null,null,null,null,null,null,null,null,null,null,null,null,null,null,null,null,null,null,null,null,null,null,null,null,null,null,null,null,null,null,0,"",null,"",""]
["",null,null,null,null,null,null,null,null,null,null,null,null,null,null,null,null,null,null,null,null,null,null,null,null,null,null,null,null,null,null,null,null,0,"",null,"",""]
["",null,null,null,null,null,null,null,null,null,null,null,null,null,null,null,null,null,null,null,null,null,null,null,null,null,null,null,null,null,null,null,null,0,"",null,"",""]
["",null,null,null,null,null,null,null,null,null,null,null,null,null,null,null,null,null,null,null,null,null,null,null,null,null,null,null,null,null,null,null,null,0,"",null,"",""]
["",null,null,null,null,null,null,null,null,null,null,null,null,null,null,null,null,null,null,null,null,null,null,null,null,null,null,null,null,null,null,null,null,0,"",null,"",""]
["",null,null,null,null,null,null,null,null,null,null,null,null,null,null,null,null,null,null,null,null,null,null,null,null,null,null,null,null,null,null,null,null,0,"",null,"",""]
["",null,null,null,null,null,null,null,null,null,null,null,null,null,null,null,null,null,null,null,null,null,null,null,null,null,null,null,null,null,null,null,null,0,"",null,"",""]
["",null,null,null,null,null,null,null,null,null,null,null,null,null,null,null,null,null,null,null,null,null,null,null,null,null,null,null,null,null,null,null,null,0,"",null,{"$f":"IF(G203=\"\",\"\",IF(AND(AG203=\"x\",AH203=1),AJ203*$AQ$1,0))","v":""},""]
["",null,null,null,null,null,null,null,null,null,null,null,null,null,null,null,null,null,null,null,null,null,null,null,null,null,null,null,null,null,null,null,null,0,"",null,"",""]
["",null,null,null,null,null,null,null,null,null,null,null,null,null,null,null,null,null,null,null,null,null,null,null,null,null,null,null,null,null,null,null,null,0,"",null,"",""]
["",null,null,null,null,null,null,null,null,null,null,null,null,null,null,null,null,null,null,null,null,null,null,null,null,null,null,null,null,null,null,null,null,0,"",null,"",""]
["",null,null,null,null,null,null,null,null,null,null,null,null,null,null,null,null,null,null,null,null,null,null,null,null,null,null,null,null,null,null,null,null,0,"",null,"",""]
["",null,null,null,null,null,null,null,null,null,null,null,null,null,null,null,null,null,null,null,null,null,null,null,null,null,null,null,null,null,null,null,null,0,"",null,"",""]
["",null,null,null,null,null,null,null,null,null,null,null,null,null,null,null,null,null,null,null,null,null,null,null,null,null,null,null,null,null,null,null,null,0,"",null,"",""]
["",null,null,null,null,null,null,null,null,null,null,null,null,null,null,null,null,null,null,null,null,null,null,null,null,null,null,null,null,null,null,null,null,0,"",null,"",""]
["",null,null,null,null,null,null,null,null,null,null,null,null,null,null,null,null,null,null,null,null,null,null,null,null,null,null,null,null,null,null,null,null,0,"",null,"",""]
["",null,null,null,null,null,null,null,null,null,null,null,null,null,null,null,null,null,null,null,null,null,null,null,null,null,null,null,null,null,null,null,null,0,"",null,"",""]
["",null,null,null,null,null,null,null,null,null,null,null,null,null,null,null,null,null,null,null,null,null,null,null,null,null,null,null,null,null,null,null,null,0,"",null,"",""]
["",null,null,null,null,null,null,null,null,null,null,null,null,null,null,null,null,null,null,null,null,null,null,null,null,null,null,null,null,null,null,null,null,0,"",null,"",""]
["",null,null,null,null,null,null,null,null,null,null,null,null,null,null,null,null,null,null,null,null,null,null,null,null,null,null,null,null,null,null,null,null,0,"",null,"",""]
["",null,null,null,null,null,null,null,null,null,null,null,null,null,null,null,null,null,null,null,null,null,null,null,null,null,null,null,null,null,null,null,null,0,"",null,"",""]
["",null,null,null,null,null,null,null,null,null,null,null,null,null,null,null,null,null,null,null,null,null,null,null,null,null,null,null,null,null,null,null,null,0,"",null,"",""]
["",null,null,null,null,null,null,null,null,null,null,null,null,null,null,null,null,null,null,null,null,null,null,null,null,null,null,null,null,null,null,null,null,0,"",null,"",""]
["",null,null,null,null,null,null,null,null,null,null,null,null,null,null,null,null,null,null,null,null,null,null,null,null,null,null,null,null,null,null,null,null,0,"",null,"",""]
["",null,null,null,null,null,null,null,null,null,null,null,null,null,null,null,null,null,null,null,null,null,null,null,null,null,null,null,null,null,null,null,null,0,"",null,"",""]
["",null,null,null,null,null,null,null,null,null,null,null,null,null,null,null,null,null,null,null,null,null,null,null,null,null,null,null,null,null,null,null,null,0,"",null,"",""]
["",null,null,null,null,null,null,null,null,null,null,null,null,null,null,null,null,null,null,null,null,null,null,null,null,null,null,null,null,null,null,null,null,0,"",null,"",""]
["",null,null,null,null,null,null,null,null,null,null,null,null,null,null,null,null,null,null,null,null,null,null,null,null,null,null,null,null,null,null,null,null,0,"",null,"",""]
["",null,null,null,null,null,null,null,null,null,null,null,null,null,null,null,null,null,null,null,null,null,null,null,null,null,null,null,null,null,null,null,null,0,"",null,"",""]
["",null,null,null,null,null,null,null,null,null,null,null,null,null,null,null,null,null,null,null,null,null,null,null,null,null,null,null,null,null,null,null,null,0,"",null,"",""]
["",null,null,null,null,null,null,null,null,null,null,null,null,null,null,null,null,null,null,null,null,null,null,null,null,null,null,null,null,null,null,null,null,0,"",null,"",""]
["",null,null,null,null,null,null,null,null,null,null,null,null,null,null,null,null,null,null,null,null,null,null,null,null,null,null,null,null,null,null,null,null,0,"",null,"",""]
["",null,null,null,null,null,null,null,null,null,null,null,null,null,null,null,null,null,null,null,null,null,null,null,null,null,null,null,null,null,null,null,null,0,"",null,"",""]
["",null,null,null,null,null,null,null,null,null,null,null,null,null,null,null,null,null,null,null,null,null,null,null,null,null,null,null,null,null,null,null,null,0,"",null,"",""]
["",null,null,null,null,null,null,null,null,null,null,null,null,null,null,null,null,null,null,null,null,null,null,null,null,null,null,null,null,null,null,null,null,0,"",null,"",""]
["",null,null,null,null,null,null,null,null,null,null,null,null,null,null,null,null,null,null,null,null,null,null,null,null,null,null,null,null,null,null,null,null,0,"",null,"",""]
["",null,null,null,null,null,null,null,null,null,null,null,null,null,null,null,null,null,null,null,null,null,null,null,null,null,null,null,null,null,null,null,null,0,"",null,"",""]
["",null,null,null,null,null,null,null,null,null,null,null,null,null,null,null,null,null,null,null,null,null,null,null,null,null,null,null,null,null,null,null,null,0,"",null,"",""]
["",null,null,null,null,null,null,null,null,null,null,null,null,null,null,null,null,null,null,null,null,null,null,null,null,null,null,null,null,null,null,null,null,0,"",null,"",""]
["",null,null,null,null,null,null,null,null,null,null,null,null,null,null,null,null,null,null,null,null,null,null,null,null,null,null,null,null,null,null,null,null,0,"",null,"",""]
["",null,null,null,null,null,null,null,null,null,null,null,null,null,null,null,null,null,null,null,null,null,null,null,null,null,null,null,null,null,null,null,null,0,"",null,"",""]
["",null,null,null,null,null,null,null,null,null,null,null,null,null,null,null,null,null,null,null,null,null,null,null,null,null,null,null,null,null,null,null,null,0,"",null,"",""]
["",null,null,null,null,null,null,null,null,null,null,null,null,null,null,null,null,null,null,null,null,null,null,null,null,null,null,null,null,null,null,null,null,0,"",null,"",""]
["",null,null,null,null,null,null,null,null,null,null,null,null,null,null,null,null,null,null,null,null,null,null,null,null,null,null,null,null,null,null,null,null,0,"",null,"",""]
["",null,null,null,null,null,null,null,null,null,null,null,null,null,null,null,null,null,null,null,null,null,null,null,null,null,null,null,null,null,null,null,null,0,"",null,"",""]
["",null,null,null,null,null,null,null,null,null,null,null,null,null,null,null,null,null,null,null,null,null,null,null,null,null,null,null,null,null,null,null,null,0,"",null,"",""]
["",null,null,null,null,null,null,null,null,null,null,null,null,null,null,null,null,null,null,null,null,null,null,null,null,null,null,null,null,null,null,null,null,0,"",null,"",""]
["",null,null,null,null,null,null,null,null,null,null,null,null,null,null,null,null,null,null,null,null,null,null,null,null,null,null,null,null,null,null,null,null,0,"",null,"",""]
["",null,null,null,null,null,null,null,null,null,null,null,null,null,null,null,null,null,null,null,null,null,null,null,null,null,null,null,null,null,null,null,null,0,"",null,"",""]
["",null,null,null,null,null,null,null,null,null,null,null,null,null,null,null,null,null,null,null,null,null,null,null,null,null,null,null,null,null,null,null,null,0,"",null,"",""]
["",null,null,null,null,null,null,null,null,null,null,null,null,null,null,null,null,null,null,null,null,null,null,null,null,null,null,null,null,null,null,null,null,0,"",null,"",""]
["",null,null,null,null,null,null,null,null,null,null,null,null,null,null,null,null,null,null,null,null,null,null,null,null,null,null,null,null,null,null,null,null,0,"",null,"",""]
["",null,null,null,null,null,null,null,null,null,null,null,null,null,null,null,null,null,null,null,null,null,null,null,null,null,null,null,null,null,null,null,null,0,"",null,"",""]
["",null,null,null,null,null,null,null,null,null,null,null,null,null,null,null,null,null,null,null,null,null,null,null,null,null,null,null,null,null,null,null,null,0,"",null,"",""]
["",null,null,null,null,null,null,null,null,null,null,null,null,null,null,null,null,null,null,null,null,null,null,null,null,null,null,null,null,null,null,null,null,0,"",null,"",""]
["",null,null,null,null,null,null,null,null,null,null,null,null,null,null,null,null,null,null,null,null,null,null,null,null,null,null,null,null,null,null,null,null,0,"",null,"",""]
["",null,null,null,null,null,null,null,null,null,null,null,null,null,null,null,null,null,null,null,null,null,null,null,null,null,null,null,null,null,null,null,null,0,"",null,"",""]
["",null,null,null,null,null,null,null,null,null,null,null,null,null,null,null,null,null,null,null,null,null,null,null,null,null,null,null,null,null,null,null,null,0,"",null,"",""]
["",null,null,null,null,null,null,null,null,null,null,null,null,null,null,null,null,null,null,null,null,null,null,null,null,null,null,null,null,null,null,null,null,0,"",null,"",""]
["",null,null,null,null,null,null,null,null,null,null,null,null,null,null,null,null,null,null,null,null,null,null,null,null,null,null,null,null,null,null,null,null,0,"",null,"",""]
["",null,null,null,null,null,null,null,null,null,null,null,null,null,null,null,null,null,null,null,null,null,null,null,null,null,null,null,null,null,null,null,null,0,"",null,"",""]
["",null,null,null,null,null,null,null,null,null,null,null,null,null,null,null,null,null,null,null,null,null,null,null,null,null,null,null,null,null,null,null,null,0,"",null,"",""]
["",null,null,null,null,null,null,null,null,null,null,null,null,null,null,null,null,null,null,null,null,null,null,null,null,null,null,null,null,null,null,null,null,0,"",null,"",{"$f":"IF(AND(AH258=1,AG258<>\"x\",AG258<>\"\"),\"You can only use x\",IF(AND(AH258=1,AG258=\"\",AJ258<>\"\"),\"Put x to Calculate\",\"\"))","v":""}]
["",null,null,null,null,null,null,null,null,null,null,null,null,null,null,null,null,null,null,null,null,null,null,null,null,null,null,null,null,null,null,null,null,{"$f":"IF(OR(LEFT(F259,2)=\"LS\",LEFT(F259,3)=\"L.S\"),1,0)","v":0},{"$f":"IF(G259=\"\",\"\",IF(AND(AG259<>\"\",AH259=1),0,G259))","v":""},null,"",""]
[{"$f":"LEFT(C260,9)","v":""},null,null,null,null,null,null,null,null,null,null,null,null,null,null,null,null,null,null,null,null,null,null,null,null,null,null,null,null,null,null,null,null,0,"",null,"",""]
["",null,null,null,null,null,null,null,null,null,null,null,null,null,null,null,null,null,null,null,null,null,null,null,null,null,null,null,null,null,null,null,null,0,"",null,"",""]
["",null,null,null,null,null,null,null,null,null,null,null,null,null,null,null,null,null,null,null,null,null,null,null,null,null,null,null,null,null,null,null,null,0,"",null,"",""]
["",null,null,null,null,null,null,null,null,null,null,null,null,null,null,null,null,null,null,null,null,null,null,null,null,null,null,null,null,null,null,null,null,0,"",null,"",""]
["",null,null,null,null,null,null,null,null,null,null,null,null,null,null,null,null,null,null,null,null,null,null,null,null,null,null,null,null,null,null,null,null,0,"",null,"",""]
["",null,null,null,null,null,null,null,null,null,null,null,null,null,null,null,null,null,null,null,null,null,null,null,null,null,null,null,null,null,null,null,null,0,"",null,"",""]
["",null,null,null,null,null,null,null,null,null,null,null,null,null,null,null,null,null,null,null,null,null,null,null,null,null,null,null,null,null,null,null,null,0,"",null,"",""]
["",null,null,null,null,null,null,null,null,null,null,null,null,null,null,null,null,null,null,null,null,null,null,null,null,null,null,null,null,null,null,null,null,0,"",null,{"$f":"IF(G267=\"\",\"\",IF(AND(AG267=\"x\",AH267=1),AJ267*$AQ$1,0))","v":""},""]
["",null,null,null,null,null,null,null,null,null,null,null,null,null,null,null,null,null,null,null,null,null,null,null,null,null,null,null,null,null,null,null,null,0,"",null,"",""]
["",null,null,null,null,null,null,null,null,null,null,null,null,null,null,null,null,null,null,null,null,null,null,null,null,null,null,null,null,null,null,null,null,0,"",null,"",""]
["",null,null,null,null,null,null,null,null,null,null,null,null,null,null,null,null,null,null,null,null,null,null,null,null,null,null,null,null,null,null,null,null,0,"",null,"",""]
["",null,null,null,null,null,null,null,null,null,null,null,null,null,null,null,null,null,null,null,null,null,null,null,null,null,null,null,null,null,null,null,null,0,"",null,"",""]
["",null,null,null,null,null,null,null,null,null,null,null,null,null,null,null,null,null,null,null,null,null,null,null,null,null,null,null,null,null,null,null,null,0,"",null,"",""]
["",null,null,null,null,null,null,null,null,null,null,null,null,null,null,null,null,null,null,null,null,null,null,null,null,null,null,null,null,null,null,null,null,0,"",null,"",""]
["",null,null,null,null,null,null,null,null,null,null,null,null,null,null,null,null,null,null,null,null,null,null,null,null,null,null,null,null,null,null,null,null,0,"",null,"",""]
["",null,null,null,null,null,null,null,null,null,null,null,null,null,null,null,null,null,null,null,null,null,null,null,null,null,null,null,null,null,null,null,null,0,"",null,"",""]
["",null,null,null,null,null,null,null,null,null,null,null,null,null,null,null,null,null,null,null,null,null,null,null,null,null,null,null,null,null,null,null,null,0,"",null,"",""]
["",null,null,null,null,null,null,null,null,null,null,null,null,null,null,null,null,null,null,null,null,null,null,null,null,null,null,null,null,null,null,null,null,0,"",null,"",""]
["",null,null,null,null,null,null,null,null,null,null,null,null,null,null,null,null,null,null,null,null,null,null,null,null,null,null,null,null,null,null,null,null,0,"",null,"",""]
["",null,null,null,null,null,null,null,null,null,null,null,null,null,null,null,null,null,null,null,null,null,null,null,null,null,null,null,null,null,null,null,null,0,"",null,"",""]
["",null,null,null,null,null,null,null,null,null,null,null,null,null,null,null,null,null,null,null,null,null,null,null,null,null,null,null,null,null,null,null,null,0,"",null,"",""]
["",null,null,null,null,null,null,null,null,null,null,null,null,null,null,null,null,null,null,null,null,null,null,null,null,null,null,null,null,null,null,null,null,0,"",null,"",""]
["",null,null,null,null,null,null,null,null,null,null,null,null,null,null,null,null,null,null,null,null,null,null,null,null,null,null,null,null,null,null,null,null,0,"",null,"",""]
["",null,null,null,null,null,null,null,null,null,null,null,null,null,null,null,null,null,null,null,null,null,null,null,null,null,null,null,null,null,null,null,null,0,"",null,"",""]
["",null,null,null,null,null,null,null,null,null,null,null,null,null,null,null,null,null,null,null,null,null,null,null,null,null,null,null,null,null,null,null,null,0,"",null,"",""]
["",null,null,null,null,null,null,null,null,null,null,null,null,null,null,null,null,null,null,null,null,null,null,null,null,null,null,null,null,null,null,null,null,0,"",null,"",""]
["",null,null,null,null,null,null,null,null,null,null,null,null,null,null,null,null,null,null,null,null,null,null,null,null,null,null,null,null,null,null,null,null,0,"",null,"",""]
["",null,null,null,null,null,null,null,null,null,null,null,null,null,null,null,null,null,null,null,null,null,null,null,null,null,null,null,null,null,null,null,null,0,"",null,"",""]
["",null,null,null,null,null,null,null,null,null,null,null,null,null,null,null,null,null,null,null,null,null,null,null,null,null,null,null,null,null,null,null,null,0,"",null,"",""]
["",null,null,null,null,null,null,null,null,null,null,null,null,null,null,null,null,null,null,null,null,null,null,null,null,null,null,null,null,null,null,null,null,0,"",null,"",""]
["",null,null,null,null,null,null,null,null,null,null,null,null,null,null,null,null,null,null,null,null,null,null,null,null,null,null,null,null,null,null,null,null,0,"",null,"",""]
["",null,null,null,null,null,null,null,null,null,null,null,null,null,null,null,null,null,null,null,null,null,null,null,null,null,null,null,null,null,null,null,null,0,"",null,"",""]
["",null,null,null,null,null,null,null,null,null,null,null,null,null,null,null,null,null,null,null,null,null,null,null,null,null,null,null,null,null,null,null,null,0,"",null,"",""]
["",null,null,null,null,null,null,null,null,null,null,null,null,null,null,null,null,null,null,null,null,null,null,null,null,null,null,null,null,null,null,null,null,0,"",null,"",""]
["",null,null,null,null,null,null,null,null,null,null,null,null,null,null,null,null,null,null,null,null,null,null,null,null,null,null,null,null,null,null,null,null,0,"",null,"",""]
["",null,null,null,null,null,null,null,null,null,null,null,null,null,null,null,null,null,null,null,null,null,null,null,null,null,null,null,null,null,null,null,null,0,"",null,"",""]
["",null,null,null,null,null,null,null,null,null,null,null,null,null,null,null,null,null,null,null,null,null,null,null,null,null,null,null,null,null,null,null,null,0,"",null,"",""]
["",null,null,null,null,null,null,null,null,null,null,null,null,null,null,null,null,null,null,null,null,null,null,null,null,null,null,null,null,null,null,null,null,0,"",null,"",""]
["",null,null,null,null,null,null,null,null,null,null,null,null,null,null,null,null,null,null,null,null,null,null,null,null,null,null,null,null,null,null,null,null,0,"",null,"",""]
["",null,null,null,null,null,null,null,null,null,null,null,null,null,null,null,null,null,null,null,null,null,null,null,null,null,null,null,null,null,null,null,null,0,"",null,"",""]
["",null,null,null,null,null,null,null,null,null,null,null,null,null,null,null,null,null,null,null,null,null,null,null,null,null,null,null,null,null,null,null,null,0,"",null,"",""]
["",null,null,null,null,null,null,null,null,null,null,null,null,null,null,null,null,null,null,null,null,null,null,null,null,null,null,null,null,null,null,null,null,0,"",null,"",""]
["",null,null,null,null,null,null,null,null,null,null,null,null,null,null,null,null,null,null,null,null,null,null,null,null,null,null,null,null,null,null,null,null,0,"",null,"",""]
["",null,null,null,null,null,null,null,null,null,null,null,null,null,null,null,null,null,null,null,null,null,null,null,null,null,null,null,null,null,null,null,null,0,"",null,"",""]
["",null,null,null,null,null,null,null,null,null,null,null,null,null,null,null,null,null,null,null,null,null,null,null,null,null,null,null,null,null,null,null,null,0,"",null,"",""]
["",null,null,null,null,null,null,null,null,null,null,null,null,null,null,null,null,null,null,null,null,null,null,null,null,null,null,null,null,null,null,null,null,0,"",null,"",""]
["",null,null,null,null,null,null,null,null,null,null,null,null,null,null,null,null,null,null,null,null,null,null,null,null,null,null,null,null,null,null,null,null,0,"",null,"",""]
["",null,null,null,null,null,null,null,null,null,null,null,null,null,null,null,null,null,null,null,null,null,null,null,null,null,null,null,null,null,null,null,null,0,"",null,"",""]
["",null,null,null,null,null,null,null,null,null,null,null,null,null,null,null,null,null,null,null,null,null,null,null,null,null,null,null,null,null,null,null,null,0,"",null,"",""]
["",null,null,null,null,null,null,null,null,null,null,null,null,null,null,null,null,null,null,null,null,null,null,null,null,null,null,null,null,null,null,null,null,0,"",null,"",""]
["",null,null,null,null,null,null,null,null,null,null,null,null,null,null,null,null,null,null,null,null,null,null,null,null,null,null,null,null,null,null,null,null,0,"",null,"",""]
["",null,null,null,null,null,null,null,null,null,null,null,null,null,null,null,null,null,null,null,null,null,null,null,null,null,null,null,null,null,null,null,null,0,"",null,"",""]
["",null,null,null,null,null,null,null,null,null,null,null,null,null,null,null,null,null,null,null,null,null,null,null,null,null,null,null,null,null,null,null,null,0,"",null,"",""]
["",null,null,null,null,null,null,null,null,null,null,null,null,null,null,null,null,null,null,null,null,null,null,null,null,null,null,null,null,null,null,null,null,0,"",null,"",""]
["",null,null,null,null,null,null,null,null,null,null,null,null,null,null,null,null,null,null,null,null,null,null,null,null,null,null,null,null,null,null,null,null,0,"",null,"",""]
["",null,null,null,null,null,null,null,null,null,null,null,null,null,null,null,null,null,null,null,null,null,null,null,null,null,null,null,null,null,null,null,null,0,"",null,"",""]
["",null,null,null,null,null,null,null,null,null,null,null,null,null,null,null,null,null,null,null,null,null,null,null,null,null,null,null,null,null,null,null,null,0,"",null,"",""]
["",null,null,null,null,null,null,null,null,null,null,null,null,null,null,null,null,null,null,null,null,null,null,null,null,null,null,null,null,null,null,null,null,0,"",null,"",""]
["",null,null,null,null,null,null,null,null,null,null,null,null,null,null,null,null,null,null,null,null,null,null,null,null,null,null,null,null,null,null,null,null,0,"",null,"",""]
["",null,null,null,null,null,null,null,null,null,null,null,null,null,null,null,null,null,null,null,null,null,null,null,null,null,null,null,null,null,null,null,null,0,"",null,"",""]
["",null,null,null,null,null,null,null,null,null,null,null,null,null,null,null,null,null,null,null,null,null,null,null,null,null,null,null,null,null,null,null,null,0,"",null,"",""]
["",null,null,null,null,null,null,null,null,null,null,null,null,null,null,null,null,null,null,null,null,null,null,null,null,null,null,null,null,null,null,null,null,0,"",null,"",""]
["",null,null,null,null,null,null,null,null,null,null,null,null,null,null,null,null,null,null,null,null,null,null,null,null,null,null,null,null,null,null,null,null,0,"",null,"",{"$f":"IF(AND(AH322=1,AG322<>\"x\",AG322<>\"\"),\"You can only use x\",IF(AND(AH322=1,AG322=\"\",AJ322<>\"\"),\"Put x to Calculate\",\"\"))","v":""}]
["",null,null,null,null,null,null,null,null,null,null,null,null,null,null,null,null,null,null,null,null,null,null,null,null,null,null,null,null,null,null,null,null,{"$f":"IF(OR(LEFT(F323,2)=\"LS\",LEFT(F323,3)=\"L.S\"),1,0)","v":0},{"$f":"IF(G323=\"\",\"\",IF(AND(AG323<>\"\",AH323=1),0,G323))","v":""},null,"",""]
[{"$f":"LEFT(C324,9)","v":""},null,null,null,null,null,null,null,null,null,null,null,null,null,null,null,null,null,null,null,null,null,null,null,null,null,null,null,null,null,null,null,null,0,"",null,"",""]
["",null,null,null,null,null,null,null,null,null,null,null,null,null,null,null,null,null,null,null,null,null,null,null,null,null,null,null,null,null,null,null,null,0,"",null,"",""]
["",null,null,null,null,null,null,null,null,null,null,null,null,null,null,null,null,null,null,null,null,null,null,null,null,null,null,null,null,null,null,null,null,0,"",null,"",""]
["",null,null,null,null,null,null,null,null,null,null,null,null,null,null,null,null,null,null,null,null,null,null,null,null,null,null,null,null,null,null,null,null,0,"",null,"",""]
["",null,null,null,null,null,null,null,null,null,null,null,null,null,null,null,null,null,null,null,null,null,null,null,null,null,null,null,null,null,null,null,null,0,"",null,"",""]
["",null,null,null,null,null,null,null,null,null,null,null,null,null,null,null,null,null,null,null,null,null,null,null,null,null,null,null,null,null,null,null,null,0,"",null,"",""]
["",null,null,null,null,null,null,null,null,null,null,null,null,null,null,null,null,null,null,null,null,null,null,null,null,null,null,null,null,null,null,null,null,0,"",null,"",""]
["",null,null,null,null,null,null,null,null,null,null,null,null,null,null,null,null,null,null,null,null,null,null,null,null,null,null,null,null,null,null,null,null,0,"",null,{"$f":"IF(G331=\"\",\"\",IF(AND(AG331=\"x\",AH331=1),AJ331*$AQ$1,0))","v":""},""]
["",null,null,null,null,null,null,null,null,null,null,null,null,null,null,null,null,null,null,null,null,null,null,null,null,null,null,null,null,null,null,null,null,0,"",null,"",""]
["",null,null,null,null,null,null,null,null,null,null,null,null,null,null,null,null,null,null,null,null,null,null,null,null,null,null,null,null,null,null,null,null,0,"",null,"",""]
["",null,null,null,null,null,null,null,null,null,null,null,null,null,null,null,null,null,null,null,null,null,null,null,null,null,null,null,null,null,null,null,null,0,"",null,"",""]
["",null,null,null,null,null,null,null,null,null,null,null,null,null,null,null,null,null,null,null,null,null,null,null,null,null,null,null,null,null,null,null,null,0,"",null,"",""]
["",null,null,null,null,null,null,null,null,null,null,null,null,null,null,null,null,null,null,null,null,null,null,null,null,null,null,null,null,null,null,null,null,0,"",null,"",""]
["",null,null,null,null,null,null,null,null,null,null,null,null,null,null,null,null,null,null,null,null,null,null,null,null,null,null,null,null,null,null,null,null,0,"",null,"",""]
["",null,null,null,null,null,null,null,null,null,null,null,null,null,null,null,null,null,null,null,null,null,null,null,null,null,null,null,null,null,null,null,null,0,"",null,"",""]
["",null,null,null,null,null,null,null,null,null,null,null,null,null,null,null,null,null,null,null,null,null,null,null,null,null,null,null,null,null,null,null,null,0,"",null,"",""]
["",null,null,null,null,null,null,null,null,null,null,null,null,null,null,null,null,null,null,null,null,null,null,null,null,null,null,null,null,null,null,null,null,0,"",null,"",""]
["",null,null,null,null,null,null,null,null,null,null,null,null,null,null,null,null,null,null,null,null,null,null,null,null,null,null,null,null,null,null,null,null,0,"",null,"",""]
["",null,null,null,null,null,null,null,null,null,null,null,null,null,null,null,null,null,null,null,null,null,null,null,null,null,null,null,null,null,null,null,null,0,"",null,"",""]
["",null,null,null,null,null,null,null,null,null,null,null,null,null,null,null,null,null,null,null,null,null,null,null,null,null,null,null,null,null,null,null,null,0,"",null,"",""]
["",null,null,null,null,null,null,null,null,null,null,null,null,null,null,null,null,null,null,null,null,null,null,null,null,null,null,null,null,null,null,null,null,0,"",null,"",""]
["",null,null,null,null,null,null,null,null,null,null,null,null,null,null,null,null,null,null,null,null,null,null,null,null,null,null,null,null,null,null,null,null,0,"",null,"",""]
["",null,null,null,null,null,null,null,null,null,null,null,null,null,null,null,null,null,null,null,null,null,null,null,null,null,null,null,null,null,null,null,null,0,"",null,"",""]
["",null,null,null,null,null,null,null,null,null,null,null,null,null,null,null,null,null,null,null,null,null,null,null,null,null,null,null,null,null,null,null,null,0,"",null,"",""]
["",null,null,null,null,null,null,null,null,null,null,null,null,null,null,null,null,null,null,null,null,null,null,null,null,null,null,null,null,null,null,null,null,0,"",null,"",""]
["",null,null,null,null,null,null,null,null,null,null,null,null,null,null,null,null,null,null,null,null,null,null,null,null,null,null,null,null,null,null,null,null,0,"",null,"",""]
["",null,null,null,null,null,null,null,null,null,null,null,null,null,null,null,null,null,null,null,null,null,null,null,null,null,null,null,null,null,null,null,null,0,"",null,"",""]
["",null,null,null,null,null,null,null,null,null,null,null,null,null,null,null,null,null,null,null,null,null,null,null,null,null,null,null,null,null,null,null,null,0,"",null,"",""]
["",null,null,null,null,null,null,null,null,null,null,null,null,null,null,null,null,null,null,null,null,null,null,null,null,null,null,null,null,null,null,null,null,0,"",null,"",""]
["",null,null,null,null,null,null,null,null,null,null,null,null,null,null,null,null,null,null,null,null,null,null,null,null,null,null,null,null,null,null,null,null,0,"",null,"",""]
["",null,null,null,null,null,null,null,null,null,null,null,null,null,null,null,null,null,null,null,null,null,null,null,null,null,null,null,null,null,null,null,null,0,"",null,"",""]
["",null,null,null,null,null,null,null,null,null,null,null,null,null,null,null,null,null,null,null,null,null,null,null,null,null,null,null,null,null,null,null,null,0,"",null,"",""]
["",null,null,null,null,null,null,null,null,null,null,null,null,null,null,null,null,null,null,null,null,null,null,null,null,null,null,null,null,null,null,null,null,0,"",null,"",""]
["",null,null,null,null,null,null,null,null,null,null,null,null,null,null,null,null,null,null,null,null,null,null,null,null,null,null,null,null,null,null,null,null,0,"",null,"",""]
["",null,null,null,null,null,null,null,null,null,null,null,null,null,null,null,null,null,null,null,null,null,null,null,null,null,null,null,null,null,null,null,null,0,"",null,"",""]
["",null,null,null,null,null,null,null,null,null,null,null,null,null,null,null,null,null,null,null,null,null,null,null,null,null,null,null,null,null,null,null,null,0,"",null,"",""]
["",null,null,null,null,null,null,null,null,null,null,null,null,null,null,null,null,null,null,null,null,null,null,null,null,null,null,null,null,null,null,null,null,0,"",null,"",""]
["",null,null,null,null,null,null,null,null,null,null,null,null,null,null,null,null,null,null,null,null,null,null,null,null,null,null,null,null,null,null,null,null,0,"",null,"",""]
["",null,null,null,null,null,null,null,null,null,null,null,null,null,null,null,null,null,null,null,null,null,null,null,null,null,null,null,null,null,null,null,null,0,"",null,"",""]
["",null,null,null,null,null,null,null,null,null,null,null,null,null,null,null,null,null,null,null,null,null,null,null,null,null,null,null,null,null,null,null,null,0,"",null,"",""]
["",null,null,null,null,null,null,null,null,null,null,null,null,null,null,null,null,null,null,null,null,null,null,null,null,null,null,null,null,null,null,null,null,0,"",null,"",""]
["",null,null,null,null,null,null,null,null,null,null,null,null,null,null,null,null,null,null,null,null,null,null,null,null,null,null,null,null,null,null,null,null,0,"",null,"",""]
["",null,null,null,null,null,null,null,null,null,null,null,null,null,null,null,null,null,null,null,null,null,null,null,null,null,null,null,null,null,null,null,null,0,"",null,"",""]
["",null,null,null,null,null,null,null,null,null,null,null,null,null,null,null,null,null,null,null,null,null,null,null,null,null,null,null,null,null,null,null,null,0,"",null,"",""]
["",null,null,null,null,null,null,null,null,null,null,null,null,null,null,null,null,null,null,null,null,null,null,null,null,null,null,null,null,null,null,null,null,0,"",null,"",""]
["",null,null,null,null,null,null,null,null,null,null,null,null,null,null,null,null,null,null,null,null,null,null,null,null,null,null,null,null,null,null,null,null,0,"",null,"",""]
["",null,null,null,null,null,null,null,null,null,null,null,null,null,null,null,null,null,null,null,null,null,null,null,null,null,null,null,null,null,null,null,null,0,"",null,"",""]
["",null,null,null,null,null,null,null,null,null,null,null,null,null,null,null,null,null,null,null,null,null,null,null,null,null,null,null,null,null,null,null,null,0,"",null,"",""]
["",null,null,null,null,null,null,null,null,null,null,null,null,null,null,null,null,null,null,null,null,null,null,null,null,null,null,null,null,null,null,null,null,0,"",null,"",""]
["",null,null,null,null,null,null,null,null,null,null,null,null,null,null,null,null,null,null,null,null,null,null,null,null,null,null,null,null,null,null,null,null,0,"",null,"",""]
["",null,null,null,null,null,null,null,null,null,null,null,null,null,null,null,null,null,null,null,null,null,null,null,null,null,null,null,null,null,null,null,null,0,"",null,"",""]
["",null,null,null,null,null,null,null,null,null,null,null,null,null,null,null,null,null,null,null,null,null,null,null,null,null,null,null,null,null,null,null,null,0,"",null,"",""]
["",null,null,null,null,null,null,null,null,null,null,null,null,null,null,null,null,null,null,null,null,null,null,null,null,null,null,null,null,null,null,null,null,0,"",null,"",""]
["",null,null,null,null,null,null,null,null,null,null,null,null,null,null,null,null,null,null,null,null,null,null,null,null,null,null,null,null,null,null,null,null,0,"",null,"",""]
["",null,null,null,null,null,null,null,null,null,null,null,null,null,null,null,null,null,null,null,null,null,null,null,null,null,null,null,null,null,null,null,null,0,"",null,"",""]
["",null,null,null,null,null,null,null,null,null,null,null,null,null,null,null,null,null,null,null,null,null,null,null,null,null,null,null,null,null,null,null,null,0,"",null,"",""]
["",null,null,null,null,null,null,null,null,null,null,null,null,null,null,null,null,null,null,null,null,null,null,null,null,null,null,null,null,null,null,null,null,0,"",null,"",""]
["",null,null,null,null,null,null,null,null,null,null,null,null,null,null,null,null,null,null,null,null,null,null,null,null,null,null,null,null,null,null,null,null,0,"",null,"",""]
["",null,null,null,null,null,null,null,null,null,null,null,null,null,null,null,null,null,null,null,null,null,null,null,null,null,null,null,null,null,null,null,null,0,"",null,"",""]
["",null,null,null,null,null,null,null,null,null,null,null,null,null,null,null,null,null,null,null,null,null,null,null,null,null,null,null,null,null,null,null,null,0,"",null,"",""]
["",null,null,null,null,null,null,null,null,null,null,null,null,null,null,null,null,null,null,null,null,null,null,null,null,null,null,null,null,null,null,null,null,0,"",null,"",""]
["",null,null,null,null,null,null,null,null,null,null,null,null,null,null,null,null,null,null,null,null,null,null,null,null,null,null,null,null,null,null,null,null,0,"",null,"",""]
["",null,null,null,null,null,null,null,null,null,null,null,null,null,null,null,null,null,null,null,null,null,null,null,null,null,null,null,null,null,null,null,null,0,"",null,"",{"$f":"IF(AND(AH386=1,AG386<>\"x\",AG386<>\"\"),\"You can only use x\",IF(AND(AH386=1,AG386=\"\",AJ386<>\"\"),\"Put x to Calculate\",\"\"))","v":""}]
["",null,null,null,null,null,null,null,null,null,null,null,null,null,null,null,null,null,null,null,null,null,null,null,null,null,null,null,null,null,null,null,null,{"$f":"IF(OR(LEFT(F387,2)=\"LS\",LEFT(F387,3)=\"L.S\"),1,0)","v":0},{"$f":"IF(G387=\"\",\"\",IF(AND(AG387<>\"\",AH387=1),0,G387))","v":""},null,"",""]
[{"$f":"LEFT(C388,9)","v":""},null,null,null,null,null,null,null,null,null,null,null,null,null,null,null,null,null,null,null,null,null,null,null,null,null,null,null,null,null,null,null,null,0,"",null,"",""]
["",null,null,null,null,null,null,null,null,null,null,null,null,null,null,null,null,null,null,null,null,null,null,null,null,null,null,null,null,null,null,null,null,0,"",null,"",""]
["",null,null,null,null,null,null,null,null,null,null,null,null,null,null,null,null,null,null,null,null,null,null,null,null,null,null,null,null,null,null,null,null,0,"",null,"",""]
["",null,null,null,null,null,null,null,null,null,null,null,null,null,null,null,null,null,null,null,null,null,null,null,null,null,null,null,null,null,null,null,null,0,"",null,"",""]
["",null,null,null,null,null,null,null,null,null,null,null,null,null,null,null,null,null,null,null,null,null,null,null,null,null,null,null,null,null,null,null,null,0,"",null,"",""]
["",null,null,null,null,null,null,null,null,null,null,null,null,null,null,null,null,null,null,null,null,null,null,null,null,null,null,null,null,null,null,null,null,0,"",null,"",""]
["",null,null,null,null,null,null,null,null,null,null,null,null,null,null,null,null,null,null,null,null,null,null,null,null,null,null,null,null,null,null,null,null,0,"",null,"",""]
["",null,null,null,null,null,null,null,null,null,null,null,null,null,null,null,null,null,null,null,null,null,null,null,null,null,null,null,null,null,null,null,null,0,"",null,{"$f":"IF(G395=\"\",\"\",IF(AND(AG395=\"x\",AH395=1),AJ395*$AQ$1,0))","v":""},""]
["",null,null,null,null,null,null,null,null,null,null,null,null,null,null,null,null,null,null,null,null,null,null,null,null,null,null,null,null,null,null,null,null,0,"",null,"",""]
["",null,null,null,null,null,null,null,null,null,null,null,null,null,null,null,null,null,null,null,null,null,null,null,null,null,null,null,null,null,null,null,null,0,"",null,"",""]
["",null,null,null,null,null,null,null,null,null,null,null,null,null,null,null,null,null,null,null,null,null,null,null,null,null,null,null,null,null,null,null,null,0,"",null,"",""]
["",null,null,null,null,null,null,null,null,null,null,null,null,null,null,null,null,null,null,null,null,null,null,null,null,null,null,null,null,null,null,null,null,0,"",null,"",""]
["",null,null,null,null,null,null,null,null,null,null,null,null,null,null,null,null,null,null,null,null,null,null,null,null,null,null,null,null,null,null,null,null,0,"",null,"",""]
["",null,null,null,null,null,null,null,null,null,null,null,null,null,null,null,null,null,null,null,null,null,null,null,null,null,null,null,null,null,null,null,null,0,"",null,"",""]
["",null,null,null,null,null,null,null,null,null,null,null,null,null,null,null,null,null,null,null,null,null,null,null,null,null,null,null,null,null,null,null,null,0,"",null,"",""]
["",null,null,null,null,null,null,null,null,null,null,null,null,null,null,null,null,null,null,null,null,null,null,null,null,null,null,null,null,null,null,null,null,0,"",null,"",""]
["",null,null,null,null,null,null,null,null,null,null,null,null,null,null,null,null,null,null,null,null,null,null,null,null,null,null,null,null,null,null,null,null,0,"",null,"",""]
["",null,null,null,null,null,null,null,null,null,null,null,null,null,null,null,null,null,null,null,null,null,null,null,null,null,null,null,null,null,null,null,null,0,"",null,"",""]
["",null,null,null,null,null,null,null,null,null,null,null,null,null,null,null,null,null,null,null,null,null,null,null,null,null,null,null,null,null,null,null,null,0,"",null,"",""]
["",null,null,null,null,null,null,null,null,null,null,null,null,null,null,null,null,null,null,null,null,null,null,null,null,null,null,null,null,null,null,null,null,0,"",null,"",""]
["",null,null,null,null,null,null,null,null,null,null,null,null,null,null,null,null,null,null,null,null,null,null,null,null,null,null,null,null,null,null,null,null,0,"",null,"",""]
["",null,null,null,null,null,null,null,null,null,null,null,null,null,null,null,null,null,null,null,null,null,null,null,null,null,null,null,null,null,null,null,null,0,"",null,"",""]
["",null,null,null,null,null,null,null,null,null,null,null,null,null,null,null,null,null,null,null,null,null,null,null,null,null,null,null,null,null,null,null,null,0,"",null,"",""]
["",null,null,null,null,null,null,null,null,null,null,null,null,null,null,null,null,null,null,null,null,null,null,null,null,null,null,null,null,null,null,null,null,0,"",null,"",""]
["",null,null,null,null,null,null,null,null,null,null,null,null,null,null,null,null,null,null,null,null,null,null,null,null,null,null,null,null,null,null,null,null,0,"",null,"",""]
["",null,null,null,null,null,null,null,null,null,null,null,null,null,null,null,null,null,null,null,null,null,null,null,null,null,null,null,null,null,null,null,null,0,"",null,"",""]
["",null,null,null,null,null,null,null,null,null,null,null,null,null,null,null,null,null,null,null,null,null,null,null,null,null,null,null,null,null,null,null,null,0,"",null,"",""]
["",null,null,null,null,null,null,null,null,null,null,null,null,null,null,null,null,null,null,null,null,null,null,null,null,null,null,null,null,null,null,null,null,0,"",null,"",""]
["",null,null,null,null,null,null,null,null,null,null,null,null,null,null,null,null,null,null,null,null,null,null,null,null,null,null,null,null,null,null,null,null,0,"",null,"",""]
["",null,null,null,null,null,null,null,null,null,null,null,null,null,null,null,null,null,null,null,null,null,null,null,null,null,null,null,null,null,null,null,null,0,"",null,"",""]
["",null,null,null,null,null,null,null,null,null,null,null,null,null,null,null,null,null,null,null,null,null,null,null,null,null,null,null,null,null,null,null,null,0,"",null,"",""]
["",null,null,null,null,null,null,null,null,null,null,null,null,null,null,null,null,null,null,null,null,null,null,null,null,null,null,null,null,null,null,null,null,0,"",null,"",""]
["",null,null,null,null,null,null,null,null,null,null,null,null,null,null,null,null,null,null,null,null,null,null,null,null,null,null,null,null,null,null,null,null,0,"",null,"",""]
["",null,null,null,null,null,null,null,null,null,null,null,null,null,null,null,null,null,null,null,null,null,null,null,null,null,null,null,null,null,null,null,null,0,"",null,"",""]
["",null,null,null,null,null,null,null,null,null,null,null,null,null,null,null,null,null,null,null,null,null,null,null,null,null,null,null,null,null,null,null,null,0,"",null,"",""]
["",null,null,null,null,null,null,null,null,null,null,null,null,null,null,null,null,null,null,null,null,null,null,null,null,null,null,null,null,null,null,null,null,0,"",null,"",""]
["",null,null,null,null,null,null,null,null,null,null,null,null,null,null,null,null,null,null,null,null,null,null,null,null,null,null,null,null,null,null,null,null,0,"",null,"",""]
["",null,null,null,null,null,null,null,null,null,null,null,null,null,null,null,null,null,null,null,null,null,null,null,null,null,null,null,null,null,null,null,null,0,"",null,"",""]
["",null,null,null,null,null,null,null,null,null,null,null,null,null,null,null,null,null,null,null,null,null,null,null,null,null,null,null,null,null,null,null,null,0,"",null,"",""]
["",null,null,null,null,null,null,null,null,null,null,null,null,null,null,null,null,null,null,null,null,null,null,null,null,null,null,null,null,null,null,null,null,0,"",null,"",""]
["",null,null,null,null,null,null,null,null,null,null,null,null,null,null,null,null,null,null,null,null,null,null,null,null,null,null,null,null,null,null,null,null,0,"",null,"",""]
["",null,null,null,null,null,null,null,null,null,null,null,null,null,null,null,null,null,null,null,null,null,null,null,null,null,null,null,null,null,null,null,null,0,"",null,"",""]
["",null,null,null,null,null,null,null,null,null,null,null,null,null,null,null,null,null,null,null,null,null,null,null,null,null,null,null,null,null,null,null,null,0,"",null,"",""]
["",null,null,null,null,null,null,null,null,null,null,null,null,null,null,null,null,null,null,null,null,null,null,null,null,null,null,null,null,null,null,null,null,0,"",null,"",""]
["",null,null,null,null,null,null,null,null,null,null,null,null,null,null,null,null,null,null,null,null,null,null,null,null,null,null,null,null,null,null,null,null,0,"",null,"",""]
["",null,null,null,null,null,null,null,null,null,null,null,null,null,null,null,null,null,null,null,null,null,null,null,null,null,null,null,null,null,null,null,null,0,"",null,"",""]
["",null,null,null,null,null,null,null,null,null,null,null,null,null,null,null,null,null,null,null,null,null,null,null,null,null,null,null,null,null,null,null,null,0,"",null,"",""]
["",null,null,null,null,null,null,null,null,null,null,null,null,null,null,null,null,null,null,null,null,null,null,null,null,null,null,null,null,null,null,null,null,0,"",null,"",""]
["",null,null,null,null,null,null,null,null,null,null,null,null,null,null,null,null,null,null,null,null,null,null,null,null,null,null,null,null,null,null,null,null,0,"",null,"",""]
["",null,null,null,null,null,null,null,null,null,null,null,null,null,null,null,null,null,null,null,null,null,null,null,null,null,null,null,null,null,null,null,null,0,"",null,"",""]
["",null,null,null,null,null,null,null,null,null,null,null,null,null,null,null,null,null,null,null,null,null,null,null,null,null,null,null,null,null,null,null,null,0,"",null,"",""]
["",null,null,null,null,null,null,null,null,null,null,null,null,null,null,null,null,null,null,null,null,null,null,null,null,null,null,null,null,null,null,null,null,0,"",null,"",""]
["",null,null,null,null,null,null,null,null,null,null,null,null,null,null,null,null,null,null,null,null,null,null,null,null,null,null,null,null,null,null,null,null,0,"",null,"",""]
["",null,null,null,null,null,null,null,null,null,null,null,null,null,null,null,null,null,null,null,null,null,null,null,null,null,null,null,null,null,null,null,null,0,"",null,"",""]
["",null,null,null,null,null,null,null,null,null,null,null,null,null,null,null,null,null,null,null,null,null,null,null,null,null,null,null,null,null,null,null,null,0,"",null,"",""]
["",null,null,null,null,null,null,null,null,null,null,null,null,null,null,null,null,null,null,null,null,null,null,null,null,null,null,null,null,null,null,null,null,0,"",null,"",""]
["",null,null,null,null,null,null,null,null,null,null,null,null,null,null,null,null,null,null,null,null,null,null,null,null,null,null,null,null,null,null,null,null,0,"",null,"",""]
["",null,null,null,null,null,null,null,null,null,null,null,null,null,null,null,null,null,null,null,null,null,null,null,null,null,null,null,null,null,null,null,null,0,"",null,"",""]
["",null,null,null,null,null,null,null,null,null,null,null,null,null,null,null,null,null,null,null,null,null,null,null,null,null,null,null,null,null,null,null,null,0,"",null,"",""]
["",null,null,null,null,null,null,null,null,null,null,null,null,null,null,null,null,null,null,null,null,null,null,null,null,null,null,null,null,null,null,null,null,0,"",null,"",""]
["",null,null,null,null,null,null,null,null,null,null,null,null,null,null,null,null,null,null,null,null,null,null,null,null,null,null,null,null,null,null,null,null,0,"",null,"",""]
["",null,null,null,null,null,null,null,null,null,null,null,null,null,null,null,null,null,null,null,null,null,null,null,null,null,null,null,null,null,null,null,null,0,"",null,"",""]
["",null,null,null,null,null,null,null,null,null,null,null,null,null,null,null,null,null,null,null,null,null,null,null,null,null,null,null,null,null,null,null,null,0,"",null,"",{"$f":"IF(AND(AH450=1,AG450<>\"x\",AG450<>\"\"),\"You can only use x\",IF(AND(AH450=1,AG450=\"\",AJ450<>\"\"),\"Put x to Calculate\",\"\"))","v":""}]
["",null,null,null,null,null,null,null,null,null,null,null,null,null,null,null,null,null,null,null,null,null,null,null,null,null,null,null,null,null,null,null,null,{"$f":"IF(OR(LEFT(F451,2)=\"LS\",LEFT(F451,3)=\"L.S\"),1,0)","v":0},{"$f":"IF(G451=\"\",\"\",IF(AND(AG451<>\"\",AH451=1),0,G451))","v":""},null,"",""]
[{"$f":"LEFT(C452,9)","v":""},null,null,null,null,null,null,null,null,null,null,null,null,null,null,null,null,null,null,null,null,null,null,null,null,null,null,null,null,null,null,null,null,0,"",null,"",""]
["",null,null,null,null,null,null,null,null,null,null,null,null,null,null,null,null,null,null,null,null,null,null,null,null,null,null,null,null,null,null,null,null,0,"",null,"",""]
["",null,null,null,null,null,null,null,null,null,null,null,null,null,null,null,null,null,null,null,null,null,null,null,null,null,null,null,null,null,null,null,null,0,"",null,"",""]
["",null,null,null,null,null,null,null,null,null,null,null,null,null,null,null,null,null,null,null,null,null,null,null,null,null,null,null,null,null,null,null,null,0,"",null,"",""]
["",null,null,null,null,null,null,null,null,null,null,null,null,null,null,null,null,null,null,null,null,null,null,null,null,null,null,null,null,null,null,null,null,0,"",null,"",""]
["",null,null,null,null,null,null,null,null,null,null,null,null,null,null,null,null,null,null,null,null,null,null,null,null,null,null,null,null,null,null,null,null,0,"",null,"",""]
["",null,null,null,null,null,null,null,null,null,null,null,null,null,null,null,null,null,null,null,null,null,null,null,null,null,null,null,null,null,null,null,null,0,"",null,"",""]
["",null,null,null,null,null,null,null,null,null,null,null,null,null,null,null,null,null,null,null,null,null,null,null,null,null,null,null,null,null,null,null,null,0,"",null,{"$f":"IF(G459=\"\",\"\",IF(AND(AG459=\"x\",AH459=1),AJ459*$AQ$1,0))","v":""},""]
["",null,null,null,null,null,null,null,null,null,null,null,null,null,null,null,null,null,null,null,null,null,null,null,null,null,null,null,null,null,null,null,null,0,"",null,"",""]
["",null,null,null,null,null,null,null,null,null,null,null,null,null,null,null,null,null,null,null,null,null,null,null,null,null,null,null,null,null,null,null,null,0,"",null,"",""]
["",null,null,null,null,null,null,null,null,null,null,null,null,null,null,null,null,null,null,null,null,null,null,null,null,null,null,null,null,null,null,null,null,0,"",null,"",""]
["",null,null,null,null,null,null,null,null,null,null,null,null,null,null,null,null,null,null,null,null,null,null,null,null,null,null,null,null,null,null,null,null,0,"",null,"",""]
["",null,null,null,null,null,null,null,null,null,null,null,null,null,null,null,null,null,null,null,null,null,null,null,null,null,null,null,null,null,null,null,null,0,"",null,"",""]
["",null,null,null,null,null,null,null,null,null,null,null,null,null,null,null,null,null,null,null,null,null,null,null,null,null,null,null,null,null,null,null,null,0,"",null,"",""]
["",null,null,null,null,null,null,null,null,null,null,null,null,null,null,null,null,null,null,null,null,null,null,null,null,null,null,null,null,null,null,null,null,0,"",null,"",""]
["",null,null,null,null,null,null,null,null,null,null,null,null,null,null,null,null,null,null,null,null,null,null,null,null,null,null,null,null,null,null,null,null,0,"",null,"",""]
["",null,null,null,null,null,null,null,null,null,null,null,null,null,null,null,null,null,null,null,null,null,null,null,null,null,null,null,null,null,null,null,null,0,"",null,"",""]
["",null,null,null,null,null,null,null,null,null,null,null,null,null,null,null,null,null,null,null,null,null,null,null,null,null,null,null,null,null,null,null,null,0,"",null,"",""]
["",null,null,null,null,null,null,null,null,null,null,null,null,null,null,null,null,null,null,null,null,null,null,null,null,null,null,null,null,null,null,null,null,0,"",null,"",""]
["",null,null,null,null,null,null,null,null,null,null,null,null,null,null,null,null,null,null,null,null,null,null,null,null,null,null,null,null,null,null,null,null,0,"",null,"",""]
["",null,null,null,null,null,null,null,null,null,null,null,null,null,null,null,null,null,null,null,null,null,null,null,null,null,null,null,null,null,null,null,null,0,"",null,"",""]
["",null,null,null,null,null,null,null,null,null,null,null,null,null,null,null,null,null,null,null,null,null,null,null,null,null,null,null,null,null,null,null,null,0,"",null,"",""]
["",null,null,null,null,null,null,null,null,null,null,null,null,null,null,null,null,null,null,null,null,null,null,null,null,null,null,null,null,null,null,null,null,0,"",null,"",""]
["",null,null,null,null,null,null,null,null,null,null,null,null,null,null,null,null,null,null,null,null,null,null,null,null,null,null,null,null,null,null,null,null,0,"",null,"",""]
["",null,null,null,null,null,null,null,null,null,null,null,null,null,null,null,null,null,null,null,null,null,null,null,null,null,null,null,null,null,null,null,null,0,"",null,"",""]
["",null,null,null,null,null,null,null,null,null,null,null,null,null,null,null,null,null,null,null,null,null,null,null,null,null,null,null,null,null,null,null,null,0,"",null,"",""]
["",null,null,null,null,null,null,null,null,null,null,null,null,null,null,null,null,null,null,null,null,null,null,null,null,null,null,null,null,null,null,null,null,0,"",null,"",""]
["",null,null,null,null,null,null,null,null,null,null,null,null,null,null,null,null,null,null,null,null,null,null,null,null,null,null,null,null,null,null,null,null,0,"",null,"",""]
["",null,null,null,null,null,null,null,null,null,null,null,null,null,null,null,null,null,null,null,null,null,null,null,null,null,null,null,null,null,null,null,null,0,"",null,"",""]
["",null,null,null,null,null,null,null,null,null,null,null,null,null,null,null,null,null,null,null,null,null,null,null,null,null,null,null,null,null,null,null,null,0,"",null,"",""]
["",null,null,null,null,null,null,null,null,null,null,null,null,null,null,null,null,null,null,null,null,null,null,null,null,null,null,null,null,null,null,null,null,0,"",null,"",""]
["",null,null,null,null,null,null,null,null,null,null,null,null,null,null,null,null,null,null,null,null,null,null,null,null,null,null,null,null,null,null,null,null,0,"",null,"",""]
["",null,null,null,null,null,null,null,null,null,null,null,null,null,null,null,null,null,null,null,null,null,null,null,null,null,null,null,null,null,null,null,null,0,"",null,"",""]
["",null,null,null,null,null,null,null,null,null,null,null,null,null,null,null,null,null,null,null,null,null,null,null,null,null,null,null,null,null,null,null,null,0,"",null,"",""]
["",null,null,null,null,null,null,null,null,null,null,null,null,null,null,null,null,null,null,null,null,null,null,null,null,null,null,null,null,null,null,null,null,0,"",null,"",""]
["",null,null,null,null,null,null,null,null,null,null,null,null,null,null,null,null,null,null,null,null,null,null,null,null,null,null,null,null,null,null,null,null,0,"",null,"",""]
["",null,null,null,null,null,null,null,null,null,null,null,null,null,null,null,null,null,null,null,null,null,null,null,null,null,null,null,null,null,null,null,null,0,"",null,"",""]
["",null,null,null,null,null,null,null,null,null,null,null,null,null,null,null,null,null,null,null,null,null,null,null,null,null,null,null,null,null,null,null,null,0,"",null,"",""]
["",null,null,null,null,null,null,null,null,null,null,null,null,null,null,null,null,null,null,null,null,null,null,null,null,null,null,null,null,null,null,null,null,0,"",null,"",""]
["",null,null,null,null,null,null,null,null,null,null,null,null,null,null,null,null,null,null,null,null,null,null,null,null,null,null,null,null,null,null,null,null,0,"",null,"",""]
["",null,null,null,null,null,null,null,null,null,null,null,null,null,null,null,null,null,null,null,null,null,null,null,null,null,null,null,null,null,null,null,null,0,"",null,"",""]
["",null,null,null,null,null,null,null,null,null,null,null,null,null,null,null,null,null,null,null,null,null,null,null,null,null,null,null,null,null,null,null,null,0,"",null,"",""]
["",null,null,null,null,null,null,null,null,null,null,null,null,null,null,null,null,null,null,null,null,null,null,null,null,null,null,null,null,null,null,null,null,0,"",null,"",""]
["",null,null,null,null,null,null,null,null,null,null,null,null,null,null,null,null,null,null,null,null,null,null,null,null,null,null,null,null,null,null,null,null,0,"",null,"",""]
["",null,null,null,null,null,null,null,null,null,null,null,null,null,null,null,null,null,null,null,null,null,null,null,null,null,null,null,null,null,null,null,null,0,"",null,"",""]
["",null,null,null,null,null,null,null,null,null,null,null,null,null,null,null,null,null,null,null,null,null,null,null,null,null,null,null,null,null,null,null,null,0,"",null,"",""]
["",null,null,null,null,null,null,null,null,null,null,null,null,null,null,null,null,null,null,null,null,null,null,null,null,null,null,null,null,null,null,null,null,0,"",null,"",""]
["",null,null,null,null,null,null,null,null,null,null,null,null,null,null,null,null,null,null,null,null,null,null,null,null,null,null,null,null,null,null,null,null,0,"",null,"",""]
["",null,null,null,null,null,null,null,null,null,null,null,null,null,null,null,null,null,null,null,null,null,null,null,null,null,null,null,null,null,null,null,null,0,"",null,"",""]
["",null,null,null,null,null,null,null,null,null,null,null,null,null,null,null,null,null,null,null,null,null,null,null,null,null,null,null,null,null,null,null,null,0,"",null,"",""]
["",null,null,null,null,null,null,null,null,null,null,null,null,null,null,null,null,null,null,null,null,null,null,null,null,null,null,null,null,null,null,null,null,0,"",null,"",""]
["",null,null,null,null,null,null,null,null,null,null,null,null,null,null,null,null,null,null,null,null,null,null,null,null,null,null,null,null,null,null,null,null,0,"",null,"",""]
["",null,null,null,null,null,null,null,null,null,null,null,null,null,null,null,null,null,null,null,null,null,null,null,null,null,null,null,null,null,null,null,null,0,"",null,"",""]
["",null,null,null,null,null,null,null,null,null,null,null,null,null,null,null,null,null,null,null,null,null,null,null,null,null,null,null,null,null,null,null,null,0,"",null,"",""]
["",null,null,null,null,null,null,null,null,null,null,null,null,null,null,null,null,null,null,null,null,null,null,null,null,null,null,null,null,null,null,null,null,0,"",null,"",""]
["",null,null,null,null,null,null,null,null,null,null,null,null,null,null,null,null,null,null,null,null,null,null,null,null,null,null,null,null,null,null,null,null,0,"",null,"",""]
["",null,null,null,null,null,null,null,null,null,null,null,null,null,null,null,null,null,null,null,null,null,null,null,null,null,null,null,null,null,null,null,null,0,"",null,"",""]
["",null,null,null,null,null,null,null,null,null,null,null,null,null,null,null,null,null,null,null,null,null,null,null,null,null,null,null,null,null,null,null,null,0,"",null,"",""]
["",null,null,null,null,null,null,null,null,null,null,null,null,null,null,null,null,null,null,null,null,null,null,null,null,null,null,null,null,null,null,null,null,0,"",null,"",""]
["",null,null,null,null,null,null,null,null,null,null,null,null,null,null,null,null,null,null,null,null,null,null,null,null,null,null,null,null,null,null,null,null,0,"",null,"",""]
["",null,null,null,null,null,null,null,null,null,null,null,null,null,null,null,null,null,null,null,null,null,null,null,null,null,null,null,null,null,null,null,null,0,"",null,"",""]
["",null,null,null,null,null,null,null,null,null,null,null,null,null,null,null,null,null,null,null,null,null,null,null,null,null,null,null,null,null,null,null,null,0,"",null,"",""]
["",null,null,null,null,null,null,null,null,null,null,null,null,null,null,null,null,null,null,null,null,null,null,null,null,null,null,null,null,null,null,null,null,0,"",null,"",{"$f":"IF(AND(AH514=1,AG514<>\"x\",AG514<>\"\"),\"You can only use x\",IF(AND(AH514=1,AG514=\"\",AJ514<>\"\"),\"Put x to Calculate\",\"\"))","v":""}]
["",null,null,null,null,null,null,null,null,null,null,null,null,null,null,null,null,null,null,null,null,null,null,null,null,null,null,null,null,null,null,null,null,{"$f":"IF(OR(LEFT(F515,2)=\"LS\",LEFT(F515,3)=\"L.S\"),1,0)","v":0},{"$f":"IF(G515=\"\",\"\",IF(AND(AG515<>\"\",AH515=1),0,G515))","v":""},null,"",""]
[{"$f":"LEFT(C516,9)","v":""},null,null,null,null,null,null,null,null,null,null,null,null,null,null,null,null,null,null,null,null,null,null,null,null,null,null,null,null,null,null,null,null,0,"",null,"",""]
["",null,null,null,null,null,null,null,null,null,null,null,null,null,null,null,null,null,null,null,null,null,null,null,null,null,null,null,null,null,null,null,null,0,"",null,"",""]
["",null,null,null,null,null,null,null,null,null,null,null,null,null,null,null,null,null,null,null,null,null,null,null,null,null,null,null,null,null,null,null,null,0,"",null,"",""]
["",null,null,null,null,null,null,null,null,null,null,null,null,null,null,null,null,null,null,null,null,null,null,null,null,null,null,null,null,null,null,null,null,0,"",null,"",""]
["",null,null,null,null,null,null,null,null,null,null,null,null,null,null,null,null,null,null,null,null,null,null,null,null,null,null,null,null,null,null,null,null,0,"",null,"",""]
["",null,null,null,null,null,null,null,null,null,null,null,null,null,null,null,null,null,null,null,null,null,null,null,null,null,null,null,null,null,null,null,null,0,"",null,"",""]
["",null,null,null,null,null,null,null,null,null,null,null,null,null,null,null,null,null,null,null,null,null,null,null,null,null,null,null,null,null,null,null,null,0,"",null,"",""]
["",null,null,null,null,null,null,null,null,null,null,null,null,null,null,null,null,null,null,null,null,null,null,null,null,null,null,null,null,null,null,null,null,0,"",null,{"$f":"IF(G523=\"\",\"\",IF(AND(AG523=\"x\",AH523=1),AJ523*$AQ$1,0))","v":""},""]
["",null,null,null,null,null,null,null,null,null,null,null,null,null,null,null,null,null,null,null,null,null,null,null,null,null,null,null,null,null,null,null,null,0,"",null,"",""]
["",null,null,null,null,null,null,null,null,null,null,null,null,null,null,null,null,null,null,null,null,null,null,null,null,null,null,null,null,null,null,null,null,0,"",null,"",""]
["",null,null,null,null,null,null,null,null,null,null,null,null,null,null,null,null,null,null,null,null,null,null,null,null,null,null,null,null,null,null,null,null,0,"",null,"",""]
["",null,null,null,null,null,null,null,null,null,null,null,null,null,null,null,null,null,null,null,null,null,null,null,null,null,null,null,null,null,null,null,null,0,"",null,"",""]
["",null,null,null,null,null,null,null,null,null,null,null,null,null,null,null,null,null,null,null,null,null,null,null,null,null,null,null,null,null,null,null,null,0,"",null,"",""]
["",null,null,null,null,null,null,null,null,null,null,null,null,null,null,null,null,null,null,null,null,null,null,null,null,null,null,null,null,null,null,null,null,0,"",null,"",""]
["",null,null,null,null,null,null,null,null,null,null,null,null,null,null,null,null,null,null,null,null,null,null,null,null,null,null,null,null,null,null,null,null,0,"",null,"",""]
["",null,null,null,null,null,null,null,null,null,null,null,null,null,null,null,null,null,null,null,null,null,null,null,null,null,null,null,null,null,null,null,null,0,"",null,"",""]
["",null,null,null,null,null,null,null,null,null,null,null,null,null,null,null,null,null,null,null,null,null,null,null,null,null,null,null,null,null,null,null,null,0,"",null,"",""]
["",null,null,null,null,null,null,null,null,null,null,null,null,null,null,null,null,null,null,null,null,null,null,null,null,null,null,null,null,null,null,null,null,0,"",null,"",""]
["",null,null,null,null,null,null,null,null,null,null,null,null,null,null,null,null,null,null,null,null,null,null,null,null,null,null,null,null,null,null,null,null,0,"",null,"",""]
["",null,null,null,null,null,null,null,null,null,null,null,null,null,null,null,null,null,null,null,null,null,null,null,null,null,null,null,null,null,null,null,null,0,"",null,"",""]
["",null,null,null,null,null,null,null,null,null,null,null,null,null,null,null,null,null,null,null,null,null,null,null,null,null,null,null,null,null,null,null,null,0,"",null,"",""]
["",null,null,null,null,null,null,null,null,null,null,null,null,null,null,null,null,null,null,null,null,null,null,null,null,null,null,null,null,null,null,null,null,0,"",null,"",""]
["",null,null,null,null,null,null,null,null,null,null,null,null,null,null,null,null,null,null,null,null,null,null,null,null,null,null,null,null,null,null,null,null,0,"",null,"",""]
["",null,null,null,null,null,null,null,null,null,null,null,null,null,null,null,null,null,null,null,null,null,null,null,null,null,null,null,null,null,null,null,null,0,"",null,"",""]
["",null,null,null,null,null,null,null,null,null,null,null,null,null,null,null,null,null,null,null,null,null,null,null,null,null,null,null,null,null,null,null,null,0,"",null,"",""]
["",null,null,null,null,null,null,null,null,null,null,null,null,null,null,null,null,null,null,null,null,null,null,null,null,null,null,null,null,null,null,null,null,0,"",null,"",""]
["",null,null,null,null,null,null,null,null,null,null,null,null,null,null,null,null,null,null,null,null,null,null,null,null,null,null,null,null,null,null,null,null,0,"",null,"",""]
["",null,null,null,null,null,null,null,null,null,null,null,null,null,null,null,null,null,null,null,null,null,null,null,null,null,null,null,null,null,null,null,null,0,"",null,"",""]
["",null,null,null,null,null,null,null,null,null,null,null,null,null,null,null,null,null,null,null,null,null,null,null,null,null,null,null,null,null,null,null,null,0,"",null,"",""]
["",null,null,null,null,null,null,null,null,null,null,null,null,null,null,null,null,null,null,null,null,null,null,null,null,null,null,null,null,null,null,null,null,0,"",null,"",""]
["",null,null,null,null,null,null,null,null,null,null,null,null,null,null,null,null,null,null,null,null,null,null,null,null,null,null,null,null,null,null,null,null,0,"",null,"",""]
["",null,null,null,null,null,null,null,null,null,null,null,null,null,null,null,null,null,null,null,null,null,null,null,null,null,null,null,null,null,null,null,null,0,"",null,"",""]
["",null,null,null,null,null,null,null,null,null,null,null,null,null,null,null,null,null,null,null,null,null,null,null,null,null,null,null,null,null,null,null,null,0,"",null,"",""]
["",null,null,null,null,null,null,null,null,null,null,null,null,null,null,null,null,null,null,null,null,null,null,null,null,null,null,null,null,null,null,null,null,0,"",null,"",""]
["",null,null,null,null,null,null,null,null,null,null,null,null,null,null,null,null,null,null,null,null,null,null,null,null,null,null,null,null,null,null,null,null,0,"",null,"",""]
["",null,null,null,null,null,null,null,null,null,null,null,null,null,null,null,null,null,null,null,null,null,null,null,null,null,null,null,null,null,null,null,null,0,"",null,"",""]
["",null,null,null,null,null,null,null,null,null,null,null,null,null,null,null,null,null,null,null,null,null,null,null,null,null,null,null,null,null,null,null,null,0,"",null,"",""]
["",null,null,null,null,null,null,null,null,null,null,null,null,null,null,null,null,null,null,null,null,null,null,null,null,null,null,null,null,null,null,null,null,0,"",null,"",""]
["",null,null,null,null,null,null,null,null,null,null,null,null,null,null,null,null,null,null,null,null,null,null,null,null,null,null,null,null,null,null,null,null,0,"",null,"",""]
["",null,null,null,null,null,null,null,null,null,null,null,null,null,null,null,null,null,null,null,null,null,null,null,null,null,null,null,null,null,null,null,null,0,"",null,"",""]
["",null,null,null,null,null,null,null,null,null,null,null,null,null,null,null,null,null,null,null,null,null,null,null,null,null,null,null,null,null,null,null,null,0,"",null,"",""]
["",null,null,null,null,null,null,null,null,null,null,null,null,null,null,null,null,null,null,null,null,null,null,null,null,null,null,null,null,null,null,null,null,0,"",null,"",""]
["",null,null,null,null,null,null,null,null,null,null,null,null,null,null,null,null,null,null,null,null,null,null,null,null,null,null,null,null,null,null,null,null,0,"",null,"",""]
["",null,null,null,null,null,null,null,null,null,null,null,null,null,null,null,null,null,null,null,null,null,null,null,null,null,null,null,null,null,null,null,null,0,"",null,"",""]
["",null,null,null,null,null,null,null,null,null,null,null,null,null,null,null,null,null,null,null,null,null,null,null,null,null,null,null,null,null,null,null,null,0,"",null,"",""]
["",null,null,null,null,null,null,null,null,null,null,null,null,null,null,null,null,null,null,null,null,null,null,null,null,null,null,null,null,null,null,null,null,0,"",null,"",""]
["",null,null,null,null,null,null,null,null,null,null,null,null,null,null,null,null,null,null,null,null,null,null,null,null,null,null,null,null,null,null,null,null,0,"",null,"",""]
["",null,null,null,null,null,null,null,null,null,null,null,null,null,null,null,null,null,null,null,null,null,null,null,null,null,null,null,null,null,null,null,null,0,"",null,"",""]
["",null,null,null,null,null,null,null,null,null,null,null,null,null,null,null,null,null,null,null,null,null,null,null,null,null,null,null,null,null,null,null,null,0,"",null,"",""]
["",null,null,null,null,null,null,null,null,null,null,null,null,null,null,null,null,null,null,null,null,null,null,null,null,null,null,null,null,null,null,null,null,0,"",null,"",""]
["",null,null,null,null,null,null,null,null,null,null,null,null,null,null,null,null,null,null,null,null,null,null,null,null,null,null,null,null,null,null,null,null,0,"",null,"",""]
["",null,null,null,null,null,null,null,null,null,null,null,null,null,null,null,null,null,null,null,null,null,null,null,null,null,null,null,null,null,null,null,null,0,"",null,"",""]
["",null,null,null,null,null,null,null,null,null,null,null,null,null,null,null,null,null,null,null,null,null,null,null,null,null,null,null,null,null,null,null,null,0,"",null,"",""]
["",null,null,null,null,null,null,null,null,null,null,null,null,null,null,null,null,null,null,null,null,null,null,null,null,null,null,null,null,null,null,null,null,0,"",null,"",""]
["",null,null,null,null,null,null,null,null,null,null,null,null,null,null,null,null,null,null,null,null,null,null,null,null,null,null,null,null,null,null,null,null,0,"",null,"",""]
["",null,null,null,null,null,null,null,null,null,null,null,null,null,null,null,null,null,null,null,null,null,null,null,null,null,null,null,null,null,null,null,null,0,"",null,"",""]
["",null,null,null,null,null,null,null,null,null,null,null,null,null,null,null,null,null,null,null,null,null,null,null,null,null,null,null,null,null,null,null,null,0,"",null,"",""]
["",null,null,null,null,null,null,null,null,null,null,null,null,null,null,null,null,null,null,null,null,null,null,null,null,null,null,null,null,null,null,null,null,0,"",null,"",""]
["",null,null,null,null,null,null,null,null,null,null,null,null,null,null,null,null,null,null,null,null,null,null,null,null,null,null,null,null,null,null,null,null,0,"",null,"",""]
["",null,null,null,null,null,null,null,null,null,null,null,null,null,null,null,null,null,null,null,null,null,null,null,null,null,null,null,null,null,null,null,null,0,"",null,"",""]
["",null,null,null,null,null,null,null,null,null,null,null,null,null,null,null,null,null,null,null,null,null,null,null,null,null,null,null,null,null,null,null,null,0,"",null,"",""]
["",null,null,null,null,null,null,null,null,null,null,null,null,null,null,null,null,null,null,null,null,null,null,null,null,null,null,null,null,null,null,null,null,0,"",null,"",""]
["",null,null,null,null,null,null,null,null,null,null,null,null,null,null,null,null,null,null,null,null,null,null,null,null,null,null,null,null,null,null,null,null,0,"",null,"",{"$f":"IF(AND(AH578=1,AG578<>\"x\",AG578<>\"\"),\"You can only use x\",IF(AND(AH578=1,AG578=\"\",AJ578<>\"\"),\"Put x to Calculate\",\"\"))","v":""}]
["",null,null,null,null,null,null,null,null,null,null,null,null,null,null,null,null,null,null,null,null,null,null,null,null,null,null,null,null,null,null,null,null,{"$f":"IF(OR(LEFT(F579,2)=\"LS\",LEFT(F579,3)=\"L.S\"),1,0)","v":0},{"$f":"IF(G579=\"\",\"\",IF(AND(AG579<>\"\",AH579=1),0,G579))","v":""},null,"",""]
[{"$f":"LEFT(C580,9)","v":""},null,null,null,null,null,null,null,null,null,null,null,null,null,null,null,null,null,null,null,null,null,null,null,null,null,null,null,null,null,null,null,null,0,"",null,"",""]
["",null,null,null,null,null,null,null,null,null,null,null,null,null,null,null,null,null,null,null,null,null,null,null,null,null,null,null,null,null,null,null,null,0,"",null,"",""]
["",null,null,null,null,null,null,null,null,null,null,null,null,null,null,null,null,null,null,null,null,null,null,null,null,null,null,null,null,null,null,null,null,0,"",null,"",""]
["",null,null,null,null,null,null,null,null,null,null,null,null,null,null,null,null,null,null,null,null,null,null,null,null,null,null,null,null,null,null,null,null,0,"",null,"",""]
["",null,null,null,null,null,null,null,null,null,null,null,null,null,null,null,null,null,null,null,null,null,null,null,null,null,null,null,null,null,null,null,null,0,"",null,"",""]
["",null,null,null,null,null,null,null,null,null,null,null,null,null,null,null,null,null,null,null,null,null,null,null,null,null,null,null,null,null,null,null,null,0,"",null,"",""]
["",null,null,null,null,null,null,null,null,null,null,null,null,null,null,null,null,null,null,null,null,null,null,null,null,null,null,null,null,null,null,null,null,0,"",null,"",""]
["",null,null,null,null,null,null,null,null,null,null,null,null,null,null,null,null,null,null,null,null,null,null,null,null,null,null,null,null,null,null,null,null,0,"",null,{"$f":"IF(G587=\"\",\"\",IF(AND(AG587=\"x\",AH587=1),AJ587*$AQ$1,0))","v":""},""]
["",null,null,null,null,null,null,null,null,null,null,null,null,null,null,null,null,null,null,null,null,null,null,null,null,null,null,null,null,null,null,null,null,0,"",null,"",""]
["",null,null,null,null,null,null,null,null,null,null,null,null,null,null,null,null,null,null,null,null,null,null,null,null,null,null,null,null,null,null,null,null,0,"",null,"",""]
["",null,null,null,null,null,null,null,null,null,null,null,null,null,null,null,null,null,null,null,null,null,null,null,null,null,null,null,null,null,null,null,null,0,"",null,"",""]
["",null,null,null,null,null,null,null,null,null,null,null,null,null,null,null,null,null,null,null,null,null,null,null,null,null,null,null,null,null,null,null,null,0,"",null,"",""]
["",null,null,null,null,null,null,null,null,null,null,null,null,null,null,null,null,null,null,null,null,null,null,null,null,null,null,null,null,null,null,null,null,0,"",null,"",""]
["",null,null,null,null,null,null,null,null,null,null,null,null,null,null,null,null,null,null,null,null,null,null,null,null,null,null,null,null,null,null,null,null,0,"",null,"",""]
["",null,null,null,null,null,null,null,null,null,null,null,null,null,null,null,null,null,null,null,null,null,null,null,null,null,null,null,null,null,null,null,null,0,"",null,"",""]
["",null,null,null,null,null,null,null,null,null,null,null,null,null,null,null,null,null,null,null,null,null,null,null,null,null,null,null,null,null,null,null,null,0,"",null,"",""]
["",null,null,null,null,null,null,null,null,null,null,null,null,null,null,null,null,null,null,null,null,null,null,null,null,null,null,null,null,null,null,null,null,0,"",null,"",""]
["",null,null,null,null,null,null,null,null,null,null,null,null,null,null,null,null,null,null,null,null,null,null,null,null,null,null,null,null,null,null,null,null,0,"",null,"",""]
["",null,null,null,null,null,null,null,null,null,null,null,null,null,null,null,null,null,null,null,null,null,null,null,null,null,null,null,null,null,null,null,null,0,"",null,"",""]
["",null,null,null,null,null,null,null,null,null,null,null,null,null,null,null,null,null,null,null,null,null,null,null,null,null,null,null,null,null,null,null,null,0,"",null,"",""]
["",null,null,null,null,null,null,null,null,null,null,null,null,null,null,null,null,null,null,null,null,null,null,null,null,null,null,null,null,null,null,null,null,0,"",null,"",""]
["",null,null,null,null,null,null,null,null,null,null,null,null,null,null,null,null,null,null,null,null,null,null,null,null,null,null,null,null,null,null,null,null,0,"",null,"",""]
["",null,null,null,null,null,null,null,null,null,null,null,null,null,null,null,null,null,null,null,null,null,null,null,null,null,null,null,null,null,null,null,null,0,"",null,"",""]
["",null,null,null,null,null,null,null,null,null,null,null,null,null,null,null,null,null,null,null,null,null,null,null,null,null,null,null,null,null,null,null,null,0,"",null,"",""]
["",null,null,null,null,null,null,null,null,null,null,null,null,null,null,null,null,null,null,null,null,null,null,null,null,null,null,null,null,null,null,null,null,0,"",null,"",""]
["",null,null,null,null,null,null,null,null,null,null,null,null,null,null,null,null,null,null,null,null,null,null,null,null,null,null,null,null,null,null,null,null,0,"",null,"",""]
["",null,null,null,null,null,null,null,null,null,null,null,null,null,null,null,null,null,null,null,null,null,null,null,null,null,null,null,null,null,null,null,null,0,"",null,"",""]
["",null,null,null,null,null,null,null,null,null,null,null,null,null,null,null,null,null,null,null,null,null,null,null,null,null,null,null,null,null,null,null,null,0,"",null,"",""]
["",null,null,null,null,null,null,null,null,null,null,null,null,null,null,null,null,null,null,null,null,null,null,null,null,null,null,null,null,null,null,null,null,0,"",null,"",""]
["",null,null,null,null,null,null,null,null,null,null,null,null,null,null,null,null,null,null,null,null,null,null,null,null,null,null,null,null,null,null,null,null,0,"",null,"",""]
["",null,null,null,null,null,null,null,null,null,null,null,null,null,null,null,null,null,null,null,null,null,null,null,null,null,null,null,null,null,null,null,null,0,"",null,"",""]
["",null,null,null,null,null,null,null,null,null,null,null,null,null,null,null,null,null,null,null,null,null,null,null,null,null,null,null,null,null,null,null,null,0,"",null,"",""]
["",null,null,null,null,null,null,null,null,null,null,null,null,null,null,null,null,null,null,null,null,null,null,null,null,null,null,null,null,null,null,null,null,0,"",null,"",""]
["",null,null,null,null,null,null,null,null,null,null,null,null,null,null,null,null,null,null,null,null,null,null,null,null,null,null,null,null,null,null,null,null,0,"",null,"",""]
["",null,null,null,null,null,null,null,null,null,null,null,null,null,null,null,null,null,null,null,null,null,null,null,null,null,null,null,null,null,null,null,null,0,"",null,"",""]
["",null,null,null,null,null,null,null,null,null,null,null,null,null,null,null,null,null,null,null,null,null,null,null,null,null,null,null,null,null,null,null,null,0,"",null,"",""]
["",null,null,null,null,null,null,null,null,null,null,null,null,null,null,null,null,null,null,null,null,null,null,null,null,null,null,null,null,null,null,null,null,0,"",null,"",""]
["",null,null,null,null,null,null,null,null,null,null,null,null,null,null,null,null,null,null,null,null,null,null,null,null,null,null,null,null,null,null,null,null,0,"",null,"",""]
["",null,null,null,null,null,null,null,null,null,null,null,null,null,null,null,null,null,null,null,null,null,null,null,null,null,null,null,null,null,null,null,null,0,"",null,"",""]
["",null,null,null,null,null,null,null,null,null,null,null,null,null,null,null,null,null,null,null,null,null,null,null,null,null,null,null,null,null,null,null,null,0,"",null,"",""]
["",null,null,null,null,null,null,null,null,null,null,null,null,null,null,null,null,null,null,null,null,null,null,null,null,null,null,null,null,null,null,null,null,0,"",null,"",""]
["",null,null,null,null,null,null,null,null,null,null,null,null,null,null,null,null,null,null,null,null,null,null,null,null,null,null,null,null,null,null,null,null,0,"",null,"",""]
["",null,null,null,null,null,null,null,null,null,null,null,null,null,null,null,null,null,null,null,null,null,null,null,null,null,null,null,null,null,null,null,null,0,"",null,"",""]
["",null,null,null,null,null,null,null,null,null,null,null,null,null,null,null,null,null,null,null,null,null,null,null,null,null,null,null,null,null,null,null,null,0,"",null,"",""]
["",null,null,null,null,null,null,null,null,null,null,null,null,null,null,null,null,null,null,null,null,null,null,null,null,null,null,null,null,null,null,null,null,0,"",null,"",""]
["",null,null,null,null,null,null,null,null,null,null,null,null,null,null,null,null,null,null,null,null,null,null,null,null,null,null,null,null,null,null,null,null,0,"",null,"",""]
["",null,null,null,null,null,null,null,null,null,null,null,null,null,null,null,null,null,null,null,null,null,null,null,null,null,null,null,null,null,null,null,null,0,"",null,"",""]
["",null,null,null,null,null,null,null,null,null,null,null,null,null,null,null,null,null,null,null,null,null,null,null,null,null,null,null,null,null,null,null,null,0,"",null,"",""]
["",null,null,null,null,null,null,null,null,null,null,null,null,null,null,null,null,null,null,null,null,null,null,null,null,null,null,null,null,null,null,null,null,0,"",null,"",""]
["",null,null,null,null,null,null,null,null,null,null,null,null,null,null,null,null,null,null,null,null,null,null,null,null,null,null,null,null,null,null,null,null,0,"",null,"",""]
["",null,null,null,null,null,null,null,null,null,null,null,null,null,null,null,null,null,null,null,null,null,null,null,null,null,null,null,null,null,null,null,null,0,"",null,"",""]
["",null,null,null,null,null,null,null,null,null,null,null,null,null,null,null,null,null,null,null,null,null,null,null,null,null,null,null,null,null,null,null,null,0,"",null,"",""]
["",null,null,null,null,null,null,null,null,null,null,null,null,null,null,null,null,null,null,null,null,null,null,null,null,null,null,null,null,null,null,null,null,0,"",null,"",""]
["",null,null,null,null,null,null,null,null,null,null,null,null,null,null,null,null,null,null,null,null,null,null,null,null,null,null,null,null,null,null,null,null,0,"",null,"",""]
["",null,null,null,null,null,null,null,null,null,null,null,null,null,null,null,null,null,null,null,null,null,null,null,null,null,null,null,null,null,null,null,null,0,"",null,"",""]
["",null,null,null,null,null,null,null,null,null,null,null,null,null,null,null,null,null,null,null,null,null,null,null,null,null,null,null,null,null,null,null,null,0,"",null,"",""]
["",null,null,null,null,null,null,null,null,null,null,null,null,null,null,null,null,null,null,null,null,null,null,null,null,null,null,null,null,null,null,null,null,0,"",null,"",""]
["",null,null,null,null,null,null,null,null,null,null,null,null,null,null,null,null,null,null,null,null,null,null,null,null,null,null,null,null,null,null,null,null,0,"",null,"",""]
["",null,null,null,null,null,null,null,null,null,null,null,null,null,null,null,null,null,null,null,null,null,null,null,null,null,null,null,null,null,null,null,null,0,"",null,"",""]
["",null,null,null,null,null,null,null,null,null,null,null,null,null,null,null,null,null,null,null,null,null,null,null,null,null,null,null,null,null,null,null,null,0,"",null,"",""]
["",null,null,null,null,null,null,null,null,null,null,null,null,null,null,null,null,null,null,null,null,null,null,null,null,null,null,null,null,null,null,null,null,0,"",null,"",""]
["",null,null,null,null,null,null,null,null,null,null,null,null,null,null,null,null,null,null,null,null,null,null,null,null,null,null,null,null,null,null,null,null,0,"",null,"",""]
["",null,null,null,null,null,null,null,null,null,null,null,null,null,null,null,null,null,null,null,null,null,null,null,null,null,null,null,null,null,null,null,null,0,"",null,"",{"$f":"IF(AND(AH642=1,AG642<>\"x\",AG642<>\"\"),\"You can only use x\",IF(AND(AH642=1,AG642=\"\",AJ642<>\"\"),\"Put x to Calculate\",\"\"))","v":""}]
["",null,null,null,null,null,null,null,null,null,null,null,null,null,null,null,null,null,null,null,null,null,null,null,null,null,null,null,null,null,null,null,null,{"$f":"IF(OR(LEFT(F643,2)=\"LS\",LEFT(F643,3)=\"L.S\"),1,0)","v":0},{"$f":"IF(G643=\"\",\"\",IF(AND(AG643<>\"\",AH643=1),0,G643))","v":""},null,"",""]
[{"$f":"LEFT(C644,9)","v":""},null,null,null,null,null,null,null,null,null,null,null,null,null,null,null,null,null,null,null,null,null,null,null,null,null,null,null,null,null,null,null,null,0,"",null,"",""]
["",null,null,null,null,null,null,null,null,null,null,null,null,null,null,null,null,null,null,null,null,null,null,null,null,null,null,null,null,null,null,null,null,0,"",null,"",""]
["",null,null,null,null,null,null,null,null,null,null,null,null,null,null,null,null,null,null,null,null,null,null,null,null,null,null,null,null,null,null,null,null,0,"",null,"",""]
["",null,null,null,null,null,null,null,null,null,null,null,null,null,null,null,null,null,null,null,null,null,null,null,null,null,null,null,null,null,null,null,null,0,"",null,"",""]
["",null,null,null,null,null,null,null,null,null,null,null,null,null,null,null,null,null,null,null,null,null,null,null,null,null,null,null,null,null,null,null,null,0,"",null,"",""]
["",null,null,null,null,null,null,null,null,null,null,null,null,null,null,null,null,null,null,null,null,null,null,null,null,null,null,null,null,null,null,null,null,0,"",null,"",""]
["",null,null,null,null,null,null,null,null,null,null,null,null,null,null,null,null,null,null,null,null,null,null,null,null,null,null,null,null,null,null,null,null,0,"",null,"",""]
["",null,null,null,null,null,null,null,null,null,null,null,null,null,null,null,null,null,null,null,null,null,null,null,null,null,null,null,null,null,null,null,null,0,"",null,{"$f":"IF(G651=\"\",\"\",IF(AND(AG651=\"x\",AH651=1),AJ651*$AQ$1,0))","v":""},""]
["",null,null,null,null,null,null,null,null,null,null,null,null,null,null,null,null,null,null,null,null,null,null,null,null,null,null,null,null,null,null,null,null,0,"",null,"",""]
["",null,null,null,null,null,null,null,null,null,null,null,null,null,null,null,null,null,null,null,null,null,null,null,null,null,null,null,null,null,null,null,null,0,"",null,"",""]
["",null,null,null,null,null,null,null,null,null,null,null,null,null,null,null,null,null,null,null,null,null,null,null,null,null,null,null,null,null,null,null,null,0,"",null,"",""]
["",null,null,null,null,null,null,null,null,null,null,null,null,null,null,null,null,null,null,null,null,null,null,null,null,null,null,null,null,null,null,null,null,0,"",null,"",""]
["",null,null,null,null,null,null,null,null,null,null,null,null,null,null,null,null,null,null,null,null,null,null,null,null,null,null,null,null,null,null,null,null,0,"",null,"",""]
["",null,null,null,null,null,null,null,null,null,null,null,null,null,null,null,null,null,null,null,null,null,null,null,null,null,null,null,null,null,null,null,null,0,"",null,"",""]
["",null,null,null,null,null,null,null,null,null,null,null,null,null,null,null,null,null,null,null,null,null,null,null,null,null,null,null,null,null,null,null,null,0,"",null,"",""]
["",null,null,null,null,null,null,null,null,null,null,null,null,null,null,null,null,null,null,null,null,null,null,null,null,null,null,null,null,null,null,null,null,0,"",null,"",""]
["",null,null,null,null,null,null,null,null,null,null,null,null,null,null,null,null,null,null,null,null,null,null,null,null,null,null,null,null,null,null,null,null,0,"",null,"",""]
["",null,null,null,null,null,null,null,null,null,null,null,null,null,null,null,null,null,null,null,null,null,null,null,null,null,null,null,null,null,null,null,null,0,"",null,"",""]
["",null,null,null,null,null,null,null,null,null,null,null,null,null,null,null,null,null,null,null,null,null,null,null,null,null,null,null,null,null,null,null,null,0,"",null,"",""]
["",null,null,null,null,null,null,null,null,null,null,null,null,null,null,null,null,null,null,null,null,null,null,null,null,null,null,null,null,null,null,null,null,0,"",null,"",""]
["",null,null,null,null,null,null,null,null,null,null,null,null,null,null,null,null,null,null,null,null,null,null,null,null,null,null,null,null,null,null,null,null,0,"",null,"",""]
["",null,null,null,null,null,null,null,null,null,null,null,null,null,null,null,null,null,null,null,null,null,null,null,null,null,null,null,null,null,null,null,null,0,"",null,"",""]
["",null,null,null,null,null,null,null,null,null,null,null,null,null,null,null,null,null,null,null,null,null,null,null,null,null,null,null,null,null,null,null,null,0,"",null,"",""]
["",null,null,null,null,null,null,null,null,null,null,null,null,null,null,null,null,null,null,null,null,null,null,null,null,null,null,null,null,null,null,null,null,0,"",null,"",""]
["",null,null,null,null,null,null,null,null,null,null,null,null,null,null,null,null,null,null,null,null,null,null,null,null,null,null,null,null,null,null,null,null,0,"",null,"",""]
["",null,null,null,null,null,null,null,null,null,null,null,null,null,null,null,null,null,null,null,null,null,null,null,null,null,null,null,null,null,null,null,null,0,"",null,"",""]
["",null,null,null,null,null,null,null,null,null,null,null,null,null,null,null,null,null,null,null,null,null,null,null,null,null,null,null,null,null,null,null,null,0,"",null,"",""]
["",null,null,null,null,null,null,null,null,null,null,null,null,null,null,null,null,null,null,null,null,null,null,null,null,null,null,null,null,null,null,null,null,0,"",null,"",""]
["",null,null,null,null,null,null,null,null,null,null,null,null,null,null,null,null,null,null,null,null,null,null,null,null,null,null,null,null,null,null,null,null,0,"",null,"",""]
["",null,null,null,null,null,null,null,null,null,null,null,null,null,null,null,null,null,null,null,null,null,null,null,null,null,null,null,null,null,null,null,null,0,"",null,"",""]
["",null,null,null,null,null,null,null,null,null,null,null,null,null,null,null,null,null,null,null,null,null,null,null,null,null,null,null,null,null,null,null,null,0,"",null,"",""]
["",null,null,null,null,null,null,null,null,null,null,null,null,null,null,null,null,null,null,null,null,null,null,null,null,null,null,null,null,null,null,null,null,0,"",null,"",""]
["",null,null,null,null,null,null,null,null,null,null,null,null,null,null,null,null,null,null,null,null,null,null,null,null,null,null,null,null,null,null,null,null,0,"",null,"",""]
["",null,null,null,null,null,null,null,null,null,null,null,null,null,null,null,null,null,null,null,null,null,null,null,null,null,null,null,null,null,null,null,null,0,"",null,"",""]
["",null,null,null,null,null,null,null,null,null,null,null,null,null,null,null,null,null,null,null,null,null,null,null,null,null,null,null,null,null,null,null,null,0,"",null,"",""]
["",null,null,null,null,null,null,null,null,null,null,null,null,null,null,null,null,null,null,null,null,null,null,null,null,null,null,null,null,null,null,null,null,0,"",null,"",""]
["",null,null,null,null,null,null,null,null,null,null,null,null,null,null,null,null,null,null,null,null,null,null,null,null,null,null,null,null,null,null,null,null,0,"",null,"",""]
["",null,null,null,null,null,null,null,null,null,null,null,null,null,null,null,null,null,null,null,null,null,null,null,null,null,null,null,null,null,null,null,null,0,"",null,"",""]
["",null,null,null,null,null,null,null,null,null,null,null,null,null,null,null,null,null,null,null,null,null,null,null,null,null,null,null,null,null,null,null,null,0,"",null,"",""]
["",null,null,null,null,null,null,null,null,null,null,null,null,null,null,null,null,null,null,null,null,null,null,null,null,null,null,null,null,null,null,null,null,0,"",null,"",""]
["",null,null,null,null,null,null,null,null,null,null,null,null,null,null,null,null,null,null,null,null,null,null,null,null,null,null,null,null,null,null,null,null,0,"",null,"",""]
["",null,null,null,null,null,null,null,null,null,null,null,null,null,null,null,null,null,null,null,null,null,null,null,null,null,null,null,null,null,null,null,null,0,"",null,"",""]
["",null,null,null,null,null,null,null,null,null,null,null,null,null,null,null,null,null,null,null,null,null,null,null,null,null,null,null,null,null,null,null,null,0,"",null,"",""]
["",null,null,null,null,null,null,null,null,null,null,null,null,null,null,null,null,null,null,null,null,null,null,null,null,null,null,null,null,null,null,null,null,0,"",null,"",""]
["",null,null,null,null,null,null,null,null,null,null,null,null,null,null,null,null,null,null,null,null,null,null,null,null,null,null,null,null,null,null,null,null,0,"",null,"",""]
["",null,null,null,null,null,null,null,null,null,null,null,null,null,null,null,null,null,null,null,null,null,null,null,null,null,null,null,null,null,null,null,null,0,"",null,"",""]
["",null,null,null,null,null,null,null,null,null,null,null,null,null,null,null,null,null,null,null,null,null,null,null,null,null,null,null,null,null,null,null,null,0,"",null,"",""]
["",null,null,null,null,null,null,null,null,null,null,null,null,null,null,null,null,null,null,null,null,null,null,null,null,null,null,null,null,null,null,null,null,0,"",null,"",""]
["",null,null,null,null,null,null,null,null,null,null,null,null,null,null,null,null,null,null,null,null,null,null,null,null,null,null,null,null,null,null,null,null,0,"",null,"",""]
["",null,null,null,null,null,null,null,null,null,null,null,null,null,null,null,null,null,null,null,null,null,null,null,null,null,null,null,null,null,null,null,null,0,"",null,"",""]
["",null,null,null,null,null,null,null,null,null,null,null,null,null,null,null,null,null,null,null,null,null,null,null,null,null,null,null,null,null,null,null,null,0,"",null,"",""]
["",null,null,null,null,null,null,null,null,null,null,null,null,null,null,null,null,null,null,null,null,null,null,null,null,null,null,null,null,null,null,null,null,0,"",null,"",""]
["",null,null,null,null,null,null,null,null,null,null,null,null,null,null,null,null,null,null,null,null,null,null,null,null,null,null,null,null,null,null,null,null,0,"",null,"",""]
["",null,null,null,null,null,null,null,null,null,null,null,null,null,null,null,null,null,null,null,null,null,null,null,null,null,null,null,null,null,null,null,null,0,"",null,"",""]
["",null,null,null,null,null,null,null,null,null,null,null,null,null,null,null,null,null,null,null,null,null,null,null,null,null,null,null,null,null,null,null,null,0,"",null,"",""]
["",null,null,null,null,null,null,null,null,null,null,null,null,null,null,null,null,null,null,null,null,null,null,null,null,null,null,null,null,null,null,null,null,0,"",null,"",""]
["",null,null,null,null,null,null,null,null,null,null,null,null,null,null,null,null,null,null,null,null,null,null,null,null,null,null,null,null,null,null,null,null,0,"",null,"",""]
["",null,null,null,null,null,null,null,null,null,null,null,null,null,null,null,null,null,null,null,null,null,null,null,null,null,null,null,null,null,null,null,null,0,"",null,"",""]
["",null,null,null,null,null,null,null,null,null,null,null,null,null,null,null,null,null,null,null,null,null,null,null,null,null,null,null,null,null,null,null,null,0,"",null,"",""]
["",null,null,null,null,null,null,null,null,null,null,null,null,null,null,null,null,null,null,null,null,null,null,null,null,null,null,null,null,null,null,null,null,0,"",null,"",""]
["",null,null,null,null,null,null,null,null,null,null,null,null,null,null,null,null,null,null,null,null,null,null,null,null,null,null,null,null,null,null,null,null,0,"",null,"",""]
["",null,null,null,null,null,null,null,null,null,null,null,null,null,null,null,null,null,null,null,null,null,null,null,null,null,null,null,null,null,null,null,null,0,"",null,"",""]
["",null,null,null,null,null,null,null,null,null,null,null,null,null,null,null,null,null,null,null,null,null,null,null,null,null,null,null,null,null,null,null,null,0,"",null,"",{"$f":"IF(AND(AH706=1,AG706<>\"x\",AG706<>\"\"),\"You can only use x\",IF(AND(AH706=1,AG706=\"\",AJ706<>\"\"),\"Put x to Calculate\",\"\"))","v":""}]
["",null,null,null,null,null,null,null,null,null,null,null,null,null,null,null,null,null,null,null,null,null,null,null,null,null,null,null,null,null,null,null,null,{"$f":"IF(OR(LEFT(F707,2)=\"LS\",LEFT(F707,3)=\"L.S\"),1,0)","v":0},{"$f":"IF(G707=\"\",\"\",IF(AND(AG707<>\"\",AH707=1),0,G707))","v":""},null,"",""]
[{"$f":"LEFT(C708,9)","v":""},null,null,null,null,null,null,null,null,null,null,null,null,null,null,null,null,null,null,null,null,null,null,null,null,null,null,null,null,null,null,null,null,0,"",null,"",""]
["",null,null,null,null,null,null,null,null,null,null,null,null,null,null,null,null,null,null,null,null,null,null,null,null,null,null,null,null,null,null,null,null,0,"",null,"",""]
["",null,null,null,null,null,null,null,null,null,null,null,null,null,null,null,null,null,null,null,null,null,null,null,null,null,null,null,null,null,null,null,null,0,"",null,"",""]
["",null,null,null,null,null,null,null,null,null,null,null,null,null,null,null,null,null,null,null,null,null,null,null,null,null,null,null,null,null,null,null,null,0,"",null,"",""]
["",null,null,null,null,null,null,null,null,null,null,null,null,null,null,null,null,null,null,null,null,null,null,null,null,null,null,null,null,null,null,null,null,0,"",null,"",""]
["",null,null,null,null,null,null,null,null,null,null,null,null,null,null,null,null,null,null,null,null,null,null,null,null,null,null,null,null,null,null,null,null,0,"",null,"",""]
["",null,null,null,null,null,null,null,null,null,null,null,null,null,null,null,null,null,null,null,null,null,null,null,null,null,null,null,null,null,null,null,null,0,"",null,"",""]
["",null,null,null,null,null,null,null,null,null,null,null,null,null,null,null,null,null,null,null,null,null,null,null,null,null,null,null,null,null,null,null,null,0,"",null,{"$f":"IF(G715=\"\",\"\",IF(AND(AG715=\"x\",AH715=1),AJ715*$AQ$1,0))","v":""},""]
["",null,null,null,null,null,null,null,null,null,null,null,null,null,null,null,null,null,null,null,null,null,null,null,null,null,null,null,null,null,null,null,null,0,"",null,"",""]
["",null,null,null,null,null,null,null,null,null,null,null,null,null,null,null,null,null,null,null,null,null,null,null,null,null,null,null,null,null,null,null,null,0,"",null,"",""]
["",null,null,null,null,null,null,null,null,null,null,null,null,null,null,null,null,null,null,null,null,null,null,null,null,null,null,null,null,null,null,null,null,0,"",null,"",""]
["",null,null,null,null,null,null,null,null,null,null,null,null,null,null,null,null,null,null,null,null,null,null,null,null,null,null,null,null,null,null,null,null,0,"",null,"",""]
["",null,null,null,null,null,null,null,null,null,null,null,null,null,null,null,null,null,null,null,null,null,null,null,null,null,null,null,null,null,null,null,null,0,"",null,"",""]
["",null,null,null,null,null,null,null,null,null,null,null,null,null,null,null,null,null,null,null,null,null,null,null,null,null,null,null,null,null,null,null,null,0,"",null,"",""]
["",null,null,null,null,null,null,null,null,null,null,null,null,null,null,null,null,null,null,null,null,null,null,null,null,null,null,null,null,null,null,null,null,0,"",null,"",""]
["",null,null,null,null,null,null,null,null,null,null,null,null,null,null,null,null,null,null,null,null,null,null,null,null,null,null,null,null,null,null,null,null,0,"",null,"",""]
["",null,null,null,null,null,null,null,null,null,null,null,null,null,null,null,null,null,null,null,null,null,null,null,null,null,null,null,null,null,null,null,null,0,"",null,"",""]
["",null,null,null,null,null,null,null,null,null,null,null,null,null,null,null,null,null,null,null,null,null,null,null,null,null,null,null,null,null,null,null,null,0,"",null,"",""]
["",null,null,null,null,null,null,null,null,null,null,null,null,null,null,null,null,null,null,null,null,null,null,null,null,null,null,null,null,null,null,null,null,0,"",null,"",""]
["",null,null,null,null,null,null,null,null,null,null,null,null,null,null,null,null,null,null,null,null,null,null,null,null,null,null,null,null,null,null,null,null,0,"",null,"",""]
["",null,null,null,null,null,null,null,null,null,null,null,null,null,null,null,null,null,null,null,null,null,null,null,null,null,null,null,null,null,null,null,null,0,"",null,"",""]
["",null,null,null,null,null,null,null,null,null,null,null,null,null,null,null,null,null,null,null,null,null,null,null,null,null,null,null,null,null,null,null,null,0,"",null,"",""]
["",null,null,null,null,null,null,null,null,null,null,null,null,null,null,null,null,null,null,null,null,null,null,null,null,null,null,null,null,null,null,null,null,0,"",null,"",""]
["",null,null,null,null,null,null,null,null,null,null,null,null,null,null,null,null,null,null,null,null,null,null,null,null,null,null,null,null,null,null,null,null,0,"",null,"",""]
["",null,null,null,null,null,null,null,null,null,null,null,null,null,null,null,null,null,null,null,null,null,null,null,null,null,null,null,null,null,null,null,null,0,"",null,"",""]
["",null,null,null,null,null,null,null,null,null,null,null,null,null,null,null,null,null,null,null,null,null,null,null,null,null,null,null,null,null,null,null,null,0,"",null,"",""]
["",null,null,null,null,null,null,null,null,null,null,null,null,null,null,null,null,null,null,null,null,null,null,null,null,null,null,null,null,null,null,null,null,0,"",null,"",""]
["",null,null,null,null,null,null,null,null,null,null,null,null,null,null,null,null,null,null,null,null,null,null,null,null,null,null,null,null,null,null,null,null,0,"",null,"",""]
["",null,null,null,null,null,null,null,null,null,null,null,null,null,null,null,null,null,null,null,null,null,null,null,null,null,null,null,null,null,null,null,null,0,"",null,"",""]
["",null,null,null,null,null,null,null,null,null,null,null,null,null,null,null,null,null,null,null,null,null,null,null,null,null,null,null,null,null,null,null,null,0,"",null,"",""]
["",null,null,null,null,null,null,null,null,null,null,null,null,null,null,null,null,null,null,null,null,null,null,null,null,null,null,null,null,null,null,null,null,0,"",null,"",""]
["",null,null,null,null,null,null,null,null,null,null,null,null,null,null,null,null,null,null,null,null,null,null,null,null,null,null,null,null,null,null,null,null,0,"",null,"",""]
["",null,null,null,null,null,null,null,null,null,null,null,null,null,null,null,null,null,null,null,null,null,null,null,null,null,null,null,null,null,null,null,null,0,"",null,"",""]
["",null,null,null,null,null,null,null,null,null,null,null,null,null,null,null,null,null,null,null,null,null,null,null,null,null,null,null,null,null,null,null,null,0,"",null,"",""]
["",null,null,null,null,null,null,null,null,null,null,null,null,null,null,null,null,null,null,null,null,null,null,null,null,null,null,null,null,null,null,null,null,0,"",null,"",""]
["",null,null,null,null,null,null,null,null,null,null,null,null,null,null,null,null,null,null,null,null,null,null,null,null,null,null,null,null,null,null,null,null,0,"",null,"",""]
["",null,null,null,null,null,null,null,null,null,null,null,null,null,null,null,null,null,null,null,null,null,null,null,null,null,null,null,null,null,null,null,null,0,"",null,"",""]
["",null,null,null,null,null,null,null,null,null,null,null,null,null,null,null,null,null,null,null,null,null,null,null,null,null,null,null,null,null,null,null,null,0,"",null,"",""]
["",null,null,null,null,null,null,null,null,null,null,null,null,null,null,null,null,null,null,null,null,null,null,null,null,null,null,null,null,null,null,null,null,0,"",null,"",""]
["",null,null,null,null,null,null,null,null,null,null,null,null,null,null,null,null,null,null,null,null,null,null,null,null,null,null,null,null,null,null,null,null,0,"",null,"",""]
["",null,null,null,null,null,null,null,null,null,null,null,null,null,null,null,null,null,null,null,null,null,null,null,null,null,null,null,null,null,null,null,null,0,"",null,"",""]
["",null,null,null,null,null,null,null,null,null,null,null,null,null,null,null,null,null,null,null,null,null,null,null,null,null,null,null,null,null,null,null,null,0,"",null,"",""]
["",null,null,null,null,null,null,null,null,null,null,null,null,null,null,null,null,null,null,null,null,null,null,null,null,null,null,null,null,null,null,null,null,0,"",null,"",""]
["",null,null,null,null,null,null,null,null,null,null,null,null,null,null,null,null,null,null,null,null,null,null,null,null,null,null,null,null,null,null,null,null,0,"",null,"",""]
["",null,null,null,null,null,null,null,null,null,null,null,null,null,null,null,null,null,null,null,null,null,null,null,null,null,null,null,null,null,null,null,null,0,"",null,"",""]
["",null,null,null,null,null,null,null,null,null,null,null,null,null,null,null,null,null,null,null,null,null,null,null,null,null,null,null,null,null,null,null,null,0,"",null,"",""]
["",null,null,null,null,null,null,null,null,null,null,null,null,null,null,null,null,null,null,null,null,null,null,null,null,null,null,null,null,null,null,null,null,0,"",null,"",""]
["",null,null,null,null,null,null,null,null,null,null,null,null,null,null,null,null,null,null,null,null,null,null,null,null,null,null,null,null,null,null,null,null,0,"",null,"",""]
["",null,null,null,null,null,null,null,null,null,null,null,null,null,null,null,null,null,null,null,null,null,null,null,null,null,null,null,null,null,null,null,null,0,"",null,"",""]
["",null,null,null,null,null,null,null,null,null,null,null,null,null,null,null,null,null,null,null,null,null,null,null,null,null,null,null,null,null,null,null,null,0,"",null,"",""]
["",null,null,null,null,null,null,null,null,null,null,null,null,null,null,null,null,null,null,null,null,null,null,null,null,null,null,null,null,null,null,null,null,0,"",null,"",""]
["",null,null,null,null,null,null,null,null,null,null,null,null,null,null,null,null,null,null,null,null,null,null,null,null,null,null,null,null,null,null,null,null,0,"",null,"",""]
["",null,null,null,null,null,null,null,null,null,null,null,null,null,null,null,null,null,null,null,null,null,null,null,null,null,null,null,null,null,null,null,null,0,"",null,"",""]
["",null,null,null,null,null,null,null,null,null,null,null,null,null,null,null,null,null,null,null,null,null,null,null,null,null,null,null,null,null,null,null,null,0,"",null,"",""]
["",null,null,null,null,null,null,null,null,null,null,null,null,null,null,null,null,null,null,null,null,null,null,null,null,null,null,null,null,null,null,null,null,0,"",null,"",""]
["",null,null,null,null,null,null,null,null,null,null,null,null,null,null,null,null,null,null,null,null,null,null,null,null,null,null,null,null,null,null,null,null,0,"",null,"",""]
["",null,null,null,null,null,null,null,null,null,null,null,null,null,null,null,null,null,null,null,null,null,null,null,null,null,null,null,null,null,null,null,null,0,"",null,"",""]
["",null,null,null,null,null,null,null,null,null,null,null,null,null,null,null,null,null,null,null,null,null,null,null,null,null,null,null,null,null,null,null,null,0,"",null,"",""]
["",null,null,null,null,null,null,null,null,null,null,null,null,null,null,null,null,null,null,null,null,null,null,null,null,null,null,null,null,null,null,null,null,0,"",null,"",""]
["",null,null,null,null,null,null,null,null,null,null,null,null,null,null,null,null,null,null,null,null,null,null,null,null,null,null,null,null,null,null,null,null,0,"",null,"",""]
["",null,null,null,null,null,null,null,null,null,null,null,null,null,null,null,null,null,null,null,null,null,null,null,null,null,null,null,null,null,null,null,null,0,"",null,"",""]
["",null,null,null,null,null,null,null,null,null,null,null,null,null,null,null,null,null,null,null,null,null,null,null,null,null,null,null,null,null,null,null,null,0,"",null,"",""]
["",null,null,null,null,null,null,null,null,null,null,null,null,null,null,null,null,null,null,null,null,null,null,null,null,null,null,null,null,null,null,null,null,0,"",null,"",{"$f":"IF(AND(AH770=1,AG770<>\"x\",AG770<>\"\"),\"You can only use x\",IF(AND(AH770=1,AG770=\"\",AJ770<>\"\"),\"Put x to Calculate\",\"\"))","v":""}]
["",null,null,null,null,null,null,null,null,null,null,null,null,null,null,null,null,null,null,null,null,null,null,null,null,null,null,null,null,null,null,null,null,{"$f":"IF(OR(LEFT(F771,2)=\"LS\",LEFT(F771,3)=\"L.S\"),1,0)","v":0},{"$f":"IF(G771=\"\",\"\",IF(AND(AG771<>\"\",AH771=1),0,G771))","v":""},null,"",""]
[{"$f":"LEFT(C772,9)","v":""},null,null,null,null,null,null,null,null,null,null,null,null,null,null,null,null,null,null,null,null,null,null,null,null,null,null,null,null,null,null,null,null,0,"",null,"",""]
["",null,null,null,null,null,null,null,null,null,null,null,null,null,null,null,null,null,null,null,null,null,null,null,null,null,null,null,null,null,null,null,null,0,"",null,"",""]
["",null,null,null,null,null,null,null,null,null,null,null,null,null,null,null,null,null,null,null,null,null,null,null,null,null,null,null,null,null,null,null,null,0,"",null,"",""]
["",null,null,null,null,null,null,null,null,null,null,null,null,null,null,null,null,null,null,null,null,null,null,null,null,null,null,null,null,null,null,null,null,0,"",null,"",""]
["",null,null,null,null,null,null,null,null,null,null,null,null,null,null,null,null,null,null,null,null,null,null,null,null,null,null,null,null,null,null,null,null,0,"",null,"",""]
["",null,null,null,null,null,null,null,null,null,null,null,null,null,null,null,null,null,null,null,null,null,null,null,null,null,null,null,null,null,null,null,null,0,"",null,"",""]
["",null,null,null,null,null,null,null,null,null,null,null,null,null,null,null,null,null,null,null,null,null,null,null,null,null,null,null,null,null,null,null,null,0,"",null,"",""]
["",null,null,null,null,null,null,null,null,null,null,null,null,null,null,null,null,null,null,null,null,null,null,null,null,null,null,null,null,null,null,null,null,0,"",null,{"$f":"IF(G779=\"\",\"\",IF(AND(AG779=\"x\",AH779=1),AJ779*$AQ$1,0))","v":""},""]
["",null,null,null,null,null,null,null,null,null,null,null,null,null,null,null,null,null,null,null,null,null,null,null,null,null,null,null,null,null,null,null,null,0,"",null,"",""]
["",null,null,null,null,null,null,null,null,null,null,null,null,null,null,null,null,null,null,null,null,null,null,null,null,null,null,null,null,null,null,null,null,0,"",null,"",""]
["",null,null,null,null,null,null,null,null,null,null,null,null,null,null,null,null,null,null,null,null,null,null,null,null,null,null,null,null,null,null,null,null,0,"",null,"",""]
["",null,null,null,null,null,null,null,null,null,null,null,null,null,null,null,null,null,null,null,null,null,null,null,null,null,null,null,null,null,null,null,null,0,"",null,"",""]
["",null,null,null,null,null,null,null,null,null,null,null,null,null,null,null,null,null,null,null,null,null,null,null,null,null,null,null,null,null,null,null,null,0,"",null,"",""]
["",null,null,null,null,null,null,null,null,null,null,null,null,null,null,null,null,null,null,null,null,null,null,null,null,null,null,null,null,null,null,null,null,0,"",null,"",""]
["",null,null,null,null,null,null,null,null,null,null,null,null,null,null,null,null,null,null,null,null,null,null,null,null,null,null,null,null,null,null,null,null,0,"",null,"",""]
["",null,null,null,null,null,null,null,null,null,null,null,null,null,null,null,null,null,null,null,null,null,null,null,null,null,null,null,null,null,null,null,null,0,"",null,"",""]
["",null,null,null,null,null,null,null,null,null,null,null,null,null,null,null,null,null,null,null,null,null,null,null,null,null,null,null,null,null,null,null,null,0,"",null,"",""]
["",null,null,null,null,null,null,null,null,null,null,null,null,null,null,null,null,null,null,null,null,null,null,null,null,null,null,null,null,null,null,null,null,0,"",null,"",""]
["",null,null,null,null,null,null,null,null,null,null,null,null,null,null,null,null,null,null,null,null,null,null,null,null,null,null,null,null,null,null,null,null,0,"",null,"",""]
["",null,null,null,null,null,null,null,null,null,null,null,null,null,null,null,null,null,null,null,null,null,null,null,null,null,null,null,null,null,null,null,null,0,"",null,"",""]
["",null,null,null,null,null,null,null,null,null,null,null,null,null,null,null,null,null,null,null,null,null,null,null,null,null,null,null,null,null,null,null,null,0,"",null,"",""]
["",null,null,null,null,null,null,null,null,null,null,null,null,null,null,null,null,null,null,null,null,null,null,null,null,null,null,null,null,null,null,null,null,0,"",null,"",""]
["",null,null,null,null,null,null,null,null,null,null,null,null,null,null,null,null,null,null,null,null,null,null,null,null,null,null,null,null,null,null,null,null,0,"",null,"",""]
["",null,null,null,null,null,null,null,null,null,null,null,null,null,null,null,null,null,null,null,null,null,null,null,null,null,null,null,null,null,null,null,null,0,"",null,"",""]
["",null,null,null,null,null,null,null,null,null,null,null,null,null,null,null,null,null,null,null,null,null,null,null,null,null,null,null,null,null,null,null,null,0,"",null,"",""]
["",null,null,null,null,null,null,null,null,null,null,null,null,null,null,null,null,null,null,null,null,null,null,null,null,null,null,null,null,null,null,null,null,0,"",null,"",""]
["",null,null,null,null,null,null,null,null,null,null,null,null,null,null,null,null,null,null,null,null,null,null,null,null,null,null,null,null,null,null,null,null,0,"",null,"",""]
["",null,null,null,null,null,null,null,null,null,null,null,null,null,null,null,null,null,null,null,null,null,null,null,null,null,null,null,null,null,null,null,null,0,"",null,"",""]
["",null,null,null,null,null,null,null,null,null,null,null,null,null,null,null,null,null,null,null,null,null,null,null,null,null,null,null,null,null,null,null,null,0,"",null,"",""]
["",null,null,null,null,null,null,null,null,null,null,null,null,null,null,null,null,null,null,null,null,null,null,null,null,null,null,null,null,null,null,null,null,0,"",null,"",""]
["",null,null,null,null,null,null,null,null,null,null,null,null,null,null,null,null,null,null,null,null,null,null,null,null,null,null,null,null,null,null,null,null,0,"",null,"",""]
["",null,null,null,null,null,null,null,null,null,null,null,null,null,null,null,null,null,null,null,null,null,null,null,null,null,null,null,null,null,null,null,null,0,"",null,"",""]
["",null,null,null,null,null,null,null,null,null,null,null,null,null,null,null,null,null,null,null,null,null,null,null,null,null,null,null,null,null,null,null,null,0,"",null,"",""]
["",null,null,null,null,null,null,null,null,null,null,null,null,null,null,null,null,null,null,null,null,null,null,null,null,null,null,null,null,null,null,null,null,0,"",null,"",""]
["",null,null,null,null,null,null,null,null,null,null,null,null,null,null,null,null,null,null,null,null,null,null,null,null,null,null,null,null,null,null,null,null,0,"",null,"",""]
["",null,null,null,null,null,null,null,null,null,null,null,null,null,null,null,null,null,null,null,null,null,null,null,null,null,null,null,null,null,null,null,null,0,"",null,"",""]
["",null,null,null,null,null,null,null,null,null,null,null,null,null,null,null,null,null,null,null,null,null,null,null,null,null,null,null,null,null,null,null,null,0,"",null,"",""]
["",null,null,null,null,null,null,null,null,null,null,null,null,null,null,null,null,null,null,null,null,null,null,null,null,null,null,null,null,null,null,null,null,0,"",null,"",""]
["",null,null,null,null,null,null,null,null,null,null,null,null,null,null,null,null,null,null,null,null,null,null,null,null,null,null,null,null,null,null,null,null,0,"",null,"",""]
["",null,null,null,null,null,null,null,null,null,null,null,null,null,null,null,null,null,null,null,null,null,null,null,null,null,null,null,null,null,null,null,null,0,"",null,"",""]
["",null,null,null,null,null,null,null,null,null,null,null,null,null,null,null,null,null,null,null,null,null,null,null,null,null,null,null,null,null,null,null,null,0,"",null,"",""]
["",null,null,null,null,null,null,null,null,null,null,null,null,null,null,null,null,null,null,null,null,null,null,null,null,null,null,null,null,null,null,null,null,0,"",null,"",""]
["",null,null,null,null,null,null,null,null,null,null,null,null,null,null,null,null,null,null,null,null,null,null,null,null,null,null,null,null,null,null,null,null,0,"",null,"",""]
["",null,null,null,null,null,null,null,null,null,null,null,null,null,null,null,null,null,null,null,null,null,null,null,null,null,null,null,null,null,null,null,null,0,"",null,"",""]
["",null,null,null,null,null,null,null,null,null,null,null,null,null,null,null,null,null,null,null,null,null,null,null,null,null,null,null,null,null,null,null,null,0,"",null,"",""]
["",null,null,null,null,null,null,null,null,null,null,null,null,null,null,null,null,null,null,null,null,null,null,null,null,null,null,null,null,null,null,null,null,0,"",null,"",""]
["",null,null,null,null,null,null,null,null,null,null,null,null,null,null,null,null,null,null,null,null,null,null,null,null,null,null,null,null,null,null,null,null,0,"",null,"",""]
["",null,null,null,null,null,null,null,null,null,null,null,null,null,null,null,null,null,null,null,null,null,null,null,null,null,null,null,null,null,null,null,null,0,"",null,"",""]
["",null,null,null,null,null,null,null,null,null,null,null,null,null,null,null,null,null,null,null,null,null,null,null,null,null,null,null,null,null,null,null,null,0,"",null,"",""]
["",null,null,null,null,null,null,null,null,null,null,null,null,null,null,null,null,null,null,null,null,null,null,null,null,null,null,null,null,null,null,null,null,0,"",null,"",""]
["",null,null,null,null,null,null,null,null,null,null,null,null,null,null,null,null,null,null,null,null,null,null,null,null,null,null,null,null,null,null,null,null,0,"",null,"",""]
["",null,null,null,null,null,null,null,null,null,null,null,null,null,null,null,null,null,null,null,null,null,null,null,null,null,null,null,null,null,null,null,null,0,"",null,"",""]
["",null,null,null,null,null,null,null,null,null,null,null,null,null,null,null,null,null,null,null,null,null,null,null,null,null,null,null,null,null,null,null,null,0,"",null,"",""]
["",null,null,null,null,null,null,null,null,null,null,null,null,null,null,null,null,null,null,null,null,null,null,null,null,null,null,null,null,null,null,null,null,0,"",null,"",""]
["",null,null,null,null,null,null,null,null,null,null,null,null,null,null,null,null,null,null,null,null,null,null,null,null,null,null,null,null,null,null,null,null,0,"",null,"",""]
["",null,null,null,null,null,null,null,null,null,null,null,null,null,null,null,null,null,null,null,null,null,null,null,null,null,null,null,null,null,null,null,null,0,"",null,"",""]
["",null,null,null,null,null,null,null,null,null,null,null,null,null,null,null,null,null,null,null,null,null,null,null,null,null,null,null,null,null,null,null,null,0,"",null,"",""]
["",null,null,null,null,null,null,null,null,null,null,null,null,null,null,null,null,null,null,null,null,null,null,null,null,null,null,null,null,null,null,null,null,0,"",null,"",""]
["",null,null,null,null,null,null,null,null,null,null,null,null,null,null,null,null,null,null,null,null,null,null,null,null,null,null,null,null,null,null,null,null,0,"",null,"",""]
["",null,null,null,null,null,null,null,null,null,null,null,null,null,null,null,null,null,null,null,null,null,null,null,null,null,null,null,null,null,null,null,null,0,"",null,"",""]
["",null,null,null,null,null,null,null,null,null,null,null,null,null,null,null,null,null,null,null,null,null,null,null,null,null,null,null,null,null,null,null,null,0,"",null,"",""]
["",null,null,null,null,null,null,null,null,null,null,null,null,null,null,null,null,null,null,null,null,null,null,null,null,null,null,null,null,null,null,null,null,0,"",null,"",""]
["",null,null,null,null,null,null,null,null,null,null,null,null,null,null,null,null,null,null,null,null,null,null,null,null,null,null,null,null,null,null,null,null,0,"",null,"",{"$f":"IF(AND(AH834=1,AG834<>\"x\",AG834<>\"\"),\"You can only use x\",IF(AND(AH834=1,AG834=\"\",AJ834<>\"\"),\"Put x to Calculate\",\"\"))","v":""}]
["",null,null,null,null,null,null,null,null,null,null,null,null,null,null,null,null,null,null,null,null,null,null,null,null,null,null,null,null,null,null,null,null,{"$f":"IF(OR(LEFT(F835,2)=\"LS\",LEFT(F835,3)=\"L.S\"),1,0)","v":0},{"$f":"IF(G835=\"\",\"\",IF(AND(AG835<>\"\",AH835=1),0,G835))","v":""},null,"",""]
[{"$f":"LEFT(C836,9)","v":""},null,null,null,null,null,null,null,null,null,null,null,null,null,null,null,null,null,null,null,null,null,null,null,null,null,null,null,null,null,null,null,null,0,"",null,"",""]
["",null,null,null,null,null,null,null,null,null,null,null,null,null,null,null,null,null,null,null,null,null,null,null,null,null,null,null,null,null,null,null,null,0,"",null,"",""]
["",null,null,null,null,null,null,null,null,null,null,null,null,null,null,null,null,null,null,null,null,null,null,null,null,null,null,null,null,null,null,null,null,0,"",null,"",""]
["",null,null,null,null,null,null,null,null,null,null,null,null,null,null,null,null,null,null,null,null,null,null,null,null,null,null,null,null,null,null,null,null,0,"",null,"",""]
["",null,null,null,null,null,null,null,null,null,null,null,null,null,null,null,null,null,null,null,null,null,null,null,null,null,null,null,null,null,null,null,null,0,"",null,"",""]
["",null,null,null,null,null,null,null,null,null,null,null,null,null,null,null,null,null,null,null,null,null,null,null,null,null,null,null,null,null,null,null,null,0,"",null,"",""]
["",null,null,null,null,null,null,null,null,null,null,null,null,null,null,null,null,null,null,null,null,null,null,null,null,null,null,null,null,null,null,null,null,0,"",null,"",""]
["",null,null,null,null,null,null,null,null,null,null,null,null,null,null,null,null,null,null,null,null,null,null,null,null,null,null,null,null,null,null,null,null,0,"",null,{"$f":"IF(G843=\"\",\"\",IF(AND(AG843=\"x\",AH843=1),AJ843*$AQ$1,0))","v":""},""]
["",null,null,null,null,null,null,null,null,null,null,null,null,null,null,null,null,null,null,null,null,null,null,null,null,null,null,null,null,null,null,null,null,0,"",null,"",""]
["",null,null,null,null,null,null,null,null,null,null,null,null,null,null,null,null,null,null,null,null,null,null,null,null,null,null,null,null,null,null,null,null,0,"",null,"",""]
["",null,null,null,null,null,null,null,null,null,null,null,null,null,null,null,null,null,null,null,null,null,null,null,null,null,null,null,null,null,null,null,null,0,"",null,"",""]
["",null,null,null,null,null,null,null,null,null,null,null,null,null,null,null,null,null,null,null,null,null,null,null,null,null,null,null,null,null,null,null,null,0,"",null,"",""]
["",null,null,null,null,null,null,null,null,null,null,null,null,null,null,null,null,null,null,null,null,null,null,null,null,null,null,null,null,null,null,null,null,0,"",null,"",""]
["",null,null,null,null,null,null,null,null,null,null,null,null,null,null,null,null,null,null,null,null,null,null,null,null,null,null,null,null,null,null,null,null,0,"",null,"",""]
["",null,null,null,null,null,null,null,null,null,null,null,null,null,null,null,null,null,null,null,null,null,null,null,null,null,null,null,null,null,null,null,null,0,"",null,"",""]
["",null,null,null,null,null,null,null,null,null,null,null,null,null,null,null,null,null,null,null,null,null,null,null,null,null,null,null,null,null,null,null,null,0,"",null,"",""]
["",null,null,null,null,null,null,null,null,null,null,null,null,null,null,null,null,null,null,null,null,null,null,null,null,null,null,null,null,null,null,null,null,0,"",null,"",""]
["",null,null,null,null,null,null,null,null,null,null,null,null,null,null,null,null,null,null,null,null,null,null,null,null,null,null,null,null,null,null,null,null,0,"",null,"",""]
["",null,null,null,null,null,null,null,null,null,null,null,null,null,null,null,null,null,null,null,null,null,null,null,null,null,null,null,null,null,null,null,null,0,"",null,"",""]
["",null,null,null,null,null,null,null,null,null,null,null,null,null,null,null,null,null,null,null,null,null,null,null,null,null,null,null,null,null,null,null,null,0,"",null,"",""]
["",null,null,null,null,null,null,null,null,null,null,null,null,null,null,null,null,null,null,null,null,null,null,null,null,null,null,null,null,null,null,null,null,0,"",null,"",""]
["",null,null,null,null,null,null,null,null,null,null,null,null,null,null,null,null,null,null,null,null,null,null,null,null,null,null,null,null,null,null,null,null,0,"",null,"",""]
["",null,null,null,null,null,null,null,null,null,null,null,null,null,null,null,null,null,null,null,null,null,null,null,null,null,null,null,null,null,null,null,null,0,"",null,"",""]
["",null,null,null,null,null,null,null,null,null,null,null,null,null,null,null,null,null,null,null,null,null,null,null,null,null,null,null,null,null,null,null,null,0,"",null,"",""]
["",null,null,null,null,null,null,null,null,null,null,null,null,null,null,null,null,null,null,null,null,null,null,null,null,null,null,null,null,null,null,null,null,0,"",null,"",""]
["",null,null,null,null,null,null,null,null,null,null,null,null,null,null,null,null,null,null,null,null,null,null,null,null,null,null,null,null,null,null,null,null,0,"",null,"",""]
["",null,null,null,null,null,null,null,null,null,null,null,null,null,null,null,null,null,null,null,null,null,null,null,null,null,null,null,null,null,null,null,null,0,"",null,"",""]
["",null,null,null,null,null,null,null,null,null,null,null,null,null,null,null,null,null,null,null,null,null,null,null,null,null,null,null,null,null,null,null,null,0,"",null,"",""]
["",null,null,null,null,null,null,null,null,null,null,null,null,null,null,null,null,null,null,null,null,null,null,null,null,null,null,null,null,null,null,null,null,0,"",null,"",""]
["",null,null,null,null,null,null,null,null,null,null,null,null,null,null,null,null,null,null,null,null,null,null,null,null,null,null,null,null,null,null,null,null,0,"",null,"",""]
["",null,null,null,null,null,null,null,null,null,null,null,null,null,null,null,null,null,null,null,null,null,null,null,null,null,null,null,null,null,null,null,null,0,"",null,"",""]
["",null,null,null,null,null,null,null,null,null,null,null,null,null,null,null,null,null,null,null,null,null,null,null,null,null,null,null,null,null,null,null,null,0,"",null,"",""]
["",null,null,null,null,null,null,null,null,null,null,null,null,null,null,null,null,null,null,null,null,null,null,null,null,null,null,null,null,null,null,null,null,0,"",null,"",""]
["",null,null,null,null,null,null,null,null,null,null,null,null,null,null,null,null,null,null,null,null,null,null,null,null,null,null,null,null,null,null,null,null,0,"",null,"",""]
["",null,null,null,null,null,null,null,null,null,null,null,null,null,null,null,null,null,null,null,null,null,null,null,null,null,null,null,null,null,null,null,null,0,"",null,"",""]
["",null,null,null,null,null,null,null,null,null,null,null,null,null,null,null,null,null,null,null,null,null,null,null,null,null,null,null,null,null,null,null,null,0,"",null,"",""]
["",null,null,null,null,null,null,null,null,null,null,null,null,null,null,null,null,null,null,null,null,null,null,null,null,null,null,null,null,null,null,null,null,0,"",null,"",""]
["",null,null,null,null,null,null,null,null,null,null,null,null,null,null,null,null,null,null,null,null,null,null,null,null,null,null,null,null,null,null,null,null,0,"",null,"",""]
["",null,null,null,null,null,null,null,null,null,null,null,null,null,null,null,null,null,null,null,null,null,null,null,null,null,null,null,null,null,null,null,null,0,"",null,"",""]
["",null,null,null,null,null,null,null,null,null,null,null,null,null,null,null,null,null,null,null,null,null,null,null,null,null,null,null,null,null,null,null,null,0,"",null,"",""]
["",null,null,null,null,null,null,null,null,null,null,null,null,null,null,null,null,null,null,null,null,null,null,null,null,null,null,null,null,null,null,null,null,0,"",null,"",""]
["",null,null,null,null,null,null,null,null,null,null,null,null,null,null,null,null,null,null,null,null,null,null,null,null,null,null,null,null,null,null,null,null,0,"",null,"",""]
["",null,null,null,null,null,null,null,null,null,null,null,null,null,null,null,null,null,null,null,null,null,null,null,null,null,null,null,null,null,null,null,null,0,"",null,"",""]
["",null,null,null,null,null,null,null,null,null,null,null,null,null,null,null,null,null,null,null,null,null,null,null,null,null,null,null,null,null,null,null,null,0,"",null,"",""]
["",null,null,null,null,null,null,null,null,null,null,null,null,null,null,null,null,null,null,null,null,null,null,null,null,null,null,null,null,null,null,null,null,0,"",null,"",""]
["",null,null,null,null,null,null,null,null,null,null,null,null,null,null,null,null,null,null,null,null,null,null,null,null,null,null,null,null,null,null,null,null,0,"",null,"",""]
["",null,null,null,null,null,null,null,null,null,null,null,null,null,null,null,null,null,null,null,null,null,null,null,null,null,null,null,null,null,null,null,null,0,"",null,"",""]
["",null,null,null,null,null,null,null,null,null,null,null,null,null,null,null,null,null,null,null,null,null,null,null,null,null,null,null,null,null,null,null,null,0,"",null,"",""]
["",null,null,null,null,null,null,null,null,null,null,null,null,null,null,null,null,null,null,null,null,null,null,null,null,null,null,null,null,null,null,null,null,0,"",null,"",""]
["",null,null,null,null,null,null,null,null,null,null,null,null,null,null,null,null,null,null,null,null,null,null,null,null,null,null,null,null,null,null,null,null,0,"",null,"",""]
["",null,null,null,null,null,null,null,null,null,null,null,null,null,null,null,null,null,null,null,null,null,null,null,null,null,null,null,null,null,null,null,null,0,"",null,"",""]
["",null,null,null,null,null,null,null,null,null,null,null,null,null,null,null,null,null,null,null,null,null,null,null,null,null,null,null,null,null,null,null,null,0,"",null,"",""]
["",null,null,null,null,null,null,null,null,null,null,null,null,null,null,null,null,null,null,null,null,null,null,null,null,null,null,null,null,null,null,null,null,0,"",null,"",""]
["",null,null,null,null,null,null,null,null,null,null,null,null,null,null,null,null,null,null,null,null,null,null,null,null,null,null,null,null,null,null,null,null,0,"",null,"",""]
["",null,null,null,null,null,null,null,null,null,null,null,null,null,null,null,null,null,null,null,null,null,null,null,null,null,null,null,null,null,null,null,null,0,"",null,"",""]
["",null,null,null,null,null,null,null,null,null,null,null,null,null,null,null,null,null,null,null,null,null,null,null,null,null,null,null,null,null,null,null,null,0,"",null,"",""]
["",null,null,null,null,null,null,null,null,null,null,null,null,null,null,null,null,null,null,null,null,null,null,null,null,null,null,null,null,null,null,null,null,0,"",null,"",""]
["",null,null,null,null,null,null,null,null,null,null,null,null,null,null,null,null,null,null,null,null,null,null,null,null,null,null,null,null,null,null,null,null,0,"",null,"",""]
["",null,null,null,null,null,null,null,null,null,null,null,null,null,null,null,null,null,null,null,null,null,null,null,null,null,null,null,null,null,null,null,null,0,"",null,"",""]
["",null,null,null,null,null,null,null,null,null,null,null,null,null,null,null,null,null,null,null,null,null,null,null,null,null,null,null,null,null,null,null,null,0,"",null,"",""]
["",null,null,null,null,null,null,null,null,null,null,null,null,null,null,null,null,null,null,null,null,null,null,null,null,null,null,null,null,null,null,null,null,0,"",null,"",""]
["",null,null,null,null,null,null,null,null,null,null,null,null,null,null,null,null,null,null,null,null,null,null,null,null,null,null,null,null,null,null,null,null,0,"",null,"",""]
["",null,null,null,null,null,null,null,null,null,null,null,null,null,null,null,null,null,null,null,null,null,null,null,null,null,null,null,null,null,null,null,null,0,"",null,"",{"$f":"IF(AND(AH898=1,AG898<>\"x\",AG898<>\"\"),\"You can only use x\",IF(AND(AH898=1,AG898=\"\",AJ898<>\"\"),\"Put x to Calculate\",\"\"))","v":""}]
["",null,null,null,null,null,null,null,null,null,null,null,null,null,null,null,null,null,null,null,null,null,null,null,null,null,null,null,null,null,null,null,null,{"$f":"IF(OR(LEFT(F899,2)=\"LS\",LEFT(F899,3)=\"L.S\"),1,0)","v":0},{"$f":"IF(G899=\"\",\"\",IF(AND(AG899<>\"\",AH899=1),0,G899))","v":""},null,"",""]
[{"$f":"LEFT(C900,9)","v":""},null,null,null,null,null,null,null,null,null,null,null,null,null,null,null,null,null,null,null,null,null,null,null,null,null,null,null,null,null,null,null,null,0,"",null,"",""]
["",null,null,null,null,null,null,null,null,null,null,null,null,null,null,null,null,null,null,null,null,null,null,null,null,null,null,null,null,null,null,null,null,0,"",null,"",""]
["",null,null,null,null,null,null,null,null,null,null,null,null,null,null,null,null,null,null,null,null,null,null,null,null,null,null,null,null,null,null,null,null,0,"",null,"",""]
["",null,null,null,null,null,null,null,null,null,null,null,null,null,null,null,null,null,null,null,null,null,null,null,null,null,null,null,null,null,null,null,null,0,"",null,"",""]
["",null,null,null,null,null,null,null,null,null,null,null,null,null,null,null,null,null,null,null,null,null,null,null,null,null,null,null,null,null,null,null,null,0,"",null,"",""]
["",null,null,null,null,null,null,null,null,null,null,null,null,null,null,null,null,null,null,null,null,null,null,null,null,null,null,null,null,null,null,null,null,0,"",null,"",""]
["",null,null,null,null,null,null,null,null,null,null,null,null,null,null,null,null,null,null,null,null,null,null,null,null,null,null,null,null,null,null,null,null,0,"",null,"",""]
["",null,null,null,null,null,null,null,null,null,null,null,null,null,null,null,null,null,null,null,null,null,null,null,null,null,null,null,null,null,null,null,null,0,"",null,{"$f":"IF(G907=\"\",\"\",IF(AND(AG907=\"x\",AH907=1),AJ907*$AQ$1,0))","v":""},""]
["",null,null,null,null,null,null,null,null,null,null,null,null,null,null,null,null,null,null,null,null,null,null,null,null,null,null,null,null,null,null,null,null,0,"",null,"",""]
["",null,null,null,null,null,null,null,null,null,null,null,null,null,null,null,null,null,null,null,null,null,null,null,null,null,null,null,null,null,null,null,null,0,"",null,"",""]
["",null,null,null,null,null,null,null,null,null,null,null,null,null,null,null,null,null,null,null,null,null,null,null,null,null,null,null,null,null,null,null,null,0,"",null,"",""]
["",null,null,null,null,null,null,null,null,null,null,null,null,null,null,null,null,null,null,null,null,null,null,null,null,null,null,null,null,null,null,null,null,0,"",null,"",""]
["",null,null,null,null,null,null,null,null,null,null,null,null,null,null,null,null,null,null,null,null,null,null,null,null,null,null,null,null,null,null,null,null,0,"",null,"",""]
["",null,null,null,null,null,null,null,null,null,null,null,null,null,null,null,null,null,null,null,null,null,null,null,null,null,null,null,null,null,null,null,null,0,"",null,"",""]
["",null,null,null,null,null,null,null,null,null,null,null,null,null,null,null,null,null,null,null,null,null,null,null,null,null,null,null,null,null,null,null,null,0,"",null,"",""]
["",null,null,null,null,null,null,null,null,null,null,null,null,null,null,null,null,null,null,null,null,null,null,null,null,null,null,null,null,null,null,null,null,0,"",null,"",""]
["",null,null,null,null,null,null,null,null,null,null,null,null,null,null,null,null,null,null,null,null,null,null,null,null,null,null,null,null,null,null,null,null,0,"",null,"",""]
["",null,null,null,null,null,null,null,null,null,null,null,null,null,null,null,null,null,null,null,null,null,null,null,null,null,null,null,null,null,null,null,null,0,"",null,"",""]
["",null,null,null,null,null,null,null,null,null,null,null,null,null,null,null,null,null,null,null,null,null,null,null,null,null,null,null,null,null,null,null,null,0,"",null,"",""]
["",null,null,null,null,null,null,null,null,null,null,null,null,null,null,null,null,null,null,null,null,null,null,null,null,null,null,null,null,null,null,null,null,0,"",null,"",""]
["",null,null,null,null,null,null,null,null,null,null,null,null,null,null,null,null,null,null,null,null,null,null,null,null,null,null,null,null,null,null,null,null,0,"",null,"",""]
["",null,null,null,null,null,null,null,null,null,null,null,null,null,null,null,null,null,null,null,null,null,null,null,null,null,null,null,null,null,null,null,null,0,"",null,"",""]
["",null,null,null,null,null,null,null,null,null,null,null,null,null,null,null,null,null,null,null,null,null,null,null,null,null,null,null,null,null,null,null,null,0,"",null,"",""]
["",null,null,null,null,null,null,null,null,null,null,null,null,null,null,null,null,null,null,null,null,null,null,null,null,null,null,null,null,null,null,null,null,0,"",null,"",""]
["",null,null,null,null,null,null,null,null,null,null,null,null,null,null,null,null,null,null,null,null,null,null,null,null,null,null,null,null,null,null,null,null,0,"",null,"",""]
["",null,null,null,null,null,null,null,null,null,null,null,null,null,null,null,null,null,null,null,null,null,null,null,null,null,null,null,null,null,null,null,null,0,"",null,"",""]
["",null,null,null,null,null,null,null,null,null,null,null,null,null,null,null,null,null,null,null,null,null,null,null,null,null,null,null,null,null,null,null,null,0,"",null,"",""]
["",null,null,null,null,null,null,null,null,null,null,null,null,null,null,null,null,null,null,null,null,null,null,null,null,null,null,null,null,null,null,null,null,0,"",null,"",""]
["",null,null,null,null,null,null,null,null,null,null,null,null,null,null,null,null,null,null,null,null,null,null,null,null,null,null,null,null,null,null,null,null,0,"",null,"",""]
["",null,null,null,null,null,null,null,null,null,null,null,null,null,null,null,null,null,null,null,null,null,null,null,null,null,null,null,null,null,null,null,null,0,"",null,"",""]
["",null,null,null,null,null,null,null,null,null,null,null,null,null,null,null,null,null,null,null,null,null,null,null,null,null,null,null,null,null,null,null,null,0,"",null,"",""]
["",null,null,null,null,null,null,null,null,null,null,null,null,null,null,null,null,null,null,null,null,null,null,null,null,null,null,null,null,null,null,null,null,0,"",null,"",""]
["",null,null,null,null,null,null,null,null,null,null,null,null,null,null,null,null,null,null,null,null,null,null,null,null,null,null,null,null,null,null,null,null,0,"",null,"",""]
["",null,null,null,null,null,null,null,null,null,null,null,null,null,null,null,null,null,null,null,null,null,null,null,null,null,null,null,null,null,null,null,null,0,"",null,"",""]
["",null,null,null,null,null,null,null,null,null,null,null,null,null,null,null,null,null,null,null,null,null,null,null,null,null,null,null,null,null,null,null,null,0,"",null,"",""]
["",null,null,null,null,null,null,null,null,null,null,null,null,null,null,null,null,null,null,null,null,null,null,null,null,null,null,null,null,null,null,null,null,0,"",null,"",""]
["",null,null,null,null,null,null,null,null,null,null,null,null,null,null,null,null,null,null,null,null,null,null,null,null,null,null,null,null,null,null,null,null,0,"",null,"",""]
["",null,null,null,null,null,null,null,null,null,null,null,null,null,null,null,null,null,null,null,null,null,null,null,null,null,null,null,null,null,null,null,null,0,"",null,"",""]
["",null,null,null,null,null,null,null,null,null,null,null,null,null,null,null,null,null,null,null,null,null,null,null,null,null,null,null,null,null,null,null,null,0,"",null,"",""]
["",null,null,null,null,null,null,null,null,null,null,null,null,null,null,null,null,null,null,null,null,null,null,null,null,null,null,null,null,null,null,null,null,0,"",null,"",""]
["",null,null,null,null,null,null,null,null,null,null,null,null,null,null,null,null,null,null,null,null,null,null,null,null,null,null,null,null,null,null,null,null,0,"",null,"",""]
["",null,null,null,null,null,null,null,null,null,null,null,null,null,null,null,null,null,null,null,null,null,null,null,null,null,null,null,null,null,null,null,null,0,"",null,"",""]
["",null,null,null,null,null,null,null,null,null,null,null,null,null,null,null,null,null,null,null,null,null,null,null,null,null,null,null,null,null,null,null,null,0,"",null,"",""]
["",null,null,null,null,null,null,null,null,null,null,null,null,null,null,null,null,null,null,null,null,null,null,null,null,null,null,null,null,null,null,null,null,0,"",null,"",""]
["",null,null,null,null,null,null,null,null,null,null,null,null,null,null,null,null,null,null,null,null,null,null,null,null,null,null,null,null,null,null,null,null,0,"",null,"",""]
["",null,null,null,null,null,null,null,null,null,null,null,null,null,null,null,null,null,null,null,null,null,null,null,null,null,null,null,null,null,null,null,null,0,"",null,"",""]
["",null,null,null,null,null,null,null,null,null,null,null,null,null,null,null,null,null,null,null,null,null,null,null,null,null,null,null,null,null,null,null,null,0,"",null,"",""]
["",null,null,null,null,null,null,null,null,null,null,null,null,null,null,null,null,null,null,null,null,null,null,null,null,null,null,null,null,null,null,null,null,0,"",null,"",""]
["",null,null,null,null,null,null,null,null,null,null,null,null,null,null,null,null,null,null,null,null,null,null,null,null,null,null,null,null,null,null,null,null,0,"",null,"",""]
["",null,null,null,null,null,null,null,null,null,null,null,null,null,null,null,null,null,null,null,null,null,null,null,null,null,null,null,null,null,null,null,null,0,"",null,"",""]
["",null,null,null,null,null,null,null,null,null,null,null,null,null,null,null,null,null,null,null,null,null,null,null,null,null,null,null,null,null,null,null,null,0,"",null,"",""]
["",null,null,null,null,null,null,null,null,null,null,null,null,null,null,null,null,null,null,null,null,null,null,null,null,null,null,null,null,null,null,null,null,0,"",null,"",""]
["",null,null,null,null,null,null,null,null,null,null,null,null,null,null,null,null,null,null,null,null,null,null,null,null,null,null,null,null,null,null,null,null,0,"",null,"",""]
["",null,null,null,null,null,null,null,null,null,null,null,null,null,null,null,null,null,null,null,null,null,null,null,null,null,null,null,null,null,null,null,null,0,"",null,"",""]
["",null,null,null,null,null,null,null,null,null,null,null,null,null,null,null,null,null,null,null,null,null,null,null,null,null,null,null,null,null,null,null,null,0,"",null,"",""]
["",null,null,null,null,null,null,null,null,null,null,null,null,null,null,null,null,null,null,null,null,null,null,null,null,null,null,null,null,null,null,null,null,0,"",null,"",""]
["",null,null,null,null,null,null,null,null,null,null,null,null,null,null,null,null,null,null,null,null,null,null,null,null,null,null,null,null,null,null,null,null,0,"",null,"",""]
["",null,null,null,null,null,null,null,null,null,null,null,null,null,null,null,null,null,null,null,null,null,null,null,null,null,null,null,null,null,null,null,null,0,"",null,"",""]
["",null,null,null,null,null,null,null,null,null,null,null,null,null,null,null,null,null,null,null,null,null,null,null,null,null,null,null,null,null,null,null,null,0,"",null,"",""]
["",null,null,null,null,null,null,null,null,null,null,null,null,null,null,null,null,null,null,null,null,null,null,null,null,null,null,null,null,null,null,null,null,0,"",null,"",""]
["",null,null,null,null,null,null,null,null,null,null,null,null,null,null,null,null,null,null,null,null,null,null,null,null,null,null,null,null,null,null,null,null,0,"",null,"",""]
["",null,null,null,null,null,null,null,null,null,null,null,null,null,null,null,null,null,null,null,null,null,null,null,null,null,null,null,null,null,null,null,null,0,"",null,"",""]
["",null,null,null,null,null,null,null,null,null,null,null,null,null,null,null,null,null,null,null,null,null,null,null,null,null,null,null,null,null,null,null,null,0,"",null,"",{"$f":"IF(AND(AH962=1,AG962<>\"x\",AG962<>\"\"),\"You can only use x\",IF(AND(AH962=1,AG962=\"\",AJ962<>\"\"),\"Put x to Calculate\",\"\"))","v":""}]
["",null,null,null,null,null,null,null,null,null,null,null,null,null,null,null,null,null,null,null,null,null,null,null,null,null,null,null,null,null,null,null,null,{"$f":"IF(OR(LEFT(F963,2)=\"LS\",LEFT(F963,3)=\"L.S\"),1,0)","v":0},{"$f":"IF(G963=\"\",\"\",IF(AND(AG963<>\"\",AH963=1),0,G963))","v":""},null,"",""]
[{"$f":"LEFT(C964,9)","v":""},null,null,null,null,null,null,null,null,null,null,null,null,null,null,null,null,null,null,null,null,null,null,null,null,null,null,null,null,null,null,null,null,0,"",null,"",""]
["",null,null,null,null,null,null,null,null,null,null,null,null,null,null,null,null,null,null,null,null,null,null,null,null,null,null,null,null,null,null,null,null,0,"",null,"",""]
["",null,null,null,null,null,null,null,null,null,null,null,null,null,null,null,null,null,null,null,null,null,null,null,null,null,null,null,null,null,null,null,null,0,"",null,"",""]
["",null,null,null,null,null,null,null,null,null,null,null,null,null,null,null,null,null,null,null,null,null,null,null,null,null,null,null,null,null,null,null,null,0,"",null,"",""]
["",null,null,null,null,null,null,null,null,null,null,null,null,null,null,null,null,null,null,null,null,null,null,null,null,null,null,null,null,null,null,null,null,0,"",null,"",""]
["",null,null,null,null,null,null,null,null,null,null,null,null,null,null,null,null,null,null,null,null,null,null,null,null,null,null,null,null,null,null,null,null,0,"",null,"",""]
["",null,null,null,null,null,null,null,null,null,null,null,null,null,null,null,null,null,null,null,null,null,null,null,null,null,null,null,null,null,null,null,null,0,"",null,"",""]
["",null,null,null,null,null,null,null,null,null,null,null,null,null,null,null,null,null,null,null,null,null,null,null,null,null,null,null,null,null,null,null,null,0,"",null,{"$f":"IF(G971=\"\",\"\",IF(AND(AG971=\"x\",AH971=1),AJ971*$AQ$1,0))","v":""},""]
["",null,null,null,null,null,null,null,null,null,null,null,null,null,null,null,null,null,null,null,null,null,null,null,null,null,null,null,null,null,null,null,null,0,"",null,"",""]
["",null,null,null,null,null,null,null,null,null,null,null,null,null,null,null,null,null,null,null,null,null,null,null,null,null,null,null,null,null,null,null,null,0,"",null,"",""]
["",null,null,null,null,null,null,null,null,null,null,null,null,null,null,null,null,null,null,null,null,null,null,null,null,null,null,null,null,null,null,null,null,0,"",null,"",""]
["",null,null,null,null,null,null,null,null,null,null,null,null,null,null,null,null,null,null,null,null,null,null,null,null,null,null,null,null,null,null,null,null,0,"",null,"",""]
["",null,null,null,null,null,null,null,null,null,null,null,null,null,null,null,null,null,null,null,null,null,null,null,null,null,null,null,null,null,null,null,null,0,"",null,"",""]
["",null,null,null,null,null,null,null,null,null,null,null,null,null,null,null,null,null,null,null,null,null,null,null,null,null,null,null,null,null,null,null,null,0,"",null,"",""]
["",null,null,null,null,null,null,null,null,null,null,null,null,null,null,null,null,null,null,null,null,null,null,null,null,null,null,null,null,null,null,null,null,0,"",null,"",""]
["",null,null,null,null,null,null,null,null,null,null,null,null,null,null,null,null,null,null,null,null,null,null,null,null,null,null,null,null,null,null,null,null,0,"",null,"",""]
["",null,null,null,null,null,null,null,null,null,null,null,null,null,null,null,null,null,null,null,null,null,null,null,null,null,null,null,null,null,null,null,null,0,"",null,"",""]
["",null,null,null,null,null,null,null,null,null,null,null,null,null,null,null,null,null,null,null,null,null,null,null,null,null,null,null,null,null,null,null,null,0,"",null,"",""]
["",null,null,null,null,null,null,null,null,null,null,null,null,null,null,null,null,null,null,null,null,null,null,null,null,null,null,null,null,null,null,null,null,0,"",null,"",""]
["",null,null,null,null,null,null,null,null,null,null,null,null,null,null,null,null,null,null,null,null,null,null,null,null,null,null,null,null,null,null,null,null,0,"",null,"",""]
["",null,null,null,null,null,null,null,null,null,null,null,null,null,null,null,null,null,null,null,null,null,null,null,null,null,null,null,null,null,null,null,null,0,"",null,"",""]
["",null,null,null,null,null,null,null,null,null,null,null,null,null,null,null,null,null,null,null,null,null,null,null,null,null,null,null,null,null,null,null,null,0,"",null,"",""]
["",null,null,null,null,null,null,null,null,null,null,null,null,null,null,null,null,null,null,null,null,null,null,null,null,null,null,null,null,null,null,null,null,0,"",null,"",""]
["",null,null,null,null,null,null,null,null,null,null,null,null,null,null,null,null,null,null,null,null,null,null,null,null,null,null,null,null,null,null,null,null,0,"",null,"",""]
["",null,null,null,null,null,null,null,null,null,null,null,null,null,null,null,null,null,null,null,null,null,null,null,null,null,null,null,null,null,null,null,null,0,"",null,"",""]
["",null,null,null,null,null,null,null,null,null,null,null,null,null,null,null,null,null,null,null,null,null,null,null,null,null,null,null,null,null,null,null,null,0,"",null,"",""]
["",null,null,null,null,null,null,null,null,null,null,null,null,null,null,null,null,null,null,null,null,null,null,null,null,null,null,null,null,null,null,null,null,0,"",null,"",""]
["",null,null,null,null,null,null,null,null,null,null,null,null,null,null,null,null,null,null,null,null,null,null,null,null,null,null,null,null,null,null,null,null,0,"",null,"",""]
["",null,null,null,null,null,null,null,null,null,null,null,null,null,null,null,null,null,null,null,null,null,null,null,null,null,null,null,null,null,null,null,null,0,"",null,"",""]
["",null,null,null,null,null,null,null,null,null,null,null,null,null,null,null,null,null,null,null,null,null,null,null,null,null,null,null,null,null,null,null,null,0,"",null,"",""]
["",null,null,null,null,null,null,null,null,null,null,null,null,null,null,null,null,null,null,null,null,null,null,null,null,null,null,null,null,null,null,null,null,0,"",null,"",""]
["",null,null,null,null,null,null,null,null,null,null,null,null,null,null,null,null,null,null,null,null,null,null,null,null,null,null,null,null,null,null,null,null,0,"",null,"",""]