Workbook
Name Fund_Code_Name_Short: '[1]User Guide'!$E$2:$E$466
Name Fund_Code_Number: '[1]User Guide'!$D$2:$D$466
Name JuneDistributionsYN: '[2]July-Dec Property Tax Estimates'!$F$22
Name NecessaryTranfsersYN: '[2]July-Dec Property Tax Estimates'!#REF!

Sheet Debt Worksheet
B1: STATE OF INDIANA
B2: DEPARTMENT OF LOCAL GOVERNMENT FINANCE
A4: ="Estimated Debt Service Payments and Levies for Budget Year "&'Source CC List'!A2+1 -> Estimated Debt Service Payments and Levies for Budget Year 2027
C6: Step 1: Select Your County:
C7: Select Your County | D7: <- Click here and then click on the downward arrow to select your county.
C8: If you are having trouble editing this workbook, please make sure you have clicked "Enable Editing" at the top of this page.
C10: Step 2: Select Your Unit of Government:
C11: Select Your Unit of Government
C13: Step 3: Select Your Debt Service Fund:
C16: =IF(COUNTIF('Source 2.0 DW (7.8.26)'!H:H,List!$P$2)>10,"This debt fund has more debts than can be displayed on this page. Please Click on the 'Long Debt Worksheet' Tab below to see all of your debts.","")
C18: Debt Name | D18: Pre-Line 5 | E18: Line 5 | F18: Line 15 | G18: Line 18A | H18: Line 18B | I18: Operating Balance Percent Cap | J18: Line 18
D19: =$F$19-1 -> 2026 | E19: =$F$19-1 -> 2026 | F19: =RIGHT(A4,4) -> 2027 | G19: =$F$19+1 -> 2028 | H19: =$F$19+1 -> 2028 | J19: Maximum Operating Balance
D20: June to December | E20: July to December | F20: January to December | G20: January to June | H20: July to December
C21: Total | D21: =SUM(D22:D70) -> 0 | E21: =SUM(E22:E70) -> 0 | F21: =SUM(F22:F70) -> 0 | G21: =SUM(G22:G70) -> 0 | H21: =SUM(H22:H70) -> 0 | J21: =SUM(J22:J70) -> 0
C22: =IF(C7="Select Your County","Select your county in step 1 above.",IF(C11="Select Your Unit of Government","Select your unit of government in step 2 above.",IF(C14="","Select your debt fund in step 3 above.",IF(COUNTIF('Source 2.0 DW (7.8.26)'!H:H,List!$P$2)=0,"There was no debt for this debt fund, during the time this report was prepared.",VLOOKUP(COUNTBLANK($B$22:B22),'Source 2.0 DW (7.8.26)'!$D:$W,13,FALSE))))) -> Select your county in step 1 above. | D22: =IFERROR(VLOOKUP(COUNTBLANK(B$22:$B22),'Source 2.0 DW (7.8.26)'!$D:$W,14,FALSE),"") | E22: =IFERROR(VLOOKUP(COUNTBLANK($B$22:B22),'Source 2.0 DW (7.8.26)'!$D:$W,15,FALSE),"") | F22: =IFERROR(VLOOKUP(COUNTBLANK($B$22:B22),'Source 2.0 DW (7.8.26)'!$D:$W,16,FALSE),"") | G22: =IFERROR(VLOOKUP(COUNTBLANK($B$22:B22),'Source 2.0 DW (7.8.26)'!$D:$W,17,FALSE),"") | H22: =IFERROR(VLOOKUP(COUNTBLANK($B$22:B22),'Source 2.0 DW (7.8.26)'!$D:$W,18,FALSE),"") | I22: =IF(C22="","",IFERROR(VLOOKUP(COUNTBLANK($B$22:B22),#REF!,7,FALSE),0.5)) -> 0.5 | J22: =IFERROR(IF(C22="","",MIN(G22,I22*(G22+H22))),"")
C23: =IFERROR(VLOOKUP(COUNTBLANK($B$22:B23),'Source 2.0 DW (7.8.26)'!$D:$W,13,FALSE),"") | D23: =IFERROR(VLOOKUP(COUNTBLANK(B$22:$B23),'Source 2.0 DW (7.8.26)'!$D:$W,14,FALSE),"") | E23: =IFERROR(VLOOKUP(COUNTBLANK($B$22:B23),'Source 2.0 DW (7.8.26)'!$D:$W,15,FALSE),"") | F23: =IFERROR(VLOOKUP(COUNTBLANK($B$22:B23),'Source 2.0 DW (7.8.26)'!$D:$W,16,FALSE),"") | G23: =IFERROR(VLOOKUP(COUNTBLANK($B$22:B23),'Source 2.0 DW (7.8.26)'!$D:$W,17,FALSE),"") | H23: =IFERROR(VLOOKUP(COUNTBLANK($B$22:B23),'Source 2.0 DW (7.8.26)'!$D:$W,18,FALSE),"") | I23: =IF(C23="","",IFERROR(VLOOKUP(COUNTBLANK($B$22:B23),#REF!,7,FALSE),0.5)) | J23: =IF(C23="","",MIN(G23,I23*(G23+H23)))
C24: =IFERROR(VLOOKUP(COUNTBLANK($B$22:B24),'Source 2.0 DW (7.8.26)'!$D:$W,13,FALSE),"") | D24: =IFERROR(VLOOKUP(COUNTBLANK(B$22:$B24),'Source 2.0 DW (7.8.26)'!$D:$W,14,FALSE),"") | E24: =IFERROR(VLOOKUP(COUNTBLANK($B$22:B24),'Source 2.0 DW (7.8.26)'!$D:$W,15,FALSE),"") | F24: =IFERROR(VLOOKUP(COUNTBLANK($B$22:B24),'Source 2.0 DW (7.8.26)'!$D:$W,16,FALSE),"") | G24: =IFERROR(VLOOKUP(COUNTBLANK($B$22:B24),'Source 2.0 DW (7.8.26)'!$D:$W,17,FALSE),"") | H24: =IFERROR(VLOOKUP(COUNTBLANK($B$22:B24),'Source 2.0 DW (7.8.26)'!$D:$W,18,FALSE),"") | I24: =IF(C24="","",IFERROR(VLOOKUP(COUNTBLANK($B$22:B24),#REF!,7,FALSE),0.5)) | J24: =IF(C24="","",MIN(G24,I24*(G24+H24)))
C25: =IFERROR(VLOOKUP(COUNTBLANK($B$22:B25),'Source 2.0 DW (7.8.26)'!$D:$W,13,FALSE),"") | D25: =IFERROR(VLOOKUP(COUNTBLANK(B$22:$B25),'Source 2.0 DW (7.8.26)'!$D:$W,14,FALSE),"") | E25: =IFERROR(VLOOKUP(COUNTBLANK($B$22:B25),'Source 2.0 DW (7.8.26)'!$D:$W,15,FALSE),"") | F25: =IFERROR(VLOOKUP(COUNTBLANK($B$22:B25),'Source 2.0 DW (7.8.26)'!$D:$W,16,FALSE),"") | G25: =IFERROR(VLOOKUP(COUNTBLANK($B$22:B25),'Source 2.0 DW (7.8.26)'!$D:$W,17,FALSE),"") | H25: =IFERROR(VLOOKUP(COUNTBLANK($B$22:B25),'Source 2.0 DW (7.8.26)'!$D:$W,18,FALSE),"") | I25: =IF(C25="","",IFERROR(VLOOKUP(COUNTBLANK($B$22:B25),#REF!,7,FALSE),0.5)) | J25: =IF(C25="","",MIN(G25,I25*(G25+H25)))
C26: =IFERROR(VLOOKUP(COUNTBLANK($B$22:B26),'Source 2.0 DW (7.8.26)'!$D:$W,13,FALSE),"") | D26: =IFERROR(VLOOKUP(COUNTBLANK(B$22:$B26),'Source 2.0 DW (7.8.26)'!$D:$W,14,FALSE),"") | E26: =IFERROR(VLOOKUP(COUNTBLANK($B$22:B26),'Source 2.0 DW (7.8.26)'!$D:$W,15,FALSE),"") | F26: =IFERROR(VLOOKUP(COUNTBLANK($B$22:B26),'Source 2.0 DW (7.8.26)'!$D:$W,16,FALSE),"") | G26: =IFERROR(VLOOKUP(COUNTBLANK($B$22:B26),'Source 2.0 DW (7.8.26)'!$D:$W,17,FALSE),"") | H26: =IFERROR(VLOOKUP(COUNTBLANK($B$22:B26),'Source 2.0 DW (7.8.26)'!$D:$W,18,FALSE),"") | I26: =IF(C26="","",IFERROR(VLOOKUP(COUNTBLANK($B$22:B26),#REF!,7,FALSE),0.5)) | J26: =IF(C26="","",MIN(G26,I26*(G26+H26)))
C27: =IFERROR(VLOOKUP(COUNTBLANK($B$22:B27),'Source 2.0 DW (7.8.26)'!$D:$W,13,FALSE),"") | D27: =IFERROR(VLOOKUP(COUNTBLANK(B$22:$B27),'Source 2.0 DW (7.8.26)'!$D:$W,14,FALSE),"") | E27: =IFERROR(VLOOKUP(COUNTBLANK($B$22:B27),'Source 2.0 DW (7.8.26)'!$D:$W,15,FALSE),"") | F27: =IFERROR(VLOOKUP(COUNTBLANK($B$22:B27),'Source 2.0 DW (7.8.26)'!$D:$W,16,FALSE),"") | G27: =IFERROR(VLOOKUP(COUNTBLANK($B$22:B27),'Source 2.0 DW (7.8.26)'!$D:$W,17,FALSE),"") | H27: =IFERROR(VLOOKUP(COUNTBLANK($B$22:B27),'Source 2.0 DW (7.8.26)'!$D:$W,18,FALSE),"") | I27: =IF(C27="","",IFERROR(VLOOKUP(COUNTBLANK($B$22:B27),#REF!,7,FALSE),0.5)) | J27: =IF(C27="","",MIN(G27,I27*(G27+H27)))
C28: =IFERROR(VLOOKUP(COUNTBLANK($B$22:B28),'Source 2.0 DW (7.8.26)'!$D:$W,13,FALSE),"") | D28: =IFERROR(VLOOKUP(COUNTBLANK(B$22:$B28),'Source 2.0 DW (7.8.26)'!$D:$W,14,FALSE),"") | E28: =IFERROR(VLOOKUP(COUNTBLANK($B$22:B28),'Source 2.0 DW (7.8.26)'!$D:$W,15,FALSE),"") | F28: =IFERROR(VLOOKUP(COUNTBLANK($B$22:B28),'Source 2.0 DW (7.8.26)'!$D:$W,16,FALSE),"") | G28: =IFERROR(VLOOKUP(COUNTBLANK($B$22:B28),'Source 2.0 DW (7.8.26)'!$D:$W,17,FALSE),"") | H28: =IFERROR(VLOOKUP(COUNTBLANK($B$22:B28),'Source 2.0 DW (7.8.26)'!$D:$W,18,FALSE),"") | I28: =IF(C28="","",IFERROR(VLOOKUP(COUNTBLANK($B$22:B28),#REF!,7,FALSE),0.5)) | J28: =IF(C28="","",MIN(G28,I28*(G28+H28)))
C29: =IFERROR(VLOOKUP(COUNTBLANK($B$22:B29),'Source 2.0 DW (7.8.26)'!$D:$W,13,FALSE),"") | D29: =IFERROR(VLOOKUP(COUNTBLANK(B$22:$B29),'Source 2.0 DW (7.8.26)'!$D:$W,14,FALSE),"") | E29: =IFERROR(VLOOKUP(COUNTBLANK($B$22:B29),'Source 2.0 DW (7.8.26)'!$D:$W,15,FALSE),"") | F29: =IFERROR(VLOOKUP(COUNTBLANK($B$22:B29),'Source 2.0 DW (7.8.26)'!$D:$W,16,FALSE),"") | G29: =IFERROR(VLOOKUP(COUNTBLANK($B$22:B29),'Source 2.0 DW (7.8.26)'!$D:$W,17,FALSE),"") | H29: =IFERROR(VLOOKUP(COUNTBLANK($B$22:B29),'Source 2.0 DW (7.8.26)'!$D:$W,18,FALSE),"") | I29: =IF(C29="","",IFERROR(VLOOKUP(COUNTBLANK($B$22:B29),#REF!,7,FALSE),0.5)) | J29: =IF(C29="","",MIN(G29,I29*(G29+H29)))
C30: =IFERROR(VLOOKUP(COUNTBLANK($B$22:B30),'Source 2.0 DW (7.8.26)'!$D:$W,13,FALSE),"") | D30: =IFERROR(VLOOKUP(COUNTBLANK(B$22:$B30),'Source 2.0 DW (7.8.26)'!$D:$W,14,FALSE),"") | E30: =IFERROR(VLOOKUP(COUNTBLANK($B$22:B30),'Source 2.0 DW (7.8.26)'!$D:$W,15,FALSE),"") | F30: =IFERROR(VLOOKUP(COUNTBLANK($B$22:B30),'Source 2.0 DW (7.8.26)'!$D:$W,16,FALSE),"") | G30: =IFERROR(VLOOKUP(COUNTBLANK($B$22:B30),'Source 2.0 DW (7.8.26)'!$D:$W,17,FALSE),"") | H30: =IFERROR(VLOOKUP(COUNTBLANK($B$22:B30),'Source 2.0 DW (7.8.26)'!$D:$W,18,FALSE),"") | I30: =IF(C30="","",IFERROR(VLOOKUP(COUNTBLANK($B$22:B30),#REF!,7,FALSE),0.5)) | J30: =IF(C30="","",MIN(G30,I30*(G30+H30)))
C31: =IFERROR(VLOOKUP(COUNTBLANK($B$22:B31),'Source 2.0 DW (7.8.26)'!$D:$W,13,FALSE),"") | D31: =IFERROR(VLOOKUP(COUNTBLANK(B$22:$B31),'Source 2.0 DW (7.8.26)'!$D:$W,14,FALSE),"") | E31: =IFERROR(VLOOKUP(COUNTBLANK($B$22:B31),'Source 2.0 DW (7.8.26)'!$D:$W,15,FALSE),"") | F31: =IFERROR(VLOOKUP(COUNTBLANK($B$22:B31),'Source 2.0 DW (7.8.26)'!$D:$W,16,FALSE),"") | G31: =IFERROR(VLOOKUP(COUNTBLANK($B$22:B31),'Source 2.0 DW (7.8.26)'!$D:$W,17,FALSE),"") | H31: =IFERROR(VLOOKUP(COUNTBLANK($B$22:B31),'Source 2.0 DW (7.8.26)'!$D:$W,18,FALSE),"") | I31: =IF(C31="","",IFERROR(VLOOKUP(COUNTBLANK($B$22:B31),#REF!,7,FALSE),0.5)) | J31: =IF(C31="","",MIN(G31,I31*(G31+H31)))
C32: =IFERROR(VLOOKUP(COUNTBLANK($B$22:B32),'Source 2.0 DW (7.8.26)'!$D:$W,13,FALSE),"") | D32: =IFERROR(VLOOKUP(COUNTBLANK(B$22:$B32),'Source 2.0 DW (7.8.26)'!$D:$W,14,FALSE),"") | E32: =IFERROR(VLOOKUP(COUNTBLANK($B$22:B32),'Source 2.0 DW (7.8.26)'!$D:$W,15,FALSE),"") | F32: =IFERROR(VLOOKUP(COUNTBLANK($B$22:B32),'Source 2.0 DW (7.8.26)'!$D:$W,16,FALSE),"") | G32: =IFERROR(VLOOKUP(COUNTBLANK($B$22:B32),'Source 2.0 DW (7.8.26)'!$D:$W,17,FALSE),"") | H32: =IFERROR(VLOOKUP(COUNTBLANK($B$22:B32),'Source 2.0 DW (7.8.26)'!$D:$W,18,FALSE),"") | I32: =IF(C32="","",IFERROR(VLOOKUP(COUNTBLANK($B$22:B32),#REF!,7,FALSE),0.5)) | J32: =IF(C32="","",MIN(G32,I32*(G32+H32)))
C33: =IFERROR(VLOOKUP(COUNTBLANK($B$22:B33),'Source 2.0 DW (7.8.26)'!$D:$W,13,FALSE),"") | D33: =IFERROR(VLOOKUP(COUNTBLANK(B$22:$B33),'Source 2.0 DW (7.8.26)'!$D:$W,14,FALSE),"") | E33: =IFERROR(VLOOKUP(COUNTBLANK($B$22:B33),'Source 2.0 DW (7.8.26)'!$D:$W,15,FALSE),"") | F33: =IFERROR(VLOOKUP(COUNTBLANK($B$22:B33),'Source 2.0 DW (7.8.26)'!$D:$W,16,FALSE),"") | G33: =IFERROR(VLOOKUP(COUNTBLANK($B$22:B33),'Source 2.0 DW (7.8.26)'!$D:$W,17,FALSE),"") | H33: =IFERROR(VLOOKUP(COUNTBLANK($B$22:B33),'Source 2.0 DW (7.8.26)'!$D:$W,18,FALSE),"") | I33: =IF(C33="","",IFERROR(VLOOKUP(COUNTBLANK($B$22:B33),#REF!,7,FALSE),0.5)) | J33: =IF(C33="","",MIN(G33,I33*(G33+H33)))
C34: =IFERROR(VLOOKUP(COUNTBLANK($B$22:B34),'Source 2.0 DW (7.8.26)'!$D:$W,13,FALSE),"") | D34: =IFERROR(VLOOKUP(COUNTBLANK(B$22:$B34),'Source 2.0 DW (7.8.26)'!$D:$W,14,FALSE),"") | E34: =IFERROR(VLOOKUP(COUNTBLANK($B$22:B34),'Source 2.0 DW (7.8.26)'!$D:$W,15,FALSE),"") | F34: =IFERROR(VLOOKUP(COUNTBLANK($B$22:B34),'Source 2.0 DW (7.8.26)'!$D:$W,16,FALSE),"") | G34: =IFERROR(VLOOKUP(COUNTBLANK($B$22:B34),'Source 2.0 DW (7.8.26)'!$D:$W,17,FALSE),"") | H34: =IFERROR(VLOOKUP(COUNTBLANK($B$22:B34),'Source 2.0 DW (7.8.26)'!$D:$W,18,FALSE),"") | I34: =IF(C34="","",IFERROR(VLOOKUP(COUNTBLANK($B$22:B34),#REF!,7,FALSE),0.5)) | J34: =IF(C34="","",MIN(G34,I34*(G34+H34)))
... C70: =IFERROR(VLOOKUP(COUNTBLANK($B$22:B70),'Source 2.0 DW (7.8.26)'!$D:$W,13,FALSE),"") | D70: =IFERROR(VLOOKUP(COUNTBLANK(B$22:$B70),'Source 2.0 DW (7.8.26)'!$D:$W,14,FALSE),"") | E70: =IFERROR(VLOOKUP(COUNTBLANK($B$22:B70),'Source 2.0 DW (7.8.26)'!$D:$W,15,FALSE),"") | F70: =IFERROR(VLOOKUP(COUNTBLANK($B$22:B70),'Source 2.0 DW (7.8.26)'!$D:$W,16,FALSE),"") | G70: =IFERROR(VLOOKUP(COUNTBLANK($B$22:B70),'Source 2.0 DW (7.8.26)'!$D:$W,17,FALSE),"") | H70: =IFERROR(VLOOKUP(COUNTBLANK($B$22:B70),'Source 2.0 DW (7.8.26)'!$D:$W,18,FALSE),"") | I70: =IF(C70="","",IFERROR(VLOOKUP(COUNTBLANK($B$22:B70),#REF!,7,FALSE),0.5)) | J70: =IF(C70="","",MIN(G70,I70*(G70+H70)))
C72: The figures contained above are estimates only. The actual values will be computed during the Department's budget review. Taxing units are legally obligated to fulfill their debt obligations, regardless of these estimates or the Department's levy certification.
G74: ="Estimated "&F19&" Property Tax Levy:" -> Estimated 2027 Property Tax Levy: | J74: ='Calculation - Levy Estimates'!B4 -> 981272
C76: Summary of Significant Assumptions
C78: 1. To compute these estimates, the Department used the Pre-Budget data on the Debt Worksheet entered by June 30. Data entered on these lines was used to compute estimates for Lines 15, 5, and 18. The reliability of these figures may be impacted by data entry errors on the Pre-Budget Debt Worksheet.
C79: 2. To estimate the upcoming year's levy for debt service funds, the Department is using the estimated 12/31/2026 cash balance from the 1782 Notice. For purposes of these estimates, the Department assumes that the miscellaneous revenues in upcoming year will match those used as part of the current year's certified levy calculation except for any License Excise, Commercial Vehicle Excise, or Financial Institutions Tax. Actual miscellaneous revenues are likely to differ and may impact the actual debt service levy.
C80: 3. These are general estimates that do not take into account waivers for protected taxes, debt restructuring, or target tax rates. Please contact your Department Budget Field Representative with any questions.

Sheet How to Enter Amounts in Gateway
B2: Entering Desired Operating Balances into Gateway's Form 4B
B5: 1. In the "Debt Worksheet" tab of this workbook there is a total, find the estimated maximum operating balance. The Debt Worksheet will allow you to enter the desired operating balance to calculate the needed levy.
B13: 2. In Gateway's Budget 2.0, complete the pages up to the Form 4B Data Entry page and then navigate to that page.
B21: 3. On the Form 4B Data Entry page's "Data Entry: Property Tax Allocation" section:
C23: 1) Enter the desired Operating Balance (or desired cash on hand at the end of the budget year) for the corresponding debt fund.
C24: 2) Click the green "Calculate" button and review the calculated property tax levy and cash balances.

Sheet Long Debt Worksheet
B1: STATE OF INDIANA
B2: DEPARTMENT OF LOCAL GOVERNMENT FINANCE
B4: ='Debt Worksheet'!A4 -> Estimated Debt Service Payments and Levies for Budget Year 2027
C6: County:
C7: ='Debt Worksheet'!C7 -> Select Your County | E7: These three values are carried forward from the "Debt Worksheet" tab.
C9: Unit of Government:
C10: ='Debt Worksheet'!C11 -> Select Your Unit of Government
C12: Debt Service Fund:
C13: ='Debt Worksheet'!C14 -> 0
C15: Debt Name | D15: Pre-Line 5 | E15: Line 5 | F15: Line 15 | G15: Line 18A | H15: Line 18B | I15: Operating Balance Percent Cap | J15: Line 18
D16: ='Debt Worksheet'!D19 -> 2026 | E16: ='Debt Worksheet'!E19 -> 2026 | F16: ='Debt Worksheet'!F19 -> 2027 | G16: ='Debt Worksheet'!G19 -> 2028 | H16: ='Debt Worksheet'!H19 -> 2028 | J16: Maximum Operating Balance
D17: June to December | E17: July to December | F17: January to December | G17: January to June | H17: July to December
C18: Total | D18: =SUM(D19:D67) -> 0 | E18: =SUM(E19:E67) -> 0 | F18: =SUM(F19:F67) -> 0 | G18: =SUM(G19:G67) -> 0 | H18: =SUM(H19:H67) -> 0 | J18: =SUM(J19:J67) -> 0
C19: ='Debt Worksheet'!C22 -> Select your county in step 1 above. | D19: ='Debt Worksheet'!D22 | E19: ='Debt Worksheet'!E22 | F19: ='Debt Worksheet'!F22 | G19: ='Debt Worksheet'!G22 | H19: ='Debt Worksheet'!H22 | I19: ='Debt Worksheet'!I22 -> 0.5 | J19: ='Debt Worksheet'!J22 | K19: ='Debt Worksheet'!K22 -> 0
C20: ='Debt Worksheet'!C23 | D20: ='Debt Worksheet'!D23 | E20: ='Debt Worksheet'!E23 | F20: ='Debt Worksheet'!F23 | G20: ='Debt Worksheet'!G23 | H20: ='Debt Worksheet'!H23 | I20: ='Debt Worksheet'!I23 | J20: ='Debt Worksheet'!J23
C21: ='Debt Worksheet'!C24 | D21: ='Debt Worksheet'!D24 | E21: ='Debt Worksheet'!E24 | F21: ='Debt Worksheet'!F24 | G21: ='Debt Worksheet'!G24 | H21: ='Debt Worksheet'!H24 | I21: ='Debt Worksheet'!I24 | J21: ='Debt Worksheet'!J24
C22: ='Debt Worksheet'!C25 | D22: ='Debt Worksheet'!D25 | E22: ='Debt Worksheet'!E25 | F22: ='Debt Worksheet'!F25 | G22: ='Debt Worksheet'!G25 | H22: ='Debt Worksheet'!H25 | I22: ='Debt Worksheet'!I25 | J22: ='Debt Worksheet'!J25
C23: ='Debt Worksheet'!C26 | D23: ='Debt Worksheet'!D26 | E23: ='Debt Worksheet'!E26 | F23: ='Debt Worksheet'!F26 | G23: ='Debt Worksheet'!G26 | H23: ='Debt Worksheet'!H26 | I23: ='Debt Worksheet'!I26 | J23: ='Debt Worksheet'!J26
C24: ='Debt Worksheet'!C27 | D24: ='Debt Worksheet'!D27 | E24: ='Debt Worksheet'!E27 | F24: ='Debt Worksheet'!F27 | G24: ='Debt Worksheet'!G27 | H24: ='Debt Worksheet'!H27 | I24: ='Debt Worksheet'!I27 | J24: ='Debt Worksheet'!J27
C25: ='Debt Worksheet'!C28 | D25: ='Debt Worksheet'!D28 | E25: ='Debt Worksheet'!E28 | F25: ='Debt Worksheet'!F28 | G25: ='Debt Worksheet'!G28 | H25: ='Debt Worksheet'!H28 | I25: ='Debt Worksheet'!I28 | J25: ='Debt Worksheet'!J28
C26: ='Debt Worksheet'!C29 | D26: ='Debt Worksheet'!D29 | E26: ='Debt Worksheet'!E29 | F26: ='Debt Worksheet'!F29 | G26: ='Debt Worksheet'!G29 | H26: ='Debt Worksheet'!H29 | I26: ='Debt Worksheet'!I29 | J26: ='Debt Worksheet'!J29
C27: ='Debt Worksheet'!C30 | D27: ='Debt Worksheet'!D30 | E27: ='Debt Worksheet'!E30 | F27: ='Debt Worksheet'!F30 | G27: ='Debt Worksheet'!G30 | H27: ='Debt Worksheet'!H30 | I27: ='Debt Worksheet'!I30 | J27: ='Debt Worksheet'!J30
C28: ='Debt Worksheet'!C31 | D28: ='Debt Worksheet'!D31 | E28: ='Debt Worksheet'!E31 | F28: ='Debt Worksheet'!F31 | G28: ='Debt Worksheet'!G31 | H28: ='Debt Worksheet'!H31 | I28: ='Debt Worksheet'!I31 | J28: ='Debt Worksheet'!J31
C29: ='Debt Worksheet'!C32 | D29: ='Debt Worksheet'!D32 | E29: ='Debt Worksheet'!E32 | F29: ='Debt Worksheet'!F32 | G29: ='Debt Worksheet'!G32 | H29: ='Debt Worksheet'!H32 | I29: ='Debt Worksheet'!I32 | J29: ='Debt Worksheet'!J32
C30: ='Debt Worksheet'!C33 | D30: ='Debt Worksheet'!D33 | E30: ='Debt Worksheet'!E33 | F30: ='Debt Worksheet'!F33 | G30: ='Debt Worksheet'!G33 | H30: ='Debt Worksheet'!H33 | I30: ='Debt Worksheet'!I33 | J30: ='Debt Worksheet'!J33
C31: ='Debt Worksheet'!C34 | D31: ='Debt Worksheet'!D34 | E31: ='Debt Worksheet'!E34 | F31: ='Debt Worksheet'!F34 | G31: ='Debt Worksheet'!G34 | H31: ='Debt Worksheet'!H34 | I31: ='Debt Worksheet'!I34 | J31: ='Debt Worksheet'!J34
... C67: ='Debt Worksheet'!C70 | D67: ='Debt Worksheet'!D70 | E67: ='Debt Worksheet'!E70 | F67: ='Debt Worksheet'!F70 | G67: ='Debt Worksheet'!G70 | H67: ='Debt Worksheet'!H70 | I67: ='Debt Worksheet'!I70 | J67: ='Debt Worksheet'!J70
C69: The figures contained above are estimates only. The actual values will be computed during the Department's budget review. Taxing units are legally obligated to fulfill their debt obligations, regardless of these estimates or the Department's levy certification.
G71: ='Debt Worksheet'!G74 -> Estimated 2027 Property Tax Levy: | J71: ='Calculation - Levy Estimates'!B4 -> 981272
C73: Summary of Significant Assumptions
C75: 1. To compute these estimates, the Department used the Pre-Budget data on the Debt Worksheet entered by June 30. Data entered on these lines was used to compute estimates for Lines 15, 5, and 18. The reliability of these figures may be impacted by data entry errors on the Pre-Budget Debt Worksheet.
C76: 2. To estimate the upcoming year's levy for debt service funds, the Department is using the estimated 12/31/2026 cash balance from the 1782 Notice. For purposes of these estimates, the Department assumes that the miscellaneous revenues in upcoming year will match those used as part of the current year's certified levy calculation except for any License Excise, Commercial Vehicle Excise, or Financial Institutions Tax. Actual miscellaneous revenues are likely to differ and may impact the actual debt service levy.
C77: 3. These are general estimates that do not take into account waivers for protected taxes, debt restructuring, or target tax rates. Please contact your Department Budget Field Representative with any questions.

Sheet Calculation - Levy Estimates
A1: Descriptions | B1: Amount | C1: Notes
A2: 9. Est. Dec.31st Current Year Cash Balance | B2: =IFERROR(VLOOKUP(List!$P$2,'Source PY Rev and Op Bal'!$B:$J,6),0) -> 981272 | C2: Line 18 of the 1782 Notice issued late last year.
A3: 10. Levy Excess | B3: 0
A4: 11. Property Tax Levy | B4: =ROUND(MAX(0,ABS(-B8-B11+B6+B2)),0) -> 981272 | C4: Calculated Levy
A5: 12. Property Tax Cap Impact | B5: 0
A6: 13. Miscellaneous Revenue | B6: =IFERROR(ROUND(VLOOKUP(List!P2,'Source PY Rev and Op Bal'!$B:$J,9,FALSE),0),0) -> 0 | C6: Prior year amount after removing Excise, CVET, and FIT.
A7: 14. Budget Year Total Revenues | B7: =SUM(B3:B6) -> 981272
A8: 15. Budget Estimate | B8: ='Debt Worksheet'!F21 -> 0 | C8: Budget year total debt payments from the Debt Worksheet.
A9: 16. Temp Loans & Transfers | B9: 0
A10: 17. Total Budget Year Expenses | B10: =SUM(B8:B9) -> 0
A11: 18. Operating Balance | B11: ='Debt Worksheet'!J21 -> 0 | C11: Maximum estimated max operating balance from the Debt Worksheet tab.

Sheet SQL
A1: SELECT ufi.year_fk | B1: Source - DW Debt Level | D1: SELECT | E1: Source - DW Selected Payments | G1: SELECT | H1: Source Prior Year Data | J1: SELECT [debt_wksht_row_id] | K1: Source DW Row to Bond ID | M1: SELECT [BOND_ID] | N1: Source Post 14 Status | P1: SELECT | Q1: Source F22 | T1: SELECT | U1: CC List | W1: SELECT | X1: Athena Source | AA1: SELECT | AB1: Source - PY CVET & FIT | AE1: SELECT | AF1: Source 2.0 - DW
A2: ,u.county_cd_fk | D2: dwl.[debt_wksht_row_id_fk] | G2: [YR_NBR] | J2: ,[bond_main_row_id_fk] | M2: ,[POST_JUNE2014] | P2: [YR_NBR], | T2: YR_NBR | W2: [County_Code] + [Unit_Type]+ [Unit_Code] + [Fund_Code] as ' Fund Mod' | AA2: [YR_NBR] | AE2: -- From Unit_Fund_UniqueCode | AI2: SELECT
A3: ,u.unit_type_cd_id_fk | D3: ,dwl.[line_calculation_selection] | G3: --,[CNTY_CD] | J3: ,[name_of_issue] | M3: FROM [DLGF_fieldBudget].[dbo].[tbl_Debts] | P3: [COUNTY_CD] + [UNIT_TYPE_CD] + [UNIT_CD] as 'Mod' | T3: ,[CNTY_CD] +[UNIT_TYPE_CD] + [UNIT_CD] as 'Row Mod' | W3: ,[County_Code] | AA3: ,[CNTY_CD]+[UNIT_TYPE_CD]+[UNTT_CD]+ [FUND_CD] as 'Unit ID + Fund' | AE3: ufi.[Year] | AI3: ry.[YR_NBR],
A4: ,u.unit_code | D4: ,dwl.[total] | G4: --,[UNIT_TYPE_CD] | J4: FROM [DLGF_forms_budget].[dbo].[tbl_debt_wksht_debts] | M4: where BOND_ID is not null | P4: ,[ENTITY_CD] | T4: ,substring([UNIT],6,2) +[UNIT_TYPE_CD] + [UNIT_CD] as 'Major Mod' | W4: ,[Unit_Code] | AA4: --,[EST_REV_TYPE_CD]
A5: ,u.unit_name | D5: FROM [DLGF_forms_budget].[dbo].[tbl_debt_wksht_data_line_items] dwl | G5: --,[UNIT_CD] | J5: where year_fk = '2026' and bond_main_row_id_fk is not null | P5: ,[DISTRIBUTION_CD] | T5: FROM [DLGF_fieldBudget].[dbo].[STB_UNIT_YR] | W5: ,[Unit_Type] | AA5: --,[EST_REV_DESCRIPTION] | AE5: ---------------------------------------------------------------- | AI5: CONCAT(
A6: ,f.fund_cd | D6: inner join [DLGF_forms_budget].[dbo].[tbl_debt_wksht_debts] dw | G6: --,[FUND_CD] | J6: order by bond_main_row_id_fk asc | P6: ,[DISTRIBUTION_DATE_INT] | T6: where YR_NBR = '2026' | W6: ,[Fund_Code] | AA6: ,isnull(sum([FinalColA]),0) as 'Col A F22 Revs' | AE6: -- Unit ID (Null‑safe + preserved leading zeros) | AI6: RIGHT('00' + ry.CNTY_CD, 2),
A7: ,f.fund_description | D7: on dwl.[debt_wksht_row_id_fk] = dw.[debt_wksht_row_id] | G7: ,[CNTY_CD]+[UNIT_TYPE_CD]+[UNIT_CD]+[FUND_CD] AS 'Unit ID + Fund' | P7: ,AMT | W7: ,sum([Final_Preline5_Amount]) as 'Total PreLine5' | AA7: ,isnull(sum([FinalColB]),0) as 'Col B F22 Revs' | AE7: ---------------------------------------------------------------- | AI7: RIGHT('0000' + ry.UNTT_CD, 2),
A8: ,dw.[debt_wksht_row_id] | D8: where dwl.line_calculation_selection is not null | G8: ,[DLGF_3] as 'Line 3 Misc Rev' | P8: FROM [dlgf_forms_budget].[f22].[tbl_Distributions] | W8: ,sum([Final_Line5_Amount]) as 'Total Line5' | AA8: FROM [DLGF_fieldBudget].[dbo].[STB_EST_REV_YR] | AE8: , RIGHT('00' + ISNULL(un.[CountyCode], ''), 2) | AI8: RIGHT('0' + ry.UNIT_TYPE_CD, 1),
A9: -- ,dw.[units_funds_index_master_id_fk] | D9: and dwl.total <> 0 | G9: ,[DLGF_11] as 'Property Tax Levy' | P9: where YR_NBR = '2026' and AMT <> '0.00' and DISTRIBUTION_CD = 'p' and ADVANCE = 0 and SUBSTRING(ENTITY_CD,3,1) ='8' | W9: ,sum([Final_Line15_Amount]) as 'Total Line 15' | AA9: where EST_REV_TYPE_CD in ('R112', 'R135', '1212', '1231') --CVET and FIT Revenues | AE9: + RIGHT('00' + ISNULL(un.[UnitTypeCode], ''), 2) | AI9: RIGHT('0000' + ry.FUND_CD, 4)
A10: --,dw.[unit_id_fk] | D10: and dw.year_fk = '2026' | G10: ,[DLGF_13] as 'Line 13 Misc Rev' | P10: order by Mod asc | W10: ,sum([Final_Line18_Amount]) as 'Total Max Op Bal' | AA10: and active = 1 | AE10: + RIGHT('0000' + ISNULL(un.[UnitCode], ''), 4) | AI10: ) AS Unit_fund_id,
A11: --,dw.[fund_id_fk] | D11: order by dwl.debt_wksht_row_id_fk desc | G11: FROM [DLGF_fieldBudget].[dbo].[STB_FUND_YR] | W11: FROM [DLGF_BudgetWorkshop].[dbo].[Debt_Worksheet] | AA11: and YR_NBR = '2026' | AE11: AS [Unit ID]
A12: --,dw.[year_fk] | G12: where SUBSTRING(FUND_CD,3,1) = '8' and YR_NBR = '2026' | W12: where Year = '2027' | AA12: and SUBSTRING(Fund_CD,3,1) = '8' | AI12: ry.[CNTY_CD],
A13: ,dw.[bond_main_row_id_fk] | W13: group by Unit_Unique_Code | AA13: group by | AE13: ---------------------------------------------------------------- | AI13: ry.[UNTT_CD],
A14: ,dw.[school_debt_type_id_fk] | W14: ,Fund_Code | AA14: [YR_NBR] | AE14: -- Unit ID + Fund (Null‑safe) | AI14: ry.[UNIT_TYPE_CD],
A15: ,dw.[other_debt_type_id_fk] | W15: ,[County_Code] | AA15: ,[CNTY_CD] | AE15: ---------------------------------------------------------------- | AI15: ry.[FUND_CD],
A16: ,dw.[name_of_issue] | W16: ,[Unit_Code] | AA16: ,[UNIT_TYPE_CD] | AE16: , RIGHT('00' + ISNULL(un.[CountyCode], ''), 2)
A17: FROM [DLGF_forms_budget].[dbo].[tbl_debt_wksht_debts] dw | W17: ,[Unit_Type] | AA17: ,[UNTT_CD] | AE17: + RIGHT('00' + ISNULL(un.[UnitTypeCode], ''), 2) | AI17: -- DLGF_18 from fund-year table (adjust aggregate if needed)
A18: JOIN dlgf_forms_budget.dbo.tbl_units_funds_index ufi | W18: ,[Fund_Code] | AA18: ,[FUND_CD] | AE18: + RIGHT('0000' + ISNULL(un.[UnitCode], ''), 4) | AI18: MAX(fy.[DLGF_18]) AS [DLGF_18],
A19: on dw.[units_funds_index_master_id_fk] = ufi.units_funds_index_master_id | AE19: + RIGHT('0000' + ISNULL(fu.[FundCode], ''), 4)
A20: JOIN dlgf_forms_budget.dbo.tbl_funds f | AE20: AS [Unit ID + Fund] | AI20: -- Totals by revenue type buckets
A21: ON f.fund_id = ufi.funds_id_fk | AI21: SUM(CASE WHEN ry.[EST_REV_TYPE_CD] IN ('1212','1231','R112')
A22: JOIN dlgf_forms_budget.dbo.tbl_units u | AE22: ---------------------------------------------------------------- | AI22: THEN ry.[FinalColB] ELSE 0 END) AS [Total_CVET_FIT],
A23: ON u.unit_id = ufi.unit_id_fk | AE23: -- Unit fields (Null → blank)
A24: where dw.year_fk = '2026' and county_cd_fk < 93 | AE24: ---------------------------------------------------------------- | AI24: SUM(CASE WHEN ry.[EST_REV_TYPE_CD] IN ('1211','R114')
A25: order by u.county_cd_fk asc, u.unit_type_cd_id_fk asc, u.unit_code asc, fund_cd asc | AE25: , ISNULL(un.[CountyCode], '') AS CountyCode | AI25: THEN ry.[FinalColB] ELSE 0 END) AS [Total_Excise],
AE26: , ISNULL(un.[UnitTypeCode], '') AS UnitTypeCode
AE27: , ISNULL(un.[UnitCode], '') AS UnitCode | AI27: SUM(CASE WHEN ry.[EST_REV_TYPE_CD] NOT IN ('1212','1231','R112','1211','R114')
AE28: , ISNULL(un.[UnitName], '') AS UnitName | AI28: THEN ry.[FinalColB] ELSE 0 END) AS [Other_Revenue]
AE29: -- , ISNULL(un.[CountyName], '') AS CountyName -- uncomment if needed
AI30: FROM [DLGF_fieldBudget].[dbo].[STB_EST_REV_YR] AS ry
AE31: ---------------------------------------------------------------- | AI31: JOIN [DLGF_fieldBudget].[dbo].[STB_FUND_YR] AS fy
AE32: -- Fund fields (Null → blank) | AI32: ON ry.[UNIT_UNIQUE_CODE] = fy.[UNIT_UNIQUE_CODE]
AE33: ---------------------------------------------------------------- | AI33: AND ry.[FUND_CD] = fy.[FUND_CD]
AE34: , ISNULL(fu.[FundCode], '') AS FundCode | AI34: WHERE ry.[ACTIVE] = 1 -- limit to active revenue rows
AE35: , ISNULL(fu.[FundName], '') AS FundName | AI35: AND SUBSTRING(ry.[FUND_CD], 3, 1) = '8' -- debt funds
AI36: and ry.YR_NBR = '2026'
AE37: ---------------------------------------------------------------- | AI37: and fy.YR_NBR ='2026'
AE38: -- DebtWorksheetDebts fields (Null → blank or zero as appropriate) | AI38: GROUP BY
AE39: ---------------------------------------------------------------- | AI39: ry.[YR_NBR],
AE40: , ISNULL(d.[BondId], '') AS BondId | AI40: ry.[CNTY_CD],
...

Sheet List
A1: Select Your County | E1: Fund Code | F1: Fund Name | G1: Select Your Debt Fund | H1: Selected Unit's Funds | K1: Units in selected County | L1: Select Your Unit of Government | M1: Mod | O1: Selected Unit | P1: =IFERROR(VLOOKUP('Debt Worksheet'!C11,L:M,2,FALSE),"") -> Mod
A2: 01 - Adams County | E2: 0180 | F2: DEBT SERVICE | G2: =_xlfn.CONCAT(E2," - ",PROPER(F2)) -> 0180 - Debt Service | H2: 1 | I2: =IFERROR(VLOOKUP(H2,'Source 2.0 DW (7.8.26)'!A:M,13,FALSE)&" - "&VLOOKUP(H2,'Source 2.0 DW (7.8.26)'!A:P,14,FALSE),"") | L2: =IFERROR(VLOOKUP(ROW(K1),'Selected Unit Finder +Unit List'!H:I,2,FALSE),"") | M2: =IFERROR(VLOOKUP(ROW(K1),'Selected Unit Finder +Unit List'!H:J,3,FALSE),"") | O2: Selected Unit + Fund | P2: =P1&LEFT('Debt Worksheet'!C14,4) -> Mod
A3: 02 - Allen County | E3: 0181 | F3: DEBT PAYMENT | G3: =_xlfn.CONCAT(E3," - ",PROPER(F3)) -> 0181 - Debt Payment | H3: 2 | I3: =IFERROR(VLOOKUP(H3,'Source 2.0 DW (7.8.26)'!A:M,13,FALSE)&" - "&VLOOKUP(H3,'Source 2.0 DW (7.8.26)'!A:P,14,FALSE),"") | L3: =IFERROR(VLOOKUP(ROW(K2),'Selected Unit Finder +Unit List'!H:I,2,FALSE),"") | M3: =IFERROR(VLOOKUP(ROW(K2),'Selected Unit Finder +Unit List'!H:J,3,FALSE),"")
A4: 03 - Bartholomew County | E4: 0182 | F4: BOND #2 | G4: =_xlfn.CONCAT(E4," - ",PROPER(F4)) -> 0182 - Bond #2 | H4: 3 | I4: =IFERROR(VLOOKUP(H4,'Source 2.0 DW (7.8.26)'!A:M,13,FALSE)&" - "&VLOOKUP(H4,'Source 2.0 DW (7.8.26)'!A:P,14,FALSE),"") | L4: =IFERROR(VLOOKUP(ROW(K3),'Selected Unit Finder +Unit List'!H:I,2,FALSE),"") | M4: =IFERROR(VLOOKUP(ROW(K3),'Selected Unit Finder +Unit List'!H:J,3,FALSE),"")
A5: 04 - Benton County | E5: 0183 | F5: BOND #3 | G5: =_xlfn.CONCAT(E5," - ",PROPER(F5)) -> 0183 - Bond #3 | H5: 4 | I5: =IFERROR(VLOOKUP(H5,'Source 2.0 DW (7.8.26)'!A:M,13,FALSE)&" - "&VLOOKUP(H5,'Source 2.0 DW (7.8.26)'!A:P,14,FALSE),"") | L5: =IFERROR(VLOOKUP(ROW(K4),'Selected Unit Finder +Unit List'!H:I,2,FALSE),"") | M5: =IFERROR(VLOOKUP(ROW(K4),'Selected Unit Finder +Unit List'!H:J,3,FALSE),"")
A6: 05 - Blackford County | E6: 0184 | F6: BOND #4 | G6: =_xlfn.CONCAT(E6," - ",PROPER(F6)) -> 0184 - Bond #4 | H6: 5 | I6: =IFERROR(VLOOKUP(H6,'Source 2.0 DW (7.8.26)'!A:M,13,FALSE)&" - "&VLOOKUP(H6,'Source 2.0 DW (7.8.26)'!A:P,14,FALSE),"") | L6: =IFERROR(VLOOKUP(ROW(K5),'Selected Unit Finder +Unit List'!H:I,2,FALSE),"") | M6: =IFERROR(VLOOKUP(ROW(K5),'Selected Unit Finder +Unit List'!H:J,3,FALSE),"")
A7: 06 - Boone County | E7: 0185 | F7: BOND #5 | G7: =_xlfn.CONCAT(E7," - ",PROPER(F7)) -> 0185 - Bond #5 | H7: 6 | I7: =IFERROR(VLOOKUP(H7,'Source 2.0 DW (7.8.26)'!A:M,13,FALSE)&" - "&VLOOKUP(H7,'Source 2.0 DW (7.8.26)'!A:P,14,FALSE),"") | L7: =IFERROR(VLOOKUP(ROW(K6),'Selected Unit Finder +Unit List'!H:I,2,FALSE),"") | M7: =IFERROR(VLOOKUP(ROW(K6),'Selected Unit Finder +Unit List'!H:J,3,FALSE),"")
A8: 07 - Brown County | E8: 0186 | F8: SCHOOL PENSION DEBT | G8: =_xlfn.CONCAT(E8," - ",PROPER(F8)) -> 0186 - School Pension Debt | H8: 7 | I8: =IFERROR(VLOOKUP(H8,'Source 2.0 DW (7.8.26)'!A:M,13,FALSE)&" - "&VLOOKUP(H8,'Source 2.0 DW (7.8.26)'!A:P,14,FALSE),"") | L8: =IFERROR(VLOOKUP(ROW(K7),'Selected Unit Finder +Unit List'!H:I,2,FALSE),"") | M8: =IFERROR(VLOOKUP(ROW(K7),'Selected Unit Finder +Unit List'!H:J,3,FALSE),"")
A9: 08 - Carroll County | E9: 0187 | F9: REFERENDUM DEBT FUND - EXEMPT CAPITAL | G9: =_xlfn.CONCAT(E9," - ",PROPER(F9)) -> 0187 - Referendum Debt Fund - Exempt Capital | H9: 8 | I9: =IFERROR(VLOOKUP(H9,'Source 2.0 DW (7.8.26)'!A:M,13,FALSE)&" - "&VLOOKUP(H9,'Source 2.0 DW (7.8.26)'!A:P,14,FALSE),"") | L9: =IFERROR(VLOOKUP(ROW(K8),'Selected Unit Finder +Unit List'!H:I,2,FALSE),"") | M9: =IFERROR(VLOOKUP(ROW(K8),'Selected Unit Finder +Unit List'!H:J,3,FALSE),"")
A10: 09 - Cass County | E10: 0280 | F10: BOND-GENERAL SINKING | G10: =_xlfn.CONCAT(E10," - ",PROPER(F10)) -> 0280 - Bond-General Sinking | H10: 9 | I10: =IFERROR(VLOOKUP(H10,'Source 2.0 DW (7.8.26)'!A:M,13,FALSE)&" - "&VLOOKUP(H10,'Source 2.0 DW (7.8.26)'!A:P,14,FALSE),"") | L10: =IFERROR(VLOOKUP(ROW(K9),'Selected Unit Finder +Unit List'!H:I,2,FALSE),"") | M10: =IFERROR(VLOOKUP(ROW(K9),'Selected Unit Finder +Unit List'!H:J,3,FALSE),"")
A11: 10 - Clark County | E11: 0281 | F11: LOAN & INTEREST PAYMENT | G11: =_xlfn.CONCAT(E11," - ",PROPER(F11)) -> 0281 - Loan & Interest Payment | H11: 10 | I11: =IFERROR(VLOOKUP(H11,'Source 2.0 DW (7.8.26)'!A:M,13,FALSE)&" - "&VLOOKUP(H11,'Source 2.0 DW (7.8.26)'!A:P,14,FALSE),"") | L11: =IFERROR(VLOOKUP(ROW(K10),'Selected Unit Finder +Unit List'!H:I,2,FALSE),"") | M11: =IFERROR(VLOOKUP(ROW(K10),'Selected Unit Finder +Unit List'!H:J,3,FALSE),"")
A12: 11 - Clay County | E12: 0282 | F12: OBLIGATION LOAN | G12: =_xlfn.CONCAT(E12," - ",PROPER(F12)) -> 0282 - Obligation Loan | H12: 11 | I12: =IFERROR(VLOOKUP(H12,'Source 2.0 DW (7.8.26)'!A:M,13,FALSE)&" - "&VLOOKUP(H12,'Source 2.0 DW (7.8.26)'!A:P,14,FALSE),"") | L12: =IFERROR(VLOOKUP(ROW(K11),'Selected Unit Finder +Unit List'!H:I,2,FALSE),"") | M12: =IFERROR(VLOOKUP(ROW(K11),'Selected Unit Finder +Unit List'!H:J,3,FALSE),"")
A13: 12 - Clinton County | E13: 0283 | F13: LEASE RENTAL PAYMENT | G13: =_xlfn.CONCAT(E13," - ",PROPER(F13)) -> 0283 - Lease Rental Payment | H13: 12 | I13: =IFERROR(VLOOKUP(H13,'Source 2.0 DW (7.8.26)'!A:M,13,FALSE)&" - "&VLOOKUP(H13,'Source 2.0 DW (7.8.26)'!A:P,14,FALSE),"") | L13: =IFERROR(VLOOKUP(ROW(K12),'Selected Unit Finder +Unit List'!H:I,2,FALSE),"") | M13: =IFERROR(VLOOKUP(ROW(K12),'Selected Unit Finder +Unit List'!H:J,3,FALSE),"")
A14: 13 - Crawford County | E14: 0287 | F14: POST09 REF EXEMPT CAPITAL | G14: =_xlfn.CONCAT(E14," - ",PROPER(F14)) -> 0287 - Post09 Ref Exempt Capital | L14: =IFERROR(VLOOKUP(ROW(K13),'Selected Unit Finder +Unit List'!H:I,2,FALSE),"") | M14: =IFERROR(VLOOKUP(ROW(K13),'Selected Unit Finder +Unit List'!H:J,3,FALSE),"")
A15: 14 - Daviess County | E15: 0580 | F15: COURT HOUSE LEASE RENTAL | G15: =_xlfn.CONCAT(E15," - ",PROPER(F15)) -> 0580 - Court House Lease Rental | L15: =IFERROR(VLOOKUP(ROW(K14),'Selected Unit Finder +Unit List'!H:I,2,FALSE),"") | M15: =IFERROR(VLOOKUP(ROW(K14),'Selected Unit Finder +Unit List'!H:J,3,FALSE),"")
A16: 15 - Dearborn County | E16: 0986 | F16: STORM SEWER BOND | G16: =_xlfn.CONCAT(E16," - ",PROPER(F16)) -> 0986 - Storm Sewer Bond | L16: =IFERROR(VLOOKUP(ROW(K15),'Selected Unit Finder +Unit List'!H:I,2,FALSE),"") | M16: =IFERROR(VLOOKUP(ROW(K15),'Selected Unit Finder +Unit List'!H:J,3,FALSE),"")
A17: 16 - Decatur County | E17: 1181 | F17: FIRE BUILDING DEBT | G17: =_xlfn.CONCAT(E17," - ",PROPER(F17)) -> 1181 - Fire Building Debt | L17: =IFERROR(VLOOKUP(ROW(K16),'Selected Unit Finder +Unit List'!H:I,2,FALSE),"") | M17: =IFERROR(VLOOKUP(ROW(K16),'Selected Unit Finder +Unit List'!H:J,3,FALSE),"")
A18: 17 - Dekalb County | E18: 1182 | F18: FIRE EQUIPMENT DEBT | G18: =_xlfn.CONCAT(E18," - ",PROPER(F18)) -> 1182 - Fire Equipment Debt | L18: =IFERROR(VLOOKUP(ROW(K17),'Selected Unit Finder +Unit List'!H:I,2,FALSE),"") | M18: =IFERROR(VLOOKUP(ROW(K17),'Selected Unit Finder +Unit List'!H:J,3,FALSE),"")
A19: 18 - Delaware County | E19: 1183 | F19: FIRE EQUIPMENT BOND | G19: =_xlfn.CONCAT(E19," - ",PROPER(F19)) -> 1183 - Fire Equipment Bond | L19: =IFERROR(VLOOKUP(ROW(K18),'Selected Unit Finder +Unit List'!H:I,2,FALSE),"") | M19: =IFERROR(VLOOKUP(ROW(K18),'Selected Unit Finder +Unit List'!H:J,3,FALSE),"")
A20: 19 - Dubois County | E20: 1185 | F20: JAIL LEASE RENTAL | G20: =_xlfn.CONCAT(E20," - ",PROPER(F20)) -> 1185 - Jail Lease Rental | L20: =IFERROR(VLOOKUP(ROW(K19),'Selected Unit Finder +Unit List'!H:I,2,FALSE),"") | M20: =IFERROR(VLOOKUP(ROW(K19),'Selected Unit Finder +Unit List'!H:J,3,FALSE),"")
A21: 20 - Elkhart County | E21: 1186 | F21: JAIL BOND | G21: =_xlfn.CONCAT(E21," - ",PROPER(F21)) -> 1186 - Jail Bond | L21: =IFERROR(VLOOKUP(ROW(K20),'Selected Unit Finder +Unit List'!H:I,2,FALSE),"") | M21: =IFERROR(VLOOKUP(ROW(K20),'Selected Unit Finder +Unit List'!H:J,3,FALSE),"")
A22: 21 - Fayette County | E22: 1187 | F22: EMERGENCY FIRE LOAN | G22: =_xlfn.CONCAT(E22," - ",PROPER(F22)) -> 1187 - Emergency Fire Loan | L22: =IFERROR(VLOOKUP(ROW(K21),'Selected Unit Finder +Unit List'!H:I,2,FALSE),"") | M22: =IFERROR(VLOOKUP(ROW(K21),'Selected Unit Finder +Unit List'!H:J,3,FALSE),"")
A23: 22 - Floyd County | E23: 1380 | F23: PARK BOND | G23: =_xlfn.CONCAT(E23," - ",PROPER(F23)) -> 1380 - Park Bond | L23: =IFERROR(VLOOKUP(ROW(K22),'Selected Unit Finder +Unit List'!H:I,2,FALSE),"") | M23: =IFERROR(VLOOKUP(ROW(K22),'Selected Unit Finder +Unit List'!H:J,3,FALSE),"")
A24: 23 - Fountain County | E24: 1381 | F24: PARK BOND #2 | G24: =_xlfn.CONCAT(E24," - ",PROPER(F24)) -> 1381 - Park Bond #2 | L24: =IFERROR(VLOOKUP(ROW(K23),'Selected Unit Finder +Unit List'!H:I,2,FALSE),"") | M24: =IFERROR(VLOOKUP(ROW(K23),'Selected Unit Finder +Unit List'!H:J,3,FALSE),"")
A25: 24 - Franklin County | E25: 2380 | F25: CAPITAL IMPROVEMENT BOND | G25: =_xlfn.CONCAT(E25," - ",PROPER(F25)) -> 2380 - Capital Improvement Bond | L25: =IFERROR(VLOOKUP(ROW(K24),'Selected Unit Finder +Unit List'!H:I,2,FALSE),"") | M25: =IFERROR(VLOOKUP(ROW(K24),'Selected Unit Finder +Unit List'!H:J,3,FALSE),"")
... A37: 36 - Jackson County | E37: 8984 | F37: SPECIAL CONSOLIDATED CO MET EMERGENCY COMM AGENCY DEBT | G37: =_xlfn.CONCAT(E37," - ",PROPER(F37)) -> 8984 - Special Consolidated Co Met Emergency Comm Agency Debt | L37: =IFERROR(VLOOKUP(ROW(K36),'Selected Unit Finder +Unit List'!H:I,2,FALSE),"") | M37: =IFERROR(VLOOKUP(ROW(K36),'Selected Unit Finder +Unit List'!H:J,3,FALSE),"")
A38: 37 - Jasper County | L38: =IFERROR(VLOOKUP(ROW(K37),'Selected Unit Finder +Unit List'!H:I,2,FALSE),"") | M38: =IFERROR(VLOOKUP(ROW(K37),'Selected Unit Finder +Unit List'!H:J,3,FALSE),"")
A39: 38 - Jay County | L39: =IFERROR(VLOOKUP(ROW(K38),'Selected Unit Finder +Unit List'!H:I,2,FALSE),"") | M39: =IFERROR(VLOOKUP(ROW(K38),'Selected Unit Finder +Unit List'!H:J,3,FALSE),"")
A40: 39 - Jefferson County | L40: =IFERROR(VLOOKUP(ROW(K39),'Selected Unit Finder +Unit List'!H:I,2,FALSE),"") | M40: =IFERROR(VLOOKUP(ROW(K39),'Selected Unit Finder +Unit List'!H:J,3,FALSE),"")
A41: 40 - Jennings County | L41: =IFERROR(VLOOKUP(ROW(K40),'Selected Unit Finder +Unit List'!H:I,2,FALSE),"") | M41: =IFERROR(VLOOKUP(ROW(K40),'Selected Unit Finder +Unit List'!H:J,3,FALSE),"")
A42: 41 - Johnson County | L42: =IFERROR(VLOOKUP(ROW(K41),'Selected Unit Finder +Unit List'!H:I,2,FALSE),"") | M42: =IFERROR(VLOOKUP(ROW(K41),'Selected Unit Finder +Unit List'!H:J,3,FALSE),"")
A43: 42 - Knox County | L43: =IFERROR(VLOOKUP(ROW(K42),'Selected Unit Finder +Unit List'!H:I,2,FALSE),"") | M43: =IFERROR(VLOOKUP(ROW(K42),'Selected Unit Finder +Unit List'!H:J,3,FALSE),"")
A44: 43 - Kosciusko County | L44: =IFERROR(VLOOKUP(ROW(K43),'Selected Unit Finder +Unit List'!H:I,2,FALSE),"") | M44: =IFERROR(VLOOKUP(ROW(K43),'Selected Unit Finder +Unit List'!H:J,3,FALSE),"")
A45: 44 - Lagrange County | L45: =IFERROR(VLOOKUP(ROW(K44),'Selected Unit Finder +Unit List'!H:I,2,FALSE),"") | M45: =IFERROR(VLOOKUP(ROW(K44),'Selected Unit Finder +Unit List'!H:J,3,FALSE),"")
A46: 45 - Lake County | L46: =IFERROR(VLOOKUP(ROW(K45),'Selected Unit Finder +Unit List'!H:I,2,FALSE),"") | M46: =IFERROR(VLOOKUP(ROW(K45),'Selected Unit Finder +Unit List'!H:J,3,FALSE),"")
A47: 46 - Laporte County | L47: =IFERROR(VLOOKUP(ROW(K46),'Selected Unit Finder +Unit List'!H:I,2,FALSE),"") | M47: =IFERROR(VLOOKUP(ROW(K46),'Selected Unit Finder +Unit List'!H:J,3,FALSE),"")
A48: 47 - Lawrence County | L48: =IFERROR(VLOOKUP(ROW(K47),'Selected Unit Finder +Unit List'!H:I,2,FALSE),"") | M48: =IFERROR(VLOOKUP(ROW(K47),'Selected Unit Finder +Unit List'!H:J,3,FALSE),"")
A49: 48 - Madison County | L49: =IFERROR(VLOOKUP(ROW(K48),'Selected Unit Finder +Unit List'!H:I,2,FALSE),"") | M49: =IFERROR(VLOOKUP(ROW(K48),'Selected Unit Finder +Unit List'!H:J,3,FALSE),"")
... A73: 72 - Scott County | L73: =IFERROR(VLOOKUP(ROW(K72),'Selected Unit Finder +Unit List'!H:I,2,FALSE),"") | M73: =IFERROR(VLOOKUP(ROW(K72),'Selected Unit Finder +Unit List'!H:J,3,FALSE),"")
A74: 73 - Shelby County
...

Sheet Selected Unit Finder +Unit List
A1: Mod | B1: County | C1: Unit Type | D1: Unit code | E1: Unit Name | J1: =A1 -> Mod
A2: =CONCATENATE(B2,C2,D2) -> 0110000 | B2: 01 | C2: 1 | D2: 0000 | E2: ADAMS COUNTY | F2: Adams County | G2: =COUNTIF(B:B,B2) -> 23 | H2: =IF(LEN(I2)>0,1,0) -> 0 | I2: =IF(B2=LEFT('Debt Worksheet'!$C$7,2),'Selected Unit Finder +Unit List'!F2,"") | J2: =A2 -> 0110000
A3: =CONCATENATE(B3,C3,D3) -> 0120001 | B3: 01 | C3: 2 | D3: 0001 | E3: BLUE CREEK TOWNSHIP | F3: Blue Creek Township | G3: =COUNTIF(B:B,B3) -> 23 | H3: =IF(LEN(I3)>0,1+MAX($H$1:H2),0) -> 0 | I3: =IF(B3=LEFT('Debt Worksheet'!$C$7,2),'Selected Unit Finder +Unit List'!F3,"") | J3: =A3 -> 0120001
A4: =CONCATENATE(B4,C4,D4) -> 0120002 | B4: 01 | C4: 2 | D4: 0002 | E4: FRENCH TOWNSHIP | F4: French Township | G4: =COUNTIF(B:B,B4) -> 23 | H4: =IF(LEN(I4)>0,1+MAX($H$1:H3),0) -> 0 | I4: =IF(B4=LEFT('Debt Worksheet'!$C$7,2),'Selected Unit Finder +Unit List'!F4,"") | J4: =A4 -> 0120002
A5: =CONCATENATE(B5,C5,D5) -> 0120003 | B5: 01 | C5: 2 | D5: 0003 | E5: HARTFORD TOWNSHIP | F5: Hartford Township | G5: =COUNTIF(B:B,B5) -> 23 | H5: =IF(LEN(I5)>0,1+MAX($H$1:H4),0) -> 0 | I5: =IF(B5=LEFT('Debt Worksheet'!$C$7,2),'Selected Unit Finder +Unit List'!F5,"") | J5: =A5 -> 0120003
A6: =CONCATENATE(B6,C6,D6) -> 0120004 | B6: 01 | C6: 2 | D6: 0004 | E6: JEFFERSON TOWNSHIP | F6: Jefferson Township | G6: =COUNTIF(B:B,B6) -> 23 | H6: =IF(LEN(I6)>0,1+MAX($H$1:H5),0) -> 0 | I6: =IF(B6=LEFT('Debt Worksheet'!$C$7,2),'Selected Unit Finder +Unit List'!F6,"") | J6: =A6 -> 0120004
A7: =CONCATENATE(B7,C7,D7) -> 0120005 | B7: 01 | C7: 2 | D7: 0005 | E7: KIRKLAND TOWNSHIP | F7: Kirkland Township | G7: =COUNTIF(B:B,B7) -> 23 | H7: =IF(LEN(I7)>0,1+MAX($H$1:H6),0) -> 0 | I7: =IF(B7=LEFT('Debt Worksheet'!$C$7,2),'Selected Unit Finder +Unit List'!F7,"") | J7: =A7 -> 0120005
A8: =CONCATENATE(B8,C8,D8) -> 0120006 | B8: 01 | C8: 2 | D8: 0006 | E8: MONROE TOWNSHIP | F8: Monroe Township | G8: =COUNTIF(B:B,B8) -> 23 | H8: =IF(LEN(I8)>0,1+MAX($H$1:H7),0) -> 0 | I8: =IF(B8=LEFT('Debt Worksheet'!$C$7,2),'Selected Unit Finder +Unit List'!F8,"") | J8: =A8 -> 0120006
A9: =CONCATENATE(B9,C9,D9) -> 0120007 | B9: 01 | C9: 2 | D9: 0007 | E9: PREBLE TOWNSHIP | F9: Preble Township | G9: =COUNTIF(B:B,B9) -> 23 | H9: =IF(LEN(I9)>0,1+MAX($H$1:H8),0) -> 0 | I9: =IF(B9=LEFT('Debt Worksheet'!$C$7,2),'Selected Unit Finder +Unit List'!F9,"") | J9: =A9 -> 0120007
A10: =CONCATENATE(B10,C10,D10) -> 0120008 | B10: 01 | C10: 2 | D10: 0008 | E10: ROOT TOWNSHIP | F10: Root Township | G10: =COUNTIF(B:B,B10) -> 23 | H10: =IF(LEN(I10)>0,1+MAX($H$1:H9),0) -> 0 | I10: =IF(B10=LEFT('Debt Worksheet'!$C$7,2),'Selected Unit Finder +Unit List'!F10,"") | J10: =A10 -> 0120008
A11: =CONCATENATE(B11,C11,D11) -> 0120009 | B11: 01 | C11: 2 | D11: 0009 | E11: ST. MARYS TOWNSHIP | F11: St. Marys Township | G11: =COUNTIF(B:B,B11) -> 23 | H11: =IF(LEN(I11)>0,1+MAX($H$1:H10),0) -> 0 | I11: =IF(B11=LEFT('Debt Worksheet'!$C$7,2),'Selected Unit Finder +Unit List'!F11,"") | J11: =A11 -> 0120009
A12: =CONCATENATE(B12,C12,D12) -> 0120010 | B12: 01 | C12: 2 | D12: 0010 | E12: UNION TOWNSHIP | F12: Union Township | G12: =COUNTIF(B:B,B12) -> 23 | H12: =IF(LEN(I12)>0,1+MAX($H$1:H11),0) -> 0 | I12: =IF(B12=LEFT('Debt Worksheet'!$C$7,2),'Selected Unit Finder +Unit List'!F12,"") | J12: =A12 -> 0120010
A13: =CONCATENATE(B13,C13,D13) -> 0120011 | B13: 01 | C13: 2 | D13: 0011 | E13: WABASH TOWNSHIP | F13: Wabash Township | G13: =COUNTIF(B:B,B13) -> 23 | H13: =IF(LEN(I13)>0,1+MAX($H$1:H12),0) -> 0 | I13: =IF(B13=LEFT('Debt Worksheet'!$C$7,2),'Selected Unit Finder +Unit List'!F13,"") | J13: =A13 -> 0120011
A14: =CONCATENATE(B14,C14,D14) -> 0120012 | B14: 01 | C14: 2 | D14: 0012 | E14: WASHINGTON TOWNSHIP | F14: Washington Township | G14: =COUNTIF(B:B,B14) -> 23 | H14: =IF(LEN(I14)>0,1+MAX($H$1:H13),0) -> 0 | I14: =IF(B14=LEFT('Debt Worksheet'!$C$7,2),'Selected Unit Finder +Unit List'!F14,"") | J14: =A14 -> 0120012
... A2461: =CONCATENATE(B2461,C2461,D2461) -> 9261078 | B2461: 92 | C2461: 6 | D2461: 1078 | E2461: WHITLEY COUNTY SOLID WASTE MANAGEMENT DISTRICT | F2461: Whitley County Solid Waste Management District | G2461: =COUNTIF(B:B,B2461) -> 20 | H2461: =IF(LEN(I2461)>0,1+MAX($H$1:H2460),0) -> 0 | I2461: =IF(B2461=LEFT('Debt Worksheet'!$C$7,2),'Selected Unit Finder +Unit List'!F2461,"") | J2461: =A2461 -> 9261078

Sheet Athena Source (6.30.26)
A1: Fund Mod | B1: County_Code | C1: Unit_Code | D1: Unit_Type | E1: Fund_Code | F1: Total PreLine5 | G1: Total Line5 | H1: Total Line 15 | I1: Total Max Op Bal
A2: 01400150180 | B2: 01 | C2: 0015 | D2: 4 | E2: 0180 | F2: 1723053 | G2: 1723575 | H2: 2731150 | I2: 408772
A3: 01400250180 | B3: 01 | C3: 0025 | D3: 4 | E3: 0180 | F3: 2125725 | G3: 2124325 | H3: 4249850 | I3: 595801
A4: 01400350180 | B4: 01 | C4: 0035 | D4: 4 | E4: 0180 | F4: 1237347 | G4: 1176262 | H4: 2357275 | I4: 933891
A5: 02200121181 | B5: 02 | C5: 0012 | D5: 2 | E5: 1181 | F5: 60738 | G5: 60738 | H5: 121476 | I5: 18221
A6: 02200190180 | B6: 02 | C6: 0019 | D6: 2 | E6: 0180 | F6: 0 | G6: 0 | H6: 0 | I6: 0
A7: 02401250180 | B7: 02 | C7: 0125 | D7: 4 | E7: 0180 | F7: 11491103 | G7: 11482682 | H7: 21634639 | I7: 3335995
A8: 02402250180 | B8: 02 | C8: 0225 | D8: 4 | E8: 0180 | F8: 12479459 | G8: 11442500 | H8: 19561500 | I8: 3274532
A9: 02402250287 | B9: 02 | C9: 0225 | D9: 4 | E9: 0287 | F9: 1324000 | G9: 1324000 | H9: 2651000 | I9: 397350
A10: 02402350180 | B10: 02 | C10: 0235 | D10: 4 | E10: 0180 | F10: 12403800 | G10: 12390163 | H10: 12954727 | I10: 1221020
A11: 02402350287 | B11: 02 | C11: 0235 | D11: 4 | E11: 0287 | F11: 12543500 | G11: 12543500 | H11: 23839000 | I11: 5954200
A12: 02402550180 | B12: 02 | C12: 0255 | D12: 4 | E12: 0180 | F12: 15350050 | G12: 12814675 | H12: 18999425 | I12: 3585708
A13: 02502600180 | B13: 02 | C13: 0260 | D13: 5 | E13: 0180 | F13: 2179084 | G13: 2174100 | H13: 1916750 | I13: 0
... A965: 92486650287 | B965: 92 | C965: 8665 | D965: 4 | E965: 0287 | F965: 3235500 | G965: 3231000 | H965: 6550000 | I965: 982050

Sheet Source F22 (7.08.26)
A1: Major Mod | B1: Major Fund Mod | C1: YR_NBR | D1: Mod | E1: ENTITY_CD | F1: DISTRIBUTION_CD | G1: DISTRIBUTION_DATE_INT | H1: AMT | I1: Major Mod | J1: Major Fund Mod
A2: =IF(D2="","",VLOOKUP(D2,'Source CC List'!B:C,2,FALSE)) -> 0140015 | B2: =IF(E2="","",CONCATENATE(I2,TEXT(E2,"0000"))) -> 01400150180 | C2: 2026 | D2: 0140015 | E2: 0180 | F2: P | G2: 6 | H2: 1944039.2 | I2: =IF(D2="","",VLOOKUP(D2,'Source CC List'!B:C,2,FALSE)) -> 0140015 | J2: =IF(D2="","",CONCATENATE(I2,TEXT(E2,"0000"))) -> 01400150180
A3: =IF(D3="","",VLOOKUP(D3,'Source CC List'!B:C,2,FALSE)) -> 0140025 | B3: =IF(E3="","",CONCATENATE(I3,TEXT(E3,"0000"))) -> 01400250180 | C3: 2026 | D3: 0140025 | E3: 0180 | F3: P | G3: 6 | H3: 2153090 | I3: =IF(D3="","",VLOOKUP(D3,'Source CC List'!B:C,2,FALSE)) -> 0140025 | J3: =IF(D3="","",CONCATENATE(I3,TEXT(E3,"0000"))) -> 01400250180
A4: =IF(D4="","",VLOOKUP(D4,'Source CC List'!B:C,2,FALSE)) -> 0140035 | B4: =IF(E4="","",CONCATENATE(I4,TEXT(E4,"0000"))) -> 01400350180 | C4: 2026 | D4: 0140035 | E4: 0180 | F4: P | G4: 6 | H4: 1249501.6 | I4: =IF(D4="","",VLOOKUP(D4,'Source CC List'!B:C,2,FALSE)) -> 0140035 | J4: =IF(D4="","",CONCATENATE(I4,TEXT(E4,"0000"))) -> 01400350180
A5: =IF(D5="","",VLOOKUP(D5,'Source CC List'!B:C,2,FALSE)) -> 0220012 | B5: =IF(E5="","",CONCATENATE(I5,TEXT(E5,"0000"))) -> 02200121181 | C5: 2026 | D5: 0220012 | E5: 1181 | F5: P | G5: 6 | H5: 66958.2 | I5: =IF(D5="","",VLOOKUP(D5,'Source CC List'!B:C,2,FALSE)) -> 0220012 | J5: =IF(D5="","",CONCATENATE(I5,TEXT(E5,"0000"))) -> 02200121181
A6: =IF(D6="","",VLOOKUP(D6,'Source CC List'!B:C,2,FALSE)) -> 0230424 | B6: =IF(E6="","",CONCATENATE(I6,TEXT(E6,"0000"))) -> 02304240180 | C6: 2026 | D6: 0230424 | E6: 0180 | F6: P | G6: 6 | H6: 239136.17 | I6: =IF(D6="","",VLOOKUP(D6,'Source CC List'!B:C,2,FALSE)) -> 0230424 | J6: =IF(D6="","",CONCATENATE(I6,TEXT(E6,"0000"))) -> 02304240180
A7: =IF(D7="","",VLOOKUP(D7,'Source CC List'!B:C,2,FALSE)) -> 0230424 | B7: =IF(E7="","",CONCATENATE(I7,TEXT(E7,"0000"))) -> 02304240283 | C7: 2026 | D7: 0230424 | E7: 0283 | F7: P | G7: 6 | H7: 268205.7 | I7: =IF(D7="","",VLOOKUP(D7,'Source CC List'!B:C,2,FALSE)) -> 0230424 | J7: =IF(D7="","",CONCATENATE(I7,TEXT(E7,"0000"))) -> 02304240283
A8: =IF(D8="","",VLOOKUP(D8,'Source CC List'!B:C,2,FALSE)) -> 0230424 | B8: =IF(E8="","",CONCATENATE(I8,TEXT(E8,"0000"))) -> 02304241380 | C8: 2026 | D8: 0230424 | E8: 1380 | F8: P | G8: 6 | H8: 177708.74 | I8: =IF(D8="","",VLOOKUP(D8,'Source CC List'!B:C,2,FALSE)) -> 0230424 | J8: =IF(D8="","",CONCATENATE(I8,TEXT(E8,"0000"))) -> 02304241380
A9: =IF(D9="","",VLOOKUP(D9,'Source CC List'!B:C,2,FALSE)) -> 0230424 | B9: =IF(E9="","",CONCATENATE(I9,TEXT(E9,"0000"))) -> 02304241381 | C9: 2026 | D9: 0230424 | E9: 1381 | F9: P | G9: 6 | H9: 76811.1 | I9: =IF(D9="","",VLOOKUP(D9,'Source CC List'!B:C,2,FALSE)) -> 0230424 | J9: =IF(D9="","",CONCATENATE(I9,TEXT(E9,"0000"))) -> 02304241381
A10: =IF(D10="","",VLOOKUP(D10,'Source CC List'!B:C,2,FALSE)) -> 0230424 | B10: =IF(E10="","",CONCATENATE(I10,TEXT(E10,"0000"))) -> 02304240183 | C10: 2026 | D10: 0230424 | E10: 0183 | F10: P | G10: 6 | H10: 61119.45 | I10: =IF(D10="","",VLOOKUP(D10,'Source CC List'!B:C,2,FALSE)) -> 0230424 | J10: =IF(D10="","",CONCATENATE(I10,TEXT(E10,"0000"))) -> 02304240183
A11: =IF(D11="","",VLOOKUP(D11,'Source CC List'!B:C,2,FALSE)) -> 0230424 | B11: =IF(E11="","",CONCATENATE(I11,TEXT(E11,"0000"))) -> 02304240184 | C11: 2026 | D11: 0230424 | E11: 0184 | F11: P | G11: 6 | H11: 119250.13 | I11: =IF(D11="","",VLOOKUP(D11,'Source CC List'!B:C,2,FALSE)) -> 0230424 | J11: =IF(D11="","",CONCATENATE(I11,TEXT(E11,"0000"))) -> 02304240184
A12: =IF(D12="","",VLOOKUP(D12,'Source CC List'!B:C,2,FALSE)) -> 0230523 | B12: =IF(E12="","",CONCATENATE(I12,TEXT(E12,"0000"))) -> 02305230283 | C12: 2026 | D12: 0230523 | E12: 0283 | F12: P | G12: 6 | H12: 54448.85 | I12: =IF(D12="","",VLOOKUP(D12,'Source CC List'!B:C,2,FALSE)) -> 0230523 | J12: =IF(D12="","",CONCATENATE(I12,TEXT(E12,"0000"))) -> 02305230283
A13: =IF(D13="","",VLOOKUP(D13,'Source CC List'!B:C,2,FALSE)) -> 0240125 | B13: =IF(E13="","",CONCATENATE(I13,TEXT(E13,"0000"))) -> 02401250180 | C13: 2026 | D13: 0240125 | E13: 0180 | F13: P | G13: 6 | H13: 12204401 | I13: =IF(D13="","",VLOOKUP(D13,'Source CC List'!B:C,2,FALSE)) -> 0240125 | J13: =IF(D13="","",CONCATENATE(I13,TEXT(E13,"0000"))) -> 02401250180
... A855: =IF(D855="","",VLOOKUP(D855,'Source CC List'!B:C,2,FALSE)) -> 9248665 | B855: =IF(E855="","",CONCATENATE(I855,TEXT(E855,"0000"))) -> 92486650287 | C855: 2026 | D855: 9248665 | E855: 0287 | F855: P | G855: 6 | H855: 3733289.5 | I855: =IF(D855="","",VLOOKUP(D855,'Source CC List'!B:C,2,FALSE)) -> 9248665 | J855: =IF(D855="","",CONCATENATE(I855,TEXT(E855,"0000"))) -> 92486650287
A856: =IF(D856="","",VLOOKUP(D856,'Source CC List'!B:C,2,FALSE)) | B856: =IF(E856="","",CONCATENATE(I856,TEXT(E856,"0000"))) | I856: =IF(D856="","",VLOOKUP(D856,'Source CC List'!B:C,2,FALSE)) | J856: =IF(D856="","",CONCATENATE(I856,TEXT(E856,"0000")))
A857: =IF(D857="","",VLOOKUP(D857,'Source CC List'!B:C,2,FALSE)) | B857: =IF(E857="","",CONCATENATE(I857,TEXT(E857,"0000"))) | I857: =IF(D857="","",VLOOKUP(D857,'Source CC List'!B:C,2,FALSE)) | J857: =IF(D857="","",CONCATENATE(I857,TEXT(E857,"0000")))
A858: =IF(D858="","",VLOOKUP(D858,'Source CC List'!B:C,2,FALSE)) | B858: =IF(E858="","",CONCATENATE(I858,TEXT(E858,"0000"))) | I858: =IF(D858="","",VLOOKUP(D858,'Source CC List'!B:C,2,FALSE)) | J858: =IF(D858="","",CONCATENATE(I858,TEXT(E858,"0000")))
A859: =IF(D859="","",VLOOKUP(D859,'Source CC List'!B:C,2,FALSE)) | B859: =IF(E859="","",CONCATENATE(I859,TEXT(E859,"0000"))) | I859: =IF(D859="","",VLOOKUP(D859,'Source CC List'!B:C,2,FALSE)) | J859: =IF(D859="","",CONCATENATE(I859,TEXT(E859,"0000")))
A860: =IF(D860="","",VLOOKUP(D860,'Source CC List'!B:C,2,FALSE)) | B860: =IF(E860="","",CONCATENATE(I860,TEXT(E860,"0000"))) | I860: =IF(D860="","",VLOOKUP(D860,'Source CC List'!B:C,2,FALSE)) | J860: =IF(D860="","",CONCATENATE(I860,TEXT(E860,"0000")))
A861: =IF(D861="","",VLOOKUP(D861,'Source CC List'!B:C,2,FALSE)) | B861: =IF(E861="","",CONCATENATE(I861,TEXT(E861,"0000"))) | I861: =IF(D861="","",VLOOKUP(D861,'Source CC List'!B:C,2,FALSE)) | J861: =IF(D861="","",CONCATENATE(I861,TEXT(E861,"0000")))
A862: =IF(D862="","",VLOOKUP(D862,'Source CC List'!B:C,2,FALSE)) | B862: =IF(E862="","",CONCATENATE(I862,TEXT(E862,"0000"))) | I862: =IF(D862="","",VLOOKUP(D862,'Source CC List'!B:C,2,FALSE)) | J862: =IF(D862="","",CONCATENATE(I862,TEXT(E862,"0000")))
A863: =IF(D863="","",VLOOKUP(D863,'Source CC List'!B:C,2,FALSE)) | B863: =IF(E863="","",CONCATENATE(I863,TEXT(E863,"0000"))) | I863: =IF(D863="","",VLOOKUP(D863,'Source CC List'!B:C,2,FALSE)) | J863: =IF(D863="","",CONCATENATE(I863,TEXT(E863,"0000")))
A864: =IF(D864="","",VLOOKUP(D864,'Source CC List'!B:C,2,FALSE)) | B864: =IF(E864="","",CONCATENATE(I864,TEXT(E864,"0000"))) | I864: =IF(D864="","",VLOOKUP(D864,'Source CC List'!B:C,2,FALSE)) | J864: =IF(D864="","",CONCATENATE(I864,TEXT(E864,"0000")))
A865: =IF(D865="","",VLOOKUP(D865,'Source CC List'!B:C,2,FALSE)) | B865: =IF(E865="","",CONCATENATE(I865,TEXT(E865,"0000"))) | I865: =IF(D865="","",VLOOKUP(D865,'Source CC List'!B:C,2,FALSE)) | J865: =IF(D865="","",CONCATENATE(I865,TEXT(E865,"0000")))
A866: =IF(D866="","",VLOOKUP(D866,'Source CC List'!B:C,2,FALSE)) | B866: =IF(E866="","",CONCATENATE(I866,TEXT(E866,"0000"))) | I866: =IF(D866="","",VLOOKUP(D866,'Source CC List'!B:C,2,FALSE)) | J866: =IF(D866="","",CONCATENATE(I866,TEXT(E866,"0000")))
A867: =IF(D867="","",VLOOKUP(D867,'Source CC List'!B:C,2,FALSE)) | B867: =IF(E867="","",CONCATENATE(I867,TEXT(E867,"0000"))) | I867: =IF(D867="","",VLOOKUP(D867,'Source CC List'!B:C,2,FALSE)) | J867: =IF(D867="","",CONCATENATE(I867,TEXT(E867,"0000")))
... A7210: =IF(D7210="","",VLOOKUP(D7210,'Source CC List'!B:C,2,FALSE)) | B7210: =IF(E7210="","",CONCATENATE(I7210,TEXT(E7210,"0000"))) | I7210: =IF(D7210="","",VLOOKUP(D7210,'Source CC List'!B:C,2,FALSE)) | J7210: =IF(D7210="","",CONCATENATE(I7210,TEXT(E7210,"0000")))

Sheet Source 2.0 DW (7.8.26)
A1: Unique Funds for Selected Unit | B1: Selected Unit | C1: Selected Unit | D1: Selected Unit/Fund ID | E1: Selected Unit/Fund? | F1: Year | G1: Unit ID | H1: Unit ID + Fund | I1: CountyCode | J1: UnitTypeCode | K1: UnitCode | L1: UnitName | M1: FundCode | N1: FundName | O1: BondId | P1: DebtName | Q1: PriorYearJan1Jun30 | R1: PriorYearJul1Dec31 | S1: BudgetYearJul1Dec31 | T1: FutureYearJan1Jun30 | U1: FutureYearJul1Dec31 | V1: ModifiedBy | W1: ModifiedDate | X1: 15% or 50% | Y1: Max Op Bal
A2: =IF(B2=1,COUNTIF($B$2:B2,1),"") | B2: =IF(C2=1,COUNTIF($H$2:H2,H2),"") | C2: =IF(G2=List!$P$1,1,0) -> 0 | D2: =IF(E2=1,COUNTIF($E$2:E2,1),"") | E2: =IF(H2=List!$P$2,1,"") | F2: 2027 | G2: 0140015 | H2: 01400150180 | I2: 01 | J2: 4 | K2: 0015 | L2: ADAMS CENTRAL COMMUNITY SCHOOL CORPORATION | M2: 0180 | N2: DEBT SERVICE | O2: 0 | P2: Interest on Temporary Loans | W2: 1 | X2: =IFERROR(IF(H2="","",IF(O2=0,0.15,IF(VLOOKUP(O2,'Source Post 14 Status (6.30.26)'!A:B,2,FALSE)=1,0.15,0.5))),0.5) -> 0.15 | Y2: =IF(H2="","",ROUND(MIN((T2+U2)*X2,T2),0)) -> 0
A3: =IF(B3=1,COUNTIF($B$2:B3,1),"") | B3: =IF(C3=1,COUNTIF($H$2:H3,H3),"") | C3: =IF(G3=List!$P$1,1,0) -> 0 | D3: =IF(E3=1,COUNTIF($E$2:E3,1),"") | E3: =IF(H3=List!$P$2,1,"") | F3: 2027 | G3: 0140015 | H3: 01400150180 | I3: 01 | J3: 4 | K3: 0015 | L3: ADAMS CENTRAL COMMUNITY SCHOOL CORPORATION | M3: 0180 | N3: DEBT SERVICE | O3: 26933 | P3: General Obligation Bond Series 2025 | Q3: 361603 | R3: 357000 | V3: cookd@accs.k12.in.us | W3: 46202.399 | X3: =IFERROR(IF(H3="","",IF(O3=0,0.15,IF(VLOOKUP(O3,'Source Post 14 Status (6.30.26)'!A:B,2,FALSE)=1,0.15,0.5))),0.5) -> 0.15 | Y3: =IF(H3="","",ROUND(MIN((T3+U3)*X3,T3),0)) -> 0
A4: =IF(B4=1,COUNTIF($B$2:B4,1),"") | B4: =IF(C4=1,COUNTIF($H$2:H4,H4),"") | C4: =IF(G4=List!$P$1,1,0) -> 0 | D4: =IF(E4=1,COUNTIF($E$2:E4,1),"") | E4: =IF(H4=List!$P$2,1,"") | F4: 2027 | G4: 0140015 | H4: 01400150180 | I4: 01 | J4: 4 | K4: 0015 | L4: ADAMS CENTRAL COMMUNITY SCHOOL CORPORATION | M4: 0180 | N4: DEBT SERVICE | O4: 12369 | P4: Series 2017 Adams Central Elem Schl Bldg Corp Ad Valorem Property Tax 1st Mortgage Bonds | Q4: 1056200 | R4: 1058700 | S4: 2117900 | T4: 1058325 | U4: 1058950 | V4: cookd@accs.k12.in.us | W4: 46202.404 | X4: =IFERROR(IF(H4="","",IF(O4=0,0.15,IF(VLOOKUP(O4,'Source Post 14 Status (6.30.26)'!A:B,2,FALSE)=1,0.15,0.5))),0.5) -> 0.15 | Y4: =IF(H4="","",ROUND(MIN((T4+U4)*X4,T4),0)) -> 317591
A5: =IF(B5=1,COUNTIF($B$2:B5,1),"") | B5: =IF(C5=1,COUNTIF($H$2:H5,H5),"") | C5: =IF(G5=List!$P$1,1,0) -> 0 | D5: =IF(E5=1,COUNTIF($E$2:E5,1),"") | E5: =IF(H5=List!$P$2,1,"") | F5: 2027 | G5: 0140015 | H5: 01400150180 | I5: 01 | J5: 4 | K5: 0015 | L5: ADAMS CENTRAL COMMUNITY SCHOOL CORPORATION | M5: 0180 | N5: DEBT SERVICE | O5: 0 | P5: Anticipated Debt Service | W5: 1 | X5: =IFERROR(IF(H5="","",IF(O5=0,0.15,IF(VLOOKUP(O5,'Source Post 14 Status (6.30.26)'!A:B,2,FALSE)=1,0.15,0.5))),0.5) -> 0.15 | Y5: =IF(H5="","",ROUND(MIN((T5+U5)*X5,T5),0)) -> 0
A6: =IF(B6=1,COUNTIF($B$2:B6,1),"") | B6: =IF(C6=1,COUNTIF($H$2:H6,H6),"") | C6: =IF(G6=List!$P$1,1,0) -> 0 | D6: =IF(E6=1,COUNTIF($E$2:E6,1),"") | E6: =IF(H6=List!$P$2,1,"") | F6: 2027 | G6: 0140015 | H6: 01400150180 | I6: 01 | J6: 4 | K6: 0015 | L6: ADAMS CENTRAL COMMUNITY SCHOOL CORPORATION | M6: 0180 | N6: DEBT SERVICE | O6: 21053 | P6: Adams Central Community School Corporation General Obligation Bonds of 2023 | Q6: 110250 | R6: 112875 | S6: 223250 | T6: 110250 | U6: 107625 | V6: cookd@accs.k12.in.us | W6: 46202.402 | X6: =IFERROR(IF(H6="","",IF(O6=0,0.15,IF(VLOOKUP(O6,'Source Post 14 Status (6.30.26)'!A:B,2,FALSE)=1,0.15,0.5))),0.5) -> 0.15 | Y6: =IF(H6="","",ROUND(MIN((T6+U6)*X6,T6),0)) -> 32681
A7: =IF(B7=1,COUNTIF($B$2:B7,1),"") | B7: =IF(C7=1,COUNTIF($H$2:H7,H7),"") | C7: =IF(G7=List!$P$1,1,0) -> 0 | D7: =IF(E7=1,COUNTIF($E$2:E7,1),"") | E7: =IF(H7=List!$P$2,1,"") | F7: 2027 | G7: 0140015 | H7: 01400150180 | I7: 01 | J7: 4 | K7: 0015 | L7: ADAMS CENTRAL COMMUNITY SCHOOL CORPORATION | M7: 0180 | N7: DEBT SERVICE | O7: 22408 | P7: Series 2024 Adams Central Schl Bldg Corp Ad Valorem Prop Tax 1st Mortgage Bonds | Q7: 195000 | R7: 195000 | S7: 390000 | T7: 195000 | U7: 195000 | V7: cookd@accs.k12.in.us | W7: 46202.414 | X7: =IFERROR(IF(H7="","",IF(O7=0,0.15,IF(VLOOKUP(O7,'Source Post 14 Status (6.30.26)'!A:B,2,FALSE)=1,0.15,0.5))),0.5) -> 0.15 | Y7: =IF(H7="","",ROUND(MIN((T7+U7)*X7,T7),0)) -> 58500
A8: =IF(B8=1,COUNTIF($B$2:B8,1),"") | B8: =IF(C8=1,COUNTIF($H$2:H8,H8),"") | C8: =IF(G8=List!$P$1,1,0) -> 0 | D8: =IF(E8=1,COUNTIF($E$2:E8,1),"") | E8: =IF(H8=List!$P$2,1,"") | F8: 2027 | G8: 0140025 | H8: 01400250180 | I8: 01 | J8: 4 | K8: 0025 | L8: NORTH ADAMS COMMUNITY SCHOOL CORPORATION | M8: 0180 | N8: DEBT SERVICE | O8: 22886 | P8: North Adams Community Schools General Obligation Bonds of 2024 | Q8: 146625 | R8: 149375 | S8: 298500 | T8: 149000 | U8: 151375 | V8: quinnb@nadams.k12.in.us | W8: 46199.381 | X8: =IFERROR(IF(H8="","",IF(O8=0,0.15,IF(VLOOKUP(O8,'Source Post 14 Status (6.30.26)'!A:B,2,FALSE)=1,0.15,0.5))),0.5) -> 0.15 | Y8: =IF(H8="","",ROUND(MIN((T8+U8)*X8,T8),0)) -> 45056
A9: =IF(B9=1,COUNTIF($B$2:B9,1),"") | B9: =IF(C9=1,COUNTIF($H$2:H9,H9),"") | C9: =IF(G9=List!$P$1,1,0) -> 0 | D9: =IF(E9=1,COUNTIF($E$2:E9,1),"") | E9: =IF(H9=List!$P$2,1,"") | F9: 2027 | G9: 0140025 | H9: 01400250180 | I9: 01 | J9: 4 | K9: 0025 | L9: NORTH ADAMS COMMUNITY SCHOOL CORPORATION | M9: 0180 | N9: DEBT SERVICE | O9: 0 | P9: Anticipated Debt Service | W9: 1 | X9: =IFERROR(IF(H9="","",IF(O9=0,0.15,IF(VLOOKUP(O9,'Source Post 14 Status (6.30.26)'!A:B,2,FALSE)=1,0.15,0.5))),0.5) -> 0.15 | Y9: =IF(H9="","",ROUND(MIN((T9+U9)*X9,T9),0)) -> 0
