{"text_format":"1","workbook":"xlsx","n_sheets":6,"sheets":["CYFW Transition Template","Line 1 Source","Line 1 Support 1","School List","County List","SQL"],"not_rendered":{"charts":0,"images":0,"macros":0,"external_links":0,"defined_names":2,"comments":0,"pivot_tables":0},"unopened":[],"bounds":{"document_bytes":16777216,"sheet_cells":100000,"rows_first":2000,"rows_last":500,"rows_between":2000,"halvings":0,"cell_chars":16384,"cell_head_chars":4096},"cells_cut":0,"cells_raw":0,"read":"whole","date_system":"1900"}

{"sheet":"CYFW Transition Template","index":0,"n_rows":40,"n_cols":21,"rows_kept":40,"cut":false,"hidden":false,"merged":[[18,0,18,1],[14,0,14,1],[0,7,0,10],[0,2,0,6],[3,0,3,10],[4,0,4,1],[5,0,5,1],[15,0,15,10],[7,0,7,1],[8,0,8,1],[9,0,9,1],[10,0,10,10],[11,0,11,1],[13,0,13,1],[6,0,6,1],[0,0,2,1],[16,0,16,1],[17,0,17,10],[37,1,37,9],[12,0,12,1],[39,1,39,2],[1,9,2,9],[30,0,36,10],[25,0,25,10],[26,0,26,1],[27,0,27,10],[28,0,28,1],[29,0,29,10],[19,0,19,1],[20,0,20,1],[21,0,21,1],[22,0,22,10],[23,0,23,1],[24,0,24,1]]}
["2019 CYFW \nTransition Template",null,"Select School Corporation Name",null,null,null,null,{"$f":"IF(J9>0,\"*See Warning Below*\",\"\")","v":""},null,null,null,null,null,null,null,null,null,null,null,null,"."]
[null,null,1214,6301,6302,"0235","0608",1216,1324,"Negative\n Line 2 Adjustment *****","0300"]
[null,null,"CAPITAL PROJECTS","TRANSPORTATION","BUS REPLACEMENT","ART ASSOCIATION","HISTORICAL SOCIETY","RACIAL BALANCE","PLAYGROUND ",null,"OPERATIONS",null,null,null,null,null,null,null,"."]
["     APPROPRIATIONS"]
["(1)    Current Year Approved Budget \n         (Current Year Fund Report Line 1)",null,{"$f":"IFERROR(VLOOKUP(CONCATENATE($C$1,$C$2),'Line 1 Support 1'!$D$2:$I$2500,6,FALSE),0)","v":0},{"$f":"IFERROR(VLOOKUP(CONCATENATE($C$1,$D$2),'Line 1 Support 1'!$D$2:$I$2500,6,FALSE),0)","v":0},{"$f":"IFERROR(VLOOKUP(CONCATENATE($C$1,$E$2),'Line 1 Support 1'!$D$2:$I$2500,6,FALSE),0)","v":0},{"$f":"IFERROR(VLOOKUP(CONCATENATE($C$1,$F$2),'Line 1 Support 1'!$D$2:$I$2500,6,FALSE),0)","v":0},{"$f":"IFERROR(VLOOKUP(CONCATENATE($C$1,$G$2),'Line 1 Support 1'!$D$2:$I$2500,6,FALSE),0)","v":0},{"$f":"IFERROR(VLOOKUP(CONCATENATE($C$1,$H$2),'Line 1 Support 1'!$D$2:$I$2500,6,FALSE),0)","v":0},{"$f":"IFERROR(VLOOKUP(CONCATENATE($C$1,$I$2),'Line 1 Support 1'!$D$2:$I$2500,6,FALSE),0)","v":0},null,{"$f":"SUM(C5:I5)","v":0}]
["(2)    Encumbrances Brought Forward from \n          Previous Year",null,null,null,null,null,null,null,null,null,{"$f":"SUM(C6:I6)","v":0}]
["(3a)  Additional Appropriations \n          (January 1st to June 30th)",null,null,null,null,null,null,null,null,null,{"$f":"SUM(C7:I7)","v":0}]
["(3b)  Reductions (Entered as Positive)\n          (January 1st to June 30th)",null,null,null,null,null,null,null,null,null,{"$f":"SUM(C8:I8)","v":0}]
["(4)   Other Non-Appropriated Obligations",null,null,null,null,null,null,null,null,{"$f":"SUMIF(C15:I15,\"<0\")*-1","v":0},{"$f":"SUM(C9:J9)","v":0}]
["(5)   Total Approved Appropriations \n         (Lines 1 + 2 + 3a - 3b + 4)",null,{"$f":"+C5+C6+C7-C8+C9","v":0},0,0,0,0,0,0,null,{"$f":"+K5+K6+K7-K8+K9","v":0}]
["     DISBURSEMENTS",null,"//////////////////////////////////////////////////////////////////////////////////////////////////////////////////////////////////////////////////////////////////////////////////////////////////////////////////////////////////////////////////////////////////////////////////////////////////////////////////////////////////////////////////////////////",null,null,null,null,null,null,null,"////////////////////////////////////////",null,null,null,null,null,null,null,null,null,"."]
["(6)    Current Year Disbursements * \n          (January 1st to June 30th)",null,null,null,null,null,null,null,null,null,{"$f":"SUM(C12:I12)","v":0}]
["(7)    Appropriation Balance \n         (Row 5 minus Row 6)",null,{"$f":"+C10-C12","v":0},{"$f":"D10-D12","v":0},{"$f":"E10-E12","v":0},0,0,0,0,null,{"$f":"K10-K12","v":0}]
["(8)   Reductions July thru December **",null,null,null,null,null,null,null,null,null,{"$f":"SUM(C14:I14)","v":0}]
["(9)   Line 2 on Budget Form 4B \n        (Row 7 minus Row 8) ",null,{"$f":"+C13-C14","v":0},{"$f":"+D13-D14","v":0},0,0,0,0,0,null,{"$f":"K13-K14","v":0}]
["    Line 3 on Budget Form 4B",null,"//////////////////////////////////////////////////////////////////////////////////////////////////////////////////////////////////////////////////////////////////////////////////////////////////////////////////////////////////////////////////////////////////////////////////////////////////////////////////////////////////////////////////////////////",null,null,null,null,null,null,null,"////////////////////////////////////////"]
["(10)   Budget Form 4B Line 3\n     (Additional Appropriations July 1 to Dec 31)",null,null,null,null,null,null,null,null,null,{"$f":"SUM(C17:I17)","v":0}]
["    Line 4A on Budget Form 4B",null,"//////////////////////////////////////////////////////////////////////////////////////////////////////////////////////////////////////////////////////////////////////////////////////////////////////////////////////////////////////////////////////////////////////////////////////////////////////////////////////////////////////////////////////////////",null,null,null,null,null,null,null,"////////////////////////////////////////"]
["(11)   Levy excess not transferred prior to 6/30 ***",null,null,null,null,null,null,null,null,null,{"$f":"SUM(C19:I19)","v":0}]
["(12)  Temporary Loan outstanding as of 6/30 Or Transfer",null,null,null,null,null,null,null,null,null,{"$f":"SUM(C20:I20)","v":0}]
["Loan owed to / or transferred from "]
["(13) TOTAL: Budget Form 4B Line 4A\n         (Row 11 plus Row 12)",null,{"$f":"+C19+C20","v":0},{"$f":"+D19+D20","v":0},0,0,0,0,0,null,{"$f":"K19+K20","v":0}]
["    Line 4B Budget Form 4B",null,"//////////////////////////////////////////////////////////////////////////////////////////////////////////////////////////////////////////////////////////////////////////////////////////////////////////////////////////////////////////////////////////////////////////////////////////////////////////////////////////////////////////////////////////////",null,null,null,null,null,null,null,"////////////////////////////////////////"]
["(14) Temporary Loans to be repaid in 2019 / or Transfers  \n           to be made first 6 months of ensuing year",null,null,null,null,null,null,null,null,null,{"$f":"SUM(C24:I24)","v":0}]
["Loan owed to / or transferred from "]
["    Line 6 Budget Form 4B",null,"//////////////////////////////////////////////////////////////////////////////////////////////////////////////////////////////////////////////////////////////////////////////////////////////////////////////////////////////////////////////////////////////////////////////////////////////////////////////////////////////////////////////////////////////",null,null,null,null,null,null,null,"////////////////////////////////////////"]
["(15) June 30 Cash Balance Line 6  \n          (Including Investments)",null,null,null,null,null,null,null,null,null,{"$f":"SUM(C27:I27)","v":0}]
["    Line 7 Budget Form 4B",null,"//////////////////////////////////////////////////////////////////////////////////////////////////////////////////////////////////////////////////////////////////////////////////////////////////////////////////////////////////////////////////////////////////////////////////////////////////////////////////////////////////////////////////////////////",null,null,null,null,null,null,null,"////////////////////////////////////////"]
["(16) Line 7 Taxes to be collected \n          at December settlement",null,null,null,null,null,null,null,null,null,{"$f":"SUM(C29:I29)","v":0}]
["Additional Notes:"]
["*      Include only disbursements charged against appropriations, including any listed in line (4)\n\n**      Attach copy of fiscal body resolutions when reducing current year appropriations\n\n***    Levy Excess is any additional levy revenue collected(with the exception of delinquent taxes) above the certified levy.  A designated amount and the fund the transfer is to be completed is provided on the certified budget order.\n\n****   Each fund providing the loan should have a reimbursement or loan repayment indicated in Miscellaneous Revenue (Budget Form 2) Column 8A for (12) & Column 8B for (14)\n\n*****  Negative Line 2 amounts (9) are to be treated as zero in order to accurately reflect the total remaining appropriations. An adjustment is being made to the Operation Fund's Non-Appropriated Obligations (4) field to negate  \n           any negative values on Line 2 (9). "]
[]
[]
[]
[]
[]
[]
[null,{"$f":"IF(J9>0,\"     Warning: According to current estimates, the current year appropriations have been overspent and an additional appropriation will likely be needed. Please contact your Budget Field Representative.\",\"\")","v":""}]
[]
["Last Saved:",{"$f":"TODAY()","v":"2018-07-06"}]

{"sheet":"Line 1 Source","index":1,"n_rows":2215,"n_cols":6,"rows_kept":2215,"cut":false,"hidden":true,"merged":[]}
["YR_NBR","CNTY_CD","UNIT_TYPE_CD","UNIT_CD","FUND_CD","CERTD_APPROP_AMT"]
["2018","01","4","0015","0061",565164]
["2018","01","4","0015","0101",8770340]
["2018","01","4","0015","0180",2090680]
["2018","01","4","0015","1214",1360010]
["2018","01","4","0015","6301",888081]
["2018","01","4","0015","6302",229493]
["2018","01","4","0025","0061",2616]
["2018","01","4","0025","0101",12145244]
["2018","01","4","0025","0180",3220575]
["2018","01","4","0025","0186",633756]
["2018","01","4","0025","1214",2188811]
["2018","01","4","0025","6301",1167211]
["2018","01","4","0025","6302",111242]
["2018","01","4","0035","0061",1585148]
["2018","01","4","0035","0101",9317817]
["2018","01","4","0035","0180",2025855]
["2018","01","4","0035","1214",1648670]
["2018","01","4","0035","6301",1525000]
["2018","01","4","0035","6302",228000]
["2018","02","4","0125","0022",3750000]
["2018","02","4","0125","0101",45163735]
["2018","02","4","0125","0180",9239072]
["2018","02","4","0125","0186",0]
["2018","02","4","0125","1214",8241469]
["2018","02","4","0125","6301",3305500]
["2018","02","4","0125","6302",886098]
["2018","02","4","0225","0101",47680373]
["2018","02","4","0225","0180",14229555]
["2018","02","4","0225","1214",5157306]
["2018","02","4","0225","6301",3588356]
["2018","02","4","0225","6302",1041713]
["2018","02","4","0235","0101",222193797]
["2018","02","4","0235","0180",4305769]
["2018","02","4","0235","0186",3520847]
["2018","02","4","0235","0287",17531000]
["2018","02","4","0235","1214",19386929]
["2018","02","4","0235","1216",7124995]
["2018","02","4","0235","2016",166971]
["2018","02","4","0235","6301",17798989]
["2018","02","4","0235","6302",3367779]
["2018","02","4","0255","0101",66335042]
["2018","02","4","0255","0180",8203772]
["2018","02","4","0255","0186",727801]
["2018","02","4","0255","1214",9985131]
["2018","02","4","0255","2016",44894]
["2018","02","4","0255","6301",6945711]
["2018","02","4","0255","6302",973466]
["2018","03","4","0365","0101",75340489]
["2018","03","4","0365","0180",9853500]
["2018","03","4","0365","0186",313727]
["2018","03","4","0365","0187",7925000]
["2018","03","4","0365","1214",14198497]
["2018","03","4","0365","6301",6076721]
["2018","03","4","0365","6302",1075800]
["2018","03","4","0370","0101",5628000]
["2018","03","4","0370","0180",298900]
["2018","03","4","0370","0187",1520000]
["2018","03","4","0370","1214",739851]
["2018","03","4","0370","6301",365000]
["2018","03","4","0370","6302",112000]
["2018","03","4","4215","0061",0]
["2018","03","4","4215","0101",0]
["2018","03","4","4215","0180",0]
["2018","03","4","4215","0186",0]
["2018","03","4","4215","1214",0]
["2018","03","4","4215","6301",0]
["2018","03","4","4215","6302",0]
["2018","04","4","0395","0061",1000000]
["2018","04","4","0395","0101",15591660]
["2018","04","4","0395","0180",2670682]
["2018","04","4","0395","0186",249008]
["2018","04","4","0395","1214",3279474]
["2018","04","4","0395","6301",3337498]
["2018","04","4","0395","6302",718750]
["2018","04","4","5995","0061",0]
["2018","04","4","5995","0101",0]
["2018","04","4","5995","0180",0]
["2018","04","4","5995","1214",0]
["2018","04","4","5995","6301",0]
["2018","04","4","5995","6302",0]
["2018","04","4","8535","0022",0]
["2018","04","4","8535","0061",0]
["2018","04","4","8535","0101",0]
["2018","04","4","8535","0180",0]
["2018","04","4","8535","1214",0]
["2018","04","4","8535","6301",0]
["2018","04","4","8535","6302",0]
["2018","05","4","0515","0101",13260000]
["2018","05","4","0515","0180",1962833]
["2018","05","4","0515","0186",338787]
["2018","05","4","0515","1214",1400000]
["2018","05","4","0515","6301",831500]
["2018","05","4","0515","6302",225000]
["2018","05","4","3945","0101",0]
["2018","05","4","3945","0180",0]
["2018","05","4","3945","0186",0]
["2018","05","4","3945","1214",0]
["2018","05","4","3945","6301",0]
["2018","05","4","3945","6302",0]
["2018","06","4","0615","0061",475000]
["2018","06","4","0615","0101",11834600]
["2018","06","4","0615","0180",3802347]
["2018","06","4","0615","1214",1480473]
["2018","06","4","0615","6301",1700500]
["2018","06","4","0615","6302",405000]
["2018","06","4","0630","0022",7822098]
["2018","06","4","0630","0061",5000]
["2018","06","4","0630","0101",47943908]
["2018","06","4","0630","0180",20905891]
["2018","06","4","0630","0186",656188]
["2018","06","4","0630","1214",4975925]
["2018","06","4","0630","6301",4882326]
["2018","06","4","0630","6302",244230]
["2018","06","4","0665","0061",1000000]
["2018","06","4","0665","0101",23960005]
["2018","06","4","0665","0180",3855087]
["2018","06","4","0665","0186",306615]
["2018","06","4","0665","0287",5363000]
["2018","06","4","0665","1214",3250934]
["2018","06","4","0665","6301",2098850]
["2018","06","4","0665","6302",444000]
["2018","06","4","3055","0022",0]
["2018","06","4","3055","0061",0]
["2018","06","4","3055","0101",0]
["2018","06","4","3055","0180",0]
["2018","06","4","3055","0186",0]
["2018","06","4","3055","1214",0]
["2018","06","4","3055","6301",0]
["2018","06","4","3055","6302",0]
["2018","07","4","0670","0021",0]
["2018","07","4","0670","0022",1011164]
["2018","07","4","0670","0061",0]
["2018","07","4","0670","0101",14928751]
["2018","07","4","0670","0180",4180526]
["2018","07","4","0670","1214",2048714]
["2018","07","4","0670","6301",3445000]
["2018","07","4","0670","6302",270000]
["2018","08","4","0750","0061",100000]
["2018","08","4","0750","0101",7655850]
["2018","08","4","0750","0180",1055380]
["2018","08","4","0750","1214",1438588]
["2018","08","4","0750","6301",582941]
["2018","08","4","0750","6302",222981]
["2018","08","4","0755","0061",410000]
["2018","08","4","0755","0101",9082829]
["2018","08","4","0755","0180",1772942]
["2018","08","4","0755","0186",185842]
["2018","08","4","0755","1214",1248311]
["2018","08","4","0755","6301",1814805]
["2018","08","4","0755","6302",247055]
["2018","08","4","1180","0061",0]
["2018","08","4","1180","0101",0]
["2018","08","4","1180","0180",0]
["2018","08","4","1180","1214",0]
["2018","08","4","1180","6301",0]
["2018","08","4","1180","6302",0]
["2018","08","4","8565","0061",0]
["2018","08","4","8565","0101",0]
["2018","08","4","8565","0180",0]
["2018","08","4","8565","1214",0]
["2018","08","4","8565","6301",0]
["2018","08","4","8565","6302",0]
["2018","09","4","0775","0061",400000]
["2018","09","4","0775","0101",6794154]
["2018","09","4","0775","0180",763085]
["2018","09","4","0775","0186",156760]
["2018","09","4","0775","1214",1307975]
["2018","09","4","0775","6301",1120892]
["2018","09","4","0775","6302",98887]
["2018","09","4","0815","0061",63320]
["2018","09","4","0815","0101",8972704]
["2018","09","4","0815","0180",1553979]
["2018","09","4","0815","1214",1472376]
["2018","09","4","0815","6301",1191881]
["2018","09","4","0815","6302",268871]
["2018","09","4","0875","0101",30585079]
["2018","09","4","0875","0180",5269370]
["2018","09","4","0875","0186",456860]
["2018","09","4","0875","1214",1738846]
["2018","09","4","0875","6301",1178179]
["2018","09","4","0875","6302",222683]
["2018","09","4","2650","0061",0]
["2018","09","4","2650","0101",0]
["2018","09","4","2650","0180",0]
["2018","09","4","2650","1214",0]
["2018","09","4","2650","6301",0]
["2018","09","4","2650","6302",0]
["2018","10","4","0940","0101",32348300]
["2018","10","4","0940","0180",6919887]
["2018","10","4","0940","0186",585022]
["2018","10","4","0940","1214",3700000]
["2018","10","4","0940","6301",2936888]
["2018","10","4","0940","6302",631374]
["2018","10","4","1000","0061",250000]
["2018","10","4","1000","0101",10378430]
["2018","10","4","1000","0180",2970718]
["2018","10","4","1000","0186",0]
["2018","10","4","1000","1214",1250805]
["2018","10","4","1000","6301",501463]
["2018","10","4","1000","6302",167430]
["2018","10","4","1010","0061",1500000]
["2018","10","4","1010","0101",69717289]
["2018","10","4","1010","0180",13353320]
["2018","10","4","1010","0186",1259459]
["2018","10","4","1010","1214",6457384]
["2018","10","4","1010","6301",5473063]
["2018","10","4","1010","6302",927650]
["2018","11","4","1125","0101",31276660]
["2018","11","4","1125","0180",4965227]
["2018","11","4","1125","1214",5599331]
["2018","11","4","1125","6301",4187113]
["2018","11","4","1125","6302",553497]
["2018","11","4","2960","0101",5533836]
["2018","11","4","2960","0180",621843]
["2018","11","4","2960","0186",170399]
["2018","11","4","2960","1214",530000]
["2018","11","4","2960","6301",350000]
["2018","11","4","2960","6302",98663]
["2018","12","4","1150","0022",675000]
["2018","12","4","1150","0061",449576]
["2018","12","4","1150","0101",6515799]
["2018","12","4","1150","0180",1519270]
["2018","12","4","1150","0186",98026]
["2018","12","4","1150","1214",828382]
["2018","12","4","1150","6301",608166]
["2018","12","4","1150","6302",258782]
["2018","12","4","1160","0061",500000]
["2018","12","4","1160","0101",7624000]
["2018","12","4","1160","0180",1547077]
["2018","12","4","1160","0186",326813]
["2018","12","4","1160","1214",1058446]
["2018","12","4","1160","6301",845188]
["2018","12","4","1160","6302",163000]
["2018","12","4","1170","0061",125000]
["2018","12","4","1170","0101",22320893]
["2018","12","4","1170","0180",3566341]
["2018","12","4","1170","0186",362541]
["2018","12","4","1170","0287",2174000]
["2018","12","4","1170","1214",1338816]
["2018","12","4","1170","6301",794672]
["2018","12","4","1170","6302",121298]
["2018","12","4","1180","0061",148995]
["2018","12","4","1180","0101",6158030]
["2018","12","4","1180","0180",1243000]
["2018","12","4","1180","1214",748727]
["2018","12","4","1180","6301",480000]
["2018","12","4","1180","6302",166319]
["2018","13","4","1300","0061",215000]
["2018","13","4","1300","0101",10198722]
["2018","13","4","1300","0180",1550885]
["2018","13","4","1300","0186",411892]
["2018","13","4","1300","1214",1029500]
["2018","13","4","1300","6301",1510637]
["2018","13","4","1300","6302",2875]
["2018","14","4","1315","0022",1200000]
["2018","14","4","1315","0061",250000]
["2018","14","4","1315","0101",5100000]
["2018","14","4","1315","0180",589891]
["2018","14","4","1315","0186",228101]
["2018","14","4","1315","1214",775502]
["2018","14","4","1315","6301",532247]
["2018","14","4","1315","6302",0]
["2018","14","4","1375","0061",1000000]
["2018","14","4","1375","0101",7970636]
["2018","14","4","1375","0180",1232313]
["2018","14","4","1375","1214",1652393]
["2018","14","4","1375","6301",989558]
["2018","14","4","1375","6302",75083]
["2018","14","4","1405","0061",250000]
["2018","14","4","1405","0101",18250000]
["2018","14","4","1405","0180",2884703]
["2018","14","4","1405","0186",1213610]
["2018","14","4","1405","1214",899188]
["2018","14","4","1405","6301",922692]
["2018","14","4","1405","6302",109394]
["2018","15","4","1560","0061",850000]
["2018","15","4","1560","0101",25870000]
["2018","15","4","1560","0180",6863591]
["2018","15","4","1560","0186",1070441]
["2018","15","4","1560","1214",3091712]
["2018","15","4","1560","6301",3551435]
["2018","15","4","1560","6302",1118000]
["2018","15","4","1600","0061",500000]
["2018","15","4","1600","0101",18625000]
["2018","15","4","1600","0180",4512642]
["2018","15","4","1600","0186",216077]
["2018","15","4","1600","1214",1474392]
["2018","15","4","1600","6301",1847164]
["2018","15","4","1600","6302",0]
["2018","15","4","1620","0061",2450000]
["2018","15","4","1620","0101",16094022]
["2018","15","4","1620","0180",2690575]
["2018","15","4","1620","1214",1865651]
["2018","15","4","1620","6301",667315]
["2018","15","4","1620","6302",0]
["2018","16","4","1655","0061",300000]
["2018","16","4","1655","0101",15576805]
["2018","16","4","1655","0180",2273015]
["2018","16","4","1655","0186",216258]
["2018","16","4","1655","1214",1946814]
["2018","16","4","1655","6301",1656000]
["2018","16","4","1655","6302",371456]
["2018","16","4","1730","0061",500000]
["2018","16","4","1730","0101",17955835]
["2018","16","4","1730","0180",2862991]
["2018","16","4","1730","1214",3083746]
["2018","16","4","1730","6301",1355875]
["2018","16","4","1730","6302",285000]
["2018","17","4","1805","0061",1152033]
["2018","17","4","1805","0101",9700169]
["2018","17","4","1805","0180",2066023]
["2018","17","4","1805","1214",2574675]
["2018","17","4","1805","6301",1424224]
["2018","17","4","1805","6302",259261]
["2018","17","4","1820","0061",150000]
["2018","17","4","1820","0101",12200000]
["2018","17","4","1820","0180",2477935]
["2018","17","4","1820","1214",1142810]
["2018","17","4","1820","6301",805000]
["2018","17","4","1820","6302",255000]
["2018","17","4","1835","0061",800000]
["2018","17","4","1835","0101",24500000]
["2018","17","4","1835","0180",4508677]
["2018","17","4","1835","1214",3774000]
["2018","17","4","1835","6301",2823802]
["2018","17","4","1835","6302",550000]
["2018","17","4","7610","0022",0]
["2018","17","4","7610","0061",0]
["2018","17","4","7610","0101",0]
["2018","17","4","7610","0180",0]
["2018","17","4","7610","1214",0]
["2018","17","4","7610","6301",0]
["2018","17","4","7610","6302",0]
["2018","18","4","1875","0061",300000]
["2018","18","4","1875","0101",19600000]
["2018","18","4","1875","0180",1998676]
["2018","18","4","1875","0186",384329]
["2018","18","4","1875","1214",2596874]
["2018","18","4","1875","6301",2350000]
["2018","18","4","1875","6302",525000]
["2018","18","4","1885","0061",400000]
["2018","18","4","1885","0101",6300000]
["2018","18","4","1885","0180",801901]
["2018","18","4","1885","1214",682310]
["2018","18","4","1885","6301",779790]
["2018","18","4","1885","6302",260000]
["2018","18","4","1895","0061",117603]
["2018","18","4","1895","0101",8500000]
["2018","18","4","1895","0180",706955]
["2018","18","4","1895","0186",315721]
["2018","18","4","1895","1214",706880]
["2018","18","4","1895","6301",764526]
["2018","18","4","1895","6302",90149]
["2018","18","4","1900","0061",400000]
["2018","18","4","1900","0101",5728395]
["2018","18","4","1900","0180",646537]
["2018","18","4","1900","1214",521947]
["2018","18","4","1900","6301",554429]
["2018","18","4","1900","6302",184687]
["2018","18","4","1910","0061",500000]
["2018","18","4","1910","0101",16000000]
["2018","18","4","1910","0180",1994888]
["2018","18","4","1910","1214",2790901]
["2018","18","4","1910","6301",1750000]
["2018","18","4","1910","6302",333175]
["2018","18","4","1940","0061",83000]
["2018","18","4","1940","0101",6500000]
["2018","18","4","1940","0180",1230751]
["2018","18","4","1940","1214",403256]
["2018","18","4","1940","6301",613401]
["2018","18","4","1940","6302",84199]
["2018","18","4","1970","0101",28080773]
["2018","18","4","1970","0180",5195944]
["2018","18","4","1970","1214",6772471]
["2018","18","4","1970","6301",4913526]
["2018","18","4","1970","6302",132074]
["2018","19","4","2040","0022",600000]
["2018","19","4","2040","0061",100304]
["2018","19","4","2040","0101",5513773]
["2018","19","4","2040","0180",691463]
["2018","19","4","2040","0186",343743]
["2018","19","4","2040","1214",883037]
["2018","19","4","2040","6301",895752]
["2018","19","4","2040","6302",19917]
["2018","19","4","2100","0061",1000000]
["2018","19","4","2100","0101",8148957]
["2018","19","4","2100","0180",1626715]
["2018","19","4","2100","0186",347951]
["2018","19","4","2100","1214",1510073]
["2018","19","4","2100","6301",817903]
["2018","19","4","2100","6302",0]
["2018","19","4","2110","0061",500000]
["2018","19","4","2110","0101",12521555]
["2018","19","4","2110","0180",1201282]
["2018","19","4","2110","0186",348320]
["2018","19","4","2110","0287",1417091]
["2018","19","4","2110","1214",2783202]
["2018","19","4","2110","6301",1773000]
["2018","19","4","2110","6302",236662]
["2018","19","4","2120","0061",1850000]
["2018","19","4","2120","0101",19525250]
["2018","19","4","2120","0180",8245704]
["2018","19","4","2120","0186",1094282]
["2018","19","4","2120","1214",3987720]
["2018","19","4","2120","6301",1592266]
["2018","19","4","2120","6302",0]
["2018","20","4","2155","0061",300000]
["2018","20","4","2155","0101",15172550]
["2018","20","4","2155","0180",3451748]
["2018","20","4","2155","1214",2213446]
["2018","20","4","2155","6301",1564014]
["2018","20","4","2155","6302",175000]
["2018","20","4","2260","0061",250000]
["2018","20","4","2260","0101",11849648]
["2018","20","4","2260","0180",3688974]
["2018","20","4","2260","0186",185508]
["2018","20","4","2260","1214",1391993]
["2018","20","4","2260","6301",1225000]
["2018","20","4","2260","6302",160205]
["2018","20","4","2270","0022",4986023]
["2018","20","4","2270","0061",100000]
["2018","20","4","2270","0101",39900000]
["2018","20","4","2270","0180",9725765]
["2018","20","4","2270","0186",357162]
["2018","20","4","2270","1214",4575226]
["2018","20","4","2270","6301",2027991]
["2018","20","4","2270","6302",482853]
["2018","20","4","2275","0101",32000915]
["2018","20","4","2275","0180",10471187]
["2018","20","4","2275","1214",3821459]
["2018","20","4","2275","6301",2835948]
["2018","20","4","2275","6302",480630]
["2018","20","4","2285","0061",130000]
["2018","20","4","2285","0101",20483384]
["2018","20","4","2285","0180",4927690]
["2018","20","4","2285","0186",0]
["2018","20","4","2285","1214",4576594]
["2018","20","4","2285","6301",2600000]
["2018","20","4","2285","6302",480000]
["2018","20","4","2305","0022",4000000]
["2018","20","4","2305","0061",2000000]
["2018","20","4","2305","0101",91057406]
["2018","20","4","2305","0180",9701616]
["2018","20","4","2305","0186",3011969]
["2018","20","4","2305","0287",1381000]
["2018","20","4","2305","1214",11715186]
["2018","20","4","2305","6301",7279159]
["2018","20","4","2305","6302",1280841]
["2018","20","4","2315","0061",2630000]
["2018","20","4","2315","0101",46990216]
["2018","20","4","2315","0180",9514469]
["2018","20","4","2315","0287",1267000]
["2018","20","4","2315","1214",3349718]
["2018","20","4","2315","6301",3368400]
["2018","20","4","2315","6302",648800]
["2018","21","4","2395","0061",1644425]
["2018","21","4","2395","0101",26090350]
["2018","21","4","2395","0180",1968745]
["2018","21","4","2395","0186",194125]
["2018","21","4","2395","1214",2683754]
["2018","21","4","2395","6301",2500000]
["2018","21","4","2395","6302",588000]
["2018","22","4","2400","0061",2000000]
["2018","22","4","2400","0101",79319249]
["2018","22","4","2400","0180",10773664]
["2018","22","4","2400","0287",6868000]
["2018","22","4","2400","1214",12664762]
["2018","22","4","2400","6301",6980000]
["2018","22","4","2400","6302",1200000]
["2018","23","4","2435","0061",300000]
["2018","23","4","2435","0101",4352720]
["2018","23","4","2435","0180",1315245]
["2018","23","4","2435","1214",899812]
["2018","23","4","2435","6301",401651]
["2018","23","4","2435","6302",125000]
["2018","23","4","2440","0061",500000]
["2018","23","4","2440","0101",6268273]
["2018","23","4","2440","0180",1139490]
["2018","23","4","2440","1214",885823]
["2018","23","4","2440","6301",535595]
["2018","23","4","2440","6302",107274]
["2018","23","4","2455","0061",500000]
["2018","23","4","2455","0101",7669615]
["2018","23","4","2455","0180",899053]
["2018","23","4","2455","1214",1330010]
["2018","23","4","2455","6301",897100]
["2018","23","4","2455","6302",194500]
["2018","24","4","2475","0101",19915244]
["2018","24","4","2475","0180",1651268]
["2018","24","4","2475","1214",2494410]
["2018","24","4","2475","6301",3940497]
["2018","24","4","2475","6302",183426]
["2018","24","4","6895","0061",0]
["2018","24","4","6895","0101",0]
["2018","24","4","6895","0180",0]
["2018","24","4","6895","1214",0]
["2018","24","4","6895","6301",0]
["2018","24","4","6895","6302",0]
["2018","24","4","7950","0061",0]
["2018","24","4","7950","0101",0]
["2018","24","4","7950","0180",0]
["2018","24","4","7950","0186",0]
["2018","24","4","7950","1214",0]
["2018","24","4","7950","6301",0]
["2018","24","4","7950","6302",0]
["2018","25","4","2645","0061",119418]
["2018","25","4","2645","0101",12747930]
["2018","25","4","2645","0180",3430964]
["2018","25","4","2645","1214",1652516]
["2018","25","4","2645","6301",1000000]
["2018","25","4","2645","6302",262575]
["2018","25","4","2650","0061",457900]
["2018","25","4","2650","0101",5068690]
["2018","25","4","2650","0180",442303]
["2018","25","4","2650","1214",1361637]
["2018","25","4","2650","6301",1985585]
["2018","25","4","2650","6302",120000]
["2018","25","4","4445","0101",0]
["2018","25","4","4445","0180",0]
["2018","25","4","4445","1214",0]
["2018","25","4","4445","6301",0]
["2018","25","4","4445","6302",0]
["2018","25","4","5455","0061",0]
["2018","25","4","5455","0101",0]
["2018","25","4","5455","0180",0]
["2018","25","4","5455","0186",0]
["2018","25","4","5455","1214",0]
["2018","25","4","5455","6301",0]
["2018","25","4","5455","6302",0]
["2018","25","4","6620","0061",0]
["2018","25","4","6620","0101",0]
["2018","25","4","6620","0180",0]
["2018","25","4","6620","0186",0]
["2018","25","4","6620","1214",0]
["2018","25","4","6620","6301",0]
["2018","25","4","6620","6302",0]
["2018","26","4","2725","0061",800000]
["2018","26","4","2725","0101",5953062]
["2018","26","4","2725","0180",349497]
["2018","26","4","2725","0186",170186]
["2018","26","4","2725","1214",919614]
["2018","26","4","2725","6301",1096556]
["2018","26","4","2725","6302",0]
["2018","26","4","2735","0061",1150000]
["2018","26","4","2735","0101",14300650]
["2018","26","4","2735","0180",5297177]
["2018","26","4","2735","0186",464580]
["2018","26","4","2735","1214",2851637]
["2018","26","4","2735","6301",2241297]
["2018","26","4","2735","6302",100658]
["2018","26","4","2765","0061",222000]
["2018","26","4","2765","0101",13794425]
["2018","26","4","2765","0180",3404813]
["2018","26","4","2765","1214",3452039]
["2018","26","4","2765","6301",1895230]
["2018","26","4","2765","6302",125000]
["2018","27","4","2815","0061",100000]
["2018","27","4","2815","0101",10646000]
["2018","27","4","2815","0180",899613]
["2018","27","4","2815","0186",357658]
["2018","27","4","2815","1214",1200000]
["2018","27","4","2815","6301",683000]
["2018","27","4","2815","6302",155000]
["2018","27","4","2825","0101",7538671]
["2018","27","4","2825","0180",1270007]
["2018","27","4","2825","0186",321752]
["2018","27","4","2825","1214",1591244]
["2018","27","4","2825","6301",881042]
["2018","27","4","2825","6302",194740]
["2018","27","4","2855","0101",20141560]
["2018","27","4","2855","0180",1595394]
["2018","27","4","2855","1214",1057983]
["2018","27","4","2855","6301",678427]
["2018","27","4","2855","6302",210000]
["2018","27","4","2865","0101",27822849]
["2018","27","4","2865","0180",1647558]
["2018","27","4","2865","0186",1283650]
["2018","27","4","2865","1214",3516149]
["2018","27","4","2865","6301",2434040]
["2018","27","4","2865","6302",472155]
["2018","27","4","5625","0061",20002]
["2018","27","4","5625","0101",12149150]
["2018","27","4","5625","0180",3090592]
["2018","27","4","5625","1214",1076124]
["2018","27","4","5625","6301",811757]
["2018","27","4","5625","6302",278000]
["2018","28","4","2920","0101",6708988]
["2018","28","4","2920","0180",820000]
["2018","28","4","2920","0186",231395]
["2018","28","4","2920","1214",776261]
["2018","28","4","2920","6301",773464]
["2018","28","4","2920","6302",235688]
["2018","28","4","2940","0061",500000]
["2018","28","4","2940","0101",8153345]
["2018","28","4","2940","0180",1358393]
["2018","28","4","2940","0186",196117]
["2018","28","4","2940","1214",606595]
["2018","28","4","2940","6301",1081855]
["2018","28","4","2940","6302",35502]
["2018","28","4","2950","0061",100000]
["2018","28","4","2950","0101",10879400]
["2018","28","4","2950","0180",1749080]
["2018","28","4","2950","0186",248075]
["2018","28","4","2950","1214",1140428]
["2018","28","4","2950","6301",509035]
["2018","28","4","2950","6302",150474]
["2018","28","4","2960","0101",0]
["2018","28","4","2960","0180",0]
["2018","28","4","2960","0186",0]
["2018","28","4","2960","1214",0]
["2018","28","4","2960","6301",0]
["2018","28","4","2960","6302",0]
["2018","28","4","2980","0022",1900000]
["2018","28","4","2980","0061",500000]
["2018","28","4","2980","0101",5100000]
["2018","28","4","2980","0180",278202]
["2018","28","4","2980","0186",279108]
["2018","28","4","2980","1214",952953]
["2018","28","4","2980","6301",855961]
["2018","28","4","2980","6302",0]
["2018","29","4","3005","0022",18612663]
["2018","29","4","3005","0061",2500000]
["2018","29","4","3005","0101",133411265]
["2018","29","4","3005","0180",36936891]
["2018","29","4","3005","0186",387054]
["2018","29","4","3005","0287",8640000]
["2018","29","4","3005","1214",15535425]
["2018","29","4","3005","6301",13794521]
["2018","29","4","3005","6302",1904083]
["2018","29","4","3025","0061",400000]
["2018","29","4","3025","0101",15250000]
["2018","29","4","3025","0180",6608815]
["2018","29","4","3025","0186",0]
["2018","29","4","3025","1214",2135179]
["2018","29","4","3025","6301",1720000]
["2018","29","4","3025","6302",349575]
["2018","29","4","3030","0022",6297875]
["2018","29","4","3030","0061",0]
["2018","29","4","3030","0101",52000000]
["2018","29","4","3030","0180",23555000]
["2018","29","4","3030","0186",390945]
["2018","29","4","3030","1214",3500959]
["2018","29","4","3030","6301",2738105]
["2018","29","4","3030","6302",847551]
["2018","29","4","3055","0022",1054023]
["2018","29","4","3055","0061",400000]
["2018","29","4","3055","0101",7108020]
["2018","29","4","3055","0180",2538900]
["2018","29","4","3055","0186",34181]
["2018","29","4","3055","1214",1516342]
["2018","29","4","3055","6301",929051]
["2018","29","4","3055","6302",197486]
["2018","29","4","3060","0022",18184316]
["2018","29","4","3060","0101",101422665]
["2018","29","4","3060","0180",23698821]
["2018","29","4","3060","1214",14522454]
["2018","29","4","3060","6301",9413325]
["2018","29","4","3060","6302",1519030]
["2018","29","4","3070","0022",6787212]
["2018","29","4","3070","0101",66071533]
["2018","29","4","3070","0180",13640718]
["2018","29","4","3070","0287",7196691]
["2018","29","4","3070","1214",7760024]
["2018","29","4","3070","6301",4283299]
["2018","29","4","3070","6302",1354834]
["2018","30","4","3115","0061",580000]
["2018","30","4","3115","0101",24043950]
["2018","30","4","3115","0180",5036220]
["2018","30","4","3115","1214",2851910]
["2018","30","4","3115","6301",1986500]
["2018","30","4","3115","6302",436000]
["2018","30","4","3125","0061",750000]
["2018","30","4","3125","0101",32775890]
["2018","30","4","3125","0180",9258550]
["2018","30","4","3125","1214",6701692]
["2018","30","4","3125","6301",2850000]
["2018","30","4","3125","6302",791404]
["2018","30","4","3135","0061",0]
["2018","30","4","3135","0101",28000000]
["2018","30","4","3135","0180",9565880]
["2018","30","4","3135","0186",236210]
["2018","30","4","3135","1214",4567000]
["2018","30","4","3135","6301",2200000]
["2018","30","4","3135","6302",35436]
["2018","30","4","3145","0101",8892200]
["2018","30","4","3145","0180",1561685]
["2018","30","4","3145","1214",1176459]
["2018","30","4","3145","6301",1334000]
["2018","30","4","3145","6302",530000]
["2018","31","4","1300","0061",0]
["2018","31","4","1300","0101",0]
["2018","31","4","1300","0180",0]
["2018","31","4","1300","0186",0]
["2018","31","4","1300","1214",0]
["2018","31","4","1300","6301",0]
["2018","31","4","1300","6302",0]
["2018","31","4","3160","0022",270000]
["2018","31","4","3160","0101",5684627]
["2018","31","4","3160","0180",759662]
["2018","31","4","3160","1214",735234]
["2018","31","4","3160","6301",407400]
["2018","31","4","3160","6302",130000]
["2018","31","4","3180","0101",15552820]
["2018","31","4","3180","0180",2304435]
["2018","31","4","3180","1214",1907645]
["2018","31","4","3180","6301",1498966]
["2018","31","4","3180","6302",437535]
["2018","31","4","3190","0101",20617520]
["2018","31","4","3190","0180",4683350]
["2018","31","4","3190","1214",3897941]
["2018","31","4","3190","6301",2319593]
["2018","31","4","3190","6302",251920]
["2018","32","4","3295","0061",350000]
["2018","32","4","3295","0101",12159267]
["2018","32","4","3295","0180",6317563]
["2018","32","4","3295","0186",223166]
["2018","32","4","3295","1214",1828410]
["2018","32","4","3295","6301",1306161]
["2018","32","4","3295","6302",1415000]
["2018","32","4","3305","0101",59092702]
["2018","32","4","3305","0180",23015608]
["2018","32","4","3305","0186",703189]
["2018","32","4","3305","1214",6786430]
["2018","32","4","3305","6301",5225313]
["2018","32","4","3305","6302",1417689]
["2018","32","4","3315","0101",62904457]
["2018","32","4","3315","0180",25008478]
["2018","32","4","3315","0186",852743]
["2018","32","4","3315","1214",7695772]
["2018","32","4","3315","6301",7959190]
["2018","32","4","3315","6302",925330]
["2018","32","4","3325","0101",16370008]
["2018","32","4","3325","0180",6848340]
["2018","32","4","3325","0186",302313]
["2018","32","4","3325","1214",2350049]
["2018","32","4","3325","6301",1964256]
["2018","32","4","3325","6302",460000]
["2018","32","4","3330","0101",36900000]
["2018","32","4","3330","0180",14937556]
["2018","32","4","3330","0186",350806]
["2018","32","4","3330","1214",5547685]
["2018","32","4","3330","6301",2286803]
["2018","32","4","3330","6302",496321]
["2018","32","4","3335","0101",10947500]
["2018","32","4","3335","0180",2838982]
["2018","32","4","3335","0186",0]
["2018","32","4","3335","1214",1486680]
["2018","32","4","3335","6301",1469000]
["2018","32","4","3335","6302",275000]
["2018","33","4","3405","0061",400000]
["2018","33","4","3405","0101",4200104]
["2018","33","4","3405","0180",950000]
["2018","33","4","3405","1214",1227904]
["2018","33","4","3405","6301",1061564]
["2018","33","4","3405","6302",105000]
["2018","33","4","3415","0061",100000]
["2018","33","4","3415","0101",5898933]
["2018","33","4","3415","0180",745996]
["2018","33","4","3415","0186",72395]
["2018","33","4","3415","1214",606036]
["2018","33","4","3415","6301",606600]
["2018","33","4","3415","6302",118019]
["2018","33","4","3435","0101",9287088]
["2018","33","4","3435","0180",1058436]
["2018","33","4","3435","0186",324664]
["2018","33","4","3435","1214",582340]
["2018","33","4","3435","6301",950000]
["2018","33","4","3435","6302",82038]
["2018","33","4","3445","0061",600000]
["2018","33","4","3445","0101",24224753]
["2018","33","4","3445","0180",2643383]
["2018","33","4","3445","1214",2419081]
["2018","33","4","3445","6301",2608900]
["2018","33","4","3445","6302",477468]
["2018","33","4","3455","0101",8349388]
["2018","33","4","3455","0180",2235079]
["2018","33","4","3455","1214",973593]
["2018","33","4","3455","6301",979672]
["2018","33","4","3455","6302",200000]
["2018","33","4","6795","0061",0]
["2018","33","4","6795","0101",0]
["2018","33","4","6795","0180",0]
["2018","33","4","6795","0186",0]
["2018","33","4","6795","1214",0]
["2018","33","4","6795","6301",0]
["2018","33","4","6795","6302",0]
["2018","33","4","8305","0061",0]
["2018","33","4","8305","0101",0]
["2018","33","4","8305","0180",0]
["2018","33","4","8305","1214",0]
["2018","33","4","8305","6301",0]
["2018","33","4","8305","6302",0]
["2018","34","4","3460","0101",8532485]
["2018","34","4","3460","0180",2299444]
["2018","34","4","3460","1214",1042315]
["2018","34","4","3460","6301",648968]
["2018","34","4","3460","6302",85000]
["2018","34","4","3470","0061",200000]
["2018","34","4","3470","0101",11537500]
["2018","34","4","3470","0180",2923946]
["2018","34","4","3470","0186",153390]
["2018","34","4","3470","1214",2104599]
["2018","34","4","3470","6301",1567987]
["2018","34","4","3470","6302",172620]
["2018","34","4","3480","0061",0]
["2018","34","4","3480","0101",9771635]
["2018","34","4","3480","0180",2813908]
["2018","34","4","3480","0186",89247]
["2018","34","4","3480","1214",1255997]
["2018","34","4","3480","6301",824245]
["2018","34","4","3480","6302",245029]
["2018","34","4","3490","0061",594915]
["2018","34","4","3490","0101",18692622]
["2018","34","4","3490","0180",2922338]
["2018","34","4","3490","0186",240655]
["2018","34","4","3490","1214",1243800]
["2018","34","4","3490","6301",1118716]
["2018","34","4","3490","6302",200000]
["2018","34","4","3500","0061",0]
["2018","34","4","3500","0101",47067821]
["2018","34","4","3500","0180",9161399]
["2018","34","4","3500","0186",429583]
["2018","34","4","3500","1214",8108468]
["2018","34","4","3500","6301",2835203]
["2018","34","4","3500","6302",695775]
["2018","35","4","3625","0101",35662206]
["2018","35","4","3625","0180",5845865]
["2018","35","4","3625","1214",5782470]
["2018","35","4","3625","6301",4465000]
["2018","35","4","3625","6302",567274]
["2018","36","4","3640","0061",50000]
["2018","36","4","3640","0101",1567950]
["2018","36","4","3640","0180",451671]
["2018","36","4","3640","0186",34656]
["2018","36","4","3640","1214",202389]
["2018","36","4","3640","6301",135980]
["2018","36","4","3640","6302",124588]
["2018","36","4","3675","0061",2400000]
["2018","36","4","3675","0101",32547234]
["2018","36","4","3675","0180",4146394]
["2018","36","4","3675","0186",304857]
["2018","36","4","3675","1214",5306551]
["2018","36","4","3675","6301",1734194]
["2018","36","4","3675","6302",524916]
["2018","36","4","3695","0061",498266]
["2018","36","4","3695","0101",10520352]
["2018","36","4","3695","0180",1359682]
["2018","36","4","3695","1214",1774588]
["2018","36","4","3695","6301",1046689]
["2018","36","4","3695","6302",398000]
["2018","36","4","3710","0101",3440812]
["2018","36","4","3710","0180",707099]
["2018","36","4","3710","0186",198926]
["2018","36","4","3710","1214",243602]
["2018","36","4","3710","6301",286841]
["2018","36","4","3710","6302",0]
["2018","37","4","3785","0061",995000]
["2018","37","4","3785","0101",24997000]
["2018","37","4","3785","0180",362848]
["2018","37","4","3785","0187",7015600]
["2018","37","4","3785","1214",6146079]
["2018","37","4","3785","6301",1933716]
["2018","37","4","3785","6302",521770]
["2018","37","4","3815","0101",11000175]
["2018","37","4","3815","0180",1092264]
["2018","37","4","3815","0287",1077000]
["2018","37","4","3815","1214",2264838]
["2018","37","4","3815","6301",847887]
["2018","37","4","3815","6302",200000]
["2018","37","4","6630","0061",0]
["2018","37","4","6630","0101",0]
["2018","37","4","6630","0180",0]
["2018","37","4","6630","1214",0]
["2018","37","4","6630","6301",0]
["2018","37","4","6630","6302",0]
["2018","37","4","8535","0022",0]
["2018","37","4","8535","0061",0]
["2018","37","4","8535","0101",0]
["2018","37","4","8535","0180",0]
["2018","37","4","8535","1214",0]
["2018","37","4","8535","6301",0]
["2018","37","4","8535","6302",0]
["2018","38","4","3945","0101",23352001]
["2018","38","4","3945","0180",3999459]
["2018","38","4","3945","0186",891318]
["2018","38","4","3945","1214",2951633]
["2018","38","4","3945","6301",2592000]
["2018","38","4","3945","6302",0]
["2018","39","4","3995","0061",2000000]
["2018","39","4","3995","0101",20854380]
["2018","39","4","3995","0180",3231553]
["2018","39","4","3995","1214",6847403]
["2018","39","4","3995","6301",2267000]
["2018","39","4","3995","6302",635000]
["2018","39","4","4000","0061",400000]
["2018","39","4","4000","0101",9465296]
["2018","39","4","4000","0180",645451]
["2018","39","4","4000","0186",153120]
["2018","39","4","4000","1214",1076638]
["2018","39","4","4000","6301",1452600]
["2018","39","4","4000","6302",225162]
["2018","40","4","4015","0061",1235000]
["2018","40","4","4015","0101",33332123]
["2018","40","4","4015","0180",3606719]
["2018","40","4","4015","0186",390655]
["2018","40","4","4015","1214",3023469]
["2018","40","4","4015","6301",4102034]
["2018","40","4","4015","6302",240000]
["2018","41","4","4145","0101",44657647]
["2018","41","4","4145","0180",14118573]
["2018","41","4","4145","1214",5401084]
["2018","41","4","4145","6301",3966605]
["2018","41","4","4145","6302",904253]
["2018","41","4","4205","0101",51880000]
["2018","41","4","4205","0180",16412148]
["2018","41","4","4205","1214",7084701]
["2018","41","4","4205","6301",4040000]
["2018","41","4","4205","6302",1054223]
["2018","41","4","4215","0061",62931]
["2018","41","4","4215","0101",6854482]
["2018","41","4","4215","0180",1075035]
["2018","41","4","4215","0186",196215]
["2018","41","4","4215","1214",583626]
["2018","41","4","4215","6301",217606]
["2018","41","4","4215","6302",32104]
["2018","41","4","4225","0101",33686439]
["2018","41","4","4225","0180",14969620]
["2018","41","4","4225","1214",4453856]
["2018","41","4","4225","6301",2229618]
["2018","41","4","4225","6302",687510]
["2018","41","4","4245","0061",2833150]
["2018","41","4","4245","0101",27500000]
["2018","41","4","4245","0180",3895931]
["2018","41","4","4245","1214",4036466]
["2018","41","4","4245","6301",2200000]
["2018","41","4","4245","6302",350000]
["2018","41","4","4255","0061",1310000]
["2018","41","4","4255","0101",13743114]
["2018","41","4","4255","0180",2412485]
["2018","41","4","4255","0186",200446]
["2018","41","4","4255","1214",1948203]
["2018","41","4","4255","6301",1734581]
["2018","41","4","4255","6302",330000]
["2018","42","4","4315","0061",1000000]
["2018","42","4","4315","0101",10706182]
["2018","42","4","4315","0180",1730165]
["2018","42","4","4315","0186",280490]
["2018","42","4","4315","1214",2019360]
["2018","42","4","4315","6301",1746400]
["2018","42","4","4315","6302",126895]
["2018","42","4","4325","0061",196450]
["2018","42","4","4325","0101",8487251]
["2018","42","4","4325","0180",1401725]
["2018","42","4","4325","1214",1604100]
["2018","42","4","4325","6301",1639313]
["2018","42","4","4325","6302",110000]
["2018","42","4","4335","0061",2500000]
["2018","42","4","4335","0101",20102654]
["2018","42","4","4335","0180",4754483]
["2018","42","4","4335","0186",237870]
["2018","42","4","4335","1214",2672313]
["2018","42","4","4335","6301",1497635]
["2018","42","4","4335","6302",128037]
["2018","43","4","2285","0061",0]
["2018","43","4","2285","0101",0]
["2018","43","4","2285","0180",0]
["2018","43","4","2285","0186",0]
["2018","43","4","2285","1214",0]
["2018","43","4","2285","6301",0]
["2018","43","4","2285","6302",0]
["2018","43","4","4345","0061",1767650]
["2018","43","4","4345","0101",23837647]
["2018","43","4","4345","0180",6379862]
["2018","43","4","4345","1214",5148290]
["2018","43","4","4345","6301",3225074]
["2018","43","4","4345","6302",559900]
["2018","43","4","4415","0061",1700000]
["2018","43","4","4415","0101",51519392]
["2018","43","4","4415","0180",8564470]
["2018","43","4","4415","0186",463572]
["2018","43","4","4415","0287",2878000]
["2018","43","4","4415","1214",7705079]
["2018","43","4","4415","6301",3781075]
["2018","43","4","4415","6302",713598]
["2018","43","4","4445","0101",15513355]
["2018","43","4","4445","0180",2819325]
["2018","43","4","4445","1214",2531724]
["2018","43","4","4445","6301",1920580]
["2018","43","4","4445","6302",294000]
["2018","43","4","4455","0101",10555250]
["2018","43","4","4455","0180",3406379]
["2018","43","4","4455","1214",2280360]
["2018","43","4","4455","6301",1123675]
["2018","43","4","4455","6302",335000]
["2018","43","4","5495","0101",0]
["2018","43","4","5495","0180",0]
["2018","43","4","5495","1214",0]
["2018","43","4","5495","6301",0]
["2018","43","4","5495","6302",0]
["2018","44","4","4515","0061",0]
["2018","44","4","4515","0101",0]
["2018","44","4","4515","0180",0]
["2018","44","4","4515","1214",0]
["2018","44","4","4515","6301",0]
["2018","44","4","4515","6302",0]
["2018","44","4","4525","0022",2000000]
["2018","44","4","4525","0061",480161]
["2018","44","4","4525","0101",15450000]
["2018","44","4","4525","0180",3035597]
["2018","44","4","4525","0186",284242]
["2018","44","4","4525","1214",2315760]
["2018","44","4","4525","6301",1600000]
["2018","44","4","4525","6302",450000]
["2018","44","4","4535","0061",460000]
["2018","44","4","4535","0101",14213726]
["2018","44","4","4535","0180",1161585]
["2018","44","4","4535","1214",2453637]
["2018","44","4","4535","6301",2056189]
["2018","44","4","4535","6302",416475]
["2018","45","4","4580","0022",2100000]
["2018","45","4","4580","0061",1000000]
["2018","45","4","4580","0101",14000000]
["2018","45","4","4580","0180",4018938]
["2018","45","4","4580","0188",3340043]
["2018","45","4","4580","1214",958039]
["2018","45","4","4580","6301",625910]
["2018","45","4","4580","6302",230000]
["2018","45","4","4590","0022",977174]
["2018","45","4","4590","0101",12975307]
["2018","45","4","4590","0180",591893]
["2018","45","4","4590","0188",1174842]
["2018","45","4","4590","0189",35665]
["2018","45","4","4590","1214",1056023]
["2018","45","4","4590","6301",585853]
["2018","45","4","4590","6302",113524]
["2018","45","4","4600","0101",50158398]
["2018","45","4","4600","0180",1929499]
["2018","45","4","4600","0188",13401000]
["2018","45","4","4600","0189",454411]
["2018","45","4","4600","1214",7149099]
["2018","45","4","4600","6301",5758192]
["2018","45","4","4600","6302",1885100]
["2018","45","4","4615","0061",1350000]
["2018","45","4","4615","0101",61000000]
["2018","45","4","4615","0180",3785868]
["2018","45","4","4615","0188",3739000]
["2018","45","4","4615","0189",1325811]
["2018","45","4","4615","0287",11606000]
["2018","45","4","4615","1214",7281420]
["2018","45","4","4615","6301",5900000]
["2018","45","4","4615","6302",1009000]
["2018","45","4","4645","0101",22000000]
["2018","45","4","4645","0180",2336569]
["2018","45","4","4645","0188",5832900]
["2018","45","4","4645","0189",209118]
["2018","45","4","4645","1214",2371870]
["2018","45","4","4645","6301",2256792]
["2018","45","4","4645","6302",520000]
["2018","45","4","4650","0061",2600000]
["2018","45","4","4650","0101",18010630]
["2018","45","4","4650","0180",1875275]
["2018","45","4","4650","0188",2300056]
["2018","45","4","4650","1214",974398]
["2018","45","4","4650","6301",1703753]
["2018","45","4","4650","6302",291828]
["2018","45","4","4660","0022",6466645]
["2018","45","4","4660","0061",420000]
["2018","45","4","4660","0101",52000000]
["2018","45","4","4660","0180",2289428]
["2018","45","4","4660","0188",21112989]
["2018","45","4","4660","1214",4855583]
["2018","45","4","4660","6301",4092342]
["2018","45","4","4660","6302",750000]
["2018","45","4","4670","0101",33236695]
["2018","45","4","4670","0180",2011620]
["2018","45","4","4670","0188",736000]
["2018","45","4","4670","0189",392705]
["2018","45","4","4670","1214",3798903]
["2018","45","4","4670","6301",3683640]
["2018","45","4","4670","6302",230179]
["2018","45","4","4680","0022",1024799]
["2018","45","4","4680","0101",9345551]
["2018","45","4","4680","0180",1158328]
["2018","45","4","4680","0188",794822]
["2018","45","4","4680","1214",629393]
["2018","45","4","4680","6301",650000]
["2018","45","4","4680","6302",83786]
["2018","45","4","4690","0101",50442048]
["2018","45","4","4690","0180",7624340]
["2018","45","4","4690","0188",2261857]
["2018","45","4","4690","1214",5722923]
["2018","45","4","4690","6301",2747042]
["2018","45","4","4700","0061",145703]
["2018","45","4","4700","0101",16677853]
["2018","45","4","4700","0180",1418407]
["2018","45","4","4700","0188",3511398]
["2018","45","4","4700","0189",377260]
["2018","45","4","4700","1214",789850]
["2018","45","4","4700","6301",794180]
["2018","45","4","4700","6302",57000]
["2018","45","4","4710","0022",10000000]
["2018","45","4","4710","0101",99710725]
["2018","45","4","4710","0180",3860132]
["2018","45","4","4710","0188",17843370]
["2018","45","4","4710","0189",600899]
["2018","45","4","4710","1214",2999087]
["2018","45","4","4710","6301",3337242]
["2018","45","4","4710","6302",200102]
["2018","45","4","4720","0101",21073150]
["2018","45","4","4720","0180",2417588]
["2018","45","4","4720","0188",4628000]
["2018","45","4","4720","1214",2111150]
["2018","45","4","4720","6301",1429056]
["2018","45","4","4720","6302",198007]
["2018","45","4","4730","0101",30450451]
["2018","45","4","4730","0180",3174238]
["2018","45","4","4730","0188",6109250]
["2018","45","4","4730","1214",1411982]
["2018","45","4","4730","6301",1578327]
["2018","45","4","4730","6302",245497]
["2018","45","4","4740","0022",6904250]
["2018","45","4","4740","0061",300000]
["2018","45","4","4740","0101",21819771]
["2018","45","4","4740","0180",4812215]
["2018","45","4","4740","0188",5770500]
["2018","45","4","4740","0189",273434]
["2018","45","4","4740","0287",303000]
["2018","45","4","4740","1214",2182749]
["2018","45","4","4740","6301",1609701]
["2018","45","4","4740","6302",303669]
["2018","45","4","4760","0061",450000]
["2018","45","4","4760","0101",9689867]
["2018","45","4","4760","0180",693937]
["2018","45","4","4760","1214",1962977]
["2018","45","4","4760","6301",601294]
["2018","45","4","4760","6302",270269]
["2018","46","4","4805","0061",1000000]
["2018","46","4","4805","0101",20480415]
["2018","46","4","4805","0180",828732]
["2018","46","4","4805","0188",4106750]
["2018","46","4","4805","0189",141952]
["2018","46","4","4805","0287",1752750]
["2018","46","4","4805","1214",3297316]
["2018","46","4","4805","6301",2127951]
["2018","46","4","4805","6302",387600]
["2018","46","4","4860","0101",5895712]
["2018","46","4","4860","0180",1511122]
["2018","46","4","4860","0186",96088]
["2018","46","4","4860","1214",699297]
["2018","46","4","4860","6301",451031]
["2018","46","4","4860","6302",188203]
["2018","46","4","4915","0061",450000]
["2018","46","4","4915","0101",3320341]
["2018","46","4","4915","0180",233500]
["2018","46","4","4915","1214",704920]
["2018","46","4","4915","6301",313008]
["2018","46","4","4915","6302",150000]
["2018","46","4","4925","0101",43030720]
["2018","46","4","4925","0180",11761643]
["2018","46","4","4925","0186",887414]
["2018","46","4","4925","1214",2665960]
["2018","46","4","4925","6301",3846788]
["2018","46","4","4925","6302",238375]
["2018","46","4","4940","0101",6279985]
["2018","46","4","4940","0180",1156776]
["2018","46","4","4940","0186",83008]
["2018","46","4","4940","1214",642728]
["2018","46","4","4940","6301",631564]
["2018","46","4","4940","6302",180000]
["2018","46","4","4945","0061",0]
["2018","46","4","4945","0101",42583188]
["2018","46","4","4945","0180",7055286]
["2018","46","4","4945","1214",3877969]
["2018","46","4","4945","6301",3148288]
["2018","46","4","4945","6302",690000]
["2018","46","4","7150","0061",0]
["2018","46","4","7150","0101",0]
["2018","46","4","7150","0180",0]
["2018","46","4","7150","0188",0]
["2018","46","4","7150","0189",0]
["2018","46","4","7150","1214",0]
["2018","46","4","7150","6301",0]
["2018","46","4","7150","6302",0]
["2018","47","4","5075","0061",2150000]
["2018","47","4","5075","0101",33630476]
["2018","47","4","5075","0180",4803334]
["2018","47","4","5075","0186",801336]
["2018","47","4","5075","1214",3452222]
["2018","47","4","5075","6301",4710179]
["2018","47","4","5075","6302",33340]
["2018","47","4","5085","0061",1000000]
["2018","47","4","5085","0101",11895460]
["2018","47","4","5085","0180",2654525]
["2018","47","4","5085","1214",1574960]
["2018","47","4","5085","6301",1208756]
["2018","47","4","5085","6302",278000]
["2018","48","4","2825","0101",0]
["2018","48","4","2825","0180",0]
["2018","48","4","2825","0186",0]
["2018","48","4","2825","1214",0]
["2018","48","4","2825","6301",0]
["2018","48","4","2825","6302",0]
["2018","48","4","5245","0101",19200000]
["2018","48","4","5245","0180",5279773]
["2018","48","4","5245","1214",1077293]
["2018","48","4","5245","6301",1350176]
["2018","48","4","5245","6302",502160]
["2018","48","4","5255","0101",31219202]
["2018","48","4","5255","0180",7303815]
["2018","48","4","5255","1214",2666095]
["2018","48","4","5255","6301",2399307]
["2018","48","4","5255","6302",378343]
["2018","48","4","5265","0061",100000]
["2018","48","4","5265","0101",12000000]
["2018","48","4","5265","0180",495179]
["2018","48","4","5265","1214",858447]
["2018","48","4","5265","6301",478246]
["2018","48","4","5265","6302",214440]
["2018","48","4","5275","0101",60000000]
["2018","48","4","5275","0180",8249692]
["2018","48","4","5275","0186",2477477]
["2018","48","4","5275","1214",8803256]
["2018","48","4","5275","6301",5339117]
["2018","48","4","5275","6302",181773]
["2018","48","4","5280","0061",0]
["2018","48","4","5280","0101",10852189]
["2018","48","4","5280","0180",1750297]
["2018","48","4","5280","0186",220416]
["2018","48","4","5280","1214",461280]
["2018","48","4","5280","6301",507251]
["2018","48","4","5280","6302",148877]
["2018","49","4","5300","0022",5000000]
["2018","49","4","5300","0061",1000000]
["2018","49","4","5300","0101",44300000]
["2018","49","4","5300","0180",14661365]
["2018","49","4","5300","0186",667572]
["2018","49","4","5300","1214",3710286]
["2018","49","4","5300","6301",2721501]
["2018","49","4","5300","6302",704608]
["2018","49","4","5310","0101",64150000]
["2018","49","4","5310","0180",18615910]
["2018","49","4","5310","0186",403345]
["2018","49","4","5310","1214",6125846]
["2018","49","4","5310","6301",5183052]
["2018","49","4","5310","6302",947600]
["2018","49","4","5330","0101",116171534]
["2018","49","4","5330","0180",19304770]
["2018","49","4","5330","0186",1687571]
["2018","49","4","5330","1214",9052409]
["2018","49","4","5330","6301",9711189]
["2018","49","4","5330","6302",1812231]
["2018","49","4","5340","0022",14000000]
["2018","49","4","5340","0061",1500000]
["2018","49","4","5340","0101",114072160]
["2018","49","4","5340","0180",12690235]
["2018","49","4","5340","0186",1875185]
["2018","49","4","5340","0287",6237000]
["2018","49","4","5340","1214",12509986]
["2018","49","4","5340","6301",8726410]
["2018","49","4","5340","6302",1735845]
["2018","49","4","5350","0061",5000000]
["2018","49","4","5350","0101",77500000]
["2018","49","4","5350","0180",13979450]
["2018","49","4","5350","1214",13368371]
["2018","49","4","5350","6301",8863572]
["2018","49","4","5350","6302",1567850]
["2018","49","4","5360","0101",88500000]
["2018","49","4","5360","0180",14701850]
["2018","49","4","5360","1214",16500000]
["2018","49","4","5360","6301",2201625]
["2018","49","4","5360","6302",1262097]
["2018","49","4","5370","0022",7599414]
["2018","49","4","5370","0061",3010498]
["2018","49","4","5370","0101",85483436]
["2018","49","4","5370","0180",9007436]
["2018","49","4","5370","0186",1262773]
["2018","49","4","5370","0287",7609821]
["2018","49","4","5370","1214",16601841]
["2018","49","4","5370","6301",8546323]
["2018","49","4","5370","6302",1670146]
["2018","49","4","5375","0022",10300000]
["2018","49","4","5375","0101",122695847]
["2018","49","4","5375","0180",23654502]
["2018","49","4","5375","1214",4546185]
["2018","49","4","5375","6301",10124377]
["2018","49","4","5375","6302",829786]
["2018","49","4","5380","0022",2302661]
["2018","49","4","5380","0061",90]
["2018","49","4","5380","0101",23503892]
["2018","49","4","5380","0180",5212059]
["2018","49","4","5380","0186",466171]
["2018","49","4","5380","0287",681000]
["2018","49","4","5380","1214",916893]
["2018","49","4","5380","6301",0]
["2018","49","4","5380","6302",3201]
["2018","49","4","5385","0101",260000000]
["2018","49","4","5385","0180",33246325]
["2018","49","4","5385","0186",2885944]
["2018","49","4","5385","0187",18065000]
["2018","49","4","5385","1214",45510656]
["2018","49","4","5385","6301",22007641]
["2018","49","4","5385","6302",10847394]
["2018","49","4","5400","0022",4081800]
["2018","49","4","5400","0061",80000]
["2018","49","4","5400","0101",15203125]
["2018","49","4","5400","0180",10684]
["2018","49","4","5400","1214",2493829]
["2018","49","4","5400","6301",109630]
["2018","50","4","5455","0061",393392]
["2018","50","4","5455","0101",5774996]
["2018","50","4","5455","0180",1742887]
["2018","50","4","5455","0186",273515]
["2018","50","4","5455","1214",1583071]
["2018","50","4","5455","6301",1275000]
["2018","50","4","5455","6302",350000]
["2018","50","4","5470","0101",3995295]
["2018","50","4","5470","0180",906472]
["2018","50","4","5470","0186",46654]
["2018","50","4","5470","1214",710135]
["2018","50","4","5470","6301",430000]
["2018","50","4","5470","6302",73856]
["2018","50","4","5480","0101",9915566]
["2018","50","4","5480","0180",1271000]
["2018","50","4","5480","0186",134160]
["2018","50","4","5480","1214",1665824]
["2018","50","4","5480","6301",704287]
["2018","50","4","5480","6302",192000]
["2018","50","4","5485","0061",600000]
["2018","50","4","5485","0101",25710491]
["2018","50","4","5485","0180",5580617]
["2018","50","4","5485","0186",293057]
["2018","50","4","5485","1214",3016486]
["2018","50","4","5485","6301",1316950]
["2018","50","4","5485","6302",408000]
["2018","50","4","5495","0101",5931045]
["2018","50","4","5495","0180",968431]
["2018","50","4","5495","1214",1059989]
["2018","50","4","5495","6301",684350]
["2018","50","4","5495","6302",232868]
["2018","50","4","7150","0061",0]
["2018","50","4","7150","0101",0]
["2018","50","4","7150","0180",0]
["2018","50","4","7150","0188",0]
["2018","50","4","7150","0189",0]
["2018","50","4","7150","1214",0]
["2018","50","4","7150","6301",0]
["2018","50","4","7150","6302",0]
["2018","50","4","7215","0061",400348]
["2018","50","4","7215","0101",7946562]
["2018","50","4","7215","0180",1232009]
["2018","50","4","7215","1214",771950]
["2018","50","4","7215","6301",916020]
["2018","50","4","7215","6302",106650]
["2018","51","4","5520","0061",300000]
["2018","51","4","5520","0101",4680006]
["2018","51","4","5520","0180",355000]
["2018","51","4","5520","0186",0]
["2018","51","4","5520","1214",574947]
["2018","51","4","5520","6301",768750]
["2018","51","4","5520","6302",65000]
["2018","51","4","5525","0061",650000]
["2018","51","4","5525","0101",5830800]
["2018","51","4","5525","0180",600070]
["2018","51","4","5525","0186",266411]
["2018","51","4","5525","1214",737124]
["2018","51","4","5525","6301",646500]
["2018","51","4","5525","6302",0]
["2018","52","4","5615","0101",16255002]
["2018","52","4","5615","0180",1242253]
["2018","52","4","5615","1214",1545991]
["2018","52","4","5615","6301",963825]
["2018","52","4","5615","6302",354884]
["2018","52","4","5620","0061",200000]
["2018","52","4","5620","0101",6052212]
["2018","52","4","5620","0180",578581]
["2018","52","4","5620","0186",207414]
["2018","52","4","5620","1214",837460]
["2018","52","4","5620","6301",588305]
["2018","52","4","5620","6302",112641]
["2018","52","4","5625","0061",0]
["2018","52","4","5625","0101",0]
["2018","52","4","5625","0180",0]
["2018","52","4","5625","1214",0]
["2018","52","4","5625","6301",0]
["2018","52","4","5625","6302",0]
["2018","52","4","5635","0061",100000]
["2018","52","4","5635","0101",14451541]
["2018","52","4","5635","0180",2867636]
["2018","52","4","5635","1214",1670643]
["2018","52","4","5635","6301",624559]
["2018","52","4","5635","6302",180707]
["2018","53","4","5705","0061",0]
["2018","53","4","5705","0101",17909475]
["2018","53","4","5705","0180",4902839]
["2018","53","4","5705","0186",243378]
["2018","53","4","5705","1214",2204067]
["2018","53","4","5705","6301",1276610]
["2018","53","4","5705","6302",637083]
["2018","53","4","5740","0022",9457998]
["2018","53","4","5740","0101",78944157]
["2018","53","4","5740","0180",12619549]
["2018","53","4","5740","0186",1014122]
["2018","53","4","5740","1214",13566764]
["2018","53","4","5740","6301",6629836]
["2018","53","4","5740","6302",1452335]
["2018","54","4","5835","0061",942000]
["2018","54","4","5835","0101",12830200]
["2018","54","4","5835","0180",1872974]
["2018","54","4","5835","0186",276716]
["2018","54","4","5835","1214",2428151]
["2018","54","4","5835","6301",3143000]
["2018","54","4","5835","6302",333087]
["2018","54","4","5845","0061",332029]
["2018","54","4","5845","0101",11534000]
["2018","54","4","5845","0180",4104412]
["2018","54","4","5845","0186",294764]
["2018","54","4","5845","1214",2824033]
["2018","54","4","5845","6301",2000000]
["2018","54","4","5845","6302",207989]
["2018","54","4","5855","0061",330]
["2018","54","4","5855","0101",18277706]
["2018","54","4","5855","0180",3129157]
["2018","54","4","5855","0186",419055]
["2018","54","4","5855","0287",1882000]
["2018","54","4","5855","1214",1139656]
["2018","54","4","5855","6301",1023073]
["2018","54","4","5855","6302",419326]
["2018","55","4","4255","0061",0]
["2018","55","4","4255","0101",0]
["2018","55","4","4255","0180",0]
["2018","55","4","4255","0186",0]
["2018","55","4","4255","1214",0]
["2018","55","4","4255","6301",0]
["2018","55","4","4255","6302",0]
["2018","55","4","5900","0061",250000]
["2018","55","4","5900","0101",12264458]
["2018","55","4","5900","0180",2283761]
["2018","55","4","5900","0186",145172]
["2018","55","4","5900","1214",1236558]
["2018","55","4","5900","6301",1178128]
["2018","55","4","5900","6302",426000]
["2018","55","4","5910","0022",800000]
["2018","55","4","5910","0101",2922253]
["2018","55","4","5910","0180",496000]
["2018","55","4","5910","1214",548567]
["2018","55","4","5910","6301",675700]
["2018","55","4","5910","6302",0]
["2018","55","4","5925","0061",0]
["2018","55","4","5925","0101",30172343]
["2018","55","4","5925","0180",2026718]
["2018","55","4","5925","1214",4203330]
["2018","55","4","5925","6301",4201407]
["2018","55","4","5925","6302",591800]
["2018","55","4","5930","0061",3000000]
["2018","55","4","5930","0101",30782765]
["2018","55","4","5930","0180",4004915]
["2018","55","4","5930","0186",375800]
["2018","55","4","5930","1214",3750000]
["2018","55","4","5930","6301",3008570]
["2018","55","4","5930","6302",600000]
["2018","56","4","5945","0101",9909499]
["2018","56","4","5945","0180",2977268]
["2018","56","4","5945","0186",281543]
["2018","56","4","5945","1214",1128747]
["2018","56","4","5945","6301",1449259]
["2018","56","4","5945","6302",283077]
["2018","56","4","5995","0061",612942]
["2018","56","4","5995","0101",7163844]
["2018","56","4","5995","0180",801560]
["2018","56","4","5995","1214",1454701]
["2018","56","4","5995","6301",1246878]
["2018","56","4","5995","6302",340000]
["2018","57","4","4535","0061",0]
["2018","57","4","4535","0101",0]
["2018","57","4","4535","0180",0]
["2018","57","4","4535","1214",0]
["2018","57","4","4535","6301",0]
["2018","57","4","4535","6302",0]
["2018","57","4","6055","0101",7942496]
["2018","57","4","6055","0180",1406869]
["2018","57","4","6055","0186",127892]
["2018","57","4","6055","1214",1211320]
["2018","57","4","6055","6301",1070909]
["2018","57","4","6055","6302",232539]
["2018","57","4","6060","0061",650000]
["2018","57","4","6060","0101",24674805]
["2018","57","4","6060","0180",5078254]
["2018","57","4","6060","1214",3155610]
["2018","57","4","6060","6301",1900000]
["2018","57","4","6060","6302",570000]
["2018","57","4","6065","0061",375000]
["2018","57","4","6065","0101",17024116]
["2018","57","4","6065","0180",2045324]
["2018","57","4","6065","0186",390000]
["2018","57","4","6065","1214",1782458]
["2018","57","4","6065","6301",2430568]
["2018","57","4","6065","6302",527500]
["2018","57","4","8625","0061",0]
["2018","57","4","8625","0101",0]
["2018","57","4","8625","0180",0]
["2018","57","4","8625","0186",0]
["2018","57","4","8625","1214",0]
["2018","57","4","8625","6301",0]
["2018","57","4","8625","6302",0]
["2018","58","4","6080","0022",585519]
["2018","58","4","6080","0061",212000]
["2018","58","4","6080","0101",5849900]
["2018","58","4","6080","0180",622500]
["2018","58","4","6080","1214",912391]
["2018","58","4","6080","6301",465700]
["2018","58","4","6080","6302",150000]
["2018","59","4","6145","0061",175000]
["2018","59","4","6145","0101",6179620]
["2018","59","4","6145","0180",1146735]
["2018","59","4","6145","0186",300878]
["2018","59","4","6145","1214",704967]
["2018","59","4","6145","6301",467547]
["2018","59","4","6145","6302",63321]
["2018","59","4","6155","0061",551512]
["2018","59","4","6155","0101",11486909]
["2018","59","4","6155","0180",1402553]
["2018","59","4","6155","1214",953433]
["2018","59","4","6155","6301",834707]
["2018","59","4","6155","6302",212778]
["2018","59","4","6160","0061",691015]
["2018","59","4","6160","0101",5750000]
["2018","59","4","6160","0180",767000]
["2018","59","4","6160","0186",115250]
["2018","59","4","6160","1214",957057]
["2018","59","4","6160","6301",741386]
["2018","59","4","6160","6302",55000]
["2018","60","4","6195","0061",1000000]
["2018","60","4","6195","0101",18667460]
["2018","60","4","6195","0180",3831441]
["2018","60","4","6195","0186",227277]
["2018","60","4","6195","1214",2213158]
["2018","60","4","6195","6301",3243425]
["2018","60","4","6195","6302",0]
["2018","60","4","6750","0061",0]
["2018","60","4","6750","0101",0]
["2018","60","4","6750","0180",0]
["2018","60","4","6750","0186",0]
["2018","60","4","6750","1214",0]
["2018","60","4","6750","6301",0]
["2018","60","4","6750","6302",0]
["2018","61","4","1125","0101",0]
["2018","61","4","1125","0180",0]
["2018","61","4","1125","1214",0]
["2018","61","4","1125","6301",0]
["2018","61","4","1125","6302",0]
["2018","61","4","6260","0101",8070035]
["2018","61","4","6260","0180",1065970]
["2018","61","4","6260","1214",664043]
["2018","61","4","6260","6301",650000]
["2018","61","4","6260","6302",264256]
["2018","61","4","6375","0061",100000]
["2018","61","4","6375","0101",9215961]
["2018","61","4","6375","0180",34057]
["2018","61","4","6375","0181",1187500]
["2018","61","4","6375","0182",388000]
["2018","61","4","6375","1214",3704968]
["2018","61","4","6375","6301",1086750]
["2018","61","4","6375","6302",138560]
["2018","62","4","6325","0061",450000]
["2018","62","4","6325","0101",8700000]
["2018","62","4","6325","0180",523607]
["2018","62","4","6325","0186",204779]
["2018","62","4","6325","1214",719456]
["2018","62","4","6325","6301",990000]
["2018","62","4","6325","6302",51018]
["2018","62","4","6340","0101",2100000]
["2018","62","4","6340","0180",222500]
["2018","62","4","6340","1214",90500]
["2018","62","4","6340","6301",33839]
["2018","62","4","6340","6302",0]
["2018","62","4","6350","0061",450000]
["2018","62","4","6350","0101",10731000]
["2018","62","4","6350","0180",2769906]
["2018","62","4","6350","0186",418110]
["2018","62","4","6350","1214",1505863]
["2018","62","4","6350","6301",620000]
["2018","62","4","6350","6302",65127]
["2018","63","4","6445","0061",0]
["2018","63","4","6445","0101",12349856]
["2018","63","4","6445","0180",1586500]
["2018","63","4","6445","0186",568045]
["2018","63","4","6445","1214",2303821]
["2018","63","4","6445","6301",3494135]
["2018","63","4","6445","6302",245305]
["2018","64","4","4925","0101",0]
["2018","64","4","4925","0180",0]
["2018","64","4","4925","0186",0]
["2018","64","4","4925","1214",0]
["2018","64","4","4925","6301",0]
["2018","64","4","4925","6302",0]
["2018","64","4","6460","0022",560000]
["2018","64","4","6460","0101",7603944]
["2018","64","4","6460","0180",2611202]
["2018","64","4","6460","0186",126506]
["2018","64","4","6460","1214",615145]
["2018","64","4","6460","6301",554953]
["2018","64","4","6460","6302",58075]
["2018","64","4","6470","0022",7100000]
["2018","64","4","6470","0101",38500000]
["2018","64","4","6470","0180",7837000]
["2018","64","4","6470","0186",742167]
["2018","64","4","6470","1214",9500000]
["2018","64","4","6470","6301",4250000]
["2018","64","4","6470","6302",826130]
["2018","64","4","6510","0061",800000]
["2018","64","4","6510","0101",16500000]
["2018","64","4","6510","0180",6277736]
["2018","64","4","6510","0186",282986]
["2018","64","4","6510","1214",2371781]
["2018","64","4","6510","6301",1307892]
["2018","64","4","6510","6302",500532]
["2018","64","4","6520","0101",9789042]
["2018","64","4","6520","0180",2748191]
["2018","64","4","6520","0186",128135]
["2018","64","4","6520","1214",1471005]
["2018","64","4","6520","6301",1515184]
["2018","64","4","6520","6302",75509]
["2018","64","4","6530","0022",1329180]
["2018","64","4","6530","0101",10131000]
["2018","64","4","6530","0180",2385622]
["2018","64","4","6530","0186",93686]
["2018","64","4","6530","1214",1437575]
["2018","64","4","6530","6301",1509909]
["2018","64","4","6530","6302",357810]
["2018","64","4","6550","0061",4000000]
["2018","64","4","6550","0101",58689823]
["2018","64","4","6550","0180",6099521]
["2018","64","4","6550","0186",662878]
["2018","64","4","6550","1214",5552647]
["2018","64","4","6550","6301",5737392]
["2018","64","4","6550","6302",1204773]
["2018","64","4","6560","0022",4813852]
["2018","64","4","6560","0101",41853384]
["2018","64","4","6560","0180",4440068]
["2018","64","4","6560","0186",1601780]
["2018","64","4","6560","0287",11368002]
["2018","64","4","6560","1214",5275664]
["2018","64","4","6560","6301",4411852]
["2018","64","4","6560","6302",973244]
["2018","65","4","6590","0061",775000]
["2018","65","4","6590","0101",14509594]
["2018","65","4","6590","0180",3400321]
["2018","65","4","6590","1214",6663472]
["2018","65","4","6590","6301",2243507]
["2018","65","4","6590","6302",305433]
["2018","65","4","6600","0061",750000]
["2018","65","4","6600","0101",9904061]
["2018","65","4","6600","0180",494000]
["2018","65","4","6600","0181",461676]
["2018","65","4","6600","0186",315770]
["2018","65","4","6600","1214",1855928]
["2018","65","4","6600","6301",1185123]
["2018","65","4","6600","6302",21492]
["2018","66","4","5455","0061",0]
["2018","66","4","5455","0101",0]
["2018","66","4","5455","0180",0]
["2018","66","4","5455","0186",0]
["2018","66","4","5455","1214",0]
["2018","66","4","5455","6301",0]
["2018","66","4","5455","6302",0]
["2018","66","4","6620","0061",1000000]
["2018","66","4","6620","0101",8792236]
["2018","66","4","6620","0180",1158424]
["2018","66","4","6620","0186",275268]
["2018","66","4","6620","1214",1971294]
["2018","66","4","6620","6301",1155350]
["2018","66","4","6620","6302",270000]
["2018","66","4","6630","0061",700000]
["2018","66","4","6630","0101",6170696]
["2018","66","4","6630","0180",805185]
["2018","66","4","6630","1214",1172467]
["2018","66","4","6630","6301",599000]
["2018","66","4","6630","6302",200000]
["2018","66","4","7515","0061",0]
["2018","66","4","7515","0101",0]
["2018","66","4","7515","0180",0]
["2018","66","4","7515","0186",0]
["2018","66","4","7515","1214",0]
["2018","66","4","7515","6301",0]
["2018","66","4","7515","6302",0]
["2018","67","4","6705","0101",8446467]
["2018","67","4","6705","0180",2391404]
["2018","67","4","6705","0186",238973]
["2018","67","4","6705","1214",1040794]
["2018","67","4","6705","6301",868042]
["2018","67","4","6705","6302",272277]
["2018","67","4","6715","0061",700000]
["2018","67","4","6715","0101",11625500]
["2018","67","4","6715","0180",1316397]
["2018","67","4","6715","0186",231319]
["2018","67","4","6715","1214",1830415]
["2018","67","4","6715","6301",1631000]
["2018","67","4","6715","6302",380000]
["2018","67","4","6750","0061",1000000]
["2018","67","4","6750","0101",8313521]
["2018","67","4","6750","0180",1872415]
["2018","67","4","6750","0186",169673]
["2018","67","4","6750","1214",1091140]
["2018","67","4","6750","6301",1139862]
["2018","67","4","6750","6302",125000]
["2018","67","4","6755","0061",1000000]
["2018","67","4","6755","0101",13172000]
["2018","67","4","6755","0180",3469918]
["2018","67","4","6755","0186",244373]
["2018","67","4","6755","1214",1982605]
["2018","67","4","6755","6301",1126007]
["2018","67","4","6755","6302",326798]
["2018","68","4","6795","0061",280168]
["2018","68","4","6795","0101",3918626]
["2018","68","4","6795","0180",381411]
["2018","68","4","6795","0186",132305]
["2018","68","4","6795","1214",341103]
["2018","68","4","6795","6301",422800]
["2018","68","4","6795","6302",178000]
["2018","68","4","6805","0061",300000]
["2018","68","4","6805","0101",3537162]
["2018","68","4","6805","0180",566215]
["2018","68","4","6805","1214",559577]
["2018","68","4","6805","6301",410106]
["2018","68","4","6805","6302",140000]
["2018","68","4","6820","0101",7274080]
["2018","68","4","6820","0180",967438]
["2018","68","4","6820","0186",143911]
["2018","68","4","6820","1214",667943]
["2018","68","4","6820","6301",837122]
["2018","68","4","6820","6302",188086]
["2018","68","4","6825","0101",10458140]
["2018","68","4","6825","0180",1315300]
["2018","68","4","6825","0186",266439]
["2018","68","4","6825","1214",1349197]
["2018","68","4","6825","6301",916382]
["2018","68","4","6825","6302",230000]
["2018","68","4","6835","0061",704000]
["2018","68","4","6835","0101",6328449]
["2018","68","4","6835","0180",831951]
["2018","68","4","6835","1214",1012858]
["2018","68","4","6835","6301",541442]
["2018","68","4","6835","6302",110000]
["2018","69","4","1560","0061",0]
["2018","69","4","1560","0101",0]
["2018","69","4","1560","0180",0]
["2018","69","4","1560","0186",0]
["2018","69","4","1560","1214",0]
["2018","69","4","1560","6301",0]
["2018","69","4","1560","6302",0]
["2018","69","4","6865","0061",225000]
["2018","69","4","6865","0101",10184747]
["2018","69","4","6865","0180",1570091]
["2018","69","4","6865","1214",1043402]
["2018","69","4","6865","6301",1334932]
["2018","69","4","6865","6302",512000]
["2018","69","4","6895","0061",150000]
["2018","69","4","6895","0101",14500000]
["2018","69","4","6895","0180",2580000]
["2018","69","4","6895","1214",3110000]
["2018","69","4","6895","6301",1740000]
["2018","69","4","6895","6302",240000]
["2018","69","4","6900","0061",250000]
["2018","69","4","6900","0101",7035235]
["2018","69","4","6900","0180",728710]
["2018","69","4","6900","1214",1002991]
["2018","69","4","6900","6301",553176]
["2018","69","4","6900","6302",172000]
["2018","69","4","6910","0061",297014]
["2018","69","4","6910","0101",8000000]
["2018","69","4","6910","0180",1083723]
["2018","69","4","6910","1214",777440]
["2018","69","4","6910","6301",1300000]
["2018","69","4","6910","6302",0]
["2018","70","4","3455","0101",0]
["2018","70","4","3455","0180",0]
["2018","70","4","3455","1214",0]
["2018","70","4","3455","6301",0]
["2018","70","4","3455","6302",0]
["2018","70","4","6995","0061",500000]
["2018","70","4","6995","0101",15059246]
["2018","70","4","6995","0180",2165000]
["2018","70","4","6995","1214",2868914]
["2018","70","4","6995","6301",2625400]
["2018","70","4","6995","6302",496882]
["2018","71","4","4805","0061",0]
["2018","71","4","4805","0101",0]
["2018","71","4","4805","0180",0]
["2018","71","4","4805","0188",0]
["2018","71","4","4805","0189",0]
["2018","71","4","4805","0287",0]
["2018","71","4","4805","1214",0]
["2018","71","4","4805","6301",0]
["2018","71","4","4805","6302",0]
["2018","71","4","7150","0061",200000]
["2018","71","4","7150","0101",12693585]
["2018","71","4","7150","0180",467270]
["2018","71","4","7150","0188",1636000]
["2018","71","4","7150","0189",102102]
["2018","71","4","7150","1214",1344165]
["2018","71","4","7150","6301",936750]
["2018","71","4","7150","6302",297492]
["2018","71","4","7175","0061",200000]
["2018","71","4","7175","0101",73065649]
["2018","71","4","7175","0180",7450280]
["2018","71","4","7175","0188",778000]
["2018","71","4","7175","0189",803437]
["2018","71","4","7175","0608",144133]
["2018","71","4","7175","1214",7589016]
["2018","71","4","7175","2016",146036]
["2018","71","4","7175","6301",6332348]
["2018","71","4","7175","6302",637421]
["2018","71","4","7200","0022",1641676]
["2018","71","4","7200","0101",39154666]
["2018","71","4","7200","0180",624108]
["2018","71","4","7200","0188",5676749]
["2018","71","4","7200","0287",587000]
["2018","71","4","7200","0608",62350]
["2018","71","4","7200","1214",2271212]
["2018","71","4","7200","6301",830290]
["2018","71","4","7200","6302",124127]
["2018","71","4","7205","0101",129490603]
["2018","71","4","7205","0180",1215065]
["2018","71","4","7205","0188",17976788]
["2018","71","4","7205","0189",3008563]
["2018","71","4","7205","0608",177873]
["2018","71","4","7205","1214",15551758]
["2018","71","4","7205","2016",177873]
["2018","71","4","7205","6301",14617777]
["2018","71","4","7205","6302",938654]
["2018","71","4","7215","0061",0]
["2018","71","4","7215","0101",0]
["2018","71","4","7215","0180",0]
["2018","71","4","7215","1214",0]
["2018","71","4","7215","6301",0]
["2018","71","4","7215","6302",0]
["2018","72","4","7230","0101",9262000]
["2018","72","4","7230","0180",1253951]
["2018","72","4","7230","0186",146165]
["2018","72","4","7230","1214",701686]
["2018","72","4","7230","6301",283017]
["2018","72","4","7230","6302",8200]
["2018","72","4","7255","0101",19311296]
["2018","72","4","7255","0180",2907294]
["2018","72","4","7255","1214",2312493]
["2018","72","4","7255","6301",1848576]
["2018","72","4","7255","6302",462710]
["2018","73","4","1655","0061",0]
["2018","73","4","1655","0101",0]
["2018","73","4","1655","0180",0]
["2018","73","4","1655","0186",0]
["2018","73","4","1655","1214",0]
["2018","73","4","1655","6301",0]
["2018","73","4","1655","6302",0]
["2018","73","4","7285","0061",300000]
["2018","73","4","7285","0101",8700225]
["2018","73","4","7285","0180",2851217]
["2018","73","4","7285","0186",284496]
["2018","73","4","7285","1214",1745432]
["2018","73","4","7285","6301",1513524]
["2018","73","4","7285","6302",144300]
["2018","73","4","7350","0101",9767679]
["2018","73","4","7350","0180",1993683]
["2018","73","4","7350","0186",117912]
["2018","73","4","7350","1214",1641126]
["2018","73","4","7350","6301",1078399]
["2018","73","4","7350","6302",296423]
["2018","73","4","7360","0061",400000]
["2018","73","4","7360","0101",4603734]
["2018","73","4","7360","0180",774000]
["2018","73","4","7360","0186",0]
["2018","73","4","7360","1214",1469160]
["2018","73","4","7360","6301",956657]
["2018","73","4","7360","6302",248986]
["2018","73","4","7365","0061",475000]
["2018","73","4","7365","0101",27621439]
["2018","73","4","7365","0180",5993968]
["2018","73","4","7365","1214",2625314]
["2018","73","4","7365","6301",2413387]
["2018","73","4","7365","6302",478200]
["2018","74","4","7385","0061",1000000]
["2018","74","4","7385","0101",13586197]
["2018","74","4","7385","0180",2775813]
["2018","74","4","7385","0186",291077]
["2018","74","4","7385","1214",3087651]
["2018","74","4","7385","6301",2178400]
["2018","74","4","7385","6302",329500]
["2018","74","4","7445","0061",520000]
["2018","74","4","7445","0101",8725300]
["2018","74","4","7445","0180",1461650]
["2018","74","4","7445","1214",5465300]
["2018","74","4","7445","6301",1894000]
["2018","74","4","7445","6302",250000]
["2018","75","4","5455","0061",0]
["2018","75","4","5455","0101",0]
["2018","75","4","5455","0180",0]
["2018","75","4","5455","0186",0]
["2018","75","4","5455","1214",0]
["2018","75","4","5455","6301",0]
["2018","75","4","5455","6302",0]
["2018","75","4","7495","0022",512013]
["2018","75","4","7495","0061",200000]
["2018","75","4","7495","0101",3933241]
["2018","75","4","7495","0180",1026265]
["2018","75","4","7495","1214",675000]
["2018","75","4","7495","6301",646448]
["2018","75","4","7495","6302",168543]
["2018","75","4","7515","0061",415329]
["2018","75","4","7515","0101",7846130]
["2018","75","4","7515","0180",1365271]
["2018","75","4","7515","0186",66776]
["2018","75","4","7515","1214",1033658]
["2018","75","4","7515","6301",1280887]
["2018","75","4","7515","6302",300000]
["2018","75","4","7525","0061",1078000]
["2018","75","4","7525","0101",12760379]
["2018","75","4","7525","0180",3242577]
["2018","75","4","7525","0186",305514]
["2018","75","4","7525","1214",1195097]
["2018","75","4","7525","6301",1046550]
["2018","75","4","7525","6302",325000]
["2018","76","4","1835","0061",0]
["2018","76","4","1835","0101",0]
["2018","76","4","1835","0180",0]
["2018","76","4","1835","1214",0]
["2018","76","4","1835","6301",0]
["2018","76","4","1835","6302",0]
["2018","76","4","4515","0061",775000]
["2018","76","4","4515","0101",8442700]
["2018","76","4","4515","0180",864744]
["2018","76","4","4515","1214",2178712]
["2018","76","4","4515","6301",2276620]
["2018","76","4","4515","6302",357250]
["2018","76","4","7605","0022",1964000]
["2018","76","4","7605","0061",372000]
["2018","76","4","7605","0101",6231000]
["2018","76","4","7605","0180",1609717]
["2018","76","4","7605","0186",184725]
["2018","76","4","7605","1214",2250000]
["2018","76","4","7605","6301",1290000]
["2018","76","4","7605","6302",248000]
["2018","76","4","7610","0022",2100707]
["2018","76","4","7610","0061",750000]
["2018","76","4","7610","0101",2362293]
["2018","76","4","7610","0180",283575]
["2018","76","4","7610","1214",1005118]
["2018","76","4","7610","6301",908900]
["2018","76","4","7610","6302",135500]
["2018","76","4","7615","0061",1325000]
["2018","76","4","7615","0101",19541400]
["2018","76","4","7615","0180",3256918]
["2018","76","4","7615","0186",386606]
["2018","76","4","7615","1214",3372677]
["2018","76","4","7615","6301",1997000]
["2018","76","4","7615","6302",427250]
["2018","77","4","7645","0061",500000]
["2018","77","4","7645","0101",6329921]
["2018","77","4","7645","0180",1226270]
["2018","77","4","7645","0186",344216]
["2018","77","4","7645","1214",1140668]
["2018","77","4","7645","6301",1160387]
["2018","77","4","7645","6302",1801]
["2018","77","4","7715","0061",1000000]
["2018","77","4","7715","0101",11773000]
["2018","77","4","7715","0180",2525911]
["2018","77","4","7715","0186",640837]
["2018","77","4","7715","1214",2284930]
["2018","77","4","7715","6301",1818016]
["2018","77","4","7715","6302",0]
["2018","78","4","7775","0101",10800000]
["2018","78","4","7775","0180",661058]
["2018","78","4","7775","1214",1864242]
["2018","78","4","7775","6301",1693139]
["2018","78","4","7775","6302",481289]
["2018","79","4","0395","0061",0]
["2018","79","4","0395","0101",0]
["2018","79","4","0395","0180",0]
["2018","79","4","0395","0186",0]
["2018","79","4","0395","1214",0]
["2018","79","4","0395","6301",0]
["2018","79","4","0395","6302",0]
["2018","79","4","7855","0061",300000]
["2018","79","4","7855","0101",54229880]
["2018","79","4","7855","0180",11114287]
["2018","79","4","7855","1214",6574825]
["2018","79","4","7855","6301",3872115]
["2018","79","4","7855","6302",1280000]
["2018","79","4","7865","0061",2000000]
["2018","79","4","7865","0101",93959434]
["2018","79","4","7865","0180",20399653]
["2018","79","4","7865","1214",12441723]
["2018","79","4","7865","6301",7155429]
["2018","79","4","7865","6302",1805461]
["2018","79","4","7875","0022",6700000]
["2018","79","4","7875","0061",1333000]
["2018","79","4","7875","0101",17600000]
["2018","79","4","7875","0180",6450000]
["2018","79","4","7875","1214",3250000]
["2018","79","4","7875","6301",750000]
["2018","79","4","7875","6302",398078]
["2018","80","4","7935","0061",290000]
["2018","80","4","7935","0101",5090377]
["2018","80","4","7935","0180",1594090]
["2018","80","4","7935","0186",222343]
["2018","80","4","7935","1214",1065234]
["2018","80","4","7935","6301",766825]
["2018","80","4","7935","6302",0]
["2018","80","4","7945","0061",0]
["2018","80","4","7945","0101",10352282]
["2018","80","4","7945","0180",2808789]
["2018","80","4","7945","1214",1814116]
["2018","80","4","7945","6301",1265834]
["2018","80","4","7945","6302",215373]
["2018","81","4","7950","0061",75000]
["2018","81","4","7950","0101",10976128]
["2018","81","4","7950","0180",2179158]
["2018","81","4","7950","0186",131911]
["2018","81","4","7950","1214",1936128]
["2018","81","4","7950","6301",1100000]
["2018","81","4","7950","6302",100000]
["2018","82","4","7995","0061",6812018]
["2018","82","4","7995","0101",163922358]
["2018","82","4","7995","0180",12645498]
["2018","82","4","7995","0187",12451000]
["2018","82","4","7995","0608",318243]
["2018","82","4","7995","1214",28652732]
["2018","82","4","7995","2016",329632]
["2018","82","4","7995","6301",15679916]
["2018","82","4","7995","6302",3087844]
["2018","83","4","8010","0061",300000]
["2018","83","4","8010","0101",5189000]
["2018","83","4","8010","0180",1414378]
["2018","83","4","8010","1214",1072962]
["2018","83","4","8010","6301",783850]
["2018","83","4","8010","6302",76382]
["2018","83","4","8020","0101",12060000]
["2018","83","4","8020","0180",1474501]
["2018","83","4","8020","1214",2070381]
["2018","83","4","8020","6301",864000]
["2018","83","4","8020","6302",150000]
["2018","84","4","8030","0101",114000000]
["2018","84","4","8030","0180",8367821]
["2018","84","4","8030","1214",17100879]
["2018","84","4","8030","6301",6170298]
["2018","84","4","8030","6302",2090281]
["2018","85","4","8045","0101",10395709]
["2018","85","4","8045","0180",1388199]
["2018","85","4","8045","0186",215897]
["2018","85","4","8045","1214",1692308]
["2018","85","4","8045","6301",844340]
["2018","85","4","8045","6302",55769]
["2018","85","4","8050","0061",730000]
["2018","85","4","8050","0101",15087726]
["2018","85","4","8050","0180",2660093]
["2018","85","4","8050","0186",202068]
["2018","85","4","8050","1214",2132731]
["2018","85","4","8050","6301",1463871]
["2018","85","4","8050","6302",466445]
["2018","85","4","8060","0101",10271600]
["2018","85","4","8060","0180",1514468]
["2018","85","4","8060","1214",1032865]
["2018","85","4","8060","6301",608750]
["2018","85","4","8060","6302",215000]
["2018","86","4","0395","0061",0]
["2018","86","4","0395","0101",0]
["2018","86","4","0395","0180",0]
["2018","86","4","0395","0186",0]
["2018","86","4","0395","1214",0]
["2018","86","4","0395","6301",0]
["2018","86","4","0395","6302",0]
["2018","86","4","2440","0061",0]
["2018","86","4","2440","0101",0]
["2018","86","4","2440","0180",0]
["2018","86","4","2440","1214",0]
["2018","86","4","2440","6301",0]
["2018","86","4","2440","6302",0]
["2018","86","4","8115","0061",550000]
["2018","86","4","8115","0101",9314300]
["2018","86","4","8115","0180",1921455]
["2018","86","4","8115","1214",1468597]
["2018","86","4","8115","6301",1102919]
["2018","86","4","8115","6302",350000]
["2018","87","4","8130","0061",517000]
["2018","87","4","8130","0101",67995465]
["2018","87","4","8130","0180",6943700]
["2018","87","4","8130","1214",10691024]
["2018","87","4","8130","6301",7929200]
["2018","87","4","8130","6302",955400]
["2018","88","4","8205","0061",15000]
["2018","88","4","8205","0101",13400005]
["2018","88","4","8205","0180",2124775]
["2018","88","4","8205","0186",184829]
["2018","88","4","8205","1214",1538970]
["2018","88","4","8205","6301",828000]
["2018","88","4","8205","6302",278295]
["2018","88","4","8215","0061",272500]
["2018","88","4","8215","0101",11046409]
["2018","88","4","8215","0180",1428688]
["2018","88","4","8215","0186",0]
["2018","88","4","8215","1214",1051313]
["2018","88","4","8215","6301",856371]
["2018","88","4","8215","6302",210000]
["2018","88","4","8220","0061",500000]
["2018","88","4","8220","0101",6700000]
["2018","88","4","8220","0180",746737]
["2018","88","4","8220","0186",225780]
["2018","88","4","8220","1214",852271]
["2018","88","4","8220","6301",884190]
["2018","88","4","8220","6302",217812]
["2018","89","4","8305","0061",0]
["2018","89","4","8305","0101",7877658]
["2018","89","4","8305","0180",1435315]
["2018","89","4","8305","1214",986938]
["2018","89","4","8305","6301",770408]
["2018","89","4","8305","6302",113890]
["2018","89","4","8355","0061",1113977]
["2018","89","4","8355","0101",6676578]
["2018","89","4","8355","0180",869903]
["2018","89","4","8355","0186",66154]
["2018","89","4","8355","1214",640017]
["2018","89","4","8355","6301",552873]
["2018","89","4","8355","6302",226598]
["2018","89","4","8360","0061",800000]
["2018","89","4","8360","0101",11428642]
["2018","89","4","8360","0180",2186018]
["2018","89","4","8360","0186",154321]
["2018","89","4","8360","1214",1451030]
["2018","89","4","8360","6301",1097045]
["2018","89","4","8360","6302",246629]
["2018","89","4","8375","0101",8989664]
["2018","89","4","8375","0180",965836]
["2018","89","4","8375","0186",236308]
["2018","89","4","8375","1214",885412]
["2018","89","4","8375","6301",675148]
["2018","89","4","8375","6302",185028]
["2018","89","4","8385","0061",600000]
["2018","89","4","8385","0101",38371624]
["2018","89","4","8385","0180",1423488]
["2018","89","4","8385","0186",1720357]
["2018","89","4","8385","1214",4373099]
["2018","89","4","8385","6301",2954250]
["2018","89","4","8385","6302",782481]
["2018","90","4","8425","0021",0]
["2018","90","4","8425","0022",480500]
["2018","90","4","8425","0061",500000]
["2018","90","4","8425","0101",5908019]
["2018","90","4","8425","0180",222000]
["2018","90","4","8425","1214",763904]
["2018","90","4","8425","6301",706345]
["2018","90","4","8425","6302",189274]
["2018","90","4","8435","0101",15973413]
["2018","90","4","8435","0180",2048908]
["2018","90","4","8435","0186",364740]
["2018","90","4","8435","0287",989300]
["2018","90","4","8435","1214",2669208]
["2018","90","4","8435","6301",1659071]
["2018","90","4","8435","6302",122249]
["2018","90","4","8445","0061",550000]
["2018","90","4","8445","0101",12643087]
["2018","90","4","8445","0180",2533869]
["2018","90","4","8445","1214",1786241]
["2018","90","4","8445","6301",1041430]
["2018","90","4","8445","6302",300000]
["2018","91","4","0775","0061",0]
["2018","91","4","0775","0101",0]
["2018","91","4","0775","0180",0]
["2018","91","4","0775","0186",0]
["2018","91","4","0775","1214",0]
["2018","91","4","0775","6301",0]
["2018","91","4","0775","6302",0]
["2018","91","4","8515","0061",350000]
["2018","91","4","8515","0101",7457106]
["2018","91","4","8515","0180",1531588]
["2018","91","4","8515","1214",1935112]
["2018","91","4","8515","6301",1389676]
["2018","91","4","8515","6302",256597]
["2018","91","4","8525","0101",4758725]
["2018","91","4","8525","0180",1637857]
["2018","91","4","8525","1214",1109226]
["2018","91","4","8525","6301",454272]
["2018","91","4","8525","6302",210000]
["2018","91","4","8535","0022",1462866]
["2018","91","4","8535","0061",172834]
["2018","91","4","8535","0101",5050118]
["2018","91","4","8535","0180",749662]
["2018","91","4","8535","1214",2033786]
["2018","91","4","8535","6301",805606]
["2018","91","4","8535","6302",305000]
["2018","91","4","8565","0061",800000]
["2018","91","4","8565","0101",16476967]
["2018","91","4","8565","0180",1843775]
["2018","91","4","8565","1214",3485282]
["2018","91","4","8565","6301",1574165]
["2018","91","4","8565","6302",475000]
["2018","92","4","4455","0101",0]
["2018","92","4","4455","0180",0]
["2018","92","4","4455","1214",0]
["2018","92","4","4455","6301",0]
["2018","92","4","4455","6302",0]
["2018","92","4","8625","0061",500000]
["2018","92","4","8625","0101",7566809]
["2018","92","4","8625","0180",1252963]
["2018","92","4","8625","0186",0]
["2018","92","4","8625","1214",1117434]
["2018","92","4","8625","6301",564664]
["2018","92","4","8625","6302",224640]
["2018","92","4","8665","0061",100000]
["2018","92","4","8665","0101",23828096]
["2018","92","4","8665","0180",4774081]
["2018","92","4","8665","0186",570027]
["2018","92","4","8665","0287",2072000]
["2018","92","4","8665","1214",3729757]
["2018","92","4","8665","6301",2382655]
["2018","92","4","8665","6302",495109]

{"sheet":"Line 1 Support 1","index":2,"n_rows":2500,"n_cols":9,"rows_kept":2500,"cut":false,"hidden":true,"merged":[]}
[{"$f":"IF('Line 1 Source'!A1<>\"\",'Line 1 Source'!A1,\"\")","v":"YR_NBR"},"Mod","School Name Fund Code Mod",null,{"$f":"IF('Line 1 Source'!B1<>\"\",'Line 1 Source'!B1,\"\")","v":"CNTY_CD"},{"$f":"IF('Line 1 Source'!C1<>\"\",'Line 1 Source'!C1,\"\")","v":"UNIT_TYPE_CD"},{"$f":"IF('Line 1 Source'!D1<>\"\",'Line 1 Source'!D1,\"\")","v":"UNIT_CD"},{"$f":"IF('Line 1 Source'!E1<>\"\",'Line 1 Source'!E1,\"\")","v":"FUND_CD"},{"$f":"IF('Line 1 Source'!F1<>\"\",'Line 1 Source'!F1,\"\")","v":"CERTD_APPROP_AMT"}]
[{"$f":"IF('Line 1 Source'!A2<>\"\",'Line 1 Source'!A2,\"\")","v":"2018"},{"$f":"CONCATENATE(E2,F2,G2)","v":"0140015"},{"$f":"CONCATENATE(VLOOKUP(B2,'School List'!$B$3:$H$291,6,FALSE),H2)","v":"00150061"},{"$f":"CONCATENATE(VLOOKUP(B2,'School List'!$B$3:$D$291,3,FALSE),H2)","v":"Adams County - ADAMS CENTRAL COMMUNITY SCHOOL CORP0061"},{"$f":"IF('Line 1 Source'!B2<>\"\",'Line 1 Source'!B2,\"\")","v":"01"},{"$f":"IF('Line 1 Source'!C2<>\"\",'Line 1 Source'!C2,\"\")","v":"4"},{"$f":"IF('Line 1 Source'!D2<>\"\",'Line 1 Source'!D2,\"\")","v":"0015"},{"$f":"IF('Line 1 Source'!E2<>\"\",'Line 1 Source'!E2,\"\")","v":"0061"},{"$f":"IF('Line 1 Source'!F2<>\"\",'Line 1 Source'!F2,\"\")","v":565164}]
[{"$f":"IF('Line 1 Source'!A3<>\"\",'Line 1 Source'!A3,\"\")","v":"2018"},{"$f":"CONCATENATE(E3,F3,G3)","v":"0140015"},{"$f":"CONCATENATE(VLOOKUP(B3,'School List'!$B$3:$H$291,6,FALSE),H3)","v":"00150101"},{"$f":"CONCATENATE(VLOOKUP(B3,'School List'!$B$3:$D$291,3,FALSE),H3)","v":"Adams County - ADAMS CENTRAL COMMUNITY SCHOOL CORP0101"},{"$f":"IF('Line 1 Source'!B3<>\"\",'Line 1 Source'!B3,\"\")","v":"01"},{"$f":"IF('Line 1 Source'!C3<>\"\",'Line 1 Source'!C3,\"\")","v":"4"},{"$f":"IF('Line 1 Source'!D3<>\"\",'Line 1 Source'!D3,\"\")","v":"0015"},{"$f":"IF('Line 1 Source'!E3<>\"\",'Line 1 Source'!E3,\"\")","v":"0101"},{"$f":"IF('Line 1 Source'!F3<>\"\",'Line 1 Source'!F3,\"\")","v":8770340}]
[{"$f":"IF('Line 1 Source'!A4<>\"\",'Line 1 Source'!A4,\"\")","v":"2018"},"0140015",{"$f":"CONCATENATE(VLOOKUP(B4,'School List'!$B$3:$H$291,6,FALSE),H4)","v":"00150180"},{"$f":"CONCATENATE(VLOOKUP(B4,'School List'!$B$3:$D$291,3,FALSE),H4)","v":"Adams County - ADAMS CENTRAL COMMUNITY SCHOOL CORP0180"},{"$f":"IF('Line 1 Source'!B4<>\"\",'Line 1 Source'!B4,\"\")","v":"01"},{"$f":"IF('Line 1 Source'!C4<>\"\",'Line 1 Source'!C4,\"\")","v":"4"},{"$f":"IF('Line 1 Source'!D4<>\"\",'Line 1 Source'!D4,\"\")","v":"0015"},{"$f":"IF('Line 1 Source'!E4<>\"\",'Line 1 Source'!E4,\"\")","v":"0180"},{"$f":"IF('Line 1 Source'!F4<>\"\",'Line 1 Source'!F4,\"\")","v":2090680}]
[{"$f":"IF('Line 1 Source'!A5<>\"\",'Line 1 Source'!A5,\"\")","v":"2018"},"0140015",{"$f":"CONCATENATE(VLOOKUP(B5,'School List'!$B$3:$H$291,6,FALSE),H5)","v":"00151214"},{"$f":"CONCATENATE(VLOOKUP(B5,'School List'!$B$3:$D$291,3,FALSE),H5)","v":"Adams County - ADAMS CENTRAL COMMUNITY SCHOOL CORP1214"},{"$f":"IF('Line 1 Source'!B5<>\"\",'Line 1 Source'!B5,\"\")","v":"01"},{"$f":"IF('Line 1 Source'!C5<>\"\",'Line 1 Source'!C5,\"\")","v":"4"},{"$f":"IF('Line 1 Source'!D5<>\"\",'Line 1 Source'!D5,\"\")","v":"0015"},{"$f":"IF('Line 1 Source'!E5<>\"\",'Line 1 Source'!E5,\"\")","v":"1214"},{"$f":"IF('Line 1 Source'!F5<>\"\",'Line 1 Source'!F5,\"\")","v":1360010}]
[{"$f":"IF('Line 1 Source'!A6<>\"\",'Line 1 Source'!A6,\"\")","v":"2018"},"0140015",{"$f":"CONCATENATE(VLOOKUP(B6,'School List'!$B$3:$H$291,6,FALSE),H6)","v":"00156301"},{"$f":"CONCATENATE(VLOOKUP(B6,'School List'!$B$3:$D$291,3,FALSE),H6)","v":"Adams County - ADAMS CENTRAL COMMUNITY SCHOOL CORP6301"},{"$f":"IF('Line 1 Source'!B6<>\"\",'Line 1 Source'!B6,\"\")","v":"01"},{"$f":"IF('Line 1 Source'!C6<>\"\",'Line 1 Source'!C6,\"\")","v":"4"},{"$f":"IF('Line 1 Source'!D6<>\"\",'Line 1 Source'!D6,\"\")","v":"0015"},{"$f":"IF('Line 1 Source'!E6<>\"\",'Line 1 Source'!E6,\"\")","v":"6301"},{"$f":"IF('Line 1 Source'!F6<>\"\",'Line 1 Source'!F6,\"\")","v":888081}]
[{"$f":"IF('Line 1 Source'!A7<>\"\",'Line 1 Source'!A7,\"\")","v":"2018"},"0140015",{"$f":"CONCATENATE(VLOOKUP(B7,'School List'!$B$3:$H$291,6,FALSE),H7)","v":"00156302"},{"$f":"CONCATENATE(VLOOKUP(B7,'School List'!$B$3:$D$291,3,FALSE),H7)","v":"Adams County - ADAMS CENTRAL COMMUNITY SCHOOL CORP6302"},{"$f":"IF('Line 1 Source'!B7<>\"\",'Line 1 Source'!B7,\"\")","v":"01"},{"$f":"IF('Line 1 Source'!C7<>\"\",'Line 1 Source'!C7,\"\")","v":"4"},{"$f":"IF('Line 1 Source'!D7<>\"\",'Line 1 Source'!D7,\"\")","v":"0015"},{"$f":"IF('Line 1 Source'!E7<>\"\",'Line 1 Source'!E7,\"\")","v":"6302"},{"$f":"IF('Line 1 Source'!F7<>\"\",'Line 1 Source'!F7,\"\")","v":229493}]
[{"$f":"IF('Line 1 Source'!A8<>\"\",'Line 1 Source'!A8,\"\")","v":"2018"},"0140025",{"$f":"CONCATENATE(VLOOKUP(B8,'School List'!$B$3:$H$291,6,FALSE),H8)","v":"00250061"},{"$f":"CONCATENATE(VLOOKUP(B8,'School List'!$B$3:$D$291,3,FALSE),H8)","v":"Adams County - NORTH ADAMS COMMUNITY SCHOOL CORP0061"},{"$f":"IF('Line 1 Source'!B8<>\"\",'Line 1 Source'!B8,\"\")","v":"01"},{"$f":"IF('Line 1 Source'!C8<>\"\",'Line 1 Source'!C8,\"\")","v":"4"},{"$f":"IF('Line 1 Source'!D8<>\"\",'Line 1 Source'!D8,\"\")","v":"0025"},{"$f":"IF('Line 1 Source'!E8<>\"\",'Line 1 Source'!E8,\"\")","v":"0061"},{"$f":"IF('Line 1 Source'!F8<>\"\",'Line 1 Source'!F8,\"\")","v":2616}]
[{"$f":"IF('Line 1 Source'!A9<>\"\",'Line 1 Source'!A9,\"\")","v":"2018"},"0140025",{"$f":"CONCATENATE(VLOOKUP(B9,'School List'!$B$3:$H$291,6,FALSE),H9)","v":"00250101"},{"$f":"CONCATENATE(VLOOKUP(B9,'School List'!$B$3:$D$291,3,FALSE),H9)","v":"Adams County - NORTH ADAMS COMMUNITY SCHOOL CORP0101"},{"$f":"IF('Line 1 Source'!B9<>\"\",'Line 1 Source'!B9,\"\")","v":"01"},{"$f":"IF('Line 1 Source'!C9<>\"\",'Line 1 Source'!C9,\"\")","v":"4"},{"$f":"IF('Line 1 Source'!D9<>\"\",'Line 1 Source'!D9,\"\")","v":"0025"},{"$f":"IF('Line 1 Source'!E9<>\"\",'Line 1 Source'!E9,\"\")","v":"0101"},{"$f":"IF('Line 1 Source'!F9<>\"\",'Line 1 Source'!F9,\"\")","v":12145244}]
[{"$f":"IF('Line 1 Source'!A10<>\"\",'Line 1 Source'!A10,\"\")","v":"2018"},"0140025",{"$f":"CONCATENATE(VLOOKUP(B10,'School List'!$B$3:$H$291,6,FALSE),H10)","v":"00250180"},{"$f":"CONCATENATE(VLOOKUP(B10,'School List'!$B$3:$D$291,3,FALSE),H10)","v":"Adams County - NORTH ADAMS COMMUNITY SCHOOL CORP0180"},{"$f":"IF('Line 1 Source'!B10<>\"\",'Line 1 Source'!B10,\"\")","v":"01"},{"$f":"IF('Line 1 Source'!C10<>\"\",'Line 1 Source'!C10,\"\")","v":"4"},{"$f":"IF('Line 1 Source'!D10<>\"\",'Line 1 Source'!D10,\"\")","v":"0025"},{"$f":"IF('Line 1 Source'!E10<>\"\",'Line 1 Source'!E10,\"\")","v":"0180"},{"$f":"IF('Line 1 Source'!F10<>\"\",'Line 1 Source'!F10,\"\")","v":3220575}]
[{"$f":"IF('Line 1 Source'!A11<>\"\",'Line 1 Source'!A11,\"\")","v":"2018"},"0140025",{"$f":"CONCATENATE(VLOOKUP(B11,'School List'!$B$3:$H$291,6,FALSE),H11)","v":"00250186"},{"$f":"CONCATENATE(VLOOKUP(B11,'School List'!$B$3:$D$291,3,FALSE),H11)","v":"Adams County - NORTH ADAMS COMMUNITY SCHOOL CORP0186"},{"$f":"IF('Line 1 Source'!B11<>\"\",'Line 1 Source'!B11,\"\")","v":"01"},{"$f":"IF('Line 1 Source'!C11<>\"\",'Line 1 Source'!C11,\"\")","v":"4"},{"$f":"IF('Line 1 Source'!D11<>\"\",'Line 1 Source'!D11,\"\")","v":"0025"},{"$f":"IF('Line 1 Source'!E11<>\"\",'Line 1 Source'!E11,\"\")","v":"0186"},{"$f":"IF('Line 1 Source'!F11<>\"\",'Line 1 Source'!F11,\"\")","v":633756}]
[{"$f":"IF('Line 1 Source'!A12<>\"\",'Line 1 Source'!A12,\"\")","v":"2018"},"0140025",{"$f":"CONCATENATE(VLOOKUP(B12,'School List'!$B$3:$H$291,6,FALSE),H12)","v":"00251214"},{"$f":"CONCATENATE(VLOOKUP(B12,'School List'!$B$3:$D$291,3,FALSE),H12)","v":"Adams County - NORTH ADAMS COMMUNITY SCHOOL CORP1214"},{"$f":"IF('Line 1 Source'!B12<>\"\",'Line 1 Source'!B12,\"\")","v":"01"},{"$f":"IF('Line 1 Source'!C12<>\"\",'Line 1 Source'!C12,\"\")","v":"4"},{"$f":"IF('Line 1 Source'!D12<>\"\",'Line 1 Source'!D12,\"\")","v":"0025"},{"$f":"IF('Line 1 Source'!E12<>\"\",'Line 1 Source'!E12,\"\")","v":"1214"},{"$f":"IF('Line 1 Source'!F12<>\"\",'Line 1 Source'!F12,\"\")","v":2188811}]
[{"$f":"IF('Line 1 Source'!A13<>\"\",'Line 1 Source'!A13,\"\")","v":"2018"},"0140025",{"$f":"CONCATENATE(VLOOKUP(B13,'School List'!$B$3:$H$291,6,FALSE),H13)","v":"00256301"},{"$f":"CONCATENATE(VLOOKUP(B13,'School List'!$B$3:$D$291,3,FALSE),H13)","v":"Adams County - NORTH ADAMS COMMUNITY SCHOOL CORP6301"},{"$f":"IF('Line 1 Source'!B13<>\"\",'Line 1 Source'!B13,\"\")","v":"01"},{"$f":"IF('Line 1 Source'!C13<>\"\",'Line 1 Source'!C13,\"\")","v":"4"},{"$f":"IF('Line 1 Source'!D13<>\"\",'Line 1 Source'!D13,\"\")","v":"0025"},{"$f":"IF('Line 1 Source'!E13<>\"\",'Line 1 Source'!E13,\"\")","v":"6301"},{"$f":"IF('Line 1 Source'!F13<>\"\",'Line 1 Source'!F13,\"\")","v":1167211}]
[{"$f":"IF('Line 1 Source'!A14<>\"\",'Line 1 Source'!A14,\"\")","v":"2018"},"0140025",{"$f":"CONCATENATE(VLOOKUP(B14,'School List'!$B$3:$H$291,6,FALSE),H14)","v":"00256302"},{"$f":"CONCATENATE(VLOOKUP(B14,'School List'!$B$3:$D$291,3,FALSE),H14)","v":"Adams County - NORTH ADAMS COMMUNITY SCHOOL CORP6302"},{"$f":"IF('Line 1 Source'!B14<>\"\",'Line 1 Source'!B14,\"\")","v":"01"},{"$f":"IF('Line 1 Source'!C14<>\"\",'Line 1 Source'!C14,\"\")","v":"4"},{"$f":"IF('Line 1 Source'!D14<>\"\",'Line 1 Source'!D14,\"\")","v":"0025"},{"$f":"IF('Line 1 Source'!E14<>\"\",'Line 1 Source'!E14,\"\")","v":"6302"},{"$f":"IF('Line 1 Source'!F14<>\"\",'Line 1 Source'!F14,\"\")","v":111242}]
[{"$f":"IF('Line 1 Source'!A15<>\"\",'Line 1 Source'!A15,\"\")","v":"2018"},"0140035",{"$f":"CONCATENATE(VLOOKUP(B15,'School List'!$B$3:$H$291,6,FALSE),H15)","v":"00350061"},{"$f":"CONCATENATE(VLOOKUP(B15,'School List'!$B$3:$D$291,3,FALSE),H15)","v":"Adams County - SOUTH ADAMS SCHOOL CORPORATION0061"},{"$f":"IF('Line 1 Source'!B15<>\"\",'Line 1 Source'!B15,\"\")","v":"01"},{"$f":"IF('Line 1 Source'!C15<>\"\",'Line 1 Source'!C15,\"\")","v":"4"},{"$f":"IF('Line 1 Source'!D15<>\"\",'Line 1 Source'!D15,\"\")","v":"0035"},{"$f":"IF('Line 1 Source'!E15<>\"\",'Line 1 Source'!E15,\"\")","v":"0061"},{"$f":"IF('Line 1 Source'!F15<>\"\",'Line 1 Source'!F15,\"\")","v":1585148}]
[{"$f":"IF('Line 1 Source'!A16<>\"\",'Line 1 Source'!A16,\"\")","v":"2018"},"0140035",{"$f":"CONCATENATE(VLOOKUP(B16,'School List'!$B$3:$H$291,6,FALSE),H16)","v":"00350101"},{"$f":"CONCATENATE(VLOOKUP(B16,'School List'!$B$3:$D$291,3,FALSE),H16)","v":"Adams County - SOUTH ADAMS SCHOOL CORPORATION0101"},{"$f":"IF('Line 1 Source'!B16<>\"\",'Line 1 Source'!B16,\"\")","v":"01"},{"$f":"IF('Line 1 Source'!C16<>\"\",'Line 1 Source'!C16,\"\")","v":"4"},{"$f":"IF('Line 1 Source'!D16<>\"\",'Line 1 Source'!D16,\"\")","v":"0035"},{"$f":"IF('Line 1 Source'!E16<>\"\",'Line 1 Source'!E16,\"\")","v":"0101"},{"$f":"IF('Line 1 Source'!F16<>\"\",'Line 1 Source'!F16,\"\")","v":9317817}]
[{"$f":"IF('Line 1 Source'!A17<>\"\",'Line 1 Source'!A17,\"\")","v":"2018"},"0140035",{"$f":"CONCATENATE(VLOOKUP(B17,'School List'!$B$3:$H$291,6,FALSE),H17)","v":"00350180"},{"$f":"CONCATENATE(VLOOKUP(B17,'School List'!$B$3:$D$291,3,FALSE),H17)","v":"Adams County - SOUTH ADAMS SCHOOL CORPORATION0180"},{"$f":"IF('Line 1 Source'!B17<>\"\",'Line 1 Source'!B17,\"\")","v":"01"},{"$f":"IF('Line 1 Source'!C17<>\"\",'Line 1 Source'!C17,\"\")","v":"4"},{"$f":"IF('Line 1 Source'!D17<>\"\",'Line 1 Source'!D17,\"\")","v":"0035"},{"$f":"IF('Line 1 Source'!E17<>\"\",'Line 1 Source'!E17,\"\")","v":"0180"},{"$f":"IF('Line 1 Source'!F17<>\"\",'Line 1 Source'!F17,\"\")","v":2025855}]
[{"$f":"IF('Line 1 Source'!A18<>\"\",'Line 1 Source'!A18,\"\")","v":"2018"},"0140035",{"$f":"CONCATENATE(VLOOKUP(B18,'School List'!$B$3:$H$291,6,FALSE),H18)","v":"00351214"},{"$f":"CONCATENATE(VLOOKUP(B18,'School List'!$B$3:$D$291,3,FALSE),H18)","v":"Adams County - SOUTH ADAMS SCHOOL CORPORATION1214"},{"$f":"IF('Line 1 Source'!B18<>\"\",'Line 1 Source'!B18,\"\")","v":"01"},{"$f":"IF('Line 1 Source'!C18<>\"\",'Line 1 Source'!C18,\"\")","v":"4"},{"$f":"IF('Line 1 Source'!D18<>\"\",'Line 1 Source'!D18,\"\")","v":"0035"},{"$f":"IF('Line 1 Source'!E18<>\"\",'Line 1 Source'!E18,\"\")","v":"1214"},{"$f":"IF('Line 1 Source'!F18<>\"\",'Line 1 Source'!F18,\"\")","v":1648670}]
[{"$f":"IF('Line 1 Source'!A19<>\"\",'Line 1 Source'!A19,\"\")","v":"2018"},"0140035",{"$f":"CONCATENATE(VLOOKUP(B19,'School List'!$B$3:$H$291,6,FALSE),H19)","v":"00356301"},{"$f":"CONCATENATE(VLOOKUP(B19,'School List'!$B$3:$D$291,3,FALSE),H19)","v":"Adams County - SOUTH ADAMS SCHOOL CORPORATION6301"},{"$f":"IF('Line 1 Source'!B19<>\"\",'Line 1 Source'!B19,\"\")","v":"01"},{"$f":"IF('Line 1 Source'!C19<>\"\",'Line 1 Source'!C19,\"\")","v":"4"},{"$f":"IF('Line 1 Source'!D19<>\"\",'Line 1 Source'!D19,\"\")","v":"0035"},{"$f":"IF('Line 1 Source'!E19<>\"\",'Line 1 Source'!E19,\"\")","v":"6301"},{"$f":"IF('Line 1 Source'!F19<>\"\",'Line 1 Source'!F19,\"\")","v":1525000}]
[{"$f":"IF('Line 1 Source'!A20<>\"\",'Line 1 Source'!A20,\"\")","v":"2018"},"0140035",{"$f":"CONCATENATE(VLOOKUP(B20,'School List'!$B$3:$H$291,6,FALSE),H20)","v":"00356302"},{"$f":"CONCATENATE(VLOOKUP(B20,'School List'!$B$3:$D$291,3,FALSE),H20)","v":"Adams County - SOUTH ADAMS SCHOOL CORPORATION6302"},{"$f":"IF('Line 1 Source'!B20<>\"\",'Line 1 Source'!B20,\"\")","v":"01"},{"$f":"IF('Line 1 Source'!C20<>\"\",'Line 1 Source'!C20,\"\")","v":"4"},{"$f":"IF('Line 1 Source'!D20<>\"\",'Line 1 Source'!D20,\"\")","v":"0035"},{"$f":"IF('Line 1 Source'!E20<>\"\",'Line 1 Source'!E20,\"\")","v":"6302"},{"$f":"IF('Line 1 Source'!F20<>\"\",'Line 1 Source'!F20,\"\")","v":228000}]
[{"$f":"IF('Line 1 Source'!A21<>\"\",'Line 1 Source'!A21,\"\")","v":"2018"},"0240125",{"$f":"CONCATENATE(VLOOKUP(B21,'School List'!$B$3:$H$291,6,FALSE),H21)","v":"01250022"},{"$f":"CONCATENATE(VLOOKUP(B21,'School List'!$B$3:$D$291,3,FALSE),H21)","v":"Allen County - M.S.D. SW ALLEN COUNTY SCHOOL CORP0022"},{"$f":"IF('Line 1 Source'!B21<>\"\",'Line 1 Source'!B21,\"\")","v":"02"},{"$f":"IF('Line 1 Source'!C21<>\"\",'Line 1 Source'!C21,\"\")","v":"4"},{"$f":"IF('Line 1 Source'!D21<>\"\",'Line 1 Source'!D21,\"\")","v":"0125"},{"$f":"IF('Line 1 Source'!E21<>\"\",'Line 1 Source'!E21,\"\")","v":"0022"},{"$f":"IF('Line 1 Source'!F21<>\"\",'Line 1 Source'!F21,\"\")","v":3750000}]
[{"$f":"IF('Line 1 Source'!A22<>\"\",'Line 1 Source'!A22,\"\")","v":"2018"},"0240125",{"$f":"CONCATENATE(VLOOKUP(B22,'School List'!$B$3:$H$291,6,FALSE),H22)","v":"01250101"},{"$f":"CONCATENATE(VLOOKUP(B22,'School List'!$B$3:$D$291,3,FALSE),H22)","v":"Allen County - M.S.D. SW ALLEN COUNTY SCHOOL CORP0101"},{"$f":"IF('Line 1 Source'!B22<>\"\",'Line 1 Source'!B22,\"\")","v":"02"},{"$f":"IF('Line 1 Source'!C22<>\"\",'Line 1 Source'!C22,\"\")","v":"4"},{"$f":"IF('Line 1 Source'!D22<>\"\",'Line 1 Source'!D22,\"\")","v":"0125"},{"$f":"IF('Line 1 Source'!E22<>\"\",'Line 1 Source'!E22,\"\")","v":"0101"},{"$f":"IF('Line 1 Source'!F22<>\"\",'Line 1 Source'!F22,\"\")","v":45163735}]
[{"$f":"IF('Line 1 Source'!A23<>\"\",'Line 1 Source'!A23,\"\")","v":"2018"},"0240125",{"$f":"CONCATENATE(VLOOKUP(B23,'School List'!$B$3:$H$291,6,FALSE),H23)","v":"01250180"},{"$f":"CONCATENATE(VLOOKUP(B23,'School List'!$B$3:$D$291,3,FALSE),H23)","v":"Allen County - M.S.D. SW ALLEN COUNTY SCHOOL CORP0180"},{"$f":"IF('Line 1 Source'!B23<>\"\",'Line 1 Source'!B23,\"\")","v":"02"},{"$f":"IF('Line 1 Source'!C23<>\"\",'Line 1 Source'!C23,\"\")","v":"4"},{"$f":"IF('Line 1 Source'!D23<>\"\",'Line 1 Source'!D23,\"\")","v":"0125"},{"$f":"IF('Line 1 Source'!E23<>\"\",'Line 1 Source'!E23,\"\")","v":"0180"},{"$f":"IF('Line 1 Source'!F23<>\"\",'Line 1 Source'!F23,\"\")","v":9239072}]
[{"$f":"IF('Line 1 Source'!A24<>\"\",'Line 1 Source'!A24,\"\")","v":"2018"},"0240125",{"$f":"CONCATENATE(VLOOKUP(B24,'School List'!$B$3:$H$291,6,FALSE),H24)","v":"01250186"},{"$f":"CONCATENATE(VLOOKUP(B24,'School List'!$B$3:$D$291,3,FALSE),H24)","v":"Allen County - M.S.D. SW ALLEN COUNTY SCHOOL CORP0186"},{"$f":"IF('Line 1 Source'!B24<>\"\",'Line 1 Source'!B24,\"\")","v":"02"},{"$f":"IF('Line 1 Source'!C24<>\"\",'Line 1 Source'!C24,\"\")","v":"4"},{"$f":"IF('Line 1 Source'!D24<>\"\",'Line 1 Source'!D24,\"\")","v":"0125"},{"$f":"IF('Line 1 Source'!E24<>\"\",'Line 1 Source'!E24,\"\")","v":"0186"},{"$f":"IF('Line 1 Source'!F24<>\"\",'Line 1 Source'!F24,\"\")","v":0}]
[{"$f":"IF('Line 1 Source'!A25<>\"\",'Line 1 Source'!A25,\"\")","v":"2018"},"0240125",{"$f":"CONCATENATE(VLOOKUP(B25,'School List'!$B$3:$H$291,6,FALSE),H25)","v":"01251214"},{"$f":"CONCATENATE(VLOOKUP(B25,'School List'!$B$3:$D$291,3,FALSE),H25)","v":"Allen County - M.S.D. SW ALLEN COUNTY SCHOOL CORP1214"},{"$f":"IF('Line 1 Source'!B25<>\"\",'Line 1 Source'!B25,\"\")","v":"02"},{"$f":"IF('Line 1 Source'!C25<>\"\",'Line 1 Source'!C25,\"\")","v":"4"},{"$f":"IF('Line 1 Source'!D25<>\"\",'Line 1 Source'!D25,\"\")","v":"0125"},{"$f":"IF('Line 1 Source'!E25<>\"\",'Line 1 Source'!E25,\"\")","v":"1214"},{"$f":"IF('Line 1 Source'!F25<>\"\",'Line 1 Source'!F25,\"\")","v":8241469}]
[{"$f":"IF('Line 1 Source'!A26<>\"\",'Line 1 Source'!A26,\"\")","v":"2018"},"0240125",{"$f":"CONCATENATE(VLOOKUP(B26,'School List'!$B$3:$H$291,6,FALSE),H26)","v":"01256301"},{"$f":"CONCATENATE(VLOOKUP(B26,'School List'!$B$3:$D$291,3,FALSE),H26)","v":"Allen County - M.S.D. SW ALLEN COUNTY SCHOOL CORP6301"},{"$f":"IF('Line 1 Source'!B26<>\"\",'Line 1 Source'!B26,\"\")","v":"02"},{"$f":"IF('Line 1 Source'!C26<>\"\",'Line 1 Source'!C26,\"\")","v":"4"},{"$f":"IF('Line 1 Source'!D26<>\"\",'Line 1 Source'!D26,\"\")","v":"0125"},{"$f":"IF('Line 1 Source'!E26<>\"\",'Line 1 Source'!E26,\"\")","v":"6301"},{"$f":"IF('Line 1 Source'!F26<>\"\",'Line 1 Source'!F26,\"\")","v":3305500}]
[{"$f":"IF('Line 1 Source'!A27<>\"\",'Line 1 Source'!A27,\"\")","v":"2018"},"0240125",{"$f":"CONCATENATE(VLOOKUP(B27,'School List'!$B$3:$H$291,6,FALSE),H27)","v":"01256302"},{"$f":"CONCATENATE(VLOOKUP(B27,'School List'!$B$3:$D$291,3,FALSE),H27)","v":"Allen County - M.S.D. SW ALLEN COUNTY SCHOOL CORP6302"},{"$f":"IF('Line 1 Source'!B27<>\"\",'Line 1 Source'!B27,\"\")","v":"02"},{"$f":"IF('Line 1 Source'!C27<>\"\",'Line 1 Source'!C27,\"\")","v":"4"},{"$f":"IF('Line 1 Source'!D27<>\"\",'Line 1 Source'!D27,\"\")","v":"0125"},{"$f":"IF('Line 1 Source'!E27<>\"\",'Line 1 Source'!E27,\"\")","v":"6302"},{"$f":"IF('Line 1 Source'!F27<>\"\",'Line 1 Source'!F27,\"\")","v":886098}]
[{"$f":"IF('Line 1 Source'!A28<>\"\",'Line 1 Source'!A28,\"\")","v":"2018"},"0240225",{"$f":"CONCATENATE(VLOOKUP(B28,'School List'!$B$3:$H$291,6,FALSE),H28)","v":"02250101"},{"$f":"CONCATENATE(VLOOKUP(B28,'School List'!$B$3:$D$291,3,FALSE),H28)","v":"Allen County - NORTHWEST ALLEN COUNTY SCHOOL CORP0101"},{"$f":"IF('Line 1 Source'!B28<>\"\",'Line 1 Source'!B28,\"\")","v":"02"},{"$f":"IF('Line 1 Source'!C28<>\"\",'Line 1 Source'!C28,\"\")","v":"4"},{"$f":"IF('Line 1 Source'!D28<>\"\",'Line 1 Source'!D28,\"\")","v":"0225"},{"$f":"IF('Line 1 Source'!E28<>\"\",'Line 1 Source'!E28,\"\")","v":"0101"},{"$f":"IF('Line 1 Source'!F28<>\"\",'Line 1 Source'!F28,\"\")","v":47680373}]
[{"$f":"IF('Line 1 Source'!A29<>\"\",'Line 1 Source'!A29,\"\")","v":"2018"},"0240225",{"$f":"CONCATENATE(VLOOKUP(B29,'School List'!$B$3:$H$291,6,FALSE),H29)","v":"02250180"},{"$f":"CONCATENATE(VLOOKUP(B29,'School List'!$B$3:$D$291,3,FALSE),H29)","v":"Allen County - NORTHWEST ALLEN COUNTY SCHOOL CORP0180"},{"$f":"IF('Line 1 Source'!B29<>\"\",'Line 1 Source'!B29,\"\")","v":"02"},{"$f":"IF('Line 1 Source'!C29<>\"\",'Line 1 Source'!C29,\"\")","v":"4"},{"$f":"IF('Line 1 Source'!D29<>\"\",'Line 1 Source'!D29,\"\")","v":"0225"},{"$f":"IF('Line 1 Source'!E29<>\"\",'Line 1 Source'!E29,\"\")","v":"0180"},{"$f":"IF('Line 1 Source'!F29<>\"\",'Line 1 Source'!F29,\"\")","v":14229555}]
[{"$f":"IF('Line 1 Source'!A30<>\"\",'Line 1 Source'!A30,\"\")","v":"2018"},"0240225",{"$f":"CONCATENATE(VLOOKUP(B30,'School List'!$B$3:$H$291,6,FALSE),H30)","v":"02251214"},{"$f":"CONCATENATE(VLOOKUP(B30,'School List'!$B$3:$D$291,3,FALSE),H30)","v":"Allen County - NORTHWEST ALLEN COUNTY SCHOOL CORP1214"},{"$f":"IF('Line 1 Source'!B30<>\"\",'Line 1 Source'!B30,\"\")","v":"02"},{"$f":"IF('Line 1 Source'!C30<>\"\",'Line 1 Source'!C30,\"\")","v":"4"},{"$f":"IF('Line 1 Source'!D30<>\"\",'Line 1 Source'!D30,\"\")","v":"0225"},{"$f":"IF('Line 1 Source'!E30<>\"\",'Line 1 Source'!E30,\"\")","v":"1214"},{"$f":"IF('Line 1 Source'!F30<>\"\",'Line 1 Source'!F30,\"\")","v":5157306}]
[{"$f":"IF('Line 1 Source'!A31<>\"\",'Line 1 Source'!A31,\"\")","v":"2018"},"0240225",{"$f":"CONCATENATE(VLOOKUP(B31,'School List'!$B$3:$H$291,6,FALSE),H31)","v":"02256301"},{"$f":"CONCATENATE(VLOOKUP(B31,'School List'!$B$3:$D$291,3,FALSE),H31)","v":"Allen County - NORTHWEST ALLEN COUNTY SCHOOL CORP6301"},{"$f":"IF('Line 1 Source'!B31<>\"\",'Line 1 Source'!B31,\"\")","v":"02"},{"$f":"IF('Line 1 Source'!C31<>\"\",'Line 1 Source'!C31,\"\")","v":"4"},{"$f":"IF('Line 1 Source'!D31<>\"\",'Line 1 Source'!D31,\"\")","v":"0225"},{"$f":"IF('Line 1 Source'!E31<>\"\",'Line 1 Source'!E31,\"\")","v":"6301"},{"$f":"IF('Line 1 Source'!F31<>\"\",'Line 1 Source'!F31,\"\")","v":3588356}]
[{"$f":"IF('Line 1 Source'!A32<>\"\",'Line 1 Source'!A32,\"\")","v":"2018"},"0240225",{"$f":"CONCATENATE(VLOOKUP(B32,'School List'!$B$3:$H$291,6,FALSE),H32)","v":"02256302"},{"$f":"CONCATENATE(VLOOKUP(B32,'School List'!$B$3:$D$291,3,FALSE),H32)","v":"Allen County - NORTHWEST ALLEN COUNTY SCHOOL CORP6302"},{"$f":"IF('Line 1 Source'!B32<>\"\",'Line 1 Source'!B32,\"\")","v":"02"},{"$f":"IF('Line 1 Source'!C32<>\"\",'Line 1 Source'!C32,\"\")","v":"4"},{"$f":"IF('Line 1 Source'!D32<>\"\",'Line 1 Source'!D32,\"\")","v":"0225"},{"$f":"IF('Line 1 Source'!E32<>\"\",'Line 1 Source'!E32,\"\")","v":"6302"},{"$f":"IF('Line 1 Source'!F32<>\"\",'Line 1 Source'!F32,\"\")","v":1041713}]
[{"$f":"IF('Line 1 Source'!A33<>\"\",'Line 1 Source'!A33,\"\")","v":"2018"},"0240235",{"$f":"CONCATENATE(VLOOKUP(B33,'School List'!$B$3:$H$291,6,FALSE),H33)","v":"02350101"},{"$f":"CONCATENATE(VLOOKUP(B33,'School List'!$B$3:$D$291,3,FALSE),H33)","v":"Allen County - FORT WAYNE COMMUNITY SCHOOL CORPORATION0101"},{"$f":"IF('Line 1 Source'!B33<>\"\",'Line 1 Source'!B33,\"\")","v":"02"},{"$f":"IF('Line 1 Source'!C33<>\"\",'Line 1 Source'!C33,\"\")","v":"4"},{"$f":"IF('Line 1 Source'!D33<>\"\",'Line 1 Source'!D33,\"\")","v":"0235"},{"$f":"IF('Line 1 Source'!E33<>\"\",'Line 1 Source'!E33,\"\")","v":"0101"},{"$f":"IF('Line 1 Source'!F33<>\"\",'Line 1 Source'!F33,\"\")","v":222193797}]
[{"$f":"IF('Line 1 Source'!A34<>\"\",'Line 1 Source'!A34,\"\")","v":"2018"},"0240235",{"$f":"CONCATENATE(VLOOKUP(B34,'School List'!$B$3:$H$291,6,FALSE),H34)","v":"02350180"},{"$f":"CONCATENATE(VLOOKUP(B34,'School List'!$B$3:$D$291,3,FALSE),H34)","v":"Allen County - FORT WAYNE COMMUNITY SCHOOL CORPORATION0180"},{"$f":"IF('Line 1 Source'!B34<>\"\",'Line 1 Source'!B34,\"\")","v":"02"},{"$f":"IF('Line 1 Source'!C34<>\"\",'Line 1 Source'!C34,\"\")","v":"4"},{"$f":"IF('Line 1 Source'!D34<>\"\",'Line 1 Source'!D34,\"\")","v":"0235"},{"$f":"IF('Line 1 Source'!E34<>\"\",'Line 1 Source'!E34,\"\")","v":"0180"},{"$f":"IF('Line 1 Source'!F34<>\"\",'Line 1 Source'!F34,\"\")","v":4305769}]
[{"$f":"IF('Line 1 Source'!A35<>\"\",'Line 1 Source'!A35,\"\")","v":"2018"},"0240235",{"$f":"CONCATENATE(VLOOKUP(B35,'School List'!$B$3:$H$291,6,FALSE),H35)","v":"02350186"},{"$f":"CONCATENATE(VLOOKUP(B35,'School List'!$B$3:$D$291,3,FALSE),H35)","v":"Allen County - FORT WAYNE COMMUNITY SCHOOL CORPORATION0186"},{"$f":"IF('Line 1 Source'!B35<>\"\",'Line 1 Source'!B35,\"\")","v":"02"},{"$f":"IF('Line 1 Source'!C35<>\"\",'Line 1 Source'!C35,\"\")","v":"4"},{"$f":"IF('Line 1 Source'!D35<>\"\",'Line 1 Source'!D35,\"\")","v":"0235"},{"$f":"IF('Line 1 Source'!E35<>\"\",'Line 1 Source'!E35,\"\")","v":"0186"},{"$f":"IF('Line 1 Source'!F35<>\"\",'Line 1 Source'!F35,\"\")","v":3520847}]
[{"$f":"IF('Line 1 Source'!A36<>\"\",'Line 1 Source'!A36,\"\")","v":"2018"},"0240235",{"$f":"CONCATENATE(VLOOKUP(B36,'School List'!$B$3:$H$291,6,FALSE),H36)","v":"02350287"},{"$f":"CONCATENATE(VLOOKUP(B36,'School List'!$B$3:$D$291,3,FALSE),H36)","v":"Allen County - FORT WAYNE COMMUNITY SCHOOL CORPORATION0287"},{"$f":"IF('Line 1 Source'!B36<>\"\",'Line 1 Source'!B36,\"\")","v":"02"},{"$f":"IF('Line 1 Source'!C36<>\"\",'Line 1 Source'!C36,\"\")","v":"4"},{"$f":"IF('Line 1 Source'!D36<>\"\",'Line 1 Source'!D36,\"\")","v":"0235"},{"$f":"IF('Line 1 Source'!E36<>\"\",'Line 1 Source'!E36,\"\")","v":"0287"},{"$f":"IF('Line 1 Source'!F36<>\"\",'Line 1 Source'!F36,\"\")","v":17531000}]
[{"$f":"IF('Line 1 Source'!A37<>\"\",'Line 1 Source'!A37,\"\")","v":"2018"},"0240235",{"$f":"CONCATENATE(VLOOKUP(B37,'School List'!$B$3:$H$291,6,FALSE),H37)","v":"02351214"},{"$f":"CONCATENATE(VLOOKUP(B37,'School List'!$B$3:$D$291,3,FALSE),H37)","v":"Allen County - FORT WAYNE COMMUNITY SCHOOL CORPORATION1214"},{"$f":"IF('Line 1 Source'!B37<>\"\",'Line 1 Source'!B37,\"\")","v":"02"},{"$f":"IF('Line 1 Source'!C37<>\"\",'Line 1 Source'!C37,\"\")","v":"4"},{"$f":"IF('Line 1 Source'!D37<>\"\",'Line 1 Source'!D37,\"\")","v":"0235"},{"$f":"IF('Line 1 Source'!E37<>\"\",'Line 1 Source'!E37,\"\")","v":"1214"},{"$f":"IF('Line 1 Source'!F37<>\"\",'Line 1 Source'!F37,\"\")","v":19386929}]
[{"$f":"IF('Line 1 Source'!A38<>\"\",'Line 1 Source'!A38,\"\")","v":"2018"},"0240235",{"$f":"CONCATENATE(VLOOKUP(B38,'School List'!$B$3:$H$291,6,FALSE),H38)","v":"02351216"},{"$f":"CONCATENATE(VLOOKUP(B38,'School List'!$B$3:$D$291,3,FALSE),H38)","v":"Allen County - FORT WAYNE COMMUNITY SCHOOL CORPORATION1216"},{"$f":"IF('Line 1 Source'!B38<>\"\",'Line 1 Source'!B38,\"\")","v":"02"},{"$f":"IF('Line 1 Source'!C38<>\"\",'Line 1 Source'!C38,\"\")","v":"4"},{"$f":"IF('Line 1 Source'!D38<>\"\",'Line 1 Source'!D38,\"\")","v":"0235"},{"$f":"IF('Line 1 Source'!E38<>\"\",'Line 1 Source'!E38,\"\")","v":"1216"},{"$f":"IF('Line 1 Source'!F38<>\"\",'Line 1 Source'!F38,\"\")","v":7124995}]
[{"$f":"IF('Line 1 Source'!A39<>\"\",'Line 1 Source'!A39,\"\")","v":"2018"},"0240235",{"$f":"CONCATENATE(VLOOKUP(B39,'School List'!$B$3:$H$291,6,FALSE),H39)","v":"02352016"},{"$f":"CONCATENATE(VLOOKUP(B39,'School List'!$B$3:$D$291,3,FALSE),H39)","v":"Allen County - FORT WAYNE COMMUNITY SCHOOL CORPORATION2016"},{"$f":"IF('Line 1 Source'!B39<>\"\",'Line 1 Source'!B39,\"\")","v":"02"},{"$f":"IF('Line 1 Source'!C39<>\"\",'Line 1 Source'!C39,\"\")","v":"4"},{"$f":"IF('Line 1 Source'!D39<>\"\",'Line 1 Source'!D39,\"\")","v":"0235"},{"$f":"IF('Line 1 Source'!E39<>\"\",'Line 1 Source'!E39,\"\")","v":"2016"},{"$f":"IF('Line 1 Source'!F39<>\"\",'Line 1 Source'!F39,\"\")","v":166971}]
[{"$f":"IF('Line 1 Source'!A40<>\"\",'Line 1 Source'!A40,\"\")","v":"2018"},"0240235",{"$f":"CONCATENATE(VLOOKUP(B40,'School List'!$B$3:$H$291,6,FALSE),H40)","v":"02356301"},{"$f":"CONCATENATE(VLOOKUP(B40,'School List'!$B$3:$D$291,3,FALSE),H40)","v":"Allen County - FORT WAYNE COMMUNITY SCHOOL CORPORATION6301"},{"$f":"IF('Line 1 Source'!B40<>\"\",'Line 1 Source'!B40,\"\")","v":"02"},{"$f":"IF('Line 1 Source'!C40<>\"\",'Line 1 Source'!C40,\"\")","v":"4"},{"$f":"IF('Line 1 Source'!D40<>\"\",'Line 1 Source'!D40,\"\")","v":"0235"},{"$f":"IF('Line 1 Source'!E40<>\"\",'Line 1 Source'!E40,\"\")","v":"6301"},{"$f":"IF('Line 1 Source'!F40<>\"\",'Line 1 Source'!F40,\"\")","v":17798989}]
[{"$f":"IF('Line 1 Source'!A41<>\"\",'Line 1 Source'!A41,\"\")","v":"2018"},"0240235",{"$f":"CONCATENATE(VLOOKUP(B41,'School List'!$B$3:$H$291,6,FALSE),H41)","v":"02356302"},{"$f":"CONCATENATE(VLOOKUP(B41,'School List'!$B$3:$D$291,3,FALSE),H41)","v":"Allen County - FORT WAYNE COMMUNITY SCHOOL CORPORATION6302"},{"$f":"IF('Line 1 Source'!B41<>\"\",'Line 1 Source'!B41,\"\")","v":"02"},{"$f":"IF('Line 1 Source'!C41<>\"\",'Line 1 Source'!C41,\"\")","v":"4"},{"$f":"IF('Line 1 Source'!D41<>\"\",'Line 1 Source'!D41,\"\")","v":"0235"},{"$f":"IF('Line 1 Source'!E41<>\"\",'Line 1 Source'!E41,\"\")","v":"6302"},{"$f":"IF('Line 1 Source'!F41<>\"\",'Line 1 Source'!F41,\"\")","v":3367779}]
[{"$f":"IF('Line 1 Source'!A42<>\"\",'Line 1 Source'!A42,\"\")","v":"2018"},"0240255",{"$f":"CONCATENATE(VLOOKUP(B42,'School List'!$B$3:$H$291,6,FALSE),H42)","v":"02550101"},{"$f":"CONCATENATE(VLOOKUP(B42,'School List'!$B$3:$D$291,3,FALSE),H42)","v":"Allen County - EAST ALLEN COUNTY SCHOOL CORPORATION0101"},{"$f":"IF('Line 1 Source'!B42<>\"\",'Line 1 Source'!B42,\"\")","v":"02"},{"$f":"IF('Line 1 Source'!C42<>\"\",'Line 1 Source'!C42,\"\")","v":"4"},{"$f":"IF('Line 1 Source'!D42<>\"\",'Line 1 Source'!D42,\"\")","v":"0255"},{"$f":"IF('Line 1 Source'!E42<>\"\",'Line 1 Source'!E42,\"\")","v":"0101"},{"$f":"IF('Line 1 Source'!F42<>\"\",'Line 1 Source'!F42,\"\")","v":66335042}]
[{"$f":"IF('Line 1 Source'!A43<>\"\",'Line 1 Source'!A43,\"\")","v":"2018"},"0240255",{"$f":"CONCATENATE(VLOOKUP(B43,'School List'!$B$3:$H$291,6,FALSE),H43)","v":"02550180"},{"$f":"CONCATENATE(VLOOKUP(B43,'School List'!$B$3:$D$291,3,FALSE),H43)","v":"Allen County - EAST ALLEN COUNTY SCHOOL CORPORATION0180"},{"$f":"IF('Line 1 Source'!B43<>\"\",'Line 1 Source'!B43,\"\")","v":"02"},{"$f":"IF('Line 1 Source'!C43<>\"\",'Line 1 Source'!C43,\"\")","v":"4"},{"$f":"IF('Line 1 Source'!D43<>\"\",'Line 1 Source'!D43,\"\")","v":"0255"},{"$f":"IF('Line 1 Source'!E43<>\"\",'Line 1 Source'!E43,\"\")","v":"0180"},{"$f":"IF('Line 1 Source'!F43<>\"\",'Line 1 Source'!F43,\"\")","v":8203772}]
[{"$f":"IF('Line 1 Source'!A44<>\"\",'Line 1 Source'!A44,\"\")","v":"2018"},"0240255",{"$f":"CONCATENATE(VLOOKUP(B44,'School List'!$B$3:$H$291,6,FALSE),H44)","v":"02550186"},{"$f":"CONCATENATE(VLOOKUP(B44,'School List'!$B$3:$D$291,3,FALSE),H44)","v":"Allen County - EAST ALLEN COUNTY SCHOOL CORPORATION0186"},{"$f":"IF('Line 1 Source'!B44<>\"\",'Line 1 Source'!B44,\"\")","v":"02"},{"$f":"IF('Line 1 Source'!C44<>\"\",'Line 1 Source'!C44,\"\")","v":"4"},{"$f":"IF('Line 1 Source'!D44<>\"\",'Line 1 Source'!D44,\"\")","v":"0255"},{"$f":"IF('Line 1 Source'!E44<>\"\",'Line 1 Source'!E44,\"\")","v":"0186"},{"$f":"IF('Line 1 Source'!F44<>\"\",'Line 1 Source'!F44,\"\")","v":727801}]
[{"$f":"IF('Line 1 Source'!A45<>\"\",'Line 1 Source'!A45,\"\")","v":"2018"},"0240255",{"$f":"CONCATENATE(VLOOKUP(B45,'School List'!$B$3:$H$291,6,FALSE),H45)","v":"02551214"},{"$f":"CONCATENATE(VLOOKUP(B45,'School List'!$B$3:$D$291,3,FALSE),H45)","v":"Allen County - EAST ALLEN COUNTY SCHOOL CORPORATION1214"},{"$f":"IF('Line 1 Source'!B45<>\"\",'Line 1 Source'!B45,\"\")","v":"02"},{"$f":"IF('Line 1 Source'!C45<>\"\",'Line 1 Source'!C45,\"\")","v":"4"},{"$f":"IF('Line 1 Source'!D45<>\"\",'Line 1 Source'!D45,\"\")","v":"0255"},{"$f":"IF('Line 1 Source'!E45<>\"\",'Line 1 Source'!E45,\"\")","v":"1214"},{"$f":"IF('Line 1 Source'!F45<>\"\",'Line 1 Source'!F45,\"\")","v":9985131}]
[{"$f":"IF('Line 1 Source'!A46<>\"\",'Line 1 Source'!A46,\"\")","v":"2018"},"0240255",{"$f":"CONCATENATE(VLOOKUP(B46,'School List'!$B$3:$H$291,6,FALSE),H46)","v":"02552016"},{"$f":"CONCATENATE(VLOOKUP(B46,'School List'!$B$3:$D$291,3,FALSE),H46)","v":"Allen County - EAST ALLEN COUNTY SCHOOL CORPORATION2016"},{"$f":"IF('Line 1 Source'!B46<>\"\",'Line 1 Source'!B46,\"\")","v":"02"},{"$f":"IF('Line 1 Source'!C46<>\"\",'Line 1 Source'!C46,\"\")","v":"4"},{"$f":"IF('Line 1 Source'!D46<>\"\",'Line 1 Source'!D46,\"\")","v":"0255"},{"$f":"IF('Line 1 Source'!E46<>\"\",'Line 1 Source'!E46,\"\")","v":"2016"},{"$f":"IF('Line 1 Source'!F46<>\"\",'Line 1 Source'!F46,\"\")","v":44894}]
[{"$f":"IF('Line 1 Source'!A47<>\"\",'Line 1 Source'!A47,\"\")","v":"2018"},"0240255",{"$f":"CONCATENATE(VLOOKUP(B47,'School List'!$B$3:$H$291,6,FALSE),H47)","v":"02556301"},{"$f":"CONCATENATE(VLOOKUP(B47,'School List'!$B$3:$D$291,3,FALSE),H47)","v":"Allen County - EAST ALLEN COUNTY SCHOOL CORPORATION6301"},{"$f":"IF('Line 1 Source'!B47<>\"\",'Line 1 Source'!B47,\"\")","v":"02"},{"$f":"IF('Line 1 Source'!C47<>\"\",'Line 1 Source'!C47,\"\")","v":"4"},{"$f":"IF('Line 1 Source'!D47<>\"\",'Line 1 Source'!D47,\"\")","v":"0255"},{"$f":"IF('Line 1 Source'!E47<>\"\",'Line 1 Source'!E47,\"\")","v":"6301"},{"$f":"IF('Line 1 Source'!F47<>\"\",'Line 1 Source'!F47,\"\")","v":6945711}]
[{"$f":"IF('Line 1 Source'!A48<>\"\",'Line 1 Source'!A48,\"\")","v":"2018"},"0240255",{"$f":"CONCATENATE(VLOOKUP(B48,'School List'!$B$3:$H$291,6,FALSE),H48)","v":"02556302"},{"$f":"CONCATENATE(VLOOKUP(B48,'School List'!$B$3:$D$291,3,FALSE),H48)","v":"Allen County - EAST ALLEN COUNTY SCHOOL CORPORATION6302"},{"$f":"IF('Line 1 Source'!B48<>\"\",'Line 1 Source'!B48,\"\")","v":"02"},{"$f":"IF('Line 1 Source'!C48<>\"\",'Line 1 Source'!C48,\"\")","v":"4"},{"$f":"IF('Line 1 Source'!D48<>\"\",'Line 1 Source'!D48,\"\")","v":"0255"},{"$f":"IF('Line 1 Source'!E48<>\"\",'Line 1 Source'!E48,\"\")","v":"6302"},{"$f":"IF('Line 1 Source'!F48<>\"\",'Line 1 Source'!F48,\"\")","v":973466}]
[{"$f":"IF('Line 1 Source'!A49<>\"\",'Line 1 Source'!A49,\"\")","v":"2018"},"0340365",{"$f":"CONCATENATE(VLOOKUP(B49,'School List'!$B$3:$H$291,6,FALSE),H49)","v":"03650101"},{"$f":"CONCATENATE(VLOOKUP(B49,'School List'!$B$3:$D$291,3,FALSE),H49)","v":"Bartholomew County - BARTHOLOMEW CONSOLIDATED SCHOOL CORP0101"},{"$f":"IF('Line 1 Source'!B49<>\"\",'Line 1 Source'!B49,\"\")","v":"03"},{"$f":"IF('Line 1 Source'!C49<>\"\",'Line 1 Source'!C49,\"\")","v":"4"},{"$f":"IF('Line 1 Source'!D49<>\"\",'Line 1 Source'!D49,\"\")","v":"0365"},{"$f":"IF('Line 1 Source'!E49<>\"\",'Line 1 Source'!E49,\"\")","v":"0101"},{"$f":"IF('Line 1 Source'!F49<>\"\",'Line 1 Source'!F49,\"\")","v":75340489}]
[{"$f":"IF('Line 1 Source'!A50<>\"\",'Line 1 Source'!A50,\"\")","v":"2018"},"0340365",{"$f":"CONCATENATE(VLOOKUP(B50,'School List'!$B$3:$H$291,6,FALSE),H50)","v":"03650180"},{"$f":"CONCATENATE(VLOOKUP(B50,'School List'!$B$3:$D$291,3,FALSE),H50)","v":"Bartholomew County - BARTHOLOMEW CONSOLIDATED SCHOOL CORP0180"},{"$f":"IF('Line 1 Source'!B50<>\"\",'Line 1 Source'!B50,\"\")","v":"03"},{"$f":"IF('Line 1 Source'!C50<>\"\",'Line 1 Source'!C50,\"\")","v":"4"},{"$f":"IF('Line 1 Source'!D50<>\"\",'Line 1 Source'!D50,\"\")","v":"0365"},{"$f":"IF('Line 1 Source'!E50<>\"\",'Line 1 Source'!E50,\"\")","v":"0180"},{"$f":"IF('Line 1 Source'!F50<>\"\",'Line 1 Source'!F50,\"\")","v":9853500}]
[{"$f":"IF('Line 1 Source'!A51<>\"\",'Line 1 Source'!A51,\"\")","v":"2018"},"0340365",{"$f":"CONCATENATE(VLOOKUP(B51,'School List'!$B$3:$H$291,6,FALSE),H51)","v":"03650186"},{"$f":"CONCATENATE(VLOOKUP(B51,'School List'!$B$3:$D$291,3,FALSE),H51)","v":"Bartholomew County - BARTHOLOMEW CONSOLIDATED SCHOOL CORP0186"},{"$f":"IF('Line 1 Source'!B51<>\"\",'Line 1 Source'!B51,\"\")","v":"03"},{"$f":"IF('Line 1 Source'!C51<>\"\",'Line 1 Source'!C51,\"\")","v":"4"},{"$f":"IF('Line 1 Source'!D51<>\"\",'Line 1 Source'!D51,\"\")","v":"0365"},{"$f":"IF('Line 1 Source'!E51<>\"\",'Line 1 Source'!E51,\"\")","v":"0186"},{"$f":"IF('Line 1 Source'!F51<>\"\",'Line 1 Source'!F51,\"\")","v":313727}]
[{"$f":"IF('Line 1 Source'!A52<>\"\",'Line 1 Source'!A52,\"\")","v":"2018"},"0340365",{"$f":"CONCATENATE(VLOOKUP(B52,'School List'!$B$3:$H$291,6,FALSE),H52)","v":"03650187"},{"$f":"CONCATENATE(VLOOKUP(B52,'School List'!$B$3:$D$291,3,FALSE),H52)","v":"Bartholomew County - BARTHOLOMEW CONSOLIDATED SCHOOL CORP0187"},{"$f":"IF('Line 1 Source'!B52<>\"\",'Line 1 Source'!B52,\"\")","v":"03"},{"$f":"IF('Line 1 Source'!C52<>\"\",'Line 1 Source'!C52,\"\")","v":"4"},{"$f":"IF('Line 1 Source'!D52<>\"\",'Line 1 Source'!D52,\"\")","v":"0365"},{"$f":"IF('Line 1 Source'!E52<>\"\",'Line 1 Source'!E52,\"\")","v":"0187"},{"$f":"IF('Line 1 Source'!F52<>\"\",'Line 1 Source'!F52,\"\")","v":7925000}]
[{"$f":"IF('Line 1 Source'!A53<>\"\",'Line 1 Source'!A53,\"\")","v":"2018"},"0340365",{"$f":"CONCATENATE(VLOOKUP(B53,'School List'!$B$3:$H$291,6,FALSE),H53)","v":"03651214"},{"$f":"CONCATENATE(VLOOKUP(B53,'School List'!$B$3:$D$291,3,FALSE),H53)","v":"Bartholomew County - BARTHOLOMEW CONSOLIDATED SCHOOL CORP1214"},{"$f":"IF('Line 1 Source'!B53<>\"\",'Line 1 Source'!B53,\"\")","v":"03"},{"$f":"IF('Line 1 Source'!C53<>\"\",'Line 1 Source'!C53,\"\")","v":"4"},{"$f":"IF('Line 1 Source'!D53<>\"\",'Line 1 Source'!D53,\"\")","v":"0365"},{"$f":"IF('Line 1 Source'!E53<>\"\",'Line 1 Source'!E53,\"\")","v":"1214"},{"$f":"IF('Line 1 Source'!F53<>\"\",'Line 1 Source'!F53,\"\")","v":14198497}]
[{"$f":"IF('Line 1 Source'!A54<>\"\",'Line 1 Source'!A54,\"\")","v":"2018"},"0340365",{"$f":"CONCATENATE(VLOOKUP(B54,'School List'!$B$3:$H$291,6,FALSE),H54)","v":"03656301"},{"$f":"CONCATENATE(VLOOKUP(B54,'School List'!$B$3:$D$291,3,FALSE),H54)","v":"Bartholomew County - BARTHOLOMEW CONSOLIDATED SCHOOL CORP6301"},{"$f":"IF('Line 1 Source'!B54<>\"\",'Line 1 Source'!B54,\"\")","v":"03"},{"$f":"IF('Line 1 Source'!C54<>\"\",'Line 1 Source'!C54,\"\")","v":"4"},{"$f":"IF('Line 1 Source'!D54<>\"\",'Line 1 Source'!D54,\"\")","v":"0365"},{"$f":"IF('Line 1 Source'!E54<>\"\",'Line 1 Source'!E54,\"\")","v":"6301"},{"$f":"IF('Line 1 Source'!F54<>\"\",'Line 1 Source'!F54,\"\")","v":6076721}]
[{"$f":"IF('Line 1 Source'!A55<>\"\",'Line 1 Source'!A55,\"\")","v":"2018"},"0340365",{"$f":"CONCATENATE(VLOOKUP(B55,'School List'!$B$3:$H$291,6,FALSE),H55)","v":"03656302"},{"$f":"CONCATENATE(VLOOKUP(B55,'School List'!$B$3:$D$291,3,FALSE),H55)","v":"Bartholomew County - BARTHOLOMEW CONSOLIDATED SCHOOL CORP6302"},{"$f":"IF('Line 1 Source'!B55<>\"\",'Line 1 Source'!B55,\"\")","v":"03"},{"$f":"IF('Line 1 Source'!C55<>\"\",'Line 1 Source'!C55,\"\")","v":"4"},{"$f":"IF('Line 1 Source'!D55<>\"\",'Line 1 Source'!D55,\"\")","v":"0365"},{"$f":"IF('Line 1 Source'!E55<>\"\",'Line 1 Source'!E55,\"\")","v":"6302"},{"$f":"IF('Line 1 Source'!F55<>\"\",'Line 1 Source'!F55,\"\")","v":1075800}]
[{"$f":"IF('Line 1 Source'!A56<>\"\",'Line 1 Source'!A56,\"\")","v":"2018"},"0340370",{"$f":"CONCATENATE(VLOOKUP(B56,'School List'!$B$3:$H$291,6,FALSE),H56)","v":"03700101"},{"$f":"CONCATENATE(VLOOKUP(B56,'School List'!$B$3:$D$291,3,FALSE),H56)","v":"Bartholomew County - FLATROCK-HAWCREEK SCHOOL CORPORATION0101"},{"$f":"IF('Line 1 Source'!B56<>\"\",'Line 1 Source'!B56,\"\")","v":"03"},{"$f":"IF('Line 1 Source'!C56<>\"\",'Line 1 Source'!C56,\"\")","v":"4"},{"$f":"IF('Line 1 Source'!D56<>\"\",'Line 1 Source'!D56,\"\")","v":"0370"},{"$f":"IF('Line 1 Source'!E56<>\"\",'Line 1 Source'!E56,\"\")","v":"0101"},{"$f":"IF('Line 1 Source'!F56<>\"\",'Line 1 Source'!F56,\"\")","v":5628000}]
[{"$f":"IF('Line 1 Source'!A57<>\"\",'Line 1 Source'!A57,\"\")","v":"2018"},"0340370",{"$f":"CONCATENATE(VLOOKUP(B57,'School List'!$B$3:$H$291,6,FALSE),H57)","v":"03700180"},{"$f":"CONCATENATE(VLOOKUP(B57,'School List'!$B$3:$D$291,3,FALSE),H57)","v":"Bartholomew County - FLATROCK-HAWCREEK SCHOOL CORPORATION0180"},{"$f":"IF('Line 1 Source'!B57<>\"\",'Line 1 Source'!B57,\"\")","v":"03"},{"$f":"IF('Line 1 Source'!C57<>\"\",'Line 1 Source'!C57,\"\")","v":"4"},{"$f":"IF('Line 1 Source'!D57<>\"\",'Line 1 Source'!D57,\"\")","v":"0370"},{"$f":"IF('Line 1 Source'!E57<>\"\",'Line 1 Source'!E57,\"\")","v":"0180"},{"$f":"IF('Line 1 Source'!F57<>\"\",'Line 1 Source'!F57,\"\")","v":298900}]
[{"$f":"IF('Line 1 Source'!A58<>\"\",'Line 1 Source'!A58,\"\")","v":"2018"},"0340370",{"$f":"CONCATENATE(VLOOKUP(B58,'School List'!$B$3:$H$291,6,FALSE),H58)","v":"03700187"},{"$f":"CONCATENATE(VLOOKUP(B58,'School List'!$B$3:$D$291,3,FALSE),H58)","v":"Bartholomew County - FLATROCK-HAWCREEK SCHOOL CORPORATION0187"},{"$f":"IF('Line 1 Source'!B58<>\"\",'Line 1 Source'!B58,\"\")","v":"03"},{"$f":"IF('Line 1 Source'!C58<>\"\",'Line 1 Source'!C58,\"\")","v":"4"},{"$f":"IF('Line 1 Source'!D58<>\"\",'Line 1 Source'!D58,\"\")","v":"0370"},{"$f":"IF('Line 1 Source'!E58<>\"\",'Line 1 Source'!E58,\"\")","v":"0187"},{"$f":"IF('Line 1 Source'!F58<>\"\",'Line 1 Source'!F58,\"\")","v":1520000}]
[{"$f":"IF('Line 1 Source'!A59<>\"\",'Line 1 Source'!A59,\"\")","v":"2018"},"0340370",{"$f":"CONCATENATE(VLOOKUP(B59,'School List'!$B$3:$H$291,6,FALSE),H59)","v":"03701214"},{"$f":"CONCATENATE(VLOOKUP(B59,'School List'!$B$3:$D$291,3,FALSE),H59)","v":"Bartholomew County - FLATROCK-HAWCREEK SCHOOL CORPORATION1214"},{"$f":"IF('Line 1 Source'!B59<>\"\",'Line 1 Source'!B59,\"\")","v":"03"},{"$f":"IF('Line 1 Source'!C59<>\"\",'Line 1 Source'!C59,\"\")","v":"4"},{"$f":"IF('Line 1 Source'!D59<>\"\",'Line 1 Source'!D59,\"\")","v":"0370"},{"$f":"IF('Line 1 Source'!E59<>\"\",'Line 1 Source'!E59,\"\")","v":"1214"},{"$f":"IF('Line 1 Source'!F59<>\"\",'Line 1 Source'!F59,\"\")","v":739851}]
[{"$f":"IF('Line 1 Source'!A60<>\"\",'Line 1 Source'!A60,\"\")","v":"2018"},"0340370",{"$f":"CONCATENATE(VLOOKUP(B60,'School List'!$B$3:$H$291,6,FALSE),H60)","v":"03706301"},{"$f":"CONCATENATE(VLOOKUP(B60,'School List'!$B$3:$D$291,3,FALSE),H60)","v":"Bartholomew County - FLATROCK-HAWCREEK SCHOOL CORPORATION6301"},{"$f":"IF('Line 1 Source'!B60<>\"\",'Line 1 Source'!B60,\"\")","v":"03"},{"$f":"IF('Line 1 Source'!C60<>\"\",'Line 1 Source'!C60,\"\")","v":"4"},{"$f":"IF('Line 1 Source'!D60<>\"\",'Line 1 Source'!D60,\"\")","v":"0370"},{"$f":"IF('Line 1 Source'!E60<>\"\",'Line 1 Source'!E60,\"\")","v":"6301"},{"$f":"IF('Line 1 Source'!F60<>\"\",'Line 1 Source'!F60,\"\")","v":365000}]
[{"$f":"IF('Line 1 Source'!A61<>\"\",'Line 1 Source'!A61,\"\")","v":"2018"},"0340370",{"$f":"CONCATENATE(VLOOKUP(B61,'School List'!$B$3:$H$291,6,FALSE),H61)","v":"03706302"},{"$f":"CONCATENATE(VLOOKUP(B61,'School List'!$B$3:$D$291,3,FALSE),H61)","v":"Bartholomew County - FLATROCK-HAWCREEK SCHOOL CORPORATION6302"},{"$f":"IF('Line 1 Source'!B61<>\"\",'Line 1 Source'!B61,\"\")","v":"03"},{"$f":"IF('Line 1 Source'!C61<>\"\",'Line 1 Source'!C61,\"\")","v":"4"},{"$f":"IF('Line 1 Source'!D61<>\"\",'Line 1 Source'!D61,\"\")","v":"0370"},{"$f":"IF('Line 1 Source'!E61<>\"\",'Line 1 Source'!E61,\"\")","v":"6302"},{"$f":"IF('Line 1 Source'!F61<>\"\",'Line 1 Source'!F61,\"\")","v":112000}]
[{"$f":"IF('Line 1 Source'!A62<>\"\",'Line 1 Source'!A62,\"\")","v":"2018"},"0344215",{"$f":"CONCATENATE(VLOOKUP(B62,'School List'!$B$3:$H$291,6,FALSE),H62)","v":{"$error":"#N/A"}},{"$f":"CONCATENATE(VLOOKUP(B62,'School List'!$B$3:$D$291,3,FALSE),H62)","v":{"$error":"#N/A"}},{"$f":"IF('Line 1 Source'!B62<>\"\",'Line 1 Source'!B62,\"\")","v":"03"},{"$f":"IF('Line 1 Source'!C62<>\"\",'Line 1 Source'!C62,\"\")","v":"4"},{"$f":"IF('Line 1 Source'!D62<>\"\",'Line 1 Source'!D62,\"\")","v":"4215"},{"$f":"IF('Line 1 Source'!E62<>\"\",'Line 1 Source'!E62,\"\")","v":"0061"},{"$f":"IF('Line 1 Source'!F62<>\"\",'Line 1 Source'!F62,\"\")","v":0}]
[{"$f":"IF('Line 1 Source'!A63<>\"\",'Line 1 Source'!A63,\"\")","v":"2018"},"0344215",{"$f":"CONCATENATE(VLOOKUP(B63,'School List'!$B$3:$H$291,6,FALSE),H63)","v":{"$error":"#N/A"}},{"$f":"CONCATENATE(VLOOKUP(B63,'School List'!$B$3:$D$291,3,FALSE),H63)","v":{"$error":"#N/A"}},{"$f":"IF('Line 1 Source'!B63<>\"\",'Line 1 Source'!B63,\"\")","v":"03"},{"$f":"IF('Line 1 Source'!C63<>\"\",'Line 1 Source'!C63,\"\")","v":"4"},{"$f":"IF('Line 1 Source'!D63<>\"\",'Line 1 Source'!D63,\"\")","v":"4215"},{"$f":"IF('Line 1 Source'!E63<>\"\",'Line 1 Source'!E63,\"\")","v":"0101"},{"$f":"IF('Line 1 Source'!F63<>\"\",'Line 1 Source'!F63,\"\")","v":0}]
[{"$f":"IF('Line 1 Source'!A64<>\"\",'Line 1 Source'!A64,\"\")","v":"2018"},"0344215",{"$f":"CONCATENATE(VLOOKUP(B64,'School List'!$B$3:$H$291,6,FALSE),H64)","v":{"$error":"#N/A"}},{"$f":"CONCATENATE(VLOOKUP(B64,'School List'!$B$3:$D$291,3,FALSE),H64)","v":{"$error":"#N/A"}},{"$f":"IF('Line 1 Source'!B64<>\"\",'Line 1 Source'!B64,\"\")","v":"03"},{"$f":"IF('Line 1 Source'!C64<>\"\",'Line 1 Source'!C64,\"\")","v":"4"},{"$f":"IF('Line 1 Source'!D64<>\"\",'Line 1 Source'!D64,\"\")","v":"4215"},{"$f":"IF('Line 1 Source'!E64<>\"\",'Line 1 Source'!E64,\"\")","v":"0180"},{"$f":"IF('Line 1 Source'!F64<>\"\",'Line 1 Source'!F64,\"\")","v":0}]
[{"$f":"IF('Line 1 Source'!A65<>\"\",'Line 1 Source'!A65,\"\")","v":"2018"},"0344215",{"$f":"CONCATENATE(VLOOKUP(B65,'School List'!$B$3:$H$291,6,FALSE),H65)","v":{"$error":"#N/A"}},{"$f":"CONCATENATE(VLOOKUP(B65,'School List'!$B$3:$D$291,3,FALSE),H65)","v":{"$error":"#N/A"}},{"$f":"IF('Line 1 Source'!B65<>\"\",'Line 1 Source'!B65,\"\")","v":"03"},{"$f":"IF('Line 1 Source'!C65<>\"\",'Line 1 Source'!C65,\"\")","v":"4"},{"$f":"IF('Line 1 Source'!D65<>\"\",'Line 1 Source'!D65,\"\")","v":"4215"},{"$f":"IF('Line 1 Source'!E65<>\"\",'Line 1 Source'!E65,\"\")","v":"0186"},{"$f":"IF('Line 1 Source'!F65<>\"\",'Line 1 Source'!F65,\"\")","v":0}]
[{"$f":"IF('Line 1 Source'!A66<>\"\",'Line 1 Source'!A66,\"\")","v":"2018"},"0344215",{"$f":"CONCATENATE(VLOOKUP(B66,'School List'!$B$3:$H$291,6,FALSE),H66)","v":{"$error":"#N/A"}},{"$f":"CONCATENATE(VLOOKUP(B66,'School List'!$B$3:$D$291,3,FALSE),H66)","v":{"$error":"#N/A"}},{"$f":"IF('Line 1 Source'!B66<>\"\",'Line 1 Source'!B66,\"\")","v":"03"},{"$f":"IF('Line 1 Source'!C66<>\"\",'Line 1 Source'!C66,\"\")","v":"4"},{"$f":"IF('Line 1 Source'!D66<>\"\",'Line 1 Source'!D66,\"\")","v":"4215"},{"$f":"IF('Line 1 Source'!E66<>\"\",'Line 1 Source'!E66,\"\")","v":"1214"},{"$f":"IF('Line 1 Source'!F66<>\"\",'Line 1 Source'!F66,\"\")","v":0}]
[{"$f":"IF('Line 1 Source'!A67<>\"\",'Line 1 Source'!A67,\"\")","v":"2018"},{"$f":"CONCATENATE(E67,F67,G67)","v":"0344215"},{"$f":"CONCATENATE(VLOOKUP(B67,'School List'!$B$3:$H$291,6,FALSE),H67)","v":{"$error":"#N/A"}},{"$f":"CONCATENATE(VLOOKUP(B67,'School List'!$B$3:$D$291,3,FALSE),H67)","v":{"$error":"#N/A"}},{"$f":"IF('Line 1 Source'!B67<>\"\",'Line 1 Source'!B67,\"\")","v":"03"},{"$f":"IF('Line 1 Source'!C67<>\"\",'Line 1 Source'!C67,\"\")","v":"4"},{"$f":"IF('Line 1 Source'!D67<>\"\",'Line 1 Source'!D67,\"\")","v":"4215"},{"$f":"IF('Line 1 Source'!E67<>\"\",'Line 1 Source'!E67,\"\")","v":"6301"},{"$f":"IF('Line 1 Source'!F67<>\"\",'Line 1 Source'!F67,\"\")","v":0}]
[{"$f":"IF('Line 1 Source'!A68<>\"\",'Line 1 Source'!A68,\"\")","v":"2018"},"0344215",{"$f":"CONCATENATE(VLOOKUP(B68,'School List'!$B$3:$H$291,6,FALSE),H68)","v":{"$error":"#N/A"}},{"$f":"CONCATENATE(VLOOKUP(B68,'School List'!$B$3:$D$291,3,FALSE),H68)","v":{"$error":"#N/A"}},{"$f":"IF('Line 1 Source'!B68<>\"\",'Line 1 Source'!B68,\"\")","v":"03"},{"$f":"IF('Line 1 Source'!C68<>\"\",'Line 1 Source'!C68,\"\")","v":"4"},{"$f":"IF('Line 1 Source'!D68<>\"\",'Line 1 Source'!D68,\"\")","v":"4215"},{"$f":"IF('Line 1 Source'!E68<>\"\",'Line 1 Source'!E68,\"\")","v":"6302"},{"$f":"IF('Line 1 Source'!F68<>\"\",'Line 1 Source'!F68,\"\")","v":0}]
[{"$f":"IF('Line 1 Source'!A69<>\"\",'Line 1 Source'!A69,\"\")","v":"2018"},"0440395",{"$f":"CONCATENATE(VLOOKUP(B69,'School List'!$B$3:$H$291,6,FALSE),H69)","v":"03950061"},{"$f":"CONCATENATE(VLOOKUP(B69,'School List'!$B$3:$D$291,3,FALSE),H69)","v":"Benton County - BENTON COMMUNITY SCHOOL CORPORATION0061"},{"$f":"IF('Line 1 Source'!B69<>\"\",'Line 1 Source'!B69,\"\")","v":"04"},{"$f":"IF('Line 1 Source'!C69<>\"\",'Line 1 Source'!C69,\"\")","v":"4"},{"$f":"IF('Line 1 Source'!D69<>\"\",'Line 1 Source'!D69,\"\")","v":"0395"},{"$f":"IF('Line 1 Source'!E69<>\"\",'Line 1 Source'!E69,\"\")","v":"0061"},{"$f":"IF('Line 1 Source'!F69<>\"\",'Line 1 Source'!F69,\"\")","v":1000000}]
[{"$f":"IF('Line 1 Source'!A70<>\"\",'Line 1 Source'!A70,\"\")","v":"2018"},"0440395",{"$f":"CONCATENATE(VLOOKUP(B70,'School List'!$B$3:$H$291,6,FALSE),H70)","v":"03950101"},{"$f":"CONCATENATE(VLOOKUP(B70,'School List'!$B$3:$D$291,3,FALSE),H70)","v":"Benton County - BENTON COMMUNITY SCHOOL CORPORATION0101"},{"$f":"IF('Line 1 Source'!B70<>\"\",'Line 1 Source'!B70,\"\")","v":"04"},{"$f":"IF('Line 1 Source'!C70<>\"\",'Line 1 Source'!C70,\"\")","v":"4"},{"$f":"IF('Line 1 Source'!D70<>\"\",'Line 1 Source'!D70,\"\")","v":"0395"},{"$f":"IF('Line 1 Source'!E70<>\"\",'Line 1 Source'!E70,\"\")","v":"0101"},{"$f":"IF('Line 1 Source'!F70<>\"\",'Line 1 Source'!F70,\"\")","v":15591660}]
[{"$f":"IF('Line 1 Source'!A71<>\"\",'Line 1 Source'!A71,\"\")","v":"2018"},"0440395",{"$f":"CONCATENATE(VLOOKUP(B71,'School List'!$B$3:$H$291,6,FALSE),H71)","v":"03950180"},{"$f":"CONCATENATE(VLOOKUP(B71,'School List'!$B$3:$D$291,3,FALSE),H71)","v":"Benton County - BENTON COMMUNITY SCHOOL CORPORATION0180"},{"$f":"IF('Line 1 Source'!B71<>\"\",'Line 1 Source'!B71,\"\")","v":"04"},{"$f":"IF('Line 1 Source'!C71<>\"\",'Line 1 Source'!C71,\"\")","v":"4"},{"$f":"IF('Line 1 Source'!D71<>\"\",'Line 1 Source'!D71,\"\")","v":"0395"},{"$f":"IF('Line 1 Source'!E71<>\"\",'Line 1 Source'!E71,\"\")","v":"0180"},{"$f":"IF('Line 1 Source'!F71<>\"\",'Line 1 Source'!F71,\"\")","v":2670682}]
[{"$f":"IF('Line 1 Source'!A72<>\"\",'Line 1 Source'!A72,\"\")","v":"2018"},"0440395",{"$f":"CONCATENATE(VLOOKUP(B72,'School List'!$B$3:$H$291,6,FALSE),H72)","v":"03950186"},{"$f":"CONCATENATE(VLOOKUP(B72,'School List'!$B$3:$D$291,3,FALSE),H72)","v":"Benton County - BENTON COMMUNITY SCHOOL CORPORATION0186"},{"$f":"IF('Line 1 Source'!B72<>\"\",'Line 1 Source'!B72,\"\")","v":"04"},{"$f":"IF('Line 1 Source'!C72<>\"\",'Line 1 Source'!C72,\"\")","v":"4"},{"$f":"IF('Line 1 Source'!D72<>\"\",'Line 1 Source'!D72,\"\")","v":"0395"},{"$f":"IF('Line 1 Source'!E72<>\"\",'Line 1 Source'!E72,\"\")","v":"0186"},{"$f":"IF('Line 1 Source'!F72<>\"\",'Line 1 Source'!F72,\"\")","v":249008}]
[{"$f":"IF('Line 1 Source'!A73<>\"\",'Line 1 Source'!A73,\"\")","v":"2018"},"0440395",{"$f":"CONCATENATE(VLOOKUP(B73,'School List'!$B$3:$H$291,6,FALSE),H73)","v":"03951214"},{"$f":"CONCATENATE(VLOOKUP(B73,'School List'!$B$3:$D$291,3,FALSE),H73)","v":"Benton County - BENTON COMMUNITY SCHOOL CORPORATION1214"},{"$f":"IF('Line 1 Source'!B73<>\"\",'Line 1 Source'!B73,\"\")","v":"04"},{"$f":"IF('Line 1 Source'!C73<>\"\",'Line 1 Source'!C73,\"\")","v":"4"},{"$f":"IF('Line 1 Source'!D73<>\"\",'Line 1 Source'!D73,\"\")","v":"0395"},{"$f":"IF('Line 1 Source'!E73<>\"\",'Line 1 Source'!E73,\"\")","v":"1214"},{"$f":"IF('Line 1 Source'!F73<>\"\",'Line 1 Source'!F73,\"\")","v":3279474}]
[{"$f":"IF('Line 1 Source'!A74<>\"\",'Line 1 Source'!A74,\"\")","v":"2018"},"0440395",{"$f":"CONCATENATE(VLOOKUP(B74,'School List'!$B$3:$H$291,6,FALSE),H74)","v":"03956301"},{"$f":"CONCATENATE(VLOOKUP(B74,'School List'!$B$3:$D$291,3,FALSE),H74)","v":"Benton County - BENTON COMMUNITY SCHOOL CORPORATION6301"},{"$f":"IF('Line 1 Source'!B74<>\"\",'Line 1 Source'!B74,\"\")","v":"04"},{"$f":"IF('Line 1 Source'!C74<>\"\",'Line 1 Source'!C74,\"\")","v":"4"},{"$f":"IF('Line 1 Source'!D74<>\"\",'Line 1 Source'!D74,\"\")","v":"0395"},{"$f":"IF('Line 1 Source'!E74<>\"\",'Line 1 Source'!E74,\"\")","v":"6301"},{"$f":"IF('Line 1 Source'!F74<>\"\",'Line 1 Source'!F74,\"\")","v":3337498}]
[{"$f":"IF('Line 1 Source'!A75<>\"\",'Line 1 Source'!A75,\"\")","v":"2018"},"0440395",{"$f":"CONCATENATE(VLOOKUP(B75,'School List'!$B$3:$H$291,6,FALSE),H75)","v":"03956302"},{"$f":"CONCATENATE(VLOOKUP(B75,'School List'!$B$3:$D$291,3,FALSE),H75)","v":"Benton County - BENTON COMMUNITY SCHOOL CORPORATION6302"},{"$f":"IF('Line 1 Source'!B75<>\"\",'Line 1 Source'!B75,\"\")","v":"04"},{"$f":"IF('Line 1 Source'!C75<>\"\",'Line 1 Source'!C75,\"\")","v":"4"},{"$f":"IF('Line 1 Source'!D75<>\"\",'Line 1 Source'!D75,\"\")","v":"0395"},{"$f":"IF('Line 1 Source'!E75<>\"\",'Line 1 Source'!E75,\"\")","v":"6302"},{"$f":"IF('Line 1 Source'!F75<>\"\",'Line 1 Source'!F75,\"\")","v":718750}]
[{"$f":"IF('Line 1 Source'!A76<>\"\",'Line 1 Source'!A76,\"\")","v":"2018"},"0445995",{"$f":"CONCATENATE(VLOOKUP(B76,'School List'!$B$3:$H$291,6,FALSE),H76)","v":{"$error":"#N/A"}},{"$f":"CONCATENATE(VLOOKUP(B76,'School List'!$B$3:$D$291,3,FALSE),H76)","v":{"$error":"#N/A"}},{"$f":"IF('Line 1 Source'!B76<>\"\",'Line 1 Source'!B76,\"\")","v":"04"},{"$f":"IF('Line 1 Source'!C76<>\"\",'Line 1 Source'!C76,\"\")","v":"4"},{"$f":"IF('Line 1 Source'!D76<>\"\",'Line 1 Source'!D76,\"\")","v":"5995"},{"$f":"IF('Line 1 Source'!E76<>\"\",'Line 1 Source'!E76,\"\")","v":"0061"},{"$f":"IF('Line 1 Source'!F76<>\"\",'Line 1 Source'!F76,\"\")","v":0}]
[{"$f":"IF('Line 1 Source'!A77<>\"\",'Line 1 Source'!A77,\"\")","v":"2018"},"0445995",{"$f":"CONCATENATE(VLOOKUP(B77,'School List'!$B$3:$H$291,6,FALSE),H77)","v":{"$error":"#N/A"}},{"$f":"CONCATENATE(VLOOKUP(B77,'School List'!$B$3:$D$291,3,FALSE),H77)","v":{"$error":"#N/A"}},{"$f":"IF('Line 1 Source'!B77<>\"\",'Line 1 Source'!B77,\"\")","v":"04"},{"$f":"IF('Line 1 Source'!C77<>\"\",'Line 1 Source'!C77,\"\")","v":"4"},{"$f":"IF('Line 1 Source'!D77<>\"\",'Line 1 Source'!D77,\"\")","v":"5995"},{"$f":"IF('Line 1 Source'!E77<>\"\",'Line 1 Source'!E77,\"\")","v":"0101"},{"$f":"IF('Line 1 Source'!F77<>\"\",'Line 1 Source'!F77,\"\")","v":0}]
[{"$f":"IF('Line 1 Source'!A78<>\"\",'Line 1 Source'!A78,\"\")","v":"2018"},"0445995",{"$f":"CONCATENATE(VLOOKUP(B78,'School List'!$B$3:$H$291,6,FALSE),H78)","v":{"$error":"#N/A"}},{"$f":"CONCATENATE(VLOOKUP(B78,'School List'!$B$3:$D$291,3,FALSE),H78)","v":{"$error":"#N/A"}},{"$f":"IF('Line 1 Source'!B78<>\"\",'Line 1 Source'!B78,\"\")","v":"04"},{"$f":"IF('Line 1 Source'!C78<>\"\",'Line 1 Source'!C78,\"\")","v":"4"},{"$f":"IF('Line 1 Source'!D78<>\"\",'Line 1 Source'!D78,\"\")","v":"5995"},{"$f":"IF('Line 1 Source'!E78<>\"\",'Line 1 Source'!E78,\"\")","v":"0180"},{"$f":"IF('Line 1 Source'!F78<>\"\",'Line 1 Source'!F78,\"\")","v":0}]
[{"$f":"IF('Line 1 Source'!A79<>\"\",'Line 1 Source'!A79,\"\")","v":"2018"},"0445995",{"$f":"CONCATENATE(VLOOKUP(B79,'School List'!$B$3:$H$291,6,FALSE),H79)","v":{"$error":"#N/A"}},{"$f":"CONCATENATE(VLOOKUP(B79,'School List'!$B$3:$D$291,3,FALSE),H79)","v":{"$error":"#N/A"}},{"$f":"IF('Line 1 Source'!B79<>\"\",'Line 1 Source'!B79,\"\")","v":"04"},{"$f":"IF('Line 1 Source'!C79<>\"\",'Line 1 Source'!C79,\"\")","v":"4"},{"$f":"IF('Line 1 Source'!D79<>\"\",'Line 1 Source'!D79,\"\")","v":"5995"},{"$f":"IF('Line 1 Source'!E79<>\"\",'Line 1 Source'!E79,\"\")","v":"1214"},{"$f":"IF('Line 1 Source'!F79<>\"\",'Line 1 Source'!F79,\"\")","v":0}]
[{"$f":"IF('Line 1 Source'!A80<>\"\",'Line 1 Source'!A80,\"\")","v":"2018"},"0445995",{"$f":"CONCATENATE(VLOOKUP(B80,'School List'!$B$3:$H$291,6,FALSE),H80)","v":{"$error":"#N/A"}},{"$f":"CONCATENATE(VLOOKUP(B80,'School List'!$B$3:$D$291,3,FALSE),H80)","v":{"$error":"#N/A"}},{"$f":"IF('Line 1 Source'!B80<>\"\",'Line 1 Source'!B80,\"\")","v":"04"},{"$f":"IF('Line 1 Source'!C80<>\"\",'Line 1 Source'!C80,\"\")","v":"4"},{"$f":"IF('Line 1 Source'!D80<>\"\",'Line 1 Source'!D80,\"\")","v":"5995"},{"$f":"IF('Line 1 Source'!E80<>\"\",'Line 1 Source'!E80,\"\")","v":"6301"},{"$f":"IF('Line 1 Source'!F80<>\"\",'Line 1 Source'!F80,\"\")","v":0}]
[{"$f":"IF('Line 1 Source'!A81<>\"\",'Line 1 Source'!A81,\"\")","v":"2018"},"0445995",{"$f":"CONCATENATE(VLOOKUP(B81,'School List'!$B$3:$H$291,6,FALSE),H81)","v":{"$error":"#N/A"}},{"$f":"CONCATENATE(VLOOKUP(B81,'School List'!$B$3:$D$291,3,FALSE),H81)","v":{"$error":"#N/A"}},{"$f":"IF('Line 1 Source'!B81<>\"\",'Line 1 Source'!B81,\"\")","v":"04"},{"$f":"IF('Line 1 Source'!C81<>\"\",'Line 1 Source'!C81,\"\")","v":"4"},{"$f":"IF('Line 1 Source'!D81<>\"\",'Line 1 Source'!D81,\"\")","v":"5995"},{"$f":"IF('Line 1 Source'!E81<>\"\",'Line 1 Source'!E81,\"\")","v":"6302"},{"$f":"IF('Line 1 Source'!F81<>\"\",'Line 1 Source'!F81,\"\")","v":0}]
[{"$f":"IF('Line 1 Source'!A82<>\"\",'Line 1 Source'!A82,\"\")","v":"2018"},"0448535",{"$f":"CONCATENATE(VLOOKUP(B82,'School List'!$B$3:$H$291,6,FALSE),H82)","v":{"$error":"#N/A"}},{"$f":"CONCATENATE(VLOOKUP(B82,'School List'!$B$3:$D$291,3,FALSE),H82)","v":{"$error":"#N/A"}},{"$f":"IF('Line 1 Source'!B82<>\"\",'Line 1 Source'!B82,\"\")","v":"04"},{"$f":"IF('Line 1 Source'!C82<>\"\",'Line 1 Source'!C82,\"\")","v":"4"},{"$f":"IF('Line 1 Source'!D82<>\"\",'Line 1 Source'!D82,\"\")","v":"8535"},{"$f":"IF('Line 1 Source'!E82<>\"\",'Line 1 Source'!E82,\"\")","v":"0022"},{"$f":"IF('Line 1 Source'!F82<>\"\",'Line 1 Source'!F82,\"\")","v":0}]
[{"$f":"IF('Line 1 Source'!A83<>\"\",'Line 1 Source'!A83,\"\")","v":"2018"},"0448535",{"$f":"CONCATENATE(VLOOKUP(B83,'School List'!$B$3:$H$291,6,FALSE),H83)","v":{"$error":"#N/A"}},{"$f":"CONCATENATE(VLOOKUP(B83,'School List'!$B$3:$D$291,3,FALSE),H83)","v":{"$error":"#N/A"}},{"$f":"IF('Line 1 Source'!B83<>\"\",'Line 1 Source'!B83,\"\")","v":"04"},{"$f":"IF('Line 1 Source'!C83<>\"\",'Line 1 Source'!C83,\"\")","v":"4"},{"$f":"IF('Line 1 Source'!D83<>\"\",'Line 1 Source'!D83,\"\")","v":"8535"},{"$f":"IF('Line 1 Source'!E83<>\"\",'Line 1 Source'!E83,\"\")","v":"0061"},{"$f":"IF('Line 1 Source'!F83<>\"\",'Line 1 Source'!F83,\"\")","v":0}]
[{"$f":"IF('Line 1 Source'!A84<>\"\",'Line 1 Source'!A84,\"\")","v":"2018"},"0448535",{"$f":"CONCATENATE(VLOOKUP(B84,'School List'!$B$3:$H$291,6,FALSE),H84)","v":{"$error":"#N/A"}},{"$f":"CONCATENATE(VLOOKUP(B84,'School List'!$B$3:$D$291,3,FALSE),H84)","v":{"$error":"#N/A"}},{"$f":"IF('Line 1 Source'!B84<>\"\",'Line 1 Source'!B84,\"\")","v":"04"},{"$f":"IF('Line 1 Source'!C84<>\"\",'Line 1 Source'!C84,\"\")","v":"4"},{"$f":"IF('Line 1 Source'!D84<>\"\",'Line 1 Source'!D84,\"\")","v":"8535"},{"$f":"IF('Line 1 Source'!E84<>\"\",'Line 1 Source'!E84,\"\")","v":"0101"},{"$f":"IF('Line 1 Source'!F84<>\"\",'Line 1 Source'!F84,\"\")","v":0}]
[{"$f":"IF('Line 1 Source'!A85<>\"\",'Line 1 Source'!A85,\"\")","v":"2018"},"0448535",{"$f":"CONCATENATE(VLOOKUP(B85,'School List'!$B$3:$H$291,6,FALSE),H85)","v":{"$error":"#N/A"}},{"$f":"CONCATENATE(VLOOKUP(B85,'School List'!$B$3:$D$291,3,FALSE),H85)","v":{"$error":"#N/A"}},{"$f":"IF('Line 1 Source'!B85<>\"\",'Line 1 Source'!B85,\"\")","v":"04"},{"$f":"IF('Line 1 Source'!C85<>\"\",'Line 1 Source'!C85,\"\")","v":"4"},{"$f":"IF('Line 1 Source'!D85<>\"\",'Line 1 Source'!D85,\"\")","v":"8535"},{"$f":"IF('Line 1 Source'!E85<>\"\",'Line 1 Source'!E85,\"\")","v":"0180"},{"$f":"IF('Line 1 Source'!F85<>\"\",'Line 1 Source'!F85,\"\")","v":0}]
[{"$f":"IF('Line 1 Source'!A86<>\"\",'Line 1 Source'!A86,\"\")","v":"2018"},"0448535",{"$f":"CONCATENATE(VLOOKUP(B86,'School List'!$B$3:$H$291,6,FALSE),H86)","v":{"$error":"#N/A"}},{"$f":"CONCATENATE(VLOOKUP(B86,'School List'!$B$3:$D$291,3,FALSE),H86)","v":{"$error":"#N/A"}},{"$f":"IF('Line 1 Source'!B86<>\"\",'Line 1 Source'!B86,\"\")","v":"04"},{"$f":"IF('Line 1 Source'!C86<>\"\",'Line 1 Source'!C86,\"\")","v":"4"},{"$f":"IF('Line 1 Source'!D86<>\"\",'Line 1 Source'!D86,\"\")","v":"8535"},{"$f":"IF('Line 1 Source'!E86<>\"\",'Line 1 Source'!E86,\"\")","v":"1214"},{"$f":"IF('Line 1 Source'!F86<>\"\",'Line 1 Source'!F86,\"\")","v":0}]
[{"$f":"IF('Line 1 Source'!A87<>\"\",'Line 1 Source'!A87,\"\")","v":"2018"},"0448535",{"$f":"CONCATENATE(VLOOKUP(B87,'School List'!$B$3:$H$291,6,FALSE),H87)","v":{"$error":"#N/A"}},{"$f":"CONCATENATE(VLOOKUP(B87,'School List'!$B$3:$D$291,3,FALSE),H87)","v":{"$error":"#N/A"}},{"$f":"IF('Line 1 Source'!B87<>\"\",'Line 1 Source'!B87,\"\")","v":"04"},{"$f":"IF('Line 1 Source'!C87<>\"\",'Line 1 Source'!C87,\"\")","v":"4"},{"$f":"IF('Line 1 Source'!D87<>\"\",'Line 1 Source'!D87,\"\")","v":"8535"},{"$f":"IF('Line 1 Source'!E87<>\"\",'Line 1 Source'!E87,\"\")","v":"6301"},{"$f":"IF('Line 1 Source'!F87<>\"\",'Line 1 Source'!F87,\"\")","v":0}]
[{"$f":"IF('Line 1 Source'!A88<>\"\",'Line 1 Source'!A88,\"\")","v":"2018"},"0448535",{"$f":"CONCATENATE(VLOOKUP(B88,'School List'!$B$3:$H$291,6,FALSE),H88)","v":{"$error":"#N/A"}},{"$f":"CONCATENATE(VLOOKUP(B88,'School List'!$B$3:$D$291,3,FALSE),H88)","v":{"$error":"#N/A"}},{"$f":"IF('Line 1 Source'!B88<>\"\",'Line 1 Source'!B88,\"\")","v":"04"},{"$f":"IF('Line 1 Source'!C88<>\"\",'Line 1 Source'!C88,\"\")","v":"4"},{"$f":"IF('Line 1 Source'!D88<>\"\",'Line 1 Source'!D88,\"\")","v":"8535"},{"$f":"IF('Line 1 Source'!E88<>\"\",'Line 1 Source'!E88,\"\")","v":"6302"},{"$f":"IF('Line 1 Source'!F88<>\"\",'Line 1 Source'!F88,\"\")","v":0}]
[{"$f":"IF('Line 1 Source'!A89<>\"\",'Line 1 Source'!A89,\"\")","v":"2018"},"0540515",{"$f":"CONCATENATE(VLOOKUP(B89,'School List'!$B$3:$H$291,6,FALSE),H89)","v":"05150101"},{"$f":"CONCATENATE(VLOOKUP(B89,'School List'!$B$3:$D$291,3,FALSE),H89)","v":"Blackford County - BLACKFORD COUNTY SCHOOL CORPORATION0101"},{"$f":"IF('Line 1 Source'!B89<>\"\",'Line 1 Source'!B89,\"\")","v":"05"},{"$f":"IF('Line 1 Source'!C89<>\"\",'Line 1 Source'!C89,\"\")","v":"4"},{"$f":"IF('Line 1 Source'!D89<>\"\",'Line 1 Source'!D89,\"\")","v":"0515"},{"$f":"IF('Line 1 Source'!E89<>\"\",'Line 1 Source'!E89,\"\")","v":"0101"},{"$f":"IF('Line 1 Source'!F89<>\"\",'Line 1 Source'!F89,\"\")","v":13260000}]
[{"$f":"IF('Line 1 Source'!A90<>\"\",'Line 1 Source'!A90,\"\")","v":"2018"},"0540515",{"$f":"CONCATENATE(VLOOKUP(B90,'School List'!$B$3:$H$291,6,FALSE),H90)","v":"05150180"},{"$f":"CONCATENATE(VLOOKUP(B90,'School List'!$B$3:$D$291,3,FALSE),H90)","v":"Blackford County - BLACKFORD COUNTY SCHOOL CORPORATION0180"},{"$f":"IF('Line 1 Source'!B90<>\"\",'Line 1 Source'!B90,\"\")","v":"05"},{"$f":"IF('Line 1 Source'!C90<>\"\",'Line 1 Source'!C90,\"\")","v":"4"},{"$f":"IF('Line 1 Source'!D90<>\"\",'Line 1 Source'!D90,\"\")","v":"0515"},{"$f":"IF('Line 1 Source'!E90<>\"\",'Line 1 Source'!E90,\"\")","v":"0180"},{"$f":"IF('Line 1 Source'!F90<>\"\",'Line 1 Source'!F90,\"\")","v":1962833}]
[{"$f":"IF('Line 1 Source'!A91<>\"\",'Line 1 Source'!A91,\"\")","v":"2018"},"0540515",{"$f":"CONCATENATE(VLOOKUP(B91,'School List'!$B$3:$H$291,6,FALSE),H91)","v":"05150186"},{"$f":"CONCATENATE(VLOOKUP(B91,'School List'!$B$3:$D$291,3,FALSE),H91)","v":"Blackford County - BLACKFORD COUNTY SCHOOL CORPORATION0186"},{"$f":"IF('Line 1 Source'!B91<>\"\",'Line 1 Source'!B91,\"\")","v":"05"},{"$f":"IF('Line 1 Source'!C91<>\"\",'Line 1 Source'!C91,\"\")","v":"4"},{"$f":"IF('Line 1 Source'!D91<>\"\",'Line 1 Source'!D91,\"\")","v":"0515"},{"$f":"IF('Line 1 Source'!E91<>\"\",'Line 1 Source'!E91,\"\")","v":"0186"},{"$f":"IF('Line 1 Source'!F91<>\"\",'Line 1 Source'!F91,\"\")","v":338787}]
[{"$f":"IF('Line 1 Source'!A92<>\"\",'Line 1 Source'!A92,\"\")","v":"2018"},"0540515",{"$f":"CONCATENATE(VLOOKUP(B92,'School List'!$B$3:$H$291,6,FALSE),H92)","v":"05151214"},{"$f":"CONCATENATE(VLOOKUP(B92,'School List'!$B$3:$D$291,3,FALSE),H92)","v":"Blackford County - BLACKFORD COUNTY SCHOOL CORPORATION1214"},{"$f":"IF('Line 1 Source'!B92<>\"\",'Line 1 Source'!B92,\"\")","v":"05"},{"$f":"IF('Line 1 Source'!C92<>\"\",'Line 1 Source'!C92,\"\")","v":"4"},{"$f":"IF('Line 1 Source'!D92<>\"\",'Line 1 Source'!D92,\"\")","v":"0515"},{"$f":"IF('Line 1 Source'!E92<>\"\",'Line 1 Source'!E92,\"\")","v":"1214"},{"$f":"IF('Line 1 Source'!F92<>\"\",'Line 1 Source'!F92,\"\")","v":1400000}]
[{"$f":"IF('Line 1 Source'!A93<>\"\",'Line 1 Source'!A93,\"\")","v":"2018"},"0540515",{"$f":"CONCATENATE(VLOOKUP(B93,'School List'!$B$3:$H$291,6,FALSE),H93)","v":"05156301"},{"$f":"CONCATENATE(VLOOKUP(B93,'School List'!$B$3:$D$291,3,FALSE),H93)","v":"Blackford County - BLACKFORD COUNTY SCHOOL CORPORATION6301"},{"$f":"IF('Line 1 Source'!B93<>\"\",'Line 1 Source'!B93,\"\")","v":"05"},{"$f":"IF('Line 1 Source'!C93<>\"\",'Line 1 Source'!C93,\"\")","v":"4"},{"$f":"IF('Line 1 Source'!D93<>\"\",'Line 1 Source'!D93,\"\")","v":"0515"},{"$f":"IF('Line 1 Source'!E93<>\"\",'Line 1 Source'!E93,\"\")","v":"6301"},{"$f":"IF('Line 1 Source'!F93<>\"\",'Line 1 Source'!F93,\"\")","v":831500}]
[{"$f":"IF('Line 1 Source'!A94<>\"\",'Line 1 Source'!A94,\"\")","v":"2018"},"0540515",{"$f":"CONCATENATE(VLOOKUP(B94,'School List'!$B$3:$H$291,6,FALSE),H94)","v":"05156302"},{"$f":"CONCATENATE(VLOOKUP(B94,'School List'!$B$3:$D$291,3,FALSE),H94)","v":"Blackford County - BLACKFORD COUNTY SCHOOL CORPORATION6302"},{"$f":"IF('Line 1 Source'!B94<>\"\",'Line 1 Source'!B94,\"\")","v":"05"},{"$f":"IF('Line 1 Source'!C94<>\"\",'Line 1 Source'!C94,\"\")","v":"4"},{"$f":"IF('Line 1 Source'!D94<>\"\",'Line 1 Source'!D94,\"\")","v":"0515"},{"$f":"IF('Line 1 Source'!E94<>\"\",'Line 1 Source'!E94,\"\")","v":"6302"},{"$f":"IF('Line 1 Source'!F94<>\"\",'Line 1 Source'!F94,\"\")","v":225000}]
[{"$f":"IF('Line 1 Source'!A95<>\"\",'Line 1 Source'!A95,\"\")","v":"2018"},"0543945",{"$f":"CONCATENATE(VLOOKUP(B95,'School List'!$B$3:$H$291,6,FALSE),H95)","v":{"$error":"#N/A"}},{"$f":"CONCATENATE(VLOOKUP(B95,'School List'!$B$3:$D$291,3,FALSE),H95)","v":{"$error":"#N/A"}},{"$f":"IF('Line 1 Source'!B95<>\"\",'Line 1 Source'!B95,\"\")","v":"05"},{"$f":"IF('Line 1 Source'!C95<>\"\",'Line 1 Source'!C95,\"\")","v":"4"},{"$f":"IF('Line 1 Source'!D95<>\"\",'Line 1 Source'!D95,\"\")","v":"3945"},{"$f":"IF('Line 1 Source'!E95<>\"\",'Line 1 Source'!E95,\"\")","v":"0101"},{"$f":"IF('Line 1 Source'!F95<>\"\",'Line 1 Source'!F95,\"\")","v":0}]
[{"$f":"IF('Line 1 Source'!A96<>\"\",'Line 1 Source'!A96,\"\")","v":"2018"},"0543945",{"$f":"CONCATENATE(VLOOKUP(B96,'School List'!$B$3:$H$291,6,FALSE),H96)","v":{"$error":"#N/A"}},{"$f":"CONCATENATE(VLOOKUP(B96,'School List'!$B$3:$D$291,3,FALSE),H96)","v":{"$error":"#N/A"}},{"$f":"IF('Line 1 Source'!B96<>\"\",'Line 1 Source'!B96,\"\")","v":"05"},{"$f":"IF('Line 1 Source'!C96<>\"\",'Line 1 Source'!C96,\"\")","v":"4"},{"$f":"IF('Line 1 Source'!D96<>\"\",'Line 1 Source'!D96,\"\")","v":"3945"},{"$f":"IF('Line 1 Source'!E96<>\"\",'Line 1 Source'!E96,\"\")","v":"0180"},{"$f":"IF('Line 1 Source'!F96<>\"\",'Line 1 Source'!F96,\"\")","v":0}]
[{"$f":"IF('Line 1 Source'!A97<>\"\",'Line 1 Source'!A97,\"\")","v":"2018"},"0543945",{"$f":"CONCATENATE(VLOOKUP(B97,'School List'!$B$3:$H$291,6,FALSE),H97)","v":{"$error":"#N/A"}},{"$f":"CONCATENATE(VLOOKUP(B97,'School List'!$B$3:$D$291,3,FALSE),H97)","v":{"$error":"#N/A"}},{"$f":"IF('Line 1 Source'!B97<>\"\",'Line 1 Source'!B97,\"\")","v":"05"},{"$f":"IF('Line 1 Source'!C97<>\"\",'Line 1 Source'!C97,\"\")","v":"4"},{"$f":"IF('Line 1 Source'!D97<>\"\",'Line 1 Source'!D97,\"\")","v":"3945"},{"$f":"IF('Line 1 Source'!E97<>\"\",'Line 1 Source'!E97,\"\")","v":"0186"},{"$f":"IF('Line 1 Source'!F97<>\"\",'Line 1 Source'!F97,\"\")","v":0}]
[{"$f":"IF('Line 1 Source'!A98<>\"\",'Line 1 Source'!A98,\"\")","v":"2018"},"0543945",{"$f":"CONCATENATE(VLOOKUP(B98,'School List'!$B$3:$H$291,6,FALSE),H98)","v":{"$error":"#N/A"}},{"$f":"CONCATENATE(VLOOKUP(B98,'School List'!$B$3:$D$291,3,FALSE),H98)","v":{"$error":"#N/A"}},{"$f":"IF('Line 1 Source'!B98<>\"\",'Line 1 Source'!B98,\"\")","v":"05"},{"$f":"IF('Line 1 Source'!C98<>\"\",'Line 1 Source'!C98,\"\")","v":"4"},{"$f":"IF('Line 1 Source'!D98<>\"\",'Line 1 Source'!D98,\"\")","v":"3945"},{"$f":"IF('Line 1 Source'!E98<>\"\",'Line 1 Source'!E98,\"\")","v":"1214"},{"$f":"IF('Line 1 Source'!F98<>\"\",'Line 1 Source'!F98,\"\")","v":0}]
[{"$f":"IF('Line 1 Source'!A99<>\"\",'Line 1 Source'!A99,\"\")","v":"2018"},"0543945",{"$f":"CONCATENATE(VLOOKUP(B99,'School List'!$B$3:$H$291,6,FALSE),H99)","v":{"$error":"#N/A"}},{"$f":"CONCATENATE(VLOOKUP(B99,'School List'!$B$3:$D$291,3,FALSE),H99)","v":{"$error":"#N/A"}},{"$f":"IF('Line 1 Source'!B99<>\"\",'Line 1 Source'!B99,\"\")","v":"05"},{"$f":"IF('Line 1 Source'!C99<>\"\",'Line 1 Source'!C99,\"\")","v":"4"},{"$f":"IF('Line 1 Source'!D99<>\"\",'Line 1 Source'!D99,\"\")","v":"3945"},{"$f":"IF('Line 1 Source'!E99<>\"\",'Line 1 Source'!E99,\"\")","v":"6301"},{"$f":"IF('Line 1 Source'!F99<>\"\",'Line 1 Source'!F99,\"\")","v":0}]
[{"$f":"IF('Line 1 Source'!A100<>\"\",'Line 1 Source'!A100,\"\")","v":"2018"},"0543945",{"$f":"CONCATENATE(VLOOKUP(B100,'School List'!$B$3:$H$291,6,FALSE),H100)","v":{"$error":"#N/A"}},{"$f":"CONCATENATE(VLOOKUP(B100,'School List'!$B$3:$D$291,3,FALSE),H100)","v":{"$error":"#N/A"}},{"$f":"IF('Line 1 Source'!B100<>\"\",'Line 1 Source'!B100,\"\")","v":"05"},{"$f":"IF('Line 1 Source'!C100<>\"\",'Line 1 Source'!C100,\"\")","v":"4"},{"$f":"IF('Line 1 Source'!D100<>\"\",'Line 1 Source'!D100,\"\")","v":"3945"},{"$f":"IF('Line 1 Source'!E100<>\"\",'Line 1 Source'!E100,\"\")","v":"6302"},{"$f":"IF('Line 1 Source'!F100<>\"\",'Line 1 Source'!F100,\"\")","v":0}]
[{"$f":"IF('Line 1 Source'!A101<>\"\",'Line 1 Source'!A101,\"\")","v":"2018"},"0640615",{"$f":"CONCATENATE(VLOOKUP(B101,'School List'!$B$3:$H$291,6,FALSE),H101)","v":"06150061"},{"$f":"CONCATENATE(VLOOKUP(B101,'School List'!$B$3:$D$291,3,FALSE),H101)","v":"Boone County - WESTERN BOONE COUNTY SCHOOL CORPORATION0061"},{"$f":"IF('Line 1 Source'!B101<>\"\",'Line 1 Source'!B101,\"\")","v":"06"},{"$f":"IF('Line 1 Source'!C101<>\"\",'Line 1 Source'!C101,\"\")","v":"4"},{"$f":"IF('Line 1 Source'!D101<>\"\",'Line 1 Source'!D101,\"\")","v":"0615"},{"$f":"IF('Line 1 Source'!E101<>\"\",'Line 1 Source'!E101,\"\")","v":"0061"},{"$f":"IF('Line 1 Source'!F101<>\"\",'Line 1 Source'!F101,\"\")","v":475000}]
[{"$f":"IF('Line 1 Source'!A102<>\"\",'Line 1 Source'!A102,\"\")","v":"2018"},"0640615",{"$f":"CONCATENATE(VLOOKUP(B102,'School List'!$B$3:$H$291,6,FALSE),H102)","v":"06150101"},{"$f":"CONCATENATE(VLOOKUP(B102,'School List'!$B$3:$D$291,3,FALSE),H102)","v":"Boone County - WESTERN BOONE COUNTY SCHOOL CORPORATION0101"},{"$f":"IF('Line 1 Source'!B102<>\"\",'Line 1 Source'!B102,\"\")","v":"06"},{"$f":"IF('Line 1 Source'!C102<>\"\",'Line 1 Source'!C102,\"\")","v":"4"},{"$f":"IF('Line 1 Source'!D102<>\"\",'Line 1 Source'!D102,\"\")","v":"0615"},{"$f":"IF('Line 1 Source'!E102<>\"\",'Line 1 Source'!E102,\"\")","v":"0101"},{"$f":"IF('Line 1 Source'!F102<>\"\",'Line 1 Source'!F102,\"\")","v":11834600}]
[{"$f":"IF('Line 1 Source'!A103<>\"\",'Line 1 Source'!A103,\"\")","v":"2018"},"0640615",{"$f":"CONCATENATE(VLOOKUP(B103,'School List'!$B$3:$H$291,6,FALSE),H103)","v":"06150180"},{"$f":"CONCATENATE(VLOOKUP(B103,'School List'!$B$3:$D$291,3,FALSE),H103)","v":"Boone County - WESTERN BOONE COUNTY SCHOOL CORPORATION0180"},{"$f":"IF('Line 1 Source'!B103<>\"\",'Line 1 Source'!B103,\"\")","v":"06"},{"$f":"IF('Line 1 Source'!C103<>\"\",'Line 1 Source'!C103,\"\")","v":"4"},{"$f":"IF('Line 1 Source'!D103<>\"\",'Line 1 Source'!D103,\"\")","v":"0615"},{"$f":"IF('Line 1 Source'!E103<>\"\",'Line 1 Source'!E103,\"\")","v":"0180"},{"$f":"IF('Line 1 Source'!F103<>\"\",'Line 1 Source'!F103,\"\")","v":3802347}]
[{"$f":"IF('Line 1 Source'!A104<>\"\",'Line 1 Source'!A104,\"\")","v":"2018"},"0640615",{"$f":"CONCATENATE(VLOOKUP(B104,'School List'!$B$3:$H$291,6,FALSE),H104)","v":"06151214"},{"$f":"CONCATENATE(VLOOKUP(B104,'School List'!$B$3:$D$291,3,FALSE),H104)","v":"Boone County - WESTERN BOONE COUNTY SCHOOL CORPORATION1214"},{"$f":"IF('Line 1 Source'!B104<>\"\",'Line 1 Source'!B104,\"\")","v":"06"},{"$f":"IF('Line 1 Source'!C104<>\"\",'Line 1 Source'!C104,\"\")","v":"4"},{"$f":"IF('Line 1 Source'!D104<>\"\",'Line 1 Source'!D104,\"\")","v":"0615"},{"$f":"IF('Line 1 Source'!E104<>\"\",'Line 1 Source'!E104,\"\")","v":"1214"},{"$f":"IF('Line 1 Source'!F104<>\"\",'Line 1 Source'!F104,\"\")","v":1480473}]
[{"$f":"IF('Line 1 Source'!A105<>\"\",'Line 1 Source'!A105,\"\")","v":"2018"},"0640615",{"$f":"CONCATENATE(VLOOKUP(B105,'School List'!$B$3:$H$291,6,FALSE),H105)","v":"06156301"},{"$f":"CONCATENATE(VLOOKUP(B105,'School List'!$B$3:$D$291,3,FALSE),H105)","v":"Boone County - WESTERN BOONE COUNTY SCHOOL CORPORATION6301"},{"$f":"IF('Line 1 Source'!B105<>\"\",'Line 1 Source'!B105,\"\")","v":"06"},{"$f":"IF('Line 1 Source'!C105<>\"\",'Line 1 Source'!C105,\"\")","v":"4"},{"$f":"IF('Line 1 Source'!D105<>\"\",'Line 1 Source'!D105,\"\")","v":"0615"},{"$f":"IF('Line 1 Source'!E105<>\"\",'Line 1 Source'!E105,\"\")","v":"6301"},{"$f":"IF('Line 1 Source'!F105<>\"\",'Line 1 Source'!F105,\"\")","v":1700500}]
[{"$f":"IF('Line 1 Source'!A106<>\"\",'Line 1 Source'!A106,\"\")","v":"2018"},"0640615",{"$f":"CONCATENATE(VLOOKUP(B106,'School List'!$B$3:$H$291,6,FALSE),H106)","v":"06156302"},{"$f":"CONCATENATE(VLOOKUP(B106,'School List'!$B$3:$D$291,3,FALSE),H106)","v":"Boone County - WESTERN BOONE COUNTY SCHOOL CORPORATION6302"},{"$f":"IF('Line 1 Source'!B106<>\"\",'Line 1 Source'!B106,\"\")","v":"06"},{"$f":"IF('Line 1 Source'!C106<>\"\",'Line 1 Source'!C106,\"\")","v":"4"},{"$f":"IF('Line 1 Source'!D106<>\"\",'Line 1 Source'!D106,\"\")","v":"0615"},{"$f":"IF('Line 1 Source'!E106<>\"\",'Line 1 Source'!E106,\"\")","v":"6302"},{"$f":"IF('Line 1 Source'!F106<>\"\",'Line 1 Source'!F106,\"\")","v":405000}]
[{"$f":"IF('Line 1 Source'!A107<>\"\",'Line 1 Source'!A107,\"\")","v":"2018"},"0640630",{"$f":"CONCATENATE(VLOOKUP(B107,'School List'!$B$3:$H$291,6,FALSE),H107)","v":"06300022"},{"$f":"CONCATENATE(VLOOKUP(B107,'School List'!$B$3:$D$291,3,FALSE),H107)","v":"Boone County - ZIONSVILLE COMMUNITY SCHOOL CORPORATION0022"},{"$f":"IF('Line 1 Source'!B107<>\"\",'Line 1 Source'!B107,\"\")","v":"06"},{"$f":"IF('Line 1 Source'!C107<>\"\",'Line 1 Source'!C107,\"\")","v":"4"},{"$f":"IF('Line 1 Source'!D107<>\"\",'Line 1 Source'!D107,\"\")","v":"0630"},{"$f":"IF('Line 1 Source'!E107<>\"\",'Line 1 Source'!E107,\"\")","v":"0022"},{"$f":"IF('Line 1 Source'!F107<>\"\",'Line 1 Source'!F107,\"\")","v":7822098}]
[{"$f":"IF('Line 1 Source'!A108<>\"\",'Line 1 Source'!A108,\"\")","v":"2018"},"0640630",{"$f":"CONCATENATE(VLOOKUP(B108,'School List'!$B$3:$H$291,6,FALSE),H108)","v":"06300061"},{"$f":"CONCATENATE(VLOOKUP(B108,'School List'!$B$3:$D$291,3,FALSE),H108)","v":"Boone County - ZIONSVILLE COMMUNITY SCHOOL CORPORATION0061"},{"$f":"IF('Line 1 Source'!B108<>\"\",'Line 1 Source'!B108,\"\")","v":"06"},{"$f":"IF('Line 1 Source'!C108<>\"\",'Line 1 Source'!C108,\"\")","v":"4"},{"$f":"IF('Line 1 Source'!D108<>\"\",'Line 1 Source'!D108,\"\")","v":"0630"},{"$f":"IF('Line 1 Source'!E108<>\"\",'Line 1 Source'!E108,\"\")","v":"0061"},{"$f":"IF('Line 1 Source'!F108<>\"\",'Line 1 Source'!F108,\"\")","v":5000}]
[{"$f":"IF('Line 1 Source'!A109<>\"\",'Line 1 Source'!A109,\"\")","v":"2018"},"0640630",{"$f":"CONCATENATE(VLOOKUP(B109,'School List'!$B$3:$H$291,6,FALSE),H109)","v":"06300101"},{"$f":"CONCATENATE(VLOOKUP(B109,'School List'!$B$3:$D$291,3,FALSE),H109)","v":"Boone County - ZIONSVILLE COMMUNITY SCHOOL CORPORATION0101"},{"$f":"IF('Line 1 Source'!B109<>\"\",'Line 1 Source'!B109,\"\")","v":"06"},{"$f":"IF('Line 1 Source'!C109<>\"\",'Line 1 Source'!C109,\"\")","v":"4"},{"$f":"IF('Line 1 Source'!D109<>\"\",'Line 1 Source'!D109,\"\")","v":"0630"},{"$f":"IF('Line 1 Source'!E109<>\"\",'Line 1 Source'!E109,\"\")","v":"0101"},{"$f":"IF('Line 1 Source'!F109<>\"\",'Line 1 Source'!F109,\"\")","v":47943908}]
[{"$f":"IF('Line 1 Source'!A110<>\"\",'Line 1 Source'!A110,\"\")","v":"2018"},"0640630",{"$f":"CONCATENATE(VLOOKUP(B110,'School List'!$B$3:$H$291,6,FALSE),H110)","v":"06300180"},{"$f":"CONCATENATE(VLOOKUP(B110,'School List'!$B$3:$D$291,3,FALSE),H110)","v":"Boone County - ZIONSVILLE COMMUNITY SCHOOL CORPORATION0180"},{"$f":"IF('Line 1 Source'!B110<>\"\",'Line 1 Source'!B110,\"\")","v":"06"},{"$f":"IF('Line 1 Source'!C110<>\"\",'Line 1 Source'!C110,\"\")","v":"4"},{"$f":"IF('Line 1 Source'!D110<>\"\",'Line 1 Source'!D110,\"\")","v":"0630"},{"$f":"IF('Line 1 Source'!E110<>\"\",'Line 1 Source'!E110,\"\")","v":"0180"},{"$f":"IF('Line 1 Source'!F110<>\"\",'Line 1 Source'!F110,\"\")","v":20905891}]
[{"$f":"IF('Line 1 Source'!A111<>\"\",'Line 1 Source'!A111,\"\")","v":"2018"},"0640630",{"$f":"CONCATENATE(VLOOKUP(B111,'School List'!$B$3:$H$291,6,FALSE),H111)","v":"06300186"},{"$f":"CONCATENATE(VLOOKUP(B111,'School List'!$B$3:$D$291,3,FALSE),H111)","v":"Boone County - ZIONSVILLE COMMUNITY SCHOOL CORPORATION0186"},{"$f":"IF('Line 1 Source'!B111<>\"\",'Line 1 Source'!B111,\"\")","v":"06"},{"$f":"IF('Line 1 Source'!C111<>\"\",'Line 1 Source'!C111,\"\")","v":"4"},{"$f":"IF('Line 1 Source'!D111<>\"\",'Line 1 Source'!D111,\"\")","v":"0630"},{"$f":"IF('Line 1 Source'!E111<>\"\",'Line 1 Source'!E111,\"\")","v":"0186"},{"$f":"IF('Line 1 Source'!F111<>\"\",'Line 1 Source'!F111,\"\")","v":656188}]
[{"$f":"IF('Line 1 Source'!A112<>\"\",'Line 1 Source'!A112,\"\")","v":"2018"},"0640630",{"$f":"CONCATENATE(VLOOKUP(B112,'School List'!$B$3:$H$291,6,FALSE),H112)","v":"06301214"},{"$f":"CONCATENATE(VLOOKUP(B112,'School List'!$B$3:$D$291,3,FALSE),H112)","v":"Boone County - ZIONSVILLE COMMUNITY SCHOOL CORPORATION1214"},{"$f":"IF('Line 1 Source'!B112<>\"\",'Line 1 Source'!B112,\"\")","v":"06"},{"$f":"IF('Line 1 Source'!C112<>\"\",'Line 1 Source'!C112,\"\")","v":"4"},{"$f":"IF('Line 1 Source'!D112<>\"\",'Line 1 Source'!D112,\"\")","v":"0630"},{"$f":"IF('Line 1 Source'!E112<>\"\",'Line 1 Source'!E112,\"\")","v":"1214"},{"$f":"IF('Line 1 Source'!F112<>\"\",'Line 1 Source'!F112,\"\")","v":4975925}]
[{"$f":"IF('Line 1 Source'!A113<>\"\",'Line 1 Source'!A113,\"\")","v":"2018"},"0640630",{"$f":"CONCATENATE(VLOOKUP(B113,'School List'!$B$3:$H$291,6,FALSE),H113)","v":"06306301"},{"$f":"CONCATENATE(VLOOKUP(B113,'School List'!$B$3:$D$291,3,FALSE),H113)","v":"Boone County - ZIONSVILLE COMMUNITY SCHOOL CORPORATION6301"},{"$f":"IF('Line 1 Source'!B113<>\"\",'Line 1 Source'!B113,\"\")","v":"06"},{"$f":"IF('Line 1 Source'!C113<>\"\",'Line 1 Source'!C113,\"\")","v":"4"},{"$f":"IF('Line 1 Source'!D113<>\"\",'Line 1 Source'!D113,\"\")","v":"0630"},{"$f":"IF('Line 1 Source'!E113<>\"\",'Line 1 Source'!E113,\"\")","v":"6301"},{"$f":"IF('Line 1 Source'!F113<>\"\",'Line 1 Source'!F113,\"\")","v":4882326}]
[{"$f":"IF('Line 1 Source'!A114<>\"\",'Line 1 Source'!A114,\"\")","v":"2018"},"0640630",{"$f":"CONCATENATE(VLOOKUP(B114,'School List'!$B$3:$H$291,6,FALSE),H114)","v":"06306302"},{"$f":"CONCATENATE(VLOOKUP(B114,'School List'!$B$3:$D$291,3,FALSE),H114)","v":"Boone County - ZIONSVILLE COMMUNITY SCHOOL CORPORATION6302"},{"$f":"IF('Line 1 Source'!B114<>\"\",'Line 1 Source'!B114,\"\")","v":"06"},{"$f":"IF('Line 1 Source'!C114<>\"\",'Line 1 Source'!C114,\"\")","v":"4"},{"$f":"IF('Line 1 Source'!D114<>\"\",'Line 1 Source'!D114,\"\")","v":"0630"},{"$f":"IF('Line 1 Source'!E114<>\"\",'Line 1 Source'!E114,\"\")","v":"6302"},{"$f":"IF('Line 1 Source'!F114<>\"\",'Line 1 Source'!F114,\"\")","v":244230}]
[{"$f":"IF('Line 1 Source'!A115<>\"\",'Line 1 Source'!A115,\"\")","v":"2018"},"0640665",{"$f":"CONCATENATE(VLOOKUP(B115,'School List'!$B$3:$H$291,6,FALSE),H115)","v":"06650061"},{"$f":"CONCATENATE(VLOOKUP(B115,'School List'!$B$3:$D$291,3,FALSE),H115)","v":"Boone County - LEBANON COMMUNITY SCHOOL CORPORATION0061"},{"$f":"IF('Line 1 Source'!B115<>\"\",'Line 1 Source'!B115,\"\")","v":"06"},{"$f":"IF('Line 1 Source'!C115<>\"\",'Line 1 Source'!C115,\"\")","v":"4"},{"$f":"IF('Line 1 Source'!D115<>\"\",'Line 1 Source'!D115,\"\")","v":"0665"},{"$f":"IF('Line 1 Source'!E115<>\"\",'Line 1 Source'!E115,\"\")","v":"0061"},{"$f":"IF('Line 1 Source'!F115<>\"\",'Line 1 Source'!F115,\"\")","v":1000000}]
[{"$f":"IF('Line 1 Source'!A116<>\"\",'Line 1 Source'!A116,\"\")","v":"2018"},"0640665",{"$f":"CONCATENATE(VLOOKUP(B116,'School List'!$B$3:$H$291,6,FALSE),H116)","v":"06650101"},{"$f":"CONCATENATE(VLOOKUP(B116,'School List'!$B$3:$D$291,3,FALSE),H116)","v":"Boone County - LEBANON COMMUNITY SCHOOL CORPORATION0101"},{"$f":"IF('Line 1 Source'!B116<>\"\",'Line 1 Source'!B116,\"\")","v":"06"},{"$f":"IF('Line 1 Source'!C116<>\"\",'Line 1 Source'!C116,\"\")","v":"4"},{"$f":"IF('Line 1 Source'!D116<>\"\",'Line 1 Source'!D116,\"\")","v":"0665"},{"$f":"IF('Line 1 Source'!E116<>\"\",'Line 1 Source'!E116,\"\")","v":"0101"},{"$f":"IF('Line 1 Source'!F116<>\"\",'Line 1 Source'!F116,\"\")","v":23960005}]
[{"$f":"IF('Line 1 Source'!A117<>\"\",'Line 1 Source'!A117,\"\")","v":"2018"},"0640665",{"$f":"CONCATENATE(VLOOKUP(B117,'School List'!$B$3:$H$291,6,FALSE),H117)","v":"06650180"},{"$f":"CONCATENATE(VLOOKUP(B117,'School List'!$B$3:$D$291,3,FALSE),H117)","v":"Boone County - LEBANON COMMUNITY SCHOOL CORPORATION0180"},{"$f":"IF('Line 1 Source'!B117<>\"\",'Line 1 Source'!B117,\"\")","v":"06"},{"$f":"IF('Line 1 Source'!C117<>\"\",'Line 1 Source'!C117,\"\")","v":"4"},{"$f":"IF('Line 1 Source'!D117<>\"\",'Line 1 Source'!D117,\"\")","v":"0665"},{"$f":"IF('Line 1 Source'!E117<>\"\",'Line 1 Source'!E117,\"\")","v":"0180"},{"$f":"IF('Line 1 Source'!F117<>\"\",'Line 1 Source'!F117,\"\")","v":3855087}]
[{"$f":"IF('Line 1 Source'!A118<>\"\",'Line 1 Source'!A118,\"\")","v":"2018"},"0640665",{"$f":"CONCATENATE(VLOOKUP(B118,'School List'!$B$3:$H$291,6,FALSE),H118)","v":"06650186"},{"$f":"CONCATENATE(VLOOKUP(B118,'School List'!$B$3:$D$291,3,FALSE),H118)","v":"Boone County - LEBANON COMMUNITY SCHOOL CORPORATION0186"},{"$f":"IF('Line 1 Source'!B118<>\"\",'Line 1 Source'!B118,\"\")","v":"06"},{"$f":"IF('Line 1 Source'!C118<>\"\",'Line 1 Source'!C118,\"\")","v":"4"},{"$f":"IF('Line 1 Source'!D118<>\"\",'Line 1 Source'!D118,\"\")","v":"0665"},{"$f":"IF('Line 1 Source'!E118<>\"\",'Line 1 Source'!E118,\"\")","v":"0186"},{"$f":"IF('Line 1 Source'!F118<>\"\",'Line 1 Source'!F118,\"\")","v":306615}]
[{"$f":"IF('Line 1 Source'!A119<>\"\",'Line 1 Source'!A119,\"\")","v":"2018"},"0640665",{"$f":"CONCATENATE(VLOOKUP(B119,'School List'!$B$3:$H$291,6,FALSE),H119)","v":"06650287"},{"$f":"CONCATENATE(VLOOKUP(B119,'School List'!$B$3:$D$291,3,FALSE),H119)","v":"Boone County - LEBANON COMMUNITY SCHOOL CORPORATION0287"},{"$f":"IF('Line 1 Source'!B119<>\"\",'Line 1 Source'!B119,\"\")","v":"06"},{"$f":"IF('Line 1 Source'!C119<>\"\",'Line 1 Source'!C119,\"\")","v":"4"},{"$f":"IF('Line 1 Source'!D119<>\"\",'Line 1 Source'!D119,\"\")","v":"0665"},{"$f":"IF('Line 1 Source'!E119<>\"\",'Line 1 Source'!E119,\"\")","v":"0287"},{"$f":"IF('Line 1 Source'!F119<>\"\",'Line 1 Source'!F119,\"\")","v":5363000}]
[{"$f":"IF('Line 1 Source'!A120<>\"\",'Line 1 Source'!A120,\"\")","v":"2018"},"0640665",{"$f":"CONCATENATE(VLOOKUP(B120,'School List'!$B$3:$H$291,6,FALSE),H120)","v":"06651214"},{"$f":"CONCATENATE(VLOOKUP(B120,'School List'!$B$3:$D$291,3,FALSE),H120)","v":"Boone County - LEBANON COMMUNITY SCHOOL CORPORATION1214"},{"$f":"IF('Line 1 Source'!B120<>\"\",'Line 1 Source'!B120,\"\")","v":"06"},{"$f":"IF('Line 1 Source'!C120<>\"\",'Line 1 Source'!C120,\"\")","v":"4"},{"$f":"IF('Line 1 Source'!D120<>\"\",'Line 1 Source'!D120,\"\")","v":"0665"},{"$f":"IF('Line 1 Source'!E120<>\"\",'Line 1 Source'!E120,\"\")","v":"1214"},{"$f":"IF('Line 1 Source'!F120<>\"\",'Line 1 Source'!F120,\"\")","v":3250934}]
[{"$f":"IF('Line 1 Source'!A121<>\"\",'Line 1 Source'!A121,\"\")","v":"2018"},"0640665",{"$f":"CONCATENATE(VLOOKUP(B121,'School List'!$B$3:$H$291,6,FALSE),H121)","v":"06656301"},{"$f":"CONCATENATE(VLOOKUP(B121,'School List'!$B$3:$D$291,3,FALSE),H121)","v":"Boone County - LEBANON COMMUNITY SCHOOL CORPORATION6301"},{"$f":"IF('Line 1 Source'!B121<>\"\",'Line 1 Source'!B121,\"\")","v":"06"},{"$f":"IF('Line 1 Source'!C121<>\"\",'Line 1 Source'!C121,\"\")","v":"4"},{"$f":"IF('Line 1 Source'!D121<>\"\",'Line 1 Source'!D121,\"\")","v":"0665"},{"$f":"IF('Line 1 Source'!E121<>\"\",'Line 1 Source'!E121,\"\")","v":"6301"},{"$f":"IF('Line 1 Source'!F121<>\"\",'Line 1 Source'!F121,\"\")","v":2098850}]
[{"$f":"IF('Line 1 Source'!A122<>\"\",'Line 1 Source'!A122,\"\")","v":"2018"},"0640665",{"$f":"CONCATENATE(VLOOKUP(B122,'School List'!$B$3:$H$291,6,FALSE),H122)","v":"06656302"},{"$f":"CONCATENATE(VLOOKUP(B122,'School List'!$B$3:$D$291,3,FALSE),H122)","v":"Boone County - LEBANON COMMUNITY SCHOOL CORPORATION6302"},{"$f":"IF('Line 1 Source'!B122<>\"\",'Line 1 Source'!B122,\"\")","v":"06"},{"$f":"IF('Line 1 Source'!C122<>\"\",'Line 1 Source'!C122,\"\")","v":"4"},{"$f":"IF('Line 1 Source'!D122<>\"\",'Line 1 Source'!D122,\"\")","v":"0665"},{"$f":"IF('Line 1 Source'!E122<>\"\",'Line 1 Source'!E122,\"\")","v":"6302"},{"$f":"IF('Line 1 Source'!F122<>\"\",'Line 1 Source'!F122,\"\")","v":444000}]
[{"$f":"IF('Line 1 Source'!A123<>\"\",'Line 1 Source'!A123,\"\")","v":"2018"},"0643055",{"$f":"CONCATENATE(VLOOKUP(B123,'School List'!$B$3:$H$291,6,FALSE),H123)","v":{"$error":"#N/A"}},{"$f":"CONCATENATE(VLOOKUP(B123,'School List'!$B$3:$D$291,3,FALSE),H123)","v":{"$error":"#N/A"}},{"$f":"IF('Line 1 Source'!B123<>\"\",'Line 1 Source'!B123,\"\")","v":"06"},{"$f":"IF('Line 1 Source'!C123<>\"\",'Line 1 Source'!C123,\"\")","v":"4"},{"$f":"IF('Line 1 Source'!D123<>\"\",'Line 1 Source'!D123,\"\")","v":"3055"},{"$f":"IF('Line 1 Source'!E123<>\"\",'Line 1 Source'!E123,\"\")","v":"0022"},{"$f":"IF('Line 1 Source'!F123<>\"\",'Line 1 Source'!F123,\"\")","v":0}]
[{"$f":"IF('Line 1 Source'!A124<>\"\",'Line 1 Source'!A124,\"\")","v":"2018"},"0643055",{"$f":"CONCATENATE(VLOOKUP(B124,'School List'!$B$3:$H$291,6,FALSE),H124)","v":{"$error":"#N/A"}},{"$f":"CONCATENATE(VLOOKUP(B124,'School List'!$B$3:$D$291,3,FALSE),H124)","v":{"$error":"#N/A"}},{"$f":"IF('Line 1 Source'!B124<>\"\",'Line 1 Source'!B124,\"\")","v":"06"},{"$f":"IF('Line 1 Source'!C124<>\"\",'Line 1 Source'!C124,\"\")","v":"4"},{"$f":"IF('Line 1 Source'!D124<>\"\",'Line 1 Source'!D124,\"\")","v":"3055"},{"$f":"IF('Line 1 Source'!E124<>\"\",'Line 1 Source'!E124,\"\")","v":"0061"},{"$f":"IF('Line 1 Source'!F124<>\"\",'Line 1 Source'!F124,\"\")","v":0}]
[{"$f":"IF('Line 1 Source'!A125<>\"\",'Line 1 Source'!A125,\"\")","v":"2018"},"0643055",{"$f":"CONCATENATE(VLOOKUP(B125,'School List'!$B$3:$H$291,6,FALSE),H125)","v":{"$error":"#N/A"}},{"$f":"CONCATENATE(VLOOKUP(B125,'School List'!$B$3:$D$291,3,FALSE),H125)","v":{"$error":"#N/A"}},{"$f":"IF('Line 1 Source'!B125<>\"\",'Line 1 Source'!B125,\"\")","v":"06"},{"$f":"IF('Line 1 Source'!C125<>\"\",'Line 1 Source'!C125,\"\")","v":"4"},{"$f":"IF('Line 1 Source'!D125<>\"\",'Line 1 Source'!D125,\"\")","v":"3055"},{"$f":"IF('Line 1 Source'!E125<>\"\",'Line 1 Source'!E125,\"\")","v":"0101"},{"$f":"IF('Line 1 Source'!F125<>\"\",'Line 1 Source'!F125,\"\")","v":0}]
[{"$f":"IF('Line 1 Source'!A126<>\"\",'Line 1 Source'!A126,\"\")","v":"2018"},"0643055",{"$f":"CONCATENATE(VLOOKUP(B126,'School List'!$B$3:$H$291,6,FALSE),H126)","v":{"$error":"#N/A"}},{"$f":"CONCATENATE(VLOOKUP(B126,'School List'!$B$3:$D$291,3,FALSE),H126)","v":{"$error":"#N/A"}},{"$f":"IF('Line 1 Source'!B126<>\"\",'Line 1 Source'!B126,\"\")","v":"06"},{"$f":"IF('Line 1 Source'!C126<>\"\",'Line 1 Source'!C126,\"\")","v":"4"},{"$f":"IF('Line 1 Source'!D126<>\"\",'Line 1 Source'!D126,\"\")","v":"3055"},{"$f":"IF('Line 1 Source'!E126<>\"\",'Line 1 Source'!E126,\"\")","v":"0180"},{"$f":"IF('Line 1 Source'!F126<>\"\",'Line 1 Source'!F126,\"\")","v":0}]
[{"$f":"IF('Line 1 Source'!A127<>\"\",'Line 1 Source'!A127,\"\")","v":"2018"},"0643055",{"$f":"CONCATENATE(VLOOKUP(B127,'School List'!$B$3:$H$291,6,FALSE),H127)","v":{"$error":"#N/A"}},{"$f":"CONCATENATE(VLOOKUP(B127,'School List'!$B$3:$D$291,3,FALSE),H127)","v":{"$error":"#N/A"}},{"$f":"IF('Line 1 Source'!B127<>\"\",'Line 1 Source'!B127,\"\")","v":"06"},{"$f":"IF('Line 1 Source'!C127<>\"\",'Line 1 Source'!C127,\"\")","v":"4"},{"$f":"IF('Line 1 Source'!D127<>\"\",'Line 1 Source'!D127,\"\")","v":"3055"},{"$f":"IF('Line 1 Source'!E127<>\"\",'Line 1 Source'!E127,\"\")","v":"0186"},{"$f":"IF('Line 1 Source'!F127<>\"\",'Line 1 Source'!F127,\"\")","v":0}]
[{"$f":"IF('Line 1 Source'!A128<>\"\",'Line 1 Source'!A128,\"\")","v":"2018"},"0643055",{"$f":"CONCATENATE(VLOOKUP(B128,'School List'!$B$3:$H$291,6,FALSE),H128)","v":{"$error":"#N/A"}},{"$f":"CONCATENATE(VLOOKUP(B128,'School List'!$B$3:$D$291,3,FALSE),H128)","v":{"$error":"#N/A"}},{"$f":"IF('Line 1 Source'!B128<>\"\",'Line 1 Source'!B128,\"\")","v":"06"},{"$f":"IF('Line 1 Source'!C128<>\"\",'Line 1 Source'!C128,\"\")","v":"4"},{"$f":"IF('Line 1 Source'!D128<>\"\",'Line 1 Source'!D128,\"\")","v":"3055"},{"$f":"IF('Line 1 Source'!E128<>\"\",'Line 1 Source'!E128,\"\")","v":"1214"},{"$f":"IF('Line 1 Source'!F128<>\"\",'Line 1 Source'!F128,\"\")","v":0}]
[{"$f":"IF('Line 1 Source'!A129<>\"\",'Line 1 Source'!A129,\"\")","v":"2018"},"0643055",{"$f":"CONCATENATE(VLOOKUP(B129,'School List'!$B$3:$H$291,6,FALSE),H129)","v":{"$error":"#N/A"}},{"$f":"CONCATENATE(VLOOKUP(B129,'School List'!$B$3:$D$291,3,FALSE),H129)","v":{"$error":"#N/A"}},{"$f":"IF('Line 1 Source'!B129<>\"\",'Line 1 Source'!B129,\"\")","v":"06"},{"$f":"IF('Line 1 Source'!C129<>\"\",'Line 1 Source'!C129,\"\")","v":"4"},{"$f":"IF('Line 1 Source'!D129<>\"\",'Line 1 Source'!D129,\"\")","v":"3055"},{"$f":"IF('Line 1 Source'!E129<>\"\",'Line 1 Source'!E129,\"\")","v":"6301"},{"$f":"IF('Line 1 Source'!F129<>\"\",'Line 1 Source'!F129,\"\")","v":0}]
[{"$f":"IF('Line 1 Source'!A130<>\"\",'Line 1 Source'!A130,\"\")","v":"2018"},"0643055",{"$f":"CONCATENATE(VLOOKUP(B130,'School List'!$B$3:$H$291,6,FALSE),H130)","v":{"$error":"#N/A"}},{"$f":"CONCATENATE(VLOOKUP(B130,'School List'!$B$3:$D$291,3,FALSE),H130)","v":{"$error":"#N/A"}},{"$f":"IF('Line 1 Source'!B130<>\"\",'Line 1 Source'!B130,\"\")","v":"06"},{"$f":"IF('Line 1 Source'!C130<>\"\",'Line 1 Source'!C130,\"\")","v":"4"},{"$f":"IF('Line 1 Source'!D130<>\"\",'Line 1 Source'!D130,\"\")","v":"3055"},{"$f":"IF('Line 1 Source'!E130<>\"\",'Line 1 Source'!E130,\"\")","v":"6302"},{"$f":"IF('Line 1 Source'!F130<>\"\",'Line 1 Source'!F130,\"\")","v":0}]
[{"$f":"IF('Line 1 Source'!A131<>\"\",'Line 1 Source'!A131,\"\")","v":"2018"},{"$f":"CONCATENATE(E131,F131,G131)","v":"0740670"},{"$f":"CONCATENATE(VLOOKUP(B131,'School List'!$B$3:$H$291,6,FALSE),H131)","v":"06700021"},{"$f":"CONCATENATE(VLOOKUP(B131,'School List'!$B$3:$D$291,3,FALSE),H131)","v":"Brown County - BROWN COUNTY SCHOOL CORPORATION0021"},{"$f":"IF('Line 1 Source'!B131<>\"\",'Line 1 Source'!B131,\"\")","v":"07"},{"$f":"IF('Line 1 Source'!C131<>\"\",'Line 1 Source'!C131,\"\")","v":"4"},{"$f":"IF('Line 1 Source'!D131<>\"\",'Line 1 Source'!D131,\"\")","v":"0670"},{"$f":"IF('Line 1 Source'!E131<>\"\",'Line 1 Source'!E131,\"\")","v":"0021"},{"$f":"IF('Line 1 Source'!F131<>\"\",'Line 1 Source'!F131,\"\")","v":0}]
[{"$f":"IF('Line 1 Source'!A132<>\"\",'Line 1 Source'!A132,\"\")","v":"2018"},"0740670",{"$f":"CONCATENATE(VLOOKUP(B132,'School List'!$B$3:$H$291,6,FALSE),H132)","v":"06700022"},{"$f":"CONCATENATE(VLOOKUP(B132,'School List'!$B$3:$D$291,3,FALSE),H132)","v":"Brown County - BROWN COUNTY SCHOOL CORPORATION0022"},{"$f":"IF('Line 1 Source'!B132<>\"\",'Line 1 Source'!B132,\"\")","v":"07"},{"$f":"IF('Line 1 Source'!C132<>\"\",'Line 1 Source'!C132,\"\")","v":"4"},{"$f":"IF('Line 1 Source'!D132<>\"\",'Line 1 Source'!D132,\"\")","v":"0670"},{"$f":"IF('Line 1 Source'!E132<>\"\",'Line 1 Source'!E132,\"\")","v":"0022"},{"$f":"IF('Line 1 Source'!F132<>\"\",'Line 1 Source'!F132,\"\")","v":1011164}]
[{"$f":"IF('Line 1 Source'!A133<>\"\",'Line 1 Source'!A133,\"\")","v":"2018"},"0740670",{"$f":"CONCATENATE(VLOOKUP(B133,'School List'!$B$3:$H$291,6,FALSE),H133)","v":"06700061"},{"$f":"CONCATENATE(VLOOKUP(B133,'School List'!$B$3:$D$291,3,FALSE),H133)","v":"Brown County - BROWN COUNTY SCHOOL CORPORATION0061"},{"$f":"IF('Line 1 Source'!B133<>\"\",'Line 1 Source'!B133,\"\")","v":"07"},{"$f":"IF('Line 1 Source'!C133<>\"\",'Line 1 Source'!C133,\"\")","v":"4"},{"$f":"IF('Line 1 Source'!D133<>\"\",'Line 1 Source'!D133,\"\")","v":"0670"},{"$f":"IF('Line 1 Source'!E133<>\"\",'Line 1 Source'!E133,\"\")","v":"0061"},{"$f":"IF('Line 1 Source'!F133<>\"\",'Line 1 Source'!F133,\"\")","v":0}]
[{"$f":"IF('Line 1 Source'!A134<>\"\",'Line 1 Source'!A134,\"\")","v":"2018"},"0740670",{"$f":"CONCATENATE(VLOOKUP(B134,'School List'!$B$3:$H$291,6,FALSE),H134)","v":"06700101"},{"$f":"CONCATENATE(VLOOKUP(B134,'School List'!$B$3:$D$291,3,FALSE),H134)","v":"Brown County - BROWN COUNTY SCHOOL CORPORATION0101"},{"$f":"IF('Line 1 Source'!B134<>\"\",'Line 1 Source'!B134,\"\")","v":"07"},{"$f":"IF('Line 1 Source'!C134<>\"\",'Line 1 Source'!C134,\"\")","v":"4"},{"$f":"IF('Line 1 Source'!D134<>\"\",'Line 1 Source'!D134,\"\")","v":"0670"},{"$f":"IF('Line 1 Source'!E134<>\"\",'Line 1 Source'!E134,\"\")","v":"0101"},{"$f":"IF('Line 1 Source'!F134<>\"\",'Line 1 Source'!F134,\"\")","v":14928751}]
[{"$f":"IF('Line 1 Source'!A135<>\"\",'Line 1 Source'!A135,\"\")","v":"2018"},"0740670",{"$f":"CONCATENATE(VLOOKUP(B135,'School List'!$B$3:$H$291,6,FALSE),H135)","v":"06700180"},{"$f":"CONCATENATE(VLOOKUP(B135,'School List'!$B$3:$D$291,3,FALSE),H135)","v":"Brown County - BROWN COUNTY SCHOOL CORPORATION0180"},{"$f":"IF('Line 1 Source'!B135<>\"\",'Line 1 Source'!B135,\"\")","v":"07"},{"$f":"IF('Line 1 Source'!C135<>\"\",'Line 1 Source'!C135,\"\")","v":"4"},{"$f":"IF('Line 1 Source'!D135<>\"\",'Line 1 Source'!D135,\"\")","v":"0670"},{"$f":"IF('Line 1 Source'!E135<>\"\",'Line 1 Source'!E135,\"\")","v":"0180"},{"$f":"IF('Line 1 Source'!F135<>\"\",'Line 1 Source'!F135,\"\")","v":4180526}]
[{"$f":"IF('Line 1 Source'!A136<>\"\",'Line 1 Source'!A136,\"\")","v":"2018"},"0740670",{"$f":"CONCATENATE(VLOOKUP(B136,'School List'!$B$3:$H$291,6,FALSE),H136)","v":"06701214"},{"$f":"CONCATENATE(VLOOKUP(B136,'School List'!$B$3:$D$291,3,FALSE),H136)","v":"Brown County - BROWN COUNTY SCHOOL CORPORATION1214"},{"$f":"IF('Line 1 Source'!B136<>\"\",'Line 1 Source'!B136,\"\")","v":"07"},{"$f":"IF('Line 1 Source'!C136<>\"\",'Line 1 Source'!C136,\"\")","v":"4"},{"$f":"IF('Line 1 Source'!D136<>\"\",'Line 1 Source'!D136,\"\")","v":"0670"},{"$f":"IF('Line 1 Source'!E136<>\"\",'Line 1 Source'!E136,\"\")","v":"1214"},{"$f":"IF('Line 1 Source'!F136<>\"\",'Line 1 Source'!F136,\"\")","v":2048714}]
[{"$f":"IF('Line 1 Source'!A137<>\"\",'Line 1 Source'!A137,\"\")","v":"2018"},"0740670",{"$f":"CONCATENATE(VLOOKUP(B137,'School List'!$B$3:$H$291,6,FALSE),H137)","v":"06706301"},{"$f":"CONCATENATE(VLOOKUP(B137,'School List'!$B$3:$D$291,3,FALSE),H137)","v":"Brown County - BROWN COUNTY SCHOOL CORPORATION6301"},{"$f":"IF('Line 1 Source'!B137<>\"\",'Line 1 Source'!B137,\"\")","v":"07"},{"$f":"IF('Line 1 Source'!C137<>\"\",'Line 1 Source'!C137,\"\")","v":"4"},{"$f":"IF('Line 1 Source'!D137<>\"\",'Line 1 Source'!D137,\"\")","v":"0670"},{"$f":"IF('Line 1 Source'!E137<>\"\",'Line 1 Source'!E137,\"\")","v":"6301"},{"$f":"IF('Line 1 Source'!F137<>\"\",'Line 1 Source'!F137,\"\")","v":3445000}]
[{"$f":"IF('Line 1 Source'!A138<>\"\",'Line 1 Source'!A138,\"\")","v":"2018"},"0740670",{"$f":"CONCATENATE(VLOOKUP(B138,'School List'!$B$3:$H$291,6,FALSE),H138)","v":"06706302"},{"$f":"CONCATENATE(VLOOKUP(B138,'School List'!$B$3:$D$291,3,FALSE),H138)","v":"Brown County - BROWN COUNTY SCHOOL CORPORATION6302"},{"$f":"IF('Line 1 Source'!B138<>\"\",'Line 1 Source'!B138,\"\")","v":"07"},{"$f":"IF('Line 1 Source'!C138<>\"\",'Line 1 Source'!C138,\"\")","v":"4"},{"$f":"IF('Line 1 Source'!D138<>\"\",'Line 1 Source'!D138,\"\")","v":"0670"},{"$f":"IF('Line 1 Source'!E138<>\"\",'Line 1 Source'!E138,\"\")","v":"6302"},{"$f":"IF('Line 1 Source'!F138<>\"\",'Line 1 Source'!F138,\"\")","v":270000}]
[{"$f":"IF('Line 1 Source'!A139<>\"\",'Line 1 Source'!A139,\"\")","v":"2018"},"0840750",{"$f":"CONCATENATE(VLOOKUP(B139,'School List'!$B$3:$H$291,6,FALSE),H139)","v":"07500061"},{"$f":"CONCATENATE(VLOOKUP(B139,'School List'!$B$3:$D$291,3,FALSE),H139)","v":"Carroll County - CARROLL CONSOLIDATED SCHOOL CORPORATION0061"},{"$f":"IF('Line 1 Source'!B139<>\"\",'Line 1 Source'!B139,\"\")","v":"08"},{"$f":"IF('Line 1 Source'!C139<>\"\",'Line 1 Source'!C139,\"\")","v":"4"},{"$f":"IF('Line 1 Source'!D139<>\"\",'Line 1 Source'!D139,\"\")","v":"0750"},{"$f":"IF('Line 1 Source'!E139<>\"\",'Line 1 Source'!E139,\"\")","v":"0061"},{"$f":"IF('Line 1 Source'!F139<>\"\",'Line 1 Source'!F139,\"\")","v":100000}]
[{"$f":"IF('Line 1 Source'!A140<>\"\",'Line 1 Source'!A140,\"\")","v":"2018"},"0840750",{"$f":"CONCATENATE(VLOOKUP(B140,'School List'!$B$3:$H$291,6,FALSE),H140)","v":"07500101"},{"$f":"CONCATENATE(VLOOKUP(B140,'School List'!$B$3:$D$291,3,FALSE),H140)","v":"Carroll County - CARROLL CONSOLIDATED SCHOOL CORPORATION0101"},{"$f":"IF('Line 1 Source'!B140<>\"\",'Line 1 Source'!B140,\"\")","v":"08"},{"$f":"IF('Line 1 Source'!C140<>\"\",'Line 1 Source'!C140,\"\")","v":"4"},{"$f":"IF('Line 1 Source'!D140<>\"\",'Line 1 Source'!D140,\"\")","v":"0750"},{"$f":"IF('Line 1 Source'!E140<>\"\",'Line 1 Source'!E140,\"\")","v":"0101"},{"$f":"IF('Line 1 Source'!F140<>\"\",'Line 1 Source'!F140,\"\")","v":7655850}]
[{"$f":"IF('Line 1 Source'!A141<>\"\",'Line 1 Source'!A141,\"\")","v":"2018"},"0840750",{"$f":"CONCATENATE(VLOOKUP(B141,'School List'!$B$3:$H$291,6,FALSE),H141)","v":"07500180"},{"$f":"CONCATENATE(VLOOKUP(B141,'School List'!$B$3:$D$291,3,FALSE),H141)","v":"Carroll County - CARROLL CONSOLIDATED SCHOOL CORPORATION0180"},{"$f":"IF('Line 1 Source'!B141<>\"\",'Line 1 Source'!B141,\"\")","v":"08"},{"$f":"IF('Line 1 Source'!C141<>\"\",'Line 1 Source'!C141,\"\")","v":"4"},{"$f":"IF('Line 1 Source'!D141<>\"\",'Line 1 Source'!D141,\"\")","v":"0750"},{"$f":"IF('Line 1 Source'!E141<>\"\",'Line 1 Source'!E141,\"\")","v":"0180"},{"$f":"IF('Line 1 Source'!F141<>\"\",'Line 1 Source'!F141,\"\")","v":1055380}]
[{"$f":"IF('Line 1 Source'!A142<>\"\",'Line 1 Source'!A142,\"\")","v":"2018"},"0840750",{"$f":"CONCATENATE(VLOOKUP(B142,'School List'!$B$3:$H$291,6,FALSE),H142)","v":"07501214"},{"$f":"CONCATENATE(VLOOKUP(B142,'School List'!$B$3:$D$291,3,FALSE),H142)","v":"Carroll County - CARROLL CONSOLIDATED SCHOOL CORPORATION1214"},{"$f":"IF('Line 1 Source'!B142<>\"\",'Line 1 Source'!B142,\"\")","v":"08"},{"$f":"IF('Line 1 Source'!C142<>\"\",'Line 1 Source'!C142,\"\")","v":"4"},{"$f":"IF('Line 1 Source'!D142<>\"\",'Line 1 Source'!D142,\"\")","v":"0750"},{"$f":"IF('Line 1 Source'!E142<>\"\",'Line 1 Source'!E142,\"\")","v":"1214"},{"$f":"IF('Line 1 Source'!F142<>\"\",'Line 1 Source'!F142,\"\")","v":1438588}]
[{"$f":"IF('Line 1 Source'!A143<>\"\",'Line 1 Source'!A143,\"\")","v":"2018"},"0840750",{"$f":"CONCATENATE(VLOOKUP(B143,'School List'!$B$3:$H$291,6,FALSE),H143)","v":"07506301"},{"$f":"CONCATENATE(VLOOKUP(B143,'School List'!$B$3:$D$291,3,FALSE),H143)","v":"Carroll County - CARROLL CONSOLIDATED SCHOOL CORPORATION6301"},{"$f":"IF('Line 1 Source'!B143<>\"\",'Line 1 Source'!B143,\"\")","v":"08"},{"$f":"IF('Line 1 Source'!C143<>\"\",'Line 1 Source'!C143,\"\")","v":"4"},{"$f":"IF('Line 1 Source'!D143<>\"\",'Line 1 Source'!D143,\"\")","v":"0750"},{"$f":"IF('Line 1 Source'!E143<>\"\",'Line 1 Source'!E143,\"\")","v":"6301"},{"$f":"IF('Line 1 Source'!F143<>\"\",'Line 1 Source'!F143,\"\")","v":582941}]
[{"$f":"IF('Line 1 Source'!A144<>\"\",'Line 1 Source'!A144,\"\")","v":"2018"},"0840750",{"$f":"CONCATENATE(VLOOKUP(B144,'School List'!$B$3:$H$291,6,FALSE),H144)","v":"07506302"},{"$f":"CONCATENATE(VLOOKUP(B144,'School List'!$B$3:$D$291,3,FALSE),H144)","v":"Carroll County - CARROLL CONSOLIDATED SCHOOL CORPORATION6302"},{"$f":"IF('Line 1 Source'!B144<>\"\",'Line 1 Source'!B144,\"\")","v":"08"},{"$f":"IF('Line 1 Source'!C144<>\"\",'Line 1 Source'!C144,\"\")","v":"4"},{"$f":"IF('Line 1 Source'!D144<>\"\",'Line 1 Source'!D144,\"\")","v":"0750"},{"$f":"IF('Line 1 Source'!E144<>\"\",'Line 1 Source'!E144,\"\")","v":"6302"},{"$f":"IF('Line 1 Source'!F144<>\"\",'Line 1 Source'!F144,\"\")","v":222981}]
[{"$f":"IF('Line 1 Source'!A145<>\"\",'Line 1 Source'!A145,\"\")","v":"2018"},"0840755",{"$f":"CONCATENATE(VLOOKUP(B145,'School List'!$B$3:$H$291,6,FALSE),H145)","v":"07550061"},{"$f":"CONCATENATE(VLOOKUP(B145,'School List'!$B$3:$D$291,3,FALSE),H145)","v":"Carroll County - DELPHI COMMUNITY SCHOOL CORPORATION0061"},{"$f":"IF('Line 1 Source'!B145<>\"\",'Line 1 Source'!B145,\"\")","v":"08"},{"$f":"IF('Line 1 Source'!C145<>\"\",'Line 1 Source'!C145,\"\")","v":"4"},{"$f":"IF('Line 1 Source'!D145<>\"\",'Line 1 Source'!D145,\"\")","v":"0755"},{"$f":"IF('Line 1 Source'!E145<>\"\",'Line 1 Source'!E145,\"\")","v":"0061"},{"$f":"IF('Line 1 Source'!F145<>\"\",'Line 1 Source'!F145,\"\")","v":410000}]
[{"$f":"IF('Line 1 Source'!A146<>\"\",'Line 1 Source'!A146,\"\")","v":"2018"},"0840755",{"$f":"CONCATENATE(VLOOKUP(B146,'School List'!$B$3:$H$291,6,FALSE),H146)","v":"07550101"},{"$f":"CONCATENATE(VLOOKUP(B146,'School List'!$B$3:$D$291,3,FALSE),H146)","v":"Carroll County - DELPHI COMMUNITY SCHOOL CORPORATION0101"},{"$f":"IF('Line 1 Source'!B146<>\"\",'Line 1 Source'!B146,\"\")","v":"08"},{"$f":"IF('Line 1 Source'!C146<>\"\",'Line 1 Source'!C146,\"\")","v":"4"},{"$f":"IF('Line 1 Source'!D146<>\"\",'Line 1 Source'!D146,\"\")","v":"0755"},{"$f":"IF('Line 1 Source'!E146<>\"\",'Line 1 Source'!E146,\"\")","v":"0101"},{"$f":"IF('Line 1 Source'!F146<>\"\",'Line 1 Source'!F146,\"\")","v":9082829}]
[{"$f":"IF('Line 1 Source'!A147<>\"\",'Line 1 Source'!A147,\"\")","v":"2018"},"0840755",{"$f":"CONCATENATE(VLOOKUP(B147,'School List'!$B$3:$H$291,6,FALSE),H147)","v":"07550180"},{"$f":"CONCATENATE(VLOOKUP(B147,'School List'!$B$3:$D$291,3,FALSE),H147)","v":"Carroll County - DELPHI COMMUNITY SCHOOL CORPORATION0180"},{"$f":"IF('Line 1 Source'!B147<>\"\",'Line 1 Source'!B147,\"\")","v":"08"},{"$f":"IF('Line 1 Source'!C147<>\"\",'Line 1 Source'!C147,\"\")","v":"4"},{"$f":"IF('Line 1 Source'!D147<>\"\",'Line 1 Source'!D147,\"\")","v":"0755"},{"$f":"IF('Line 1 Source'!E147<>\"\",'Line 1 Source'!E147,\"\")","v":"0180"},{"$f":"IF('Line 1 Source'!F147<>\"\",'Line 1 Source'!F147,\"\")","v":1772942}]
[{"$f":"IF('Line 1 Source'!A148<>\"\",'Line 1 Source'!A148,\"\")","v":"2018"},"0840755",{"$f":"CONCATENATE(VLOOKUP(B148,'School List'!$B$3:$H$291,6,FALSE),H148)","v":"07550186"},{"$f":"CONCATENATE(VLOOKUP(B148,'School List'!$B$3:$D$291,3,FALSE),H148)","v":"Carroll County - DELPHI COMMUNITY SCHOOL CORPORATION0186"},{"$f":"IF('Line 1 Source'!B148<>\"\",'Line 1 Source'!B148,\"\")","v":"08"},{"$f":"IF('Line 1 Source'!C148<>\"\",'Line 1 Source'!C148,\"\")","v":"4"},{"$f":"IF('Line 1 Source'!D148<>\"\",'Line 1 Source'!D148,\"\")","v":"0755"},{"$f":"IF('Line 1 Source'!E148<>\"\",'Line 1 Source'!E148,\"\")","v":"0186"},{"$f":"IF('Line 1 Source'!F148<>\"\",'Line 1 Source'!F148,\"\")","v":185842}]
[{"$f":"IF('Line 1 Source'!A149<>\"\",'Line 1 Source'!A149,\"\")","v":"2018"},"0840755",{"$f":"CONCATENATE(VLOOKUP(B149,'School List'!$B$3:$H$291,6,FALSE),H149)","v":"07551214"},{"$f":"CONCATENATE(VLOOKUP(B149,'School List'!$B$3:$D$291,3,FALSE),H149)","v":"Carroll County - DELPHI COMMUNITY SCHOOL CORPORATION1214"},{"$f":"IF('Line 1 Source'!B149<>\"\",'Line 1 Source'!B149,\"\")","v":"08"},{"$f":"IF('Line 1 Source'!C149<>\"\",'Line 1 Source'!C149,\"\")","v":"4"},{"$f":"IF('Line 1 Source'!D149<>\"\",'Line 1 Source'!D149,\"\")","v":"0755"},{"$f":"IF('Line 1 Source'!E149<>\"\",'Line 1 Source'!E149,\"\")","v":"1214"},{"$f":"IF('Line 1 Source'!F149<>\"\",'Line 1 Source'!F149,\"\")","v":1248311}]
[{"$f":"IF('Line 1 Source'!A150<>\"\",'Line 1 Source'!A150,\"\")","v":"2018"},"0840755",{"$f":"CONCATENATE(VLOOKUP(B150,'School List'!$B$3:$H$291,6,FALSE),H150)","v":"07556301"},{"$f":"CONCATENATE(VLOOKUP(B150,'School List'!$B$3:$D$291,3,FALSE),H150)","v":"Carroll County - DELPHI COMMUNITY SCHOOL CORPORATION6301"},{"$f":"IF('Line 1 Source'!B150<>\"\",'Line 1 Source'!B150,\"\")","v":"08"},{"$f":"IF('Line 1 Source'!C150<>\"\",'Line 1 Source'!C150,\"\")","v":"4"},{"$f":"IF('Line 1 Source'!D150<>\"\",'Line 1 Source'!D150,\"\")","v":"0755"},{"$f":"IF('Line 1 Source'!E150<>\"\",'Line 1 Source'!E150,\"\")","v":"6301"},{"$f":"IF('Line 1 Source'!F150<>\"\",'Line 1 Source'!F150,\"\")","v":1814805}]
[{"$f":"IF('Line 1 Source'!A151<>\"\",'Line 1 Source'!A151,\"\")","v":"2018"},"0840755",{"$f":"CONCATENATE(VLOOKUP(B151,'School List'!$B$3:$H$291,6,FALSE),H151)","v":"07556302"},{"$f":"CONCATENATE(VLOOKUP(B151,'School List'!$B$3:$D$291,3,FALSE),H151)","v":"Carroll County - DELPHI COMMUNITY SCHOOL CORPORATION6302"},{"$f":"IF('Line 1 Source'!B151<>\"\",'Line 1 Source'!B151,\"\")","v":"08"},{"$f":"IF('Line 1 Source'!C151<>\"\",'Line 1 Source'!C151,\"\")","v":"4"},{"$f":"IF('Line 1 Source'!D151<>\"\",'Line 1 Source'!D151,\"\")","v":"0755"},{"$f":"IF('Line 1 Source'!E151<>\"\",'Line 1 Source'!E151,\"\")","v":"6302"},{"$f":"IF('Line 1 Source'!F151<>\"\",'Line 1 Source'!F151,\"\")","v":247055}]
[{"$f":"IF('Line 1 Source'!A152<>\"\",'Line 1 Source'!A152,\"\")","v":"2018"},"0841180",{"$f":"CONCATENATE(VLOOKUP(B152,'School List'!$B$3:$H$291,6,FALSE),H152)","v":{"$error":"#N/A"}},{"$f":"CONCATENATE(VLOOKUP(B152,'School List'!$B$3:$D$291,3,FALSE),H152)","v":{"$error":"#N/A"}},{"$f":"IF('Line 1 Source'!B152<>\"\",'Line 1 Source'!B152,\"\")","v":"08"},{"$f":"IF('Line 1 Source'!C152<>\"\",'Line 1 Source'!C152,\"\")","v":"4"},{"$f":"IF('Line 1 Source'!D152<>\"\",'Line 1 Source'!D152,\"\")","v":"1180"},{"$f":"IF('Line 1 Source'!E152<>\"\",'Line 1 Source'!E152,\"\")","v":"0061"},{"$f":"IF('Line 1 Source'!F152<>\"\",'Line 1 Source'!F152,\"\")","v":0}]
[{"$f":"IF('Line 1 Source'!A153<>\"\",'Line 1 Source'!A153,\"\")","v":"2018"},"0841180",{"$f":"CONCATENATE(VLOOKUP(B153,'School List'!$B$3:$H$291,6,FALSE),H153)","v":{"$error":"#N/A"}},{"$f":"CONCATENATE(VLOOKUP(B153,'School List'!$B$3:$D$291,3,FALSE),H153)","v":{"$error":"#N/A"}},{"$f":"IF('Line 1 Source'!B153<>\"\",'Line 1 Source'!B153,\"\")","v":"08"},{"$f":"IF('Line 1 Source'!C153<>\"\",'Line 1 Source'!C153,\"\")","v":"4"},{"$f":"IF('Line 1 Source'!D153<>\"\",'Line 1 Source'!D153,\"\")","v":"1180"},{"$f":"IF('Line 1 Source'!E153<>\"\",'Line 1 Source'!E153,\"\")","v":"0101"},{"$f":"IF('Line 1 Source'!F153<>\"\",'Line 1 Source'!F153,\"\")","v":0}]
[{"$f":"IF('Line 1 Source'!A154<>\"\",'Line 1 Source'!A154,\"\")","v":"2018"},"0841180",{"$f":"CONCATENATE(VLOOKUP(B154,'School List'!$B$3:$H$291,6,FALSE),H154)","v":{"$error":"#N/A"}},{"$f":"CONCATENATE(VLOOKUP(B154,'School List'!$B$3:$D$291,3,FALSE),H154)","v":{"$error":"#N/A"}},{"$f":"IF('Line 1 Source'!B154<>\"\",'Line 1 Source'!B154,\"\")","v":"08"},{"$f":"IF('Line 1 Source'!C154<>\"\",'Line 1 Source'!C154,\"\")","v":"4"},{"$f":"IF('Line 1 Source'!D154<>\"\",'Line 1 Source'!D154,\"\")","v":"1180"},{"$f":"IF('Line 1 Source'!E154<>\"\",'Line 1 Source'!E154,\"\")","v":"0180"},{"$f":"IF('Line 1 Source'!F154<>\"\",'Line 1 Source'!F154,\"\")","v":0}]
[{"$f":"IF('Line 1 Source'!A155<>\"\",'Line 1 Source'!A155,\"\")","v":"2018"},"0841180",{"$f":"CONCATENATE(VLOOKUP(B155,'School List'!$B$3:$H$291,6,FALSE),H155)","v":{"$error":"#N/A"}},{"$f":"CONCATENATE(VLOOKUP(B155,'School List'!$B$3:$D$291,3,FALSE),H155)","v":{"$error":"#N/A"}},{"$f":"IF('Line 1 Source'!B155<>\"\",'Line 1 Source'!B155,\"\")","v":"08"},{"$f":"IF('Line 1 Source'!C155<>\"\",'Line 1 Source'!C155,\"\")","v":"4"},{"$f":"IF('Line 1 Source'!D155<>\"\",'Line 1 Source'!D155,\"\")","v":"1180"},{"$f":"IF('Line 1 Source'!E155<>\"\",'Line 1 Source'!E155,\"\")","v":"1214"},{"$f":"IF('Line 1 Source'!F155<>\"\",'Line 1 Source'!F155,\"\")","v":0}]
[{"$f":"IF('Line 1 Source'!A156<>\"\",'Line 1 Source'!A156,\"\")","v":"2018"},"0841180",{"$f":"CONCATENATE(VLOOKUP(B156,'School List'!$B$3:$H$291,6,FALSE),H156)","v":{"$error":"#N/A"}},{"$f":"CONCATENATE(VLOOKUP(B156,'School List'!$B$3:$D$291,3,FALSE),H156)","v":{"$error":"#N/A"}},{"$f":"IF('Line 1 Source'!B156<>\"\",'Line 1 Source'!B156,\"\")","v":"08"},{"$f":"IF('Line 1 Source'!C156<>\"\",'Line 1 Source'!C156,\"\")","v":"4"},{"$f":"IF('Line 1 Source'!D156<>\"\",'Line 1 Source'!D156,\"\")","v":"1180"},{"$f":"IF('Line 1 Source'!E156<>\"\",'Line 1 Source'!E156,\"\")","v":"6301"},{"$f":"IF('Line 1 Source'!F156<>\"\",'Line 1 Source'!F156,\"\")","v":0}]
[{"$f":"IF('Line 1 Source'!A157<>\"\",'Line 1 Source'!A157,\"\")","v":"2018"},"0841180",{"$f":"CONCATENATE(VLOOKUP(B157,'School List'!$B$3:$H$291,6,FALSE),H157)","v":{"$error":"#N/A"}},{"$f":"CONCATENATE(VLOOKUP(B157,'School List'!$B$3:$D$291,3,FALSE),H157)","v":{"$error":"#N/A"}},{"$f":"IF('Line 1 Source'!B157<>\"\",'Line 1 Source'!B157,\"\")","v":"08"},{"$f":"IF('Line 1 Source'!C157<>\"\",'Line 1 Source'!C157,\"\")","v":"4"},{"$f":"IF('Line 1 Source'!D157<>\"\",'Line 1 Source'!D157,\"\")","v":"1180"},{"$f":"IF('Line 1 Source'!E157<>\"\",'Line 1 Source'!E157,\"\")","v":"6302"},{"$f":"IF('Line 1 Source'!F157<>\"\",'Line 1 Source'!F157,\"\")","v":0}]
[{"$f":"IF('Line 1 Source'!A158<>\"\",'Line 1 Source'!A158,\"\")","v":"2018"},"0848565",{"$f":"CONCATENATE(VLOOKUP(B158,'School List'!$B$3:$H$291,6,FALSE),H158)","v":{"$error":"#N/A"}},{"$f":"CONCATENATE(VLOOKUP(B158,'School List'!$B$3:$D$291,3,FALSE),H158)","v":{"$error":"#N/A"}},{"$f":"IF('Line 1 Source'!B158<>\"\",'Line 1 Source'!B158,\"\")","v":"08"},{"$f":"IF('Line 1 Source'!C158<>\"\",'Line 1 Source'!C158,\"\")","v":"4"},{"$f":"IF('Line 1 Source'!D158<>\"\",'Line 1 Source'!D158,\"\")","v":"8565"},{"$f":"IF('Line 1 Source'!E158<>\"\",'Line 1 Source'!E158,\"\")","v":"0061"},{"$f":"IF('Line 1 Source'!F158<>\"\",'Line 1 Source'!F158,\"\")","v":0}]
[{"$f":"IF('Line 1 Source'!A159<>\"\",'Line 1 Source'!A159,\"\")","v":"2018"},"0848565",{"$f":"CONCATENATE(VLOOKUP(B159,'School List'!$B$3:$H$291,6,FALSE),H159)","v":{"$error":"#N/A"}},{"$f":"CONCATENATE(VLOOKUP(B159,'School List'!$B$3:$D$291,3,FALSE),H159)","v":{"$error":"#N/A"}},{"$f":"IF('Line 1 Source'!B159<>\"\",'Line 1 Source'!B159,\"\")","v":"08"},{"$f":"IF('Line 1 Source'!C159<>\"\",'Line 1 Source'!C159,\"\")","v":"4"},{"$f":"IF('Line 1 Source'!D159<>\"\",'Line 1 Source'!D159,\"\")","v":"8565"},{"$f":"IF('Line 1 Source'!E159<>\"\",'Line 1 Source'!E159,\"\")","v":"0101"},{"$f":"IF('Line 1 Source'!F159<>\"\",'Line 1 Source'!F159,\"\")","v":0}]
[{"$f":"IF('Line 1 Source'!A160<>\"\",'Line 1 Source'!A160,\"\")","v":"2018"},"0848565",{"$f":"CONCATENATE(VLOOKUP(B160,'School List'!$B$3:$H$291,6,FALSE),H160)","v":{"$error":"#N/A"}},{"$f":"CONCATENATE(VLOOKUP(B160,'School List'!$B$3:$D$291,3,FALSE),H160)","v":{"$error":"#N/A"}},{"$f":"IF('Line 1 Source'!B160<>\"\",'Line 1 Source'!B160,\"\")","v":"08"},{"$f":"IF('Line 1 Source'!C160<>\"\",'Line 1 Source'!C160,\"\")","v":"4"},{"$f":"IF('Line 1 Source'!D160<>\"\",'Line 1 Source'!D160,\"\")","v":"8565"},{"$f":"IF('Line 1 Source'!E160<>\"\",'Line 1 Source'!E160,\"\")","v":"0180"},{"$f":"IF('Line 1 Source'!F160<>\"\",'Line 1 Source'!F160,\"\")","v":0}]
[{"$f":"IF('Line 1 Source'!A161<>\"\",'Line 1 Source'!A161,\"\")","v":"2018"},"0848565",{"$f":"CONCATENATE(VLOOKUP(B161,'School List'!$B$3:$H$291,6,FALSE),H161)","v":{"$error":"#N/A"}},{"$f":"CONCATENATE(VLOOKUP(B161,'School List'!$B$3:$D$291,3,FALSE),H161)","v":{"$error":"#N/A"}},{"$f":"IF('Line 1 Source'!B161<>\"\",'Line 1 Source'!B161,\"\")","v":"08"},{"$f":"IF('Line 1 Source'!C161<>\"\",'Line 1 Source'!C161,\"\")","v":"4"},{"$f":"IF('Line 1 Source'!D161<>\"\",'Line 1 Source'!D161,\"\")","v":"8565"},{"$f":"IF('Line 1 Source'!E161<>\"\",'Line 1 Source'!E161,\"\")","v":"1214"},{"$f":"IF('Line 1 Source'!F161<>\"\",'Line 1 Source'!F161,\"\")","v":0}]
[{"$f":"IF('Line 1 Source'!A162<>\"\",'Line 1 Source'!A162,\"\")","v":"2018"},"0848565",{"$f":"CONCATENATE(VLOOKUP(B162,'School List'!$B$3:$H$291,6,FALSE),H162)","v":{"$error":"#N/A"}},{"$f":"CONCATENATE(VLOOKUP(B162,'School List'!$B$3:$D$291,3,FALSE),H162)","v":{"$error":"#N/A"}},{"$f":"IF('Line 1 Source'!B162<>\"\",'Line 1 Source'!B162,\"\")","v":"08"},{"$f":"IF('Line 1 Source'!C162<>\"\",'Line 1 Source'!C162,\"\")","v":"4"},{"$f":"IF('Line 1 Source'!D162<>\"\",'Line 1 Source'!D162,\"\")","v":"8565"},{"$f":"IF('Line 1 Source'!E162<>\"\",'Line 1 Source'!E162,\"\")","v":"6301"},{"$f":"IF('Line 1 Source'!F162<>\"\",'Line 1 Source'!F162,\"\")","v":0}]
[{"$f":"IF('Line 1 Source'!A163<>\"\",'Line 1 Source'!A163,\"\")","v":"2018"},"0848565",{"$f":"CONCATENATE(VLOOKUP(B163,'School List'!$B$3:$H$291,6,FALSE),H163)","v":{"$error":"#N/A"}},{"$f":"CONCATENATE(VLOOKUP(B163,'School List'!$B$3:$D$291,3,FALSE),H163)","v":{"$error":"#N/A"}},{"$f":"IF('Line 1 Source'!B163<>\"\",'Line 1 Source'!B163,\"\")","v":"08"},{"$f":"IF('Line 1 Source'!C163<>\"\",'Line 1 Source'!C163,\"\")","v":"4"},{"$f":"IF('Line 1 Source'!D163<>\"\",'Line 1 Source'!D163,\"\")","v":"8565"},{"$f":"IF('Line 1 Source'!E163<>\"\",'Line 1 Source'!E163,\"\")","v":"6302"},{"$f":"IF('Line 1 Source'!F163<>\"\",'Line 1 Source'!F163,\"\")","v":0}]
[{"$f":"IF('Line 1 Source'!A164<>\"\",'Line 1 Source'!A164,\"\")","v":"2018"},"0940775",{"$f":"CONCATENATE(VLOOKUP(B164,'School List'!$B$3:$H$291,6,FALSE),H164)","v":"07750061"},{"$f":"CONCATENATE(VLOOKUP(B164,'School List'!$B$3:$D$291,3,FALSE),H164)","v":"Cass County - PIONEER REGIONAL SCHOOL CORPORATION0061"},{"$f":"IF('Line 1 Source'!B164<>\"\",'Line 1 Source'!B164,\"\")","v":"09"},{"$f":"IF('Line 1 Source'!C164<>\"\",'Line 1 Source'!C164,\"\")","v":"4"},{"$f":"IF('Line 1 Source'!D164<>\"\",'Line 1 Source'!D164,\"\")","v":"0775"},{"$f":"IF('Line 1 Source'!E164<>\"\",'Line 1 Source'!E164,\"\")","v":"0061"},{"$f":"IF('Line 1 Source'!F164<>\"\",'Line 1 Source'!F164,\"\")","v":400000}]
[{"$f":"IF('Line 1 Source'!A165<>\"\",'Line 1 Source'!A165,\"\")","v":"2018"},"0940775",{"$f":"CONCATENATE(VLOOKUP(B165,'School List'!$B$3:$H$291,6,FALSE),H165)","v":"07750101"},{"$f":"CONCATENATE(VLOOKUP(B165,'School List'!$B$3:$D$291,3,FALSE),H165)","v":"Cass County - PIONEER REGIONAL SCHOOL CORPORATION0101"},{"$f":"IF('Line 1 Source'!B165<>\"\",'Line 1 Source'!B165,\"\")","v":"09"},{"$f":"IF('Line 1 Source'!C165<>\"\",'Line 1 Source'!C165,\"\")","v":"4"},{"$f":"IF('Line 1 Source'!D165<>\"\",'Line 1 Source'!D165,\"\")","v":"0775"},{"$f":"IF('Line 1 Source'!E165<>\"\",'Line 1 Source'!E165,\"\")","v":"0101"},{"$f":"IF('Line 1 Source'!F165<>\"\",'Line 1 Source'!F165,\"\")","v":6794154}]
[{"$f":"IF('Line 1 Source'!A166<>\"\",'Line 1 Source'!A166,\"\")","v":"2018"},"0940775",{"$f":"CONCATENATE(VLOOKUP(B166,'School List'!$B$3:$H$291,6,FALSE),H166)","v":"07750180"},{"$f":"CONCATENATE(VLOOKUP(B166,'School List'!$B$3:$D$291,3,FALSE),H166)","v":"Cass County - PIONEER REGIONAL SCHOOL CORPORATION0180"},{"$f":"IF('Line 1 Source'!B166<>\"\",'Line 1 Source'!B166,\"\")","v":"09"},{"$f":"IF('Line 1 Source'!C166<>\"\",'Line 1 Source'!C166,\"\")","v":"4"},{"$f":"IF('Line 1 Source'!D166<>\"\",'Line 1 Source'!D166,\"\")","v":"0775"},{"$f":"IF('Line 1 Source'!E166<>\"\",'Line 1 Source'!E166,\"\")","v":"0180"},{"$f":"IF('Line 1 Source'!F166<>\"\",'Line 1 Source'!F166,\"\")","v":763085}]
[{"$f":"IF('Line 1 Source'!A167<>\"\",'Line 1 Source'!A167,\"\")","v":"2018"},"0940775",{"$f":"CONCATENATE(VLOOKUP(B167,'School List'!$B$3:$H$291,6,FALSE),H167)","v":"07750186"},{"$f":"CONCATENATE(VLOOKUP(B167,'School List'!$B$3:$D$291,3,FALSE),H167)","v":"Cass County - PIONEER REGIONAL SCHOOL CORPORATION0186"},{"$f":"IF('Line 1 Source'!B167<>\"\",'Line 1 Source'!B167,\"\")","v":"09"},{"$f":"IF('Line 1 Source'!C167<>\"\",'Line 1 Source'!C167,\"\")","v":"4"},{"$f":"IF('Line 1 Source'!D167<>\"\",'Line 1 Source'!D167,\"\")","v":"0775"},{"$f":"IF('Line 1 Source'!E167<>\"\",'Line 1 Source'!E167,\"\")","v":"0186"},{"$f":"IF('Line 1 Source'!F167<>\"\",'Line 1 Source'!F167,\"\")","v":156760}]
[{"$f":"IF('Line 1 Source'!A168<>\"\",'Line 1 Source'!A168,\"\")","v":"2018"},"0940775",{"$f":"CONCATENATE(VLOOKUP(B168,'School List'!$B$3:$H$291,6,FALSE),H168)","v":"07751214"},{"$f":"CONCATENATE(VLOOKUP(B168,'School List'!$B$3:$D$291,3,FALSE),H168)","v":"Cass County - PIONEER REGIONAL SCHOOL CORPORATION1214"},{"$f":"IF('Line 1 Source'!B168<>\"\",'Line 1 Source'!B168,\"\")","v":"09"},{"$f":"IF('Line 1 Source'!C168<>\"\",'Line 1 Source'!C168,\"\")","v":"4"},{"$f":"IF('Line 1 Source'!D168<>\"\",'Line 1 Source'!D168,\"\")","v":"0775"},{"$f":"IF('Line 1 Source'!E168<>\"\",'Line 1 Source'!E168,\"\")","v":"1214"},{"$f":"IF('Line 1 Source'!F168<>\"\",'Line 1 Source'!F168,\"\")","v":1307975}]
[{"$f":"IF('Line 1 Source'!A169<>\"\",'Line 1 Source'!A169,\"\")","v":"2018"},"0940775",{"$f":"CONCATENATE(VLOOKUP(B169,'School List'!$B$3:$H$291,6,FALSE),H169)","v":"07756301"},{"$f":"CONCATENATE(VLOOKUP(B169,'School List'!$B$3:$D$291,3,FALSE),H169)","v":"Cass County - PIONEER REGIONAL SCHOOL CORPORATION6301"},{"$f":"IF('Line 1 Source'!B169<>\"\",'Line 1 Source'!B169,\"\")","v":"09"},{"$f":"IF('Line 1 Source'!C169<>\"\",'Line 1 Source'!C169,\"\")","v":"4"},{"$f":"IF('Line 1 Source'!D169<>\"\",'Line 1 Source'!D169,\"\")","v":"0775"},{"$f":"IF('Line 1 Source'!E169<>\"\",'Line 1 Source'!E169,\"\")","v":"6301"},{"$f":"IF('Line 1 Source'!F169<>\"\",'Line 1 Source'!F169,\"\")","v":1120892}]
[{"$f":"IF('Line 1 Source'!A170<>\"\",'Line 1 Source'!A170,\"\")","v":"2018"},"0940775",{"$f":"CONCATENATE(VLOOKUP(B170,'School List'!$B$3:$H$291,6,FALSE),H170)","v":"07756302"},{"$f":"CONCATENATE(VLOOKUP(B170,'School List'!$B$3:$D$291,3,FALSE),H170)","v":"Cass County - PIONEER REGIONAL SCHOOL CORPORATION6302"},{"$f":"IF('Line 1 Source'!B170<>\"\",'Line 1 Source'!B170,\"\")","v":"09"},{"$f":"IF('Line 1 Source'!C170<>\"\",'Line 1 Source'!C170,\"\")","v":"4"},{"$f":"IF('Line 1 Source'!D170<>\"\",'Line 1 Source'!D170,\"\")","v":"0775"},{"$f":"IF('Line 1 Source'!E170<>\"\",'Line 1 Source'!E170,\"\")","v":"6302"},{"$f":"IF('Line 1 Source'!F170<>\"\",'Line 1 Source'!F170,\"\")","v":98887}]
[{"$f":"IF('Line 1 Source'!A171<>\"\",'Line 1 Source'!A171,\"\")","v":"2018"},"0940815",{"$f":"CONCATENATE(VLOOKUP(B171,'School List'!$B$3:$H$291,6,FALSE),H171)","v":"08150061"},{"$f":"CONCATENATE(VLOOKUP(B171,'School List'!$B$3:$D$291,3,FALSE),H171)","v":"Cass County - SOUTHEASTERN SCHOOL CORPORATION0061"},{"$f":"IF('Line 1 Source'!B171<>\"\",'Line 1 Source'!B171,\"\")","v":"09"},{"$f":"IF('Line 1 Source'!C171<>\"\",'Line 1 Source'!C171,\"\")","v":"4"},{"$f":"IF('Line 1 Source'!D171<>\"\",'Line 1 Source'!D171,\"\")","v":"0815"},{"$f":"IF('Line 1 Source'!E171<>\"\",'Line 1 Source'!E171,\"\")","v":"0061"},{"$f":"IF('Line 1 Source'!F171<>\"\",'Line 1 Source'!F171,\"\")","v":63320}]
[{"$f":"IF('Line 1 Source'!A172<>\"\",'Line 1 Source'!A172,\"\")","v":"2018"},"0940815",{"$f":"CONCATENATE(VLOOKUP(B172,'School List'!$B$3:$H$291,6,FALSE),H172)","v":"08150101"},{"$f":"CONCATENATE(VLOOKUP(B172,'School List'!$B$3:$D$291,3,FALSE),H172)","v":"Cass County - SOUTHEASTERN SCHOOL CORPORATION0101"},{"$f":"IF('Line 1 Source'!B172<>\"\",'Line 1 Source'!B172,\"\")","v":"09"},{"$f":"IF('Line 1 Source'!C172<>\"\",'Line 1 Source'!C172,\"\")","v":"4"},{"$f":"IF('Line 1 Source'!D172<>\"\",'Line 1 Source'!D172,\"\")","v":"0815"},{"$f":"IF('Line 1 Source'!E172<>\"\",'Line 1 Source'!E172,\"\")","v":"0101"},{"$f":"IF('Line 1 Source'!F172<>\"\",'Line 1 Source'!F172,\"\")","v":8972704}]
[{"$f":"IF('Line 1 Source'!A173<>\"\",'Line 1 Source'!A173,\"\")","v":"2018"},"0940815",{"$f":"CONCATENATE(VLOOKUP(B173,'School List'!$B$3:$H$291,6,FALSE),H173)","v":"08150180"},{"$f":"CONCATENATE(VLOOKUP(B173,'School List'!$B$3:$D$291,3,FALSE),H173)","v":"Cass County - SOUTHEASTERN SCHOOL CORPORATION0180"},{"$f":"IF('Line 1 Source'!B173<>\"\",'Line 1 Source'!B173,\"\")","v":"09"},{"$f":"IF('Line 1 Source'!C173<>\"\",'Line 1 Source'!C173,\"\")","v":"4"},{"$f":"IF('Line 1 Source'!D173<>\"\",'Line 1 Source'!D173,\"\")","v":"0815"},{"$f":"IF('Line 1 Source'!E173<>\"\",'Line 1 Source'!E173,\"\")","v":"0180"},{"$f":"IF('Line 1 Source'!F173<>\"\",'Line 1 Source'!F173,\"\")","v":1553979}]
[{"$f":"IF('Line 1 Source'!A174<>\"\",'Line 1 Source'!A174,\"\")","v":"2018"},"0940815",{"$f":"CONCATENATE(VLOOKUP(B174,'School List'!$B$3:$H$291,6,FALSE),H174)","v":"08151214"},{"$f":"CONCATENATE(VLOOKUP(B174,'School List'!$B$3:$D$291,3,FALSE),H174)","v":"Cass County - SOUTHEASTERN SCHOOL CORPORATION1214"},{"$f":"IF('Line 1 Source'!B174<>\"\",'Line 1 Source'!B174,\"\")","v":"09"},{"$f":"IF('Line 1 Source'!C174<>\"\",'Line 1 Source'!C174,\"\")","v":"4"},{"$f":"IF('Line 1 Source'!D174<>\"\",'Line 1 Source'!D174,\"\")","v":"0815"},{"$f":"IF('Line 1 Source'!E174<>\"\",'Line 1 Source'!E174,\"\")","v":"1214"},{"$f":"IF('Line 1 Source'!F174<>\"\",'Line 1 Source'!F174,\"\")","v":1472376}]
[{"$f":"IF('Line 1 Source'!A175<>\"\",'Line 1 Source'!A175,\"\")","v":"2018"},"0940815",{"$f":"CONCATENATE(VLOOKUP(B175,'School List'!$B$3:$H$291,6,FALSE),H175)","v":"08156301"},{"$f":"CONCATENATE(VLOOKUP(B175,'School List'!$B$3:$D$291,3,FALSE),H175)","v":"Cass County - SOUTHEASTERN SCHOOL CORPORATION6301"},{"$f":"IF('Line 1 Source'!B175<>\"\",'Line 1 Source'!B175,\"\")","v":"09"},{"$f":"IF('Line 1 Source'!C175<>\"\",'Line 1 Source'!C175,\"\")","v":"4"},{"$f":"IF('Line 1 Source'!D175<>\"\",'Line 1 Source'!D175,\"\")","v":"0815"},{"$f":"IF('Line 1 Source'!E175<>\"\",'Line 1 Source'!E175,\"\")","v":"6301"},{"$f":"IF('Line 1 Source'!F175<>\"\",'Line 1 Source'!F175,\"\")","v":1191881}]
[{"$f":"IF('Line 1 Source'!A176<>\"\",'Line 1 Source'!A176,\"\")","v":"2018"},"0940815",{"$f":"CONCATENATE(VLOOKUP(B176,'School List'!$B$3:$H$291,6,FALSE),H176)","v":"08156302"},{"$f":"CONCATENATE(VLOOKUP(B176,'School List'!$B$3:$D$291,3,FALSE),H176)","v":"Cass County - SOUTHEASTERN SCHOOL CORPORATION6302"},{"$f":"IF('Line 1 Source'!B176<>\"\",'Line 1 Source'!B176,\"\")","v":"09"},{"$f":"IF('Line 1 Source'!C176<>\"\",'Line 1 Source'!C176,\"\")","v":"4"},{"$f":"IF('Line 1 Source'!D176<>\"\",'Line 1 Source'!D176,\"\")","v":"0815"},{"$f":"IF('Line 1 Source'!E176<>\"\",'Line 1 Source'!E176,\"\")","v":"6302"},{"$f":"IF('Line 1 Source'!F176<>\"\",'Line 1 Source'!F176,\"\")","v":268871}]
[{"$f":"IF('Line 1 Source'!A177<>\"\",'Line 1 Source'!A177,\"\")","v":"2018"},"0940875",{"$f":"CONCATENATE(VLOOKUP(B177,'School List'!$B$3:$H$291,6,FALSE),H177)","v":"08750101"},{"$f":"CONCATENATE(VLOOKUP(B177,'School List'!$B$3:$D$291,3,FALSE),H177)","v":"Cass County - LOGANSPORT COMMUNITY SCHOOL CORPORATION0101"},{"$f":"IF('Line 1 Source'!B177<>\"\",'Line 1 Source'!B177,\"\")","v":"09"},{"$f":"IF('Line 1 Source'!C177<>\"\",'Line 1 Source'!C177,\"\")","v":"4"},{"$f":"IF('Line 1 Source'!D177<>\"\",'Line 1 Source'!D177,\"\")","v":"0875"},{"$f":"IF('Line 1 Source'!E177<>\"\",'Line 1 Source'!E177,\"\")","v":"0101"},{"$f":"IF('Line 1 Source'!F177<>\"\",'Line 1 Source'!F177,\"\")","v":30585079}]
[{"$f":"IF('Line 1 Source'!A178<>\"\",'Line 1 Source'!A178,\"\")","v":"2018"},"0940875",{"$f":"CONCATENATE(VLOOKUP(B178,'School List'!$B$3:$H$291,6,FALSE),H178)","v":"08750180"},{"$f":"CONCATENATE(VLOOKUP(B178,'School List'!$B$3:$D$291,3,FALSE),H178)","v":"Cass County - LOGANSPORT COMMUNITY SCHOOL CORPORATION0180"},{"$f":"IF('Line 1 Source'!B178<>\"\",'Line 1 Source'!B178,\"\")","v":"09"},{"$f":"IF('Line 1 Source'!C178<>\"\",'Line 1 Source'!C178,\"\")","v":"4"},{"$f":"IF('Line 1 Source'!D178<>\"\",'Line 1 Source'!D178,\"\")","v":"0875"},{"$f":"IF('Line 1 Source'!E178<>\"\",'Line 1 Source'!E178,\"\")","v":"0180"},{"$f":"IF('Line 1 Source'!F178<>\"\",'Line 1 Source'!F178,\"\")","v":5269370}]
[{"$f":"IF('Line 1 Source'!A179<>\"\",'Line 1 Source'!A179,\"\")","v":"2018"},"0940875",{"$f":"CONCATENATE(VLOOKUP(B179,'School List'!$B$3:$H$291,6,FALSE),H179)","v":"08750186"},{"$f":"CONCATENATE(VLOOKUP(B179,'School List'!$B$3:$D$291,3,FALSE),H179)","v":"Cass County - LOGANSPORT COMMUNITY SCHOOL CORPORATION0186"},{"$f":"IF('Line 1 Source'!B179<>\"\",'Line 1 Source'!B179,\"\")","v":"09"},{"$f":"IF('Line 1 Source'!C179<>\"\",'Line 1 Source'!C179,\"\")","v":"4"},{"$f":"IF('Line 1 Source'!D179<>\"\",'Line 1 Source'!D179,\"\")","v":"0875"},{"$f":"IF('Line 1 Source'!E179<>\"\",'Line 1 Source'!E179,\"\")","v":"0186"},{"$f":"IF('Line 1 Source'!F179<>\"\",'Line 1 Source'!F179,\"\")","v":456860}]
[{"$f":"IF('Line 1 Source'!A180<>\"\",'Line 1 Source'!A180,\"\")","v":"2018"},"0940875",{"$f":"CONCATENATE(VLOOKUP(B180,'School List'!$B$3:$H$291,6,FALSE),H180)","v":"08751214"},{"$f":"CONCATENATE(VLOOKUP(B180,'School List'!$B$3:$D$291,3,FALSE),H180)","v":"Cass County - LOGANSPORT COMMUNITY SCHOOL CORPORATION1214"},{"$f":"IF('Line 1 Source'!B180<>\"\",'Line 1 Source'!B180,\"\")","v":"09"},{"$f":"IF('Line 1 Source'!C180<>\"\",'Line 1 Source'!C180,\"\")","v":"4"},{"$f":"IF('Line 1 Source'!D180<>\"\",'Line 1 Source'!D180,\"\")","v":"0875"},{"$f":"IF('Line 1 Source'!E180<>\"\",'Line 1 Source'!E180,\"\")","v":"1214"},{"$f":"IF('Line 1 Source'!F180<>\"\",'Line 1 Source'!F180,\"\")","v":1738846}]
[{"$f":"IF('Line 1 Source'!A181<>\"\",'Line 1 Source'!A181,\"\")","v":"2018"},"0940875",{"$f":"CONCATENATE(VLOOKUP(B181,'School List'!$B$3:$H$291,6,FALSE),H181)","v":"08756301"},{"$f":"CONCATENATE(VLOOKUP(B181,'School List'!$B$3:$D$291,3,FALSE),H181)","v":"Cass County - LOGANSPORT COMMUNITY SCHOOL CORPORATION6301"},{"$f":"IF('Line 1 Source'!B181<>\"\",'Line 1 Source'!B181,\"\")","v":"09"},{"$f":"IF('Line 1 Source'!C181<>\"\",'Line 1 Source'!C181,\"\")","v":"4"},{"$f":"IF('Line 1 Source'!D181<>\"\",'Line 1 Source'!D181,\"\")","v":"0875"},{"$f":"IF('Line 1 Source'!E181<>\"\",'Line 1 Source'!E181,\"\")","v":"6301"},{"$f":"IF('Line 1 Source'!F181<>\"\",'Line 1 Source'!F181,\"\")","v":1178179}]
[{"$f":"IF('Line 1 Source'!A182<>\"\",'Line 1 Source'!A182,\"\")","v":"2018"},"0940875",{"$f":"CONCATENATE(VLOOKUP(B182,'School List'!$B$3:$H$291,6,FALSE),H182)","v":"08756302"},{"$f":"CONCATENATE(VLOOKUP(B182,'School List'!$B$3:$D$291,3,FALSE),H182)","v":"Cass County - LOGANSPORT COMMUNITY SCHOOL CORPORATION6302"},{"$f":"IF('Line 1 Source'!B182<>\"\",'Line 1 Source'!B182,\"\")","v":"09"},{"$f":"IF('Line 1 Source'!C182<>\"\",'Line 1 Source'!C182,\"\")","v":"4"},{"$f":"IF('Line 1 Source'!D182<>\"\",'Line 1 Source'!D182,\"\")","v":"0875"},{"$f":"IF('Line 1 Source'!E182<>\"\",'Line 1 Source'!E182,\"\")","v":"6302"},{"$f":"IF('Line 1 Source'!F182<>\"\",'Line 1 Source'!F182,\"\")","v":222683}]
[{"$f":"IF('Line 1 Source'!A183<>\"\",'Line 1 Source'!A183,\"\")","v":"2018"},"0942650",{"$f":"CONCATENATE(VLOOKUP(B183,'School List'!$B$3:$H$291,6,FALSE),H183)","v":{"$error":"#N/A"}},{"$f":"CONCATENATE(VLOOKUP(B183,'School List'!$B$3:$D$291,3,FALSE),H183)","v":{"$error":"#N/A"}},{"$f":"IF('Line 1 Source'!B183<>\"\",'Line 1 Source'!B183,\"\")","v":"09"},{"$f":"IF('Line 1 Source'!C183<>\"\",'Line 1 Source'!C183,\"\")","v":"4"},{"$f":"IF('Line 1 Source'!D183<>\"\",'Line 1 Source'!D183,\"\")","v":"2650"},{"$f":"IF('Line 1 Source'!E183<>\"\",'Line 1 Source'!E183,\"\")","v":"0061"},{"$f":"IF('Line 1 Source'!F183<>\"\",'Line 1 Source'!F183,\"\")","v":0}]
[{"$f":"IF('Line 1 Source'!A184<>\"\",'Line 1 Source'!A184,\"\")","v":"2018"},"0942650",{"$f":"CONCATENATE(VLOOKUP(B184,'School List'!$B$3:$H$291,6,FALSE),H184)","v":{"$error":"#N/A"}},{"$f":"CONCATENATE(VLOOKUP(B184,'School List'!$B$3:$D$291,3,FALSE),H184)","v":{"$error":"#N/A"}},{"$f":"IF('Line 1 Source'!B184<>\"\",'Line 1 Source'!B184,\"\")","v":"09"},{"$f":"IF('Line 1 Source'!C184<>\"\",'Line 1 Source'!C184,\"\")","v":"4"},{"$f":"IF('Line 1 Source'!D184<>\"\",'Line 1 Source'!D184,\"\")","v":"2650"},{"$f":"IF('Line 1 Source'!E184<>\"\",'Line 1 Source'!E184,\"\")","v":"0101"},{"$f":"IF('Line 1 Source'!F184<>\"\",'Line 1 Source'!F184,\"\")","v":0}]
[{"$f":"IF('Line 1 Source'!A185<>\"\",'Line 1 Source'!A185,\"\")","v":"2018"},"0942650",{"$f":"CONCATENATE(VLOOKUP(B185,'School List'!$B$3:$H$291,6,FALSE),H185)","v":{"$error":"#N/A"}},{"$f":"CONCATENATE(VLOOKUP(B185,'School List'!$B$3:$D$291,3,FALSE),H185)","v":{"$error":"#N/A"}},{"$f":"IF('Line 1 Source'!B185<>\"\",'Line 1 Source'!B185,\"\")","v":"09"},{"$f":"IF('Line 1 Source'!C185<>\"\",'Line 1 Source'!C185,\"\")","v":"4"},{"$f":"IF('Line 1 Source'!D185<>\"\",'Line 1 Source'!D185,\"\")","v":"2650"},{"$f":"IF('Line 1 Source'!E185<>\"\",'Line 1 Source'!E185,\"\")","v":"0180"},{"$f":"IF('Line 1 Source'!F185<>\"\",'Line 1 Source'!F185,\"\")","v":0}]
[{"$f":"IF('Line 1 Source'!A186<>\"\",'Line 1 Source'!A186,\"\")","v":"2018"},"0942650",{"$f":"CONCATENATE(VLOOKUP(B186,'School List'!$B$3:$H$291,6,FALSE),H186)","v":{"$error":"#N/A"}},{"$f":"CONCATENATE(VLOOKUP(B186,'School List'!$B$3:$D$291,3,FALSE),H186)","v":{"$error":"#N/A"}},{"$f":"IF('Line 1 Source'!B186<>\"\",'Line 1 Source'!B186,\"\")","v":"09"},{"$f":"IF('Line 1 Source'!C186<>\"\",'Line 1 Source'!C186,\"\")","v":"4"},{"$f":"IF('Line 1 Source'!D186<>\"\",'Line 1 Source'!D186,\"\")","v":"2650"},{"$f":"IF('Line 1 Source'!E186<>\"\",'Line 1 Source'!E186,\"\")","v":"1214"},{"$f":"IF('Line 1 Source'!F186<>\"\",'Line 1 Source'!F186,\"\")","v":0}]
[{"$f":"IF('Line 1 Source'!A187<>\"\",'Line 1 Source'!A187,\"\")","v":"2018"},"0942650",{"$f":"CONCATENATE(VLOOKUP(B187,'School List'!$B$3:$H$291,6,FALSE),H187)","v":{"$error":"#N/A"}},{"$f":"CONCATENATE(VLOOKUP(B187,'School List'!$B$3:$D$291,3,FALSE),H187)","v":{"$error":"#N/A"}},{"$f":"IF('Line 1 Source'!B187<>\"\",'Line 1 Source'!B187,\"\")","v":"09"},{"$f":"IF('Line 1 Source'!C187<>\"\",'Line 1 Source'!C187,\"\")","v":"4"},{"$f":"IF('Line 1 Source'!D187<>\"\",'Line 1 Source'!D187,\"\")","v":"2650"},{"$f":"IF('Line 1 Source'!E187<>\"\",'Line 1 Source'!E187,\"\")","v":"6301"},{"$f":"IF('Line 1 Source'!F187<>\"\",'Line 1 Source'!F187,\"\")","v":0}]
[{"$f":"IF('Line 1 Source'!A188<>\"\",'Line 1 Source'!A188,\"\")","v":"2018"},"0942650",{"$f":"CONCATENATE(VLOOKUP(B188,'School List'!$B$3:$H$291,6,FALSE),H188)","v":{"$error":"#N/A"}},{"$f":"CONCATENATE(VLOOKUP(B188,'School List'!$B$3:$D$291,3,FALSE),H188)","v":{"$error":"#N/A"}},{"$f":"IF('Line 1 Source'!B188<>\"\",'Line 1 Source'!B188,\"\")","v":"09"},{"$f":"IF('Line 1 Source'!C188<>\"\",'Line 1 Source'!C188,\"\")","v":"4"},{"$f":"IF('Line 1 Source'!D188<>\"\",'Line 1 Source'!D188,\"\")","v":"2650"},{"$f":"IF('Line 1 Source'!E188<>\"\",'Line 1 Source'!E188,\"\")","v":"6302"},{"$f":"IF('Line 1 Source'!F188<>\"\",'Line 1 Source'!F188,\"\")","v":0}]
[{"$f":"IF('Line 1 Source'!A189<>\"\",'Line 1 Source'!A189,\"\")","v":"2018"},"1040940",{"$f":"CONCATENATE(VLOOKUP(B189,'School List'!$B$3:$H$291,6,FALSE),H189)","v":"09400101"},{"$f":"CONCATENATE(VLOOKUP(B189,'School List'!$B$3:$D$291,3,FALSE),H189)","v":"Clark County - WEST CLARK COMMUNITY SCHOOL CORPORATION0101"},{"$f":"IF('Line 1 Source'!B189<>\"\",'Line 1 Source'!B189,\"\")","v":"10"},{"$f":"IF('Line 1 Source'!C189<>\"\",'Line 1 Source'!C189,\"\")","v":"4"},{"$f":"IF('Line 1 Source'!D189<>\"\",'Line 1 Source'!D189,\"\")","v":"0940"},{"$f":"IF('Line 1 Source'!E189<>\"\",'Line 1 Source'!E189,\"\")","v":"0101"},{"$f":"IF('Line 1 Source'!F189<>\"\",'Line 1 Source'!F189,\"\")","v":32348300}]
[{"$f":"IF('Line 1 Source'!A190<>\"\",'Line 1 Source'!A190,\"\")","v":"2018"},"1040940",{"$f":"CONCATENATE(VLOOKUP(B190,'School List'!$B$3:$H$291,6,FALSE),H190)","v":"09400180"},{"$f":"CONCATENATE(VLOOKUP(B190,'School List'!$B$3:$D$291,3,FALSE),H190)","v":"Clark County - WEST CLARK COMMUNITY SCHOOL CORPORATION0180"},{"$f":"IF('Line 1 Source'!B190<>\"\",'Line 1 Source'!B190,\"\")","v":"10"},{"$f":"IF('Line 1 Source'!C190<>\"\",'Line 1 Source'!C190,\"\")","v":"4"},{"$f":"IF('Line 1 Source'!D190<>\"\",'Line 1 Source'!D190,\"\")","v":"0940"},{"$f":"IF('Line 1 Source'!E190<>\"\",'Line 1 Source'!E190,\"\")","v":"0180"},{"$f":"IF('Line 1 Source'!F190<>\"\",'Line 1 Source'!F190,\"\")","v":6919887}]
[{"$f":"IF('Line 1 Source'!A191<>\"\",'Line 1 Source'!A191,\"\")","v":"2018"},"1040940",{"$f":"CONCATENATE(VLOOKUP(B191,'School List'!$B$3:$H$291,6,FALSE),H191)","v":"09400186"},{"$f":"CONCATENATE(VLOOKUP(B191,'School List'!$B$3:$D$291,3,FALSE),H191)","v":"Clark County - WEST CLARK COMMUNITY SCHOOL CORPORATION0186"},{"$f":"IF('Line 1 Source'!B191<>\"\",'Line 1 Source'!B191,\"\")","v":"10"},{"$f":"IF('Line 1 Source'!C191<>\"\",'Line 1 Source'!C191,\"\")","v":"4"},{"$f":"IF('Line 1 Source'!D191<>\"\",'Line 1 Source'!D191,\"\")","v":"0940"},{"$f":"IF('Line 1 Source'!E191<>\"\",'Line 1 Source'!E191,\"\")","v":"0186"},{"$f":"IF('Line 1 Source'!F191<>\"\",'Line 1 Source'!F191,\"\")","v":585022}]
[{"$f":"IF('Line 1 Source'!A192<>\"\",'Line 1 Source'!A192,\"\")","v":"2018"},"1040940",{"$f":"CONCATENATE(VLOOKUP(B192,'School List'!$B$3:$H$291,6,FALSE),H192)","v":"09401214"},{"$f":"CONCATENATE(VLOOKUP(B192,'School List'!$B$3:$D$291,3,FALSE),H192)","v":"Clark County - WEST CLARK COMMUNITY SCHOOL CORPORATION1214"},{"$f":"IF('Line 1 Source'!B192<>\"\",'Line 1 Source'!B192,\"\")","v":"10"},{"$f":"IF('Line 1 Source'!C192<>\"\",'Line 1 Source'!C192,\"\")","v":"4"},{"$f":"IF('Line 1 Source'!D192<>\"\",'Line 1 Source'!D192,\"\")","v":"0940"},{"$f":"IF('Line 1 Source'!E192<>\"\",'Line 1 Source'!E192,\"\")","v":"1214"},{"$f":"IF('Line 1 Source'!F192<>\"\",'Line 1 Source'!F192,\"\")","v":3700000}]
[{"$f":"IF('Line 1 Source'!A193<>\"\",'Line 1 Source'!A193,\"\")","v":"2018"},"1040940",{"$f":"CONCATENATE(VLOOKUP(B193,'School List'!$B$3:$H$291,6,FALSE),H193)","v":"09406301"},{"$f":"CONCATENATE(VLOOKUP(B193,'School List'!$B$3:$D$291,3,FALSE),H193)","v":"Clark County - WEST CLARK COMMUNITY SCHOOL CORPORATION6301"},{"$f":"IF('Line 1 Source'!B193<>\"\",'Line 1 Source'!B193,\"\")","v":"10"},{"$f":"IF('Line 1 Source'!C193<>\"\",'Line 1 Source'!C193,\"\")","v":"4"},{"$f":"IF('Line 1 Source'!D193<>\"\",'Line 1 Source'!D193,\"\")","v":"0940"},{"$f":"IF('Line 1 Source'!E193<>\"\",'Line 1 Source'!E193,\"\")","v":"6301"},{"$f":"IF('Line 1 Source'!F193<>\"\",'Line 1 Source'!F193,\"\")","v":2936888}]
[{"$f":"IF('Line 1 Source'!A194<>\"\",'Line 1 Source'!A194,\"\")","v":"2018"},"1040940",{"$f":"CONCATENATE(VLOOKUP(B194,'School List'!$B$3:$H$291,6,FALSE),H194)","v":"09406302"},{"$f":"CONCATENATE(VLOOKUP(B194,'School List'!$B$3:$D$291,3,FALSE),H194)","v":"Clark County - WEST CLARK COMMUNITY SCHOOL CORPORATION6302"},{"$f":"IF('Line 1 Source'!B194<>\"\",'Line 1 Source'!B194,\"\")","v":"10"},{"$f":"IF('Line 1 Source'!C194<>\"\",'Line 1 Source'!C194,\"\")","v":"4"},{"$f":"IF('Line 1 Source'!D194<>\"\",'Line 1 Source'!D194,\"\")","v":"0940"},{"$f":"IF('Line 1 Source'!E194<>\"\",'Line 1 Source'!E194,\"\")","v":"6302"},{"$f":"IF('Line 1 Source'!F194<>\"\",'Line 1 Source'!F194,\"\")","v":631374}]
[{"$f":"IF('Line 1 Source'!A195<>\"\",'Line 1 Source'!A195,\"\")","v":"2018"},{"$f":"CONCATENATE(E195,F195,G195)","v":"1041000"},{"$f":"CONCATENATE(VLOOKUP(B195,'School List'!$B$3:$H$291,6,FALSE),H195)","v":"10000061"},{"$f":"CONCATENATE(VLOOKUP(B195,'School List'!$B$3:$D$291,3,FALSE),H195)","v":"Clark County - CLARKSVILLE COMMUNITY SCHOOL CORPORATION0061"},{"$f":"IF('Line 1 Source'!B195<>\"\",'Line 1 Source'!B195,\"\")","v":"10"},{"$f":"IF('Line 1 Source'!C195<>\"\",'Line 1 Source'!C195,\"\")","v":"4"},{"$f":"IF('Line 1 Source'!D195<>\"\",'Line 1 Source'!D195,\"\")","v":"1000"},{"$f":"IF('Line 1 Source'!E195<>\"\",'Line 1 Source'!E195,\"\")","v":"0061"},{"$f":"IF('Line 1 Source'!F195<>\"\",'Line 1 Source'!F195,\"\")","v":250000}]
[{"$f":"IF('Line 1 Source'!A196<>\"\",'Line 1 Source'!A196,\"\")","v":"2018"},"1041000",{"$f":"CONCATENATE(VLOOKUP(B196,'School List'!$B$3:$H$291,6,FALSE),H196)","v":"10000101"},{"$f":"CONCATENATE(VLOOKUP(B196,'School List'!$B$3:$D$291,3,FALSE),H196)","v":"Clark County - CLARKSVILLE COMMUNITY SCHOOL CORPORATION0101"},{"$f":"IF('Line 1 Source'!B196<>\"\",'Line 1 Source'!B196,\"\")","v":"10"},{"$f":"IF('Line 1 Source'!C196<>\"\",'Line 1 Source'!C196,\"\")","v":"4"},{"$f":"IF('Line 1 Source'!D196<>\"\",'Line 1 Source'!D196,\"\")","v":"1000"},{"$f":"IF('Line 1 Source'!E196<>\"\",'Line 1 Source'!E196,\"\")","v":"0101"},{"$f":"IF('Line 1 Source'!F196<>\"\",'Line 1 Source'!F196,\"\")","v":10378430}]
[{"$f":"IF('Line 1 Source'!A197<>\"\",'Line 1 Source'!A197,\"\")","v":"2018"},"1041000",{"$f":"CONCATENATE(VLOOKUP(B197,'School List'!$B$3:$H$291,6,FALSE),H197)","v":"10000180"},{"$f":"CONCATENATE(VLOOKUP(B197,'School List'!$B$3:$D$291,3,FALSE),H197)","v":"Clark County - CLARKSVILLE COMMUNITY SCHOOL CORPORATION0180"},{"$f":"IF('Line 1 Source'!B197<>\"\",'Line 1 Source'!B197,\"\")","v":"10"},{"$f":"IF('Line 1 Source'!C197<>\"\",'Line 1 Source'!C197,\"\")","v":"4"},{"$f":"IF('Line 1 Source'!D197<>\"\",'Line 1 Source'!D197,\"\")","v":"1000"},{"$f":"IF('Line 1 Source'!E197<>\"\",'Line 1 Source'!E197,\"\")","v":"0180"},{"$f":"IF('Line 1 Source'!F197<>\"\",'Line 1 Source'!F197,\"\")","v":2970718}]
[{"$f":"IF('Line 1 Source'!A198<>\"\",'Line 1 Source'!A198,\"\")","v":"2018"},"1041000",{"$f":"CONCATENATE(VLOOKUP(B198,'School List'!$B$3:$H$291,6,FALSE),H198)","v":"10000186"},{"$f":"CONCATENATE(VLOOKUP(B198,'School List'!$B$3:$D$291,3,FALSE),H198)","v":"Clark County - CLARKSVILLE COMMUNITY SCHOOL CORPORATION0186"},{"$f":"IF('Line 1 Source'!B198<>\"\",'Line 1 Source'!B198,\"\")","v":"10"},{"$f":"IF('Line 1 Source'!C198<>\"\",'Line 1 Source'!C198,\"\")","v":"4"},{"$f":"IF('Line 1 Source'!D198<>\"\",'Line 1 Source'!D198,\"\")","v":"1000"},{"$f":"IF('Line 1 Source'!E198<>\"\",'Line 1 Source'!E198,\"\")","v":"0186"},{"$f":"IF('Line 1 Source'!F198<>\"\",'Line 1 Source'!F198,\"\")","v":0}]
[{"$f":"IF('Line 1 Source'!A199<>\"\",'Line 1 Source'!A199,\"\")","v":"2018"},"1041000",{"$f":"CONCATENATE(VLOOKUP(B199,'School List'!$B$3:$H$291,6,FALSE),H199)","v":"10001214"},{"$f":"CONCATENATE(VLOOKUP(B199,'School List'!$B$3:$D$291,3,FALSE),H199)","v":"Clark County - CLARKSVILLE COMMUNITY SCHOOL CORPORATION1214"},{"$f":"IF('Line 1 Source'!B199<>\"\",'Line 1 Source'!B199,\"\")","v":"10"},{"$f":"IF('Line 1 Source'!C199<>\"\",'Line 1 Source'!C199,\"\")","v":"4"},{"$f":"IF('Line 1 Source'!D199<>\"\",'Line 1 Source'!D199,\"\")","v":"1000"},{"$f":"IF('Line 1 Source'!E199<>\"\",'Line 1 Source'!E199,\"\")","v":"1214"},{"$f":"IF('Line 1 Source'!F199<>\"\",'Line 1 Source'!F199,\"\")","v":1250805}]
[{"$f":"IF('Line 1 Source'!A200<>\"\",'Line 1 Source'!A200,\"\")","v":"2018"},"1041000",{"$f":"CONCATENATE(VLOOKUP(B200,'School List'!$B$3:$H$291,6,FALSE),H200)","v":"10006301"},{"$f":"CONCATENATE(VLOOKUP(B200,'School List'!$B$3:$D$291,3,FALSE),H200)","v":"Clark County - CLARKSVILLE COMMUNITY SCHOOL CORPORATION6301"},{"$f":"IF('Line 1 Source'!B200<>\"\",'Line 1 Source'!B200,\"\")","v":"10"},{"$f":"IF('Line 1 Source'!C200<>\"\",'Line 1 Source'!C200,\"\")","v":"4"},{"$f":"IF('Line 1 Source'!D200<>\"\",'Line 1 Source'!D200,\"\")","v":"1000"},{"$f":"IF('Line 1 Source'!E200<>\"\",'Line 1 Source'!E200,\"\")","v":"6301"},{"$f":"IF('Line 1 Source'!F200<>\"\",'Line 1 Source'!F200,\"\")","v":501463}]
[{"$f":"IF('Line 1 Source'!A201<>\"\",'Line 1 Source'!A201,\"\")","v":"2018"},"1041000",{"$f":"CONCATENATE(VLOOKUP(B201,'School List'!$B$3:$H$291,6,FALSE),H201)","v":"10006302"},{"$f":"CONCATENATE(VLOOKUP(B201,'School List'!$B$3:$D$291,3,FALSE),H201)","v":"Clark County - CLARKSVILLE COMMUNITY SCHOOL CORPORATION6302"},{"$f":"IF('Line 1 Source'!B201<>\"\",'Line 1 Source'!B201,\"\")","v":"10"},{"$f":"IF('Line 1 Source'!C201<>\"\",'Line 1 Source'!C201,\"\")","v":"4"},{"$f":"IF('Line 1 Source'!D201<>\"\",'Line 1 Source'!D201,\"\")","v":"1000"},{"$f":"IF('Line 1 Source'!E201<>\"\",'Line 1 Source'!E201,\"\")","v":"6302"},{"$f":"IF('Line 1 Source'!F201<>\"\",'Line 1 Source'!F201,\"\")","v":167430}]
[{"$f":"IF('Line 1 Source'!A202<>\"\",'Line 1 Source'!A202,\"\")","v":"2018"},"1041010",{"$f":"CONCATENATE(VLOOKUP(B202,'School List'!$B$3:$H$291,6,FALSE),H202)","v":"10100061"},{"$f":"CONCATENATE(VLOOKUP(B202,'School List'!$B$3:$D$291,3,FALSE),H202)","v":"Clark County - GREATER CLARK COUNTY SCHOOL CORPORATION0061"},{"$f":"IF('Line 1 Source'!B202<>\"\",'Line 1 Source'!B202,\"\")","v":"10"},{"$f":"IF('Line 1 Source'!C202<>\"\",'Line 1 Source'!C202,\"\")","v":"4"},{"$f":"IF('Line 1 Source'!D202<>\"\",'Line 1 Source'!D202,\"\")","v":"1010"},{"$f":"IF('Line 1 Source'!E202<>\"\",'Line 1 Source'!E202,\"\")","v":"0061"},{"$f":"IF('Line 1 Source'!F202<>\"\",'Line 1 Source'!F202,\"\")","v":1500000}]
[{"$f":"IF('Line 1 Source'!A203<>\"\",'Line 1 Source'!A203,\"\")","v":"2018"},"1041010",{"$f":"CONCATENATE(VLOOKUP(B203,'School List'!$B$3:$H$291,6,FALSE),H203)","v":"10100101"},{"$f":"CONCATENATE(VLOOKUP(B203,'School List'!$B$3:$D$291,3,FALSE),H203)","v":"Clark County - GREATER CLARK COUNTY SCHOOL CORPORATION0101"},{"$f":"IF('Line 1 Source'!B203<>\"\",'Line 1 Source'!B203,\"\")","v":"10"},{"$f":"IF('Line 1 Source'!C203<>\"\",'Line 1 Source'!C203,\"\")","v":"4"},{"$f":"IF('Line 1 Source'!D203<>\"\",'Line 1 Source'!D203,\"\")","v":"1010"},{"$f":"IF('Line 1 Source'!E203<>\"\",'Line 1 Source'!E203,\"\")","v":"0101"},{"$f":"IF('Line 1 Source'!F203<>\"\",'Line 1 Source'!F203,\"\")","v":69717289}]
[{"$f":"IF('Line 1 Source'!A204<>\"\",'Line 1 Source'!A204,\"\")","v":"2018"},"1041010",{"$f":"CONCATENATE(VLOOKUP(B204,'School List'!$B$3:$H$291,6,FALSE),H204)","v":"10100180"},{"$f":"CONCATENATE(VLOOKUP(B204,'School List'!$B$3:$D$291,3,FALSE),H204)","v":"Clark County - GREATER CLARK COUNTY SCHOOL CORPORATION0180"},{"$f":"IF('Line 1 Source'!B204<>\"\",'Line 1 Source'!B204,\"\")","v":"10"},{"$f":"IF('Line 1 Source'!C204<>\"\",'Line 1 Source'!C204,\"\")","v":"4"},{"$f":"IF('Line 1 Source'!D204<>\"\",'Line 1 Source'!D204,\"\")","v":"1010"},{"$f":"IF('Line 1 Source'!E204<>\"\",'Line 1 Source'!E204,\"\")","v":"0180"},{"$f":"IF('Line 1 Source'!F204<>\"\",'Line 1 Source'!F204,\"\")","v":13353320}]
[{"$f":"IF('Line 1 Source'!A205<>\"\",'Line 1 Source'!A205,\"\")","v":"2018"},"1041010",{"$f":"CONCATENATE(VLOOKUP(B205,'School List'!$B$3:$H$291,6,FALSE),H205)","v":"10100186"},{"$f":"CONCATENATE(VLOOKUP(B205,'School List'!$B$3:$D$291,3,FALSE),H205)","v":"Clark County - GREATER CLARK COUNTY SCHOOL CORPORATION0186"},{"$f":"IF('Line 1 Source'!B205<>\"\",'Line 1 Source'!B205,\"\")","v":"10"},{"$f":"IF('Line 1 Source'!C205<>\"\",'Line 1 Source'!C205,\"\")","v":"4"},{"$f":"IF('Line 1 Source'!D205<>\"\",'Line 1 Source'!D205,\"\")","v":"1010"},{"$f":"IF('Line 1 Source'!E205<>\"\",'Line 1 Source'!E205,\"\")","v":"0186"},{"$f":"IF('Line 1 Source'!F205<>\"\",'Line 1 Source'!F205,\"\")","v":1259459}]
[{"$f":"IF('Line 1 Source'!A206<>\"\",'Line 1 Source'!A206,\"\")","v":"2018"},"1041010",{"$f":"CONCATENATE(VLOOKUP(B206,'School List'!$B$3:$H$291,6,FALSE),H206)","v":"10101214"},{"$f":"CONCATENATE(VLOOKUP(B206,'School List'!$B$3:$D$291,3,FALSE),H206)","v":"Clark County - GREATER CLARK COUNTY SCHOOL CORPORATION1214"},{"$f":"IF('Line 1 Source'!B206<>\"\",'Line 1 Source'!B206,\"\")","v":"10"},{"$f":"IF('Line 1 Source'!C206<>\"\",'Line 1 Source'!C206,\"\")","v":"4"},{"$f":"IF('Line 1 Source'!D206<>\"\",'Line 1 Source'!D206,\"\")","v":"1010"},{"$f":"IF('Line 1 Source'!E206<>\"\",'Line 1 Source'!E206,\"\")","v":"1214"},{"$f":"IF('Line 1 Source'!F206<>\"\",'Line 1 Source'!F206,\"\")","v":6457384}]
[{"$f":"IF('Line 1 Source'!A207<>\"\",'Line 1 Source'!A207,\"\")","v":"2018"},"1041010",{"$f":"CONCATENATE(VLOOKUP(B207,'School List'!$B$3:$H$291,6,FALSE),H207)","v":"10106301"},{"$f":"CONCATENATE(VLOOKUP(B207,'School List'!$B$3:$D$291,3,FALSE),H207)","v":"Clark County - GREATER CLARK COUNTY SCHOOL CORPORATION6301"},{"$f":"IF('Line 1 Source'!B207<>\"\",'Line 1 Source'!B207,\"\")","v":"10"},{"$f":"IF('Line 1 Source'!C207<>\"\",'Line 1 Source'!C207,\"\")","v":"4"},{"$f":"IF('Line 1 Source'!D207<>\"\",'Line 1 Source'!D207,\"\")","v":"1010"},{"$f":"IF('Line 1 Source'!E207<>\"\",'Line 1 Source'!E207,\"\")","v":"6301"},{"$f":"IF('Line 1 Source'!F207<>\"\",'Line 1 Source'!F207,\"\")","v":5473063}]
[{"$f":"IF('Line 1 Source'!A208<>\"\",'Line 1 Source'!A208,\"\")","v":"2018"},"1041010",{"$f":"CONCATENATE(VLOOKUP(B208,'School List'!$B$3:$H$291,6,FALSE),H208)","v":"10106302"},{"$f":"CONCATENATE(VLOOKUP(B208,'School List'!$B$3:$D$291,3,FALSE),H208)","v":"Clark County - GREATER CLARK COUNTY SCHOOL CORPORATION6302"},{"$f":"IF('Line 1 Source'!B208<>\"\",'Line 1 Source'!B208,\"\")","v":"10"},{"$f":"IF('Line 1 Source'!C208<>\"\",'Line 1 Source'!C208,\"\")","v":"4"},{"$f":"IF('Line 1 Source'!D208<>\"\",'Line 1 Source'!D208,\"\")","v":"1010"},{"$f":"IF('Line 1 Source'!E208<>\"\",'Line 1 Source'!E208,\"\")","v":"6302"},{"$f":"IF('Line 1 Source'!F208<>\"\",'Line 1 Source'!F208,\"\")","v":927650}]
[{"$f":"IF('Line 1 Source'!A209<>\"\",'Line 1 Source'!A209,\"\")","v":"2018"},"1141125",{"$f":"CONCATENATE(VLOOKUP(B209,'School List'!$B$3:$H$291,6,FALSE),H209)","v":"11250101"},{"$f":"CONCATENATE(VLOOKUP(B209,'School List'!$B$3:$D$291,3,FALSE),H209)","v":"Clay County - CLAY COMMUNITY SCHOOL CORPORATION0101"},{"$f":"IF('Line 1 Source'!B209<>\"\",'Line 1 Source'!B209,\"\")","v":"11"},{"$f":"IF('Line 1 Source'!C209<>\"\",'Line 1 Source'!C209,\"\")","v":"4"},{"$f":"IF('Line 1 Source'!D209<>\"\",'Line 1 Source'!D209,\"\")","v":"1125"},{"$f":"IF('Line 1 Source'!E209<>\"\",'Line 1 Source'!E209,\"\")","v":"0101"},{"$f":"IF('Line 1 Source'!F209<>\"\",'Line 1 Source'!F209,\"\")","v":31276660}]
[{"$f":"IF('Line 1 Source'!A210<>\"\",'Line 1 Source'!A210,\"\")","v":"2018"},"1141125",{"$f":"CONCATENATE(VLOOKUP(B210,'School List'!$B$3:$H$291,6,FALSE),H210)","v":"11250180"},{"$f":"CONCATENATE(VLOOKUP(B210,'School List'!$B$3:$D$291,3,FALSE),H210)","v":"Clay County - CLAY COMMUNITY SCHOOL CORPORATION0180"},{"$f":"IF('Line 1 Source'!B210<>\"\",'Line 1 Source'!B210,\"\")","v":"11"},{"$f":"IF('Line 1 Source'!C210<>\"\",'Line 1 Source'!C210,\"\")","v":"4"},{"$f":"IF('Line 1 Source'!D210<>\"\",'Line 1 Source'!D210,\"\")","v":"1125"},{"$f":"IF('Line 1 Source'!E210<>\"\",'Line 1 Source'!E210,\"\")","v":"0180"},{"$f":"IF('Line 1 Source'!F210<>\"\",'Line 1 Source'!F210,\"\")","v":4965227}]
[{"$f":"IF('Line 1 Source'!A211<>\"\",'Line 1 Source'!A211,\"\")","v":"2018"},"1141125",{"$f":"CONCATENATE(VLOOKUP(B211,'School List'!$B$3:$H$291,6,FALSE),H211)","v":"11251214"},{"$f":"CONCATENATE(VLOOKUP(B211,'School List'!$B$3:$D$291,3,FALSE),H211)","v":"Clay County - CLAY COMMUNITY SCHOOL CORPORATION1214"},{"$f":"IF('Line 1 Source'!B211<>\"\",'Line 1 Source'!B211,\"\")","v":"11"},{"$f":"IF('Line 1 Source'!C211<>\"\",'Line 1 Source'!C211,\"\")","v":"4"},{"$f":"IF('Line 1 Source'!D211<>\"\",'Line 1 Source'!D211,\"\")","v":"1125"},{"$f":"IF('Line 1 Source'!E211<>\"\",'Line 1 Source'!E211,\"\")","v":"1214"},{"$f":"IF('Line 1 Source'!F211<>\"\",'Line 1 Source'!F211,\"\")","v":5599331}]
[{"$f":"IF('Line 1 Source'!A212<>\"\",'Line 1 Source'!A212,\"\")","v":"2018"},"1141125",{"$f":"CONCATENATE(VLOOKUP(B212,'School List'!$B$3:$H$291,6,FALSE),H212)","v":"11256301"},{"$f":"CONCATENATE(VLOOKUP(B212,'School List'!$B$3:$D$291,3,FALSE),H212)","v":"Clay County - CLAY COMMUNITY SCHOOL CORPORATION6301"},{"$f":"IF('Line 1 Source'!B212<>\"\",'Line 1 Source'!B212,\"\")","v":"11"},{"$f":"IF('Line 1 Source'!C212<>\"\",'Line 1 Source'!C212,\"\")","v":"4"},{"$f":"IF('Line 1 Source'!D212<>\"\",'Line 1 Source'!D212,\"\")","v":"1125"},{"$f":"IF('Line 1 Source'!E212<>\"\",'Line 1 Source'!E212,\"\")","v":"6301"},{"$f":"IF('Line 1 Source'!F212<>\"\",'Line 1 Source'!F212,\"\")","v":4187113}]
[{"$f":"IF('Line 1 Source'!A213<>\"\",'Line 1 Source'!A213,\"\")","v":"2018"},"1141125",{"$f":"CONCATENATE(VLOOKUP(B213,'School List'!$B$3:$H$291,6,FALSE),H213)","v":"11256302"},{"$f":"CONCATENATE(VLOOKUP(B213,'School List'!$B$3:$D$291,3,FALSE),H213)","v":"Clay County - CLAY COMMUNITY SCHOOL CORPORATION6302"},{"$f":"IF('Line 1 Source'!B213<>\"\",'Line 1 Source'!B213,\"\")","v":"11"},{"$f":"IF('Line 1 Source'!C213<>\"\",'Line 1 Source'!C213,\"\")","v":"4"},{"$f":"IF('Line 1 Source'!D213<>\"\",'Line 1 Source'!D213,\"\")","v":"1125"},{"$f":"IF('Line 1 Source'!E213<>\"\",'Line 1 Source'!E213,\"\")","v":"6302"},{"$f":"IF('Line 1 Source'!F213<>\"\",'Line 1 Source'!F213,\"\")","v":553497}]
[{"$f":"IF('Line 1 Source'!A214<>\"\",'Line 1 Source'!A214,\"\")","v":"2018"},"1142960",{"$f":"CONCATENATE(VLOOKUP(B214,'School List'!$B$3:$H$291,6,FALSE),H214)","v":"29600101"},{"$f":"CONCATENATE(VLOOKUP(B214,'School List'!$B$3:$D$291,3,FALSE),H214)","v":"Clay County - M.S.D. SHAKAMAK SCHOOL CORPORATION0101"},{"$f":"IF('Line 1 Source'!B214<>\"\",'Line 1 Source'!B214,\"\")","v":"11"},{"$f":"IF('Line 1 Source'!C214<>\"\",'Line 1 Source'!C214,\"\")","v":"4"},{"$f":"IF('Line 1 Source'!D214<>\"\",'Line 1 Source'!D214,\"\")","v":"2960"},{"$f":"IF('Line 1 Source'!E214<>\"\",'Line 1 Source'!E214,\"\")","v":"0101"},{"$f":"IF('Line 1 Source'!F214<>\"\",'Line 1 Source'!F214,\"\")","v":5533836}]
[{"$f":"IF('Line 1 Source'!A215<>\"\",'Line 1 Source'!A215,\"\")","v":"2018"},"1142960",{"$f":"CONCATENATE(VLOOKUP(B215,'School List'!$B$3:$H$291,6,FALSE),H215)","v":"29600180"},{"$f":"CONCATENATE(VLOOKUP(B215,'School List'!$B$3:$D$291,3,FALSE),H215)","v":"Clay County - M.S.D. SHAKAMAK SCHOOL CORPORATION0180"},{"$f":"IF('Line 1 Source'!B215<>\"\",'Line 1 Source'!B215,\"\")","v":"11"},{"$f":"IF('Line 1 Source'!C215<>\"\",'Line 1 Source'!C215,\"\")","v":"4"},{"$f":"IF('Line 1 Source'!D215<>\"\",'Line 1 Source'!D215,\"\")","v":"2960"},{"$f":"IF('Line 1 Source'!E215<>\"\",'Line 1 Source'!E215,\"\")","v":"0180"},{"$f":"IF('Line 1 Source'!F215<>\"\",'Line 1 Source'!F215,\"\")","v":621843}]
[{"$f":"IF('Line 1 Source'!A216<>\"\",'Line 1 Source'!A216,\"\")","v":"2018"},"1142960",{"$f":"CONCATENATE(VLOOKUP(B216,'School List'!$B$3:$H$291,6,FALSE),H216)","v":"29600186"},{"$f":"CONCATENATE(VLOOKUP(B216,'School List'!$B$3:$D$291,3,FALSE),H216)","v":"Clay County - M.S.D. SHAKAMAK SCHOOL CORPORATION0186"},{"$f":"IF('Line 1 Source'!B216<>\"\",'Line 1 Source'!B216,\"\")","v":"11"},{"$f":"IF('Line 1 Source'!C216<>\"\",'Line 1 Source'!C216,\"\")","v":"4"},{"$f":"IF('Line 1 Source'!D216<>\"\",'Line 1 Source'!D216,\"\")","v":"2960"},{"$f":"IF('Line 1 Source'!E216<>\"\",'Line 1 Source'!E216,\"\")","v":"0186"},{"$f":"IF('Line 1 Source'!F216<>\"\",'Line 1 Source'!F216,\"\")","v":170399}]
[{"$f":"IF('Line 1 Source'!A217<>\"\",'Line 1 Source'!A217,\"\")","v":"2018"},"1142960",{"$f":"CONCATENATE(VLOOKUP(B217,'School List'!$B$3:$H$291,6,FALSE),H217)","v":"29601214"},{"$f":"CONCATENATE(VLOOKUP(B217,'School List'!$B$3:$D$291,3,FALSE),H217)","v":"Clay County - M.S.D. SHAKAMAK SCHOOL CORPORATION1214"},{"$f":"IF('Line 1 Source'!B217<>\"\",'Line 1 Source'!B217,\"\")","v":"11"},{"$f":"IF('Line 1 Source'!C217<>\"\",'Line 1 Source'!C217,\"\")","v":"4"},{"$f":"IF('Line 1 Source'!D217<>\"\",'Line 1 Source'!D217,\"\")","v":"2960"},{"$f":"IF('Line 1 Source'!E217<>\"\",'Line 1 Source'!E217,\"\")","v":"1214"},{"$f":"IF('Line 1 Source'!F217<>\"\",'Line 1 Source'!F217,\"\")","v":530000}]
[{"$f":"IF('Line 1 Source'!A218<>\"\",'Line 1 Source'!A218,\"\")","v":"2018"},"1142960",{"$f":"CONCATENATE(VLOOKUP(B218,'School List'!$B$3:$H$291,6,FALSE),H218)","v":"29606301"},{"$f":"CONCATENATE(VLOOKUP(B218,'School List'!$B$3:$D$291,3,FALSE),H218)","v":"Clay County - M.S.D. SHAKAMAK SCHOOL CORPORATION6301"},{"$f":"IF('Line 1 Source'!B218<>\"\",'Line 1 Source'!B218,\"\")","v":"11"},{"$f":"IF('Line 1 Source'!C218<>\"\",'Line 1 Source'!C218,\"\")","v":"4"},{"$f":"IF('Line 1 Source'!D218<>\"\",'Line 1 Source'!D218,\"\")","v":"2960"},{"$f":"IF('Line 1 Source'!E218<>\"\",'Line 1 Source'!E218,\"\")","v":"6301"},{"$f":"IF('Line 1 Source'!F218<>\"\",'Line 1 Source'!F218,\"\")","v":350000}]
[{"$f":"IF('Line 1 Source'!A219<>\"\",'Line 1 Source'!A219,\"\")","v":"2018"},"1142960",{"$f":"CONCATENATE(VLOOKUP(B219,'School List'!$B$3:$H$291,6,FALSE),H219)","v":"29606302"},{"$f":"CONCATENATE(VLOOKUP(B219,'School List'!$B$3:$D$291,3,FALSE),H219)","v":"Clay County - M.S.D. SHAKAMAK SCHOOL CORPORATION6302"},{"$f":"IF('Line 1 Source'!B219<>\"\",'Line 1 Source'!B219,\"\")","v":"11"},{"$f":"IF('Line 1 Source'!C219<>\"\",'Line 1 Source'!C219,\"\")","v":"4"},{"$f":"IF('Line 1 Source'!D219<>\"\",'Line 1 Source'!D219,\"\")","v":"2960"},{"$f":"IF('Line 1 Source'!E219<>\"\",'Line 1 Source'!E219,\"\")","v":"6302"},{"$f":"IF('Line 1 Source'!F219<>\"\",'Line 1 Source'!F219,\"\")","v":98663}]
[{"$f":"IF('Line 1 Source'!A220<>\"\",'Line 1 Source'!A220,\"\")","v":"2018"},"1241150",{"$f":"CONCATENATE(VLOOKUP(B220,'School List'!$B$3:$H$291,6,FALSE),H220)","v":"11500022"},{"$f":"CONCATENATE(VLOOKUP(B220,'School List'!$B$3:$D$291,3,FALSE),H220)","v":"Clinton County - CLINTON CENTRAL SCHOOL CORPORATION0022"},{"$f":"IF('Line 1 Source'!B220<>\"\",'Line 1 Source'!B220,\"\")","v":"12"},{"$f":"IF('Line 1 Source'!C220<>\"\",'Line 1 Source'!C220,\"\")","v":"4"},{"$f":"IF('Line 1 Source'!D220<>\"\",'Line 1 Source'!D220,\"\")","v":"1150"},{"$f":"IF('Line 1 Source'!E220<>\"\",'Line 1 Source'!E220,\"\")","v":"0022"},{"$f":"IF('Line 1 Source'!F220<>\"\",'Line 1 Source'!F220,\"\")","v":675000}]
[{"$f":"IF('Line 1 Source'!A221<>\"\",'Line 1 Source'!A221,\"\")","v":"2018"},"1241150",{"$f":"CONCATENATE(VLOOKUP(B221,'School List'!$B$3:$H$291,6,FALSE),H221)","v":"11500061"},{"$f":"CONCATENATE(VLOOKUP(B221,'School List'!$B$3:$D$291,3,FALSE),H221)","v":"Clinton County - CLINTON CENTRAL SCHOOL CORPORATION0061"},{"$f":"IF('Line 1 Source'!B221<>\"\",'Line 1 Source'!B221,\"\")","v":"12"},{"$f":"IF('Line 1 Source'!C221<>\"\",'Line 1 Source'!C221,\"\")","v":"4"},{"$f":"IF('Line 1 Source'!D221<>\"\",'Line 1 Source'!D221,\"\")","v":"1150"},{"$f":"IF('Line 1 Source'!E221<>\"\",'Line 1 Source'!E221,\"\")","v":"0061"},{"$f":"IF('Line 1 Source'!F221<>\"\",'Line 1 Source'!F221,\"\")","v":449576}]
[{"$f":"IF('Line 1 Source'!A222<>\"\",'Line 1 Source'!A222,\"\")","v":"2018"},"1241150",{"$f":"CONCATENATE(VLOOKUP(B222,'School List'!$B$3:$H$291,6,FALSE),H222)","v":"11500101"},{"$f":"CONCATENATE(VLOOKUP(B222,'School List'!$B$3:$D$291,3,FALSE),H222)","v":"Clinton County - CLINTON CENTRAL SCHOOL CORPORATION0101"},{"$f":"IF('Line 1 Source'!B222<>\"\",'Line 1 Source'!B222,\"\")","v":"12"},{"$f":"IF('Line 1 Source'!C222<>\"\",'Line 1 Source'!C222,\"\")","v":"4"},{"$f":"IF('Line 1 Source'!D222<>\"\",'Line 1 Source'!D222,\"\")","v":"1150"},{"$f":"IF('Line 1 Source'!E222<>\"\",'Line 1 Source'!E222,\"\")","v":"0101"},{"$f":"IF('Line 1 Source'!F222<>\"\",'Line 1 Source'!F222,\"\")","v":6515799}]
[{"$f":"IF('Line 1 Source'!A223<>\"\",'Line 1 Source'!A223,\"\")","v":"2018"},"1241150",{"$f":"CONCATENATE(VLOOKUP(B223,'School List'!$B$3:$H$291,6,FALSE),H223)","v":"11500180"},{"$f":"CONCATENATE(VLOOKUP(B223,'School List'!$B$3:$D$291,3,FALSE),H223)","v":"Clinton County - CLINTON CENTRAL SCHOOL CORPORATION0180"},{"$f":"IF('Line 1 Source'!B223<>\"\",'Line 1 Source'!B223,\"\")","v":"12"},{"$f":"IF('Line 1 Source'!C223<>\"\",'Line 1 Source'!C223,\"\")","v":"4"},{"$f":"IF('Line 1 Source'!D223<>\"\",'Line 1 Source'!D223,\"\")","v":"1150"},{"$f":"IF('Line 1 Source'!E223<>\"\",'Line 1 Source'!E223,\"\")","v":"0180"},{"$f":"IF('Line 1 Source'!F223<>\"\",'Line 1 Source'!F223,\"\")","v":1519270}]
[{"$f":"IF('Line 1 Source'!A224<>\"\",'Line 1 Source'!A224,\"\")","v":"2018"},"1241150",{"$f":"CONCATENATE(VLOOKUP(B224,'School List'!$B$3:$H$291,6,FALSE),H224)","v":"11500186"},{"$f":"CONCATENATE(VLOOKUP(B224,'School List'!$B$3:$D$291,3,FALSE),H224)","v":"Clinton County - CLINTON CENTRAL SCHOOL CORPORATION0186"},{"$f":"IF('Line 1 Source'!B224<>\"\",'Line 1 Source'!B224,\"\")","v":"12"},{"$f":"IF('Line 1 Source'!C224<>\"\",'Line 1 Source'!C224,\"\")","v":"4"},{"$f":"IF('Line 1 Source'!D224<>\"\",'Line 1 Source'!D224,\"\")","v":"1150"},{"$f":"IF('Line 1 Source'!E224<>\"\",'Line 1 Source'!E224,\"\")","v":"0186"},{"$f":"IF('Line 1 Source'!F224<>\"\",'Line 1 Source'!F224,\"\")","v":98026}]
[{"$f":"IF('Line 1 Source'!A225<>\"\",'Line 1 Source'!A225,\"\")","v":"2018"},"1241150",{"$f":"CONCATENATE(VLOOKUP(B225,'School List'!$B$3:$H$291,6,FALSE),H225)","v":"11501214"},{"$f":"CONCATENATE(VLOOKUP(B225,'School List'!$B$3:$D$291,3,FALSE),H225)","v":"Clinton County - CLINTON CENTRAL SCHOOL CORPORATION1214"},{"$f":"IF('Line 1 Source'!B225<>\"\",'Line 1 Source'!B225,\"\")","v":"12"},{"$f":"IF('Line 1 Source'!C225<>\"\",'Line 1 Source'!C225,\"\")","v":"4"},{"$f":"IF('Line 1 Source'!D225<>\"\",'Line 1 Source'!D225,\"\")","v":"1150"},{"$f":"IF('Line 1 Source'!E225<>\"\",'Line 1 Source'!E225,\"\")","v":"1214"},{"$f":"IF('Line 1 Source'!F225<>\"\",'Line 1 Source'!F225,\"\")","v":828382}]
[{"$f":"IF('Line 1 Source'!A226<>\"\",'Line 1 Source'!A226,\"\")","v":"2018"},"1241150",{"$f":"CONCATENATE(VLOOKUP(B226,'School List'!$B$3:$H$291,6,FALSE),H226)","v":"11506301"},{"$f":"CONCATENATE(VLOOKUP(B226,'School List'!$B$3:$D$291,3,FALSE),H226)","v":"Clinton County - CLINTON CENTRAL SCHOOL CORPORATION6301"},{"$f":"IF('Line 1 Source'!B226<>\"\",'Line 1 Source'!B226,\"\")","v":"12"},{"$f":"IF('Line 1 Source'!C226<>\"\",'Line 1 Source'!C226,\"\")","v":"4"},{"$f":"IF('Line 1 Source'!D226<>\"\",'Line 1 Source'!D226,\"\")","v":"1150"},{"$f":"IF('Line 1 Source'!E226<>\"\",'Line 1 Source'!E226,\"\")","v":"6301"},{"$f":"IF('Line 1 Source'!F226<>\"\",'Line 1 Source'!F226,\"\")","v":608166}]
[{"$f":"IF('Line 1 Source'!A227<>\"\",'Line 1 Source'!A227,\"\")","v":"2018"},"1241150",{"$f":"CONCATENATE(VLOOKUP(B227,'School List'!$B$3:$H$291,6,FALSE),H227)","v":"11506302"},{"$f":"CONCATENATE(VLOOKUP(B227,'School List'!$B$3:$D$291,3,FALSE),H227)","v":"Clinton County - CLINTON CENTRAL SCHOOL CORPORATION6302"},{"$f":"IF('Line 1 Source'!B227<>\"\",'Line 1 Source'!B227,\"\")","v":"12"},{"$f":"IF('Line 1 Source'!C227<>\"\",'Line 1 Source'!C227,\"\")","v":"4"},{"$f":"IF('Line 1 Source'!D227<>\"\",'Line 1 Source'!D227,\"\")","v":"1150"},{"$f":"IF('Line 1 Source'!E227<>\"\",'Line 1 Source'!E227,\"\")","v":"6302"},{"$f":"IF('Line 1 Source'!F227<>\"\",'Line 1 Source'!F227,\"\")","v":258782}]
[{"$f":"IF('Line 1 Source'!A228<>\"\",'Line 1 Source'!A228,\"\")","v":"2018"},"1241160",{"$f":"CONCATENATE(VLOOKUP(B228,'School List'!$B$3:$H$291,6,FALSE),H228)","v":"11600061"},{"$f":"CONCATENATE(VLOOKUP(B228,'School List'!$B$3:$D$291,3,FALSE),H228)","v":"Clinton County - CLINTON PRAIRIE SCHOOL CORPORATION0061"},{"$f":"IF('Line 1 Source'!B228<>\"\",'Line 1 Source'!B228,\"\")","v":"12"},{"$f":"IF('Line 1 Source'!C228<>\"\",'Line 1 Source'!C228,\"\")","v":"4"},{"$f":"IF('Line 1 Source'!D228<>\"\",'Line 1 Source'!D228,\"\")","v":"1160"},{"$f":"IF('Line 1 Source'!E228<>\"\",'Line 1 Source'!E228,\"\")","v":"0061"},{"$f":"IF('Line 1 Source'!F228<>\"\",'Line 1 Source'!F228,\"\")","v":500000}]
[{"$f":"IF('Line 1 Source'!A229<>\"\",'Line 1 Source'!A229,\"\")","v":"2018"},"1241160",{"$f":"CONCATENATE(VLOOKUP(B229,'School List'!$B$3:$H$291,6,FALSE),H229)","v":"11600101"},{"$f":"CONCATENATE(VLOOKUP(B229,'School List'!$B$3:$D$291,3,FALSE),H229)","v":"Clinton County - CLINTON PRAIRIE SCHOOL CORPORATION0101"},{"$f":"IF('Line 1 Source'!B229<>\"\",'Line 1 Source'!B229,\"\")","v":"12"},{"$f":"IF('Line 1 Source'!C229<>\"\",'Line 1 Source'!C229,\"\")","v":"4"},{"$f":"IF('Line 1 Source'!D229<>\"\",'Line 1 Source'!D229,\"\")","v":"1160"},{"$f":"IF('Line 1 Source'!E229<>\"\",'Line 1 Source'!E229,\"\")","v":"0101"},{"$f":"IF('Line 1 Source'!F229<>\"\",'Line 1 Source'!F229,\"\")","v":7624000}]
[{"$f":"IF('Line 1 Source'!A230<>\"\",'Line 1 Source'!A230,\"\")","v":"2018"},"1241160",{"$f":"CONCATENATE(VLOOKUP(B230,'School List'!$B$3:$H$291,6,FALSE),H230)","v":"11600180"},{"$f":"CONCATENATE(VLOOKUP(B230,'School List'!$B$3:$D$291,3,FALSE),H230)","v":"Clinton County - CLINTON PRAIRIE SCHOOL CORPORATION0180"},{"$f":"IF('Line 1 Source'!B230<>\"\",'Line 1 Source'!B230,\"\")","v":"12"},{"$f":"IF('Line 1 Source'!C230<>\"\",'Line 1 Source'!C230,\"\")","v":"4"},{"$f":"IF('Line 1 Source'!D230<>\"\",'Line 1 Source'!D230,\"\")","v":"1160"},{"$f":"IF('Line 1 Source'!E230<>\"\",'Line 1 Source'!E230,\"\")","v":"0180"},{"$f":"IF('Line 1 Source'!F230<>\"\",'Line 1 Source'!F230,\"\")","v":1547077}]
[{"$f":"IF('Line 1 Source'!A231<>\"\",'Line 1 Source'!A231,\"\")","v":"2018"},"1241160",{"$f":"CONCATENATE(VLOOKUP(B231,'School List'!$B$3:$H$291,6,FALSE),H231)","v":"11600186"},{"$f":"CONCATENATE(VLOOKUP(B231,'School List'!$B$3:$D$291,3,FALSE),H231)","v":"Clinton County - CLINTON PRAIRIE SCHOOL CORPORATION0186"},{"$f":"IF('Line 1 Source'!B231<>\"\",'Line 1 Source'!B231,\"\")","v":"12"},{"$f":"IF('Line 1 Source'!C231<>\"\",'Line 1 Source'!C231,\"\")","v":"4"},{"$f":"IF('Line 1 Source'!D231<>\"\",'Line 1 Source'!D231,\"\")","v":"1160"},{"$f":"IF('Line 1 Source'!E231<>\"\",'Line 1 Source'!E231,\"\")","v":"0186"},{"$f":"IF('Line 1 Source'!F231<>\"\",'Line 1 Source'!F231,\"\")","v":326813}]
[{"$f":"IF('Line 1 Source'!A232<>\"\",'Line 1 Source'!A232,\"\")","v":"2018"},"1241160",{"$f":"CONCATENATE(VLOOKUP(B232,'School List'!$B$3:$H$291,6,FALSE),H232)","v":"11601214"},{"$f":"CONCATENATE(VLOOKUP(B232,'School List'!$B$3:$D$291,3,FALSE),H232)","v":"Clinton County - CLINTON PRAIRIE SCHOOL CORPORATION1214"},{"$f":"IF('Line 1 Source'!B232<>\"\",'Line 1 Source'!B232,\"\")","v":"12"},{"$f":"IF('Line 1 Source'!C232<>\"\",'Line 1 Source'!C232,\"\")","v":"4"},{"$f":"IF('Line 1 Source'!D232<>\"\",'Line 1 Source'!D232,\"\")","v":"1160"},{"$f":"IF('Line 1 Source'!E232<>\"\",'Line 1 Source'!E232,\"\")","v":"1214"},{"$f":"IF('Line 1 Source'!F232<>\"\",'Line 1 Source'!F232,\"\")","v":1058446}]
[{"$f":"IF('Line 1 Source'!A233<>\"\",'Line 1 Source'!A233,\"\")","v":"2018"},"1241160",{"$f":"CONCATENATE(VLOOKUP(B233,'School List'!$B$3:$H$291,6,FALSE),H233)","v":"11606301"},{"$f":"CONCATENATE(VLOOKUP(B233,'School List'!$B$3:$D$291,3,FALSE),H233)","v":"Clinton County - CLINTON PRAIRIE SCHOOL CORPORATION6301"},{"$f":"IF('Line 1 Source'!B233<>\"\",'Line 1 Source'!B233,\"\")","v":"12"},{"$f":"IF('Line 1 Source'!C233<>\"\",'Line 1 Source'!C233,\"\")","v":"4"},{"$f":"IF('Line 1 Source'!D233<>\"\",'Line 1 Source'!D233,\"\")","v":"1160"},{"$f":"IF('Line 1 Source'!E233<>\"\",'Line 1 Source'!E233,\"\")","v":"6301"},{"$f":"IF('Line 1 Source'!F233<>\"\",'Line 1 Source'!F233,\"\")","v":845188}]
[{"$f":"IF('Line 1 Source'!A234<>\"\",'Line 1 Source'!A234,\"\")","v":"2018"},"1241160",{"$f":"CONCATENATE(VLOOKUP(B234,'School List'!$B$3:$H$291,6,FALSE),H234)","v":"11606302"},{"$f":"CONCATENATE(VLOOKUP(B234,'School List'!$B$3:$D$291,3,FALSE),H234)","v":"Clinton County - CLINTON PRAIRIE SCHOOL CORPORATION6302"},{"$f":"IF('Line 1 Source'!B234<>\"\",'Line 1 Source'!B234,\"\")","v":"12"},{"$f":"IF('Line 1 Source'!C234<>\"\",'Line 1 Source'!C234,\"\")","v":"4"},{"$f":"IF('Line 1 Source'!D234<>\"\",'Line 1 Source'!D234,\"\")","v":"1160"},{"$f":"IF('Line 1 Source'!E234<>\"\",'Line 1 Source'!E234,\"\")","v":"6302"},{"$f":"IF('Line 1 Source'!F234<>\"\",'Line 1 Source'!F234,\"\")","v":163000}]
[{"$f":"IF('Line 1 Source'!A235<>\"\",'Line 1 Source'!A235,\"\")","v":"2018"},"1241170",{"$f":"CONCATENATE(VLOOKUP(B235,'School List'!$B$3:$H$291,6,FALSE),H235)","v":"11700061"},{"$f":"CONCATENATE(VLOOKUP(B235,'School List'!$B$3:$D$291,3,FALSE),H235)","v":"Clinton County - FRANKFORT COMMUNITY SCHOOL CORPORATION0061"},{"$f":"IF('Line 1 Source'!B235<>\"\",'Line 1 Source'!B235,\"\")","v":"12"},{"$f":"IF('Line 1 Source'!C235<>\"\",'Line 1 Source'!C235,\"\")","v":"4"},{"$f":"IF('Line 1 Source'!D235<>\"\",'Line 1 Source'!D235,\"\")","v":"1170"},{"$f":"IF('Line 1 Source'!E235<>\"\",'Line 1 Source'!E235,\"\")","v":"0061"},{"$f":"IF('Line 1 Source'!F235<>\"\",'Line 1 Source'!F235,\"\")","v":125000}]
[{"$f":"IF('Line 1 Source'!A236<>\"\",'Line 1 Source'!A236,\"\")","v":"2018"},"1241170",{"$f":"CONCATENATE(VLOOKUP(B236,'School List'!$B$3:$H$291,6,FALSE),H236)","v":"11700101"},{"$f":"CONCATENATE(VLOOKUP(B236,'School List'!$B$3:$D$291,3,FALSE),H236)","v":"Clinton County - FRANKFORT COMMUNITY SCHOOL CORPORATION0101"},{"$f":"IF('Line 1 Source'!B236<>\"\",'Line 1 Source'!B236,\"\")","v":"12"},{"$f":"IF('Line 1 Source'!C236<>\"\",'Line 1 Source'!C236,\"\")","v":"4"},{"$f":"IF('Line 1 Source'!D236<>\"\",'Line 1 Source'!D236,\"\")","v":"1170"},{"$f":"IF('Line 1 Source'!E236<>\"\",'Line 1 Source'!E236,\"\")","v":"0101"},{"$f":"IF('Line 1 Source'!F236<>\"\",'Line 1 Source'!F236,\"\")","v":22320893}]
[{"$f":"IF('Line 1 Source'!A237<>\"\",'Line 1 Source'!A237,\"\")","v":"2018"},"1241170",{"$f":"CONCATENATE(VLOOKUP(B237,'School List'!$B$3:$H$291,6,FALSE),H237)","v":"11700180"},{"$f":"CONCATENATE(VLOOKUP(B237,'School List'!$B$3:$D$291,3,FALSE),H237)","v":"Clinton County - FRANKFORT COMMUNITY SCHOOL CORPORATION0180"},{"$f":"IF('Line 1 Source'!B237<>\"\",'Line 1 Source'!B237,\"\")","v":"12"},{"$f":"IF('Line 1 Source'!C237<>\"\",'Line 1 Source'!C237,\"\")","v":"4"},{"$f":"IF('Line 1 Source'!D237<>\"\",'Line 1 Source'!D237,\"\")","v":"1170"},{"$f":"IF('Line 1 Source'!E237<>\"\",'Line 1 Source'!E237,\"\")","v":"0180"},{"$f":"IF('Line 1 Source'!F237<>\"\",'Line 1 Source'!F237,\"\")","v":3566341}]
[{"$f":"IF('Line 1 Source'!A238<>\"\",'Line 1 Source'!A238,\"\")","v":"2018"},"1241170",{"$f":"CONCATENATE(VLOOKUP(B238,'School List'!$B$3:$H$291,6,FALSE),H238)","v":"11700186"},{"$f":"CONCATENATE(VLOOKUP(B238,'School List'!$B$3:$D$291,3,FALSE),H238)","v":"Clinton County - FRANKFORT COMMUNITY SCHOOL CORPORATION0186"},{"$f":"IF('Line 1 Source'!B238<>\"\",'Line 1 Source'!B238,\"\")","v":"12"},{"$f":"IF('Line 1 Source'!C238<>\"\",'Line 1 Source'!C238,\"\")","v":"4"},{"$f":"IF('Line 1 Source'!D238<>\"\",'Line 1 Source'!D238,\"\")","v":"1170"},{"$f":"IF('Line 1 Source'!E238<>\"\",'Line 1 Source'!E238,\"\")","v":"0186"},{"$f":"IF('Line 1 Source'!F238<>\"\",'Line 1 Source'!F238,\"\")","v":362541}]
[{"$f":"IF('Line 1 Source'!A239<>\"\",'Line 1 Source'!A239,\"\")","v":"2018"},"1241170",{"$f":"CONCATENATE(VLOOKUP(B239,'School List'!$B$3:$H$291,6,FALSE),H239)","v":"11700287"},{"$f":"CONCATENATE(VLOOKUP(B239,'School List'!$B$3:$D$291,3,FALSE),H239)","v":"Clinton County - FRANKFORT COMMUNITY SCHOOL CORPORATION0287"},{"$f":"IF('Line 1 Source'!B239<>\"\",'Line 1 Source'!B239,\"\")","v":"12"},{"$f":"IF('Line 1 Source'!C239<>\"\",'Line 1 Source'!C239,\"\")","v":"4"},{"$f":"IF('Line 1 Source'!D239<>\"\",'Line 1 Source'!D239,\"\")","v":"1170"},{"$f":"IF('Line 1 Source'!E239<>\"\",'Line 1 Source'!E239,\"\")","v":"0287"},{"$f":"IF('Line 1 Source'!F239<>\"\",'Line 1 Source'!F239,\"\")","v":2174000}]
[{"$f":"IF('Line 1 Source'!A240<>\"\",'Line 1 Source'!A240,\"\")","v":"2018"},"1241170",{"$f":"CONCATENATE(VLOOKUP(B240,'School List'!$B$3:$H$291,6,FALSE),H240)","v":"11701214"},{"$f":"CONCATENATE(VLOOKUP(B240,'School List'!$B$3:$D$291,3,FALSE),H240)","v":"Clinton County - FRANKFORT COMMUNITY SCHOOL CORPORATION1214"},{"$f":"IF('Line 1 Source'!B240<>\"\",'Line 1 Source'!B240,\"\")","v":"12"},{"$f":"IF('Line 1 Source'!C240<>\"\",'Line 1 Source'!C240,\"\")","v":"4"},{"$f":"IF('Line 1 Source'!D240<>\"\",'Line 1 Source'!D240,\"\")","v":"1170"},{"$f":"IF('Line 1 Source'!E240<>\"\",'Line 1 Source'!E240,\"\")","v":"1214"},{"$f":"IF('Line 1 Source'!F240<>\"\",'Line 1 Source'!F240,\"\")","v":1338816}]
[{"$f":"IF('Line 1 Source'!A241<>\"\",'Line 1 Source'!A241,\"\")","v":"2018"},"1241170",{"$f":"CONCATENATE(VLOOKUP(B241,'School List'!$B$3:$H$291,6,FALSE),H241)","v":"11706301"},{"$f":"CONCATENATE(VLOOKUP(B241,'School List'!$B$3:$D$291,3,FALSE),H241)","v":"Clinton County - FRANKFORT COMMUNITY SCHOOL CORPORATION6301"},{"$f":"IF('Line 1 Source'!B241<>\"\",'Line 1 Source'!B241,\"\")","v":"12"},{"$f":"IF('Line 1 Source'!C241<>\"\",'Line 1 Source'!C241,\"\")","v":"4"},{"$f":"IF('Line 1 Source'!D241<>\"\",'Line 1 Source'!D241,\"\")","v":"1170"},{"$f":"IF('Line 1 Source'!E241<>\"\",'Line 1 Source'!E241,\"\")","v":"6301"},{"$f":"IF('Line 1 Source'!F241<>\"\",'Line 1 Source'!F241,\"\")","v":794672}]
[{"$f":"IF('Line 1 Source'!A242<>\"\",'Line 1 Source'!A242,\"\")","v":"2018"},"1241170",{"$f":"CONCATENATE(VLOOKUP(B242,'School List'!$B$3:$H$291,6,FALSE),H242)","v":"11706302"},{"$f":"CONCATENATE(VLOOKUP(B242,'School List'!$B$3:$D$291,3,FALSE),H242)","v":"Clinton County - FRANKFORT COMMUNITY SCHOOL CORPORATION6302"},{"$f":"IF('Line 1 Source'!B242<>\"\",'Line 1 Source'!B242,\"\")","v":"12"},{"$f":"IF('Line 1 Source'!C242<>\"\",'Line 1 Source'!C242,\"\")","v":"4"},{"$f":"IF('Line 1 Source'!D242<>\"\",'Line 1 Source'!D242,\"\")","v":"1170"},{"$f":"IF('Line 1 Source'!E242<>\"\",'Line 1 Source'!E242,\"\")","v":"6302"},{"$f":"IF('Line 1 Source'!F242<>\"\",'Line 1 Source'!F242,\"\")","v":121298}]
[{"$f":"IF('Line 1 Source'!A243<>\"\",'Line 1 Source'!A243,\"\")","v":"2018"},"1241180",{"$f":"CONCATENATE(VLOOKUP(B243,'School List'!$B$3:$H$291,6,FALSE),H243)","v":"11800061"},{"$f":"CONCATENATE(VLOOKUP(B243,'School List'!$B$3:$D$291,3,FALSE),H243)","v":"Clinton County - ROSSVILLE CONSOLIDATED SCHOOL CORP0061"},{"$f":"IF('Line 1 Source'!B243<>\"\",'Line 1 Source'!B243,\"\")","v":"12"},{"$f":"IF('Line 1 Source'!C243<>\"\",'Line 1 Source'!C243,\"\")","v":"4"},{"$f":"IF('Line 1 Source'!D243<>\"\",'Line 1 Source'!D243,\"\")","v":"1180"},{"$f":"IF('Line 1 Source'!E243<>\"\",'Line 1 Source'!E243,\"\")","v":"0061"},{"$f":"IF('Line 1 Source'!F243<>\"\",'Line 1 Source'!F243,\"\")","v":148995}]
[{"$f":"IF('Line 1 Source'!A244<>\"\",'Line 1 Source'!A244,\"\")","v":"2018"},"1241180",{"$f":"CONCATENATE(VLOOKUP(B244,'School List'!$B$3:$H$291,6,FALSE),H244)","v":"11800101"},{"$f":"CONCATENATE(VLOOKUP(B244,'School List'!$B$3:$D$291,3,FALSE),H244)","v":"Clinton County - ROSSVILLE CONSOLIDATED SCHOOL CORP0101"},{"$f":"IF('Line 1 Source'!B244<>\"\",'Line 1 Source'!B244,\"\")","v":"12"},{"$f":"IF('Line 1 Source'!C244<>\"\",'Line 1 Source'!C244,\"\")","v":"4"},{"$f":"IF('Line 1 Source'!D244<>\"\",'Line 1 Source'!D244,\"\")","v":"1180"},{"$f":"IF('Line 1 Source'!E244<>\"\",'Line 1 Source'!E244,\"\")","v":"0101"},{"$f":"IF('Line 1 Source'!F244<>\"\",'Line 1 Source'!F244,\"\")","v":6158030}]
[{"$f":"IF('Line 1 Source'!A245<>\"\",'Line 1 Source'!A245,\"\")","v":"2018"},"1241180",{"$f":"CONCATENATE(VLOOKUP(B245,'School List'!$B$3:$H$291,6,FALSE),H245)","v":"11800180"},{"$f":"CONCATENATE(VLOOKUP(B245,'School List'!$B$3:$D$291,3,FALSE),H245)","v":"Clinton County - ROSSVILLE CONSOLIDATED SCHOOL CORP0180"},{"$f":"IF('Line 1 Source'!B245<>\"\",'Line 1 Source'!B245,\"\")","v":"12"},{"$f":"IF('Line 1 Source'!C245<>\"\",'Line 1 Source'!C245,\"\")","v":"4"},{"$f":"IF('Line 1 Source'!D245<>\"\",'Line 1 Source'!D245,\"\")","v":"1180"},{"$f":"IF('Line 1 Source'!E245<>\"\",'Line 1 Source'!E245,\"\")","v":"0180"},{"$f":"IF('Line 1 Source'!F245<>\"\",'Line 1 Source'!F245,\"\")","v":1243000}]
[{"$f":"IF('Line 1 Source'!A246<>\"\",'Line 1 Source'!A246,\"\")","v":"2018"},"1241180",{"$f":"CONCATENATE(VLOOKUP(B246,'School List'!$B$3:$H$291,6,FALSE),H246)","v":"11801214"},{"$f":"CONCATENATE(VLOOKUP(B246,'School List'!$B$3:$D$291,3,FALSE),H246)","v":"Clinton County - ROSSVILLE CONSOLIDATED SCHOOL CORP1214"},{"$f":"IF('Line 1 Source'!B246<>\"\",'Line 1 Source'!B246,\"\")","v":"12"},{"$f":"IF('Line 1 Source'!C246<>\"\",'Line 1 Source'!C246,\"\")","v":"4"},{"$f":"IF('Line 1 Source'!D246<>\"\",'Line 1 Source'!D246,\"\")","v":"1180"},{"$f":"IF('Line 1 Source'!E246<>\"\",'Line 1 Source'!E246,\"\")","v":"1214"},{"$f":"IF('Line 1 Source'!F246<>\"\",'Line 1 Source'!F246,\"\")","v":748727}]
[{"$f":"IF('Line 1 Source'!A247<>\"\",'Line 1 Source'!A247,\"\")","v":"2018"},"1241180",{"$f":"CONCATENATE(VLOOKUP(B247,'School List'!$B$3:$H$291,6,FALSE),H247)","v":"11806301"},{"$f":"CONCATENATE(VLOOKUP(B247,'School List'!$B$3:$D$291,3,FALSE),H247)","v":"Clinton County - ROSSVILLE CONSOLIDATED SCHOOL CORP6301"},{"$f":"IF('Line 1 Source'!B247<>\"\",'Line 1 Source'!B247,\"\")","v":"12"},{"$f":"IF('Line 1 Source'!C247<>\"\",'Line 1 Source'!C247,\"\")","v":"4"},{"$f":"IF('Line 1 Source'!D247<>\"\",'Line 1 Source'!D247,\"\")","v":"1180"},{"$f":"IF('Line 1 Source'!E247<>\"\",'Line 1 Source'!E247,\"\")","v":"6301"},{"$f":"IF('Line 1 Source'!F247<>\"\",'Line 1 Source'!F247,\"\")","v":480000}]
[{"$f":"IF('Line 1 Source'!A248<>\"\",'Line 1 Source'!A248,\"\")","v":"2018"},"1241180",{"$f":"CONCATENATE(VLOOKUP(B248,'School List'!$B$3:$H$291,6,FALSE),H248)","v":"11806302"},{"$f":"CONCATENATE(VLOOKUP(B248,'School List'!$B$3:$D$291,3,FALSE),H248)","v":"Clinton County - ROSSVILLE CONSOLIDATED SCHOOL CORP6302"},{"$f":"IF('Line 1 Source'!B248<>\"\",'Line 1 Source'!B248,\"\")","v":"12"},{"$f":"IF('Line 1 Source'!C248<>\"\",'Line 1 Source'!C248,\"\")","v":"4"},{"$f":"IF('Line 1 Source'!D248<>\"\",'Line 1 Source'!D248,\"\")","v":"1180"},{"$f":"IF('Line 1 Source'!E248<>\"\",'Line 1 Source'!E248,\"\")","v":"6302"},{"$f":"IF('Line 1 Source'!F248<>\"\",'Line 1 Source'!F248,\"\")","v":166319}]
[{"$f":"IF('Line 1 Source'!A249<>\"\",'Line 1 Source'!A249,\"\")","v":"2018"},"1341300",{"$f":"CONCATENATE(VLOOKUP(B249,'School List'!$B$3:$H$291,6,FALSE),H249)","v":"13000061"},{"$f":"CONCATENATE(VLOOKUP(B249,'School List'!$B$3:$D$291,3,FALSE),H249)","v":"Crawford County - CRAWFORD COUNTY COMMUNITY SCHOOL CORP0061"},{"$f":"IF('Line 1 Source'!B249<>\"\",'Line 1 Source'!B249,\"\")","v":"13"},{"$f":"IF('Line 1 Source'!C249<>\"\",'Line 1 Source'!C249,\"\")","v":"4"},{"$f":"IF('Line 1 Source'!D249<>\"\",'Line 1 Source'!D249,\"\")","v":"1300"},{"$f":"IF('Line 1 Source'!E249<>\"\",'Line 1 Source'!E249,\"\")","v":"0061"},{"$f":"IF('Line 1 Source'!F249<>\"\",'Line 1 Source'!F249,\"\")","v":215000}]
[{"$f":"IF('Line 1 Source'!A250<>\"\",'Line 1 Source'!A250,\"\")","v":"2018"},"1341300",{"$f":"CONCATENATE(VLOOKUP(B250,'School List'!$B$3:$H$291,6,FALSE),H250)","v":"13000101"},{"$f":"CONCATENATE(VLOOKUP(B250,'School List'!$B$3:$D$291,3,FALSE),H250)","v":"Crawford County - CRAWFORD COUNTY COMMUNITY SCHOOL CORP0101"},{"$f":"IF('Line 1 Source'!B250<>\"\",'Line 1 Source'!B250,\"\")","v":"13"},{"$f":"IF('Line 1 Source'!C250<>\"\",'Line 1 Source'!C250,\"\")","v":"4"},{"$f":"IF('Line 1 Source'!D250<>\"\",'Line 1 Source'!D250,\"\")","v":"1300"},{"$f":"IF('Line 1 Source'!E250<>\"\",'Line 1 Source'!E250,\"\")","v":"0101"},{"$f":"IF('Line 1 Source'!F250<>\"\",'Line 1 Source'!F250,\"\")","v":10198722}]
[{"$f":"IF('Line 1 Source'!A251<>\"\",'Line 1 Source'!A251,\"\")","v":"2018"},"1341300",{"$f":"CONCATENATE(VLOOKUP(B251,'School List'!$B$3:$H$291,6,FALSE),H251)","v":"13000180"},{"$f":"CONCATENATE(VLOOKUP(B251,'School List'!$B$3:$D$291,3,FALSE),H251)","v":"Crawford County - CRAWFORD COUNTY COMMUNITY SCHOOL CORP0180"},{"$f":"IF('Line 1 Source'!B251<>\"\",'Line 1 Source'!B251,\"\")","v":"13"},{"$f":"IF('Line 1 Source'!C251<>\"\",'Line 1 Source'!C251,\"\")","v":"4"},{"$f":"IF('Line 1 Source'!D251<>\"\",'Line 1 Source'!D251,\"\")","v":"1300"},{"$f":"IF('Line 1 Source'!E251<>\"\",'Line 1 Source'!E251,\"\")","v":"0180"},{"$f":"IF('Line 1 Source'!F251<>\"\",'Line 1 Source'!F251,\"\")","v":1550885}]
[{"$f":"IF('Line 1 Source'!A252<>\"\",'Line 1 Source'!A252,\"\")","v":"2018"},"1341300",{"$f":"CONCATENATE(VLOOKUP(B252,'School List'!$B$3:$H$291,6,FALSE),H252)","v":"13000186"},{"$f":"CONCATENATE(VLOOKUP(B252,'School List'!$B$3:$D$291,3,FALSE),H252)","v":"Crawford County - CRAWFORD COUNTY COMMUNITY SCHOOL CORP0186"},{"$f":"IF('Line 1 Source'!B252<>\"\",'Line 1 Source'!B252,\"\")","v":"13"},{"$f":"IF('Line 1 Source'!C252<>\"\",'Line 1 Source'!C252,\"\")","v":"4"},{"$f":"IF('Line 1 Source'!D252<>\"\",'Line 1 Source'!D252,\"\")","v":"1300"},{"$f":"IF('Line 1 Source'!E252<>\"\",'Line 1 Source'!E252,\"\")","v":"0186"},{"$f":"IF('Line 1 Source'!F252<>\"\",'Line 1 Source'!F252,\"\")","v":411892}]
[{"$f":"IF('Line 1 Source'!A253<>\"\",'Line 1 Source'!A253,\"\")","v":"2018"},"1341300",{"$f":"CONCATENATE(VLOOKUP(B253,'School List'!$B$3:$H$291,6,FALSE),H253)","v":"13001214"},{"$f":"CONCATENATE(VLOOKUP(B253,'School List'!$B$3:$D$291,3,FALSE),H253)","v":"Crawford County - CRAWFORD COUNTY COMMUNITY SCHOOL CORP1214"},{"$f":"IF('Line 1 Source'!B253<>\"\",'Line 1 Source'!B253,\"\")","v":"13"},{"$f":"IF('Line 1 Source'!C253<>\"\",'Line 1 Source'!C253,\"\")","v":"4"},{"$f":"IF('Line 1 Source'!D253<>\"\",'Line 1 Source'!D253,\"\")","v":"1300"},{"$f":"IF('Line 1 Source'!E253<>\"\",'Line 1 Source'!E253,\"\")","v":"1214"},{"$f":"IF('Line 1 Source'!F253<>\"\",'Line 1 Source'!F253,\"\")","v":1029500}]
[{"$f":"IF('Line 1 Source'!A254<>\"\",'Line 1 Source'!A254,\"\")","v":"2018"},"1341300",{"$f":"CONCATENATE(VLOOKUP(B254,'School List'!$B$3:$H$291,6,FALSE),H254)","v":"13006301"},{"$f":"CONCATENATE(VLOOKUP(B254,'School List'!$B$3:$D$291,3,FALSE),H254)","v":"Crawford County - CRAWFORD COUNTY COMMUNITY SCHOOL CORP6301"},{"$f":"IF('Line 1 Source'!B254<>\"\",'Line 1 Source'!B254,\"\")","v":"13"},{"$f":"IF('Line 1 Source'!C254<>\"\",'Line 1 Source'!C254,\"\")","v":"4"},{"$f":"IF('Line 1 Source'!D254<>\"\",'Line 1 Source'!D254,\"\")","v":"1300"},{"$f":"IF('Line 1 Source'!E254<>\"\",'Line 1 Source'!E254,\"\")","v":"6301"},{"$f":"IF('Line 1 Source'!F254<>\"\",'Line 1 Source'!F254,\"\")","v":1510637}]
[{"$f":"IF('Line 1 Source'!A255<>\"\",'Line 1 Source'!A255,\"\")","v":"2018"},"1341300",{"$f":"CONCATENATE(VLOOKUP(B255,'School List'!$B$3:$H$291,6,FALSE),H255)","v":"13006302"},{"$f":"CONCATENATE(VLOOKUP(B255,'School List'!$B$3:$D$291,3,FALSE),H255)","v":"Crawford County - CRAWFORD COUNTY COMMUNITY SCHOOL CORP6302"},{"$f":"IF('Line 1 Source'!B255<>\"\",'Line 1 Source'!B255,\"\")","v":"13"},{"$f":"IF('Line 1 Source'!C255<>\"\",'Line 1 Source'!C255,\"\")","v":"4"},{"$f":"IF('Line 1 Source'!D255<>\"\",'Line 1 Source'!D255,\"\")","v":"1300"},{"$f":"IF('Line 1 Source'!E255<>\"\",'Line 1 Source'!E255,\"\")","v":"6302"},{"$f":"IF('Line 1 Source'!F255<>\"\",'Line 1 Source'!F255,\"\")","v":2875}]
[{"$f":"IF('Line 1 Source'!A256<>\"\",'Line 1 Source'!A256,\"\")","v":"2018"},"1441315",{"$f":"CONCATENATE(VLOOKUP(B256,'School List'!$B$3:$H$291,6,FALSE),H256)","v":"13150022"},{"$f":"CONCATENATE(VLOOKUP(B256,'School List'!$B$3:$D$291,3,FALSE),H256)","v":"Daviess County - BARR-REEVE COMMUNITY SCHOOL CORPORATION0022"},{"$f":"IF('Line 1 Source'!B256<>\"\",'Line 1 Source'!B256,\"\")","v":"14"},{"$f":"IF('Line 1 Source'!C256<>\"\",'Line 1 Source'!C256,\"\")","v":"4"},{"$f":"IF('Line 1 Source'!D256<>\"\",'Line 1 Source'!D256,\"\")","v":"1315"},{"$f":"IF('Line 1 Source'!E256<>\"\",'Line 1 Source'!E256,\"\")","v":"0022"},{"$f":"IF('Line 1 Source'!F256<>\"\",'Line 1 Source'!F256,\"\")","v":1200000}]
[{"$f":"IF('Line 1 Source'!A257<>\"\",'Line 1 Source'!A257,\"\")","v":"2018"},"1441315",{"$f":"CONCATENATE(VLOOKUP(B257,'School List'!$B$3:$H$291,6,FALSE),H257)","v":"13150061"},{"$f":"CONCATENATE(VLOOKUP(B257,'School List'!$B$3:$D$291,3,FALSE),H257)","v":"Daviess County - BARR-REEVE COMMUNITY SCHOOL CORPORATION0061"},{"$f":"IF('Line 1 Source'!B257<>\"\",'Line 1 Source'!B257,\"\")","v":"14"},{"$f":"IF('Line 1 Source'!C257<>\"\",'Line 1 Source'!C257,\"\")","v":"4"},{"$f":"IF('Line 1 Source'!D257<>\"\",'Line 1 Source'!D257,\"\")","v":"1315"},{"$f":"IF('Line 1 Source'!E257<>\"\",'Line 1 Source'!E257,\"\")","v":"0061"},{"$f":"IF('Line 1 Source'!F257<>\"\",'Line 1 Source'!F257,\"\")","v":250000}]
[{"$f":"IF('Line 1 Source'!A258<>\"\",'Line 1 Source'!A258,\"\")","v":"2018"},"1441315",{"$f":"CONCATENATE(VLOOKUP(B258,'School List'!$B$3:$H$291,6,FALSE),H258)","v":"13150101"},{"$f":"CONCATENATE(VLOOKUP(B258,'School List'!$B$3:$D$291,3,FALSE),H258)","v":"Daviess County - BARR-REEVE COMMUNITY SCHOOL CORPORATION0101"},{"$f":"IF('Line 1 Source'!B258<>\"\",'Line 1 Source'!B258,\"\")","v":"14"},{"$f":"IF('Line 1 Source'!C258<>\"\",'Line 1 Source'!C258,\"\")","v":"4"},{"$f":"IF('Line 1 Source'!D258<>\"\",'Line 1 Source'!D258,\"\")","v":"1315"},{"$f":"IF('Line 1 Source'!E258<>\"\",'Line 1 Source'!E258,\"\")","v":"0101"},{"$f":"IF('Line 1 Source'!F258<>\"\",'Line 1 Source'!F258,\"\")","v":5100000}]
[{"$f":"IF('Line 1 Source'!A259<>\"\",'Line 1 Source'!A259,\"\")","v":"2018"},{"$f":"CONCATENATE(E259,F259,G259)","v":"1441315"},{"$f":"CONCATENATE(VLOOKUP(B259,'School List'!$B$3:$H$291,6,FALSE),H259)","v":"13150180"},{"$f":"CONCATENATE(VLOOKUP(B259,'School List'!$B$3:$D$291,3,FALSE),H259)","v":"Daviess County - BARR-REEVE COMMUNITY SCHOOL CORPORATION0180"},{"$f":"IF('Line 1 Source'!B259<>\"\",'Line 1 Source'!B259,\"\")","v":"14"},{"$f":"IF('Line 1 Source'!C259<>\"\",'Line 1 Source'!C259,\"\")","v":"4"},{"$f":"IF('Line 1 Source'!D259<>\"\",'Line 1 Source'!D259,\"\")","v":"1315"},{"$f":"IF('Line 1 Source'!E259<>\"\",'Line 1 Source'!E259,\"\")","v":"0180"},{"$f":"IF('Line 1 Source'!F259<>\"\",'Line 1 Source'!F259,\"\")","v":589891}]
[{"$f":"IF('Line 1 Source'!A260<>\"\",'Line 1 Source'!A260,\"\")","v":"2018"},"1441315",{"$f":"CONCATENATE(VLOOKUP(B260,'School List'!$B$3:$H$291,6,FALSE),H260)","v":"13150186"},{"$f":"CONCATENATE(VLOOKUP(B260,'School List'!$B$3:$D$291,3,FALSE),H260)","v":"Daviess County - BARR-REEVE COMMUNITY SCHOOL CORPORATION0186"},{"$f":"IF('Line 1 Source'!B260<>\"\",'Line 1 Source'!B260,\"\")","v":"14"},{"$f":"IF('Line 1 Source'!C260<>\"\",'Line 1 Source'!C260,\"\")","v":"4"},{"$f":"IF('Line 1 Source'!D260<>\"\",'Line 1 Source'!D260,\"\")","v":"1315"},{"$f":"IF('Line 1 Source'!E260<>\"\",'Line 1 Source'!E260,\"\")","v":"0186"},{"$f":"IF('Line 1 Source'!F260<>\"\",'Line 1 Source'!F260,\"\")","v":228101}]
[{"$f":"IF('Line 1 Source'!A261<>\"\",'Line 1 Source'!A261,\"\")","v":"2018"},"1441315",{"$f":"CONCATENATE(VLOOKUP(B261,'School List'!$B$3:$H$291,6,FALSE),H261)","v":"13151214"},{"$f":"CONCATENATE(VLOOKUP(B261,'School List'!$B$3:$D$291,3,FALSE),H261)","v":"Daviess County - BARR-REEVE COMMUNITY SCHOOL CORPORATION1214"},{"$f":"IF('Line 1 Source'!B261<>\"\",'Line 1 Source'!B261,\"\")","v":"14"},{"$f":"IF('Line 1 Source'!C261<>\"\",'Line 1 Source'!C261,\"\")","v":"4"},{"$f":"IF('Line 1 Source'!D261<>\"\",'Line 1 Source'!D261,\"\")","v":"1315"},{"$f":"IF('Line 1 Source'!E261<>\"\",'Line 1 Source'!E261,\"\")","v":"1214"},{"$f":"IF('Line 1 Source'!F261<>\"\",'Line 1 Source'!F261,\"\")","v":775502}]
[{"$f":"IF('Line 1 Source'!A262<>\"\",'Line 1 Source'!A262,\"\")","v":"2018"},"1441315",{"$f":"CONCATENATE(VLOOKUP(B262,'School List'!$B$3:$H$291,6,FALSE),H262)","v":"13156301"},{"$f":"CONCATENATE(VLOOKUP(B262,'School List'!$B$3:$D$291,3,FALSE),H262)","v":"Daviess County - BARR-REEVE COMMUNITY SCHOOL CORPORATION6301"},{"$f":"IF('Line 1 Source'!B262<>\"\",'Line 1 Source'!B262,\"\")","v":"14"},{"$f":"IF('Line 1 Source'!C262<>\"\",'Line 1 Source'!C262,\"\")","v":"4"},{"$f":"IF('Line 1 Source'!D262<>\"\",'Line 1 Source'!D262,\"\")","v":"1315"},{"$f":"IF('Line 1 Source'!E262<>\"\",'Line 1 Source'!E262,\"\")","v":"6301"},{"$f":"IF('Line 1 Source'!F262<>\"\",'Line 1 Source'!F262,\"\")","v":532247}]
[{"$f":"IF('Line 1 Source'!A263<>\"\",'Line 1 Source'!A263,\"\")","v":"2018"},"1441315",{"$f":"CONCATENATE(VLOOKUP(B263,'School List'!$B$3:$H$291,6,FALSE),H263)","v":"13156302"},{"$f":"CONCATENATE(VLOOKUP(B263,'School List'!$B$3:$D$291,3,FALSE),H263)","v":"Daviess County - BARR-REEVE COMMUNITY SCHOOL CORPORATION6302"},{"$f":"IF('Line 1 Source'!B263<>\"\",'Line 1 Source'!B263,\"\")","v":"14"},{"$f":"IF('Line 1 Source'!C263<>\"\",'Line 1 Source'!C263,\"\")","v":"4"},{"$f":"IF('Line 1 Source'!D263<>\"\",'Line 1 Source'!D263,\"\")","v":"1315"},{"$f":"IF('Line 1 Source'!E263<>\"\",'Line 1 Source'!E263,\"\")","v":"6302"},{"$f":"IF('Line 1 Source'!F263<>\"\",'Line 1 Source'!F263,\"\")","v":0}]
[{"$f":"IF('Line 1 Source'!A264<>\"\",'Line 1 Source'!A264,\"\")","v":"2018"},"1441375",{"$f":"CONCATENATE(VLOOKUP(B264,'School List'!$B$3:$H$291,6,FALSE),H264)","v":"13750061"},{"$f":"CONCATENATE(VLOOKUP(B264,'School List'!$B$3:$D$291,3,FALSE),H264)","v":"Daviess County - NORTH DAVIESS COUNTY SCHOOL CORPORATION0061"},{"$f":"IF('Line 1 Source'!B264<>\"\",'Line 1 Source'!B264,\"\")","v":"14"},{"$f":"IF('Line 1 Source'!C264<>\"\",'Line 1 Source'!C264,\"\")","v":"4"},{"$f":"IF('Line 1 Source'!D264<>\"\",'Line 1 Source'!D264,\"\")","v":"1375"},{"$f":"IF('Line 1 Source'!E264<>\"\",'Line 1 Source'!E264,\"\")","v":"0061"},{"$f":"IF('Line 1 Source'!F264<>\"\",'Line 1 Source'!F264,\"\")","v":1000000}]
[{"$f":"IF('Line 1 Source'!A265<>\"\",'Line 1 Source'!A265,\"\")","v":"2018"},"1441375",{"$f":"CONCATENATE(VLOOKUP(B265,'School List'!$B$3:$H$291,6,FALSE),H265)","v":"13750101"},{"$f":"CONCATENATE(VLOOKUP(B265,'School List'!$B$3:$D$291,3,FALSE),H265)","v":"Daviess County - NORTH DAVIESS COUNTY SCHOOL CORPORATION0101"},{"$f":"IF('Line 1 Source'!B265<>\"\",'Line 1 Source'!B265,\"\")","v":"14"},{"$f":"IF('Line 1 Source'!C265<>\"\",'Line 1 Source'!C265,\"\")","v":"4"},{"$f":"IF('Line 1 Source'!D265<>\"\",'Line 1 Source'!D265,\"\")","v":"1375"},{"$f":"IF('Line 1 Source'!E265<>\"\",'Line 1 Source'!E265,\"\")","v":"0101"},{"$f":"IF('Line 1 Source'!F265<>\"\",'Line 1 Source'!F265,\"\")","v":7970636}]
[{"$f":"IF('Line 1 Source'!A266<>\"\",'Line 1 Source'!A266,\"\")","v":"2018"},"1441375",{"$f":"CONCATENATE(VLOOKUP(B266,'School List'!$B$3:$H$291,6,FALSE),H266)","v":"13750180"},{"$f":"CONCATENATE(VLOOKUP(B266,'School List'!$B$3:$D$291,3,FALSE),H266)","v":"Daviess County - NORTH DAVIESS COUNTY SCHOOL CORPORATION0180"},{"$f":"IF('Line 1 Source'!B266<>\"\",'Line 1 Source'!B266,\"\")","v":"14"},{"$f":"IF('Line 1 Source'!C266<>\"\",'Line 1 Source'!C266,\"\")","v":"4"},{"$f":"IF('Line 1 Source'!D266<>\"\",'Line 1 Source'!D266,\"\")","v":"1375"},{"$f":"IF('Line 1 Source'!E266<>\"\",'Line 1 Source'!E266,\"\")","v":"0180"},{"$f":"IF('Line 1 Source'!F266<>\"\",'Line 1 Source'!F266,\"\")","v":1232313}]
[{"$f":"IF('Line 1 Source'!A267<>\"\",'Line 1 Source'!A267,\"\")","v":"2018"},"1441375",{"$f":"CONCATENATE(VLOOKUP(B267,'School List'!$B$3:$H$291,6,FALSE),H267)","v":"13751214"},{"$f":"CONCATENATE(VLOOKUP(B267,'School List'!$B$3:$D$291,3,FALSE),H267)","v":"Daviess County - NORTH DAVIESS COUNTY SCHOOL CORPORATION1214"},{"$f":"IF('Line 1 Source'!B267<>\"\",'Line 1 Source'!B267,\"\")","v":"14"},{"$f":"IF('Line 1 Source'!C267<>\"\",'Line 1 Source'!C267,\"\")","v":"4"},{"$f":"IF('Line 1 Source'!D267<>\"\",'Line 1 Source'!D267,\"\")","v":"1375"},{"$f":"IF('Line 1 Source'!E267<>\"\",'Line 1 Source'!E267,\"\")","v":"1214"},{"$f":"IF('Line 1 Source'!F267<>\"\",'Line 1 Source'!F267,\"\")","v":1652393}]
[{"$f":"IF('Line 1 Source'!A268<>\"\",'Line 1 Source'!A268,\"\")","v":"2018"},"1441375",{"$f":"CONCATENATE(VLOOKUP(B268,'School List'!$B$3:$H$291,6,FALSE),H268)","v":"13756301"},{"$f":"CONCATENATE(VLOOKUP(B268,'School List'!$B$3:$D$291,3,FALSE),H268)","v":"Daviess County - NORTH DAVIESS COUNTY SCHOOL CORPORATION6301"},{"$f":"IF('Line 1 Source'!B268<>\"\",'Line 1 Source'!B268,\"\")","v":"14"},{"$f":"IF('Line 1 Source'!C268<>\"\",'Line 1 Source'!C268,\"\")","v":"4"},{"$f":"IF('Line 1 Source'!D268<>\"\",'Line 1 Source'!D268,\"\")","v":"1375"},{"$f":"IF('Line 1 Source'!E268<>\"\",'Line 1 Source'!E268,\"\")","v":"6301"},{"$f":"IF('Line 1 Source'!F268<>\"\",'Line 1 Source'!F268,\"\")","v":989558}]
[{"$f":"IF('Line 1 Source'!A269<>\"\",'Line 1 Source'!A269,\"\")","v":"2018"},"1441375",{"$f":"CONCATENATE(VLOOKUP(B269,'School List'!$B$3:$H$291,6,FALSE),H269)","v":"13756302"},{"$f":"CONCATENATE(VLOOKUP(B269,'School List'!$B$3:$D$291,3,FALSE),H269)","v":"Daviess County - NORTH DAVIESS COUNTY SCHOOL CORPORATION6302"},{"$f":"IF('Line 1 Source'!B269<>\"\",'Line 1 Source'!B269,\"\")","v":"14"},{"$f":"IF('Line 1 Source'!C269<>\"\",'Line 1 Source'!C269,\"\")","v":"4"},{"$f":"IF('Line 1 Source'!D269<>\"\",'Line 1 Source'!D269,\"\")","v":"1375"},{"$f":"IF('Line 1 Source'!E269<>\"\",'Line 1 Source'!E269,\"\")","v":"6302"},{"$f":"IF('Line 1 Source'!F269<>\"\",'Line 1 Source'!F269,\"\")","v":75083}]
[{"$f":"IF('Line 1 Source'!A270<>\"\",'Line 1 Source'!A270,\"\")","v":"2018"},"1441405",{"$f":"CONCATENATE(VLOOKUP(B270,'School List'!$B$3:$H$291,6,FALSE),H270)","v":"14050061"},{"$f":"CONCATENATE(VLOOKUP(B270,'School List'!$B$3:$D$291,3,FALSE),H270)","v":"Daviess County - WASHINGTON COMMUNITY SCHOOL CORPORATION0061"},{"$f":"IF('Line 1 Source'!B270<>\"\",'Line 1 Source'!B270,\"\")","v":"14"},{"$f":"IF('Line 1 Source'!C270<>\"\",'Line 1 Source'!C270,\"\")","v":"4"},{"$f":"IF('Line 1 Source'!D270<>\"\",'Line 1 Source'!D270,\"\")","v":"1405"},{"$f":"IF('Line 1 Source'!E270<>\"\",'Line 1 Source'!E270,\"\")","v":"0061"},{"$f":"IF('Line 1 Source'!F270<>\"\",'Line 1 Source'!F270,\"\")","v":250000}]
[{"$f":"IF('Line 1 Source'!A271<>\"\",'Line 1 Source'!A271,\"\")","v":"2018"},"1441405",{"$f":"CONCATENATE(VLOOKUP(B271,'School List'!$B$3:$H$291,6,FALSE),H271)","v":"14050101"},{"$f":"CONCATENATE(VLOOKUP(B271,'School List'!$B$3:$D$291,3,FALSE),H271)","v":"Daviess County - WASHINGTON COMMUNITY SCHOOL CORPORATION0101"},{"$f":"IF('Line 1 Source'!B271<>\"\",'Line 1 Source'!B271,\"\")","v":"14"},{"$f":"IF('Line 1 Source'!C271<>\"\",'Line 1 Source'!C271,\"\")","v":"4"},{"$f":"IF('Line 1 Source'!D271<>\"\",'Line 1 Source'!D271,\"\")","v":"1405"},{"$f":"IF('Line 1 Source'!E271<>\"\",'Line 1 Source'!E271,\"\")","v":"0101"},{"$f":"IF('Line 1 Source'!F271<>\"\",'Line 1 Source'!F271,\"\")","v":18250000}]
[{"$f":"IF('Line 1 Source'!A272<>\"\",'Line 1 Source'!A272,\"\")","v":"2018"},"1441405",{"$f":"CONCATENATE(VLOOKUP(B272,'School List'!$B$3:$H$291,6,FALSE),H272)","v":"14050180"},{"$f":"CONCATENATE(VLOOKUP(B272,'School List'!$B$3:$D$291,3,FALSE),H272)","v":"Daviess County - WASHINGTON COMMUNITY SCHOOL CORPORATION0180"},{"$f":"IF('Line 1 Source'!B272<>\"\",'Line 1 Source'!B272,\"\")","v":"14"},{"$f":"IF('Line 1 Source'!C272<>\"\",'Line 1 Source'!C272,\"\")","v":"4"},{"$f":"IF('Line 1 Source'!D272<>\"\",'Line 1 Source'!D272,\"\")","v":"1405"},{"$f":"IF('Line 1 Source'!E272<>\"\",'Line 1 Source'!E272,\"\")","v":"0180"},{"$f":"IF('Line 1 Source'!F272<>\"\",'Line 1 Source'!F272,\"\")","v":2884703}]
[{"$f":"IF('Line 1 Source'!A273<>\"\",'Line 1 Source'!A273,\"\")","v":"2018"},"1441405",{"$f":"CONCATENATE(VLOOKUP(B273,'School List'!$B$3:$H$291,6,FALSE),H273)","v":"14050186"},{"$f":"CONCATENATE(VLOOKUP(B273,'School List'!$B$3:$D$291,3,FALSE),H273)","v":"Daviess County - WASHINGTON COMMUNITY SCHOOL CORPORATION0186"},{"$f":"IF('Line 1 Source'!B273<>\"\",'Line 1 Source'!B273,\"\")","v":"14"},{"$f":"IF('Line 1 Source'!C273<>\"\",'Line 1 Source'!C273,\"\")","v":"4"},{"$f":"IF('Line 1 Source'!D273<>\"\",'Line 1 Source'!D273,\"\")","v":"1405"},{"$f":"IF('Line 1 Source'!E273<>\"\",'Line 1 Source'!E273,\"\")","v":"0186"},{"$f":"IF('Line 1 Source'!F273<>\"\",'Line 1 Source'!F273,\"\")","v":1213610}]
[{"$f":"IF('Line 1 Source'!A274<>\"\",'Line 1 Source'!A274,\"\")","v":"2018"},"1441405",{"$f":"CONCATENATE(VLOOKUP(B274,'School List'!$B$3:$H$291,6,FALSE),H274)","v":"14051214"},{"$f":"CONCATENATE(VLOOKUP(B274,'School List'!$B$3:$D$291,3,FALSE),H274)","v":"Daviess County - WASHINGTON COMMUNITY SCHOOL CORPORATION1214"},{"$f":"IF('Line 1 Source'!B274<>\"\",'Line 1 Source'!B274,\"\")","v":"14"},{"$f":"IF('Line 1 Source'!C274<>\"\",'Line 1 Source'!C274,\"\")","v":"4"},{"$f":"IF('Line 1 Source'!D274<>\"\",'Line 1 Source'!D274,\"\")","v":"1405"},{"$f":"IF('Line 1 Source'!E274<>\"\",'Line 1 Source'!E274,\"\")","v":"1214"},{"$f":"IF('Line 1 Source'!F274<>\"\",'Line 1 Source'!F274,\"\")","v":899188}]
[{"$f":"IF('Line 1 Source'!A275<>\"\",'Line 1 Source'!A275,\"\")","v":"2018"},"1441405",{"$f":"CONCATENATE(VLOOKUP(B275,'School List'!$B$3:$H$291,6,FALSE),H275)","v":"14056301"},{"$f":"CONCATENATE(VLOOKUP(B275,'School List'!$B$3:$D$291,3,FALSE),H275)","v":"Daviess County - WASHINGTON COMMUNITY SCHOOL CORPORATION6301"},{"$f":"IF('Line 1 Source'!B275<>\"\",'Line 1 Source'!B275,\"\")","v":"14"},{"$f":"IF('Line 1 Source'!C275<>\"\",'Line 1 Source'!C275,\"\")","v":"4"},{"$f":"IF('Line 1 Source'!D275<>\"\",'Line 1 Source'!D275,\"\")","v":"1405"},{"$f":"IF('Line 1 Source'!E275<>\"\",'Line 1 Source'!E275,\"\")","v":"6301"},{"$f":"IF('Line 1 Source'!F275<>\"\",'Line 1 Source'!F275,\"\")","v":922692}]
[{"$f":"IF('Line 1 Source'!A276<>\"\",'Line 1 Source'!A276,\"\")","v":"2018"},"1441405",{"$f":"CONCATENATE(VLOOKUP(B276,'School List'!$B$3:$H$291,6,FALSE),H276)","v":"14056302"},{"$f":"CONCATENATE(VLOOKUP(B276,'School List'!$B$3:$D$291,3,FALSE),H276)","v":"Daviess County - WASHINGTON COMMUNITY SCHOOL CORPORATION6302"},{"$f":"IF('Line 1 Source'!B276<>\"\",'Line 1 Source'!B276,\"\")","v":"14"},{"$f":"IF('Line 1 Source'!C276<>\"\",'Line 1 Source'!C276,\"\")","v":"4"},{"$f":"IF('Line 1 Source'!D276<>\"\",'Line 1 Source'!D276,\"\")","v":"1405"},{"$f":"IF('Line 1 Source'!E276<>\"\",'Line 1 Source'!E276,\"\")","v":"6302"},{"$f":"IF('Line 1 Source'!F276<>\"\",'Line 1 Source'!F276,\"\")","v":109394}]
[{"$f":"IF('Line 1 Source'!A277<>\"\",'Line 1 Source'!A277,\"\")","v":"2018"},"1541560",{"$f":"CONCATENATE(VLOOKUP(B277,'School List'!$B$3:$H$291,6,FALSE),H277)","v":"15600061"},{"$f":"CONCATENATE(VLOOKUP(B277,'School List'!$B$3:$D$291,3,FALSE),H277)","v":"Dearborn County - SUNMAN-DEARBORN COMMUNITY SCHOOL CORP0061"},{"$f":"IF('Line 1 Source'!B277<>\"\",'Line 1 Source'!B277,\"\")","v":"15"},{"$f":"IF('Line 1 Source'!C277<>\"\",'Line 1 Source'!C277,\"\")","v":"4"},{"$f":"IF('Line 1 Source'!D277<>\"\",'Line 1 Source'!D277,\"\")","v":"1560"},{"$f":"IF('Line 1 Source'!E277<>\"\",'Line 1 Source'!E277,\"\")","v":"0061"},{"$f":"IF('Line 1 Source'!F277<>\"\",'Line 1 Source'!F277,\"\")","v":850000}]
[{"$f":"IF('Line 1 Source'!A278<>\"\",'Line 1 Source'!A278,\"\")","v":"2018"},"1541560",{"$f":"CONCATENATE(VLOOKUP(B278,'School List'!$B$3:$H$291,6,FALSE),H278)","v":"15600101"},{"$f":"CONCATENATE(VLOOKUP(B278,'School List'!$B$3:$D$291,3,FALSE),H278)","v":"Dearborn County - SUNMAN-DEARBORN COMMUNITY SCHOOL CORP0101"},{"$f":"IF('Line 1 Source'!B278<>\"\",'Line 1 Source'!B278,\"\")","v":"15"},{"$f":"IF('Line 1 Source'!C278<>\"\",'Line 1 Source'!C278,\"\")","v":"4"},{"$f":"IF('Line 1 Source'!D278<>\"\",'Line 1 Source'!D278,\"\")","v":"1560"},{"$f":"IF('Line 1 Source'!E278<>\"\",'Line 1 Source'!E278,\"\")","v":"0101"},{"$f":"IF('Line 1 Source'!F278<>\"\",'Line 1 Source'!F278,\"\")","v":25870000}]
[{"$f":"IF('Line 1 Source'!A279<>\"\",'Line 1 Source'!A279,\"\")","v":"2018"},"1541560",{"$f":"CONCATENATE(VLOOKUP(B279,'School List'!$B$3:$H$291,6,FALSE),H279)","v":"15600180"},{"$f":"CONCATENATE(VLOOKUP(B279,'School List'!$B$3:$D$291,3,FALSE),H279)","v":"Dearborn County - SUNMAN-DEARBORN COMMUNITY SCHOOL CORP0180"},{"$f":"IF('Line 1 Source'!B279<>\"\",'Line 1 Source'!B279,\"\")","v":"15"},{"$f":"IF('Line 1 Source'!C279<>\"\",'Line 1 Source'!C279,\"\")","v":"4"},{"$f":"IF('Line 1 Source'!D279<>\"\",'Line 1 Source'!D279,\"\")","v":"1560"},{"$f":"IF('Line 1 Source'!E279<>\"\",'Line 1 Source'!E279,\"\")","v":"0180"},{"$f":"IF('Line 1 Source'!F279<>\"\",'Line 1 Source'!F279,\"\")","v":6863591}]
[{"$f":"IF('Line 1 Source'!A280<>\"\",'Line 1 Source'!A280,\"\")","v":"2018"},"1541560",{"$f":"CONCATENATE(VLOOKUP(B280,'School List'!$B$3:$H$291,6,FALSE),H280)","v":"15600186"},{"$f":"CONCATENATE(VLOOKUP(B280,'School List'!$B$3:$D$291,3,FALSE),H280)","v":"Dearborn County - SUNMAN-DEARBORN COMMUNITY SCHOOL CORP0186"},{"$f":"IF('Line 1 Source'!B280<>\"\",'Line 1 Source'!B280,\"\")","v":"15"},{"$f":"IF('Line 1 Source'!C280<>\"\",'Line 1 Source'!C280,\"\")","v":"4"},{"$f":"IF('Line 1 Source'!D280<>\"\",'Line 1 Source'!D280,\"\")","v":"1560"},{"$f":"IF('Line 1 Source'!E280<>\"\",'Line 1 Source'!E280,\"\")","v":"0186"},{"$f":"IF('Line 1 Source'!F280<>\"\",'Line 1 Source'!F280,\"\")","v":1070441}]
[{"$f":"IF('Line 1 Source'!A281<>\"\",'Line 1 Source'!A281,\"\")","v":"2018"},"1541560",{"$f":"CONCATENATE(VLOOKUP(B281,'School List'!$B$3:$H$291,6,FALSE),H281)","v":"15601214"},{"$f":"CONCATENATE(VLOOKUP(B281,'School List'!$B$3:$D$291,3,FALSE),H281)","v":"Dearborn County - SUNMAN-DEARBORN COMMUNITY SCHOOL CORP1214"},{"$f":"IF('Line 1 Source'!B281<>\"\",'Line 1 Source'!B281,\"\")","v":"15"},{"$f":"IF('Line 1 Source'!C281<>\"\",'Line 1 Source'!C281,\"\")","v":"4"},{"$f":"IF('Line 1 Source'!D281<>\"\",'Line 1 Source'!D281,\"\")","v":"1560"},{"$f":"IF('Line 1 Source'!E281<>\"\",'Line 1 Source'!E281,\"\")","v":"1214"},{"$f":"IF('Line 1 Source'!F281<>\"\",'Line 1 Source'!F281,\"\")","v":3091712}]
[{"$f":"IF('Line 1 Source'!A282<>\"\",'Line 1 Source'!A282,\"\")","v":"2018"},"1541560",{"$f":"CONCATENATE(VLOOKUP(B282,'School List'!$B$3:$H$291,6,FALSE),H282)","v":"15606301"},{"$f":"CONCATENATE(VLOOKUP(B282,'School List'!$B$3:$D$291,3,FALSE),H282)","v":"Dearborn County - SUNMAN-DEARBORN COMMUNITY SCHOOL CORP6301"},{"$f":"IF('Line 1 Source'!B282<>\"\",'Line 1 Source'!B282,\"\")","v":"15"},{"$f":"IF('Line 1 Source'!C282<>\"\",'Line 1 Source'!C282,\"\")","v":"4"},{"$f":"IF('Line 1 Source'!D282<>\"\",'Line 1 Source'!D282,\"\")","v":"1560"},{"$f":"IF('Line 1 Source'!E282<>\"\",'Line 1 Source'!E282,\"\")","v":"6301"},{"$f":"IF('Line 1 Source'!F282<>\"\",'Line 1 Source'!F282,\"\")","v":3551435}]
[{"$f":"IF('Line 1 Source'!A283<>\"\",'Line 1 Source'!A283,\"\")","v":"2018"},"1541560",{"$f":"CONCATENATE(VLOOKUP(B283,'School List'!$B$3:$H$291,6,FALSE),H283)","v":"15606302"},{"$f":"CONCATENATE(VLOOKUP(B283,'School List'!$B$3:$D$291,3,FALSE),H283)","v":"Dearborn County - SUNMAN-DEARBORN COMMUNITY SCHOOL CORP6302"},{"$f":"IF('Line 1 Source'!B283<>\"\",'Line 1 Source'!B283,\"\")","v":"15"},{"$f":"IF('Line 1 Source'!C283<>\"\",'Line 1 Source'!C283,\"\")","v":"4"},{"$f":"IF('Line 1 Source'!D283<>\"\",'Line 1 Source'!D283,\"\")","v":"1560"},{"$f":"IF('Line 1 Source'!E283<>\"\",'Line 1 Source'!E283,\"\")","v":"6302"},{"$f":"IF('Line 1 Source'!F283<>\"\",'Line 1 Source'!F283,\"\")","v":1118000}]
[{"$f":"IF('Line 1 Source'!A284<>\"\",'Line 1 Source'!A284,\"\")","v":"2018"},"1541600",{"$f":"CONCATENATE(VLOOKUP(B284,'School List'!$B$3:$H$291,6,FALSE),H284)","v":"16000061"},{"$f":"CONCATENATE(VLOOKUP(B284,'School List'!$B$3:$D$291,3,FALSE),H284)","v":"Dearborn County - SOUTH DEARBORN COMMUNITY SCHOOL CORP0061"},{"$f":"IF('Line 1 Source'!B284<>\"\",'Line 1 Source'!B284,\"\")","v":"15"},{"$f":"IF('Line 1 Source'!C284<>\"\",'Line 1 Source'!C284,\"\")","v":"4"},{"$f":"IF('Line 1 Source'!D284<>\"\",'Line 1 Source'!D284,\"\")","v":"1600"},{"$f":"IF('Line 1 Source'!E284<>\"\",'Line 1 Source'!E284,\"\")","v":"0061"},{"$f":"IF('Line 1 Source'!F284<>\"\",'Line 1 Source'!F284,\"\")","v":500000}]
[{"$f":"IF('Line 1 Source'!A285<>\"\",'Line 1 Source'!A285,\"\")","v":"2018"},"1541600",{"$f":"CONCATENATE(VLOOKUP(B285,'School List'!$B$3:$H$291,6,FALSE),H285)","v":"16000101"},{"$f":"CONCATENATE(VLOOKUP(B285,'School List'!$B$3:$D$291,3,FALSE),H285)","v":"Dearborn County - SOUTH DEARBORN COMMUNITY SCHOOL CORP0101"},{"$f":"IF('Line 1 Source'!B285<>\"\",'Line 1 Source'!B285,\"\")","v":"15"},{"$f":"IF('Line 1 Source'!C285<>\"\",'Line 1 Source'!C285,\"\")","v":"4"},{"$f":"IF('Line 1 Source'!D285<>\"\",'Line 1 Source'!D285,\"\")","v":"1600"},{"$f":"IF('Line 1 Source'!E285<>\"\",'Line 1 Source'!E285,\"\")","v":"0101"},{"$f":"IF('Line 1 Source'!F285<>\"\",'Line 1 Source'!F285,\"\")","v":18625000}]
[{"$f":"IF('Line 1 Source'!A286<>\"\",'Line 1 Source'!A286,\"\")","v":"2018"},"1541600",{"$f":"CONCATENATE(VLOOKUP(B286,'School List'!$B$3:$H$291,6,FALSE),H286)","v":"16000180"},{"$f":"CONCATENATE(VLOOKUP(B286,'School List'!$B$3:$D$291,3,FALSE),H286)","v":"Dearborn County - SOUTH DEARBORN COMMUNITY SCHOOL CORP0180"},{"$f":"IF('Line 1 Source'!B286<>\"\",'Line 1 Source'!B286,\"\")","v":"15"},{"$f":"IF('Line 1 Source'!C286<>\"\",'Line 1 Source'!C286,\"\")","v":"4"},{"$f":"IF('Line 1 Source'!D286<>\"\",'Line 1 Source'!D286,\"\")","v":"1600"},{"$f":"IF('Line 1 Source'!E286<>\"\",'Line 1 Source'!E286,\"\")","v":"0180"},{"$f":"IF('Line 1 Source'!F286<>\"\",'Line 1 Source'!F286,\"\")","v":4512642}]
[{"$f":"IF('Line 1 Source'!A287<>\"\",'Line 1 Source'!A287,\"\")","v":"2018"},"1541600",{"$f":"CONCATENATE(VLOOKUP(B287,'School List'!$B$3:$H$291,6,FALSE),H287)","v":"16000186"},{"$f":"CONCATENATE(VLOOKUP(B287,'School List'!$B$3:$D$291,3,FALSE),H287)","v":"Dearborn County - SOUTH DEARBORN COMMUNITY SCHOOL CORP0186"},{"$f":"IF('Line 1 Source'!B287<>\"\",'Line 1 Source'!B287,\"\")","v":"15"},{"$f":"IF('Line 1 Source'!C287<>\"\",'Line 1 Source'!C287,\"\")","v":"4"},{"$f":"IF('Line 1 Source'!D287<>\"\",'Line 1 Source'!D287,\"\")","v":"1600"},{"$f":"IF('Line 1 Source'!E287<>\"\",'Line 1 Source'!E287,\"\")","v":"0186"},{"$f":"IF('Line 1 Source'!F287<>\"\",'Line 1 Source'!F287,\"\")","v":216077}]
[{"$f":"IF('Line 1 Source'!A288<>\"\",'Line 1 Source'!A288,\"\")","v":"2018"},"1541600",{"$f":"CONCATENATE(VLOOKUP(B288,'School List'!$B$3:$H$291,6,FALSE),H288)","v":"16001214"},{"$f":"CONCATENATE(VLOOKUP(B288,'School List'!$B$3:$D$291,3,FALSE),H288)","v":"Dearborn County - SOUTH DEARBORN COMMUNITY SCHOOL CORP1214"},{"$f":"IF('Line 1 Source'!B288<>\"\",'Line 1 Source'!B288,\"\")","v":"15"},{"$f":"IF('Line 1 Source'!C288<>\"\",'Line 1 Source'!C288,\"\")","v":"4"},{"$f":"IF('Line 1 Source'!D288<>\"\",'Line 1 Source'!D288,\"\")","v":"1600"},{"$f":"IF('Line 1 Source'!E288<>\"\",'Line 1 Source'!E288,\"\")","v":"1214"},{"$f":"IF('Line 1 Source'!F288<>\"\",'Line 1 Source'!F288,\"\")","v":1474392}]
[{"$f":"IF('Line 1 Source'!A289<>\"\",'Line 1 Source'!A289,\"\")","v":"2018"},"1541600",{"$f":"CONCATENATE(VLOOKUP(B289,'School List'!$B$3:$H$291,6,FALSE),H289)","v":"16006301"},{"$f":"CONCATENATE(VLOOKUP(B289,'School List'!$B$3:$D$291,3,FALSE),H289)","v":"Dearborn County - SOUTH DEARBORN COMMUNITY SCHOOL CORP6301"},{"$f":"IF('Line 1 Source'!B289<>\"\",'Line 1 Source'!B289,\"\")","v":"15"},{"$f":"IF('Line 1 Source'!C289<>\"\",'Line 1 Source'!C289,\"\")","v":"4"},{"$f":"IF('Line 1 Source'!D289<>\"\",'Line 1 Source'!D289,\"\")","v":"1600"},{"$f":"IF('Line 1 Source'!E289<>\"\",'Line 1 Source'!E289,\"\")","v":"6301"},{"$f":"IF('Line 1 Source'!F289<>\"\",'Line 1 Source'!F289,\"\")","v":1847164}]
[{"$f":"IF('Line 1 Source'!A290<>\"\",'Line 1 Source'!A290,\"\")","v":"2018"},"1541600",{"$f":"CONCATENATE(VLOOKUP(B290,'School List'!$B$3:$H$291,6,FALSE),H290)","v":"16006302"},{"$f":"CONCATENATE(VLOOKUP(B290,'School List'!$B$3:$D$291,3,FALSE),H290)","v":"Dearborn County - SOUTH DEARBORN COMMUNITY SCHOOL CORP6302"},{"$f":"IF('Line 1 Source'!B290<>\"\",'Line 1 Source'!B290,\"\")","v":"15"},{"$f":"IF('Line 1 Source'!C290<>\"\",'Line 1 Source'!C290,\"\")","v":"4"},{"$f":"IF('Line 1 Source'!D290<>\"\",'Line 1 Source'!D290,\"\")","v":"1600"},{"$f":"IF('Line 1 Source'!E290<>\"\",'Line 1 Source'!E290,\"\")","v":"6302"},{"$f":"IF('Line 1 Source'!F290<>\"\",'Line 1 Source'!F290,\"\")","v":0}]
[{"$f":"IF('Line 1 Source'!A291<>\"\",'Line 1 Source'!A291,\"\")","v":"2018"},"1541620",{"$f":"CONCATENATE(VLOOKUP(B291,'School List'!$B$3:$H$291,6,FALSE),H291)","v":"16200061"},{"$f":"CONCATENATE(VLOOKUP(B291,'School List'!$B$3:$D$291,3,FALSE),H291)","v":"Dearborn County - LAWRENCEBURG COMMUNITY SCHOOL CORP0061"},{"$f":"IF('Line 1 Source'!B291<>\"\",'Line 1 Source'!B291,\"\")","v":"15"},{"$f":"IF('Line 1 Source'!C291<>\"\",'Line 1 Source'!C291,\"\")","v":"4"},{"$f":"IF('Line 1 Source'!D291<>\"\",'Line 1 Source'!D291,\"\")","v":"1620"},{"$f":"IF('Line 1 Source'!E291<>\"\",'Line 1 Source'!E291,\"\")","v":"0061"},{"$f":"IF('Line 1 Source'!F291<>\"\",'Line 1 Source'!F291,\"\")","v":2450000}]
[{"$f":"IF('Line 1 Source'!A292<>\"\",'Line 1 Source'!A292,\"\")","v":"2018"},"1541620",{"$f":"CONCATENATE(VLOOKUP(B292,'School List'!$B$3:$H$291,6,FALSE),H292)","v":"16200101"},{"$f":"CONCATENATE(VLOOKUP(B292,'School List'!$B$3:$D$291,3,FALSE),H292)","v":"Dearborn County - LAWRENCEBURG COMMUNITY SCHOOL CORP0101"},{"$f":"IF('Line 1 Source'!B292<>\"\",'Line 1 Source'!B292,\"\")","v":"15"},{"$f":"IF('Line 1 Source'!C292<>\"\",'Line 1 Source'!C292,\"\")","v":"4"},{"$f":"IF('Line 1 Source'!D292<>\"\",'Line 1 Source'!D292,\"\")","v":"1620"},{"$f":"IF('Line 1 Source'!E292<>\"\",'Line 1 Source'!E292,\"\")","v":"0101"},{"$f":"IF('Line 1 Source'!F292<>\"\",'Line 1 Source'!F292,\"\")","v":16094022}]
[{"$f":"IF('Line 1 Source'!A293<>\"\",'Line 1 Source'!A293,\"\")","v":"2018"},"1541620",{"$f":"CONCATENATE(VLOOKUP(B293,'School List'!$B$3:$H$291,6,FALSE),H293)","v":"16200180"},{"$f":"CONCATENATE(VLOOKUP(B293,'School List'!$B$3:$D$291,3,FALSE),H293)","v":"Dearborn County - LAWRENCEBURG COMMUNITY SCHOOL CORP0180"},{"$f":"IF('Line 1 Source'!B293<>\"\",'Line 1 Source'!B293,\"\")","v":"15"},{"$f":"IF('Line 1 Source'!C293<>\"\",'Line 1 Source'!C293,\"\")","v":"4"},{"$f":"IF('Line 1 Source'!D293<>\"\",'Line 1 Source'!D293,\"\")","v":"1620"},{"$f":"IF('Line 1 Source'!E293<>\"\",'Line 1 Source'!E293,\"\")","v":"0180"},{"$f":"IF('Line 1 Source'!F293<>\"\",'Line 1 Source'!F293,\"\")","v":2690575}]
[{"$f":"IF('Line 1 Source'!A294<>\"\",'Line 1 Source'!A294,\"\")","v":"2018"},"1541620",{"$f":"CONCATENATE(VLOOKUP(B294,'School List'!$B$3:$H$291,6,FALSE),H294)","v":"16201214"},{"$f":"CONCATENATE(VLOOKUP(B294,'School List'!$B$3:$D$291,3,FALSE),H294)","v":"Dearborn County - LAWRENCEBURG COMMUNITY SCHOOL CORP1214"},{"$f":"IF('Line 1 Source'!B294<>\"\",'Line 1 Source'!B294,\"\")","v":"15"},{"$f":"IF('Line 1 Source'!C294<>\"\",'Line 1 Source'!C294,\"\")","v":"4"},{"$f":"IF('Line 1 Source'!D294<>\"\",'Line 1 Source'!D294,\"\")","v":"1620"},{"$f":"IF('Line 1 Source'!E294<>\"\",'Line 1 Source'!E294,\"\")","v":"1214"},{"$f":"IF('Line 1 Source'!F294<>\"\",'Line 1 Source'!F294,\"\")","v":1865651}]
[{"$f":"IF('Line 1 Source'!A295<>\"\",'Line 1 Source'!A295,\"\")","v":"2018"},"1541620",{"$f":"CONCATENATE(VLOOKUP(B295,'School List'!$B$3:$H$291,6,FALSE),H295)","v":"16206301"},{"$f":"CONCATENATE(VLOOKUP(B295,'School List'!$B$3:$D$291,3,FALSE),H295)","v":"Dearborn County - LAWRENCEBURG COMMUNITY SCHOOL CORP6301"},{"$f":"IF('Line 1 Source'!B295<>\"\",'Line 1 Source'!B295,\"\")","v":"15"},{"$f":"IF('Line 1 Source'!C295<>\"\",'Line 1 Source'!C295,\"\")","v":"4"},{"$f":"IF('Line 1 Source'!D295<>\"\",'Line 1 Source'!D295,\"\")","v":"1620"},{"$f":"IF('Line 1 Source'!E295<>\"\",'Line 1 Source'!E295,\"\")","v":"6301"},{"$f":"IF('Line 1 Source'!F295<>\"\",'Line 1 Source'!F295,\"\")","v":667315}]
[{"$f":"IF('Line 1 Source'!A296<>\"\",'Line 1 Source'!A296,\"\")","v":"2018"},"1541620",{"$f":"CONCATENATE(VLOOKUP(B296,'School List'!$B$3:$H$291,6,FALSE),H296)","v":"16206302"},{"$f":"CONCATENATE(VLOOKUP(B296,'School List'!$B$3:$D$291,3,FALSE),H296)","v":"Dearborn County - LAWRENCEBURG COMMUNITY SCHOOL CORP6302"},{"$f":"IF('Line 1 Source'!B296<>\"\",'Line 1 Source'!B296,\"\")","v":"15"},{"$f":"IF('Line 1 Source'!C296<>\"\",'Line 1 Source'!C296,\"\")","v":"4"},{"$f":"IF('Line 1 Source'!D296<>\"\",'Line 1 Source'!D296,\"\")","v":"1620"},{"$f":"IF('Line 1 Source'!E296<>\"\",'Line 1 Source'!E296,\"\")","v":"6302"},{"$f":"IF('Line 1 Source'!F296<>\"\",'Line 1 Source'!F296,\"\")","v":0}]
[{"$f":"IF('Line 1 Source'!A297<>\"\",'Line 1 Source'!A297,\"\")","v":"2018"},"1641655",{"$f":"CONCATENATE(VLOOKUP(B297,'School List'!$B$3:$H$291,6,FALSE),H297)","v":"16550061"},{"$f":"CONCATENATE(VLOOKUP(B297,'School List'!$B$3:$D$291,3,FALSE),H297)","v":"Decatur County - DECATUR COUNTY COMMUNITY SCHOOL CORP0061"},{"$f":"IF('Line 1 Source'!B297<>\"\",'Line 1 Source'!B297,\"\")","v":"16"},{"$f":"IF('Line 1 Source'!C297<>\"\",'Line 1 Source'!C297,\"\")","v":"4"},{"$f":"IF('Line 1 Source'!D297<>\"\",'Line 1 Source'!D297,\"\")","v":"1655"},{"$f":"IF('Line 1 Source'!E297<>\"\",'Line 1 Source'!E297,\"\")","v":"0061"},{"$f":"IF('Line 1 Source'!F297<>\"\",'Line 1 Source'!F297,\"\")","v":300000}]
[{"$f":"IF('Line 1 Source'!A298<>\"\",'Line 1 Source'!A298,\"\")","v":"2018"},"1641655",{"$f":"CONCATENATE(VLOOKUP(B298,'School List'!$B$3:$H$291,6,FALSE),H298)","v":"16550101"},{"$f":"CONCATENATE(VLOOKUP(B298,'School List'!$B$3:$D$291,3,FALSE),H298)","v":"Decatur County - DECATUR COUNTY COMMUNITY SCHOOL CORP0101"},{"$f":"IF('Line 1 Source'!B298<>\"\",'Line 1 Source'!B298,\"\")","v":"16"},{"$f":"IF('Line 1 Source'!C298<>\"\",'Line 1 Source'!C298,\"\")","v":"4"},{"$f":"IF('Line 1 Source'!D298<>\"\",'Line 1 Source'!D298,\"\")","v":"1655"},{"$f":"IF('Line 1 Source'!E298<>\"\",'Line 1 Source'!E298,\"\")","v":"0101"},{"$f":"IF('Line 1 Source'!F298<>\"\",'Line 1 Source'!F298,\"\")","v":15576805}]
[{"$f":"IF('Line 1 Source'!A299<>\"\",'Line 1 Source'!A299,\"\")","v":"2018"},"1641655",{"$f":"CONCATENATE(VLOOKUP(B299,'School List'!$B$3:$H$291,6,FALSE),H299)","v":"16550180"},{"$f":"CONCATENATE(VLOOKUP(B299,'School List'!$B$3:$D$291,3,FALSE),H299)","v":"Decatur County - DECATUR COUNTY COMMUNITY SCHOOL CORP0180"},{"$f":"IF('Line 1 Source'!B299<>\"\",'Line 1 Source'!B299,\"\")","v":"16"},{"$f":"IF('Line 1 Source'!C299<>\"\",'Line 1 Source'!C299,\"\")","v":"4"},{"$f":"IF('Line 1 Source'!D299<>\"\",'Line 1 Source'!D299,\"\")","v":"1655"},{"$f":"IF('Line 1 Source'!E299<>\"\",'Line 1 Source'!E299,\"\")","v":"0180"},{"$f":"IF('Line 1 Source'!F299<>\"\",'Line 1 Source'!F299,\"\")","v":2273015}]
[{"$f":"IF('Line 1 Source'!A300<>\"\",'Line 1 Source'!A300,\"\")","v":"2018"},"1641655",{"$f":"CONCATENATE(VLOOKUP(B300,'School List'!$B$3:$H$291,6,FALSE),H300)","v":"16550186"},{"$f":"CONCATENATE(VLOOKUP(B300,'School List'!$B$3:$D$291,3,FALSE),H300)","v":"Decatur County - DECATUR COUNTY COMMUNITY SCHOOL CORP0186"},{"$f":"IF('Line 1 Source'!B300<>\"\",'Line 1 Source'!B300,\"\")","v":"16"},{"$f":"IF('Line 1 Source'!C300<>\"\",'Line 1 Source'!C300,\"\")","v":"4"},{"$f":"IF('Line 1 Source'!D300<>\"\",'Line 1 Source'!D300,\"\")","v":"1655"},{"$f":"IF('Line 1 Source'!E300<>\"\",'Line 1 Source'!E300,\"\")","v":"0186"},{"$f":"IF('Line 1 Source'!F300<>\"\",'Line 1 Source'!F300,\"\")","v":216258}]
[{"$f":"IF('Line 1 Source'!A301<>\"\",'Line 1 Source'!A301,\"\")","v":"2018"},"1641655",{"$f":"CONCATENATE(VLOOKUP(B301,'School List'!$B$3:$H$291,6,FALSE),H301)","v":"16551214"},{"$f":"CONCATENATE(VLOOKUP(B301,'School List'!$B$3:$D$291,3,FALSE),H301)","v":"Decatur County - DECATUR COUNTY COMMUNITY SCHOOL CORP1214"},{"$f":"IF('Line 1 Source'!B301<>\"\",'Line 1 Source'!B301,\"\")","v":"16"},{"$f":"IF('Line 1 Source'!C301<>\"\",'Line 1 Source'!C301,\"\")","v":"4"},{"$f":"IF('Line 1 Source'!D301<>\"\",'Line 1 Source'!D301,\"\")","v":"1655"},{"$f":"IF('Line 1 Source'!E301<>\"\",'Line 1 Source'!E301,\"\")","v":"1214"},{"$f":"IF('Line 1 Source'!F301<>\"\",'Line 1 Source'!F301,\"\")","v":1946814}]
[{"$f":"IF('Line 1 Source'!A302<>\"\",'Line 1 Source'!A302,\"\")","v":"2018"},"1641655",{"$f":"CONCATENATE(VLOOKUP(B302,'School List'!$B$3:$H$291,6,FALSE),H302)","v":"16556301"},{"$f":"CONCATENATE(VLOOKUP(B302,'School List'!$B$3:$D$291,3,FALSE),H302)","v":"Decatur County - DECATUR COUNTY COMMUNITY SCHOOL CORP6301"},{"$f":"IF('Line 1 Source'!B302<>\"\",'Line 1 Source'!B302,\"\")","v":"16"},{"$f":"IF('Line 1 Source'!C302<>\"\",'Line 1 Source'!C302,\"\")","v":"4"},{"$f":"IF('Line 1 Source'!D302<>\"\",'Line 1 Source'!D302,\"\")","v":"1655"},{"$f":"IF('Line 1 Source'!E302<>\"\",'Line 1 Source'!E302,\"\")","v":"6301"},{"$f":"IF('Line 1 Source'!F302<>\"\",'Line 1 Source'!F302,\"\")","v":1656000}]
[{"$f":"IF('Line 1 Source'!A303<>\"\",'Line 1 Source'!A303,\"\")","v":"2018"},"1641655",{"$f":"CONCATENATE(VLOOKUP(B303,'School List'!$B$3:$H$291,6,FALSE),H303)","v":"16556302"},{"$f":"CONCATENATE(VLOOKUP(B303,'School List'!$B$3:$D$291,3,FALSE),H303)","v":"Decatur County - DECATUR COUNTY COMMUNITY SCHOOL CORP6302"},{"$f":"IF('Line 1 Source'!B303<>\"\",'Line 1 Source'!B303,\"\")","v":"16"},{"$f":"IF('Line 1 Source'!C303<>\"\",'Line 1 Source'!C303,\"\")","v":"4"},{"$f":"IF('Line 1 Source'!D303<>\"\",'Line 1 Source'!D303,\"\")","v":"1655"},{"$f":"IF('Line 1 Source'!E303<>\"\",'Line 1 Source'!E303,\"\")","v":"6302"},{"$f":"IF('Line 1 Source'!F303<>\"\",'Line 1 Source'!F303,\"\")","v":371456}]
[{"$f":"IF('Line 1 Source'!A304<>\"\",'Line 1 Source'!A304,\"\")","v":"2018"},"1641730",{"$f":"CONCATENATE(VLOOKUP(B304,'School List'!$B$3:$H$291,6,FALSE),H304)","v":"17300061"},{"$f":"CONCATENATE(VLOOKUP(B304,'School List'!$B$3:$D$291,3,FALSE),H304)","v":"Decatur County - GREENSBURG COMMUNITY SCHOOL CORPORATION0061"},{"$f":"IF('Line 1 Source'!B304<>\"\",'Line 1 Source'!B304,\"\")","v":"16"},{"$f":"IF('Line 1 Source'!C304<>\"\",'Line 1 Source'!C304,\"\")","v":"4"},{"$f":"IF('Line 1 Source'!D304<>\"\",'Line 1 Source'!D304,\"\")","v":"1730"},{"$f":"IF('Line 1 Source'!E304<>\"\",'Line 1 Source'!E304,\"\")","v":"0061"},{"$f":"IF('Line 1 Source'!F304<>\"\",'Line 1 Source'!F304,\"\")","v":500000}]
[{"$f":"IF('Line 1 Source'!A305<>\"\",'Line 1 Source'!A305,\"\")","v":"2018"},"1641730",{"$f":"CONCATENATE(VLOOKUP(B305,'School List'!$B$3:$H$291,6,FALSE),H305)","v":"17300101"},{"$f":"CONCATENATE(VLOOKUP(B305,'School List'!$B$3:$D$291,3,FALSE),H305)","v":"Decatur County - GREENSBURG COMMUNITY SCHOOL CORPORATION0101"},{"$f":"IF('Line 1 Source'!B305<>\"\",'Line 1 Source'!B305,\"\")","v":"16"},{"$f":"IF('Line 1 Source'!C305<>\"\",'Line 1 Source'!C305,\"\")","v":"4"},{"$f":"IF('Line 1 Source'!D305<>\"\",'Line 1 Source'!D305,\"\")","v":"1730"},{"$f":"IF('Line 1 Source'!E305<>\"\",'Line 1 Source'!E305,\"\")","v":"0101"},{"$f":"IF('Line 1 Source'!F305<>\"\",'Line 1 Source'!F305,\"\")","v":17955835}]
[{"$f":"IF('Line 1 Source'!A306<>\"\",'Line 1 Source'!A306,\"\")","v":"2018"},"1641730",{"$f":"CONCATENATE(VLOOKUP(B306,'School List'!$B$3:$H$291,6,FALSE),H306)","v":"17300180"},{"$f":"CONCATENATE(VLOOKUP(B306,'School List'!$B$3:$D$291,3,FALSE),H306)","v":"Decatur County - GREENSBURG COMMUNITY SCHOOL CORPORATION0180"},{"$f":"IF('Line 1 Source'!B306<>\"\",'Line 1 Source'!B306,\"\")","v":"16"},{"$f":"IF('Line 1 Source'!C306<>\"\",'Line 1 Source'!C306,\"\")","v":"4"},{"$f":"IF('Line 1 Source'!D306<>\"\",'Line 1 Source'!D306,\"\")","v":"1730"},{"$f":"IF('Line 1 Source'!E306<>\"\",'Line 1 Source'!E306,\"\")","v":"0180"},{"$f":"IF('Line 1 Source'!F306<>\"\",'Line 1 Source'!F306,\"\")","v":2862991}]
[{"$f":"IF('Line 1 Source'!A307<>\"\",'Line 1 Source'!A307,\"\")","v":"2018"},"1641730",{"$f":"CONCATENATE(VLOOKUP(B307,'School List'!$B$3:$H$291,6,FALSE),H307)","v":"17301214"},{"$f":"CONCATENATE(VLOOKUP(B307,'School List'!$B$3:$D$291,3,FALSE),H307)","v":"Decatur County - GREENSBURG COMMUNITY SCHOOL CORPORATION1214"},{"$f":"IF('Line 1 Source'!B307<>\"\",'Line 1 Source'!B307,\"\")","v":"16"},{"$f":"IF('Line 1 Source'!C307<>\"\",'Line 1 Source'!C307,\"\")","v":"4"},{"$f":"IF('Line 1 Source'!D307<>\"\",'Line 1 Source'!D307,\"\")","v":"1730"},{"$f":"IF('Line 1 Source'!E307<>\"\",'Line 1 Source'!E307,\"\")","v":"1214"},{"$f":"IF('Line 1 Source'!F307<>\"\",'Line 1 Source'!F307,\"\")","v":3083746}]
[{"$f":"IF('Line 1 Source'!A308<>\"\",'Line 1 Source'!A308,\"\")","v":"2018"},"1641730",{"$f":"CONCATENATE(VLOOKUP(B308,'School List'!$B$3:$H$291,6,FALSE),H308)","v":"17306301"},{"$f":"CONCATENATE(VLOOKUP(B308,'School List'!$B$3:$D$291,3,FALSE),H308)","v":"Decatur County - GREENSBURG COMMUNITY SCHOOL CORPORATION6301"},{"$f":"IF('Line 1 Source'!B308<>\"\",'Line 1 Source'!B308,\"\")","v":"16"},{"$f":"IF('Line 1 Source'!C308<>\"\",'Line 1 Source'!C308,\"\")","v":"4"},{"$f":"IF('Line 1 Source'!D308<>\"\",'Line 1 Source'!D308,\"\")","v":"1730"},{"$f":"IF('Line 1 Source'!E308<>\"\",'Line 1 Source'!E308,\"\")","v":"6301"},{"$f":"IF('Line 1 Source'!F308<>\"\",'Line 1 Source'!F308,\"\")","v":1355875}]
[{"$f":"IF('Line 1 Source'!A309<>\"\",'Line 1 Source'!A309,\"\")","v":"2018"},"1641730",{"$f":"CONCATENATE(VLOOKUP(B309,'School List'!$B$3:$H$291,6,FALSE),H309)","v":"17306302"},{"$f":"CONCATENATE(VLOOKUP(B309,'School List'!$B$3:$D$291,3,FALSE),H309)","v":"Decatur County - GREENSBURG COMMUNITY SCHOOL CORPORATION6302"},{"$f":"IF('Line 1 Source'!B309<>\"\",'Line 1 Source'!B309,\"\")","v":"16"},{"$f":"IF('Line 1 Source'!C309<>\"\",'Line 1 Source'!C309,\"\")","v":"4"},{"$f":"IF('Line 1 Source'!D309<>\"\",'Line 1 Source'!D309,\"\")","v":"1730"},{"$f":"IF('Line 1 Source'!E309<>\"\",'Line 1 Source'!E309,\"\")","v":"6302"},{"$f":"IF('Line 1 Source'!F309<>\"\",'Line 1 Source'!F309,\"\")","v":285000}]
[{"$f":"IF('Line 1 Source'!A310<>\"\",'Line 1 Source'!A310,\"\")","v":"2018"},"1741805",{"$f":"CONCATENATE(VLOOKUP(B310,'School List'!$B$3:$H$291,6,FALSE),H310)","v":"18050061"},{"$f":"CONCATENATE(VLOOKUP(B310,'School List'!$B$3:$D$291,3,FALSE),H310)","v":"DeKalb County - DEKALB COUNTY EASTERN COMM SCHOOL CORP0061"},{"$f":"IF('Line 1 Source'!B310<>\"\",'Line 1 Source'!B310,\"\")","v":"17"},{"$f":"IF('Line 1 Source'!C310<>\"\",'Line 1 Source'!C310,\"\")","v":"4"},{"$f":"IF('Line 1 Source'!D310<>\"\",'Line 1 Source'!D310,\"\")","v":"1805"},{"$f":"IF('Line 1 Source'!E310<>\"\",'Line 1 Source'!E310,\"\")","v":"0061"},{"$f":"IF('Line 1 Source'!F310<>\"\",'Line 1 Source'!F310,\"\")","v":1152033}]
[{"$f":"IF('Line 1 Source'!A311<>\"\",'Line 1 Source'!A311,\"\")","v":"2018"},"1741805",{"$f":"CONCATENATE(VLOOKUP(B311,'School List'!$B$3:$H$291,6,FALSE),H311)","v":"18050101"},{"$f":"CONCATENATE(VLOOKUP(B311,'School List'!$B$3:$D$291,3,FALSE),H311)","v":"DeKalb County - DEKALB COUNTY EASTERN COMM SCHOOL CORP0101"},{"$f":"IF('Line 1 Source'!B311<>\"\",'Line 1 Source'!B311,\"\")","v":"17"},{"$f":"IF('Line 1 Source'!C311<>\"\",'Line 1 Source'!C311,\"\")","v":"4"},{"$f":"IF('Line 1 Source'!D311<>\"\",'Line 1 Source'!D311,\"\")","v":"1805"},{"$f":"IF('Line 1 Source'!E311<>\"\",'Line 1 Source'!E311,\"\")","v":"0101"},{"$f":"IF('Line 1 Source'!F311<>\"\",'Line 1 Source'!F311,\"\")","v":9700169}]
[{"$f":"IF('Line 1 Source'!A312<>\"\",'Line 1 Source'!A312,\"\")","v":"2018"},"1741805",{"$f":"CONCATENATE(VLOOKUP(B312,'School List'!$B$3:$H$291,6,FALSE),H312)","v":"18050180"},{"$f":"CONCATENATE(VLOOKUP(B312,'School List'!$B$3:$D$291,3,FALSE),H312)","v":"DeKalb County - DEKALB COUNTY EASTERN COMM SCHOOL CORP0180"},{"$f":"IF('Line 1 Source'!B312<>\"\",'Line 1 Source'!B312,\"\")","v":"17"},{"$f":"IF('Line 1 Source'!C312<>\"\",'Line 1 Source'!C312,\"\")","v":"4"},{"$f":"IF('Line 1 Source'!D312<>\"\",'Line 1 Source'!D312,\"\")","v":"1805"},{"$f":"IF('Line 1 Source'!E312<>\"\",'Line 1 Source'!E312,\"\")","v":"0180"},{"$f":"IF('Line 1 Source'!F312<>\"\",'Line 1 Source'!F312,\"\")","v":2066023}]
[{"$f":"IF('Line 1 Source'!A313<>\"\",'Line 1 Source'!A313,\"\")","v":"2018"},"1741805",{"$f":"CONCATENATE(VLOOKUP(B313,'School List'!$B$3:$H$291,6,FALSE),H313)","v":"18051214"},{"$f":"CONCATENATE(VLOOKUP(B313,'School List'!$B$3:$D$291,3,FALSE),H313)","v":"DeKalb County - DEKALB COUNTY EASTERN COMM SCHOOL CORP1214"},{"$f":"IF('Line 1 Source'!B313<>\"\",'Line 1 Source'!B313,\"\")","v":"17"},{"$f":"IF('Line 1 Source'!C313<>\"\",'Line 1 Source'!C313,\"\")","v":"4"},{"$f":"IF('Line 1 Source'!D313<>\"\",'Line 1 Source'!D313,\"\")","v":"1805"},{"$f":"IF('Line 1 Source'!E313<>\"\",'Line 1 Source'!E313,\"\")","v":"1214"},{"$f":"IF('Line 1 Source'!F313<>\"\",'Line 1 Source'!F313,\"\")","v":2574675}]
[{"$f":"IF('Line 1 Source'!A314<>\"\",'Line 1 Source'!A314,\"\")","v":"2018"},"1741805",{"$f":"CONCATENATE(VLOOKUP(B314,'School List'!$B$3:$H$291,6,FALSE),H314)","v":"18056301"},{"$f":"CONCATENATE(VLOOKUP(B314,'School List'!$B$3:$D$291,3,FALSE),H314)","v":"DeKalb County - DEKALB COUNTY EASTERN COMM SCHOOL CORP6301"},{"$f":"IF('Line 1 Source'!B314<>\"\",'Line 1 Source'!B314,\"\")","v":"17"},{"$f":"IF('Line 1 Source'!C314<>\"\",'Line 1 Source'!C314,\"\")","v":"4"},{"$f":"IF('Line 1 Source'!D314<>\"\",'Line 1 Source'!D314,\"\")","v":"1805"},{"$f":"IF('Line 1 Source'!E314<>\"\",'Line 1 Source'!E314,\"\")","v":"6301"},{"$f":"IF('Line 1 Source'!F314<>\"\",'Line 1 Source'!F314,\"\")","v":1424224}]
[{"$f":"IF('Line 1 Source'!A315<>\"\",'Line 1 Source'!A315,\"\")","v":"2018"},"1741805",{"$f":"CONCATENATE(VLOOKUP(B315,'School List'!$B$3:$H$291,6,FALSE),H315)","v":"18056302"},{"$f":"CONCATENATE(VLOOKUP(B315,'School List'!$B$3:$D$291,3,FALSE),H315)","v":"DeKalb County - DEKALB COUNTY EASTERN COMM SCHOOL CORP6302"},{"$f":"IF('Line 1 Source'!B315<>\"\",'Line 1 Source'!B315,\"\")","v":"17"},{"$f":"IF('Line 1 Source'!C315<>\"\",'Line 1 Source'!C315,\"\")","v":"4"},{"$f":"IF('Line 1 Source'!D315<>\"\",'Line 1 Source'!D315,\"\")","v":"1805"},{"$f":"IF('Line 1 Source'!E315<>\"\",'Line 1 Source'!E315,\"\")","v":"6302"},{"$f":"IF('Line 1 Source'!F315<>\"\",'Line 1 Source'!F315,\"\")","v":259261}]
[{"$f":"IF('Line 1 Source'!A316<>\"\",'Line 1 Source'!A316,\"\")","v":"2018"},"1741820",{"$f":"CONCATENATE(VLOOKUP(B316,'School List'!$B$3:$H$291,6,FALSE),H316)","v":"18200061"},{"$f":"CONCATENATE(VLOOKUP(B316,'School List'!$B$3:$D$291,3,FALSE),H316)","v":"DeKalb County - GARRETT-KEYSER-BUTLER COMM SCHOOL CORP0061"},{"$f":"IF('Line 1 Source'!B316<>\"\",'Line 1 Source'!B316,\"\")","v":"17"},{"$f":"IF('Line 1 Source'!C316<>\"\",'Line 1 Source'!C316,\"\")","v":"4"},{"$f":"IF('Line 1 Source'!D316<>\"\",'Line 1 Source'!D316,\"\")","v":"1820"},{"$f":"IF('Line 1 Source'!E316<>\"\",'Line 1 Source'!E316,\"\")","v":"0061"},{"$f":"IF('Line 1 Source'!F316<>\"\",'Line 1 Source'!F316,\"\")","v":150000}]
[{"$f":"IF('Line 1 Source'!A317<>\"\",'Line 1 Source'!A317,\"\")","v":"2018"},"1741820",{"$f":"CONCATENATE(VLOOKUP(B317,'School List'!$B$3:$H$291,6,FALSE),H317)","v":"18200101"},{"$f":"CONCATENATE(VLOOKUP(B317,'School List'!$B$3:$D$291,3,FALSE),H317)","v":"DeKalb County - GARRETT-KEYSER-BUTLER COMM SCHOOL CORP0101"},{"$f":"IF('Line 1 Source'!B317<>\"\",'Line 1 Source'!B317,\"\")","v":"17"},{"$f":"IF('Line 1 Source'!C317<>\"\",'Line 1 Source'!C317,\"\")","v":"4"},{"$f":"IF('Line 1 Source'!D317<>\"\",'Line 1 Source'!D317,\"\")","v":"1820"},{"$f":"IF('Line 1 Source'!E317<>\"\",'Line 1 Source'!E317,\"\")","v":"0101"},{"$f":"IF('Line 1 Source'!F317<>\"\",'Line 1 Source'!F317,\"\")","v":12200000}]
[{"$f":"IF('Line 1 Source'!A318<>\"\",'Line 1 Source'!A318,\"\")","v":"2018"},"1741820",{"$f":"CONCATENATE(VLOOKUP(B318,'School List'!$B$3:$H$291,6,FALSE),H318)","v":"18200180"},{"$f":"CONCATENATE(VLOOKUP(B318,'School List'!$B$3:$D$291,3,FALSE),H318)","v":"DeKalb County - GARRETT-KEYSER-BUTLER COMM SCHOOL CORP0180"},{"$f":"IF('Line 1 Source'!B318<>\"\",'Line 1 Source'!B318,\"\")","v":"17"},{"$f":"IF('Line 1 Source'!C318<>\"\",'Line 1 Source'!C318,\"\")","v":"4"},{"$f":"IF('Line 1 Source'!D318<>\"\",'Line 1 Source'!D318,\"\")","v":"1820"},{"$f":"IF('Line 1 Source'!E318<>\"\",'Line 1 Source'!E318,\"\")","v":"0180"},{"$f":"IF('Line 1 Source'!F318<>\"\",'Line 1 Source'!F318,\"\")","v":2477935}]
[{"$f":"IF('Line 1 Source'!A319<>\"\",'Line 1 Source'!A319,\"\")","v":"2018"},"1741820",{"$f":"CONCATENATE(VLOOKUP(B319,'School List'!$B$3:$H$291,6,FALSE),H319)","v":"18201214"},{"$f":"CONCATENATE(VLOOKUP(B319,'School List'!$B$3:$D$291,3,FALSE),H319)","v":"DeKalb County - GARRETT-KEYSER-BUTLER COMM SCHOOL CORP1214"},{"$f":"IF('Line 1 Source'!B319<>\"\",'Line 1 Source'!B319,\"\")","v":"17"},{"$f":"IF('Line 1 Source'!C319<>\"\",'Line 1 Source'!C319,\"\")","v":"4"},{"$f":"IF('Line 1 Source'!D319<>\"\",'Line 1 Source'!D319,\"\")","v":"1820"},{"$f":"IF('Line 1 Source'!E319<>\"\",'Line 1 Source'!E319,\"\")","v":"1214"},{"$f":"IF('Line 1 Source'!F319<>\"\",'Line 1 Source'!F319,\"\")","v":1142810}]
[{"$f":"IF('Line 1 Source'!A320<>\"\",'Line 1 Source'!A320,\"\")","v":"2018"},"1741820",{"$f":"CONCATENATE(VLOOKUP(B320,'School List'!$B$3:$H$291,6,FALSE),H320)","v":"18206301"},{"$f":"CONCATENATE(VLOOKUP(B320,'School List'!$B$3:$D$291,3,FALSE),H320)","v":"DeKalb County - GARRETT-KEYSER-BUTLER COMM SCHOOL CORP6301"},{"$f":"IF('Line 1 Source'!B320<>\"\",'Line 1 Source'!B320,\"\")","v":"17"},{"$f":"IF('Line 1 Source'!C320<>\"\",'Line 1 Source'!C320,\"\")","v":"4"},{"$f":"IF('Line 1 Source'!D320<>\"\",'Line 1 Source'!D320,\"\")","v":"1820"},{"$f":"IF('Line 1 Source'!E320<>\"\",'Line 1 Source'!E320,\"\")","v":"6301"},{"$f":"IF('Line 1 Source'!F320<>\"\",'Line 1 Source'!F320,\"\")","v":805000}]
[{"$f":"IF('Line 1 Source'!A321<>\"\",'Line 1 Source'!A321,\"\")","v":"2018"},"1741820",{"$f":"CONCATENATE(VLOOKUP(B321,'School List'!$B$3:$H$291,6,FALSE),H321)","v":"18206302"},{"$f":"CONCATENATE(VLOOKUP(B321,'School List'!$B$3:$D$291,3,FALSE),H321)","v":"DeKalb County - GARRETT-KEYSER-BUTLER COMM SCHOOL CORP6302"},{"$f":"IF('Line 1 Source'!B321<>\"\",'Line 1 Source'!B321,\"\")","v":"17"},{"$f":"IF('Line 1 Source'!C321<>\"\",'Line 1 Source'!C321,\"\")","v":"4"},{"$f":"IF('Line 1 Source'!D321<>\"\",'Line 1 Source'!D321,\"\")","v":"1820"},{"$f":"IF('Line 1 Source'!E321<>\"\",'Line 1 Source'!E321,\"\")","v":"6302"},{"$f":"IF('Line 1 Source'!F321<>\"\",'Line 1 Source'!F321,\"\")","v":255000}]
[{"$f":"IF('Line 1 Source'!A322<>\"\",'Line 1 Source'!A322,\"\")","v":"2018"},"1741835",{"$f":"CONCATENATE(VLOOKUP(B322,'School List'!$B$3:$H$291,6,FALSE),H322)","v":"18350061"},{"$f":"CONCATENATE(VLOOKUP(B322,'School List'!$B$3:$D$291,3,FALSE),H322)","v":"DeKalb County - DEKALB COUNTY CENTRAL UNITED SCHOOL CORP0061"},{"$f":"IF('Line 1 Source'!B322<>\"\",'Line 1 Source'!B322,\"\")","v":"17"},{"$f":"IF('Line 1 Source'!C322<>\"\",'Line 1 Source'!C322,\"\")","v":"4"},{"$f":"IF('Line 1 Source'!D322<>\"\",'Line 1 Source'!D322,\"\")","v":"1835"},{"$f":"IF('Line 1 Source'!E322<>\"\",'Line 1 Source'!E322,\"\")","v":"0061"},{"$f":"IF('Line 1 Source'!F322<>\"\",'Line 1 Source'!F322,\"\")","v":800000}]
[{"$f":"IF('Line 1 Source'!A323<>\"\",'Line 1 Source'!A323,\"\")","v":"2018"},{"$f":"CONCATENATE(E323,F323,G323)","v":"1741835"},{"$f":"CONCATENATE(VLOOKUP(B323,'School List'!$B$3:$H$291,6,FALSE),H323)","v":"18350101"},{"$f":"CONCATENATE(VLOOKUP(B323,'School List'!$B$3:$D$291,3,FALSE),H323)","v":"DeKalb County - DEKALB COUNTY CENTRAL UNITED SCHOOL CORP0101"},{"$f":"IF('Line 1 Source'!B323<>\"\",'Line 1 Source'!B323,\"\")","v":"17"},{"$f":"IF('Line 1 Source'!C323<>\"\",'Line 1 Source'!C323,\"\")","v":"4"},{"$f":"IF('Line 1 Source'!D323<>\"\",'Line 1 Source'!D323,\"\")","v":"1835"},{"$f":"IF('Line 1 Source'!E323<>\"\",'Line 1 Source'!E323,\"\")","v":"0101"},{"$f":"IF('Line 1 Source'!F323<>\"\",'Line 1 Source'!F323,\"\")","v":24500000}]
[{"$f":"IF('Line 1 Source'!A324<>\"\",'Line 1 Source'!A324,\"\")","v":"2018"},"1741835",{"$f":"CONCATENATE(VLOOKUP(B324,'School List'!$B$3:$H$291,6,FALSE),H324)","v":"18350180"},{"$f":"CONCATENATE(VLOOKUP(B324,'School List'!$B$3:$D$291,3,FALSE),H324)","v":"DeKalb County - DEKALB COUNTY CENTRAL UNITED SCHOOL CORP0180"},{"$f":"IF('Line 1 Source'!B324<>\"\",'Line 1 Source'!B324,\"\")","v":"17"},{"$f":"IF('Line 1 Source'!C324<>\"\",'Line 1 Source'!C324,\"\")","v":"4"},{"$f":"IF('Line 1 Source'!D324<>\"\",'Line 1 Source'!D324,\"\")","v":"1835"},{"$f":"IF('Line 1 Source'!E324<>\"\",'Line 1 Source'!E324,\"\")","v":"0180"},{"$f":"IF('Line 1 Source'!F324<>\"\",'Line 1 Source'!F324,\"\")","v":4508677}]
[{"$f":"IF('Line 1 Source'!A325<>\"\",'Line 1 Source'!A325,\"\")","v":"2018"},"1741835",{"$f":"CONCATENATE(VLOOKUP(B325,'School List'!$B$3:$H$291,6,FALSE),H325)","v":"18351214"},{"$f":"CONCATENATE(VLOOKUP(B325,'School List'!$B$3:$D$291,3,FALSE),H325)","v":"DeKalb County - DEKALB COUNTY CENTRAL UNITED SCHOOL CORP1214"},{"$f":"IF('Line 1 Source'!B325<>\"\",'Line 1 Source'!B325,\"\")","v":"17"},{"$f":"IF('Line 1 Source'!C325<>\"\",'Line 1 Source'!C325,\"\")","v":"4"},{"$f":"IF('Line 1 Source'!D325<>\"\",'Line 1 Source'!D325,\"\")","v":"1835"},{"$f":"IF('Line 1 Source'!E325<>\"\",'Line 1 Source'!E325,\"\")","v":"1214"},{"$f":"IF('Line 1 Source'!F325<>\"\",'Line 1 Source'!F325,\"\")","v":3774000}]
[{"$f":"IF('Line 1 Source'!A326<>\"\",'Line 1 Source'!A326,\"\")","v":"2018"},"1741835",{"$f":"CONCATENATE(VLOOKUP(B326,'School List'!$B$3:$H$291,6,FALSE),H326)","v":"18356301"},{"$f":"CONCATENATE(VLOOKUP(B326,'School List'!$B$3:$D$291,3,FALSE),H326)","v":"DeKalb County - DEKALB COUNTY CENTRAL UNITED SCHOOL CORP6301"},{"$f":"IF('Line 1 Source'!B326<>\"\",'Line 1 Source'!B326,\"\")","v":"17"},{"$f":"IF('Line 1 Source'!C326<>\"\",'Line 1 Source'!C326,\"\")","v":"4"},{"$f":"IF('Line 1 Source'!D326<>\"\",'Line 1 Source'!D326,\"\")","v":"1835"},{"$f":"IF('Line 1 Source'!E326<>\"\",'Line 1 Source'!E326,\"\")","v":"6301"},{"$f":"IF('Line 1 Source'!F326<>\"\",'Line 1 Source'!F326,\"\")","v":2823802}]
[{"$f":"IF('Line 1 Source'!A327<>\"\",'Line 1 Source'!A327,\"\")","v":"2018"},"1741835",{"$f":"CONCATENATE(VLOOKUP(B327,'School List'!$B$3:$H$291,6,FALSE),H327)","v":"18356302"},{"$f":"CONCATENATE(VLOOKUP(B327,'School List'!$B$3:$D$291,3,FALSE),H327)","v":"DeKalb County - DEKALB COUNTY CENTRAL UNITED SCHOOL CORP6302"},{"$f":"IF('Line 1 Source'!B327<>\"\",'Line 1 Source'!B327,\"\")","v":"17"},{"$f":"IF('Line 1 Source'!C327<>\"\",'Line 1 Source'!C327,\"\")","v":"4"},{"$f":"IF('Line 1 Source'!D327<>\"\",'Line 1 Source'!D327,\"\")","v":"1835"},{"$f":"IF('Line 1 Source'!E327<>\"\",'Line 1 Source'!E327,\"\")","v":"6302"},{"$f":"IF('Line 1 Source'!F327<>\"\",'Line 1 Source'!F327,\"\")","v":550000}]
[{"$f":"IF('Line 1 Source'!A328<>\"\",'Line 1 Source'!A328,\"\")","v":"2018"},"1747610",{"$f":"CONCATENATE(VLOOKUP(B328,'School List'!$B$3:$H$291,6,FALSE),H328)","v":{"$error":"#N/A"}},{"$f":"CONCATENATE(VLOOKUP(B328,'School List'!$B$3:$D$291,3,FALSE),H328)","v":{"$error":"#N/A"}},{"$f":"IF('Line 1 Source'!B328<>\"\",'Line 1 Source'!B328,\"\")","v":"17"},{"$f":"IF('Line 1 Source'!C328<>\"\",'Line 1 Source'!C328,\"\")","v":"4"},{"$f":"IF('Line 1 Source'!D328<>\"\",'Line 1 Source'!D328,\"\")","v":"7610"},{"$f":"IF('Line 1 Source'!E328<>\"\",'Line 1 Source'!E328,\"\")","v":"0022"},{"$f":"IF('Line 1 Source'!F328<>\"\",'Line 1 Source'!F328,\"\")","v":0}]
[{"$f":"IF('Line 1 Source'!A329<>\"\",'Line 1 Source'!A329,\"\")","v":"2018"},"1747610",{"$f":"CONCATENATE(VLOOKUP(B329,'School List'!$B$3:$H$291,6,FALSE),H329)","v":{"$error":"#N/A"}},{"$f":"CONCATENATE(VLOOKUP(B329,'School List'!$B$3:$D$291,3,FALSE),H329)","v":{"$error":"#N/A"}},{"$f":"IF('Line 1 Source'!B329<>\"\",'Line 1 Source'!B329,\"\")","v":"17"},{"$f":"IF('Line 1 Source'!C329<>\"\",'Line 1 Source'!C329,\"\")","v":"4"},{"$f":"IF('Line 1 Source'!D329<>\"\",'Line 1 Source'!D329,\"\")","v":"7610"},{"$f":"IF('Line 1 Source'!E329<>\"\",'Line 1 Source'!E329,\"\")","v":"0061"},{"$f":"IF('Line 1 Source'!F329<>\"\",'Line 1 Source'!F329,\"\")","v":0}]
[{"$f":"IF('Line 1 Source'!A330<>\"\",'Line 1 Source'!A330,\"\")","v":"2018"},"1747610",{"$f":"CONCATENATE(VLOOKUP(B330,'School List'!$B$3:$H$291,6,FALSE),H330)","v":{"$error":"#N/A"}},{"$f":"CONCATENATE(VLOOKUP(B330,'School List'!$B$3:$D$291,3,FALSE),H330)","v":{"$error":"#N/A"}},{"$f":"IF('Line 1 Source'!B330<>\"\",'Line 1 Source'!B330,\"\")","v":"17"},{"$f":"IF('Line 1 Source'!C330<>\"\",'Line 1 Source'!C330,\"\")","v":"4"},{"$f":"IF('Line 1 Source'!D330<>\"\",'Line 1 Source'!D330,\"\")","v":"7610"},{"$f":"IF('Line 1 Source'!E330<>\"\",'Line 1 Source'!E330,\"\")","v":"0101"},{"$f":"IF('Line 1 Source'!F330<>\"\",'Line 1 Source'!F330,\"\")","v":0}]
[{"$f":"IF('Line 1 Source'!A331<>\"\",'Line 1 Source'!A331,\"\")","v":"2018"},"1747610",{"$f":"CONCATENATE(VLOOKUP(B331,'School List'!$B$3:$H$291,6,FALSE),H331)","v":{"$error":"#N/A"}},{"$f":"CONCATENATE(VLOOKUP(B331,'School List'!$B$3:$D$291,3,FALSE),H331)","v":{"$error":"#N/A"}},{"$f":"IF('Line 1 Source'!B331<>\"\",'Line 1 Source'!B331,\"\")","v":"17"},{"$f":"IF('Line 1 Source'!C331<>\"\",'Line 1 Source'!C331,\"\")","v":"4"},{"$f":"IF('Line 1 Source'!D331<>\"\",'Line 1 Source'!D331,\"\")","v":"7610"},{"$f":"IF('Line 1 Source'!E331<>\"\",'Line 1 Source'!E331,\"\")","v":"0180"},{"$f":"IF('Line 1 Source'!F331<>\"\",'Line 1 Source'!F331,\"\")","v":0}]
[{"$f":"IF('Line 1 Source'!A332<>\"\",'Line 1 Source'!A332,\"\")","v":"2018"},"1747610",{"$f":"CONCATENATE(VLOOKUP(B332,'School List'!$B$3:$H$291,6,FALSE),H332)","v":{"$error":"#N/A"}},{"$f":"CONCATENATE(VLOOKUP(B332,'School List'!$B$3:$D$291,3,FALSE),H332)","v":{"$error":"#N/A"}},{"$f":"IF('Line 1 Source'!B332<>\"\",'Line 1 Source'!B332,\"\")","v":"17"},{"$f":"IF('Line 1 Source'!C332<>\"\",'Line 1 Source'!C332,\"\")","v":"4"},{"$f":"IF('Line 1 Source'!D332<>\"\",'Line 1 Source'!D332,\"\")","v":"7610"},{"$f":"IF('Line 1 Source'!E332<>\"\",'Line 1 Source'!E332,\"\")","v":"1214"},{"$f":"IF('Line 1 Source'!F332<>\"\",'Line 1 Source'!F332,\"\")","v":0}]
[{"$f":"IF('Line 1 Source'!A333<>\"\",'Line 1 Source'!A333,\"\")","v":"2018"},"1747610",{"$f":"CONCATENATE(VLOOKUP(B333,'School List'!$B$3:$H$291,6,FALSE),H333)","v":{"$error":"#N/A"}},{"$f":"CONCATENATE(VLOOKUP(B333,'School List'!$B$3:$D$291,3,FALSE),H333)","v":{"$error":"#N/A"}},{"$f":"IF('Line 1 Source'!B333<>\"\",'Line 1 Source'!B333,\"\")","v":"17"},{"$f":"IF('Line 1 Source'!C333<>\"\",'Line 1 Source'!C333,\"\")","v":"4"},{"$f":"IF('Line 1 Source'!D333<>\"\",'Line 1 Source'!D333,\"\")","v":"7610"},{"$f":"IF('Line 1 Source'!E333<>\"\",'Line 1 Source'!E333,\"\")","v":"6301"},{"$f":"IF('Line 1 Source'!F333<>\"\",'Line 1 Source'!F333,\"\")","v":0}]
[{"$f":"IF('Line 1 Source'!A334<>\"\",'Line 1 Source'!A334,\"\")","v":"2018"},"1747610",{"$f":"CONCATENATE(VLOOKUP(B334,'School List'!$B$3:$H$291,6,FALSE),H334)","v":{"$error":"#N/A"}},{"$f":"CONCATENATE(VLOOKUP(B334,'School List'!$B$3:$D$291,3,FALSE),H334)","v":{"$error":"#N/A"}},{"$f":"IF('Line 1 Source'!B334<>\"\",'Line 1 Source'!B334,\"\")","v":"17"},{"$f":"IF('Line 1 Source'!C334<>\"\",'Line 1 Source'!C334,\"\")","v":"4"},{"$f":"IF('Line 1 Source'!D334<>\"\",'Line 1 Source'!D334,\"\")","v":"7610"},{"$f":"IF('Line 1 Source'!E334<>\"\",'Line 1 Source'!E334,\"\")","v":"6302"},{"$f":"IF('Line 1 Source'!F334<>\"\",'Line 1 Source'!F334,\"\")","v":0}]
[{"$f":"IF('Line 1 Source'!A335<>\"\",'Line 1 Source'!A335,\"\")","v":"2018"},"1841875",{"$f":"CONCATENATE(VLOOKUP(B335,'School List'!$B$3:$H$291,6,FALSE),H335)","v":"18750061"},{"$f":"CONCATENATE(VLOOKUP(B335,'School List'!$B$3:$D$291,3,FALSE),H335)","v":"Delaware County - DELAWARE COMMUNITY SCHOOL CORPORATION0061"},{"$f":"IF('Line 1 Source'!B335<>\"\",'Line 1 Source'!B335,\"\")","v":"18"},{"$f":"IF('Line 1 Source'!C335<>\"\",'Line 1 Source'!C335,\"\")","v":"4"},{"$f":"IF('Line 1 Source'!D335<>\"\",'Line 1 Source'!D335,\"\")","v":"1875"},{"$f":"IF('Line 1 Source'!E335<>\"\",'Line 1 Source'!E335,\"\")","v":"0061"},{"$f":"IF('Line 1 Source'!F335<>\"\",'Line 1 Source'!F335,\"\")","v":300000}]
[{"$f":"IF('Line 1 Source'!A336<>\"\",'Line 1 Source'!A336,\"\")","v":"2018"},"1841875",{"$f":"CONCATENATE(VLOOKUP(B336,'School List'!$B$3:$H$291,6,FALSE),H336)","v":"18750101"},{"$f":"CONCATENATE(VLOOKUP(B336,'School List'!$B$3:$D$291,3,FALSE),H336)","v":"Delaware County - DELAWARE COMMUNITY SCHOOL CORPORATION0101"},{"$f":"IF('Line 1 Source'!B336<>\"\",'Line 1 Source'!B336,\"\")","v":"18"},{"$f":"IF('Line 1 Source'!C336<>\"\",'Line 1 Source'!C336,\"\")","v":"4"},{"$f":"IF('Line 1 Source'!D336<>\"\",'Line 1 Source'!D336,\"\")","v":"1875"},{"$f":"IF('Line 1 Source'!E336<>\"\",'Line 1 Source'!E336,\"\")","v":"0101"},{"$f":"IF('Line 1 Source'!F336<>\"\",'Line 1 Source'!F336,\"\")","v":19600000}]
[{"$f":"IF('Line 1 Source'!A337<>\"\",'Line 1 Source'!A337,\"\")","v":"2018"},"1841875",{"$f":"CONCATENATE(VLOOKUP(B337,'School List'!$B$3:$H$291,6,FALSE),H337)","v":"18750180"},{"$f":"CONCATENATE(VLOOKUP(B337,'School List'!$B$3:$D$291,3,FALSE),H337)","v":"Delaware County - DELAWARE COMMUNITY SCHOOL CORPORATION0180"},{"$f":"IF('Line 1 Source'!B337<>\"\",'Line 1 Source'!B337,\"\")","v":"18"},{"$f":"IF('Line 1 Source'!C337<>\"\",'Line 1 Source'!C337,\"\")","v":"4"},{"$f":"IF('Line 1 Source'!D337<>\"\",'Line 1 Source'!D337,\"\")","v":"1875"},{"$f":"IF('Line 1 Source'!E337<>\"\",'Line 1 Source'!E337,\"\")","v":"0180"},{"$f":"IF('Line 1 Source'!F337<>\"\",'Line 1 Source'!F337,\"\")","v":1998676}]
[{"$f":"IF('Line 1 Source'!A338<>\"\",'Line 1 Source'!A338,\"\")","v":"2018"},"1841875",{"$f":"CONCATENATE(VLOOKUP(B338,'School List'!$B$3:$H$291,6,FALSE),H338)","v":"18750186"},{"$f":"CONCATENATE(VLOOKUP(B338,'School List'!$B$3:$D$291,3,FALSE),H338)","v":"Delaware County - DELAWARE COMMUNITY SCHOOL CORPORATION0186"},{"$f":"IF('Line 1 Source'!B338<>\"\",'Line 1 Source'!B338,\"\")","v":"18"},{"$f":"IF('Line 1 Source'!C338<>\"\",'Line 1 Source'!C338,\"\")","v":"4"},{"$f":"IF('Line 1 Source'!D338<>\"\",'Line 1 Source'!D338,\"\")","v":"1875"},{"$f":"IF('Line 1 Source'!E338<>\"\",'Line 1 Source'!E338,\"\")","v":"0186"},{"$f":"IF('Line 1 Source'!F338<>\"\",'Line 1 Source'!F338,\"\")","v":384329}]
[{"$f":"IF('Line 1 Source'!A339<>\"\",'Line 1 Source'!A339,\"\")","v":"2018"},"1841875",{"$f":"CONCATENATE(VLOOKUP(B339,'School List'!$B$3:$H$291,6,FALSE),H339)","v":"18751214"},{"$f":"CONCATENATE(VLOOKUP(B339,'School List'!$B$3:$D$291,3,FALSE),H339)","v":"Delaware County - DELAWARE COMMUNITY SCHOOL CORPORATION1214"},{"$f":"IF('Line 1 Source'!B339<>\"\",'Line 1 Source'!B339,\"\")","v":"18"},{"$f":"IF('Line 1 Source'!C339<>\"\",'Line 1 Source'!C339,\"\")","v":"4"},{"$f":"IF('Line 1 Source'!D339<>\"\",'Line 1 Source'!D339,\"\")","v":"1875"},{"$f":"IF('Line 1 Source'!E339<>\"\",'Line 1 Source'!E339,\"\")","v":"1214"},{"$f":"IF('Line 1 Source'!F339<>\"\",'Line 1 Source'!F339,\"\")","v":2596874}]
[{"$f":"IF('Line 1 Source'!A340<>\"\",'Line 1 Source'!A340,\"\")","v":"2018"},"1841875",{"$f":"CONCATENATE(VLOOKUP(B340,'School List'!$B$3:$H$291,6,FALSE),H340)","v":"18756301"},{"$f":"CONCATENATE(VLOOKUP(B340,'School List'!$B$3:$D$291,3,FALSE),H340)","v":"Delaware County - DELAWARE COMMUNITY SCHOOL CORPORATION6301"},{"$f":"IF('Line 1 Source'!B340<>\"\",'Line 1 Source'!B340,\"\")","v":"18"},{"$f":"IF('Line 1 Source'!C340<>\"\",'Line 1 Source'!C340,\"\")","v":"4"},{"$f":"IF('Line 1 Source'!D340<>\"\",'Line 1 Source'!D340,\"\")","v":"1875"},{"$f":"IF('Line 1 Source'!E340<>\"\",'Line 1 Source'!E340,\"\")","v":"6301"},{"$f":"IF('Line 1 Source'!F340<>\"\",'Line 1 Source'!F340,\"\")","v":2350000}]
[{"$f":"IF('Line 1 Source'!A341<>\"\",'Line 1 Source'!A341,\"\")","v":"2018"},"1841875",{"$f":"CONCATENATE(VLOOKUP(B341,'School List'!$B$3:$H$291,6,FALSE),H341)","v":"18756302"},{"$f":"CONCATENATE(VLOOKUP(B341,'School List'!$B$3:$D$291,3,FALSE),H341)","v":"Delaware County - DELAWARE COMMUNITY SCHOOL CORPORATION6302"},{"$f":"IF('Line 1 Source'!B341<>\"\",'Line 1 Source'!B341,\"\")","v":"18"},{"$f":"IF('Line 1 Source'!C341<>\"\",'Line 1 Source'!C341,\"\")","v":"4"},{"$f":"IF('Line 1 Source'!D341<>\"\",'Line 1 Source'!D341,\"\")","v":"1875"},{"$f":"IF('Line 1 Source'!E341<>\"\",'Line 1 Source'!E341,\"\")","v":"6302"},{"$f":"IF('Line 1 Source'!F341<>\"\",'Line 1 Source'!F341,\"\")","v":525000}]
[{"$f":"IF('Line 1 Source'!A342<>\"\",'Line 1 Source'!A342,\"\")","v":"2018"},"1841885",{"$f":"CONCATENATE(VLOOKUP(B342,'School List'!$B$3:$H$291,6,FALSE),H342)","v":"18850061"},{"$f":"CONCATENATE(VLOOKUP(B342,'School List'!$B$3:$D$291,3,FALSE),H342)","v":"Delaware County - WES-DEL COMMUNITY SCHOOL CORP0061"},{"$f":"IF('Line 1 Source'!B342<>\"\",'Line 1 Source'!B342,\"\")","v":"18"},{"$f":"IF('Line 1 Source'!C342<>\"\",'Line 1 Source'!C342,\"\")","v":"4"},{"$f":"IF('Line 1 Source'!D342<>\"\",'Line 1 Source'!D342,\"\")","v":"1885"},{"$f":"IF('Line 1 Source'!E342<>\"\",'Line 1 Source'!E342,\"\")","v":"0061"},{"$f":"IF('Line 1 Source'!F342<>\"\",'Line 1 Source'!F342,\"\")","v":400000}]
[{"$f":"IF('Line 1 Source'!A343<>\"\",'Line 1 Source'!A343,\"\")","v":"2018"},"1841885",{"$f":"CONCATENATE(VLOOKUP(B343,'School List'!$B$3:$H$291,6,FALSE),H343)","v":"18850101"},{"$f":"CONCATENATE(VLOOKUP(B343,'School List'!$B$3:$D$291,3,FALSE),H343)","v":"Delaware County - WES-DEL COMMUNITY SCHOOL CORP0101"},{"$f":"IF('Line 1 Source'!B343<>\"\",'Line 1 Source'!B343,\"\")","v":"18"},{"$f":"IF('Line 1 Source'!C343<>\"\",'Line 1 Source'!C343,\"\")","v":"4"},{"$f":"IF('Line 1 Source'!D343<>\"\",'Line 1 Source'!D343,\"\")","v":"1885"},{"$f":"IF('Line 1 Source'!E343<>\"\",'Line 1 Source'!E343,\"\")","v":"0101"},{"$f":"IF('Line 1 Source'!F343<>\"\",'Line 1 Source'!F343,\"\")","v":6300000}]
[{"$f":"IF('Line 1 Source'!A344<>\"\",'Line 1 Source'!A344,\"\")","v":"2018"},"1841885",{"$f":"CONCATENATE(VLOOKUP(B344,'School List'!$B$3:$H$291,6,FALSE),H344)","v":"18850180"},{"$f":"CONCATENATE(VLOOKUP(B344,'School List'!$B$3:$D$291,3,FALSE),H344)","v":"Delaware County - WES-DEL COMMUNITY SCHOOL CORP0180"},{"$f":"IF('Line 1 Source'!B344<>\"\",'Line 1 Source'!B344,\"\")","v":"18"},{"$f":"IF('Line 1 Source'!C344<>\"\",'Line 1 Source'!C344,\"\")","v":"4"},{"$f":"IF('Line 1 Source'!D344<>\"\",'Line 1 Source'!D344,\"\")","v":"1885"},{"$f":"IF('Line 1 Source'!E344<>\"\",'Line 1 Source'!E344,\"\")","v":"0180"},{"$f":"IF('Line 1 Source'!F344<>\"\",'Line 1 Source'!F344,\"\")","v":801901}]
[{"$f":"IF('Line 1 Source'!A345<>\"\",'Line 1 Source'!A345,\"\")","v":"2018"},"1841885",{"$f":"CONCATENATE(VLOOKUP(B345,'School List'!$B$3:$H$291,6,FALSE),H345)","v":"18851214"},{"$f":"CONCATENATE(VLOOKUP(B345,'School List'!$B$3:$D$291,3,FALSE),H345)","v":"Delaware County - WES-DEL COMMUNITY SCHOOL CORP1214"},{"$f":"IF('Line 1 Source'!B345<>\"\",'Line 1 Source'!B345,\"\")","v":"18"},{"$f":"IF('Line 1 Source'!C345<>\"\",'Line 1 Source'!C345,\"\")","v":"4"},{"$f":"IF('Line 1 Source'!D345<>\"\",'Line 1 Source'!D345,\"\")","v":"1885"},{"$f":"IF('Line 1 Source'!E345<>\"\",'Line 1 Source'!E345,\"\")","v":"1214"},{"$f":"IF('Line 1 Source'!F345<>\"\",'Line 1 Source'!F345,\"\")","v":682310}]
[{"$f":"IF('Line 1 Source'!A346<>\"\",'Line 1 Source'!A346,\"\")","v":"2018"},"1841885",{"$f":"CONCATENATE(VLOOKUP(B346,'School List'!$B$3:$H$291,6,FALSE),H346)","v":"18856301"},{"$f":"CONCATENATE(VLOOKUP(B346,'School List'!$B$3:$D$291,3,FALSE),H346)","v":"Delaware County - WES-DEL COMMUNITY SCHOOL CORP6301"},{"$f":"IF('Line 1 Source'!B346<>\"\",'Line 1 Source'!B346,\"\")","v":"18"},{"$f":"IF('Line 1 Source'!C346<>\"\",'Line 1 Source'!C346,\"\")","v":"4"},{"$f":"IF('Line 1 Source'!D346<>\"\",'Line 1 Source'!D346,\"\")","v":"1885"},{"$f":"IF('Line 1 Source'!E346<>\"\",'Line 1 Source'!E346,\"\")","v":"6301"},{"$f":"IF('Line 1 Source'!F346<>\"\",'Line 1 Source'!F346,\"\")","v":779790}]
[{"$f":"IF('Line 1 Source'!A347<>\"\",'Line 1 Source'!A347,\"\")","v":"2018"},"1841885",{"$f":"CONCATENATE(VLOOKUP(B347,'School List'!$B$3:$H$291,6,FALSE),H347)","v":"18856302"},{"$f":"CONCATENATE(VLOOKUP(B347,'School List'!$B$3:$D$291,3,FALSE),H347)","v":"Delaware County - WES-DEL COMMUNITY SCHOOL CORP6302"},{"$f":"IF('Line 1 Source'!B347<>\"\",'Line 1 Source'!B347,\"\")","v":"18"},{"$f":"IF('Line 1 Source'!C347<>\"\",'Line 1 Source'!C347,\"\")","v":"4"},{"$f":"IF('Line 1 Source'!D347<>\"\",'Line 1 Source'!D347,\"\")","v":"1885"},{"$f":"IF('Line 1 Source'!E347<>\"\",'Line 1 Source'!E347,\"\")","v":"6302"},{"$f":"IF('Line 1 Source'!F347<>\"\",'Line 1 Source'!F347,\"\")","v":260000}]
[{"$f":"IF('Line 1 Source'!A348<>\"\",'Line 1 Source'!A348,\"\")","v":"2018"},"1841895",{"$f":"CONCATENATE(VLOOKUP(B348,'School List'!$B$3:$H$291,6,FALSE),H348)","v":"18950061"},{"$f":"CONCATENATE(VLOOKUP(B348,'School List'!$B$3:$D$291,3,FALSE),H348)","v":"Delaware County - LIBERTY-PERRY COMMUNITY SCHOOL CORP0061"},{"$f":"IF('Line 1 Source'!B348<>\"\",'Line 1 Source'!B348,\"\")","v":"18"},{"$f":"IF('Line 1 Source'!C348<>\"\",'Line 1 Source'!C348,\"\")","v":"4"},{"$f":"IF('Line 1 Source'!D348<>\"\",'Line 1 Source'!D348,\"\")","v":"1895"},{"$f":"IF('Line 1 Source'!E348<>\"\",'Line 1 Source'!E348,\"\")","v":"0061"},{"$f":"IF('Line 1 Source'!F348<>\"\",'Line 1 Source'!F348,\"\")","v":117603}]
[{"$f":"IF('Line 1 Source'!A349<>\"\",'Line 1 Source'!A349,\"\")","v":"2018"},"1841895",{"$f":"CONCATENATE(VLOOKUP(B349,'School List'!$B$3:$H$291,6,FALSE),H349)","v":"18950101"},{"$f":"CONCATENATE(VLOOKUP(B349,'School List'!$B$3:$D$291,3,FALSE),H349)","v":"Delaware County - LIBERTY-PERRY COMMUNITY SCHOOL CORP0101"},{"$f":"IF('Line 1 Source'!B349<>\"\",'Line 1 Source'!B349,\"\")","v":"18"},{"$f":"IF('Line 1 Source'!C349<>\"\",'Line 1 Source'!C349,\"\")","v":"4"},{"$f":"IF('Line 1 Source'!D349<>\"\",'Line 1 Source'!D349,\"\")","v":"1895"},{"$f":"IF('Line 1 Source'!E349<>\"\",'Line 1 Source'!E349,\"\")","v":"0101"},{"$f":"IF('Line 1 Source'!F349<>\"\",'Line 1 Source'!F349,\"\")","v":8500000}]
[{"$f":"IF('Line 1 Source'!A350<>\"\",'Line 1 Source'!A350,\"\")","v":"2018"},"1841895",{"$f":"CONCATENATE(VLOOKUP(B350,'School List'!$B$3:$H$291,6,FALSE),H350)","v":"18950180"},{"$f":"CONCATENATE(VLOOKUP(B350,'School List'!$B$3:$D$291,3,FALSE),H350)","v":"Delaware County - LIBERTY-PERRY COMMUNITY SCHOOL CORP0180"},{"$f":"IF('Line 1 Source'!B350<>\"\",'Line 1 Source'!B350,\"\")","v":"18"},{"$f":"IF('Line 1 Source'!C350<>\"\",'Line 1 Source'!C350,\"\")","v":"4"},{"$f":"IF('Line 1 Source'!D350<>\"\",'Line 1 Source'!D350,\"\")","v":"1895"},{"$f":"IF('Line 1 Source'!E350<>\"\",'Line 1 Source'!E350,\"\")","v":"0180"},{"$f":"IF('Line 1 Source'!F350<>\"\",'Line 1 Source'!F350,\"\")","v":706955}]
[{"$f":"IF('Line 1 Source'!A351<>\"\",'Line 1 Source'!A351,\"\")","v":"2018"},"1841895",{"$f":"CONCATENATE(VLOOKUP(B351,'School List'!$B$3:$H$291,6,FALSE),H351)","v":"18950186"},{"$f":"CONCATENATE(VLOOKUP(B351,'School List'!$B$3:$D$291,3,FALSE),H351)","v":"Delaware County - LIBERTY-PERRY COMMUNITY SCHOOL CORP0186"},{"$f":"IF('Line 1 Source'!B351<>\"\",'Line 1 Source'!B351,\"\")","v":"18"},{"$f":"IF('Line 1 Source'!C351<>\"\",'Line 1 Source'!C351,\"\")","v":"4"},{"$f":"IF('Line 1 Source'!D351<>\"\",'Line 1 Source'!D351,\"\")","v":"1895"},{"$f":"IF('Line 1 Source'!E351<>\"\",'Line 1 Source'!E351,\"\")","v":"0186"},{"$f":"IF('Line 1 Source'!F351<>\"\",'Line 1 Source'!F351,\"\")","v":315721}]
[{"$f":"IF('Line 1 Source'!A352<>\"\",'Line 1 Source'!A352,\"\")","v":"2018"},"1841895",{"$f":"CONCATENATE(VLOOKUP(B352,'School List'!$B$3:$H$291,6,FALSE),H352)","v":"18951214"},{"$f":"CONCATENATE(VLOOKUP(B352,'School List'!$B$3:$D$291,3,FALSE),H352)","v":"Delaware County - LIBERTY-PERRY COMMUNITY SCHOOL CORP1214"},{"$f":"IF('Line 1 Source'!B352<>\"\",'Line 1 Source'!B352,\"\")","v":"18"},{"$f":"IF('Line 1 Source'!C352<>\"\",'Line 1 Source'!C352,\"\")","v":"4"},{"$f":"IF('Line 1 Source'!D352<>\"\",'Line 1 Source'!D352,\"\")","v":"1895"},{"$f":"IF('Line 1 Source'!E352<>\"\",'Line 1 Source'!E352,\"\")","v":"1214"},{"$f":"IF('Line 1 Source'!F352<>\"\",'Line 1 Source'!F352,\"\")","v":706880}]
[{"$f":"IF('Line 1 Source'!A353<>\"\",'Line 1 Source'!A353,\"\")","v":"2018"},"1841895",{"$f":"CONCATENATE(VLOOKUP(B353,'School List'!$B$3:$H$291,6,FALSE),H353)","v":"18956301"},{"$f":"CONCATENATE(VLOOKUP(B353,'School List'!$B$3:$D$291,3,FALSE),H353)","v":"Delaware County - LIBERTY-PERRY COMMUNITY SCHOOL CORP6301"},{"$f":"IF('Line 1 Source'!B353<>\"\",'Line 1 Source'!B353,\"\")","v":"18"},{"$f":"IF('Line 1 Source'!C353<>\"\",'Line 1 Source'!C353,\"\")","v":"4"},{"$f":"IF('Line 1 Source'!D353<>\"\",'Line 1 Source'!D353,\"\")","v":"1895"},{"$f":"IF('Line 1 Source'!E353<>\"\",'Line 1 Source'!E353,\"\")","v":"6301"},{"$f":"IF('Line 1 Source'!F353<>\"\",'Line 1 Source'!F353,\"\")","v":764526}]
[{"$f":"IF('Line 1 Source'!A354<>\"\",'Line 1 Source'!A354,\"\")","v":"2018"},"1841895",{"$f":"CONCATENATE(VLOOKUP(B354,'School List'!$B$3:$H$291,6,FALSE),H354)","v":"18956302"},{"$f":"CONCATENATE(VLOOKUP(B354,'School List'!$B$3:$D$291,3,FALSE),H354)","v":"Delaware County - LIBERTY-PERRY COMMUNITY SCHOOL CORP6302"},{"$f":"IF('Line 1 Source'!B354<>\"\",'Line 1 Source'!B354,\"\")","v":"18"},{"$f":"IF('Line 1 Source'!C354<>\"\",'Line 1 Source'!C354,\"\")","v":"4"},{"$f":"IF('Line 1 Source'!D354<>\"\",'Line 1 Source'!D354,\"\")","v":"1895"},{"$f":"IF('Line 1 Source'!E354<>\"\",'Line 1 Source'!E354,\"\")","v":"6302"},{"$f":"IF('Line 1 Source'!F354<>\"\",'Line 1 Source'!F354,\"\")","v":90149}]
[{"$f":"IF('Line 1 Source'!A355<>\"\",'Line 1 Source'!A355,\"\")","v":"2018"},"1841900",{"$f":"CONCATENATE(VLOOKUP(B355,'School List'!$B$3:$H$291,6,FALSE),H355)","v":"19000061"},{"$f":"CONCATENATE(VLOOKUP(B355,'School List'!$B$3:$D$291,3,FALSE),H355)","v":"Delaware County - COWAN COMMUNITY SCHOOL CORPORATION0061"},{"$f":"IF('Line 1 Source'!B355<>\"\",'Line 1 Source'!B355,\"\")","v":"18"},{"$f":"IF('Line 1 Source'!C355<>\"\",'Line 1 Source'!C355,\"\")","v":"4"},{"$f":"IF('Line 1 Source'!D355<>\"\",'Line 1 Source'!D355,\"\")","v":"1900"},{"$f":"IF('Line 1 Source'!E355<>\"\",'Line 1 Source'!E355,\"\")","v":"0061"},{"$f":"IF('Line 1 Source'!F355<>\"\",'Line 1 Source'!F355,\"\")","v":400000}]
[{"$f":"IF('Line 1 Source'!A356<>\"\",'Line 1 Source'!A356,\"\")","v":"2018"},"1841900",{"$f":"CONCATENATE(VLOOKUP(B356,'School List'!$B$3:$H$291,6,FALSE),H356)","v":"19000101"},{"$f":"CONCATENATE(VLOOKUP(B356,'School List'!$B$3:$D$291,3,FALSE),H356)","v":"Delaware County - COWAN COMMUNITY SCHOOL CORPORATION0101"},{"$f":"IF('Line 1 Source'!B356<>\"\",'Line 1 Source'!B356,\"\")","v":"18"},{"$f":"IF('Line 1 Source'!C356<>\"\",'Line 1 Source'!C356,\"\")","v":"4"},{"$f":"IF('Line 1 Source'!D356<>\"\",'Line 1 Source'!D356,\"\")","v":"1900"},{"$f":"IF('Line 1 Source'!E356<>\"\",'Line 1 Source'!E356,\"\")","v":"0101"},{"$f":"IF('Line 1 Source'!F356<>\"\",'Line 1 Source'!F356,\"\")","v":5728395}]
[{"$f":"IF('Line 1 Source'!A357<>\"\",'Line 1 Source'!A357,\"\")","v":"2018"},"1841900",{"$f":"CONCATENATE(VLOOKUP(B357,'School List'!$B$3:$H$291,6,FALSE),H357)","v":"19000180"},{"$f":"CONCATENATE(VLOOKUP(B357,'School List'!$B$3:$D$291,3,FALSE),H357)","v":"Delaware County - COWAN COMMUNITY SCHOOL CORPORATION0180"},{"$f":"IF('Line 1 Source'!B357<>\"\",'Line 1 Source'!B357,\"\")","v":"18"},{"$f":"IF('Line 1 Source'!C357<>\"\",'Line 1 Source'!C357,\"\")","v":"4"},{"$f":"IF('Line 1 Source'!D357<>\"\",'Line 1 Source'!D357,\"\")","v":"1900"},{"$f":"IF('Line 1 Source'!E357<>\"\",'Line 1 Source'!E357,\"\")","v":"0180"},{"$f":"IF('Line 1 Source'!F357<>\"\",'Line 1 Source'!F357,\"\")","v":646537}]
[{"$f":"IF('Line 1 Source'!A358<>\"\",'Line 1 Source'!A358,\"\")","v":"2018"},"1841900",{"$f":"CONCATENATE(VLOOKUP(B358,'School List'!$B$3:$H$291,6,FALSE),H358)","v":"19001214"},{"$f":"CONCATENATE(VLOOKUP(B358,'School List'!$B$3:$D$291,3,FALSE),H358)","v":"Delaware County - COWAN COMMUNITY SCHOOL CORPORATION1214"},{"$f":"IF('Line 1 Source'!B358<>\"\",'Line 1 Source'!B358,\"\")","v":"18"},{"$f":"IF('Line 1 Source'!C358<>\"\",'Line 1 Source'!C358,\"\")","v":"4"},{"$f":"IF('Line 1 Source'!D358<>\"\",'Line 1 Source'!D358,\"\")","v":"1900"},{"$f":"IF('Line 1 Source'!E358<>\"\",'Line 1 Source'!E358,\"\")","v":"1214"},{"$f":"IF('Line 1 Source'!F358<>\"\",'Line 1 Source'!F358,\"\")","v":521947}]
[{"$f":"IF('Line 1 Source'!A359<>\"\",'Line 1 Source'!A359,\"\")","v":"2018"},"1841900",{"$f":"CONCATENATE(VLOOKUP(B359,'School List'!$B$3:$H$291,6,FALSE),H359)","v":"19006301"},{"$f":"CONCATENATE(VLOOKUP(B359,'School List'!$B$3:$D$291,3,FALSE),H359)","v":"Delaware County - COWAN COMMUNITY SCHOOL CORPORATION6301"},{"$f":"IF('Line 1 Source'!B359<>\"\",'Line 1 Source'!B359,\"\")","v":"18"},{"$f":"IF('Line 1 Source'!C359<>\"\",'Line 1 Source'!C359,\"\")","v":"4"},{"$f":"IF('Line 1 Source'!D359<>\"\",'Line 1 Source'!D359,\"\")","v":"1900"},{"$f":"IF('Line 1 Source'!E359<>\"\",'Line 1 Source'!E359,\"\")","v":"6301"},{"$f":"IF('Line 1 Source'!F359<>\"\",'Line 1 Source'!F359,\"\")","v":554429}]
[{"$f":"IF('Line 1 Source'!A360<>\"\",'Line 1 Source'!A360,\"\")","v":"2018"},"1841900",{"$f":"CONCATENATE(VLOOKUP(B360,'School List'!$B$3:$H$291,6,FALSE),H360)","v":"19006302"},{"$f":"CONCATENATE(VLOOKUP(B360,'School List'!$B$3:$D$291,3,FALSE),H360)","v":"Delaware County - COWAN COMMUNITY SCHOOL CORPORATION6302"},{"$f":"IF('Line 1 Source'!B360<>\"\",'Line 1 Source'!B360,\"\")","v":"18"},{"$f":"IF('Line 1 Source'!C360<>\"\",'Line 1 Source'!C360,\"\")","v":"4"},{"$f":"IF('Line 1 Source'!D360<>\"\",'Line 1 Source'!D360,\"\")","v":"1900"},{"$f":"IF('Line 1 Source'!E360<>\"\",'Line 1 Source'!E360,\"\")","v":"6302"},{"$f":"IF('Line 1 Source'!F360<>\"\",'Line 1 Source'!F360,\"\")","v":184687}]
[{"$f":"IF('Line 1 Source'!A361<>\"\",'Line 1 Source'!A361,\"\")","v":"2018"},"1841910",{"$f":"CONCATENATE(VLOOKUP(B361,'School List'!$B$3:$H$291,6,FALSE),H361)","v":"19100061"},{"$f":"CONCATENATE(VLOOKUP(B361,'School List'!$B$3:$D$291,3,FALSE),H361)","v":"Delaware County - YORKTOWN COMMUNITY SCHOOLS0061"},{"$f":"IF('Line 1 Source'!B361<>\"\",'Line 1 Source'!B361,\"\")","v":"18"},{"$f":"IF('Line 1 Source'!C361<>\"\",'Line 1 Source'!C361,\"\")","v":"4"},{"$f":"IF('Line 1 Source'!D361<>\"\",'Line 1 Source'!D361,\"\")","v":"1910"},{"$f":"IF('Line 1 Source'!E361<>\"\",'Line 1 Source'!E361,\"\")","v":"0061"},{"$f":"IF('Line 1 Source'!F361<>\"\",'Line 1 Source'!F361,\"\")","v":500000}]
[{"$f":"IF('Line 1 Source'!A362<>\"\",'Line 1 Source'!A362,\"\")","v":"2018"},"1841910",{"$f":"CONCATENATE(VLOOKUP(B362,'School List'!$B$3:$H$291,6,FALSE),H362)","v":"19100101"},{"$f":"CONCATENATE(VLOOKUP(B362,'School List'!$B$3:$D$291,3,FALSE),H362)","v":"Delaware County - YORKTOWN COMMUNITY SCHOOLS0101"},{"$f":"IF('Line 1 Source'!B362<>\"\",'Line 1 Source'!B362,\"\")","v":"18"},{"$f":"IF('Line 1 Source'!C362<>\"\",'Line 1 Source'!C362,\"\")","v":"4"},{"$f":"IF('Line 1 Source'!D362<>\"\",'Line 1 Source'!D362,\"\")","v":"1910"},{"$f":"IF('Line 1 Source'!E362<>\"\",'Line 1 Source'!E362,\"\")","v":"0101"},{"$f":"IF('Line 1 Source'!F362<>\"\",'Line 1 Source'!F362,\"\")","v":16000000}]
[{"$f":"IF('Line 1 Source'!A363<>\"\",'Line 1 Source'!A363,\"\")","v":"2018"},"1841910",{"$f":"CONCATENATE(VLOOKUP(B363,'School List'!$B$3:$H$291,6,FALSE),H363)","v":"19100180"},{"$f":"CONCATENATE(VLOOKUP(B363,'School List'!$B$3:$D$291,3,FALSE),H363)","v":"Delaware County - YORKTOWN COMMUNITY SCHOOLS0180"},{"$f":"IF('Line 1 Source'!B363<>\"\",'Line 1 Source'!B363,\"\")","v":"18"},{"$f":"IF('Line 1 Source'!C363<>\"\",'Line 1 Source'!C363,\"\")","v":"4"},{"$f":"IF('Line 1 Source'!D363<>\"\",'Line 1 Source'!D363,\"\")","v":"1910"},{"$f":"IF('Line 1 Source'!E363<>\"\",'Line 1 Source'!E363,\"\")","v":"0180"},{"$f":"IF('Line 1 Source'!F363<>\"\",'Line 1 Source'!F363,\"\")","v":1994888}]
[{"$f":"IF('Line 1 Source'!A364<>\"\",'Line 1 Source'!A364,\"\")","v":"2018"},"1841910",{"$f":"CONCATENATE(VLOOKUP(B364,'School List'!$B$3:$H$291,6,FALSE),H364)","v":"19101214"},{"$f":"CONCATENATE(VLOOKUP(B364,'School List'!$B$3:$D$291,3,FALSE),H364)","v":"Delaware County - YORKTOWN COMMUNITY SCHOOLS1214"},{"$f":"IF('Line 1 Source'!B364<>\"\",'Line 1 Source'!B364,\"\")","v":"18"},{"$f":"IF('Line 1 Source'!C364<>\"\",'Line 1 Source'!C364,\"\")","v":"4"},{"$f":"IF('Line 1 Source'!D364<>\"\",'Line 1 Source'!D364,\"\")","v":"1910"},{"$f":"IF('Line 1 Source'!E364<>\"\",'Line 1 Source'!E364,\"\")","v":"1214"},{"$f":"IF('Line 1 Source'!F364<>\"\",'Line 1 Source'!F364,\"\")","v":2790901}]
[{"$f":"IF('Line 1 Source'!A365<>\"\",'Line 1 Source'!A365,\"\")","v":"2018"},"1841910",{"$f":"CONCATENATE(VLOOKUP(B365,'School List'!$B$3:$H$291,6,FALSE),H365)","v":"19106301"},{"$f":"CONCATENATE(VLOOKUP(B365,'School List'!$B$3:$D$291,3,FALSE),H365)","v":"Delaware County - YORKTOWN COMMUNITY SCHOOLS6301"},{"$f":"IF('Line 1 Source'!B365<>\"\",'Line 1 Source'!B365,\"\")","v":"18"},{"$f":"IF('Line 1 Source'!C365<>\"\",'Line 1 Source'!C365,\"\")","v":"4"},{"$f":"IF('Line 1 Source'!D365<>\"\",'Line 1 Source'!D365,\"\")","v":"1910"},{"$f":"IF('Line 1 Source'!E365<>\"\",'Line 1 Source'!E365,\"\")","v":"6301"},{"$f":"IF('Line 1 Source'!F365<>\"\",'Line 1 Source'!F365,\"\")","v":1750000}]
[{"$f":"IF('Line 1 Source'!A366<>\"\",'Line 1 Source'!A366,\"\")","v":"2018"},"1841910",{"$f":"CONCATENATE(VLOOKUP(B366,'School List'!$B$3:$H$291,6,FALSE),H366)","v":"19106302"},{"$f":"CONCATENATE(VLOOKUP(B366,'School List'!$B$3:$D$291,3,FALSE),H366)","v":"Delaware County - YORKTOWN COMMUNITY SCHOOLS6302"},{"$f":"IF('Line 1 Source'!B366<>\"\",'Line 1 Source'!B366,\"\")","v":"18"},{"$f":"IF('Line 1 Source'!C366<>\"\",'Line 1 Source'!C366,\"\")","v":"4"},{"$f":"IF('Line 1 Source'!D366<>\"\",'Line 1 Source'!D366,\"\")","v":"1910"},{"$f":"IF('Line 1 Source'!E366<>\"\",'Line 1 Source'!E366,\"\")","v":"6302"},{"$f":"IF('Line 1 Source'!F366<>\"\",'Line 1 Source'!F366,\"\")","v":333175}]
[{"$f":"IF('Line 1 Source'!A367<>\"\",'Line 1 Source'!A367,\"\")","v":"2018"},"1841940",{"$f":"CONCATENATE(VLOOKUP(B367,'School List'!$B$3:$H$291,6,FALSE),H367)","v":"19400061"},{"$f":"CONCATENATE(VLOOKUP(B367,'School List'!$B$3:$D$291,3,FALSE),H367)","v":"Delaware County - DALEVILLE COMMUNITY SCHOOLS0061"},{"$f":"IF('Line 1 Source'!B367<>\"\",'Line 1 Source'!B367,\"\")","v":"18"},{"$f":"IF('Line 1 Source'!C367<>\"\",'Line 1 Source'!C367,\"\")","v":"4"},{"$f":"IF('Line 1 Source'!D367<>\"\",'Line 1 Source'!D367,\"\")","v":"1940"},{"$f":"IF('Line 1 Source'!E367<>\"\",'Line 1 Source'!E367,\"\")","v":"0061"},{"$f":"IF('Line 1 Source'!F367<>\"\",'Line 1 Source'!F367,\"\")","v":83000}]
[{"$f":"IF('Line 1 Source'!A368<>\"\",'Line 1 Source'!A368,\"\")","v":"2018"},"1841940",{"$f":"CONCATENATE(VLOOKUP(B368,'School List'!$B$3:$H$291,6,FALSE),H368)","v":"19400101"},{"$f":"CONCATENATE(VLOOKUP(B368,'School List'!$B$3:$D$291,3,FALSE),H368)","v":"Delaware County - DALEVILLE COMMUNITY SCHOOLS0101"},{"$f":"IF('Line 1 Source'!B368<>\"\",'Line 1 Source'!B368,\"\")","v":"18"},{"$f":"IF('Line 1 Source'!C368<>\"\",'Line 1 Source'!C368,\"\")","v":"4"},{"$f":"IF('Line 1 Source'!D368<>\"\",'Line 1 Source'!D368,\"\")","v":"1940"},{"$f":"IF('Line 1 Source'!E368<>\"\",'Line 1 Source'!E368,\"\")","v":"0101"},{"$f":"IF('Line 1 Source'!F368<>\"\",'Line 1 Source'!F368,\"\")","v":6500000}]
[{"$f":"IF('Line 1 Source'!A369<>\"\",'Line 1 Source'!A369,\"\")","v":"2018"},"1841940",{"$f":"CONCATENATE(VLOOKUP(B369,'School List'!$B$3:$H$291,6,FALSE),H369)","v":"19400180"},{"$f":"CONCATENATE(VLOOKUP(B369,'School List'!$B$3:$D$291,3,FALSE),H369)","v":"Delaware County - DALEVILLE COMMUNITY SCHOOLS0180"},{"$f":"IF('Line 1 Source'!B369<>\"\",'Line 1 Source'!B369,\"\")","v":"18"},{"$f":"IF('Line 1 Source'!C369<>\"\",'Line 1 Source'!C369,\"\")","v":"4"},{"$f":"IF('Line 1 Source'!D369<>\"\",'Line 1 Source'!D369,\"\")","v":"1940"},{"$f":"IF('Line 1 Source'!E369<>\"\",'Line 1 Source'!E369,\"\")","v":"0180"},{"$f":"IF('Line 1 Source'!F369<>\"\",'Line 1 Source'!F369,\"\")","v":1230751}]
[{"$f":"IF('Line 1 Source'!A370<>\"\",'Line 1 Source'!A370,\"\")","v":"2018"},"1841940",{"$f":"CONCATENATE(VLOOKUP(B370,'School List'!$B$3:$H$291,6,FALSE),H370)","v":"19401214"},{"$f":"CONCATENATE(VLOOKUP(B370,'School List'!$B$3:$D$291,3,FALSE),H370)","v":"Delaware County - DALEVILLE COMMUNITY SCHOOLS1214"},{"$f":"IF('Line 1 Source'!B370<>\"\",'Line 1 Source'!B370,\"\")","v":"18"},{"$f":"IF('Line 1 Source'!C370<>\"\",'Line 1 Source'!C370,\"\")","v":"4"},{"$f":"IF('Line 1 Source'!D370<>\"\",'Line 1 Source'!D370,\"\")","v":"1940"},{"$f":"IF('Line 1 Source'!E370<>\"\",'Line 1 Source'!E370,\"\")","v":"1214"},{"$f":"IF('Line 1 Source'!F370<>\"\",'Line 1 Source'!F370,\"\")","v":403256}]
[{"$f":"IF('Line 1 Source'!A371<>\"\",'Line 1 Source'!A371,\"\")","v":"2018"},"1841940",{"$f":"CONCATENATE(VLOOKUP(B371,'School List'!$B$3:$H$291,6,FALSE),H371)","v":"19406301"},{"$f":"CONCATENATE(VLOOKUP(B371,'School List'!$B$3:$D$291,3,FALSE),H371)","v":"Delaware County - DALEVILLE COMMUNITY SCHOOLS6301"},{"$f":"IF('Line 1 Source'!B371<>\"\",'Line 1 Source'!B371,\"\")","v":"18"},{"$f":"IF('Line 1 Source'!C371<>\"\",'Line 1 Source'!C371,\"\")","v":"4"},{"$f":"IF('Line 1 Source'!D371<>\"\",'Line 1 Source'!D371,\"\")","v":"1940"},{"$f":"IF('Line 1 Source'!E371<>\"\",'Line 1 Source'!E371,\"\")","v":"6301"},{"$f":"IF('Line 1 Source'!F371<>\"\",'Line 1 Source'!F371,\"\")","v":613401}]
[{"$f":"IF('Line 1 Source'!A372<>\"\",'Line 1 Source'!A372,\"\")","v":"2018"},"1841940",{"$f":"CONCATENATE(VLOOKUP(B372,'School List'!$B$3:$H$291,6,FALSE),H372)","v":"19406302"},{"$f":"CONCATENATE(VLOOKUP(B372,'School List'!$B$3:$D$291,3,FALSE),H372)","v":"Delaware County - DALEVILLE COMMUNITY SCHOOLS6302"},{"$f":"IF('Line 1 Source'!B372<>\"\",'Line 1 Source'!B372,\"\")","v":"18"},{"$f":"IF('Line 1 Source'!C372<>\"\",'Line 1 Source'!C372,\"\")","v":"4"},{"$f":"IF('Line 1 Source'!D372<>\"\",'Line 1 Source'!D372,\"\")","v":"1940"},{"$f":"IF('Line 1 Source'!E372<>\"\",'Line 1 Source'!E372,\"\")","v":"6302"},{"$f":"IF('Line 1 Source'!F372<>\"\",'Line 1 Source'!F372,\"\")","v":84199}]
[{"$f":"IF('Line 1 Source'!A373<>\"\",'Line 1 Source'!A373,\"\")","v":"2018"},"1841970",{"$f":"CONCATENATE(VLOOKUP(B373,'School List'!$B$3:$H$291,6,FALSE),H373)","v":"19700101"},{"$f":"CONCATENATE(VLOOKUP(B373,'School List'!$B$3:$D$291,3,FALSE),H373)","v":"Delaware County - MUNCIE COMMUNITY SCHOOL CORPORATION0101"},{"$f":"IF('Line 1 Source'!B373<>\"\",'Line 1 Source'!B373,\"\")","v":"18"},{"$f":"IF('Line 1 Source'!C373<>\"\",'Line 1 Source'!C373,\"\")","v":"4"},{"$f":"IF('Line 1 Source'!D373<>\"\",'Line 1 Source'!D373,\"\")","v":"1970"},{"$f":"IF('Line 1 Source'!E373<>\"\",'Line 1 Source'!E373,\"\")","v":"0101"},{"$f":"IF('Line 1 Source'!F373<>\"\",'Line 1 Source'!F373,\"\")","v":28080773}]
[{"$f":"IF('Line 1 Source'!A374<>\"\",'Line 1 Source'!A374,\"\")","v":"2018"},"1841970",{"$f":"CONCATENATE(VLOOKUP(B374,'School List'!$B$3:$H$291,6,FALSE),H374)","v":"19700180"},{"$f":"CONCATENATE(VLOOKUP(B374,'School List'!$B$3:$D$291,3,FALSE),H374)","v":"Delaware County - MUNCIE COMMUNITY SCHOOL CORPORATION0180"},{"$f":"IF('Line 1 Source'!B374<>\"\",'Line 1 Source'!B374,\"\")","v":"18"},{"$f":"IF('Line 1 Source'!C374<>\"\",'Line 1 Source'!C374,\"\")","v":"4"},{"$f":"IF('Line 1 Source'!D374<>\"\",'Line 1 Source'!D374,\"\")","v":"1970"},{"$f":"IF('Line 1 Source'!E374<>\"\",'Line 1 Source'!E374,\"\")","v":"0180"},{"$f":"IF('Line 1 Source'!F374<>\"\",'Line 1 Source'!F374,\"\")","v":5195944}]
[{"$f":"IF('Line 1 Source'!A375<>\"\",'Line 1 Source'!A375,\"\")","v":"2018"},"1841970",{"$f":"CONCATENATE(VLOOKUP(B375,'School List'!$B$3:$H$291,6,FALSE),H375)","v":"19701214"},{"$f":"CONCATENATE(VLOOKUP(B375,'School List'!$B$3:$D$291,3,FALSE),H375)","v":"Delaware County - MUNCIE COMMUNITY SCHOOL CORPORATION1214"},{"$f":"IF('Line 1 Source'!B375<>\"\",'Line 1 Source'!B375,\"\")","v":"18"},{"$f":"IF('Line 1 Source'!C375<>\"\",'Line 1 Source'!C375,\"\")","v":"4"},{"$f":"IF('Line 1 Source'!D375<>\"\",'Line 1 Source'!D375,\"\")","v":"1970"},{"$f":"IF('Line 1 Source'!E375<>\"\",'Line 1 Source'!E375,\"\")","v":"1214"},{"$f":"IF('Line 1 Source'!F375<>\"\",'Line 1 Source'!F375,\"\")","v":6772471}]
[{"$f":"IF('Line 1 Source'!A376<>\"\",'Line 1 Source'!A376,\"\")","v":"2018"},"1841970",{"$f":"CONCATENATE(VLOOKUP(B376,'School List'!$B$3:$H$291,6,FALSE),H376)","v":"19706301"},{"$f":"CONCATENATE(VLOOKUP(B376,'School List'!$B$3:$D$291,3,FALSE),H376)","v":"Delaware County - MUNCIE COMMUNITY SCHOOL CORPORATION6301"},{"$f":"IF('Line 1 Source'!B376<>\"\",'Line 1 Source'!B376,\"\")","v":"18"},{"$f":"IF('Line 1 Source'!C376<>\"\",'Line 1 Source'!C376,\"\")","v":"4"},{"$f":"IF('Line 1 Source'!D376<>\"\",'Line 1 Source'!D376,\"\")","v":"1970"},{"$f":"IF('Line 1 Source'!E376<>\"\",'Line 1 Source'!E376,\"\")","v":"6301"},{"$f":"IF('Line 1 Source'!F376<>\"\",'Line 1 Source'!F376,\"\")","v":4913526}]
[{"$f":"IF('Line 1 Source'!A377<>\"\",'Line 1 Source'!A377,\"\")","v":"2018"},"1841970",{"$f":"CONCATENATE(VLOOKUP(B377,'School List'!$B$3:$H$291,6,FALSE),H377)","v":"19706302"},{"$f":"CONCATENATE(VLOOKUP(B377,'School List'!$B$3:$D$291,3,FALSE),H377)","v":"Delaware County - MUNCIE COMMUNITY SCHOOL CORPORATION6302"},{"$f":"IF('Line 1 Source'!B377<>\"\",'Line 1 Source'!B377,\"\")","v":"18"},{"$f":"IF('Line 1 Source'!C377<>\"\",'Line 1 Source'!C377,\"\")","v":"4"},{"$f":"IF('Line 1 Source'!D377<>\"\",'Line 1 Source'!D377,\"\")","v":"1970"},{"$f":"IF('Line 1 Source'!E377<>\"\",'Line 1 Source'!E377,\"\")","v":"6302"},{"$f":"IF('Line 1 Source'!F377<>\"\",'Line 1 Source'!F377,\"\")","v":132074}]
[{"$f":"IF('Line 1 Source'!A378<>\"\",'Line 1 Source'!A378,\"\")","v":"2018"},"1942040",{"$f":"CONCATENATE(VLOOKUP(B378,'School List'!$B$3:$H$291,6,FALSE),H378)","v":"20400022"},{"$f":"CONCATENATE(VLOOKUP(B378,'School List'!$B$3:$D$291,3,FALSE),H378)","v":"Dubois County - NORTHEAST DUBOIS COUNTY SCHOOL CORP0022"},{"$f":"IF('Line 1 Source'!B378<>\"\",'Line 1 Source'!B378,\"\")","v":"19"},{"$f":"IF('Line 1 Source'!C378<>\"\",'Line 1 Source'!C378,\"\")","v":"4"},{"$f":"IF('Line 1 Source'!D378<>\"\",'Line 1 Source'!D378,\"\")","v":"2040"},{"$f":"IF('Line 1 Source'!E378<>\"\",'Line 1 Source'!E378,\"\")","v":"0022"},{"$f":"IF('Line 1 Source'!F378<>\"\",'Line 1 Source'!F378,\"\")","v":600000}]
[{"$f":"IF('Line 1 Source'!A379<>\"\",'Line 1 Source'!A379,\"\")","v":"2018"},"1942040",{"$f":"CONCATENATE(VLOOKUP(B379,'School List'!$B$3:$H$291,6,FALSE),H379)","v":"20400061"},{"$f":"CONCATENATE(VLOOKUP(B379,'School List'!$B$3:$D$291,3,FALSE),H379)","v":"Dubois County - NORTHEAST DUBOIS COUNTY SCHOOL CORP0061"},{"$f":"IF('Line 1 Source'!B379<>\"\",'Line 1 Source'!B379,\"\")","v":"19"},{"$f":"IF('Line 1 Source'!C379<>\"\",'Line 1 Source'!C379,\"\")","v":"4"},{"$f":"IF('Line 1 Source'!D379<>\"\",'Line 1 Source'!D379,\"\")","v":"2040"},{"$f":"IF('Line 1 Source'!E379<>\"\",'Line 1 Source'!E379,\"\")","v":"0061"},{"$f":"IF('Line 1 Source'!F379<>\"\",'Line 1 Source'!F379,\"\")","v":100304}]
[{"$f":"IF('Line 1 Source'!A380<>\"\",'Line 1 Source'!A380,\"\")","v":"2018"},"1942040",{"$f":"CONCATENATE(VLOOKUP(B380,'School List'!$B$3:$H$291,6,FALSE),H380)","v":"20400101"},{"$f":"CONCATENATE(VLOOKUP(B380,'School List'!$B$3:$D$291,3,FALSE),H380)","v":"Dubois County - NORTHEAST DUBOIS COUNTY SCHOOL CORP0101"},{"$f":"IF('Line 1 Source'!B380<>\"\",'Line 1 Source'!B380,\"\")","v":"19"},{"$f":"IF('Line 1 Source'!C380<>\"\",'Line 1 Source'!C380,\"\")","v":"4"},{"$f":"IF('Line 1 Source'!D380<>\"\",'Line 1 Source'!D380,\"\")","v":"2040"},{"$f":"IF('Line 1 Source'!E380<>\"\",'Line 1 Source'!E380,\"\")","v":"0101"},{"$f":"IF('Line 1 Source'!F380<>\"\",'Line 1 Source'!F380,\"\")","v":5513773}]
[{"$f":"IF('Line 1 Source'!A381<>\"\",'Line 1 Source'!A381,\"\")","v":"2018"},"1942040",{"$f":"CONCATENATE(VLOOKUP(B381,'School List'!$B$3:$H$291,6,FALSE),H381)","v":"20400180"},{"$f":"CONCATENATE(VLOOKUP(B381,'School List'!$B$3:$D$291,3,FALSE),H381)","v":"Dubois County - NORTHEAST DUBOIS COUNTY SCHOOL CORP0180"},{"$f":"IF('Line 1 Source'!B381<>\"\",'Line 1 Source'!B381,\"\")","v":"19"},{"$f":"IF('Line 1 Source'!C381<>\"\",'Line 1 Source'!C381,\"\")","v":"4"},{"$f":"IF('Line 1 Source'!D381<>\"\",'Line 1 Source'!D381,\"\")","v":"2040"},{"$f":"IF('Line 1 Source'!E381<>\"\",'Line 1 Source'!E381,\"\")","v":"0180"},{"$f":"IF('Line 1 Source'!F381<>\"\",'Line 1 Source'!F381,\"\")","v":691463}]
[{"$f":"IF('Line 1 Source'!A382<>\"\",'Line 1 Source'!A382,\"\")","v":"2018"},"1942040",{"$f":"CONCATENATE(VLOOKUP(B382,'School List'!$B$3:$H$291,6,FALSE),H382)","v":"20400186"},{"$f":"CONCATENATE(VLOOKUP(B382,'School List'!$B$3:$D$291,3,FALSE),H382)","v":"Dubois County - NORTHEAST DUBOIS COUNTY SCHOOL CORP0186"},{"$f":"IF('Line 1 Source'!B382<>\"\",'Line 1 Source'!B382,\"\")","v":"19"},{"$f":"IF('Line 1 Source'!C382<>\"\",'Line 1 Source'!C382,\"\")","v":"4"},{"$f":"IF('Line 1 Source'!D382<>\"\",'Line 1 Source'!D382,\"\")","v":"2040"},{"$f":"IF('Line 1 Source'!E382<>\"\",'Line 1 Source'!E382,\"\")","v":"0186"},{"$f":"IF('Line 1 Source'!F382<>\"\",'Line 1 Source'!F382,\"\")","v":343743}]
[{"$f":"IF('Line 1 Source'!A383<>\"\",'Line 1 Source'!A383,\"\")","v":"2018"},"1942040",{"$f":"CONCATENATE(VLOOKUP(B383,'School List'!$B$3:$H$291,6,FALSE),H383)","v":"20401214"},{"$f":"CONCATENATE(VLOOKUP(B383,'School List'!$B$3:$D$291,3,FALSE),H383)","v":"Dubois County - NORTHEAST DUBOIS COUNTY SCHOOL CORP1214"},{"$f":"IF('Line 1 Source'!B383<>\"\",'Line 1 Source'!B383,\"\")","v":"19"},{"$f":"IF('Line 1 Source'!C383<>\"\",'Line 1 Source'!C383,\"\")","v":"4"},{"$f":"IF('Line 1 Source'!D383<>\"\",'Line 1 Source'!D383,\"\")","v":"2040"},{"$f":"IF('Line 1 Source'!E383<>\"\",'Line 1 Source'!E383,\"\")","v":"1214"},{"$f":"IF('Line 1 Source'!F383<>\"\",'Line 1 Source'!F383,\"\")","v":883037}]
[{"$f":"IF('Line 1 Source'!A384<>\"\",'Line 1 Source'!A384,\"\")","v":"2018"},"1942040",{"$f":"CONCATENATE(VLOOKUP(B384,'School List'!$B$3:$H$291,6,FALSE),H384)","v":"20406301"},{"$f":"CONCATENATE(VLOOKUP(B384,'School List'!$B$3:$D$291,3,FALSE),H384)","v":"Dubois County - NORTHEAST DUBOIS COUNTY SCHOOL CORP6301"},{"$f":"IF('Line 1 Source'!B384<>\"\",'Line 1 Source'!B384,\"\")","v":"19"},{"$f":"IF('Line 1 Source'!C384<>\"\",'Line 1 Source'!C384,\"\")","v":"4"},{"$f":"IF('Line 1 Source'!D384<>\"\",'Line 1 Source'!D384,\"\")","v":"2040"},{"$f":"IF('Line 1 Source'!E384<>\"\",'Line 1 Source'!E384,\"\")","v":"6301"},{"$f":"IF('Line 1 Source'!F384<>\"\",'Line 1 Source'!F384,\"\")","v":895752}]
[{"$f":"IF('Line 1 Source'!A385<>\"\",'Line 1 Source'!A385,\"\")","v":"2018"},"1942040",{"$f":"CONCATENATE(VLOOKUP(B385,'School List'!$B$3:$H$291,6,FALSE),H385)","v":"20406302"},{"$f":"CONCATENATE(VLOOKUP(B385,'School List'!$B$3:$D$291,3,FALSE),H385)","v":"Dubois County - NORTHEAST DUBOIS COUNTY SCHOOL CORP6302"},{"$f":"IF('Line 1 Source'!B385<>\"\",'Line 1 Source'!B385,\"\")","v":"19"},{"$f":"IF('Line 1 Source'!C385<>\"\",'Line 1 Source'!C385,\"\")","v":"4"},{"$f":"IF('Line 1 Source'!D385<>\"\",'Line 1 Source'!D385,\"\")","v":"2040"},{"$f":"IF('Line 1 Source'!E385<>\"\",'Line 1 Source'!E385,\"\")","v":"6302"},{"$f":"IF('Line 1 Source'!F385<>\"\",'Line 1 Source'!F385,\"\")","v":19917}]
[{"$f":"IF('Line 1 Source'!A386<>\"\",'Line 1 Source'!A386,\"\")","v":"2018"},"1942100",{"$f":"CONCATENATE(VLOOKUP(B386,'School List'!$B$3:$H$291,6,FALSE),H386)","v":"21000061"},{"$f":"CONCATENATE(VLOOKUP(B386,'School List'!$B$3:$D$291,3,FALSE),H386)","v":"Dubois County - SOUTHEAST DUBOIS COUNTY SCHOOL CORP0061"},{"$f":"IF('Line 1 Source'!B386<>\"\",'Line 1 Source'!B386,\"\")","v":"19"},{"$f":"IF('Line 1 Source'!C386<>\"\",'Line 1 Source'!C386,\"\")","v":"4"},{"$f":"IF('Line 1 Source'!D386<>\"\",'Line 1 Source'!D386,\"\")","v":"2100"},{"$f":"IF('Line 1 Source'!E386<>\"\",'Line 1 Source'!E386,\"\")","v":"0061"},{"$f":"IF('Line 1 Source'!F386<>\"\",'Line 1 Source'!F386,\"\")","v":1000000}]
[{"$f":"IF('Line 1 Source'!A387<>\"\",'Line 1 Source'!A387,\"\")","v":"2018"},{"$f":"CONCATENATE(E387,F387,G387)","v":"1942100"},{"$f":"CONCATENATE(VLOOKUP(B387,'School List'!$B$3:$H$291,6,FALSE),H387)","v":"21000101"},{"$f":"CONCATENATE(VLOOKUP(B387,'School List'!$B$3:$D$291,3,FALSE),H387)","v":"Dubois County - SOUTHEAST DUBOIS COUNTY SCHOOL CORP0101"},{"$f":"IF('Line 1 Source'!B387<>\"\",'Line 1 Source'!B387,\"\")","v":"19"},{"$f":"IF('Line 1 Source'!C387<>\"\",'Line 1 Source'!C387,\"\")","v":"4"},{"$f":"IF('Line 1 Source'!D387<>\"\",'Line 1 Source'!D387,\"\")","v":"2100"},{"$f":"IF('Line 1 Source'!E387<>\"\",'Line 1 Source'!E387,\"\")","v":"0101"},{"$f":"IF('Line 1 Source'!F387<>\"\",'Line 1 Source'!F387,\"\")","v":8148957}]
[{"$f":"IF('Line 1 Source'!A388<>\"\",'Line 1 Source'!A388,\"\")","v":"2018"},"1942100",{"$f":"CONCATENATE(VLOOKUP(B388,'School List'!$B$3:$H$291,6,FALSE),H388)","v":"21000180"},{"$f":"CONCATENATE(VLOOKUP(B388,'School List'!$B$3:$D$291,3,FALSE),H388)","v":"Dubois County - SOUTHEAST DUBOIS COUNTY SCHOOL CORP0180"},{"$f":"IF('Line 1 Source'!B388<>\"\",'Line 1 Source'!B388,\"\")","v":"19"},{"$f":"IF('Line 1 Source'!C388<>\"\",'Line 1 Source'!C388,\"\")","v":"4"},{"$f":"IF('Line 1 Source'!D388<>\"\",'Line 1 Source'!D388,\"\")","v":"2100"},{"$f":"IF('Line 1 Source'!E388<>\"\",'Line 1 Source'!E388,\"\")","v":"0180"},{"$f":"IF('Line 1 Source'!F388<>\"\",'Line 1 Source'!F388,\"\")","v":1626715}]
[{"$f":"IF('Line 1 Source'!A389<>\"\",'Line 1 Source'!A389,\"\")","v":"2018"},"1942100",{"$f":"CONCATENATE(VLOOKUP(B389,'School List'!$B$3:$H$291,6,FALSE),H389)","v":"21000186"},{"$f":"CONCATENATE(VLOOKUP(B389,'School List'!$B$3:$D$291,3,FALSE),H389)","v":"Dubois County - SOUTHEAST DUBOIS COUNTY SCHOOL CORP0186"},{"$f":"IF('Line 1 Source'!B389<>\"\",'Line 1 Source'!B389,\"\")","v":"19"},{"$f":"IF('Line 1 Source'!C389<>\"\",'Line 1 Source'!C389,\"\")","v":"4"},{"$f":"IF('Line 1 Source'!D389<>\"\",'Line 1 Source'!D389,\"\")","v":"2100"},{"$f":"IF('Line 1 Source'!E389<>\"\",'Line 1 Source'!E389,\"\")","v":"0186"},{"$f":"IF('Line 1 Source'!F389<>\"\",'Line 1 Source'!F389,\"\")","v":347951}]
[{"$f":"IF('Line 1 Source'!A390<>\"\",'Line 1 Source'!A390,\"\")","v":"2018"},"1942100",{"$f":"CONCATENATE(VLOOKUP(B390,'School List'!$B$3:$H$291,6,FALSE),H390)","v":"21001214"},{"$f":"CONCATENATE(VLOOKUP(B390,'School List'!$B$3:$D$291,3,FALSE),H390)","v":"Dubois County - SOUTHEAST DUBOIS COUNTY SCHOOL CORP1214"},{"$f":"IF('Line 1 Source'!B390<>\"\",'Line 1 Source'!B390,\"\")","v":"19"},{"$f":"IF('Line 1 Source'!C390<>\"\",'Line 1 Source'!C390,\"\")","v":"4"},{"$f":"IF('Line 1 Source'!D390<>\"\",'Line 1 Source'!D390,\"\")","v":"2100"},{"$f":"IF('Line 1 Source'!E390<>\"\",'Line 1 Source'!E390,\"\")","v":"1214"},{"$f":"IF('Line 1 Source'!F390<>\"\",'Line 1 Source'!F390,\"\")","v":1510073}]
[{"$f":"IF('Line 1 Source'!A391<>\"\",'Line 1 Source'!A391,\"\")","v":"2018"},"1942100",{"$f":"CONCATENATE(VLOOKUP(B391,'School List'!$B$3:$H$291,6,FALSE),H391)","v":"21006301"},{"$f":"CONCATENATE(VLOOKUP(B391,'School List'!$B$3:$D$291,3,FALSE),H391)","v":"Dubois County - SOUTHEAST DUBOIS COUNTY SCHOOL CORP6301"},{"$f":"IF('Line 1 Source'!B391<>\"\",'Line 1 Source'!B391,\"\")","v":"19"},{"$f":"IF('Line 1 Source'!C391<>\"\",'Line 1 Source'!C391,\"\")","v":"4"},{"$f":"IF('Line 1 Source'!D391<>\"\",'Line 1 Source'!D391,\"\")","v":"2100"},{"$f":"IF('Line 1 Source'!E391<>\"\",'Line 1 Source'!E391,\"\")","v":"6301"},{"$f":"IF('Line 1 Source'!F391<>\"\",'Line 1 Source'!F391,\"\")","v":817903}]
[{"$f":"IF('Line 1 Source'!A392<>\"\",'Line 1 Source'!A392,\"\")","v":"2018"},"1942100",{"$f":"CONCATENATE(VLOOKUP(B392,'School List'!$B$3:$H$291,6,FALSE),H392)","v":"21006302"},{"$f":"CONCATENATE(VLOOKUP(B392,'School List'!$B$3:$D$291,3,FALSE),H392)","v":"Dubois County - SOUTHEAST DUBOIS COUNTY SCHOOL CORP6302"},{"$f":"IF('Line 1 Source'!B392<>\"\",'Line 1 Source'!B392,\"\")","v":"19"},{"$f":"IF('Line 1 Source'!C392<>\"\",'Line 1 Source'!C392,\"\")","v":"4"},{"$f":"IF('Line 1 Source'!D392<>\"\",'Line 1 Source'!D392,\"\")","v":"2100"},{"$f":"IF('Line 1 Source'!E392<>\"\",'Line 1 Source'!E392,\"\")","v":"6302"},{"$f":"IF('Line 1 Source'!F392<>\"\",'Line 1 Source'!F392,\"\")","v":0}]
[{"$f":"IF('Line 1 Source'!A393<>\"\",'Line 1 Source'!A393,\"\")","v":"2018"},"1942110",{"$f":"CONCATENATE(VLOOKUP(B393,'School List'!$B$3:$H$291,6,FALSE),H393)","v":"21100061"},{"$f":"CONCATENATE(VLOOKUP(B393,'School List'!$B$3:$D$291,3,FALSE),H393)","v":"Dubois County - SOUTHWEST DUBOIS COUNTY SCHOOL CORP0061"},{"$f":"IF('Line 1 Source'!B393<>\"\",'Line 1 Source'!B393,\"\")","v":"19"},{"$f":"IF('Line 1 Source'!C393<>\"\",'Line 1 Source'!C393,\"\")","v":"4"},{"$f":"IF('Line 1 Source'!D393<>\"\",'Line 1 Source'!D393,\"\")","v":"2110"},{"$f":"IF('Line 1 Source'!E393<>\"\",'Line 1 Source'!E393,\"\")","v":"0061"},{"$f":"IF('Line 1 Source'!F393<>\"\",'Line 1 Source'!F393,\"\")","v":500000}]
[{"$f":"IF('Line 1 Source'!A394<>\"\",'Line 1 Source'!A394,\"\")","v":"2018"},"1942110",{"$f":"CONCATENATE(VLOOKUP(B394,'School List'!$B$3:$H$291,6,FALSE),H394)","v":"21100101"},{"$f":"CONCATENATE(VLOOKUP(B394,'School List'!$B$3:$D$291,3,FALSE),H394)","v":"Dubois County - SOUTHWEST DUBOIS COUNTY SCHOOL CORP0101"},{"$f":"IF('Line 1 Source'!B394<>\"\",'Line 1 Source'!B394,\"\")","v":"19"},{"$f":"IF('Line 1 Source'!C394<>\"\",'Line 1 Source'!C394,\"\")","v":"4"},{"$f":"IF('Line 1 Source'!D394<>\"\",'Line 1 Source'!D394,\"\")","v":"2110"},{"$f":"IF('Line 1 Source'!E394<>\"\",'Line 1 Source'!E394,\"\")","v":"0101"},{"$f":"IF('Line 1 Source'!F394<>\"\",'Line 1 Source'!F394,\"\")","v":12521555}]
[{"$f":"IF('Line 1 Source'!A395<>\"\",'Line 1 Source'!A395,\"\")","v":"2018"},"1942110",{"$f":"CONCATENATE(VLOOKUP(B395,'School List'!$B$3:$H$291,6,FALSE),H395)","v":"21100180"},{"$f":"CONCATENATE(VLOOKUP(B395,'School List'!$B$3:$D$291,3,FALSE),H395)","v":"Dubois County - SOUTHWEST DUBOIS COUNTY SCHOOL CORP0180"},{"$f":"IF('Line 1 Source'!B395<>\"\",'Line 1 Source'!B395,\"\")","v":"19"},{"$f":"IF('Line 1 Source'!C395<>\"\",'Line 1 Source'!C395,\"\")","v":"4"},{"$f":"IF('Line 1 Source'!D395<>\"\",'Line 1 Source'!D395,\"\")","v":"2110"},{"$f":"IF('Line 1 Source'!E395<>\"\",'Line 1 Source'!E395,\"\")","v":"0180"},{"$f":"IF('Line 1 Source'!F395<>\"\",'Line 1 Source'!F395,\"\")","v":1201282}]
[{"$f":"IF('Line 1 Source'!A396<>\"\",'Line 1 Source'!A396,\"\")","v":"2018"},"1942110",{"$f":"CONCATENATE(VLOOKUP(B396,'School List'!$B$3:$H$291,6,FALSE),H396)","v":"21100186"},{"$f":"CONCATENATE(VLOOKUP(B396,'School List'!$B$3:$D$291,3,FALSE),H396)","v":"Dubois County - SOUTHWEST DUBOIS COUNTY SCHOOL CORP0186"},{"$f":"IF('Line 1 Source'!B396<>\"\",'Line 1 Source'!B396,\"\")","v":"19"},{"$f":"IF('Line 1 Source'!C396<>\"\",'Line 1 Source'!C396,\"\")","v":"4"},{"$f":"IF('Line 1 Source'!D396<>\"\",'Line 1 Source'!D396,\"\")","v":"2110"},{"$f":"IF('Line 1 Source'!E396<>\"\",'Line 1 Source'!E396,\"\")","v":"0186"},{"$f":"IF('Line 1 Source'!F396<>\"\",'Line 1 Source'!F396,\"\")","v":348320}]
[{"$f":"IF('Line 1 Source'!A397<>\"\",'Line 1 Source'!A397,\"\")","v":"2018"},"1942110",{"$f":"CONCATENATE(VLOOKUP(B397,'School List'!$B$3:$H$291,6,FALSE),H397)","v":"21100287"},{"$f":"CONCATENATE(VLOOKUP(B397,'School List'!$B$3:$D$291,3,FALSE),H397)","v":"Dubois County - SOUTHWEST DUBOIS COUNTY SCHOOL CORP0287"},{"$f":"IF('Line 1 Source'!B397<>\"\",'Line 1 Source'!B397,\"\")","v":"19"},{"$f":"IF('Line 1 Source'!C397<>\"\",'Line 1 Source'!C397,\"\")","v":"4"},{"$f":"IF('Line 1 Source'!D397<>\"\",'Line 1 Source'!D397,\"\")","v":"2110"},{"$f":"IF('Line 1 Source'!E397<>\"\",'Line 1 Source'!E397,\"\")","v":"0287"},{"$f":"IF('Line 1 Source'!F397<>\"\",'Line 1 Source'!F397,\"\")","v":1417091}]
[{"$f":"IF('Line 1 Source'!A398<>\"\",'Line 1 Source'!A398,\"\")","v":"2018"},"1942110",{"$f":"CONCATENATE(VLOOKUP(B398,'School List'!$B$3:$H$291,6,FALSE),H398)","v":"21101214"},{"$f":"CONCATENATE(VLOOKUP(B398,'School List'!$B$3:$D$291,3,FALSE),H398)","v":"Dubois County - SOUTHWEST DUBOIS COUNTY SCHOOL CORP1214"},{"$f":"IF('Line 1 Source'!B398<>\"\",'Line 1 Source'!B398,\"\")","v":"19"},{"$f":"IF('Line 1 Source'!C398<>\"\",'Line 1 Source'!C398,\"\")","v":"4"},{"$f":"IF('Line 1 Source'!D398<>\"\",'Line 1 Source'!D398,\"\")","v":"2110"},{"$f":"IF('Line 1 Source'!E398<>\"\",'Line 1 Source'!E398,\"\")","v":"1214"},{"$f":"IF('Line 1 Source'!F398<>\"\",'Line 1 Source'!F398,\"\")","v":2783202}]
[{"$f":"IF('Line 1 Source'!A399<>\"\",'Line 1 Source'!A399,\"\")","v":"2018"},"1942110",{"$f":"CONCATENATE(VLOOKUP(B399,'School List'!$B$3:$H$291,6,FALSE),H399)","v":"21106301"},{"$f":"CONCATENATE(VLOOKUP(B399,'School List'!$B$3:$D$291,3,FALSE),H399)","v":"Dubois County - SOUTHWEST DUBOIS COUNTY SCHOOL CORP6301"},{"$f":"IF('Line 1 Source'!B399<>\"\",'Line 1 Source'!B399,\"\")","v":"19"},{"$f":"IF('Line 1 Source'!C399<>\"\",'Line 1 Source'!C399,\"\")","v":"4"},{"$f":"IF('Line 1 Source'!D399<>\"\",'Line 1 Source'!D399,\"\")","v":"2110"},{"$f":"IF('Line 1 Source'!E399<>\"\",'Line 1 Source'!E399,\"\")","v":"6301"},{"$f":"IF('Line 1 Source'!F399<>\"\",'Line 1 Source'!F399,\"\")","v":1773000}]
[{"$f":"IF('Line 1 Source'!A400<>\"\",'Line 1 Source'!A400,\"\")","v":"2018"},"1942110",{"$f":"CONCATENATE(VLOOKUP(B400,'School List'!$B$3:$H$291,6,FALSE),H400)","v":"21106302"},{"$f":"CONCATENATE(VLOOKUP(B400,'School List'!$B$3:$D$291,3,FALSE),H400)","v":"Dubois County - SOUTHWEST DUBOIS COUNTY SCHOOL CORP6302"},{"$f":"IF('Line 1 Source'!B400<>\"\",'Line 1 Source'!B400,\"\")","v":"19"},{"$f":"IF('Line 1 Source'!C400<>\"\",'Line 1 Source'!C400,\"\")","v":"4"},{"$f":"IF('Line 1 Source'!D400<>\"\",'Line 1 Source'!D400,\"\")","v":"2110"},{"$f":"IF('Line 1 Source'!E400<>\"\",'Line 1 Source'!E400,\"\")","v":"6302"},{"$f":"IF('Line 1 Source'!F400<>\"\",'Line 1 Source'!F400,\"\")","v":236662}]
[{"$f":"IF('Line 1 Source'!A401<>\"\",'Line 1 Source'!A401,\"\")","v":"2018"},"1942120",{"$f":"CONCATENATE(VLOOKUP(B401,'School List'!$B$3:$H$291,6,FALSE),H401)","v":"21200061"},{"$f":"CONCATENATE(VLOOKUP(B401,'School List'!$B$3:$D$291,3,FALSE),H401)","v":"Dubois County - GREATER JASPER CONSOLIDATED SCHOOL CORP0061"},{"$f":"IF('Line 1 Source'!B401<>\"\",'Line 1 Source'!B401,\"\")","v":"19"},{"$f":"IF('Line 1 Source'!C401<>\"\",'Line 1 Source'!C401,\"\")","v":"4"},{"$f":"IF('Line 1 Source'!D401<>\"\",'Line 1 Source'!D401,\"\")","v":"2120"},{"$f":"IF('Line 1 Source'!E401<>\"\",'Line 1 Source'!E401,\"\")","v":"0061"},{"$f":"IF('Line 1 Source'!F401<>\"\",'Line 1 Source'!F401,\"\")","v":1850000}]
[{"$f":"IF('Line 1 Source'!A402<>\"\",'Line 1 Source'!A402,\"\")","v":"2018"},"1942120",{"$f":"CONCATENATE(VLOOKUP(B402,'School List'!$B$3:$H$291,6,FALSE),H402)","v":"21200101"},{"$f":"CONCATENATE(VLOOKUP(B402,'School List'!$B$3:$D$291,3,FALSE),H402)","v":"Dubois County - GREATER JASPER CONSOLIDATED SCHOOL CORP0101"},{"$f":"IF('Line 1 Source'!B402<>\"\",'Line 1 Source'!B402,\"\")","v":"19"},{"$f":"IF('Line 1 Source'!C402<>\"\",'Line 1 Source'!C402,\"\")","v":"4"},{"$f":"IF('Line 1 Source'!D402<>\"\",'Line 1 Source'!D402,\"\")","v":"2120"},{"$f":"IF('Line 1 Source'!E402<>\"\",'Line 1 Source'!E402,\"\")","v":"0101"},{"$f":"IF('Line 1 Source'!F402<>\"\",'Line 1 Source'!F402,\"\")","v":19525250}]
[{"$f":"IF('Line 1 Source'!A403<>\"\",'Line 1 Source'!A403,\"\")","v":"2018"},"1942120",{"$f":"CONCATENATE(VLOOKUP(B403,'School List'!$B$3:$H$291,6,FALSE),H403)","v":"21200180"},{"$f":"CONCATENATE(VLOOKUP(B403,'School List'!$B$3:$D$291,3,FALSE),H403)","v":"Dubois County - GREATER JASPER CONSOLIDATED SCHOOL CORP0180"},{"$f":"IF('Line 1 Source'!B403<>\"\",'Line 1 Source'!B403,\"\")","v":"19"},{"$f":"IF('Line 1 Source'!C403<>\"\",'Line 1 Source'!C403,\"\")","v":"4"},{"$f":"IF('Line 1 Source'!D403<>\"\",'Line 1 Source'!D403,\"\")","v":"2120"},{"$f":"IF('Line 1 Source'!E403<>\"\",'Line 1 Source'!E403,\"\")","v":"0180"},{"$f":"IF('Line 1 Source'!F403<>\"\",'Line 1 Source'!F403,\"\")","v":8245704}]
[{"$f":"IF('Line 1 Source'!A404<>\"\",'Line 1 Source'!A404,\"\")","v":"2018"},"1942120",{"$f":"CONCATENATE(VLOOKUP(B404,'School List'!$B$3:$H$291,6,FALSE),H404)","v":"21200186"},{"$f":"CONCATENATE(VLOOKUP(B404,'School List'!$B$3:$D$291,3,FALSE),H404)","v":"Dubois County - GREATER JASPER CONSOLIDATED SCHOOL CORP0186"},{"$f":"IF('Line 1 Source'!B404<>\"\",'Line 1 Source'!B404,\"\")","v":"19"},{"$f":"IF('Line 1 Source'!C404<>\"\",'Line 1 Source'!C404,\"\")","v":"4"},{"$f":"IF('Line 1 Source'!D404<>\"\",'Line 1 Source'!D404,\"\")","v":"2120"},{"$f":"IF('Line 1 Source'!E404<>\"\",'Line 1 Source'!E404,\"\")","v":"0186"},{"$f":"IF('Line 1 Source'!F404<>\"\",'Line 1 Source'!F404,\"\")","v":1094282}]
[{"$f":"IF('Line 1 Source'!A405<>\"\",'Line 1 Source'!A405,\"\")","v":"2018"},"1942120",{"$f":"CONCATENATE(VLOOKUP(B405,'School List'!$B$3:$H$291,6,FALSE),H405)","v":"21201214"},{"$f":"CONCATENATE(VLOOKUP(B405,'School List'!$B$3:$D$291,3,FALSE),H405)","v":"Dubois County - GREATER JASPER CONSOLIDATED SCHOOL CORP1214"},{"$f":"IF('Line 1 Source'!B405<>\"\",'Line 1 Source'!B405,\"\")","v":"19"},{"$f":"IF('Line 1 Source'!C405<>\"\",'Line 1 Source'!C405,\"\")","v":"4"},{"$f":"IF('Line 1 Source'!D405<>\"\",'Line 1 Source'!D405,\"\")","v":"2120"},{"$f":"IF('Line 1 Source'!E405<>\"\",'Line 1 Source'!E405,\"\")","v":"1214"},{"$f":"IF('Line 1 Source'!F405<>\"\",'Line 1 Source'!F405,\"\")","v":3987720}]
[{"$f":"IF('Line 1 Source'!A406<>\"\",'Line 1 Source'!A406,\"\")","v":"2018"},"1942120",{"$f":"CONCATENATE(VLOOKUP(B406,'School List'!$B$3:$H$291,6,FALSE),H406)","v":"21206301"},{"$f":"CONCATENATE(VLOOKUP(B406,'School List'!$B$3:$D$291,3,FALSE),H406)","v":"Dubois County - GREATER JASPER CONSOLIDATED SCHOOL CORP6301"},{"$f":"IF('Line 1 Source'!B406<>\"\",'Line 1 Source'!B406,\"\")","v":"19"},{"$f":"IF('Line 1 Source'!C406<>\"\",'Line 1 Source'!C406,\"\")","v":"4"},{"$f":"IF('Line 1 Source'!D406<>\"\",'Line 1 Source'!D406,\"\")","v":"2120"},{"$f":"IF('Line 1 Source'!E406<>\"\",'Line 1 Source'!E406,\"\")","v":"6301"},{"$f":"IF('Line 1 Source'!F406<>\"\",'Line 1 Source'!F406,\"\")","v":1592266}]
[{"$f":"IF('Line 1 Source'!A407<>\"\",'Line 1 Source'!A407,\"\")","v":"2018"},"1942120",{"$f":"CONCATENATE(VLOOKUP(B407,'School List'!$B$3:$H$291,6,FALSE),H407)","v":"21206302"},{"$f":"CONCATENATE(VLOOKUP(B407,'School List'!$B$3:$D$291,3,FALSE),H407)","v":"Dubois County - GREATER JASPER CONSOLIDATED SCHOOL CORP6302"},{"$f":"IF('Line 1 Source'!B407<>\"\",'Line 1 Source'!B407,\"\")","v":"19"},{"$f":"IF('Line 1 Source'!C407<>\"\",'Line 1 Source'!C407,\"\")","v":"4"},{"$f":"IF('Line 1 Source'!D407<>\"\",'Line 1 Source'!D407,\"\")","v":"2120"},{"$f":"IF('Line 1 Source'!E407<>\"\",'Line 1 Source'!E407,\"\")","v":"6302"},{"$f":"IF('Line 1 Source'!F407<>\"\",'Line 1 Source'!F407,\"\")","v":0}]
[{"$f":"IF('Line 1 Source'!A408<>\"\",'Line 1 Source'!A408,\"\")","v":"2018"},"2042155",{"$f":"CONCATENATE(VLOOKUP(B408,'School List'!$B$3:$H$291,6,FALSE),H408)","v":"21550061"},{"$f":"CONCATENATE(VLOOKUP(B408,'School List'!$B$3:$D$291,3,FALSE),H408)","v":"Elkhart County - FAIRFIELD COMMUNITY SCHOOL CORPORATION0061"},{"$f":"IF('Line 1 Source'!B408<>\"\",'Line 1 Source'!B408,\"\")","v":"20"},{"$f":"IF('Line 1 Source'!C408<>\"\",'Line 1 Source'!C408,\"\")","v":"4"},{"$f":"IF('Line 1 Source'!D408<>\"\",'Line 1 Source'!D408,\"\")","v":"2155"},{"$f":"IF('Line 1 Source'!E408<>\"\",'Line 1 Source'!E408,\"\")","v":"0061"},{"$f":"IF('Line 1 Source'!F408<>\"\",'Line 1 Source'!F408,\"\")","v":300000}]
[{"$f":"IF('Line 1 Source'!A409<>\"\",'Line 1 Source'!A409,\"\")","v":"2018"},"2042155",{"$f":"CONCATENATE(VLOOKUP(B409,'School List'!$B$3:$H$291,6,FALSE),H409)","v":"21550101"},{"$f":"CONCATENATE(VLOOKUP(B409,'School List'!$B$3:$D$291,3,FALSE),H409)","v":"Elkhart County - FAIRFIELD COMMUNITY SCHOOL CORPORATION0101"},{"$f":"IF('Line 1 Source'!B409<>\"\",'Line 1 Source'!B409,\"\")","v":"20"},{"$f":"IF('Line 1 Source'!C409<>\"\",'Line 1 Source'!C409,\"\")","v":"4"},{"$f":"IF('Line 1 Source'!D409<>\"\",'Line 1 Source'!D409,\"\")","v":"2155"},{"$f":"IF('Line 1 Source'!E409<>\"\",'Line 1 Source'!E409,\"\")","v":"0101"},{"$f":"IF('Line 1 Source'!F409<>\"\",'Line 1 Source'!F409,\"\")","v":15172550}]
[{"$f":"IF('Line 1 Source'!A410<>\"\",'Line 1 Source'!A410,\"\")","v":"2018"},"2042155",{"$f":"CONCATENATE(VLOOKUP(B410,'School List'!$B$3:$H$291,6,FALSE),H410)","v":"21550180"},{"$f":"CONCATENATE(VLOOKUP(B410,'School List'!$B$3:$D$291,3,FALSE),H410)","v":"Elkhart County - FAIRFIELD COMMUNITY SCHOOL CORPORATION0180"},{"$f":"IF('Line 1 Source'!B410<>\"\",'Line 1 Source'!B410,\"\")","v":"20"},{"$f":"IF('Line 1 Source'!C410<>\"\",'Line 1 Source'!C410,\"\")","v":"4"},{"$f":"IF('Line 1 Source'!D410<>\"\",'Line 1 Source'!D410,\"\")","v":"2155"},{"$f":"IF('Line 1 Source'!E410<>\"\",'Line 1 Source'!E410,\"\")","v":"0180"},{"$f":"IF('Line 1 Source'!F410<>\"\",'Line 1 Source'!F410,\"\")","v":3451748}]
[{"$f":"IF('Line 1 Source'!A411<>\"\",'Line 1 Source'!A411,\"\")","v":"2018"},"2042155",{"$f":"CONCATENATE(VLOOKUP(B411,'School List'!$B$3:$H$291,6,FALSE),H411)","v":"21551214"},{"$f":"CONCATENATE(VLOOKUP(B411,'School List'!$B$3:$D$291,3,FALSE),H411)","v":"Elkhart County - FAIRFIELD COMMUNITY SCHOOL CORPORATION1214"},{"$f":"IF('Line 1 Source'!B411<>\"\",'Line 1 Source'!B411,\"\")","v":"20"},{"$f":"IF('Line 1 Source'!C411<>\"\",'Line 1 Source'!C411,\"\")","v":"4"},{"$f":"IF('Line 1 Source'!D411<>\"\",'Line 1 Source'!D411,\"\")","v":"2155"},{"$f":"IF('Line 1 Source'!E411<>\"\",'Line 1 Source'!E411,\"\")","v":"1214"},{"$f":"IF('Line 1 Source'!F411<>\"\",'Line 1 Source'!F411,\"\")","v":2213446}]
[{"$f":"IF('Line 1 Source'!A412<>\"\",'Line 1 Source'!A412,\"\")","v":"2018"},"2042155",{"$f":"CONCATENATE(VLOOKUP(B412,'School List'!$B$3:$H$291,6,FALSE),H412)","v":"21556301"},{"$f":"CONCATENATE(VLOOKUP(B412,'School List'!$B$3:$D$291,3,FALSE),H412)","v":"Elkhart County - FAIRFIELD COMMUNITY SCHOOL CORPORATION6301"},{"$f":"IF('Line 1 Source'!B412<>\"\",'Line 1 Source'!B412,\"\")","v":"20"},{"$f":"IF('Line 1 Source'!C412<>\"\",'Line 1 Source'!C412,\"\")","v":"4"},{"$f":"IF('Line 1 Source'!D412<>\"\",'Line 1 Source'!D412,\"\")","v":"2155"},{"$f":"IF('Line 1 Source'!E412<>\"\",'Line 1 Source'!E412,\"\")","v":"6301"},{"$f":"IF('Line 1 Source'!F412<>\"\",'Line 1 Source'!F412,\"\")","v":1564014}]
[{"$f":"IF('Line 1 Source'!A413<>\"\",'Line 1 Source'!A413,\"\")","v":"2018"},"2042155",{"$f":"CONCATENATE(VLOOKUP(B413,'School List'!$B$3:$H$291,6,FALSE),H413)","v":"21556302"},{"$f":"CONCATENATE(VLOOKUP(B413,'School List'!$B$3:$D$291,3,FALSE),H413)","v":"Elkhart County - FAIRFIELD COMMUNITY SCHOOL CORPORATION6302"},{"$f":"IF('Line 1 Source'!B413<>\"\",'Line 1 Source'!B413,\"\")","v":"20"},{"$f":"IF('Line 1 Source'!C413<>\"\",'Line 1 Source'!C413,\"\")","v":"4"},{"$f":"IF('Line 1 Source'!D413<>\"\",'Line 1 Source'!D413,\"\")","v":"2155"},{"$f":"IF('Line 1 Source'!E413<>\"\",'Line 1 Source'!E413,\"\")","v":"6302"},{"$f":"IF('Line 1 Source'!F413<>\"\",'Line 1 Source'!F413,\"\")","v":175000}]
[{"$f":"IF('Line 1 Source'!A414<>\"\",'Line 1 Source'!A414,\"\")","v":"2018"},"2042260",{"$f":"CONCATENATE(VLOOKUP(B414,'School List'!$B$3:$H$291,6,FALSE),H414)","v":"22600061"},{"$f":"CONCATENATE(VLOOKUP(B414,'School List'!$B$3:$D$291,3,FALSE),H414)","v":"Elkhart County - BAUGO COMMUNITY SCHOOL CORPORATION0061"},{"$f":"IF('Line 1 Source'!B414<>\"\",'Line 1 Source'!B414,\"\")","v":"20"},{"$f":"IF('Line 1 Source'!C414<>\"\",'Line 1 Source'!C414,\"\")","v":"4"},{"$f":"IF('Line 1 Source'!D414<>\"\",'Line 1 Source'!D414,\"\")","v":"2260"},{"$f":"IF('Line 1 Source'!E414<>\"\",'Line 1 Source'!E414,\"\")","v":"0061"},{"$f":"IF('Line 1 Source'!F414<>\"\",'Line 1 Source'!F414,\"\")","v":250000}]
[{"$f":"IF('Line 1 Source'!A415<>\"\",'Line 1 Source'!A415,\"\")","v":"2018"},"2042260",{"$f":"CONCATENATE(VLOOKUP(B415,'School List'!$B$3:$H$291,6,FALSE),H415)","v":"22600101"},{"$f":"CONCATENATE(VLOOKUP(B415,'School List'!$B$3:$D$291,3,FALSE),H415)","v":"Elkhart County - BAUGO COMMUNITY SCHOOL CORPORATION0101"},{"$f":"IF('Line 1 Source'!B415<>\"\",'Line 1 Source'!B415,\"\")","v":"20"},{"$f":"IF('Line 1 Source'!C415<>\"\",'Line 1 Source'!C415,\"\")","v":"4"},{"$f":"IF('Line 1 Source'!D415<>\"\",'Line 1 Source'!D415,\"\")","v":"2260"},{"$f":"IF('Line 1 Source'!E415<>\"\",'Line 1 Source'!E415,\"\")","v":"0101"},{"$f":"IF('Line 1 Source'!F415<>\"\",'Line 1 Source'!F415,\"\")","v":11849648}]
[{"$f":"IF('Line 1 Source'!A416<>\"\",'Line 1 Source'!A416,\"\")","v":"2018"},"2042260",{"$f":"CONCATENATE(VLOOKUP(B416,'School List'!$B$3:$H$291,6,FALSE),H416)","v":"22600180"},{"$f":"CONCATENATE(VLOOKUP(B416,'School List'!$B$3:$D$291,3,FALSE),H416)","v":"Elkhart County - BAUGO COMMUNITY SCHOOL CORPORATION0180"},{"$f":"IF('Line 1 Source'!B416<>\"\",'Line 1 Source'!B416,\"\")","v":"20"},{"$f":"IF('Line 1 Source'!C416<>\"\",'Line 1 Source'!C416,\"\")","v":"4"},{"$f":"IF('Line 1 Source'!D416<>\"\",'Line 1 Source'!D416,\"\")","v":"2260"},{"$f":"IF('Line 1 Source'!E416<>\"\",'Line 1 Source'!E416,\"\")","v":"0180"},{"$f":"IF('Line 1 Source'!F416<>\"\",'Line 1 Source'!F416,\"\")","v":3688974}]
[{"$f":"IF('Line 1 Source'!A417<>\"\",'Line 1 Source'!A417,\"\")","v":"2018"},"2042260",{"$f":"CONCATENATE(VLOOKUP(B417,'School List'!$B$3:$H$291,6,FALSE),H417)","v":"22600186"},{"$f":"CONCATENATE(VLOOKUP(B417,'School List'!$B$3:$D$291,3,FALSE),H417)","v":"Elkhart County - BAUGO COMMUNITY SCHOOL CORPORATION0186"},{"$f":"IF('Line 1 Source'!B417<>\"\",'Line 1 Source'!B417,\"\")","v":"20"},{"$f":"IF('Line 1 Source'!C417<>\"\",'Line 1 Source'!C417,\"\")","v":"4"},{"$f":"IF('Line 1 Source'!D417<>\"\",'Line 1 Source'!D417,\"\")","v":"2260"},{"$f":"IF('Line 1 Source'!E417<>\"\",'Line 1 Source'!E417,\"\")","v":"0186"},{"$f":"IF('Line 1 Source'!F417<>\"\",'Line 1 Source'!F417,\"\")","v":185508}]
[{"$f":"IF('Line 1 Source'!A418<>\"\",'Line 1 Source'!A418,\"\")","v":"2018"},"2042260",{"$f":"CONCATENATE(VLOOKUP(B418,'School List'!$B$3:$H$291,6,FALSE),H418)","v":"22601214"},{"$f":"CONCATENATE(VLOOKUP(B418,'School List'!$B$3:$D$291,3,FALSE),H418)","v":"Elkhart County - BAUGO COMMUNITY SCHOOL CORPORATION1214"},{"$f":"IF('Line 1 Source'!B418<>\"\",'Line 1 Source'!B418,\"\")","v":"20"},{"$f":"IF('Line 1 Source'!C418<>\"\",'Line 1 Source'!C418,\"\")","v":"4"},{"$f":"IF('Line 1 Source'!D418<>\"\",'Line 1 Source'!D418,\"\")","v":"2260"},{"$f":"IF('Line 1 Source'!E418<>\"\",'Line 1 Source'!E418,\"\")","v":"1214"},{"$f":"IF('Line 1 Source'!F418<>\"\",'Line 1 Source'!F418,\"\")","v":1391993}]
[{"$f":"IF('Line 1 Source'!A419<>\"\",'Line 1 Source'!A419,\"\")","v":"2018"},"2042260",{"$f":"CONCATENATE(VLOOKUP(B419,'School List'!$B$3:$H$291,6,FALSE),H419)","v":"22606301"},{"$f":"CONCATENATE(VLOOKUP(B419,'School List'!$B$3:$D$291,3,FALSE),H419)","v":"Elkhart County - BAUGO COMMUNITY SCHOOL CORPORATION6301"},{"$f":"IF('Line 1 Source'!B419<>\"\",'Line 1 Source'!B419,\"\")","v":"20"},{"$f":"IF('Line 1 Source'!C419<>\"\",'Line 1 Source'!C419,\"\")","v":"4"},{"$f":"IF('Line 1 Source'!D419<>\"\",'Line 1 Source'!D419,\"\")","v":"2260"},{"$f":"IF('Line 1 Source'!E419<>\"\",'Line 1 Source'!E419,\"\")","v":"6301"},{"$f":"IF('Line 1 Source'!F419<>\"\",'Line 1 Source'!F419,\"\")","v":1225000}]
[{"$f":"IF('Line 1 Source'!A420<>\"\",'Line 1 Source'!A420,\"\")","v":"2018"},"2042260",{"$f":"CONCATENATE(VLOOKUP(B420,'School List'!$B$3:$H$291,6,FALSE),H420)","v":"22606302"},{"$f":"CONCATENATE(VLOOKUP(B420,'School List'!$B$3:$D$291,3,FALSE),H420)","v":"Elkhart County - BAUGO COMMUNITY SCHOOL CORPORATION6302"},{"$f":"IF('Line 1 Source'!B420<>\"\",'Line 1 Source'!B420,\"\")","v":"20"},{"$f":"IF('Line 1 Source'!C420<>\"\",'Line 1 Source'!C420,\"\")","v":"4"},{"$f":"IF('Line 1 Source'!D420<>\"\",'Line 1 Source'!D420,\"\")","v":"2260"},{"$f":"IF('Line 1 Source'!E420<>\"\",'Line 1 Source'!E420,\"\")","v":"6302"},{"$f":"IF('Line 1 Source'!F420<>\"\",'Line 1 Source'!F420,\"\")","v":160205}]
[{"$f":"IF('Line 1 Source'!A421<>\"\",'Line 1 Source'!A421,\"\")","v":"2018"},"2042270",{"$f":"CONCATENATE(VLOOKUP(B421,'School List'!$B$3:$H$291,6,FALSE),H421)","v":"22700022"},{"$f":"CONCATENATE(VLOOKUP(B421,'School List'!$B$3:$D$291,3,FALSE),H421)","v":"Elkhart County - CONCORD COMMUNITY SCHOOL CORPORATION0022"},{"$f":"IF('Line 1 Source'!B421<>\"\",'Line 1 Source'!B421,\"\")","v":"20"},{"$f":"IF('Line 1 Source'!C421<>\"\",'Line 1 Source'!C421,\"\")","v":"4"},{"$f":"IF('Line 1 Source'!D421<>\"\",'Line 1 Source'!D421,\"\")","v":"2270"},{"$f":"IF('Line 1 Source'!E421<>\"\",'Line 1 Source'!E421,\"\")","v":"0022"},{"$f":"IF('Line 1 Source'!F421<>\"\",'Line 1 Source'!F421,\"\")","v":4986023}]
[{"$f":"IF('Line 1 Source'!A422<>\"\",'Line 1 Source'!A422,\"\")","v":"2018"},"2042270",{"$f":"CONCATENATE(VLOOKUP(B422,'School List'!$B$3:$H$291,6,FALSE),H422)","v":"22700061"},{"$f":"CONCATENATE(VLOOKUP(B422,'School List'!$B$3:$D$291,3,FALSE),H422)","v":"Elkhart County - CONCORD COMMUNITY SCHOOL CORPORATION0061"},{"$f":"IF('Line 1 Source'!B422<>\"\",'Line 1 Source'!B422,\"\")","v":"20"},{"$f":"IF('Line 1 Source'!C422<>\"\",'Line 1 Source'!C422,\"\")","v":"4"},{"$f":"IF('Line 1 Source'!D422<>\"\",'Line 1 Source'!D422,\"\")","v":"2270"},{"$f":"IF('Line 1 Source'!E422<>\"\",'Line 1 Source'!E422,\"\")","v":"0061"},{"$f":"IF('Line 1 Source'!F422<>\"\",'Line 1 Source'!F422,\"\")","v":100000}]
[{"$f":"IF('Line 1 Source'!A423<>\"\",'Line 1 Source'!A423,\"\")","v":"2018"},"2042270",{"$f":"CONCATENATE(VLOOKUP(B423,'School List'!$B$3:$H$291,6,FALSE),H423)","v":"22700101"},{"$f":"CONCATENATE(VLOOKUP(B423,'School List'!$B$3:$D$291,3,FALSE),H423)","v":"Elkhart County - CONCORD COMMUNITY SCHOOL CORPORATION0101"},{"$f":"IF('Line 1 Source'!B423<>\"\",'Line 1 Source'!B423,\"\")","v":"20"},{"$f":"IF('Line 1 Source'!C423<>\"\",'Line 1 Source'!C423,\"\")","v":"4"},{"$f":"IF('Line 1 Source'!D423<>\"\",'Line 1 Source'!D423,\"\")","v":"2270"},{"$f":"IF('Line 1 Source'!E423<>\"\",'Line 1 Source'!E423,\"\")","v":"0101"},{"$f":"IF('Line 1 Source'!F423<>\"\",'Line 1 Source'!F423,\"\")","v":39900000}]
[{"$f":"IF('Line 1 Source'!A424<>\"\",'Line 1 Source'!A424,\"\")","v":"2018"},"2042270",{"$f":"CONCATENATE(VLOOKUP(B424,'School List'!$B$3:$H$291,6,FALSE),H424)","v":"22700180"},{"$f":"CONCATENATE(VLOOKUP(B424,'School List'!$B$3:$D$291,3,FALSE),H424)","v":"Elkhart County - CONCORD COMMUNITY SCHOOL CORPORATION0180"},{"$f":"IF('Line 1 Source'!B424<>\"\",'Line 1 Source'!B424,\"\")","v":"20"},{"$f":"IF('Line 1 Source'!C424<>\"\",'Line 1 Source'!C424,\"\")","v":"4"},{"$f":"IF('Line 1 Source'!D424<>\"\",'Line 1 Source'!D424,\"\")","v":"2270"},{"$f":"IF('Line 1 Source'!E424<>\"\",'Line 1 Source'!E424,\"\")","v":"0180"},{"$f":"IF('Line 1 Source'!F424<>\"\",'Line 1 Source'!F424,\"\")","v":9725765}]
[{"$f":"IF('Line 1 Source'!A425<>\"\",'Line 1 Source'!A425,\"\")","v":"2018"},"2042270",{"$f":"CONCATENATE(VLOOKUP(B425,'School List'!$B$3:$H$291,6,FALSE),H425)","v":"22700186"},{"$f":"CONCATENATE(VLOOKUP(B425,'School List'!$B$3:$D$291,3,FALSE),H425)","v":"Elkhart County - CONCORD COMMUNITY SCHOOL CORPORATION0186"},{"$f":"IF('Line 1 Source'!B425<>\"\",'Line 1 Source'!B425,\"\")","v":"20"},{"$f":"IF('Line 1 Source'!C425<>\"\",'Line 1 Source'!C425,\"\")","v":"4"},{"$f":"IF('Line 1 Source'!D425<>\"\",'Line 1 Source'!D425,\"\")","v":"2270"},{"$f":"IF('Line 1 Source'!E425<>\"\",'Line 1 Source'!E425,\"\")","v":"0186"},{"$f":"IF('Line 1 Source'!F425<>\"\",'Line 1 Source'!F425,\"\")","v":357162}]
[{"$f":"IF('Line 1 Source'!A426<>\"\",'Line 1 Source'!A426,\"\")","v":"2018"},"2042270",{"$f":"CONCATENATE(VLOOKUP(B426,'School List'!$B$3:$H$291,6,FALSE),H426)","v":"22701214"},{"$f":"CONCATENATE(VLOOKUP(B426,'School List'!$B$3:$D$291,3,FALSE),H426)","v":"Elkhart County - CONCORD COMMUNITY SCHOOL CORPORATION1214"},{"$f":"IF('Line 1 Source'!B426<>\"\",'Line 1 Source'!B426,\"\")","v":"20"},{"$f":"IF('Line 1 Source'!C426<>\"\",'Line 1 Source'!C426,\"\")","v":"4"},{"$f":"IF('Line 1 Source'!D426<>\"\",'Line 1 Source'!D426,\"\")","v":"2270"},{"$f":"IF('Line 1 Source'!E426<>\"\",'Line 1 Source'!E426,\"\")","v":"1214"},{"$f":"IF('Line 1 Source'!F426<>\"\",'Line 1 Source'!F426,\"\")","v":4575226}]
[{"$f":"IF('Line 1 Source'!A427<>\"\",'Line 1 Source'!A427,\"\")","v":"2018"},"2042270",{"$f":"CONCATENATE(VLOOKUP(B427,'School List'!$B$3:$H$291,6,FALSE),H427)","v":"22706301"},{"$f":"CONCATENATE(VLOOKUP(B427,'School List'!$B$3:$D$291,3,FALSE),H427)","v":"Elkhart County - CONCORD COMMUNITY SCHOOL CORPORATION6301"},{"$f":"IF('Line 1 Source'!B427<>\"\",'Line 1 Source'!B427,\"\")","v":"20"},{"$f":"IF('Line 1 Source'!C427<>\"\",'Line 1 Source'!C427,\"\")","v":"4"},{"$f":"IF('Line 1 Source'!D427<>\"\",'Line 1 Source'!D427,\"\")","v":"2270"},{"$f":"IF('Line 1 Source'!E427<>\"\",'Line 1 Source'!E427,\"\")","v":"6301"},{"$f":"IF('Line 1 Source'!F427<>\"\",'Line 1 Source'!F427,\"\")","v":2027991}]
[{"$f":"IF('Line 1 Source'!A428<>\"\",'Line 1 Source'!A428,\"\")","v":"2018"},"2042270",{"$f":"CONCATENATE(VLOOKUP(B428,'School List'!$B$3:$H$291,6,FALSE),H428)","v":"22706302"},{"$f":"CONCATENATE(VLOOKUP(B428,'School List'!$B$3:$D$291,3,FALSE),H428)","v":"Elkhart County - CONCORD COMMUNITY SCHOOL CORPORATION6302"},{"$f":"IF('Line 1 Source'!B428<>\"\",'Line 1 Source'!B428,\"\")","v":"20"},{"$f":"IF('Line 1 Source'!C428<>\"\",'Line 1 Source'!C428,\"\")","v":"4"},{"$f":"IF('Line 1 Source'!D428<>\"\",'Line 1 Source'!D428,\"\")","v":"2270"},{"$f":"IF('Line 1 Source'!E428<>\"\",'Line 1 Source'!E428,\"\")","v":"6302"},{"$f":"IF('Line 1 Source'!F428<>\"\",'Line 1 Source'!F428,\"\")","v":482853}]
[{"$f":"IF('Line 1 Source'!A429<>\"\",'Line 1 Source'!A429,\"\")","v":"2018"},"2042275",{"$f":"CONCATENATE(VLOOKUP(B429,'School List'!$B$3:$H$291,6,FALSE),H429)","v":"22750101"},{"$f":"CONCATENATE(VLOOKUP(B429,'School List'!$B$3:$D$291,3,FALSE),H429)","v":"Elkhart County - MIDDLEBURY COMMUNITY SCHOOL CORPORATION0101"},{"$f":"IF('Line 1 Source'!B429<>\"\",'Line 1 Source'!B429,\"\")","v":"20"},{"$f":"IF('Line 1 Source'!C429<>\"\",'Line 1 Source'!C429,\"\")","v":"4"},{"$f":"IF('Line 1 Source'!D429<>\"\",'Line 1 Source'!D429,\"\")","v":"2275"},{"$f":"IF('Line 1 Source'!E429<>\"\",'Line 1 Source'!E429,\"\")","v":"0101"},{"$f":"IF('Line 1 Source'!F429<>\"\",'Line 1 Source'!F429,\"\")","v":32000915}]
[{"$f":"IF('Line 1 Source'!A430<>\"\",'Line 1 Source'!A430,\"\")","v":"2018"},"2042275",{"$f":"CONCATENATE(VLOOKUP(B430,'School List'!$B$3:$H$291,6,FALSE),H430)","v":"22750180"},{"$f":"CONCATENATE(VLOOKUP(B430,'School List'!$B$3:$D$291,3,FALSE),H430)","v":"Elkhart County - MIDDLEBURY COMMUNITY SCHOOL CORPORATION0180"},{"$f":"IF('Line 1 Source'!B430<>\"\",'Line 1 Source'!B430,\"\")","v":"20"},{"$f":"IF('Line 1 Source'!C430<>\"\",'Line 1 Source'!C430,\"\")","v":"4"},{"$f":"IF('Line 1 Source'!D430<>\"\",'Line 1 Source'!D430,\"\")","v":"2275"},{"$f":"IF('Line 1 Source'!E430<>\"\",'Line 1 Source'!E430,\"\")","v":"0180"},{"$f":"IF('Line 1 Source'!F430<>\"\",'Line 1 Source'!F430,\"\")","v":10471187}]
[{"$f":"IF('Line 1 Source'!A431<>\"\",'Line 1 Source'!A431,\"\")","v":"2018"},"2042275",{"$f":"CONCATENATE(VLOOKUP(B431,'School List'!$B$3:$H$291,6,FALSE),H431)","v":"22751214"},{"$f":"CONCATENATE(VLOOKUP(B431,'School List'!$B$3:$D$291,3,FALSE),H431)","v":"Elkhart County - MIDDLEBURY COMMUNITY SCHOOL CORPORATION1214"},{"$f":"IF('Line 1 Source'!B431<>\"\",'Line 1 Source'!B431,\"\")","v":"20"},{"$f":"IF('Line 1 Source'!C431<>\"\",'Line 1 Source'!C431,\"\")","v":"4"},{"$f":"IF('Line 1 Source'!D431<>\"\",'Line 1 Source'!D431,\"\")","v":"2275"},{"$f":"IF('Line 1 Source'!E431<>\"\",'Line 1 Source'!E431,\"\")","v":"1214"},{"$f":"IF('Line 1 Source'!F431<>\"\",'Line 1 Source'!F431,\"\")","v":3821459}]
[{"$f":"IF('Line 1 Source'!A432<>\"\",'Line 1 Source'!A432,\"\")","v":"2018"},"2042275",{"$f":"CONCATENATE(VLOOKUP(B432,'School List'!$B$3:$H$291,6,FALSE),H432)","v":"22756301"},{"$f":"CONCATENATE(VLOOKUP(B432,'School List'!$B$3:$D$291,3,FALSE),H432)","v":"Elkhart County - MIDDLEBURY COMMUNITY SCHOOL CORPORATION6301"},{"$f":"IF('Line 1 Source'!B432<>\"\",'Line 1 Source'!B432,\"\")","v":"20"},{"$f":"IF('Line 1 Source'!C432<>\"\",'Line 1 Source'!C432,\"\")","v":"4"},{"$f":"IF('Line 1 Source'!D432<>\"\",'Line 1 Source'!D432,\"\")","v":"2275"},{"$f":"IF('Line 1 Source'!E432<>\"\",'Line 1 Source'!E432,\"\")","v":"6301"},{"$f":"IF('Line 1 Source'!F432<>\"\",'Line 1 Source'!F432,\"\")","v":2835948}]
[{"$f":"IF('Line 1 Source'!A433<>\"\",'Line 1 Source'!A433,\"\")","v":"2018"},"2042275",{"$f":"CONCATENATE(VLOOKUP(B433,'School List'!$B$3:$H$291,6,FALSE),H433)","v":"22756302"},{"$f":"CONCATENATE(VLOOKUP(B433,'School List'!$B$3:$D$291,3,FALSE),H433)","v":"Elkhart County - MIDDLEBURY COMMUNITY SCHOOL CORPORATION6302"},{"$f":"IF('Line 1 Source'!B433<>\"\",'Line 1 Source'!B433,\"\")","v":"20"},{"$f":"IF('Line 1 Source'!C433<>\"\",'Line 1 Source'!C433,\"\")","v":"4"},{"$f":"IF('Line 1 Source'!D433<>\"\",'Line 1 Source'!D433,\"\")","v":"2275"},{"$f":"IF('Line 1 Source'!E433<>\"\",'Line 1 Source'!E433,\"\")","v":"6302"},{"$f":"IF('Line 1 Source'!F433<>\"\",'Line 1 Source'!F433,\"\")","v":480630}]
[{"$f":"IF('Line 1 Source'!A434<>\"\",'Line 1 Source'!A434,\"\")","v":"2018"},"2042285",{"$f":"CONCATENATE(VLOOKUP(B434,'School List'!$B$3:$H$291,6,FALSE),H434)","v":"22850061"},{"$f":"CONCATENATE(VLOOKUP(B434,'School List'!$B$3:$D$291,3,FALSE),H434)","v":"Elkhart County - WA-NEE COMMUNITY SCHOOL CORPORATION0061"},{"$f":"IF('Line 1 Source'!B434<>\"\",'Line 1 Source'!B434,\"\")","v":"20"},{"$f":"IF('Line 1 Source'!C434<>\"\",'Line 1 Source'!C434,\"\")","v":"4"},{"$f":"IF('Line 1 Source'!D434<>\"\",'Line 1 Source'!D434,\"\")","v":"2285"},{"$f":"IF('Line 1 Source'!E434<>\"\",'Line 1 Source'!E434,\"\")","v":"0061"},{"$f":"IF('Line 1 Source'!F434<>\"\",'Line 1 Source'!F434,\"\")","v":130000}]
[{"$f":"IF('Line 1 Source'!A435<>\"\",'Line 1 Source'!A435,\"\")","v":"2018"},"2042285",{"$f":"CONCATENATE(VLOOKUP(B435,'School List'!$B$3:$H$291,6,FALSE),H435)","v":"22850101"},{"$f":"CONCATENATE(VLOOKUP(B435,'School List'!$B$3:$D$291,3,FALSE),H435)","v":"Elkhart County - WA-NEE COMMUNITY SCHOOL CORPORATION0101"},{"$f":"IF('Line 1 Source'!B435<>\"\",'Line 1 Source'!B435,\"\")","v":"20"},{"$f":"IF('Line 1 Source'!C435<>\"\",'Line 1 Source'!C435,\"\")","v":"4"},{"$f":"IF('Line 1 Source'!D435<>\"\",'Line 1 Source'!D435,\"\")","v":"2285"},{"$f":"IF('Line 1 Source'!E435<>\"\",'Line 1 Source'!E435,\"\")","v":"0101"},{"$f":"IF('Line 1 Source'!F435<>\"\",'Line 1 Source'!F435,\"\")","v":20483384}]
[{"$f":"IF('Line 1 Source'!A436<>\"\",'Line 1 Source'!A436,\"\")","v":"2018"},"2042285",{"$f":"CONCATENATE(VLOOKUP(B436,'School List'!$B$3:$H$291,6,FALSE),H436)","v":"22850180"},{"$f":"CONCATENATE(VLOOKUP(B436,'School List'!$B$3:$D$291,3,FALSE),H436)","v":"Elkhart County - WA-NEE COMMUNITY SCHOOL CORPORATION0180"},{"$f":"IF('Line 1 Source'!B436<>\"\",'Line 1 Source'!B436,\"\")","v":"20"},{"$f":"IF('Line 1 Source'!C436<>\"\",'Line 1 Source'!C436,\"\")","v":"4"},{"$f":"IF('Line 1 Source'!D436<>\"\",'Line 1 Source'!D436,\"\")","v":"2285"},{"$f":"IF('Line 1 Source'!E436<>\"\",'Line 1 Source'!E436,\"\")","v":"0180"},{"$f":"IF('Line 1 Source'!F436<>\"\",'Line 1 Source'!F436,\"\")","v":4927690}]
[{"$f":"IF('Line 1 Source'!A437<>\"\",'Line 1 Source'!A437,\"\")","v":"2018"},"2042285",{"$f":"CONCATENATE(VLOOKUP(B437,'School List'!$B$3:$H$291,6,FALSE),H437)","v":"22850186"},{"$f":"CONCATENATE(VLOOKUP(B437,'School List'!$B$3:$D$291,3,FALSE),H437)","v":"Elkhart County - WA-NEE COMMUNITY SCHOOL CORPORATION0186"},{"$f":"IF('Line 1 Source'!B437<>\"\",'Line 1 Source'!B437,\"\")","v":"20"},{"$f":"IF('Line 1 Source'!C437<>\"\",'Line 1 Source'!C437,\"\")","v":"4"},{"$f":"IF('Line 1 Source'!D437<>\"\",'Line 1 Source'!D437,\"\")","v":"2285"},{"$f":"IF('Line 1 Source'!E437<>\"\",'Line 1 Source'!E437,\"\")","v":"0186"},{"$f":"IF('Line 1 Source'!F437<>\"\",'Line 1 Source'!F437,\"\")","v":0}]
[{"$f":"IF('Line 1 Source'!A438<>\"\",'Line 1 Source'!A438,\"\")","v":"2018"},"2042285",{"$f":"CONCATENATE(VLOOKUP(B438,'School List'!$B$3:$H$291,6,FALSE),H438)","v":"22851214"},{"$f":"CONCATENATE(VLOOKUP(B438,'School List'!$B$3:$D$291,3,FALSE),H438)","v":"Elkhart County - WA-NEE COMMUNITY SCHOOL CORPORATION1214"},{"$f":"IF('Line 1 Source'!B438<>\"\",'Line 1 Source'!B438,\"\")","v":"20"},{"$f":"IF('Line 1 Source'!C438<>\"\",'Line 1 Source'!C438,\"\")","v":"4"},{"$f":"IF('Line 1 Source'!D438<>\"\",'Line 1 Source'!D438,\"\")","v":"2285"},{"$f":"IF('Line 1 Source'!E438<>\"\",'Line 1 Source'!E438,\"\")","v":"1214"},{"$f":"IF('Line 1 Source'!F438<>\"\",'Line 1 Source'!F438,\"\")","v":4576594}]
[{"$f":"IF('Line 1 Source'!A439<>\"\",'Line 1 Source'!A439,\"\")","v":"2018"},"2042285",{"$f":"CONCATENATE(VLOOKUP(B439,'School List'!$B$3:$H$291,6,FALSE),H439)","v":"22856301"},{"$f":"CONCATENATE(VLOOKUP(B439,'School List'!$B$3:$D$291,3,FALSE),H439)","v":"Elkhart County - WA-NEE COMMUNITY SCHOOL CORPORATION6301"},{"$f":"IF('Line 1 Source'!B439<>\"\",'Line 1 Source'!B439,\"\")","v":"20"},{"$f":"IF('Line 1 Source'!C439<>\"\",'Line 1 Source'!C439,\"\")","v":"4"},{"$f":"IF('Line 1 Source'!D439<>\"\",'Line 1 Source'!D439,\"\")","v":"2285"},{"$f":"IF('Line 1 Source'!E439<>\"\",'Line 1 Source'!E439,\"\")","v":"6301"},{"$f":"IF('Line 1 Source'!F439<>\"\",'Line 1 Source'!F439,\"\")","v":2600000}]
[{"$f":"IF('Line 1 Source'!A440<>\"\",'Line 1 Source'!A440,\"\")","v":"2018"},"2042285",{"$f":"CONCATENATE(VLOOKUP(B440,'School List'!$B$3:$H$291,6,FALSE),H440)","v":"22856302"},{"$f":"CONCATENATE(VLOOKUP(B440,'School List'!$B$3:$D$291,3,FALSE),H440)","v":"Elkhart County - WA-NEE COMMUNITY SCHOOL CORPORATION6302"},{"$f":"IF('Line 1 Source'!B440<>\"\",'Line 1 Source'!B440,\"\")","v":"20"},{"$f":"IF('Line 1 Source'!C440<>\"\",'Line 1 Source'!C440,\"\")","v":"4"},{"$f":"IF('Line 1 Source'!D440<>\"\",'Line 1 Source'!D440,\"\")","v":"2285"},{"$f":"IF('Line 1 Source'!E440<>\"\",'Line 1 Source'!E440,\"\")","v":"6302"},{"$f":"IF('Line 1 Source'!F440<>\"\",'Line 1 Source'!F440,\"\")","v":480000}]
[{"$f":"IF('Line 1 Source'!A441<>\"\",'Line 1 Source'!A441,\"\")","v":"2018"},"2042305",{"$f":"CONCATENATE(VLOOKUP(B441,'School List'!$B$3:$H$291,6,FALSE),H441)","v":"23050022"},{"$f":"CONCATENATE(VLOOKUP(B441,'School List'!$B$3:$D$291,3,FALSE),H441)","v":"Elkhart County - ELKHART COMMUNITY SCHOOL CORPORATION0022"},{"$f":"IF('Line 1 Source'!B441<>\"\",'Line 1 Source'!B441,\"\")","v":"20"},{"$f":"IF('Line 1 Source'!C441<>\"\",'Line 1 Source'!C441,\"\")","v":"4"},{"$f":"IF('Line 1 Source'!D441<>\"\",'Line 1 Source'!D441,\"\")","v":"2305"},{"$f":"IF('Line 1 Source'!E441<>\"\",'Line 1 Source'!E441,\"\")","v":"0022"},{"$f":"IF('Line 1 Source'!F441<>\"\",'Line 1 Source'!F441,\"\")","v":4000000}]
[{"$f":"IF('Line 1 Source'!A442<>\"\",'Line 1 Source'!A442,\"\")","v":"2018"},"2042305",{"$f":"CONCATENATE(VLOOKUP(B442,'School List'!$B$3:$H$291,6,FALSE),H442)","v":"23050061"},{"$f":"CONCATENATE(VLOOKUP(B442,'School List'!$B$3:$D$291,3,FALSE),H442)","v":"Elkhart County - ELKHART COMMUNITY SCHOOL CORPORATION0061"},{"$f":"IF('Line 1 Source'!B442<>\"\",'Line 1 Source'!B442,\"\")","v":"20"},{"$f":"IF('Line 1 Source'!C442<>\"\",'Line 1 Source'!C442,\"\")","v":"4"},{"$f":"IF('Line 1 Source'!D442<>\"\",'Line 1 Source'!D442,\"\")","v":"2305"},{"$f":"IF('Line 1 Source'!E442<>\"\",'Line 1 Source'!E442,\"\")","v":"0061"},{"$f":"IF('Line 1 Source'!F442<>\"\",'Line 1 Source'!F442,\"\")","v":2000000}]
[{"$f":"IF('Line 1 Source'!A443<>\"\",'Line 1 Source'!A443,\"\")","v":"2018"},"2042305",{"$f":"CONCATENATE(VLOOKUP(B443,'School List'!$B$3:$H$291,6,FALSE),H443)","v":"23050101"},{"$f":"CONCATENATE(VLOOKUP(B443,'School List'!$B$3:$D$291,3,FALSE),H443)","v":"Elkhart County - ELKHART COMMUNITY SCHOOL CORPORATION0101"},{"$f":"IF('Line 1 Source'!B443<>\"\",'Line 1 Source'!B443,\"\")","v":"20"},{"$f":"IF('Line 1 Source'!C443<>\"\",'Line 1 Source'!C443,\"\")","v":"4"},{"$f":"IF('Line 1 Source'!D443<>\"\",'Line 1 Source'!D443,\"\")","v":"2305"},{"$f":"IF('Line 1 Source'!E443<>\"\",'Line 1 Source'!E443,\"\")","v":"0101"},{"$f":"IF('Line 1 Source'!F443<>\"\",'Line 1 Source'!F443,\"\")","v":91057406}]
[{"$f":"IF('Line 1 Source'!A444<>\"\",'Line 1 Source'!A444,\"\")","v":"2018"},"2042305",{"$f":"CONCATENATE(VLOOKUP(B444,'School List'!$B$3:$H$291,6,FALSE),H444)","v":"23050180"},{"$f":"CONCATENATE(VLOOKUP(B444,'School List'!$B$3:$D$291,3,FALSE),H444)","v":"Elkhart County - ELKHART COMMUNITY SCHOOL CORPORATION0180"},{"$f":"IF('Line 1 Source'!B444<>\"\",'Line 1 Source'!B444,\"\")","v":"20"},{"$f":"IF('Line 1 Source'!C444<>\"\",'Line 1 Source'!C444,\"\")","v":"4"},{"$f":"IF('Line 1 Source'!D444<>\"\",'Line 1 Source'!D444,\"\")","v":"2305"},{"$f":"IF('Line 1 Source'!E444<>\"\",'Line 1 Source'!E444,\"\")","v":"0180"},{"$f":"IF('Line 1 Source'!F444<>\"\",'Line 1 Source'!F444,\"\")","v":9701616}]
[{"$f":"IF('Line 1 Source'!A445<>\"\",'Line 1 Source'!A445,\"\")","v":"2018"},"2042305",{"$f":"CONCATENATE(VLOOKUP(B445,'School List'!$B$3:$H$291,6,FALSE),H445)","v":"23050186"},{"$f":"CONCATENATE(VLOOKUP(B445,'School List'!$B$3:$D$291,3,FALSE),H445)","v":"Elkhart County - ELKHART COMMUNITY SCHOOL CORPORATION0186"},{"$f":"IF('Line 1 Source'!B445<>\"\",'Line 1 Source'!B445,\"\")","v":"20"},{"$f":"IF('Line 1 Source'!C445<>\"\",'Line 1 Source'!C445,\"\")","v":"4"},{"$f":"IF('Line 1 Source'!D445<>\"\",'Line 1 Source'!D445,\"\")","v":"2305"},{"$f":"IF('Line 1 Source'!E445<>\"\",'Line 1 Source'!E445,\"\")","v":"0186"},{"$f":"IF('Line 1 Source'!F445<>\"\",'Line 1 Source'!F445,\"\")","v":3011969}]
[{"$f":"IF('Line 1 Source'!A446<>\"\",'Line 1 Source'!A446,\"\")","v":"2018"},"2042305",{"$f":"CONCATENATE(VLOOKUP(B446,'School List'!$B$3:$H$291,6,FALSE),H446)","v":"23050287"},{"$f":"CONCATENATE(VLOOKUP(B446,'School List'!$B$3:$D$291,3,FALSE),H446)","v":"Elkhart County - ELKHART COMMUNITY SCHOOL CORPORATION0287"},{"$f":"IF('Line 1 Source'!B446<>\"\",'Line 1 Source'!B446,\"\")","v":"20"},{"$f":"IF('Line 1 Source'!C446<>\"\",'Line 1 Source'!C446,\"\")","v":"4"},{"$f":"IF('Line 1 Source'!D446<>\"\",'Line 1 Source'!D446,\"\")","v":"2305"},{"$f":"IF('Line 1 Source'!E446<>\"\",'Line 1 Source'!E446,\"\")","v":"0287"},{"$f":"IF('Line 1 Source'!F446<>\"\",'Line 1 Source'!F446,\"\")","v":1381000}]
[{"$f":"IF('Line 1 Source'!A447<>\"\",'Line 1 Source'!A447,\"\")","v":"2018"},"2042305",{"$f":"CONCATENATE(VLOOKUP(B447,'School List'!$B$3:$H$291,6,FALSE),H447)","v":"23051214"},{"$f":"CONCATENATE(VLOOKUP(B447,'School List'!$B$3:$D$291,3,FALSE),H447)","v":"Elkhart County - ELKHART COMMUNITY SCHOOL CORPORATION1214"},{"$f":"IF('Line 1 Source'!B447<>\"\",'Line 1 Source'!B447,\"\")","v":"20"},{"$f":"IF('Line 1 Source'!C447<>\"\",'Line 1 Source'!C447,\"\")","v":"4"},{"$f":"IF('Line 1 Source'!D447<>\"\",'Line 1 Source'!D447,\"\")","v":"2305"},{"$f":"IF('Line 1 Source'!E447<>\"\",'Line 1 Source'!E447,\"\")","v":"1214"},{"$f":"IF('Line 1 Source'!F447<>\"\",'Line 1 Source'!F447,\"\")","v":11715186}]
[{"$f":"IF('Line 1 Source'!A448<>\"\",'Line 1 Source'!A448,\"\")","v":"2018"},"2042305",{"$f":"CONCATENATE(VLOOKUP(B448,'School List'!$B$3:$H$291,6,FALSE),H448)","v":"23056301"},{"$f":"CONCATENATE(VLOOKUP(B448,'School List'!$B$3:$D$291,3,FALSE),H448)","v":"Elkhart County - ELKHART COMMUNITY SCHOOL CORPORATION6301"},{"$f":"IF('Line 1 Source'!B448<>\"\",'Line 1 Source'!B448,\"\")","v":"20"},{"$f":"IF('Line 1 Source'!C448<>\"\",'Line 1 Source'!C448,\"\")","v":"4"},{"$f":"IF('Line 1 Source'!D448<>\"\",'Line 1 Source'!D448,\"\")","v":"2305"},{"$f":"IF('Line 1 Source'!E448<>\"\",'Line 1 Source'!E448,\"\")","v":"6301"},{"$f":"IF('Line 1 Source'!F448<>\"\",'Line 1 Source'!F448,\"\")","v":7279159}]
[{"$f":"IF('Line 1 Source'!A449<>\"\",'Line 1 Source'!A449,\"\")","v":"2018"},"2042305",{"$f":"CONCATENATE(VLOOKUP(B449,'School List'!$B$3:$H$291,6,FALSE),H449)","v":"23056302"},{"$f":"CONCATENATE(VLOOKUP(B449,'School List'!$B$3:$D$291,3,FALSE),H449)","v":"Elkhart County - ELKHART COMMUNITY SCHOOL CORPORATION6302"},{"$f":"IF('Line 1 Source'!B449<>\"\",'Line 1 Source'!B449,\"\")","v":"20"},{"$f":"IF('Line 1 Source'!C449<>\"\",'Line 1 Source'!C449,\"\")","v":"4"},{"$f":"IF('Line 1 Source'!D449<>\"\",'Line 1 Source'!D449,\"\")","v":"2305"},{"$f":"IF('Line 1 Source'!E449<>\"\",'Line 1 Source'!E449,\"\")","v":"6302"},{"$f":"IF('Line 1 Source'!F449<>\"\",'Line 1 Source'!F449,\"\")","v":1280841}]
[{"$f":"IF('Line 1 Source'!A450<>\"\",'Line 1 Source'!A450,\"\")","v":"2018"},"2042315",{"$f":"CONCATENATE(VLOOKUP(B450,'School List'!$B$3:$H$291,6,FALSE),H450)","v":"23150061"},{"$f":"CONCATENATE(VLOOKUP(B450,'School List'!$B$3:$D$291,3,FALSE),H450)","v":"Elkhart County - GOSHEN COMMUNITY SCHOOL CORPORATION0061"},{"$f":"IF('Line 1 Source'!B450<>\"\",'Line 1 Source'!B450,\"\")","v":"20"},{"$f":"IF('Line 1 Source'!C450<>\"\",'Line 1 Source'!C450,\"\")","v":"4"},{"$f":"IF('Line 1 Source'!D450<>\"\",'Line 1 Source'!D450,\"\")","v":"2315"},{"$f":"IF('Line 1 Source'!E450<>\"\",'Line 1 Source'!E450,\"\")","v":"0061"},{"$f":"IF('Line 1 Source'!F450<>\"\",'Line 1 Source'!F450,\"\")","v":2630000}]
[{"$f":"IF('Line 1 Source'!A451<>\"\",'Line 1 Source'!A451,\"\")","v":"2018"},{"$f":"CONCATENATE(E451,F451,G451)","v":"2042315"},{"$f":"CONCATENATE(VLOOKUP(B451,'School List'!$B$3:$H$291,6,FALSE),H451)","v":"23150101"},{"$f":"CONCATENATE(VLOOKUP(B451,'School List'!$B$3:$D$291,3,FALSE),H451)","v":"Elkhart County - GOSHEN COMMUNITY SCHOOL CORPORATION0101"},{"$f":"IF('Line 1 Source'!B451<>\"\",'Line 1 Source'!B451,\"\")","v":"20"},{"$f":"IF('Line 1 Source'!C451<>\"\",'Line 1 Source'!C451,\"\")","v":"4"},{"$f":"IF('Line 1 Source'!D451<>\"\",'Line 1 Source'!D451,\"\")","v":"2315"},{"$f":"IF('Line 1 Source'!E451<>\"\",'Line 1 Source'!E451,\"\")","v":"0101"},{"$f":"IF('Line 1 Source'!F451<>\"\",'Line 1 Source'!F451,\"\")","v":46990216}]
[{"$f":"IF('Line 1 Source'!A452<>\"\",'Line 1 Source'!A452,\"\")","v":"2018"},"2042315",{"$f":"CONCATENATE(VLOOKUP(B452,'School List'!$B$3:$H$291,6,FALSE),H452)","v":"23150180"},{"$f":"CONCATENATE(VLOOKUP(B452,'School List'!$B$3:$D$291,3,FALSE),H452)","v":"Elkhart County - GOSHEN COMMUNITY SCHOOL CORPORATION0180"},{"$f":"IF('Line 1 Source'!B452<>\"\",'Line 1 Source'!B452,\"\")","v":"20"},{"$f":"IF('Line 1 Source'!C452<>\"\",'Line 1 Source'!C452,\"\")","v":"4"},{"$f":"IF('Line 1 Source'!D452<>\"\",'Line 1 Source'!D452,\"\")","v":"2315"},{"$f":"IF('Line 1 Source'!E452<>\"\",'Line 1 Source'!E452,\"\")","v":"0180"},{"$f":"IF('Line 1 Source'!F452<>\"\",'Line 1 Source'!F452,\"\")","v":9514469}]
[{"$f":"IF('Line 1 Source'!A453<>\"\",'Line 1 Source'!A453,\"\")","v":"2018"},"2042315",{"$f":"CONCATENATE(VLOOKUP(B453,'School List'!$B$3:$H$291,6,FALSE),H453)","v":"23150287"},{"$f":"CONCATENATE(VLOOKUP(B453,'School List'!$B$3:$D$291,3,FALSE),H453)","v":"Elkhart County - GOSHEN COMMUNITY SCHOOL CORPORATION0287"},{"$f":"IF('Line 1 Source'!B453<>\"\",'Line 1 Source'!B453,\"\")","v":"20"},{"$f":"IF('Line 1 Source'!C453<>\"\",'Line 1 Source'!C453,\"\")","v":"4"},{"$f":"IF('Line 1 Source'!D453<>\"\",'Line 1 Source'!D453,\"\")","v":"2315"},{"$f":"IF('Line 1 Source'!E453<>\"\",'Line 1 Source'!E453,\"\")","v":"0287"},{"$f":"IF('Line 1 Source'!F453<>\"\",'Line 1 Source'!F453,\"\")","v":1267000}]
[{"$f":"IF('Line 1 Source'!A454<>\"\",'Line 1 Source'!A454,\"\")","v":"2018"},"2042315",{"$f":"CONCATENATE(VLOOKUP(B454,'School List'!$B$3:$H$291,6,FALSE),H454)","v":"23151214"},{"$f":"CONCATENATE(VLOOKUP(B454,'School List'!$B$3:$D$291,3,FALSE),H454)","v":"Elkhart County - GOSHEN COMMUNITY SCHOOL CORPORATION1214"},{"$f":"IF('Line 1 Source'!B454<>\"\",'Line 1 Source'!B454,\"\")","v":"20"},{"$f":"IF('Line 1 Source'!C454<>\"\",'Line 1 Source'!C454,\"\")","v":"4"},{"$f":"IF('Line 1 Source'!D454<>\"\",'Line 1 Source'!D454,\"\")","v":"2315"},{"$f":"IF('Line 1 Source'!E454<>\"\",'Line 1 Source'!E454,\"\")","v":"1214"},{"$f":"IF('Line 1 Source'!F454<>\"\",'Line 1 Source'!F454,\"\")","v":3349718}]
[{"$f":"IF('Line 1 Source'!A455<>\"\",'Line 1 Source'!A455,\"\")","v":"2018"},"2042315",{"$f":"CONCATENATE(VLOOKUP(B455,'School List'!$B$3:$H$291,6,FALSE),H455)","v":"23156301"},{"$f":"CONCATENATE(VLOOKUP(B455,'School List'!$B$3:$D$291,3,FALSE),H455)","v":"Elkhart County - GOSHEN COMMUNITY SCHOOL CORPORATION6301"},{"$f":"IF('Line 1 Source'!B455<>\"\",'Line 1 Source'!B455,\"\")","v":"20"},{"$f":"IF('Line 1 Source'!C455<>\"\",'Line 1 Source'!C455,\"\")","v":"4"},{"$f":"IF('Line 1 Source'!D455<>\"\",'Line 1 Source'!D455,\"\")","v":"2315"},{"$f":"IF('Line 1 Source'!E455<>\"\",'Line 1 Source'!E455,\"\")","v":"6301"},{"$f":"IF('Line 1 Source'!F455<>\"\",'Line 1 Source'!F455,\"\")","v":3368400}]
[{"$f":"IF('Line 1 Source'!A456<>\"\",'Line 1 Source'!A456,\"\")","v":"2018"},"2042315",{"$f":"CONCATENATE(VLOOKUP(B456,'School List'!$B$3:$H$291,6,FALSE),H456)","v":"23156302"},{"$f":"CONCATENATE(VLOOKUP(B456,'School List'!$B$3:$D$291,3,FALSE),H456)","v":"Elkhart County - GOSHEN COMMUNITY SCHOOL CORPORATION6302"},{"$f":"IF('Line 1 Source'!B456<>\"\",'Line 1 Source'!B456,\"\")","v":"20"},{"$f":"IF('Line 1 Source'!C456<>\"\",'Line 1 Source'!C456,\"\")","v":"4"},{"$f":"IF('Line 1 Source'!D456<>\"\",'Line 1 Source'!D456,\"\")","v":"2315"},{"$f":"IF('Line 1 Source'!E456<>\"\",'Line 1 Source'!E456,\"\")","v":"6302"},{"$f":"IF('Line 1 Source'!F456<>\"\",'Line 1 Source'!F456,\"\")","v":648800}]
[{"$f":"IF('Line 1 Source'!A457<>\"\",'Line 1 Source'!A457,\"\")","v":"2018"},"2142395",{"$f":"CONCATENATE(VLOOKUP(B457,'School List'!$B$3:$H$291,6,FALSE),H457)","v":"23950061"},{"$f":"CONCATENATE(VLOOKUP(B457,'School List'!$B$3:$D$291,3,FALSE),H457)","v":"Fayette County - FAYETTE COUNTY SCHOOL CORPORATION0061"},{"$f":"IF('Line 1 Source'!B457<>\"\",'Line 1 Source'!B457,\"\")","v":"21"},{"$f":"IF('Line 1 Source'!C457<>\"\",'Line 1 Source'!C457,\"\")","v":"4"},{"$f":"IF('Line 1 Source'!D457<>\"\",'Line 1 Source'!D457,\"\")","v":"2395"},{"$f":"IF('Line 1 Source'!E457<>\"\",'Line 1 Source'!E457,\"\")","v":"0061"},{"$f":"IF('Line 1 Source'!F457<>\"\",'Line 1 Source'!F457,\"\")","v":1644425}]
[{"$f":"IF('Line 1 Source'!A458<>\"\",'Line 1 Source'!A458,\"\")","v":"2018"},"2142395",{"$f":"CONCATENATE(VLOOKUP(B458,'School List'!$B$3:$H$291,6,FALSE),H458)","v":"23950101"},{"$f":"CONCATENATE(VLOOKUP(B458,'School List'!$B$3:$D$291,3,FALSE),H458)","v":"Fayette County - FAYETTE COUNTY SCHOOL CORPORATION0101"},{"$f":"IF('Line 1 Source'!B458<>\"\",'Line 1 Source'!B458,\"\")","v":"21"},{"$f":"IF('Line 1 Source'!C458<>\"\",'Line 1 Source'!C458,\"\")","v":"4"},{"$f":"IF('Line 1 Source'!D458<>\"\",'Line 1 Source'!D458,\"\")","v":"2395"},{"$f":"IF('Line 1 Source'!E458<>\"\",'Line 1 Source'!E458,\"\")","v":"0101"},{"$f":"IF('Line 1 Source'!F458<>\"\",'Line 1 Source'!F458,\"\")","v":26090350}]
[{"$f":"IF('Line 1 Source'!A459<>\"\",'Line 1 Source'!A459,\"\")","v":"2018"},"2142395",{"$f":"CONCATENATE(VLOOKUP(B459,'School List'!$B$3:$H$291,6,FALSE),H459)","v":"23950180"},{"$f":"CONCATENATE(VLOOKUP(B459,'School List'!$B$3:$D$291,3,FALSE),H459)","v":"Fayette County - FAYETTE COUNTY SCHOOL CORPORATION0180"},{"$f":"IF('Line 1 Source'!B459<>\"\",'Line 1 Source'!B459,\"\")","v":"21"},{"$f":"IF('Line 1 Source'!C459<>\"\",'Line 1 Source'!C459,\"\")","v":"4"},{"$f":"IF('Line 1 Source'!D459<>\"\",'Line 1 Source'!D459,\"\")","v":"2395"},{"$f":"IF('Line 1 Source'!E459<>\"\",'Line 1 Source'!E459,\"\")","v":"0180"},{"$f":"IF('Line 1 Source'!F459<>\"\",'Line 1 Source'!F459,\"\")","v":1968745}]
[{"$f":"IF('Line 1 Source'!A460<>\"\",'Line 1 Source'!A460,\"\")","v":"2018"},"2142395",{"$f":"CONCATENATE(VLOOKUP(B460,'School List'!$B$3:$H$291,6,FALSE),H460)","v":"23950186"},{"$f":"CONCATENATE(VLOOKUP(B460,'School List'!$B$3:$D$291,3,FALSE),H460)","v":"Fayette County - FAYETTE COUNTY SCHOOL CORPORATION0186"},{"$f":"IF('Line 1 Source'!B460<>\"\",'Line 1 Source'!B460,\"\")","v":"21"},{"$f":"IF('Line 1 Source'!C460<>\"\",'Line 1 Source'!C460,\"\")","v":"4"},{"$f":"IF('Line 1 Source'!D460<>\"\",'Line 1 Source'!D460,\"\")","v":"2395"},{"$f":"IF('Line 1 Source'!E460<>\"\",'Line 1 Source'!E460,\"\")","v":"0186"},{"$f":"IF('Line 1 Source'!F460<>\"\",'Line 1 Source'!F460,\"\")","v":194125}]
[{"$f":"IF('Line 1 Source'!A461<>\"\",'Line 1 Source'!A461,\"\")","v":"2018"},"2142395",{"$f":"CONCATENATE(VLOOKUP(B461,'School List'!$B$3:$H$291,6,FALSE),H461)","v":"23951214"},{"$f":"CONCATENATE(VLOOKUP(B461,'School List'!$B$3:$D$291,3,FALSE),H461)","v":"Fayette County - FAYETTE COUNTY SCHOOL CORPORATION1214"},{"$f":"IF('Line 1 Source'!B461<>\"\",'Line 1 Source'!B461,\"\")","v":"21"},{"$f":"IF('Line 1 Source'!C461<>\"\",'Line 1 Source'!C461,\"\")","v":"4"},{"$f":"IF('Line 1 Source'!D461<>\"\",'Line 1 Source'!D461,\"\")","v":"2395"},{"$f":"IF('Line 1 Source'!E461<>\"\",'Line 1 Source'!E461,\"\")","v":"1214"},{"$f":"IF('Line 1 Source'!F461<>\"\",'Line 1 Source'!F461,\"\")","v":2683754}]
[{"$f":"IF('Line 1 Source'!A462<>\"\",'Line 1 Source'!A462,\"\")","v":"2018"},"2142395",{"$f":"CONCATENATE(VLOOKUP(B462,'School List'!$B$3:$H$291,6,FALSE),H462)","v":"23956301"},{"$f":"CONCATENATE(VLOOKUP(B462,'School List'!$B$3:$D$291,3,FALSE),H462)","v":"Fayette County - FAYETTE COUNTY SCHOOL CORPORATION6301"},{"$f":"IF('Line 1 Source'!B462<>\"\",'Line 1 Source'!B462,\"\")","v":"21"},{"$f":"IF('Line 1 Source'!C462<>\"\",'Line 1 Source'!C462,\"\")","v":"4"},{"$f":"IF('Line 1 Source'!D462<>\"\",'Line 1 Source'!D462,\"\")","v":"2395"},{"$f":"IF('Line 1 Source'!E462<>\"\",'Line 1 Source'!E462,\"\")","v":"6301"},{"$f":"IF('Line 1 Source'!F462<>\"\",'Line 1 Source'!F462,\"\")","v":2500000}]
[{"$f":"IF('Line 1 Source'!A463<>\"\",'Line 1 Source'!A463,\"\")","v":"2018"},"2142395",{"$f":"CONCATENATE(VLOOKUP(B463,'School List'!$B$3:$H$291,6,FALSE),H463)","v":"23956302"},{"$f":"CONCATENATE(VLOOKUP(B463,'School List'!$B$3:$D$291,3,FALSE),H463)","v":"Fayette County - FAYETTE COUNTY SCHOOL CORPORATION6302"},{"$f":"IF('Line 1 Source'!B463<>\"\",'Line 1 Source'!B463,\"\")","v":"21"},{"$f":"IF('Line 1 Source'!C463<>\"\",'Line 1 Source'!C463,\"\")","v":"4"},{"$f":"IF('Line 1 Source'!D463<>\"\",'Line 1 Source'!D463,\"\")","v":"2395"},{"$f":"IF('Line 1 Source'!E463<>\"\",'Line 1 Source'!E463,\"\")","v":"6302"},{"$f":"IF('Line 1 Source'!F463<>\"\",'Line 1 Source'!F463,\"\")","v":588000}]
[{"$f":"IF('Line 1 Source'!A464<>\"\",'Line 1 Source'!A464,\"\")","v":"2018"},"2242400",{"$f":"CONCATENATE(VLOOKUP(B464,'School List'!$B$3:$H$291,6,FALSE),H464)","v":"24000061"},{"$f":"CONCATENATE(VLOOKUP(B464,'School List'!$B$3:$D$291,3,FALSE),H464)","v":"Floyd County - NEW ALBANY-FLOYD COUNTY CONS SCHOOL CORP0061"},{"$f":"IF('Line 1 Source'!B464<>\"\",'Line 1 Source'!B464,\"\")","v":"22"},{"$f":"IF('Line 1 Source'!C464<>\"\",'Line 1 Source'!C464,\"\")","v":"4"},{"$f":"IF('Line 1 Source'!D464<>\"\",'Line 1 Source'!D464,\"\")","v":"2400"},{"$f":"IF('Line 1 Source'!E464<>\"\",'Line 1 Source'!E464,\"\")","v":"0061"},{"$f":"IF('Line 1 Source'!F464<>\"\",'Line 1 Source'!F464,\"\")","v":2000000}]
[{"$f":"IF('Line 1 Source'!A465<>\"\",'Line 1 Source'!A465,\"\")","v":"2018"},"2242400",{"$f":"CONCATENATE(VLOOKUP(B465,'School List'!$B$3:$H$291,6,FALSE),H465)","v":"24000101"},{"$f":"CONCATENATE(VLOOKUP(B465,'School List'!$B$3:$D$291,3,FALSE),H465)","v":"Floyd County - NEW ALBANY-FLOYD COUNTY CONS SCHOOL CORP0101"},{"$f":"IF('Line 1 Source'!B465<>\"\",'Line 1 Source'!B465,\"\")","v":"22"},{"$f":"IF('Line 1 Source'!C465<>\"\",'Line 1 Source'!C465,\"\")","v":"4"},{"$f":"IF('Line 1 Source'!D465<>\"\",'Line 1 Source'!D465,\"\")","v":"2400"},{"$f":"IF('Line 1 Source'!E465<>\"\",'Line 1 Source'!E465,\"\")","v":"0101"},{"$f":"IF('Line 1 Source'!F465<>\"\",'Line 1 Source'!F465,\"\")","v":79319249}]
[{"$f":"IF('Line 1 Source'!A466<>\"\",'Line 1 Source'!A466,\"\")","v":"2018"},"2242400",{"$f":"CONCATENATE(VLOOKUP(B466,'School List'!$B$3:$H$291,6,FALSE),H466)","v":"24000180"},{"$f":"CONCATENATE(VLOOKUP(B466,'School List'!$B$3:$D$291,3,FALSE),H466)","v":"Floyd County - NEW ALBANY-FLOYD COUNTY CONS SCHOOL CORP0180"},{"$f":"IF('Line 1 Source'!B466<>\"\",'Line 1 Source'!B466,\"\")","v":"22"},{"$f":"IF('Line 1 Source'!C466<>\"\",'Line 1 Source'!C466,\"\")","v":"4"},{"$f":"IF('Line 1 Source'!D466<>\"\",'Line 1 Source'!D466,\"\")","v":"2400"},{"$f":"IF('Line 1 Source'!E466<>\"\",'Line 1 Source'!E466,\"\")","v":"0180"},{"$f":"IF('Line 1 Source'!F466<>\"\",'Line 1 Source'!F466,\"\")","v":10773664}]
[{"$f":"IF('Line 1 Source'!A467<>\"\",'Line 1 Source'!A467,\"\")","v":"2018"},"2242400",{"$f":"CONCATENATE(VLOOKUP(B467,'School List'!$B$3:$H$291,6,FALSE),H467)","v":"24000287"},{"$f":"CONCATENATE(VLOOKUP(B467,'School List'!$B$3:$D$291,3,FALSE),H467)","v":"Floyd County - NEW ALBANY-FLOYD COUNTY CONS SCHOOL CORP0287"},{"$f":"IF('Line 1 Source'!B467<>\"\",'Line 1 Source'!B467,\"\")","v":"22"},{"$f":"IF('Line 1 Source'!C467<>\"\",'Line 1 Source'!C467,\"\")","v":"4"},{"$f":"IF('Line 1 Source'!D467<>\"\",'Line 1 Source'!D467,\"\")","v":"2400"},{"$f":"IF('Line 1 Source'!E467<>\"\",'Line 1 Source'!E467,\"\")","v":"0287"},{"$f":"IF('Line 1 Source'!F467<>\"\",'Line 1 Source'!F467,\"\")","v":6868000}]
[{"$f":"IF('Line 1 Source'!A468<>\"\",'Line 1 Source'!A468,\"\")","v":"2018"},"2242400",{"$f":"CONCATENATE(VLOOKUP(B468,'School List'!$B$3:$H$291,6,FALSE),H468)","v":"24001214"},{"$f":"CONCATENATE(VLOOKUP(B468,'School List'!$B$3:$D$291,3,FALSE),H468)","v":"Floyd County - NEW ALBANY-FLOYD COUNTY CONS SCHOOL CORP1214"},{"$f":"IF('Line 1 Source'!B468<>\"\",'Line 1 Source'!B468,\"\")","v":"22"},{"$f":"IF('Line 1 Source'!C468<>\"\",'Line 1 Source'!C468,\"\")","v":"4"},{"$f":"IF('Line 1 Source'!D468<>\"\",'Line 1 Source'!D468,\"\")","v":"2400"},{"$f":"IF('Line 1 Source'!E468<>\"\",'Line 1 Source'!E468,\"\")","v":"1214"},{"$f":"IF('Line 1 Source'!F468<>\"\",'Line 1 Source'!F468,\"\")","v":12664762}]
[{"$f":"IF('Line 1 Source'!A469<>\"\",'Line 1 Source'!A469,\"\")","v":"2018"},"2242400",{"$f":"CONCATENATE(VLOOKUP(B469,'School List'!$B$3:$H$291,6,FALSE),H469)","v":"24006301"},{"$f":"CONCATENATE(VLOOKUP(B469,'School List'!$B$3:$D$291,3,FALSE),H469)","v":"Floyd County - NEW ALBANY-FLOYD COUNTY CONS SCHOOL CORP6301"},{"$f":"IF('Line 1 Source'!B469<>\"\",'Line 1 Source'!B469,\"\")","v":"22"},{"$f":"IF('Line 1 Source'!C469<>\"\",'Line 1 Source'!C469,\"\")","v":"4"},{"$f":"IF('Line 1 Source'!D469<>\"\",'Line 1 Source'!D469,\"\")","v":"2400"},{"$f":"IF('Line 1 Source'!E469<>\"\",'Line 1 Source'!E469,\"\")","v":"6301"},{"$f":"IF('Line 1 Source'!F469<>\"\",'Line 1 Source'!F469,\"\")","v":6980000}]
[{"$f":"IF('Line 1 Source'!A470<>\"\",'Line 1 Source'!A470,\"\")","v":"2018"},"2242400",{"$f":"CONCATENATE(VLOOKUP(B470,'School List'!$B$3:$H$291,6,FALSE),H470)","v":"24006302"},{"$f":"CONCATENATE(VLOOKUP(B470,'School List'!$B$3:$D$291,3,FALSE),H470)","v":"Floyd County - NEW ALBANY-FLOYD COUNTY CONS SCHOOL CORP6302"},{"$f":"IF('Line 1 Source'!B470<>\"\",'Line 1 Source'!B470,\"\")","v":"22"},{"$f":"IF('Line 1 Source'!C470<>\"\",'Line 1 Source'!C470,\"\")","v":"4"},{"$f":"IF('Line 1 Source'!D470<>\"\",'Line 1 Source'!D470,\"\")","v":"2400"},{"$f":"IF('Line 1 Source'!E470<>\"\",'Line 1 Source'!E470,\"\")","v":"6302"},{"$f":"IF('Line 1 Source'!F470<>\"\",'Line 1 Source'!F470,\"\")","v":1200000}]
[{"$f":"IF('Line 1 Source'!A471<>\"\",'Line 1 Source'!A471,\"\")","v":"2018"},"2342435",{"$f":"CONCATENATE(VLOOKUP(B471,'School List'!$B$3:$H$291,6,FALSE),H471)","v":"24350061"},{"$f":"CONCATENATE(VLOOKUP(B471,'School List'!$B$3:$D$291,3,FALSE),H471)","v":"Fountain County - ATTICA CONSOLIDATED SCHOOL CORPORATION0061"},{"$f":"IF('Line 1 Source'!B471<>\"\",'Line 1 Source'!B471,\"\")","v":"23"},{"$f":"IF('Line 1 Source'!C471<>\"\",'Line 1 Source'!C471,\"\")","v":"4"},{"$f":"IF('Line 1 Source'!D471<>\"\",'Line 1 Source'!D471,\"\")","v":"2435"},{"$f":"IF('Line 1 Source'!E471<>\"\",'Line 1 Source'!E471,\"\")","v":"0061"},{"$f":"IF('Line 1 Source'!F471<>\"\",'Line 1 Source'!F471,\"\")","v":300000}]
[{"$f":"IF('Line 1 Source'!A472<>\"\",'Line 1 Source'!A472,\"\")","v":"2018"},"2342435",{"$f":"CONCATENATE(VLOOKUP(B472,'School List'!$B$3:$H$291,6,FALSE),H472)","v":"24350101"},{"$f":"CONCATENATE(VLOOKUP(B472,'School List'!$B$3:$D$291,3,FALSE),H472)","v":"Fountain County - ATTICA CONSOLIDATED SCHOOL CORPORATION0101"},{"$f":"IF('Line 1 Source'!B472<>\"\",'Line 1 Source'!B472,\"\")","v":"23"},{"$f":"IF('Line 1 Source'!C472<>\"\",'Line 1 Source'!C472,\"\")","v":"4"},{"$f":"IF('Line 1 Source'!D472<>\"\",'Line 1 Source'!D472,\"\")","v":"2435"},{"$f":"IF('Line 1 Source'!E472<>\"\",'Line 1 Source'!E472,\"\")","v":"0101"},{"$f":"IF('Line 1 Source'!F472<>\"\",'Line 1 Source'!F472,\"\")","v":4352720}]
[{"$f":"IF('Line 1 Source'!A473<>\"\",'Line 1 Source'!A473,\"\")","v":"2018"},"2342435",{"$f":"CONCATENATE(VLOOKUP(B473,'School List'!$B$3:$H$291,6,FALSE),H473)","v":"24350180"},{"$f":"CONCATENATE(VLOOKUP(B473,'School List'!$B$3:$D$291,3,FALSE),H473)","v":"Fountain County - ATTICA CONSOLIDATED SCHOOL CORPORATION0180"},{"$f":"IF('Line 1 Source'!B473<>\"\",'Line 1 Source'!B473,\"\")","v":"23"},{"$f":"IF('Line 1 Source'!C473<>\"\",'Line 1 Source'!C473,\"\")","v":"4"},{"$f":"IF('Line 1 Source'!D473<>\"\",'Line 1 Source'!D473,\"\")","v":"2435"},{"$f":"IF('Line 1 Source'!E473<>\"\",'Line 1 Source'!E473,\"\")","v":"0180"},{"$f":"IF('Line 1 Source'!F473<>\"\",'Line 1 Source'!F473,\"\")","v":1315245}]
[{"$f":"IF('Line 1 Source'!A474<>\"\",'Line 1 Source'!A474,\"\")","v":"2018"},"2342435",{"$f":"CONCATENATE(VLOOKUP(B474,'School List'!$B$3:$H$291,6,FALSE),H474)","v":"24351214"},{"$f":"CONCATENATE(VLOOKUP(B474,'School List'!$B$3:$D$291,3,FALSE),H474)","v":"Fountain County - ATTICA CONSOLIDATED SCHOOL CORPORATION1214"},{"$f":"IF('Line 1 Source'!B474<>\"\",'Line 1 Source'!B474,\"\")","v":"23"},{"$f":"IF('Line 1 Source'!C474<>\"\",'Line 1 Source'!C474,\"\")","v":"4"},{"$f":"IF('Line 1 Source'!D474<>\"\",'Line 1 Source'!D474,\"\")","v":"2435"},{"$f":"IF('Line 1 Source'!E474<>\"\",'Line 1 Source'!E474,\"\")","v":"1214"},{"$f":"IF('Line 1 Source'!F474<>\"\",'Line 1 Source'!F474,\"\")","v":899812}]
[{"$f":"IF('Line 1 Source'!A475<>\"\",'Line 1 Source'!A475,\"\")","v":"2018"},"2342435",{"$f":"CONCATENATE(VLOOKUP(B475,'School List'!$B$3:$H$291,6,FALSE),H475)","v":"24356301"},{"$f":"CONCATENATE(VLOOKUP(B475,'School List'!$B$3:$D$291,3,FALSE),H475)","v":"Fountain County - ATTICA CONSOLIDATED SCHOOL CORPORATION6301"},{"$f":"IF('Line 1 Source'!B475<>\"\",'Line 1 Source'!B475,\"\")","v":"23"},{"$f":"IF('Line 1 Source'!C475<>\"\",'Line 1 Source'!C475,\"\")","v":"4"},{"$f":"IF('Line 1 Source'!D475<>\"\",'Line 1 Source'!D475,\"\")","v":"2435"},{"$f":"IF('Line 1 Source'!E475<>\"\",'Line 1 Source'!E475,\"\")","v":"6301"},{"$f":"IF('Line 1 Source'!F475<>\"\",'Line 1 Source'!F475,\"\")","v":401651}]
[{"$f":"IF('Line 1 Source'!A476<>\"\",'Line 1 Source'!A476,\"\")","v":"2018"},"2342435",{"$f":"CONCATENATE(VLOOKUP(B476,'School List'!$B$3:$H$291,6,FALSE),H476)","v":"24356302"},{"$f":"CONCATENATE(VLOOKUP(B476,'School List'!$B$3:$D$291,3,FALSE),H476)","v":"Fountain County - ATTICA CONSOLIDATED SCHOOL CORPORATION6302"},{"$f":"IF('Line 1 Source'!B476<>\"\",'Line 1 Source'!B476,\"\")","v":"23"},{"$f":"IF('Line 1 Source'!C476<>\"\",'Line 1 Source'!C476,\"\")","v":"4"},{"$f":"IF('Line 1 Source'!D476<>\"\",'Line 1 Source'!D476,\"\")","v":"2435"},{"$f":"IF('Line 1 Source'!E476<>\"\",'Line 1 Source'!E476,\"\")","v":"6302"},{"$f":"IF('Line 1 Source'!F476<>\"\",'Line 1 Source'!F476,\"\")","v":125000}]
[{"$f":"IF('Line 1 Source'!A477<>\"\",'Line 1 Source'!A477,\"\")","v":"2018"},"2342440",{"$f":"CONCATENATE(VLOOKUP(B477,'School List'!$B$3:$H$291,6,FALSE),H477)","v":"24400061"},{"$f":"CONCATENATE(VLOOKUP(B477,'School List'!$B$3:$D$291,3,FALSE),H477)","v":"Fountain County - COVINGTON COMMUNITY SCHOOL CORPORATION0061"},{"$f":"IF('Line 1 Source'!B477<>\"\",'Line 1 Source'!B477,\"\")","v":"23"},{"$f":"IF('Line 1 Source'!C477<>\"\",'Line 1 Source'!C477,\"\")","v":"4"},{"$f":"IF('Line 1 Source'!D477<>\"\",'Line 1 Source'!D477,\"\")","v":"2440"},{"$f":"IF('Line 1 Source'!E477<>\"\",'Line 1 Source'!E477,\"\")","v":"0061"},{"$f":"IF('Line 1 Source'!F477<>\"\",'Line 1 Source'!F477,\"\")","v":500000}]
[{"$f":"IF('Line 1 Source'!A478<>\"\",'Line 1 Source'!A478,\"\")","v":"2018"},"2342440",{"$f":"CONCATENATE(VLOOKUP(B478,'School List'!$B$3:$H$291,6,FALSE),H478)","v":"24400101"},{"$f":"CONCATENATE(VLOOKUP(B478,'School List'!$B$3:$D$291,3,FALSE),H478)","v":"Fountain County - COVINGTON COMMUNITY SCHOOL CORPORATION0101"},{"$f":"IF('Line 1 Source'!B478<>\"\",'Line 1 Source'!B478,\"\")","v":"23"},{"$f":"IF('Line 1 Source'!C478<>\"\",'Line 1 Source'!C478,\"\")","v":"4"},{"$f":"IF('Line 1 Source'!D478<>\"\",'Line 1 Source'!D478,\"\")","v":"2440"},{"$f":"IF('Line 1 Source'!E478<>\"\",'Line 1 Source'!E478,\"\")","v":"0101"},{"$f":"IF('Line 1 Source'!F478<>\"\",'Line 1 Source'!F478,\"\")","v":6268273}]
[{"$f":"IF('Line 1 Source'!A479<>\"\",'Line 1 Source'!A479,\"\")","v":"2018"},"2342440",{"$f":"CONCATENATE(VLOOKUP(B479,'School List'!$B$3:$H$291,6,FALSE),H479)","v":"24400180"},{"$f":"CONCATENATE(VLOOKUP(B479,'School List'!$B$3:$D$291,3,FALSE),H479)","v":"Fountain County - COVINGTON COMMUNITY SCHOOL CORPORATION0180"},{"$f":"IF('Line 1 Source'!B479<>\"\",'Line 1 Source'!B479,\"\")","v":"23"},{"$f":"IF('Line 1 Source'!C479<>\"\",'Line 1 Source'!C479,\"\")","v":"4"},{"$f":"IF('Line 1 Source'!D479<>\"\",'Line 1 Source'!D479,\"\")","v":"2440"},{"$f":"IF('Line 1 Source'!E479<>\"\",'Line 1 Source'!E479,\"\")","v":"0180"},{"$f":"IF('Line 1 Source'!F479<>\"\",'Line 1 Source'!F479,\"\")","v":1139490}]
[{"$f":"IF('Line 1 Source'!A480<>\"\",'Line 1 Source'!A480,\"\")","v":"2018"},"2342440",{"$f":"CONCATENATE(VLOOKUP(B480,'School List'!$B$3:$H$291,6,FALSE),H480)","v":"24401214"},{"$f":"CONCATENATE(VLOOKUP(B480,'School List'!$B$3:$D$291,3,FALSE),H480)","v":"Fountain County - COVINGTON COMMUNITY SCHOOL CORPORATION1214"},{"$f":"IF('Line 1 Source'!B480<>\"\",'Line 1 Source'!B480,\"\")","v":"23"},{"$f":"IF('Line 1 Source'!C480<>\"\",'Line 1 Source'!C480,\"\")","v":"4"},{"$f":"IF('Line 1 Source'!D480<>\"\",'Line 1 Source'!D480,\"\")","v":"2440"},{"$f":"IF('Line 1 Source'!E480<>\"\",'Line 1 Source'!E480,\"\")","v":"1214"},{"$f":"IF('Line 1 Source'!F480<>\"\",'Line 1 Source'!F480,\"\")","v":885823}]
[{"$f":"IF('Line 1 Source'!A481<>\"\",'Line 1 Source'!A481,\"\")","v":"2018"},"2342440",{"$f":"CONCATENATE(VLOOKUP(B481,'School List'!$B$3:$H$291,6,FALSE),H481)","v":"24406301"},{"$f":"CONCATENATE(VLOOKUP(B481,'School List'!$B$3:$D$291,3,FALSE),H481)","v":"Fountain County - COVINGTON COMMUNITY SCHOOL CORPORATION6301"},{"$f":"IF('Line 1 Source'!B481<>\"\",'Line 1 Source'!B481,\"\")","v":"23"},{"$f":"IF('Line 1 Source'!C481<>\"\",'Line 1 Source'!C481,\"\")","v":"4"},{"$f":"IF('Line 1 Source'!D481<>\"\",'Line 1 Source'!D481,\"\")","v":"2440"},{"$f":"IF('Line 1 Source'!E481<>\"\",'Line 1 Source'!E481,\"\")","v":"6301"},{"$f":"IF('Line 1 Source'!F481<>\"\",'Line 1 Source'!F481,\"\")","v":535595}]
[{"$f":"IF('Line 1 Source'!A482<>\"\",'Line 1 Source'!A482,\"\")","v":"2018"},"2342440",{"$f":"CONCATENATE(VLOOKUP(B482,'School List'!$B$3:$H$291,6,FALSE),H482)","v":"24406302"},{"$f":"CONCATENATE(VLOOKUP(B482,'School List'!$B$3:$D$291,3,FALSE),H482)","v":"Fountain County - COVINGTON COMMUNITY SCHOOL CORPORATION6302"},{"$f":"IF('Line 1 Source'!B482<>\"\",'Line 1 Source'!B482,\"\")","v":"23"},{"$f":"IF('Line 1 Source'!C482<>\"\",'Line 1 Source'!C482,\"\")","v":"4"},{"$f":"IF('Line 1 Source'!D482<>\"\",'Line 1 Source'!D482,\"\")","v":"2440"},{"$f":"IF('Line 1 Source'!E482<>\"\",'Line 1 Source'!E482,\"\")","v":"6302"},{"$f":"IF('Line 1 Source'!F482<>\"\",'Line 1 Source'!F482,\"\")","v":107274}]
[{"$f":"IF('Line 1 Source'!A483<>\"\",'Line 1 Source'!A483,\"\")","v":"2018"},"2342455",{"$f":"CONCATENATE(VLOOKUP(B483,'School List'!$B$3:$H$291,6,FALSE),H483)","v":"24550061"},{"$f":"CONCATENATE(VLOOKUP(B483,'School List'!$B$3:$D$291,3,FALSE),H483)","v":"Fountain County - SOUTHEAST FOUNTAIN SCHOOL CORPORATION0061"},{"$f":"IF('Line 1 Source'!B483<>\"\",'Line 1 Source'!B483,\"\")","v":"23"},{"$f":"IF('Line 1 Source'!C483<>\"\",'Line 1 Source'!C483,\"\")","v":"4"},{"$f":"IF('Line 1 Source'!D483<>\"\",'Line 1 Source'!D483,\"\")","v":"2455"},{"$f":"IF('Line 1 Source'!E483<>\"\",'Line 1 Source'!E483,\"\")","v":"0061"},{"$f":"IF('Line 1 Source'!F483<>\"\",'Line 1 Source'!F483,\"\")","v":500000}]
[{"$f":"IF('Line 1 Source'!A484<>\"\",'Line 1 Source'!A484,\"\")","v":"2018"},"2342455",{"$f":"CONCATENATE(VLOOKUP(B484,'School List'!$B$3:$H$291,6,FALSE),H484)","v":"24550101"},{"$f":"CONCATENATE(VLOOKUP(B484,'School List'!$B$3:$D$291,3,FALSE),H484)","v":"Fountain County - SOUTHEAST FOUNTAIN SCHOOL CORPORATION0101"},{"$f":"IF('Line 1 Source'!B484<>\"\",'Line 1 Source'!B484,\"\")","v":"23"},{"$f":"IF('Line 1 Source'!C484<>\"\",'Line 1 Source'!C484,\"\")","v":"4"},{"$f":"IF('Line 1 Source'!D484<>\"\",'Line 1 Source'!D484,\"\")","v":"2455"},{"$f":"IF('Line 1 Source'!E484<>\"\",'Line 1 Source'!E484,\"\")","v":"0101"},{"$f":"IF('Line 1 Source'!F484<>\"\",'Line 1 Source'!F484,\"\")","v":7669615}]
[{"$f":"IF('Line 1 Source'!A485<>\"\",'Line 1 Source'!A485,\"\")","v":"2018"},"2342455",{"$f":"CONCATENATE(VLOOKUP(B485,'School List'!$B$3:$H$291,6,FALSE),H485)","v":"24550180"},{"$f":"CONCATENATE(VLOOKUP(B485,'School List'!$B$3:$D$291,3,FALSE),H485)","v":"Fountain County - SOUTHEAST FOUNTAIN SCHOOL CORPORATION0180"},{"$f":"IF('Line 1 Source'!B485<>\"\",'Line 1 Source'!B485,\"\")","v":"23"},{"$f":"IF('Line 1 Source'!C485<>\"\",'Line 1 Source'!C485,\"\")","v":"4"},{"$f":"IF('Line 1 Source'!D485<>\"\",'Line 1 Source'!D485,\"\")","v":"2455"},{"$f":"IF('Line 1 Source'!E485<>\"\",'Line 1 Source'!E485,\"\")","v":"0180"},{"$f":"IF('Line 1 Source'!F485<>\"\",'Line 1 Source'!F485,\"\")","v":899053}]
[{"$f":"IF('Line 1 Source'!A486<>\"\",'Line 1 Source'!A486,\"\")","v":"2018"},"2342455",{"$f":"CONCATENATE(VLOOKUP(B486,'School List'!$B$3:$H$291,6,FALSE),H486)","v":"24551214"},{"$f":"CONCATENATE(VLOOKUP(B486,'School List'!$B$3:$D$291,3,FALSE),H486)","v":"Fountain County - SOUTHEAST FOUNTAIN SCHOOL CORPORATION1214"},{"$f":"IF('Line 1 Source'!B486<>\"\",'Line 1 Source'!B486,\"\")","v":"23"},{"$f":"IF('Line 1 Source'!C486<>\"\",'Line 1 Source'!C486,\"\")","v":"4"},{"$f":"IF('Line 1 Source'!D486<>\"\",'Line 1 Source'!D486,\"\")","v":"2455"},{"$f":"IF('Line 1 Source'!E486<>\"\",'Line 1 Source'!E486,\"\")","v":"1214"},{"$f":"IF('Line 1 Source'!F486<>\"\",'Line 1 Source'!F486,\"\")","v":1330010}]
[{"$f":"IF('Line 1 Source'!A487<>\"\",'Line 1 Source'!A487,\"\")","v":"2018"},"2342455",{"$f":"CONCATENATE(VLOOKUP(B487,'School List'!$B$3:$H$291,6,FALSE),H487)","v":"24556301"},{"$f":"CONCATENATE(VLOOKUP(B487,'School List'!$B$3:$D$291,3,FALSE),H487)","v":"Fountain County - SOUTHEAST FOUNTAIN SCHOOL CORPORATION6301"},{"$f":"IF('Line 1 Source'!B487<>\"\",'Line 1 Source'!B487,\"\")","v":"23"},{"$f":"IF('Line 1 Source'!C487<>\"\",'Line 1 Source'!C487,\"\")","v":"4"},{"$f":"IF('Line 1 Source'!D487<>\"\",'Line 1 Source'!D487,\"\")","v":"2455"},{"$f":"IF('Line 1 Source'!E487<>\"\",'Line 1 Source'!E487,\"\")","v":"6301"},{"$f":"IF('Line 1 Source'!F487<>\"\",'Line 1 Source'!F487,\"\")","v":897100}]
[{"$f":"IF('Line 1 Source'!A488<>\"\",'Line 1 Source'!A488,\"\")","v":"2018"},"2342455",{"$f":"CONCATENATE(VLOOKUP(B488,'School List'!$B$3:$H$291,6,FALSE),H488)","v":"24556302"},{"$f":"CONCATENATE(VLOOKUP(B488,'School List'!$B$3:$D$291,3,FALSE),H488)","v":"Fountain County - SOUTHEAST FOUNTAIN SCHOOL CORPORATION6302"},{"$f":"IF('Line 1 Source'!B488<>\"\",'Line 1 Source'!B488,\"\")","v":"23"},{"$f":"IF('Line 1 Source'!C488<>\"\",'Line 1 Source'!C488,\"\")","v":"4"},{"$f":"IF('Line 1 Source'!D488<>\"\",'Line 1 Source'!D488,\"\")","v":"2455"},{"$f":"IF('Line 1 Source'!E488<>\"\",'Line 1 Source'!E488,\"\")","v":"6302"},{"$f":"IF('Line 1 Source'!F488<>\"\",'Line 1 Source'!F488,\"\")","v":194500}]
[{"$f":"IF('Line 1 Source'!A489<>\"\",'Line 1 Source'!A489,\"\")","v":"2018"},"2442475",{"$f":"CONCATENATE(VLOOKUP(B489,'School List'!$B$3:$H$291,6,FALSE),H489)","v":"24750101"},{"$f":"CONCATENATE(VLOOKUP(B489,'School List'!$B$3:$D$291,3,FALSE),H489)","v":"Franklin County - FRANKLIN COUNTY COMMUNITY SCHOOL CORP0101"},{"$f":"IF('Line 1 Source'!B489<>\"\",'Line 1 Source'!B489,\"\")","v":"24"},{"$f":"IF('Line 1 Source'!C489<>\"\",'Line 1 Source'!C489,\"\")","v":"4"},{"$f":"IF('Line 1 Source'!D489<>\"\",'Line 1 Source'!D489,\"\")","v":"2475"},{"$f":"IF('Line 1 Source'!E489<>\"\",'Line 1 Source'!E489,\"\")","v":"0101"},{"$f":"IF('Line 1 Source'!F489<>\"\",'Line 1 Source'!F489,\"\")","v":19915244}]
[{"$f":"IF('Line 1 Source'!A490<>\"\",'Line 1 Source'!A490,\"\")","v":"2018"},"2442475",{"$f":"CONCATENATE(VLOOKUP(B490,'School List'!$B$3:$H$291,6,FALSE),H490)","v":"24750180"},{"$f":"CONCATENATE(VLOOKUP(B490,'School List'!$B$3:$D$291,3,FALSE),H490)","v":"Franklin County - FRANKLIN COUNTY COMMUNITY SCHOOL CORP0180"},{"$f":"IF('Line 1 Source'!B490<>\"\",'Line 1 Source'!B490,\"\")","v":"24"},{"$f":"IF('Line 1 Source'!C490<>\"\",'Line 1 Source'!C490,\"\")","v":"4"},{"$f":"IF('Line 1 Source'!D490<>\"\",'Line 1 Source'!D490,\"\")","v":"2475"},{"$f":"IF('Line 1 Source'!E490<>\"\",'Line 1 Source'!E490,\"\")","v":"0180"},{"$f":"IF('Line 1 Source'!F490<>\"\",'Line 1 Source'!F490,\"\")","v":1651268}]
[{"$f":"IF('Line 1 Source'!A491<>\"\",'Line 1 Source'!A491,\"\")","v":"2018"},"2442475",{"$f":"CONCATENATE(VLOOKUP(B491,'School List'!$B$3:$H$291,6,FALSE),H491)","v":"24751214"},{"$f":"CONCATENATE(VLOOKUP(B491,'School List'!$B$3:$D$291,3,FALSE),H491)","v":"Franklin County - FRANKLIN COUNTY COMMUNITY SCHOOL CORP1214"},{"$f":"IF('Line 1 Source'!B491<>\"\",'Line 1 Source'!B491,\"\")","v":"24"},{"$f":"IF('Line 1 Source'!C491<>\"\",'Line 1 Source'!C491,\"\")","v":"4"},{"$f":"IF('Line 1 Source'!D491<>\"\",'Line 1 Source'!D491,\"\")","v":"2475"},{"$f":"IF('Line 1 Source'!E491<>\"\",'Line 1 Source'!E491,\"\")","v":"1214"},{"$f":"IF('Line 1 Source'!F491<>\"\",'Line 1 Source'!F491,\"\")","v":2494410}]
[{"$f":"IF('Line 1 Source'!A492<>\"\",'Line 1 Source'!A492,\"\")","v":"2018"},"2442475",{"$f":"CONCATENATE(VLOOKUP(B492,'School List'!$B$3:$H$291,6,FALSE),H492)","v":"24756301"},{"$f":"CONCATENATE(VLOOKUP(B492,'School List'!$B$3:$D$291,3,FALSE),H492)","v":"Franklin County - FRANKLIN COUNTY COMMUNITY SCHOOL CORP6301"},{"$f":"IF('Line 1 Source'!B492<>\"\",'Line 1 Source'!B492,\"\")","v":"24"},{"$f":"IF('Line 1 Source'!C492<>\"\",'Line 1 Source'!C492,\"\")","v":"4"},{"$f":"IF('Line 1 Source'!D492<>\"\",'Line 1 Source'!D492,\"\")","v":"2475"},{"$f":"IF('Line 1 Source'!E492<>\"\",'Line 1 Source'!E492,\"\")","v":"6301"},{"$f":"IF('Line 1 Source'!F492<>\"\",'Line 1 Source'!F492,\"\")","v":3940497}]
[{"$f":"IF('Line 1 Source'!A493<>\"\",'Line 1 Source'!A493,\"\")","v":"2018"},"2442475",{"$f":"CONCATENATE(VLOOKUP(B493,'School List'!$B$3:$H$291,6,FALSE),H493)","v":"24756302"},{"$f":"CONCATENATE(VLOOKUP(B493,'School List'!$B$3:$D$291,3,FALSE),H493)","v":"Franklin County - FRANKLIN COUNTY COMMUNITY SCHOOL CORP6302"},{"$f":"IF('Line 1 Source'!B493<>\"\",'Line 1 Source'!B493,\"\")","v":"24"},{"$f":"IF('Line 1 Source'!C493<>\"\",'Line 1 Source'!C493,\"\")","v":"4"},{"$f":"IF('Line 1 Source'!D493<>\"\",'Line 1 Source'!D493,\"\")","v":"2475"},{"$f":"IF('Line 1 Source'!E493<>\"\",'Line 1 Source'!E493,\"\")","v":"6302"},{"$f":"IF('Line 1 Source'!F493<>\"\",'Line 1 Source'!F493,\"\")","v":183426}]
[{"$f":"IF('Line 1 Source'!A494<>\"\",'Line 1 Source'!A494,\"\")","v":"2018"},"2446895",{"$f":"CONCATENATE(VLOOKUP(B494,'School List'!$B$3:$H$291,6,FALSE),H494)","v":{"$error":"#N/A"}},{"$f":"CONCATENATE(VLOOKUP(B494,'School List'!$B$3:$D$291,3,FALSE),H494)","v":{"$error":"#N/A"}},{"$f":"IF('Line 1 Source'!B494<>\"\",'Line 1 Source'!B494,\"\")","v":"24"},{"$f":"IF('Line 1 Source'!C494<>\"\",'Line 1 Source'!C494,\"\")","v":"4"},{"$f":"IF('Line 1 Source'!D494<>\"\",'Line 1 Source'!D494,\"\")","v":"6895"},{"$f":"IF('Line 1 Source'!E494<>\"\",'Line 1 Source'!E494,\"\")","v":"0061"},{"$f":"IF('Line 1 Source'!F494<>\"\",'Line 1 Source'!F494,\"\")","v":0}]
[{"$f":"IF('Line 1 Source'!A495<>\"\",'Line 1 Source'!A495,\"\")","v":"2018"},"2446895",{"$f":"CONCATENATE(VLOOKUP(B495,'School List'!$B$3:$H$291,6,FALSE),H495)","v":{"$error":"#N/A"}},{"$f":"CONCATENATE(VLOOKUP(B495,'School List'!$B$3:$D$291,3,FALSE),H495)","v":{"$error":"#N/A"}},{"$f":"IF('Line 1 Source'!B495<>\"\",'Line 1 Source'!B495,\"\")","v":"24"},{"$f":"IF('Line 1 Source'!C495<>\"\",'Line 1 Source'!C495,\"\")","v":"4"},{"$f":"IF('Line 1 Source'!D495<>\"\",'Line 1 Source'!D495,\"\")","v":"6895"},{"$f":"IF('Line 1 Source'!E495<>\"\",'Line 1 Source'!E495,\"\")","v":"0101"},{"$f":"IF('Line 1 Source'!F495<>\"\",'Line 1 Source'!F495,\"\")","v":0}]
[{"$f":"IF('Line 1 Source'!A496<>\"\",'Line 1 Source'!A496,\"\")","v":"2018"},"2446895",{"$f":"CONCATENATE(VLOOKUP(B496,'School List'!$B$3:$H$291,6,FALSE),H496)","v":{"$error":"#N/A"}},{"$f":"CONCATENATE(VLOOKUP(B496,'School List'!$B$3:$D$291,3,FALSE),H496)","v":{"$error":"#N/A"}},{"$f":"IF('Line 1 Source'!B496<>\"\",'Line 1 Source'!B496,\"\")","v":"24"},{"$f":"IF('Line 1 Source'!C496<>\"\",'Line 1 Source'!C496,\"\")","v":"4"},{"$f":"IF('Line 1 Source'!D496<>\"\",'Line 1 Source'!D496,\"\")","v":"6895"},{"$f":"IF('Line 1 Source'!E496<>\"\",'Line 1 Source'!E496,\"\")","v":"0180"},{"$f":"IF('Line 1 Source'!F496<>\"\",'Line 1 Source'!F496,\"\")","v":0}]
[{"$f":"IF('Line 1 Source'!A497<>\"\",'Line 1 Source'!A497,\"\")","v":"2018"},"2446895",{"$f":"CONCATENATE(VLOOKUP(B497,'School List'!$B$3:$H$291,6,FALSE),H497)","v":{"$error":"#N/A"}},{"$f":"CONCATENATE(VLOOKUP(B497,'School List'!$B$3:$D$291,3,FALSE),H497)","v":{"$error":"#N/A"}},{"$f":"IF('Line 1 Source'!B497<>\"\",'Line 1 Source'!B497,\"\")","v":"24"},{"$f":"IF('Line 1 Source'!C497<>\"\",'Line 1 Source'!C497,\"\")","v":"4"},{"$f":"IF('Line 1 Source'!D497<>\"\",'Line 1 Source'!D497,\"\")","v":"6895"},{"$f":"IF('Line 1 Source'!E497<>\"\",'Line 1 Source'!E497,\"\")","v":"1214"},{"$f":"IF('Line 1 Source'!F497<>\"\",'Line 1 Source'!F497,\"\")","v":0}]
[{"$f":"IF('Line 1 Source'!A498<>\"\",'Line 1 Source'!A498,\"\")","v":"2018"},"2446895",{"$f":"CONCATENATE(VLOOKUP(B498,'School List'!$B$3:$H$291,6,FALSE),H498)","v":{"$error":"#N/A"}},{"$f":"CONCATENATE(VLOOKUP(B498,'School List'!$B$3:$D$291,3,FALSE),H498)","v":{"$error":"#N/A"}},{"$f":"IF('Line 1 Source'!B498<>\"\",'Line 1 Source'!B498,\"\")","v":"24"},{"$f":"IF('Line 1 Source'!C498<>\"\",'Line 1 Source'!C498,\"\")","v":"4"},{"$f":"IF('Line 1 Source'!D498<>\"\",'Line 1 Source'!D498,\"\")","v":"6895"},{"$f":"IF('Line 1 Source'!E498<>\"\",'Line 1 Source'!E498,\"\")","v":"6301"},{"$f":"IF('Line 1 Source'!F498<>\"\",'Line 1 Source'!F498,\"\")","v":0}]
[{"$f":"IF('Line 1 Source'!A499<>\"\",'Line 1 Source'!A499,\"\")","v":"2018"},"2446895",{"$f":"CONCATENATE(VLOOKUP(B499,'School List'!$B$3:$H$291,6,FALSE),H499)","v":{"$error":"#N/A"}},{"$f":"CONCATENATE(VLOOKUP(B499,'School List'!$B$3:$D$291,3,FALSE),H499)","v":{"$error":"#N/A"}},{"$f":"IF('Line 1 Source'!B499<>\"\",'Line 1 Source'!B499,\"\")","v":"24"},{"$f":"IF('Line 1 Source'!C499<>\"\",'Line 1 Source'!C499,\"\")","v":"4"},{"$f":"IF('Line 1 Source'!D499<>\"\",'Line 1 Source'!D499,\"\")","v":"6895"},{"$f":"IF('Line 1 Source'!E499<>\"\",'Line 1 Source'!E499,\"\")","v":"6302"},{"$f":"IF('Line 1 Source'!F499<>\"\",'Line 1 Source'!F499,\"\")","v":0}]
[{"$f":"IF('Line 1 Source'!A500<>\"\",'Line 1 Source'!A500,\"\")","v":"2018"},"2447950",{"$f":"CONCATENATE(VLOOKUP(B500,'School List'!$B$3:$H$291,6,FALSE),H500)","v":{"$error":"#N/A"}},{"$f":"CONCATENATE(VLOOKUP(B500,'School List'!$B$3:$D$291,3,FALSE),H500)","v":{"$error":"#N/A"}},{"$f":"IF('Line 1 Source'!B500<>\"\",'Line 1 Source'!B500,\"\")","v":"24"},{"$f":"IF('Line 1 Source'!C500<>\"\",'Line 1 Source'!C500,\"\")","v":"4"},{"$f":"IF('Line 1 Source'!D500<>\"\",'Line 1 Source'!D500,\"\")","v":"7950"},{"$f":"IF('Line 1 Source'!E500<>\"\",'Line 1 Source'!E500,\"\")","v":"0061"},{"$f":"IF('Line 1 Source'!F500<>\"\",'Line 1 Source'!F500,\"\")","v":0}]
[{"$f":"IF('Line 1 Source'!A501<>\"\",'Line 1 Source'!A501,\"\")","v":"2018"},"2447950",{"$f":"CONCATENATE(VLOOKUP(B501,'School List'!$B$3:$H$291,6,FALSE),H501)","v":{"$error":"#N/A"}},{"$f":"CONCATENATE(VLOOKUP(B501,'School List'!$B$3:$D$291,3,FALSE),H501)","v":{"$error":"#N/A"}},{"$f":"IF('Line 1 Source'!B501<>\"\",'Line 1 Source'!B501,\"\")","v":"24"},{"$f":"IF('Line 1 Source'!C501<>\"\",'Line 1 Source'!C501,\"\")","v":"4"},{"$f":"IF('Line 1 Source'!D501<>\"\",'Line 1 Source'!D501,\"\")","v":"7950"},{"$f":"IF('Line 1 Source'!E501<>\"\",'Line 1 Source'!E501,\"\")","v":"0101"},{"$f":"IF('Line 1 Source'!F501<>\"\",'Line 1 Source'!F501,\"\")","v":0}]
[{"$f":"IF('Line 1 Source'!A502<>\"\",'Line 1 Source'!A502,\"\")","v":"2018"},"2447950",{"$f":"CONCATENATE(VLOOKUP(B502,'School List'!$B$3:$H$291,6,FALSE),H502)","v":{"$error":"#N/A"}},{"$f":"CONCATENATE(VLOOKUP(B502,'School List'!$B$3:$D$291,3,FALSE),H502)","v":{"$error":"#N/A"}},{"$f":"IF('Line 1 Source'!B502<>\"\",'Line 1 Source'!B502,\"\")","v":"24"},{"$f":"IF('Line 1 Source'!C502<>\"\",'Line 1 Source'!C502,\"\")","v":"4"},{"$f":"IF('Line 1 Source'!D502<>\"\",'Line 1 Source'!D502,\"\")","v":"7950"},{"$f":"IF('Line 1 Source'!E502<>\"\",'Line 1 Source'!E502,\"\")","v":"0180"},{"$f":"IF('Line 1 Source'!F502<>\"\",'Line 1 Source'!F502,\"\")","v":0}]
[{"$f":"IF('Line 1 Source'!A503<>\"\",'Line 1 Source'!A503,\"\")","v":"2018"},"2447950",{"$f":"CONCATENATE(VLOOKUP(B503,'School List'!$B$3:$H$291,6,FALSE),H503)","v":{"$error":"#N/A"}},{"$f":"CONCATENATE(VLOOKUP(B503,'School List'!$B$3:$D$291,3,FALSE),H503)","v":{"$error":"#N/A"}},{"$f":"IF('Line 1 Source'!B503<>\"\",'Line 1 Source'!B503,\"\")","v":"24"},{"$f":"IF('Line 1 Source'!C503<>\"\",'Line 1 Source'!C503,\"\")","v":"4"},{"$f":"IF('Line 1 Source'!D503<>\"\",'Line 1 Source'!D503,\"\")","v":"7950"},{"$f":"IF('Line 1 Source'!E503<>\"\",'Line 1 Source'!E503,\"\")","v":"0186"},{"$f":"IF('Line 1 Source'!F503<>\"\",'Line 1 Source'!F503,\"\")","v":0}]
[{"$f":"IF('Line 1 Source'!A504<>\"\",'Line 1 Source'!A504,\"\")","v":"2018"},"2447950",{"$f":"CONCATENATE(VLOOKUP(B504,'School List'!$B$3:$H$291,6,FALSE),H504)","v":{"$error":"#N/A"}},{"$f":"CONCATENATE(VLOOKUP(B504,'School List'!$B$3:$D$291,3,FALSE),H504)","v":{"$error":"#N/A"}},{"$f":"IF('Line 1 Source'!B504<>\"\",'Line 1 Source'!B504,\"\")","v":"24"},{"$f":"IF('Line 1 Source'!C504<>\"\",'Line 1 Source'!C504,\"\")","v":"4"},{"$f":"IF('Line 1 Source'!D504<>\"\",'Line 1 Source'!D504,\"\")","v":"7950"},{"$f":"IF('Line 1 Source'!E504<>\"\",'Line 1 Source'!E504,\"\")","v":"1214"},{"$f":"IF('Line 1 Source'!F504<>\"\",'Line 1 Source'!F504,\"\")","v":0}]
[{"$f":"IF('Line 1 Source'!A505<>\"\",'Line 1 Source'!A505,\"\")","v":"2018"},"2447950",{"$f":"CONCATENATE(VLOOKUP(B505,'School List'!$B$3:$H$291,6,FALSE),H505)","v":{"$error":"#N/A"}},{"$f":"CONCATENATE(VLOOKUP(B505,'School List'!$B$3:$D$291,3,FALSE),H505)","v":{"$error":"#N/A"}},{"$f":"IF('Line 1 Source'!B505<>\"\",'Line 1 Source'!B505,\"\")","v":"24"},{"$f":"IF('Line 1 Source'!C505<>\"\",'Line 1 Source'!C505,\"\")","v":"4"},{"$f":"IF('Line 1 Source'!D505<>\"\",'Line 1 Source'!D505,\"\")","v":"7950"},{"$f":"IF('Line 1 Source'!E505<>\"\",'Line 1 Source'!E505,\"\")","v":"6301"},{"$f":"IF('Line 1 Source'!F505<>\"\",'Line 1 Source'!F505,\"\")","v":0}]
[{"$f":"IF('Line 1 Source'!A506<>\"\",'Line 1 Source'!A506,\"\")","v":"2018"},"2447950",{"$f":"CONCATENATE(VLOOKUP(B506,'School List'!$B$3:$H$291,6,FALSE),H506)","v":{"$error":"#N/A"}},{"$f":"CONCATENATE(VLOOKUP(B506,'School List'!$B$3:$D$291,3,FALSE),H506)","v":{"$error":"#N/A"}},{"$f":"IF('Line 1 Source'!B506<>\"\",'Line 1 Source'!B506,\"\")","v":"24"},{"$f":"IF('Line 1 Source'!C506<>\"\",'Line 1 Source'!C506,\"\")","v":"4"},{"$f":"IF('Line 1 Source'!D506<>\"\",'Line 1 Source'!D506,\"\")","v":"7950"},{"$f":"IF('Line 1 Source'!E506<>\"\",'Line 1 Source'!E506,\"\")","v":"6302"},{"$f":"IF('Line 1 Source'!F506<>\"\",'Line 1 Source'!F506,\"\")","v":0}]
[{"$f":"IF('Line 1 Source'!A507<>\"\",'Line 1 Source'!A507,\"\")","v":"2018"},"2542645",{"$f":"CONCATENATE(VLOOKUP(B507,'School List'!$B$3:$H$291,6,FALSE),H507)","v":"26450061"},{"$f":"CONCATENATE(VLOOKUP(B507,'School List'!$B$3:$D$291,3,FALSE),H507)","v":"Fulton County - ROCHESTER COMMUNITY SCHOOL CORPORATION0061"},{"$f":"IF('Line 1 Source'!B507<>\"\",'Line 1 Source'!B507,\"\")","v":"25"},{"$f":"IF('Line 1 Source'!C507<>\"\",'Line 1 Source'!C507,\"\")","v":"4"},{"$f":"IF('Line 1 Source'!D507<>\"\",'Line 1 Source'!D507,\"\")","v":"2645"},{"$f":"IF('Line 1 Source'!E507<>\"\",'Line 1 Source'!E507,\"\")","v":"0061"},{"$f":"IF('Line 1 Source'!F507<>\"\",'Line 1 Source'!F507,\"\")","v":119418}]
[{"$f":"IF('Line 1 Source'!A508<>\"\",'Line 1 Source'!A508,\"\")","v":"2018"},"2542645",{"$f":"CONCATENATE(VLOOKUP(B508,'School List'!$B$3:$H$291,6,FALSE),H508)","v":"26450101"},{"$f":"CONCATENATE(VLOOKUP(B508,'School List'!$B$3:$D$291,3,FALSE),H508)","v":"Fulton County - ROCHESTER COMMUNITY SCHOOL CORPORATION0101"},{"$f":"IF('Line 1 Source'!B508<>\"\",'Line 1 Source'!B508,\"\")","v":"25"},{"$f":"IF('Line 1 Source'!C508<>\"\",'Line 1 Source'!C508,\"\")","v":"4"},{"$f":"IF('Line 1 Source'!D508<>\"\",'Line 1 Source'!D508,\"\")","v":"2645"},{"$f":"IF('Line 1 Source'!E508<>\"\",'Line 1 Source'!E508,\"\")","v":"0101"},{"$f":"IF('Line 1 Source'!F508<>\"\",'Line 1 Source'!F508,\"\")","v":12747930}]
[{"$f":"IF('Line 1 Source'!A509<>\"\",'Line 1 Source'!A509,\"\")","v":"2018"},"2542645",{"$f":"CONCATENATE(VLOOKUP(B509,'School List'!$B$3:$H$291,6,FALSE),H509)","v":"26450180"},{"$f":"CONCATENATE(VLOOKUP(B509,'School List'!$B$3:$D$291,3,FALSE),H509)","v":"Fulton County - ROCHESTER COMMUNITY SCHOOL CORPORATION0180"},{"$f":"IF('Line 1 Source'!B509<>\"\",'Line 1 Source'!B509,\"\")","v":"25"},{"$f":"IF('Line 1 Source'!C509<>\"\",'Line 1 Source'!C509,\"\")","v":"4"},{"$f":"IF('Line 1 Source'!D509<>\"\",'Line 1 Source'!D509,\"\")","v":"2645"},{"$f":"IF('Line 1 Source'!E509<>\"\",'Line 1 Source'!E509,\"\")","v":"0180"},{"$f":"IF('Line 1 Source'!F509<>\"\",'Line 1 Source'!F509,\"\")","v":3430964}]
[{"$f":"IF('Line 1 Source'!A510<>\"\",'Line 1 Source'!A510,\"\")","v":"2018"},"2542645",{"$f":"CONCATENATE(VLOOKUP(B510,'School List'!$B$3:$H$291,6,FALSE),H510)","v":"26451214"},{"$f":"CONCATENATE(VLOOKUP(B510,'School List'!$B$3:$D$291,3,FALSE),H510)","v":"Fulton County - ROCHESTER COMMUNITY SCHOOL CORPORATION1214"},{"$f":"IF('Line 1 Source'!B510<>\"\",'Line 1 Source'!B510,\"\")","v":"25"},{"$f":"IF('Line 1 Source'!C510<>\"\",'Line 1 Source'!C510,\"\")","v":"4"},{"$f":"IF('Line 1 Source'!D510<>\"\",'Line 1 Source'!D510,\"\")","v":"2645"},{"$f":"IF('Line 1 Source'!E510<>\"\",'Line 1 Source'!E510,\"\")","v":"1214"},{"$f":"IF('Line 1 Source'!F510<>\"\",'Line 1 Source'!F510,\"\")","v":1652516}]
[{"$f":"IF('Line 1 Source'!A511<>\"\",'Line 1 Source'!A511,\"\")","v":"2018"},"2542645",{"$f":"CONCATENATE(VLOOKUP(B511,'School List'!$B$3:$H$291,6,FALSE),H511)","v":"26456301"},{"$f":"CONCATENATE(VLOOKUP(B511,'School List'!$B$3:$D$291,3,FALSE),H511)","v":"Fulton County - ROCHESTER COMMUNITY SCHOOL CORPORATION6301"},{"$f":"IF('Line 1 Source'!B511<>\"\",'Line 1 Source'!B511,\"\")","v":"25"},{"$f":"IF('Line 1 Source'!C511<>\"\",'Line 1 Source'!C511,\"\")","v":"4"},{"$f":"IF('Line 1 Source'!D511<>\"\",'Line 1 Source'!D511,\"\")","v":"2645"},{"$f":"IF('Line 1 Source'!E511<>\"\",'Line 1 Source'!E511,\"\")","v":"6301"},{"$f":"IF('Line 1 Source'!F511<>\"\",'Line 1 Source'!F511,\"\")","v":1000000}]
[{"$f":"IF('Line 1 Source'!A512<>\"\",'Line 1 Source'!A512,\"\")","v":"2018"},"2542645",{"$f":"CONCATENATE(VLOOKUP(B512,'School List'!$B$3:$H$291,6,FALSE),H512)","v":"26456302"},{"$f":"CONCATENATE(VLOOKUP(B512,'School List'!$B$3:$D$291,3,FALSE),H512)","v":"Fulton County - ROCHESTER COMMUNITY SCHOOL CORPORATION6302"},{"$f":"IF('Line 1 Source'!B512<>\"\",'Line 1 Source'!B512,\"\")","v":"25"},{"$f":"IF('Line 1 Source'!C512<>\"\",'Line 1 Source'!C512,\"\")","v":"4"},{"$f":"IF('Line 1 Source'!D512<>\"\",'Line 1 Source'!D512,\"\")","v":"2645"},{"$f":"IF('Line 1 Source'!E512<>\"\",'Line 1 Source'!E512,\"\")","v":"6302"},{"$f":"IF('Line 1 Source'!F512<>\"\",'Line 1 Source'!F512,\"\")","v":262575}]
[{"$f":"IF('Line 1 Source'!A513<>\"\",'Line 1 Source'!A513,\"\")","v":"2018"},"2542650",{"$f":"CONCATENATE(VLOOKUP(B513,'School List'!$B$3:$H$291,6,FALSE),H513)","v":"26500061"},{"$f":"CONCATENATE(VLOOKUP(B513,'School List'!$B$3:$D$291,3,FALSE),H513)","v":"Fulton County - CASTON SCHOOL CORPORATION0061"},{"$f":"IF('Line 1 Source'!B513<>\"\",'Line 1 Source'!B513,\"\")","v":"25"},{"$f":"IF('Line 1 Source'!C513<>\"\",'Line 1 Source'!C513,\"\")","v":"4"},{"$f":"IF('Line 1 Source'!D513<>\"\",'Line 1 Source'!D513,\"\")","v":"2650"},{"$f":"IF('Line 1 Source'!E513<>\"\",'Line 1 Source'!E513,\"\")","v":"0061"},{"$f":"IF('Line 1 Source'!F513<>\"\",'Line 1 Source'!F513,\"\")","v":457900}]
[{"$f":"IF('Line 1 Source'!A514<>\"\",'Line 1 Source'!A514,\"\")","v":"2018"},"2542650",{"$f":"CONCATENATE(VLOOKUP(B514,'School List'!$B$3:$H$291,6,FALSE),H514)","v":"26500101"},{"$f":"CONCATENATE(VLOOKUP(B514,'School List'!$B$3:$D$291,3,FALSE),H514)","v":"Fulton County - CASTON SCHOOL CORPORATION0101"},{"$f":"IF('Line 1 Source'!B514<>\"\",'Line 1 Source'!B514,\"\")","v":"25"},{"$f":"IF('Line 1 Source'!C514<>\"\",'Line 1 Source'!C514,\"\")","v":"4"},{"$f":"IF('Line 1 Source'!D514<>\"\",'Line 1 Source'!D514,\"\")","v":"2650"},{"$f":"IF('Line 1 Source'!E514<>\"\",'Line 1 Source'!E514,\"\")","v":"0101"},{"$f":"IF('Line 1 Source'!F514<>\"\",'Line 1 Source'!F514,\"\")","v":5068690}]
[{"$f":"IF('Line 1 Source'!A515<>\"\",'Line 1 Source'!A515,\"\")","v":"2018"},{"$f":"CONCATENATE(E515,F515,G515)","v":"2542650"},{"$f":"CONCATENATE(VLOOKUP(B515,'School List'!$B$3:$H$291,6,FALSE),H515)","v":"26500180"},{"$f":"CONCATENATE(VLOOKUP(B515,'School List'!$B$3:$D$291,3,FALSE),H515)","v":"Fulton County - CASTON SCHOOL CORPORATION0180"},{"$f":"IF('Line 1 Source'!B515<>\"\",'Line 1 Source'!B515,\"\")","v":"25"},{"$f":"IF('Line 1 Source'!C515<>\"\",'Line 1 Source'!C515,\"\")","v":"4"},{"$f":"IF('Line 1 Source'!D515<>\"\",'Line 1 Source'!D515,\"\")","v":"2650"},{"$f":"IF('Line 1 Source'!E515<>\"\",'Line 1 Source'!E515,\"\")","v":"0180"},{"$f":"IF('Line 1 Source'!F515<>\"\",'Line 1 Source'!F515,\"\")","v":442303}]
[{"$f":"IF('Line 1 Source'!A516<>\"\",'Line 1 Source'!A516,\"\")","v":"2018"},"2542650",{"$f":"CONCATENATE(VLOOKUP(B516,'School List'!$B$3:$H$291,6,FALSE),H516)","v":"26501214"},{"$f":"CONCATENATE(VLOOKUP(B516,'School List'!$B$3:$D$291,3,FALSE),H516)","v":"Fulton County - CASTON SCHOOL CORPORATION1214"},{"$f":"IF('Line 1 Source'!B516<>\"\",'Line 1 Source'!B516,\"\")","v":"25"},{"$f":"IF('Line 1 Source'!C516<>\"\",'Line 1 Source'!C516,\"\")","v":"4"},{"$f":"IF('Line 1 Source'!D516<>\"\",'Line 1 Source'!D516,\"\")","v":"2650"},{"$f":"IF('Line 1 Source'!E516<>\"\",'Line 1 Source'!E516,\"\")","v":"1214"},{"$f":"IF('Line 1 Source'!F516<>\"\",'Line 1 Source'!F516,\"\")","v":1361637}]
[{"$f":"IF('Line 1 Source'!A517<>\"\",'Line 1 Source'!A517,\"\")","v":"2018"},"2542650",{"$f":"CONCATENATE(VLOOKUP(B517,'School List'!$B$3:$H$291,6,FALSE),H517)","v":"26506301"},{"$f":"CONCATENATE(VLOOKUP(B517,'School List'!$B$3:$D$291,3,FALSE),H517)","v":"Fulton County - CASTON SCHOOL CORPORATION6301"},{"$f":"IF('Line 1 Source'!B517<>\"\",'Line 1 Source'!B517,\"\")","v":"25"},{"$f":"IF('Line 1 Source'!C517<>\"\",'Line 1 Source'!C517,\"\")","v":"4"},{"$f":"IF('Line 1 Source'!D517<>\"\",'Line 1 Source'!D517,\"\")","v":"2650"},{"$f":"IF('Line 1 Source'!E517<>\"\",'Line 1 Source'!E517,\"\")","v":"6301"},{"$f":"IF('Line 1 Source'!F517<>\"\",'Line 1 Source'!F517,\"\")","v":1985585}]
[{"$f":"IF('Line 1 Source'!A518<>\"\",'Line 1 Source'!A518,\"\")","v":"2018"},"2542650",{"$f":"CONCATENATE(VLOOKUP(B518,'School List'!$B$3:$H$291,6,FALSE),H518)","v":"26506302"},{"$f":"CONCATENATE(VLOOKUP(B518,'School List'!$B$3:$D$291,3,FALSE),H518)","v":"Fulton County - CASTON SCHOOL CORPORATION6302"},{"$f":"IF('Line 1 Source'!B518<>\"\",'Line 1 Source'!B518,\"\")","v":"25"},{"$f":"IF('Line 1 Source'!C518<>\"\",'Line 1 Source'!C518,\"\")","v":"4"},{"$f":"IF('Line 1 Source'!D518<>\"\",'Line 1 Source'!D518,\"\")","v":"2650"},{"$f":"IF('Line 1 Source'!E518<>\"\",'Line 1 Source'!E518,\"\")","v":"6302"},{"$f":"IF('Line 1 Source'!F518<>\"\",'Line 1 Source'!F518,\"\")","v":120000}]
[{"$f":"IF('Line 1 Source'!A519<>\"\",'Line 1 Source'!A519,\"\")","v":"2018"},"2544445",{"$f":"CONCATENATE(VLOOKUP(B519,'School List'!$B$3:$H$291,6,FALSE),H519)","v":{"$error":"#N/A"}},{"$f":"CONCATENATE(VLOOKUP(B519,'School List'!$B$3:$D$291,3,FALSE),H519)","v":{"$error":"#N/A"}},{"$f":"IF('Line 1 Source'!B519<>\"\",'Line 1 Source'!B519,\"\")","v":"25"},{"$f":"IF('Line 1 Source'!C519<>\"\",'Line 1 Source'!C519,\"\")","v":"4"},{"$f":"IF('Line 1 Source'!D519<>\"\",'Line 1 Source'!D519,\"\")","v":"4445"},{"$f":"IF('Line 1 Source'!E519<>\"\",'Line 1 Source'!E519,\"\")","v":"0101"},{"$f":"IF('Line 1 Source'!F519<>\"\",'Line 1 Source'!F519,\"\")","v":0}]
[{"$f":"IF('Line 1 Source'!A520<>\"\",'Line 1 Source'!A520,\"\")","v":"2018"},"2544445",{"$f":"CONCATENATE(VLOOKUP(B520,'School List'!$B$3:$H$291,6,FALSE),H520)","v":{"$error":"#N/A"}},{"$f":"CONCATENATE(VLOOKUP(B520,'School List'!$B$3:$D$291,3,FALSE),H520)","v":{"$error":"#N/A"}},{"$f":"IF('Line 1 Source'!B520<>\"\",'Line 1 Source'!B520,\"\")","v":"25"},{"$f":"IF('Line 1 Source'!C520<>\"\",'Line 1 Source'!C520,\"\")","v":"4"},{"$f":"IF('Line 1 Source'!D520<>\"\",'Line 1 Source'!D520,\"\")","v":"4445"},{"$f":"IF('Line 1 Source'!E520<>\"\",'Line 1 Source'!E520,\"\")","v":"0180"},{"$f":"IF('Line 1 Source'!F520<>\"\",'Line 1 Source'!F520,\"\")","v":0}]
[{"$f":"IF('Line 1 Source'!A521<>\"\",'Line 1 Source'!A521,\"\")","v":"2018"},"2544445",{"$f":"CONCATENATE(VLOOKUP(B521,'School List'!$B$3:$H$291,6,FALSE),H521)","v":{"$error":"#N/A"}},{"$f":"CONCATENATE(VLOOKUP(B521,'School List'!$B$3:$D$291,3,FALSE),H521)","v":{"$error":"#N/A"}},{"$f":"IF('Line 1 Source'!B521<>\"\",'Line 1 Source'!B521,\"\")","v":"25"},{"$f":"IF('Line 1 Source'!C521<>\"\",'Line 1 Source'!C521,\"\")","v":"4"},{"$f":"IF('Line 1 Source'!D521<>\"\",'Line 1 Source'!D521,\"\")","v":"4445"},{"$f":"IF('Line 1 Source'!E521<>\"\",'Line 1 Source'!E521,\"\")","v":"1214"},{"$f":"IF('Line 1 Source'!F521<>\"\",'Line 1 Source'!F521,\"\")","v":0}]
[{"$f":"IF('Line 1 Source'!A522<>\"\",'Line 1 Source'!A522,\"\")","v":"2018"},"2544445",{"$f":"CONCATENATE(VLOOKUP(B522,'School List'!$B$3:$H$291,6,FALSE),H522)","v":{"$error":"#N/A"}},{"$f":"CONCATENATE(VLOOKUP(B522,'School List'!$B$3:$D$291,3,FALSE),H522)","v":{"$error":"#N/A"}},{"$f":"IF('Line 1 Source'!B522<>\"\",'Line 1 Source'!B522,\"\")","v":"25"},{"$f":"IF('Line 1 Source'!C522<>\"\",'Line 1 Source'!C522,\"\")","v":"4"},{"$f":"IF('Line 1 Source'!D522<>\"\",'Line 1 Source'!D522,\"\")","v":"4445"},{"$f":"IF('Line 1 Source'!E522<>\"\",'Line 1 Source'!E522,\"\")","v":"6301"},{"$f":"IF('Line 1 Source'!F522<>\"\",'Line 1 Source'!F522,\"\")","v":0}]
[{"$f":"IF('Line 1 Source'!A523<>\"\",'Line 1 Source'!A523,\"\")","v":"2018"},"2544445",{"$f":"CONCATENATE(VLOOKUP(B523,'School List'!$B$3:$H$291,6,FALSE),H523)","v":{"$error":"#N/A"}},{"$f":"CONCATENATE(VLOOKUP(B523,'School List'!$B$3:$D$291,3,FALSE),H523)","v":{"$error":"#N/A"}},{"$f":"IF('Line 1 Source'!B523<>\"\",'Line 1 Source'!B523,\"\")","v":"25"},{"$f":"IF('Line 1 Source'!C523<>\"\",'Line 1 Source'!C523,\"\")","v":"4"},{"$f":"IF('Line 1 Source'!D523<>\"\",'Line 1 Source'!D523,\"\")","v":"4445"},{"$f":"IF('Line 1 Source'!E523<>\"\",'Line 1 Source'!E523,\"\")","v":"6302"},{"$f":"IF('Line 1 Source'!F523<>\"\",'Line 1 Source'!F523,\"\")","v":0}]
[{"$f":"IF('Line 1 Source'!A524<>\"\",'Line 1 Source'!A524,\"\")","v":"2018"},"2545455",{"$f":"CONCATENATE(VLOOKUP(B524,'School List'!$B$3:$H$291,6,FALSE),H524)","v":{"$error":"#N/A"}},{"$f":"CONCATENATE(VLOOKUP(B524,'School List'!$B$3:$D$291,3,FALSE),H524)","v":{"$error":"#N/A"}},{"$f":"IF('Line 1 Source'!B524<>\"\",'Line 1 Source'!B524,\"\")","v":"25"},{"$f":"IF('Line 1 Source'!C524<>\"\",'Line 1 Source'!C524,\"\")","v":"4"},{"$f":"IF('Line 1 Source'!D524<>\"\",'Line 1 Source'!D524,\"\")","v":"5455"},{"$f":"IF('Line 1 Source'!E524<>\"\",'Line 1 Source'!E524,\"\")","v":"0061"},{"$f":"IF('Line 1 Source'!F524<>\"\",'Line 1 Source'!F524,\"\")","v":0}]
[{"$f":"IF('Line 1 Source'!A525<>\"\",'Line 1 Source'!A525,\"\")","v":"2018"},"2545455",{"$f":"CONCATENATE(VLOOKUP(B525,'School List'!$B$3:$H$291,6,FALSE),H525)","v":{"$error":"#N/A"}},{"$f":"CONCATENATE(VLOOKUP(B525,'School List'!$B$3:$D$291,3,FALSE),H525)","v":{"$error":"#N/A"}},{"$f":"IF('Line 1 Source'!B525<>\"\",'Line 1 Source'!B525,\"\")","v":"25"},{"$f":"IF('Line 1 Source'!C525<>\"\",'Line 1 Source'!C525,\"\")","v":"4"},{"$f":"IF('Line 1 Source'!D525<>\"\",'Line 1 Source'!D525,\"\")","v":"5455"},{"$f":"IF('Line 1 Source'!E525<>\"\",'Line 1 Source'!E525,\"\")","v":"0101"},{"$f":"IF('Line 1 Source'!F525<>\"\",'Line 1 Source'!F525,\"\")","v":0}]
[{"$f":"IF('Line 1 Source'!A526<>\"\",'Line 1 Source'!A526,\"\")","v":"2018"},"2545455",{"$f":"CONCATENATE(VLOOKUP(B526,'School List'!$B$3:$H$291,6,FALSE),H526)","v":{"$error":"#N/A"}},{"$f":"CONCATENATE(VLOOKUP(B526,'School List'!$B$3:$D$291,3,FALSE),H526)","v":{"$error":"#N/A"}},{"$f":"IF('Line 1 Source'!B526<>\"\",'Line 1 Source'!B526,\"\")","v":"25"},{"$f":"IF('Line 1 Source'!C526<>\"\",'Line 1 Source'!C526,\"\")","v":"4"},{"$f":"IF('Line 1 Source'!D526<>\"\",'Line 1 Source'!D526,\"\")","v":"5455"},{"$f":"IF('Line 1 Source'!E526<>\"\",'Line 1 Source'!E526,\"\")","v":"0180"},{"$f":"IF('Line 1 Source'!F526<>\"\",'Line 1 Source'!F526,\"\")","v":0}]
[{"$f":"IF('Line 1 Source'!A527<>\"\",'Line 1 Source'!A527,\"\")","v":"2018"},"2545455",{"$f":"CONCATENATE(VLOOKUP(B527,'School List'!$B$3:$H$291,6,FALSE),H527)","v":{"$error":"#N/A"}},{"$f":"CONCATENATE(VLOOKUP(B527,'School List'!$B$3:$D$291,3,FALSE),H527)","v":{"$error":"#N/A"}},{"$f":"IF('Line 1 Source'!B527<>\"\",'Line 1 Source'!B527,\"\")","v":"25"},{"$f":"IF('Line 1 Source'!C527<>\"\",'Line 1 Source'!C527,\"\")","v":"4"},{"$f":"IF('Line 1 Source'!D527<>\"\",'Line 1 Source'!D527,\"\")","v":"5455"},{"$f":"IF('Line 1 Source'!E527<>\"\",'Line 1 Source'!E527,\"\")","v":"0186"},{"$f":"IF('Line 1 Source'!F527<>\"\",'Line 1 Source'!F527,\"\")","v":0}]
[{"$f":"IF('Line 1 Source'!A528<>\"\",'Line 1 Source'!A528,\"\")","v":"2018"},"2545455",{"$f":"CONCATENATE(VLOOKUP(B528,'School List'!$B$3:$H$291,6,FALSE),H528)","v":{"$error":"#N/A"}},{"$f":"CONCATENATE(VLOOKUP(B528,'School List'!$B$3:$D$291,3,FALSE),H528)","v":{"$error":"#N/A"}},{"$f":"IF('Line 1 Source'!B528<>\"\",'Line 1 Source'!B528,\"\")","v":"25"},{"$f":"IF('Line 1 Source'!C528<>\"\",'Line 1 Source'!C528,\"\")","v":"4"},{"$f":"IF('Line 1 Source'!D528<>\"\",'Line 1 Source'!D528,\"\")","v":"5455"},{"$f":"IF('Line 1 Source'!E528<>\"\",'Line 1 Source'!E528,\"\")","v":"1214"},{"$f":"IF('Line 1 Source'!F528<>\"\",'Line 1 Source'!F528,\"\")","v":0}]
[{"$f":"IF('Line 1 Source'!A529<>\"\",'Line 1 Source'!A529,\"\")","v":"2018"},"2545455",{"$f":"CONCATENATE(VLOOKUP(B529,'School List'!$B$3:$H$291,6,FALSE),H529)","v":{"$error":"#N/A"}},{"$f":"CONCATENATE(VLOOKUP(B529,'School List'!$B$3:$D$291,3,FALSE),H529)","v":{"$error":"#N/A"}},{"$f":"IF('Line 1 Source'!B529<>\"\",'Line 1 Source'!B529,\"\")","v":"25"},{"$f":"IF('Line 1 Source'!C529<>\"\",'Line 1 Source'!C529,\"\")","v":"4"},{"$f":"IF('Line 1 Source'!D529<>\"\",'Line 1 Source'!D529,\"\")","v":"5455"},{"$f":"IF('Line 1 Source'!E529<>\"\",'Line 1 Source'!E529,\"\")","v":"6301"},{"$f":"IF('Line 1 Source'!F529<>\"\",'Line 1 Source'!F529,\"\")","v":0}]
[{"$f":"IF('Line 1 Source'!A530<>\"\",'Line 1 Source'!A530,\"\")","v":"2018"},"2545455",{"$f":"CONCATENATE(VLOOKUP(B530,'School List'!$B$3:$H$291,6,FALSE),H530)","v":{"$error":"#N/A"}},{"$f":"CONCATENATE(VLOOKUP(B530,'School List'!$B$3:$D$291,3,FALSE),H530)","v":{"$error":"#N/A"}},{"$f":"IF('Line 1 Source'!B530<>\"\",'Line 1 Source'!B530,\"\")","v":"25"},{"$f":"IF('Line 1 Source'!C530<>\"\",'Line 1 Source'!C530,\"\")","v":"4"},{"$f":"IF('Line 1 Source'!D530<>\"\",'Line 1 Source'!D530,\"\")","v":"5455"},{"$f":"IF('Line 1 Source'!E530<>\"\",'Line 1 Source'!E530,\"\")","v":"6302"},{"$f":"IF('Line 1 Source'!F530<>\"\",'Line 1 Source'!F530,\"\")","v":0}]
[{"$f":"IF('Line 1 Source'!A531<>\"\",'Line 1 Source'!A531,\"\")","v":"2018"},"2546620",{"$f":"CONCATENATE(VLOOKUP(B531,'School List'!$B$3:$H$291,6,FALSE),H531)","v":{"$error":"#N/A"}},{"$f":"CONCATENATE(VLOOKUP(B531,'School List'!$B$3:$D$291,3,FALSE),H531)","v":{"$error":"#N/A"}},{"$f":"IF('Line 1 Source'!B531<>\"\",'Line 1 Source'!B531,\"\")","v":"25"},{"$f":"IF('Line 1 Source'!C531<>\"\",'Line 1 Source'!C531,\"\")","v":"4"},{"$f":"IF('Line 1 Source'!D531<>\"\",'Line 1 Source'!D531,\"\")","v":"6620"},{"$f":"IF('Line 1 Source'!E531<>\"\",'Line 1 Source'!E531,\"\")","v":"0061"},{"$f":"IF('Line 1 Source'!F531<>\"\",'Line 1 Source'!F531,\"\")","v":0}]
[{"$f":"IF('Line 1 Source'!A532<>\"\",'Line 1 Source'!A532,\"\")","v":"2018"},"2546620",{"$f":"CONCATENATE(VLOOKUP(B532,'School List'!$B$3:$H$291,6,FALSE),H532)","v":{"$error":"#N/A"}},{"$f":"CONCATENATE(VLOOKUP(B532,'School List'!$B$3:$D$291,3,FALSE),H532)","v":{"$error":"#N/A"}},{"$f":"IF('Line 1 Source'!B532<>\"\",'Line 1 Source'!B532,\"\")","v":"25"},{"$f":"IF('Line 1 Source'!C532<>\"\",'Line 1 Source'!C532,\"\")","v":"4"},{"$f":"IF('Line 1 Source'!D532<>\"\",'Line 1 Source'!D532,\"\")","v":"6620"},{"$f":"IF('Line 1 Source'!E532<>\"\",'Line 1 Source'!E532,\"\")","v":"0101"},{"$f":"IF('Line 1 Source'!F532<>\"\",'Line 1 Source'!F532,\"\")","v":0}]
[{"$f":"IF('Line 1 Source'!A533<>\"\",'Line 1 Source'!A533,\"\")","v":"2018"},"2546620",{"$f":"CONCATENATE(VLOOKUP(B533,'School List'!$B$3:$H$291,6,FALSE),H533)","v":{"$error":"#N/A"}},{"$f":"CONCATENATE(VLOOKUP(B533,'School List'!$B$3:$D$291,3,FALSE),H533)","v":{"$error":"#N/A"}},{"$f":"IF('Line 1 Source'!B533<>\"\",'Line 1 Source'!B533,\"\")","v":"25"},{"$f":"IF('Line 1 Source'!C533<>\"\",'Line 1 Source'!C533,\"\")","v":"4"},{"$f":"IF('Line 1 Source'!D533<>\"\",'Line 1 Source'!D533,\"\")","v":"6620"},{"$f":"IF('Line 1 Source'!E533<>\"\",'Line 1 Source'!E533,\"\")","v":"0180"},{"$f":"IF('Line 1 Source'!F533<>\"\",'Line 1 Source'!F533,\"\")","v":0}]
[{"$f":"IF('Line 1 Source'!A534<>\"\",'Line 1 Source'!A534,\"\")","v":"2018"},"2546620",{"$f":"CONCATENATE(VLOOKUP(B534,'School List'!$B$3:$H$291,6,FALSE),H534)","v":{"$error":"#N/A"}},{"$f":"CONCATENATE(VLOOKUP(B534,'School List'!$B$3:$D$291,3,FALSE),H534)","v":{"$error":"#N/A"}},{"$f":"IF('Line 1 Source'!B534<>\"\",'Line 1 Source'!B534,\"\")","v":"25"},{"$f":"IF('Line 1 Source'!C534<>\"\",'Line 1 Source'!C534,\"\")","v":"4"},{"$f":"IF('Line 1 Source'!D534<>\"\",'Line 1 Source'!D534,\"\")","v":"6620"},{"$f":"IF('Line 1 Source'!E534<>\"\",'Line 1 Source'!E534,\"\")","v":"0186"},{"$f":"IF('Line 1 Source'!F534<>\"\",'Line 1 Source'!F534,\"\")","v":0}]
[{"$f":"IF('Line 1 Source'!A535<>\"\",'Line 1 Source'!A535,\"\")","v":"2018"},"2546620",{"$f":"CONCATENATE(VLOOKUP(B535,'School List'!$B$3:$H$291,6,FALSE),H535)","v":{"$error":"#N/A"}},{"$f":"CONCATENATE(VLOOKUP(B535,'School List'!$B$3:$D$291,3,FALSE),H535)","v":{"$error":"#N/A"}},{"$f":"IF('Line 1 Source'!B535<>\"\",'Line 1 Source'!B535,\"\")","v":"25"},{"$f":"IF('Line 1 Source'!C535<>\"\",'Line 1 Source'!C535,\"\")","v":"4"},{"$f":"IF('Line 1 Source'!D535<>\"\",'Line 1 Source'!D535,\"\")","v":"6620"},{"$f":"IF('Line 1 Source'!E535<>\"\",'Line 1 Source'!E535,\"\")","v":"1214"},{"$f":"IF('Line 1 Source'!F535<>\"\",'Line 1 Source'!F535,\"\")","v":0}]
[{"$f":"IF('Line 1 Source'!A536<>\"\",'Line 1 Source'!A536,\"\")","v":"2018"},"2546620",{"$f":"CONCATENATE(VLOOKUP(B536,'School List'!$B$3:$H$291,6,FALSE),H536)","v":{"$error":"#N/A"}},{"$f":"CONCATENATE(VLOOKUP(B536,'School List'!$B$3:$D$291,3,FALSE),H536)","v":{"$error":"#N/A"}},{"$f":"IF('Line 1 Source'!B536<>\"\",'Line 1 Source'!B536,\"\")","v":"25"},{"$f":"IF('Line 1 Source'!C536<>\"\",'Line 1 Source'!C536,\"\")","v":"4"},{"$f":"IF('Line 1 Source'!D536<>\"\",'Line 1 Source'!D536,\"\")","v":"6620"},{"$f":"IF('Line 1 Source'!E536<>\"\",'Line 1 Source'!E536,\"\")","v":"6301"},{"$f":"IF('Line 1 Source'!F536<>\"\",'Line 1 Source'!F536,\"\")","v":0}]
[{"$f":"IF('Line 1 Source'!A537<>\"\",'Line 1 Source'!A537,\"\")","v":"2018"},"2546620",{"$f":"CONCATENATE(VLOOKUP(B537,'School List'!$B$3:$H$291,6,FALSE),H537)","v":{"$error":"#N/A"}},{"$f":"CONCATENATE(VLOOKUP(B537,'School List'!$B$3:$D$291,3,FALSE),H537)","v":{"$error":"#N/A"}},{"$f":"IF('Line 1 Source'!B537<>\"\",'Line 1 Source'!B537,\"\")","v":"25"},{"$f":"IF('Line 1 Source'!C537<>\"\",'Line 1 Source'!C537,\"\")","v":"4"},{"$f":"IF('Line 1 Source'!D537<>\"\",'Line 1 Source'!D537,\"\")","v":"6620"},{"$f":"IF('Line 1 Source'!E537<>\"\",'Line 1 Source'!E537,\"\")","v":"6302"},{"$f":"IF('Line 1 Source'!F537<>\"\",'Line 1 Source'!F537,\"\")","v":0}]
[{"$f":"IF('Line 1 Source'!A538<>\"\",'Line 1 Source'!A538,\"\")","v":"2018"},"2642725",{"$f":"CONCATENATE(VLOOKUP(B538,'School List'!$B$3:$H$291,6,FALSE),H538)","v":"27250061"},{"$f":"CONCATENATE(VLOOKUP(B538,'School List'!$B$3:$D$291,3,FALSE),H538)","v":"Gibson County - EAST GIBSON SCHOOL CORPORATION0061"},{"$f":"IF('Line 1 Source'!B538<>\"\",'Line 1 Source'!B538,\"\")","v":"26"},{"$f":"IF('Line 1 Source'!C538<>\"\",'Line 1 Source'!C538,\"\")","v":"4"},{"$f":"IF('Line 1 Source'!D538<>\"\",'Line 1 Source'!D538,\"\")","v":"2725"},{"$f":"IF('Line 1 Source'!E538<>\"\",'Line 1 Source'!E538,\"\")","v":"0061"},{"$f":"IF('Line 1 Source'!F538<>\"\",'Line 1 Source'!F538,\"\")","v":800000}]
[{"$f":"IF('Line 1 Source'!A539<>\"\",'Line 1 Source'!A539,\"\")","v":"2018"},"2642725",{"$f":"CONCATENATE(VLOOKUP(B539,'School List'!$B$3:$H$291,6,FALSE),H539)","v":"27250101"},{"$f":"CONCATENATE(VLOOKUP(B539,'School List'!$B$3:$D$291,3,FALSE),H539)","v":"Gibson County - EAST GIBSON SCHOOL CORPORATION0101"},{"$f":"IF('Line 1 Source'!B539<>\"\",'Line 1 Source'!B539,\"\")","v":"26"},{"$f":"IF('Line 1 Source'!C539<>\"\",'Line 1 Source'!C539,\"\")","v":"4"},{"$f":"IF('Line 1 Source'!D539<>\"\",'Line 1 Source'!D539,\"\")","v":"2725"},{"$f":"IF('Line 1 Source'!E539<>\"\",'Line 1 Source'!E539,\"\")","v":"0101"},{"$f":"IF('Line 1 Source'!F539<>\"\",'Line 1 Source'!F539,\"\")","v":5953062}]
[{"$f":"IF('Line 1 Source'!A540<>\"\",'Line 1 Source'!A540,\"\")","v":"2018"},"2642725",{"$f":"CONCATENATE(VLOOKUP(B540,'School List'!$B$3:$H$291,6,FALSE),H540)","v":"27250180"},{"$f":"CONCATENATE(VLOOKUP(B540,'School List'!$B$3:$D$291,3,FALSE),H540)","v":"Gibson County - EAST GIBSON SCHOOL CORPORATION0180"},{"$f":"IF('Line 1 Source'!B540<>\"\",'Line 1 Source'!B540,\"\")","v":"26"},{"$f":"IF('Line 1 Source'!C540<>\"\",'Line 1 Source'!C540,\"\")","v":"4"},{"$f":"IF('Line 1 Source'!D540<>\"\",'Line 1 Source'!D540,\"\")","v":"2725"},{"$f":"IF('Line 1 Source'!E540<>\"\",'Line 1 Source'!E540,\"\")","v":"0180"},{"$f":"IF('Line 1 Source'!F540<>\"\",'Line 1 Source'!F540,\"\")","v":349497}]
[{"$f":"IF('Line 1 Source'!A541<>\"\",'Line 1 Source'!A541,\"\")","v":"2018"},"2642725",{"$f":"CONCATENATE(VLOOKUP(B541,'School List'!$B$3:$H$291,6,FALSE),H541)","v":"27250186"},{"$f":"CONCATENATE(VLOOKUP(B541,'School List'!$B$3:$D$291,3,FALSE),H541)","v":"Gibson County - EAST GIBSON SCHOOL CORPORATION0186"},{"$f":"IF('Line 1 Source'!B541<>\"\",'Line 1 Source'!B541,\"\")","v":"26"},{"$f":"IF('Line 1 Source'!C541<>\"\",'Line 1 Source'!C541,\"\")","v":"4"},{"$f":"IF('Line 1 Source'!D541<>\"\",'Line 1 Source'!D541,\"\")","v":"2725"},{"$f":"IF('Line 1 Source'!E541<>\"\",'Line 1 Source'!E541,\"\")","v":"0186"},{"$f":"IF('Line 1 Source'!F541<>\"\",'Line 1 Source'!F541,\"\")","v":170186}]
[{"$f":"IF('Line 1 Source'!A542<>\"\",'Line 1 Source'!A542,\"\")","v":"2018"},"2642725",{"$f":"CONCATENATE(VLOOKUP(B542,'School List'!$B$3:$H$291,6,FALSE),H542)","v":"27251214"},{"$f":"CONCATENATE(VLOOKUP(B542,'School List'!$B$3:$D$291,3,FALSE),H542)","v":"Gibson County - EAST GIBSON SCHOOL CORPORATION1214"},{"$f":"IF('Line 1 Source'!B542<>\"\",'Line 1 Source'!B542,\"\")","v":"26"},{"$f":"IF('Line 1 Source'!C542<>\"\",'Line 1 Source'!C542,\"\")","v":"4"},{"$f":"IF('Line 1 Source'!D542<>\"\",'Line 1 Source'!D542,\"\")","v":"2725"},{"$f":"IF('Line 1 Source'!E542<>\"\",'Line 1 Source'!E542,\"\")","v":"1214"},{"$f":"IF('Line 1 Source'!F542<>\"\",'Line 1 Source'!F542,\"\")","v":919614}]
[{"$f":"IF('Line 1 Source'!A543<>\"\",'Line 1 Source'!A543,\"\")","v":"2018"},"2642725",{"$f":"CONCATENATE(VLOOKUP(B543,'School List'!$B$3:$H$291,6,FALSE),H543)","v":"27256301"},{"$f":"CONCATENATE(VLOOKUP(B543,'School List'!$B$3:$D$291,3,FALSE),H543)","v":"Gibson County - EAST GIBSON SCHOOL CORPORATION6301"},{"$f":"IF('Line 1 Source'!B543<>\"\",'Line 1 Source'!B543,\"\")","v":"26"},{"$f":"IF('Line 1 Source'!C543<>\"\",'Line 1 Source'!C543,\"\")","v":"4"},{"$f":"IF('Line 1 Source'!D543<>\"\",'Line 1 Source'!D543,\"\")","v":"2725"},{"$f":"IF('Line 1 Source'!E543<>\"\",'Line 1 Source'!E543,\"\")","v":"6301"},{"$f":"IF('Line 1 Source'!F543<>\"\",'Line 1 Source'!F543,\"\")","v":1096556}]
[{"$f":"IF('Line 1 Source'!A544<>\"\",'Line 1 Source'!A544,\"\")","v":"2018"},"2642725",{"$f":"CONCATENATE(VLOOKUP(B544,'School List'!$B$3:$H$291,6,FALSE),H544)","v":"27256302"},{"$f":"CONCATENATE(VLOOKUP(B544,'School List'!$B$3:$D$291,3,FALSE),H544)","v":"Gibson County - EAST GIBSON SCHOOL CORPORATION6302"},{"$f":"IF('Line 1 Source'!B544<>\"\",'Line 1 Source'!B544,\"\")","v":"26"},{"$f":"IF('Line 1 Source'!C544<>\"\",'Line 1 Source'!C544,\"\")","v":"4"},{"$f":"IF('Line 1 Source'!D544<>\"\",'Line 1 Source'!D544,\"\")","v":"2725"},{"$f":"IF('Line 1 Source'!E544<>\"\",'Line 1 Source'!E544,\"\")","v":"6302"},{"$f":"IF('Line 1 Source'!F544<>\"\",'Line 1 Source'!F544,\"\")","v":0}]
[{"$f":"IF('Line 1 Source'!A545<>\"\",'Line 1 Source'!A545,\"\")","v":"2018"},"2642735",{"$f":"CONCATENATE(VLOOKUP(B545,'School List'!$B$3:$H$291,6,FALSE),H545)","v":"27350061"},{"$f":"CONCATENATE(VLOOKUP(B545,'School List'!$B$3:$D$291,3,FALSE),H545)","v":"Gibson County - NORTH GIBSON SCHOOL CORPORATION0061"},{"$f":"IF('Line 1 Source'!B545<>\"\",'Line 1 Source'!B545,\"\")","v":"26"},{"$f":"IF('Line 1 Source'!C545<>\"\",'Line 1 Source'!C545,\"\")","v":"4"},{"$f":"IF('Line 1 Source'!D545<>\"\",'Line 1 Source'!D545,\"\")","v":"2735"},{"$f":"IF('Line 1 Source'!E545<>\"\",'Line 1 Source'!E545,\"\")","v":"0061"},{"$f":"IF('Line 1 Source'!F545<>\"\",'Line 1 Source'!F545,\"\")","v":1150000}]
[{"$f":"IF('Line 1 Source'!A546<>\"\",'Line 1 Source'!A546,\"\")","v":"2018"},"2642735",{"$f":"CONCATENATE(VLOOKUP(B546,'School List'!$B$3:$H$291,6,FALSE),H546)","v":"27350101"},{"$f":"CONCATENATE(VLOOKUP(B546,'School List'!$B$3:$D$291,3,FALSE),H546)","v":"Gibson County - NORTH GIBSON SCHOOL CORPORATION0101"},{"$f":"IF('Line 1 Source'!B546<>\"\",'Line 1 Source'!B546,\"\")","v":"26"},{"$f":"IF('Line 1 Source'!C546<>\"\",'Line 1 Source'!C546,\"\")","v":"4"},{"$f":"IF('Line 1 Source'!D546<>\"\",'Line 1 Source'!D546,\"\")","v":"2735"},{"$f":"IF('Line 1 Source'!E546<>\"\",'Line 1 Source'!E546,\"\")","v":"0101"},{"$f":"IF('Line 1 Source'!F546<>\"\",'Line 1 Source'!F546,\"\")","v":14300650}]
[{"$f":"IF('Line 1 Source'!A547<>\"\",'Line 1 Source'!A547,\"\")","v":"2018"},"2642735",{"$f":"CONCATENATE(VLOOKUP(B547,'School List'!$B$3:$H$291,6,FALSE),H547)","v":"27350180"},{"$f":"CONCATENATE(VLOOKUP(B547,'School List'!$B$3:$D$291,3,FALSE),H547)","v":"Gibson County - NORTH GIBSON SCHOOL CORPORATION0180"},{"$f":"IF('Line 1 Source'!B547<>\"\",'Line 1 Source'!B547,\"\")","v":"26"},{"$f":"IF('Line 1 Source'!C547<>\"\",'Line 1 Source'!C547,\"\")","v":"4"},{"$f":"IF('Line 1 Source'!D547<>\"\",'Line 1 Source'!D547,\"\")","v":"2735"},{"$f":"IF('Line 1 Source'!E547<>\"\",'Line 1 Source'!E547,\"\")","v":"0180"},{"$f":"IF('Line 1 Source'!F547<>\"\",'Line 1 Source'!F547,\"\")","v":5297177}]
[{"$f":"IF('Line 1 Source'!A548<>\"\",'Line 1 Source'!A548,\"\")","v":"2018"},"2642735",{"$f":"CONCATENATE(VLOOKUP(B548,'School List'!$B$3:$H$291,6,FALSE),H548)","v":"27350186"},{"$f":"CONCATENATE(VLOOKUP(B548,'School List'!$B$3:$D$291,3,FALSE),H548)","v":"Gibson County - NORTH GIBSON SCHOOL CORPORATION0186"},{"$f":"IF('Line 1 Source'!B548<>\"\",'Line 1 Source'!B548,\"\")","v":"26"},{"$f":"IF('Line 1 Source'!C548<>\"\",'Line 1 Source'!C548,\"\")","v":"4"},{"$f":"IF('Line 1 Source'!D548<>\"\",'Line 1 Source'!D548,\"\")","v":"2735"},{"$f":"IF('Line 1 Source'!E548<>\"\",'Line 1 Source'!E548,\"\")","v":"0186"},{"$f":"IF('Line 1 Source'!F548<>\"\",'Line 1 Source'!F548,\"\")","v":464580}]
[{"$f":"IF('Line 1 Source'!A549<>\"\",'Line 1 Source'!A549,\"\")","v":"2018"},"2642735",{"$f":"CONCATENATE(VLOOKUP(B549,'School List'!$B$3:$H$291,6,FALSE),H549)","v":"27351214"},{"$f":"CONCATENATE(VLOOKUP(B549,'School List'!$B$3:$D$291,3,FALSE),H549)","v":"Gibson County - NORTH GIBSON SCHOOL CORPORATION1214"},{"$f":"IF('Line 1 Source'!B549<>\"\",'Line 1 Source'!B549,\"\")","v":"26"},{"$f":"IF('Line 1 Source'!C549<>\"\",'Line 1 Source'!C549,\"\")","v":"4"},{"$f":"IF('Line 1 Source'!D549<>\"\",'Line 1 Source'!D549,\"\")","v":"2735"},{"$f":"IF('Line 1 Source'!E549<>\"\",'Line 1 Source'!E549,\"\")","v":"1214"},{"$f":"IF('Line 1 Source'!F549<>\"\",'Line 1 Source'!F549,\"\")","v":2851637}]
[{"$f":"IF('Line 1 Source'!A550<>\"\",'Line 1 Source'!A550,\"\")","v":"2018"},"2642735",{"$f":"CONCATENATE(VLOOKUP(B550,'School List'!$B$3:$H$291,6,FALSE),H550)","v":"27356301"},{"$f":"CONCATENATE(VLOOKUP(B550,'School List'!$B$3:$D$291,3,FALSE),H550)","v":"Gibson County - NORTH GIBSON SCHOOL CORPORATION6301"},{"$f":"IF('Line 1 Source'!B550<>\"\",'Line 1 Source'!B550,\"\")","v":"26"},{"$f":"IF('Line 1 Source'!C550<>\"\",'Line 1 Source'!C550,\"\")","v":"4"},{"$f":"IF('Line 1 Source'!D550<>\"\",'Line 1 Source'!D550,\"\")","v":"2735"},{"$f":"IF('Line 1 Source'!E550<>\"\",'Line 1 Source'!E550,\"\")","v":"6301"},{"$f":"IF('Line 1 Source'!F550<>\"\",'Line 1 Source'!F550,\"\")","v":2241297}]
[{"$f":"IF('Line 1 Source'!A551<>\"\",'Line 1 Source'!A551,\"\")","v":"2018"},"2642735",{"$f":"CONCATENATE(VLOOKUP(B551,'School List'!$B$3:$H$291,6,FALSE),H551)","v":"27356302"},{"$f":"CONCATENATE(VLOOKUP(B551,'School List'!$B$3:$D$291,3,FALSE),H551)","v":"Gibson County - NORTH GIBSON SCHOOL CORPORATION6302"},{"$f":"IF('Line 1 Source'!B551<>\"\",'Line 1 Source'!B551,\"\")","v":"26"},{"$f":"IF('Line 1 Source'!C551<>\"\",'Line 1 Source'!C551,\"\")","v":"4"},{"$f":"IF('Line 1 Source'!D551<>\"\",'Line 1 Source'!D551,\"\")","v":"2735"},{"$f":"IF('Line 1 Source'!E551<>\"\",'Line 1 Source'!E551,\"\")","v":"6302"},{"$f":"IF('Line 1 Source'!F551<>\"\",'Line 1 Source'!F551,\"\")","v":100658}]
[{"$f":"IF('Line 1 Source'!A552<>\"\",'Line 1 Source'!A552,\"\")","v":"2018"},"2642765",{"$f":"CONCATENATE(VLOOKUP(B552,'School List'!$B$3:$H$291,6,FALSE),H552)","v":"27650061"},{"$f":"CONCATENATE(VLOOKUP(B552,'School List'!$B$3:$D$291,3,FALSE),H552)","v":"Gibson County - SOUTH GIBSON SCHOOL CORPORATION0061"},{"$f":"IF('Line 1 Source'!B552<>\"\",'Line 1 Source'!B552,\"\")","v":"26"},{"$f":"IF('Line 1 Source'!C552<>\"\",'Line 1 Source'!C552,\"\")","v":"4"},{"$f":"IF('Line 1 Source'!D552<>\"\",'Line 1 Source'!D552,\"\")","v":"2765"},{"$f":"IF('Line 1 Source'!E552<>\"\",'Line 1 Source'!E552,\"\")","v":"0061"},{"$f":"IF('Line 1 Source'!F552<>\"\",'Line 1 Source'!F552,\"\")","v":222000}]
[{"$f":"IF('Line 1 Source'!A553<>\"\",'Line 1 Source'!A553,\"\")","v":"2018"},"2642765",{"$f":"CONCATENATE(VLOOKUP(B553,'School List'!$B$3:$H$291,6,FALSE),H553)","v":"27650101"},{"$f":"CONCATENATE(VLOOKUP(B553,'School List'!$B$3:$D$291,3,FALSE),H553)","v":"Gibson County - SOUTH GIBSON SCHOOL CORPORATION0101"},{"$f":"IF('Line 1 Source'!B553<>\"\",'Line 1 Source'!B553,\"\")","v":"26"},{"$f":"IF('Line 1 Source'!C553<>\"\",'Line 1 Source'!C553,\"\")","v":"4"},{"$f":"IF('Line 1 Source'!D553<>\"\",'Line 1 Source'!D553,\"\")","v":"2765"},{"$f":"IF('Line 1 Source'!E553<>\"\",'Line 1 Source'!E553,\"\")","v":"0101"},{"$f":"IF('Line 1 Source'!F553<>\"\",'Line 1 Source'!F553,\"\")","v":13794425}]
[{"$f":"IF('Line 1 Source'!A554<>\"\",'Line 1 Source'!A554,\"\")","v":"2018"},"2642765",{"$f":"CONCATENATE(VLOOKUP(B554,'School List'!$B$3:$H$291,6,FALSE),H554)","v":"27650180"},{"$f":"CONCATENATE(VLOOKUP(B554,'School List'!$B$3:$D$291,3,FALSE),H554)","v":"Gibson County - SOUTH GIBSON SCHOOL CORPORATION0180"},{"$f":"IF('Line 1 Source'!B554<>\"\",'Line 1 Source'!B554,\"\")","v":"26"},{"$f":"IF('Line 1 Source'!C554<>\"\",'Line 1 Source'!C554,\"\")","v":"4"},{"$f":"IF('Line 1 Source'!D554<>\"\",'Line 1 Source'!D554,\"\")","v":"2765"},{"$f":"IF('Line 1 Source'!E554<>\"\",'Line 1 Source'!E554,\"\")","v":"0180"},{"$f":"IF('Line 1 Source'!F554<>\"\",'Line 1 Source'!F554,\"\")","v":3404813}]
[{"$f":"IF('Line 1 Source'!A555<>\"\",'Line 1 Source'!A555,\"\")","v":"2018"},"2642765",{"$f":"CONCATENATE(VLOOKUP(B555,'School List'!$B$3:$H$291,6,FALSE),H555)","v":"27651214"},{"$f":"CONCATENATE(VLOOKUP(B555,'School List'!$B$3:$D$291,3,FALSE),H555)","v":"Gibson County - SOUTH GIBSON SCHOOL CORPORATION1214"},{"$f":"IF('Line 1 Source'!B555<>\"\",'Line 1 Source'!B555,\"\")","v":"26"},{"$f":"IF('Line 1 Source'!C555<>\"\",'Line 1 Source'!C555,\"\")","v":"4"},{"$f":"IF('Line 1 Source'!D555<>\"\",'Line 1 Source'!D555,\"\")","v":"2765"},{"$f":"IF('Line 1 Source'!E555<>\"\",'Line 1 Source'!E555,\"\")","v":"1214"},{"$f":"IF('Line 1 Source'!F555<>\"\",'Line 1 Source'!F555,\"\")","v":3452039}]
[{"$f":"IF('Line 1 Source'!A556<>\"\",'Line 1 Source'!A556,\"\")","v":"2018"},"2642765",{"$f":"CONCATENATE(VLOOKUP(B556,'School List'!$B$3:$H$291,6,FALSE),H556)","v":"27656301"},{"$f":"CONCATENATE(VLOOKUP(B556,'School List'!$B$3:$D$291,3,FALSE),H556)","v":"Gibson County - SOUTH GIBSON SCHOOL CORPORATION6301"},{"$f":"IF('Line 1 Source'!B556<>\"\",'Line 1 Source'!B556,\"\")","v":"26"},{"$f":"IF('Line 1 Source'!C556<>\"\",'Line 1 Source'!C556,\"\")","v":"4"},{"$f":"IF('Line 1 Source'!D556<>\"\",'Line 1 Source'!D556,\"\")","v":"2765"},{"$f":"IF('Line 1 Source'!E556<>\"\",'Line 1 Source'!E556,\"\")","v":"6301"},{"$f":"IF('Line 1 Source'!F556<>\"\",'Line 1 Source'!F556,\"\")","v":1895230}]
[{"$f":"IF('Line 1 Source'!A557<>\"\",'Line 1 Source'!A557,\"\")","v":"2018"},"2642765",{"$f":"CONCATENATE(VLOOKUP(B557,'School List'!$B$3:$H$291,6,FALSE),H557)","v":"27656302"},{"$f":"CONCATENATE(VLOOKUP(B557,'School List'!$B$3:$D$291,3,FALSE),H557)","v":"Gibson County - SOUTH GIBSON SCHOOL CORPORATION6302"},{"$f":"IF('Line 1 Source'!B557<>\"\",'Line 1 Source'!B557,\"\")","v":"26"},{"$f":"IF('Line 1 Source'!C557<>\"\",'Line 1 Source'!C557,\"\")","v":"4"},{"$f":"IF('Line 1 Source'!D557<>\"\",'Line 1 Source'!D557,\"\")","v":"2765"},{"$f":"IF('Line 1 Source'!E557<>\"\",'Line 1 Source'!E557,\"\")","v":"6302"},{"$f":"IF('Line 1 Source'!F557<>\"\",'Line 1 Source'!F557,\"\")","v":125000}]
[{"$f":"IF('Line 1 Source'!A558<>\"\",'Line 1 Source'!A558,\"\")","v":"2018"},"2742815",{"$f":"CONCATENATE(VLOOKUP(B558,'School List'!$B$3:$H$291,6,FALSE),H558)","v":"28150061"},{"$f":"CONCATENATE(VLOOKUP(B558,'School List'!$B$3:$D$291,3,FALSE),H558)","v":"Grant County - EASTBROOK COMMUNITY SCHOOL CORPORATION0061"},{"$f":"IF('Line 1 Source'!B558<>\"\",'Line 1 Source'!B558,\"\")","v":"27"},{"$f":"IF('Line 1 Source'!C558<>\"\",'Line 1 Source'!C558,\"\")","v":"4"},{"$f":"IF('Line 1 Source'!D558<>\"\",'Line 1 Source'!D558,\"\")","v":"2815"},{"$f":"IF('Line 1 Source'!E558<>\"\",'Line 1 Source'!E558,\"\")","v":"0061"},{"$f":"IF('Line 1 Source'!F558<>\"\",'Line 1 Source'!F558,\"\")","v":100000}]
[{"$f":"IF('Line 1 Source'!A559<>\"\",'Line 1 Source'!A559,\"\")","v":"2018"},"2742815",{"$f":"CONCATENATE(VLOOKUP(B559,'School List'!$B$3:$H$291,6,FALSE),H559)","v":"28150101"},{"$f":"CONCATENATE(VLOOKUP(B559,'School List'!$B$3:$D$291,3,FALSE),H559)","v":"Grant County - EASTBROOK COMMUNITY SCHOOL CORPORATION0101"},{"$f":"IF('Line 1 Source'!B559<>\"\",'Line 1 Source'!B559,\"\")","v":"27"},{"$f":"IF('Line 1 Source'!C559<>\"\",'Line 1 Source'!C559,\"\")","v":"4"},{"$f":"IF('Line 1 Source'!D559<>\"\",'Line 1 Source'!D559,\"\")","v":"2815"},{"$f":"IF('Line 1 Source'!E559<>\"\",'Line 1 Source'!E559,\"\")","v":"0101"},{"$f":"IF('Line 1 Source'!F559<>\"\",'Line 1 Source'!F559,\"\")","v":10646000}]
[{"$f":"IF('Line 1 Source'!A560<>\"\",'Line 1 Source'!A560,\"\")","v":"2018"},"2742815",{"$f":"CONCATENATE(VLOOKUP(B560,'School List'!$B$3:$H$291,6,FALSE),H560)","v":"28150180"},{"$f":"CONCATENATE(VLOOKUP(B560,'School List'!$B$3:$D$291,3,FALSE),H560)","v":"Grant County - EASTBROOK COMMUNITY SCHOOL CORPORATION0180"},{"$f":"IF('Line 1 Source'!B560<>\"\",'Line 1 Source'!B560,\"\")","v":"27"},{"$f":"IF('Line 1 Source'!C560<>\"\",'Line 1 Source'!C560,\"\")","v":"4"},{"$f":"IF('Line 1 Source'!D560<>\"\",'Line 1 Source'!D560,\"\")","v":"2815"},{"$f":"IF('Line 1 Source'!E560<>\"\",'Line 1 Source'!E560,\"\")","v":"0180"},{"$f":"IF('Line 1 Source'!F560<>\"\",'Line 1 Source'!F560,\"\")","v":899613}]
[{"$f":"IF('Line 1 Source'!A561<>\"\",'Line 1 Source'!A561,\"\")","v":"2018"},"2742815",{"$f":"CONCATENATE(VLOOKUP(B561,'School List'!$B$3:$H$291,6,FALSE),H561)","v":"28150186"},{"$f":"CONCATENATE(VLOOKUP(B561,'School List'!$B$3:$D$291,3,FALSE),H561)","v":"Grant County - EASTBROOK COMMUNITY SCHOOL CORPORATION0186"},{"$f":"IF('Line 1 Source'!B561<>\"\",'Line 1 Source'!B561,\"\")","v":"27"},{"$f":"IF('Line 1 Source'!C561<>\"\",'Line 1 Source'!C561,\"\")","v":"4"},{"$f":"IF('Line 1 Source'!D561<>\"\",'Line 1 Source'!D561,\"\")","v":"2815"},{"$f":"IF('Line 1 Source'!E561<>\"\",'Line 1 Source'!E561,\"\")","v":"0186"},{"$f":"IF('Line 1 Source'!F561<>\"\",'Line 1 Source'!F561,\"\")","v":357658}]
[{"$f":"IF('Line 1 Source'!A562<>\"\",'Line 1 Source'!A562,\"\")","v":"2018"},"2742815",{"$f":"CONCATENATE(VLOOKUP(B562,'School List'!$B$3:$H$291,6,FALSE),H562)","v":"28151214"},{"$f":"CONCATENATE(VLOOKUP(B562,'School List'!$B$3:$D$291,3,FALSE),H562)","v":"Grant County - EASTBROOK COMMUNITY SCHOOL CORPORATION1214"},{"$f":"IF('Line 1 Source'!B562<>\"\",'Line 1 Source'!B562,\"\")","v":"27"},{"$f":"IF('Line 1 Source'!C562<>\"\",'Line 1 Source'!C562,\"\")","v":"4"},{"$f":"IF('Line 1 Source'!D562<>\"\",'Line 1 Source'!D562,\"\")","v":"2815"},{"$f":"IF('Line 1 Source'!E562<>\"\",'Line 1 Source'!E562,\"\")","v":"1214"},{"$f":"IF('Line 1 Source'!F562<>\"\",'Line 1 Source'!F562,\"\")","v":1200000}]
[{"$f":"IF('Line 1 Source'!A563<>\"\",'Line 1 Source'!A563,\"\")","v":"2018"},"2742815",{"$f":"CONCATENATE(VLOOKUP(B563,'School List'!$B$3:$H$291,6,FALSE),H563)","v":"28156301"},{"$f":"CONCATENATE(VLOOKUP(B563,'School List'!$B$3:$D$291,3,FALSE),H563)","v":"Grant County - EASTBROOK COMMUNITY SCHOOL CORPORATION6301"},{"$f":"IF('Line 1 Source'!B563<>\"\",'Line 1 Source'!B563,\"\")","v":"27"},{"$f":"IF('Line 1 Source'!C563<>\"\",'Line 1 Source'!C563,\"\")","v":"4"},{"$f":"IF('Line 1 Source'!D563<>\"\",'Line 1 Source'!D563,\"\")","v":"2815"},{"$f":"IF('Line 1 Source'!E563<>\"\",'Line 1 Source'!E563,\"\")","v":"6301"},{"$f":"IF('Line 1 Source'!F563<>\"\",'Line 1 Source'!F563,\"\")","v":683000}]
[{"$f":"IF('Line 1 Source'!A564<>\"\",'Line 1 Source'!A564,\"\")","v":"2018"},"2742815",{"$f":"CONCATENATE(VLOOKUP(B564,'School List'!$B$3:$H$291,6,FALSE),H564)","v":"28156302"},{"$f":"CONCATENATE(VLOOKUP(B564,'School List'!$B$3:$D$291,3,FALSE),H564)","v":"Grant County - EASTBROOK COMMUNITY SCHOOL CORPORATION6302"},{"$f":"IF('Line 1 Source'!B564<>\"\",'Line 1 Source'!B564,\"\")","v":"27"},{"$f":"IF('Line 1 Source'!C564<>\"\",'Line 1 Source'!C564,\"\")","v":"4"},{"$f":"IF('Line 1 Source'!D564<>\"\",'Line 1 Source'!D564,\"\")","v":"2815"},{"$f":"IF('Line 1 Source'!E564<>\"\",'Line 1 Source'!E564,\"\")","v":"6302"},{"$f":"IF('Line 1 Source'!F564<>\"\",'Line 1 Source'!F564,\"\")","v":155000}]
[{"$f":"IF('Line 1 Source'!A565<>\"\",'Line 1 Source'!A565,\"\")","v":"2018"},"2742825",{"$f":"CONCATENATE(VLOOKUP(B565,'School List'!$B$3:$H$291,6,FALSE),H565)","v":"28250101"},{"$f":"CONCATENATE(VLOOKUP(B565,'School List'!$B$3:$D$291,3,FALSE),H565)","v":"Grant County - MADISON-GRANT UNITED SCHOOL CORPORATION0101"},{"$f":"IF('Line 1 Source'!B565<>\"\",'Line 1 Source'!B565,\"\")","v":"27"},{"$f":"IF('Line 1 Source'!C565<>\"\",'Line 1 Source'!C565,\"\")","v":"4"},{"$f":"IF('Line 1 Source'!D565<>\"\",'Line 1 Source'!D565,\"\")","v":"2825"},{"$f":"IF('Line 1 Source'!E565<>\"\",'Line 1 Source'!E565,\"\")","v":"0101"},{"$f":"IF('Line 1 Source'!F565<>\"\",'Line 1 Source'!F565,\"\")","v":7538671}]
[{"$f":"IF('Line 1 Source'!A566<>\"\",'Line 1 Source'!A566,\"\")","v":"2018"},"2742825",{"$f":"CONCATENATE(VLOOKUP(B566,'School List'!$B$3:$H$291,6,FALSE),H566)","v":"28250180"},{"$f":"CONCATENATE(VLOOKUP(B566,'School List'!$B$3:$D$291,3,FALSE),H566)","v":"Grant County - MADISON-GRANT UNITED SCHOOL CORPORATION0180"},{"$f":"IF('Line 1 Source'!B566<>\"\",'Line 1 Source'!B566,\"\")","v":"27"},{"$f":"IF('Line 1 Source'!C566<>\"\",'Line 1 Source'!C566,\"\")","v":"4"},{"$f":"IF('Line 1 Source'!D566<>\"\",'Line 1 Source'!D566,\"\")","v":"2825"},{"$f":"IF('Line 1 Source'!E566<>\"\",'Line 1 Source'!E566,\"\")","v":"0180"},{"$f":"IF('Line 1 Source'!F566<>\"\",'Line 1 Source'!F566,\"\")","v":1270007}]
[{"$f":"IF('Line 1 Source'!A567<>\"\",'Line 1 Source'!A567,\"\")","v":"2018"},"2742825",{"$f":"CONCATENATE(VLOOKUP(B567,'School List'!$B$3:$H$291,6,FALSE),H567)","v":"28250186"},{"$f":"CONCATENATE(VLOOKUP(B567,'School List'!$B$3:$D$291,3,FALSE),H567)","v":"Grant County - MADISON-GRANT UNITED SCHOOL CORPORATION0186"},{"$f":"IF('Line 1 Source'!B567<>\"\",'Line 1 Source'!B567,\"\")","v":"27"},{"$f":"IF('Line 1 Source'!C567<>\"\",'Line 1 Source'!C567,\"\")","v":"4"},{"$f":"IF('Line 1 Source'!D567<>\"\",'Line 1 Source'!D567,\"\")","v":"2825"},{"$f":"IF('Line 1 Source'!E567<>\"\",'Line 1 Source'!E567,\"\")","v":"0186"},{"$f":"IF('Line 1 Source'!F567<>\"\",'Line 1 Source'!F567,\"\")","v":321752}]
[{"$f":"IF('Line 1 Source'!A568<>\"\",'Line 1 Source'!A568,\"\")","v":"2018"},"2742825",{"$f":"CONCATENATE(VLOOKUP(B568,'School List'!$B$3:$H$291,6,FALSE),H568)","v":"28251214"},{"$f":"CONCATENATE(VLOOKUP(B568,'School List'!$B$3:$D$291,3,FALSE),H568)","v":"Grant County - MADISON-GRANT UNITED SCHOOL CORPORATION1214"},{"$f":"IF('Line 1 Source'!B568<>\"\",'Line 1 Source'!B568,\"\")","v":"27"},{"$f":"IF('Line 1 Source'!C568<>\"\",'Line 1 Source'!C568,\"\")","v":"4"},{"$f":"IF('Line 1 Source'!D568<>\"\",'Line 1 Source'!D568,\"\")","v":"2825"},{"$f":"IF('Line 1 Source'!E568<>\"\",'Line 1 Source'!E568,\"\")","v":"1214"},{"$f":"IF('Line 1 Source'!F568<>\"\",'Line 1 Source'!F568,\"\")","v":1591244}]
[{"$f":"IF('Line 1 Source'!A569<>\"\",'Line 1 Source'!A569,\"\")","v":"2018"},"2742825",{"$f":"CONCATENATE(VLOOKUP(B569,'School List'!$B$3:$H$291,6,FALSE),H569)","v":"28256301"},{"$f":"CONCATENATE(VLOOKUP(B569,'School List'!$B$3:$D$291,3,FALSE),H569)","v":"Grant County - MADISON-GRANT UNITED SCHOOL CORPORATION6301"},{"$f":"IF('Line 1 Source'!B569<>\"\",'Line 1 Source'!B569,\"\")","v":"27"},{"$f":"IF('Line 1 Source'!C569<>\"\",'Line 1 Source'!C569,\"\")","v":"4"},{"$f":"IF('Line 1 Source'!D569<>\"\",'Line 1 Source'!D569,\"\")","v":"2825"},{"$f":"IF('Line 1 Source'!E569<>\"\",'Line 1 Source'!E569,\"\")","v":"6301"},{"$f":"IF('Line 1 Source'!F569<>\"\",'Line 1 Source'!F569,\"\")","v":881042}]
[{"$f":"IF('Line 1 Source'!A570<>\"\",'Line 1 Source'!A570,\"\")","v":"2018"},"2742825",{"$f":"CONCATENATE(VLOOKUP(B570,'School List'!$B$3:$H$291,6,FALSE),H570)","v":"28256302"},{"$f":"CONCATENATE(VLOOKUP(B570,'School List'!$B$3:$D$291,3,FALSE),H570)","v":"Grant County - MADISON-GRANT UNITED SCHOOL CORPORATION6302"},{"$f":"IF('Line 1 Source'!B570<>\"\",'Line 1 Source'!B570,\"\")","v":"27"},{"$f":"IF('Line 1 Source'!C570<>\"\",'Line 1 Source'!C570,\"\")","v":"4"},{"$f":"IF('Line 1 Source'!D570<>\"\",'Line 1 Source'!D570,\"\")","v":"2825"},{"$f":"IF('Line 1 Source'!E570<>\"\",'Line 1 Source'!E570,\"\")","v":"6302"},{"$f":"IF('Line 1 Source'!F570<>\"\",'Line 1 Source'!F570,\"\")","v":194740}]
[{"$f":"IF('Line 1 Source'!A571<>\"\",'Line 1 Source'!A571,\"\")","v":"2018"},"2742855",{"$f":"CONCATENATE(VLOOKUP(B571,'School List'!$B$3:$H$291,6,FALSE),H571)","v":"28550101"},{"$f":"CONCATENATE(VLOOKUP(B571,'School List'!$B$3:$D$291,3,FALSE),H571)","v":"Grant County - MISSISSINEWA COMMUNITY SCHOOL CORP0101"},{"$f":"IF('Line 1 Source'!B571<>\"\",'Line 1 Source'!B571,\"\")","v":"27"},{"$f":"IF('Line 1 Source'!C571<>\"\",'Line 1 Source'!C571,\"\")","v":"4"},{"$f":"IF('Line 1 Source'!D571<>\"\",'Line 1 Source'!D571,\"\")","v":"2855"},{"$f":"IF('Line 1 Source'!E571<>\"\",'Line 1 Source'!E571,\"\")","v":"0101"},{"$f":"IF('Line 1 Source'!F571<>\"\",'Line 1 Source'!F571,\"\")","v":20141560}]
[{"$f":"IF('Line 1 Source'!A572<>\"\",'Line 1 Source'!A572,\"\")","v":"2018"},"2742855",{"$f":"CONCATENATE(VLOOKUP(B572,'School List'!$B$3:$H$291,6,FALSE),H572)","v":"28550180"},{"$f":"CONCATENATE(VLOOKUP(B572,'School List'!$B$3:$D$291,3,FALSE),H572)","v":"Grant County - MISSISSINEWA COMMUNITY SCHOOL CORP0180"},{"$f":"IF('Line 1 Source'!B572<>\"\",'Line 1 Source'!B572,\"\")","v":"27"},{"$f":"IF('Line 1 Source'!C572<>\"\",'Line 1 Source'!C572,\"\")","v":"4"},{"$f":"IF('Line 1 Source'!D572<>\"\",'Line 1 Source'!D572,\"\")","v":"2855"},{"$f":"IF('Line 1 Source'!E572<>\"\",'Line 1 Source'!E572,\"\")","v":"0180"},{"$f":"IF('Line 1 Source'!F572<>\"\",'Line 1 Source'!F572,\"\")","v":1595394}]
[{"$f":"IF('Line 1 Source'!A573<>\"\",'Line 1 Source'!A573,\"\")","v":"2018"},"2742855",{"$f":"CONCATENATE(VLOOKUP(B573,'School List'!$B$3:$H$291,6,FALSE),H573)","v":"28551214"},{"$f":"CONCATENATE(VLOOKUP(B573,'School List'!$B$3:$D$291,3,FALSE),H573)","v":"Grant County - MISSISSINEWA COMMUNITY SCHOOL CORP1214"},{"$f":"IF('Line 1 Source'!B573<>\"\",'Line 1 Source'!B573,\"\")","v":"27"},{"$f":"IF('Line 1 Source'!C573<>\"\",'Line 1 Source'!C573,\"\")","v":"4"},{"$f":"IF('Line 1 Source'!D573<>\"\",'Line 1 Source'!D573,\"\")","v":"2855"},{"$f":"IF('Line 1 Source'!E573<>\"\",'Line 1 Source'!E573,\"\")","v":"1214"},{"$f":"IF('Line 1 Source'!F573<>\"\",'Line 1 Source'!F573,\"\")","v":1057983}]
[{"$f":"IF('Line 1 Source'!A574<>\"\",'Line 1 Source'!A574,\"\")","v":"2018"},"2742855",{"$f":"CONCATENATE(VLOOKUP(B574,'School List'!$B$3:$H$291,6,FALSE),H574)","v":"28556301"},{"$f":"CONCATENATE(VLOOKUP(B574,'School List'!$B$3:$D$291,3,FALSE),H574)","v":"Grant County - MISSISSINEWA COMMUNITY SCHOOL CORP6301"},{"$f":"IF('Line 1 Source'!B574<>\"\",'Line 1 Source'!B574,\"\")","v":"27"},{"$f":"IF('Line 1 Source'!C574<>\"\",'Line 1 Source'!C574,\"\")","v":"4"},{"$f":"IF('Line 1 Source'!D574<>\"\",'Line 1 Source'!D574,\"\")","v":"2855"},{"$f":"IF('Line 1 Source'!E574<>\"\",'Line 1 Source'!E574,\"\")","v":"6301"},{"$f":"IF('Line 1 Source'!F574<>\"\",'Line 1 Source'!F574,\"\")","v":678427}]
[{"$f":"IF('Line 1 Source'!A575<>\"\",'Line 1 Source'!A575,\"\")","v":"2018"},"2742855",{"$f":"CONCATENATE(VLOOKUP(B575,'School List'!$B$3:$H$291,6,FALSE),H575)","v":"28556302"},{"$f":"CONCATENATE(VLOOKUP(B575,'School List'!$B$3:$D$291,3,FALSE),H575)","v":"Grant County - MISSISSINEWA COMMUNITY SCHOOL CORP6302"},{"$f":"IF('Line 1 Source'!B575<>\"\",'Line 1 Source'!B575,\"\")","v":"27"},{"$f":"IF('Line 1 Source'!C575<>\"\",'Line 1 Source'!C575,\"\")","v":"4"},{"$f":"IF('Line 1 Source'!D575<>\"\",'Line 1 Source'!D575,\"\")","v":"2855"},{"$f":"IF('Line 1 Source'!E575<>\"\",'Line 1 Source'!E575,\"\")","v":"6302"},{"$f":"IF('Line 1 Source'!F575<>\"\",'Line 1 Source'!F575,\"\")","v":210000}]
[{"$f":"IF('Line 1 Source'!A576<>\"\",'Line 1 Source'!A576,\"\")","v":"2018"},"2742865",{"$f":"CONCATENATE(VLOOKUP(B576,'School List'!$B$3:$H$291,6,FALSE),H576)","v":"28650101"},{"$f":"CONCATENATE(VLOOKUP(B576,'School List'!$B$3:$D$291,3,FALSE),H576)","v":"Grant County - MARION COMMUNITY SCHOOL CORPORATION0101"},{"$f":"IF('Line 1 Source'!B576<>\"\",'Line 1 Source'!B576,\"\")","v":"27"},{"$f":"IF('Line 1 Source'!C576<>\"\",'Line 1 Source'!C576,\"\")","v":"4"},{"$f":"IF('Line 1 Source'!D576<>\"\",'Line 1 Source'!D576,\"\")","v":"2865"},{"$f":"IF('Line 1 Source'!E576<>\"\",'Line 1 Source'!E576,\"\")","v":"0101"},{"$f":"IF('Line 1 Source'!F576<>\"\",'Line 1 Source'!F576,\"\")","v":27822849}]
[{"$f":"IF('Line 1 Source'!A577<>\"\",'Line 1 Source'!A577,\"\")","v":"2018"},"2742865",{"$f":"CONCATENATE(VLOOKUP(B577,'School List'!$B$3:$H$291,6,FALSE),H577)","v":"28650180"},{"$f":"CONCATENATE(VLOOKUP(B577,'School List'!$B$3:$D$291,3,FALSE),H577)","v":"Grant County - MARION COMMUNITY SCHOOL CORPORATION0180"},{"$f":"IF('Line 1 Source'!B577<>\"\",'Line 1 Source'!B577,\"\")","v":"27"},{"$f":"IF('Line 1 Source'!C577<>\"\",'Line 1 Source'!C577,\"\")","v":"4"},{"$f":"IF('Line 1 Source'!D577<>\"\",'Line 1 Source'!D577,\"\")","v":"2865"},{"$f":"IF('Line 1 Source'!E577<>\"\",'Line 1 Source'!E577,\"\")","v":"0180"},{"$f":"IF('Line 1 Source'!F577<>\"\",'Line 1 Source'!F577,\"\")","v":1647558}]
[{"$f":"IF('Line 1 Source'!A578<>\"\",'Line 1 Source'!A578,\"\")","v":"2018"},"2742865",{"$f":"CONCATENATE(VLOOKUP(B578,'School List'!$B$3:$H$291,6,FALSE),H578)","v":"28650186"},{"$f":"CONCATENATE(VLOOKUP(B578,'School List'!$B$3:$D$291,3,FALSE),H578)","v":"Grant County - MARION COMMUNITY SCHOOL CORPORATION0186"},{"$f":"IF('Line 1 Source'!B578<>\"\",'Line 1 Source'!B578,\"\")","v":"27"},{"$f":"IF('Line 1 Source'!C578<>\"\",'Line 1 Source'!C578,\"\")","v":"4"},{"$f":"IF('Line 1 Source'!D578<>\"\",'Line 1 Source'!D578,\"\")","v":"2865"},{"$f":"IF('Line 1 Source'!E578<>\"\",'Line 1 Source'!E578,\"\")","v":"0186"},{"$f":"IF('Line 1 Source'!F578<>\"\",'Line 1 Source'!F578,\"\")","v":1283650}]
[{"$f":"IF('Line 1 Source'!A579<>\"\",'Line 1 Source'!A579,\"\")","v":"2018"},{"$f":"CONCATENATE(E579,F579,G579)","v":"2742865"},{"$f":"CONCATENATE(VLOOKUP(B579,'School List'!$B$3:$H$291,6,FALSE),H579)","v":"28651214"},{"$f":"CONCATENATE(VLOOKUP(B579,'School List'!$B$3:$D$291,3,FALSE),H579)","v":"Grant County - MARION COMMUNITY SCHOOL CORPORATION1214"},{"$f":"IF('Line 1 Source'!B579<>\"\",'Line 1 Source'!B579,\"\")","v":"27"},{"$f":"IF('Line 1 Source'!C579<>\"\",'Line 1 Source'!C579,\"\")","v":"4"},{"$f":"IF('Line 1 Source'!D579<>\"\",'Line 1 Source'!D579,\"\")","v":"2865"},{"$f":"IF('Line 1 Source'!E579<>\"\",'Line 1 Source'!E579,\"\")","v":"1214"},{"$f":"IF('Line 1 Source'!F579<>\"\",'Line 1 Source'!F579,\"\")","v":3516149}]
[{"$f":"IF('Line 1 Source'!A580<>\"\",'Line 1 Source'!A580,\"\")","v":"2018"},"2742865",{"$f":"CONCATENATE(VLOOKUP(B580,'School List'!$B$3:$H$291,6,FALSE),H580)","v":"28656301"},{"$f":"CONCATENATE(VLOOKUP(B580,'School List'!$B$3:$D$291,3,FALSE),H580)","v":"Grant County - MARION COMMUNITY SCHOOL CORPORATION6301"},{"$f":"IF('Line 1 Source'!B580<>\"\",'Line 1 Source'!B580,\"\")","v":"27"},{"$f":"IF('Line 1 Source'!C580<>\"\",'Line 1 Source'!C580,\"\")","v":"4"},{"$f":"IF('Line 1 Source'!D580<>\"\",'Line 1 Source'!D580,\"\")","v":"2865"},{"$f":"IF('Line 1 Source'!E580<>\"\",'Line 1 Source'!E580,\"\")","v":"6301"},{"$f":"IF('Line 1 Source'!F580<>\"\",'Line 1 Source'!F580,\"\")","v":2434040}]
[{"$f":"IF('Line 1 Source'!A581<>\"\",'Line 1 Source'!A581,\"\")","v":"2018"},"2742865",{"$f":"CONCATENATE(VLOOKUP(B581,'School List'!$B$3:$H$291,6,FALSE),H581)","v":"28656302"},{"$f":"CONCATENATE(VLOOKUP(B581,'School List'!$B$3:$D$291,3,FALSE),H581)","v":"Grant County - MARION COMMUNITY SCHOOL CORPORATION6302"},{"$f":"IF('Line 1 Source'!B581<>\"\",'Line 1 Source'!B581,\"\")","v":"27"},{"$f":"IF('Line 1 Source'!C581<>\"\",'Line 1 Source'!C581,\"\")","v":"4"},{"$f":"IF('Line 1 Source'!D581<>\"\",'Line 1 Source'!D581,\"\")","v":"2865"},{"$f":"IF('Line 1 Source'!E581<>\"\",'Line 1 Source'!E581,\"\")","v":"6302"},{"$f":"IF('Line 1 Source'!F581<>\"\",'Line 1 Source'!F581,\"\")","v":472155}]
[{"$f":"IF('Line 1 Source'!A582<>\"\",'Line 1 Source'!A582,\"\")","v":"2018"},"2745625",{"$f":"CONCATENATE(VLOOKUP(B582,'School List'!$B$3:$H$291,6,FALSE),H582)","v":"56250061"},{"$f":"CONCATENATE(VLOOKUP(B582,'School List'!$B$3:$D$291,3,FALSE),H582)","v":"Grant County - OAK HILL UNITED SCHOOL CORPORATION0061"},{"$f":"IF('Line 1 Source'!B582<>\"\",'Line 1 Source'!B582,\"\")","v":"27"},{"$f":"IF('Line 1 Source'!C582<>\"\",'Line 1 Source'!C582,\"\")","v":"4"},{"$f":"IF('Line 1 Source'!D582<>\"\",'Line 1 Source'!D582,\"\")","v":"5625"},{"$f":"IF('Line 1 Source'!E582<>\"\",'Line 1 Source'!E582,\"\")","v":"0061"},{"$f":"IF('Line 1 Source'!F582<>\"\",'Line 1 Source'!F582,\"\")","v":20002}]
[{"$f":"IF('Line 1 Source'!A583<>\"\",'Line 1 Source'!A583,\"\")","v":"2018"},"2745625",{"$f":"CONCATENATE(VLOOKUP(B583,'School List'!$B$3:$H$291,6,FALSE),H583)","v":"56250101"},{"$f":"CONCATENATE(VLOOKUP(B583,'School List'!$B$3:$D$291,3,FALSE),H583)","v":"Grant County - OAK HILL UNITED SCHOOL CORPORATION0101"},{"$f":"IF('Line 1 Source'!B583<>\"\",'Line 1 Source'!B583,\"\")","v":"27"},{"$f":"IF('Line 1 Source'!C583<>\"\",'Line 1 Source'!C583,\"\")","v":"4"},{"$f":"IF('Line 1 Source'!D583<>\"\",'Line 1 Source'!D583,\"\")","v":"5625"},{"$f":"IF('Line 1 Source'!E583<>\"\",'Line 1 Source'!E583,\"\")","v":"0101"},{"$f":"IF('Line 1 Source'!F583<>\"\",'Line 1 Source'!F583,\"\")","v":12149150}]
[{"$f":"IF('Line 1 Source'!A584<>\"\",'Line 1 Source'!A584,\"\")","v":"2018"},"2745625",{"$f":"CONCATENATE(VLOOKUP(B584,'School List'!$B$3:$H$291,6,FALSE),H584)","v":"56250180"},{"$f":"CONCATENATE(VLOOKUP(B584,'School List'!$B$3:$D$291,3,FALSE),H584)","v":"Grant County - OAK HILL UNITED SCHOOL CORPORATION0180"},{"$f":"IF('Line 1 Source'!B584<>\"\",'Line 1 Source'!B584,\"\")","v":"27"},{"$f":"IF('Line 1 Source'!C584<>\"\",'Line 1 Source'!C584,\"\")","v":"4"},{"$f":"IF('Line 1 Source'!D584<>\"\",'Line 1 Source'!D584,\"\")","v":"5625"},{"$f":"IF('Line 1 Source'!E584<>\"\",'Line 1 Source'!E584,\"\")","v":"0180"},{"$f":"IF('Line 1 Source'!F584<>\"\",'Line 1 Source'!F584,\"\")","v":3090592}]
[{"$f":"IF('Line 1 Source'!A585<>\"\",'Line 1 Source'!A585,\"\")","v":"2018"},"2745625",{"$f":"CONCATENATE(VLOOKUP(B585,'School List'!$B$3:$H$291,6,FALSE),H585)","v":"56251214"},{"$f":"CONCATENATE(VLOOKUP(B585,'School List'!$B$3:$D$291,3,FALSE),H585)","v":"Grant County - OAK HILL UNITED SCHOOL CORPORATION1214"},{"$f":"IF('Line 1 Source'!B585<>\"\",'Line 1 Source'!B585,\"\")","v":"27"},{"$f":"IF('Line 1 Source'!C585<>\"\",'Line 1 Source'!C585,\"\")","v":"4"},{"$f":"IF('Line 1 Source'!D585<>\"\",'Line 1 Source'!D585,\"\")","v":"5625"},{"$f":"IF('Line 1 Source'!E585<>\"\",'Line 1 Source'!E585,\"\")","v":"1214"},{"$f":"IF('Line 1 Source'!F585<>\"\",'Line 1 Source'!F585,\"\")","v":1076124}]
[{"$f":"IF('Line 1 Source'!A586<>\"\",'Line 1 Source'!A586,\"\")","v":"2018"},"2745625",{"$f":"CONCATENATE(VLOOKUP(B586,'School List'!$B$3:$H$291,6,FALSE),H586)","v":"56256301"},{"$f":"CONCATENATE(VLOOKUP(B586,'School List'!$B$3:$D$291,3,FALSE),H586)","v":"Grant County - OAK HILL UNITED SCHOOL CORPORATION6301"},{"$f":"IF('Line 1 Source'!B586<>\"\",'Line 1 Source'!B586,\"\")","v":"27"},{"$f":"IF('Line 1 Source'!C586<>\"\",'Line 1 Source'!C586,\"\")","v":"4"},{"$f":"IF('Line 1 Source'!D586<>\"\",'Line 1 Source'!D586,\"\")","v":"5625"},{"$f":"IF('Line 1 Source'!E586<>\"\",'Line 1 Source'!E586,\"\")","v":"6301"},{"$f":"IF('Line 1 Source'!F586<>\"\",'Line 1 Source'!F586,\"\")","v":811757}]
[{"$f":"IF('Line 1 Source'!A587<>\"\",'Line 1 Source'!A587,\"\")","v":"2018"},"2745625",{"$f":"CONCATENATE(VLOOKUP(B587,'School List'!$B$3:$H$291,6,FALSE),H587)","v":"56256302"},{"$f":"CONCATENATE(VLOOKUP(B587,'School List'!$B$3:$D$291,3,FALSE),H587)","v":"Grant County - OAK HILL UNITED SCHOOL CORPORATION6302"},{"$f":"IF('Line 1 Source'!B587<>\"\",'Line 1 Source'!B587,\"\")","v":"27"},{"$f":"IF('Line 1 Source'!C587<>\"\",'Line 1 Source'!C587,\"\")","v":"4"},{"$f":"IF('Line 1 Source'!D587<>\"\",'Line 1 Source'!D587,\"\")","v":"5625"},{"$f":"IF('Line 1 Source'!E587<>\"\",'Line 1 Source'!E587,\"\")","v":"6302"},{"$f":"IF('Line 1 Source'!F587<>\"\",'Line 1 Source'!F587,\"\")","v":278000}]
[{"$f":"IF('Line 1 Source'!A588<>\"\",'Line 1 Source'!A588,\"\")","v":"2018"},"2842920",{"$f":"CONCATENATE(VLOOKUP(B588,'School List'!$B$3:$H$291,6,FALSE),H588)","v":"29200101"},{"$f":"CONCATENATE(VLOOKUP(B588,'School List'!$B$3:$D$291,3,FALSE),H588)","v":"Greene County - BLOOMFIELD SCHOOL DISTRICT0101"},{"$f":"IF('Line 1 Source'!B588<>\"\",'Line 1 Source'!B588,\"\")","v":"28"},{"$f":"IF('Line 1 Source'!C588<>\"\",'Line 1 Source'!C588,\"\")","v":"4"},{"$f":"IF('Line 1 Source'!D588<>\"\",'Line 1 Source'!D588,\"\")","v":"2920"},{"$f":"IF('Line 1 Source'!E588<>\"\",'Line 1 Source'!E588,\"\")","v":"0101"},{"$f":"IF('Line 1 Source'!F588<>\"\",'Line 1 Source'!F588,\"\")","v":6708988}]
[{"$f":"IF('Line 1 Source'!A589<>\"\",'Line 1 Source'!A589,\"\")","v":"2018"},"2842920",{"$f":"CONCATENATE(VLOOKUP(B589,'School List'!$B$3:$H$291,6,FALSE),H589)","v":"29200180"},{"$f":"CONCATENATE(VLOOKUP(B589,'School List'!$B$3:$D$291,3,FALSE),H589)","v":"Greene County - BLOOMFIELD SCHOOL DISTRICT0180"},{"$f":"IF('Line 1 Source'!B589<>\"\",'Line 1 Source'!B589,\"\")","v":"28"},{"$f":"IF('Line 1 Source'!C589<>\"\",'Line 1 Source'!C589,\"\")","v":"4"},{"$f":"IF('Line 1 Source'!D589<>\"\",'Line 1 Source'!D589,\"\")","v":"2920"},{"$f":"IF('Line 1 Source'!E589<>\"\",'Line 1 Source'!E589,\"\")","v":"0180"},{"$f":"IF('Line 1 Source'!F589<>\"\",'Line 1 Source'!F589,\"\")","v":820000}]
[{"$f":"IF('Line 1 Source'!A590<>\"\",'Line 1 Source'!A590,\"\")","v":"2018"},"2842920",{"$f":"CONCATENATE(VLOOKUP(B590,'School List'!$B$3:$H$291,6,FALSE),H590)","v":"29200186"},{"$f":"CONCATENATE(VLOOKUP(B590,'School List'!$B$3:$D$291,3,FALSE),H590)","v":"Greene County - BLOOMFIELD SCHOOL DISTRICT0186"},{"$f":"IF('Line 1 Source'!B590<>\"\",'Line 1 Source'!B590,\"\")","v":"28"},{"$f":"IF('Line 1 Source'!C590<>\"\",'Line 1 Source'!C590,\"\")","v":"4"},{"$f":"IF('Line 1 Source'!D590<>\"\",'Line 1 Source'!D590,\"\")","v":"2920"},{"$f":"IF('Line 1 Source'!E590<>\"\",'Line 1 Source'!E590,\"\")","v":"0186"},{"$f":"IF('Line 1 Source'!F590<>\"\",'Line 1 Source'!F590,\"\")","v":231395}]
[{"$f":"IF('Line 1 Source'!A591<>\"\",'Line 1 Source'!A591,\"\")","v":"2018"},"2842920",{"$f":"CONCATENATE(VLOOKUP(B591,'School List'!$B$3:$H$291,6,FALSE),H591)","v":"29201214"},{"$f":"CONCATENATE(VLOOKUP(B591,'School List'!$B$3:$D$291,3,FALSE),H591)","v":"Greene County - BLOOMFIELD SCHOOL DISTRICT1214"},{"$f":"IF('Line 1 Source'!B591<>\"\",'Line 1 Source'!B591,\"\")","v":"28"},{"$f":"IF('Line 1 Source'!C591<>\"\",'Line 1 Source'!C591,\"\")","v":"4"},{"$f":"IF('Line 1 Source'!D591<>\"\",'Line 1 Source'!D591,\"\")","v":"2920"},{"$f":"IF('Line 1 Source'!E591<>\"\",'Line 1 Source'!E591,\"\")","v":"1214"},{"$f":"IF('Line 1 Source'!F591<>\"\",'Line 1 Source'!F591,\"\")","v":776261}]
[{"$f":"IF('Line 1 Source'!A592<>\"\",'Line 1 Source'!A592,\"\")","v":"2018"},"2842920",{"$f":"CONCATENATE(VLOOKUP(B592,'School List'!$B$3:$H$291,6,FALSE),H592)","v":"29206301"},{"$f":"CONCATENATE(VLOOKUP(B592,'School List'!$B$3:$D$291,3,FALSE),H592)","v":"Greene County - BLOOMFIELD SCHOOL DISTRICT6301"},{"$f":"IF('Line 1 Source'!B592<>\"\",'Line 1 Source'!B592,\"\")","v":"28"},{"$f":"IF('Line 1 Source'!C592<>\"\",'Line 1 Source'!C592,\"\")","v":"4"},{"$f":"IF('Line 1 Source'!D592<>\"\",'Line 1 Source'!D592,\"\")","v":"2920"},{"$f":"IF('Line 1 Source'!E592<>\"\",'Line 1 Source'!E592,\"\")","v":"6301"},{"$f":"IF('Line 1 Source'!F592<>\"\",'Line 1 Source'!F592,\"\")","v":773464}]
[{"$f":"IF('Line 1 Source'!A593<>\"\",'Line 1 Source'!A593,\"\")","v":"2018"},"2842920",{"$f":"CONCATENATE(VLOOKUP(B593,'School List'!$B$3:$H$291,6,FALSE),H593)","v":"29206302"},{"$f":"CONCATENATE(VLOOKUP(B593,'School List'!$B$3:$D$291,3,FALSE),H593)","v":"Greene County - BLOOMFIELD SCHOOL DISTRICT6302"},{"$f":"IF('Line 1 Source'!B593<>\"\",'Line 1 Source'!B593,\"\")","v":"28"},{"$f":"IF('Line 1 Source'!C593<>\"\",'Line 1 Source'!C593,\"\")","v":"4"},{"$f":"IF('Line 1 Source'!D593<>\"\",'Line 1 Source'!D593,\"\")","v":"2920"},{"$f":"IF('Line 1 Source'!E593<>\"\",'Line 1 Source'!E593,\"\")","v":"6302"},{"$f":"IF('Line 1 Source'!F593<>\"\",'Line 1 Source'!F593,\"\")","v":235688}]
[{"$f":"IF('Line 1 Source'!A594<>\"\",'Line 1 Source'!A594,\"\")","v":"2018"},"2842940",{"$f":"CONCATENATE(VLOOKUP(B594,'School List'!$B$3:$H$291,6,FALSE),H594)","v":"29400061"},{"$f":"CONCATENATE(VLOOKUP(B594,'School List'!$B$3:$D$291,3,FALSE),H594)","v":"Greene County - EASTERN CONSOLIDATED SCHOOL CORPORATION0061"},{"$f":"IF('Line 1 Source'!B594<>\"\",'Line 1 Source'!B594,\"\")","v":"28"},{"$f":"IF('Line 1 Source'!C594<>\"\",'Line 1 Source'!C594,\"\")","v":"4"},{"$f":"IF('Line 1 Source'!D594<>\"\",'Line 1 Source'!D594,\"\")","v":"2940"},{"$f":"IF('Line 1 Source'!E594<>\"\",'Line 1 Source'!E594,\"\")","v":"0061"},{"$f":"IF('Line 1 Source'!F594<>\"\",'Line 1 Source'!F594,\"\")","v":500000}]
[{"$f":"IF('Line 1 Source'!A595<>\"\",'Line 1 Source'!A595,\"\")","v":"2018"},"2842940",{"$f":"CONCATENATE(VLOOKUP(B595,'School List'!$B$3:$H$291,6,FALSE),H595)","v":"29400101"},{"$f":"CONCATENATE(VLOOKUP(B595,'School List'!$B$3:$D$291,3,FALSE),H595)","v":"Greene County - EASTERN CONSOLIDATED SCHOOL CORPORATION0101"},{"$f":"IF('Line 1 Source'!B595<>\"\",'Line 1 Source'!B595,\"\")","v":"28"},{"$f":"IF('Line 1 Source'!C595<>\"\",'Line 1 Source'!C595,\"\")","v":"4"},{"$f":"IF('Line 1 Source'!D595<>\"\",'Line 1 Source'!D595,\"\")","v":"2940"},{"$f":"IF('Line 1 Source'!E595<>\"\",'Line 1 Source'!E595,\"\")","v":"0101"},{"$f":"IF('Line 1 Source'!F595<>\"\",'Line 1 Source'!F595,\"\")","v":8153345}]
[{"$f":"IF('Line 1 Source'!A596<>\"\",'Line 1 Source'!A596,\"\")","v":"2018"},"2842940",{"$f":"CONCATENATE(VLOOKUP(B596,'School List'!$B$3:$H$291,6,FALSE),H596)","v":"29400180"},{"$f":"CONCATENATE(VLOOKUP(B596,'School List'!$B$3:$D$291,3,FALSE),H596)","v":"Greene County - EASTERN CONSOLIDATED SCHOOL CORPORATION0180"},{"$f":"IF('Line 1 Source'!B596<>\"\",'Line 1 Source'!B596,\"\")","v":"28"},{"$f":"IF('Line 1 Source'!C596<>\"\",'Line 1 Source'!C596,\"\")","v":"4"},{"$f":"IF('Line 1 Source'!D596<>\"\",'Line 1 Source'!D596,\"\")","v":"2940"},{"$f":"IF('Line 1 Source'!E596<>\"\",'Line 1 Source'!E596,\"\")","v":"0180"},{"$f":"IF('Line 1 Source'!F596<>\"\",'Line 1 Source'!F596,\"\")","v":1358393}]
[{"$f":"IF('Line 1 Source'!A597<>\"\",'Line 1 Source'!A597,\"\")","v":"2018"},"2842940",{"$f":"CONCATENATE(VLOOKUP(B597,'School List'!$B$3:$H$291,6,FALSE),H597)","v":"29400186"},{"$f":"CONCATENATE(VLOOKUP(B597,'School List'!$B$3:$D$291,3,FALSE),H597)","v":"Greene County - EASTERN CONSOLIDATED SCHOOL CORPORATION0186"},{"$f":"IF('Line 1 Source'!B597<>\"\",'Line 1 Source'!B597,\"\")","v":"28"},{"$f":"IF('Line 1 Source'!C597<>\"\",'Line 1 Source'!C597,\"\")","v":"4"},{"$f":"IF('Line 1 Source'!D597<>\"\",'Line 1 Source'!D597,\"\")","v":"2940"},{"$f":"IF('Line 1 Source'!E597<>\"\",'Line 1 Source'!E597,\"\")","v":"0186"},{"$f":"IF('Line 1 Source'!F597<>\"\",'Line 1 Source'!F597,\"\")","v":196117}]
[{"$f":"IF('Line 1 Source'!A598<>\"\",'Line 1 Source'!A598,\"\")","v":"2018"},"2842940",{"$f":"CONCATENATE(VLOOKUP(B598,'School List'!$B$3:$H$291,6,FALSE),H598)","v":"29401214"},{"$f":"CONCATENATE(VLOOKUP(B598,'School List'!$B$3:$D$291,3,FALSE),H598)","v":"Greene County - EASTERN CONSOLIDATED SCHOOL CORPORATION1214"},{"$f":"IF('Line 1 Source'!B598<>\"\",'Line 1 Source'!B598,\"\")","v":"28"},{"$f":"IF('Line 1 Source'!C598<>\"\",'Line 1 Source'!C598,\"\")","v":"4"},{"$f":"IF('Line 1 Source'!D598<>\"\",'Line 1 Source'!D598,\"\")","v":"2940"},{"$f":"IF('Line 1 Source'!E598<>\"\",'Line 1 Source'!E598,\"\")","v":"1214"},{"$f":"IF('Line 1 Source'!F598<>\"\",'Line 1 Source'!F598,\"\")","v":606595}]
[{"$f":"IF('Line 1 Source'!A599<>\"\",'Line 1 Source'!A599,\"\")","v":"2018"},"2842940",{"$f":"CONCATENATE(VLOOKUP(B599,'School List'!$B$3:$H$291,6,FALSE),H599)","v":"29406301"},{"$f":"CONCATENATE(VLOOKUP(B599,'School List'!$B$3:$D$291,3,FALSE),H599)","v":"Greene County - EASTERN CONSOLIDATED SCHOOL CORPORATION6301"},{"$f":"IF('Line 1 Source'!B599<>\"\",'Line 1 Source'!B599,\"\")","v":"28"},{"$f":"IF('Line 1 Source'!C599<>\"\",'Line 1 Source'!C599,\"\")","v":"4"},{"$f":"IF('Line 1 Source'!D599<>\"\",'Line 1 Source'!D599,\"\")","v":"2940"},{"$f":"IF('Line 1 Source'!E599<>\"\",'Line 1 Source'!E599,\"\")","v":"6301"},{"$f":"IF('Line 1 Source'!F599<>\"\",'Line 1 Source'!F599,\"\")","v":1081855}]
[{"$f":"IF('Line 1 Source'!A600<>\"\",'Line 1 Source'!A600,\"\")","v":"2018"},"2842940",{"$f":"CONCATENATE(VLOOKUP(B600,'School List'!$B$3:$H$291,6,FALSE),H600)","v":"29406302"},{"$f":"CONCATENATE(VLOOKUP(B600,'School List'!$B$3:$D$291,3,FALSE),H600)","v":"Greene County - EASTERN CONSOLIDATED SCHOOL CORPORATION6302"},{"$f":"IF('Line 1 Source'!B600<>\"\",'Line 1 Source'!B600,\"\")","v":"28"},{"$f":"IF('Line 1 Source'!C600<>\"\",'Line 1 Source'!C600,\"\")","v":"4"},{"$f":"IF('Line 1 Source'!D600<>\"\",'Line 1 Source'!D600,\"\")","v":"2940"},{"$f":"IF('Line 1 Source'!E600<>\"\",'Line 1 Source'!E600,\"\")","v":"6302"},{"$f":"IF('Line 1 Source'!F600<>\"\",'Line 1 Source'!F600,\"\")","v":35502}]
[{"$f":"IF('Line 1 Source'!A601<>\"\",'Line 1 Source'!A601,\"\")","v":"2018"},"2842950",{"$f":"CONCATENATE(VLOOKUP(B601,'School List'!$B$3:$H$291,6,FALSE),H601)","v":"29500061"},{"$f":"CONCATENATE(VLOOKUP(B601,'School List'!$B$3:$D$291,3,FALSE),H601)","v":"Greene County - LINTON-STOCKTON SCHOOL CORPORATION0061"},{"$f":"IF('Line 1 Source'!B601<>\"\",'Line 1 Source'!B601,\"\")","v":"28"},{"$f":"IF('Line 1 Source'!C601<>\"\",'Line 1 Source'!C601,\"\")","v":"4"},{"$f":"IF('Line 1 Source'!D601<>\"\",'Line 1 Source'!D601,\"\")","v":"2950"},{"$f":"IF('Line 1 Source'!E601<>\"\",'Line 1 Source'!E601,\"\")","v":"0061"},{"$f":"IF('Line 1 Source'!F601<>\"\",'Line 1 Source'!F601,\"\")","v":100000}]
[{"$f":"IF('Line 1 Source'!A602<>\"\",'Line 1 Source'!A602,\"\")","v":"2018"},"2842950",{"$f":"CONCATENATE(VLOOKUP(B602,'School List'!$B$3:$H$291,6,FALSE),H602)","v":"29500101"},{"$f":"CONCATENATE(VLOOKUP(B602,'School List'!$B$3:$D$291,3,FALSE),H602)","v":"Greene County - LINTON-STOCKTON SCHOOL CORPORATION0101"},{"$f":"IF('Line 1 Source'!B602<>\"\",'Line 1 Source'!B602,\"\")","v":"28"},{"$f":"IF('Line 1 Source'!C602<>\"\",'Line 1 Source'!C602,\"\")","v":"4"},{"$f":"IF('Line 1 Source'!D602<>\"\",'Line 1 Source'!D602,\"\")","v":"2950"},{"$f":"IF('Line 1 Source'!E602<>\"\",'Line 1 Source'!E602,\"\")","v":"0101"},{"$f":"IF('Line 1 Source'!F602<>\"\",'Line 1 Source'!F602,\"\")","v":10879400}]
[{"$f":"IF('Line 1 Source'!A603<>\"\",'Line 1 Source'!A603,\"\")","v":"2018"},"2842950",{"$f":"CONCATENATE(VLOOKUP(B603,'School List'!$B$3:$H$291,6,FALSE),H603)","v":"29500180"},{"$f":"CONCATENATE(VLOOKUP(B603,'School List'!$B$3:$D$291,3,FALSE),H603)","v":"Greene County - LINTON-STOCKTON SCHOOL CORPORATION0180"},{"$f":"IF('Line 1 Source'!B603<>\"\",'Line 1 Source'!B603,\"\")","v":"28"},{"$f":"IF('Line 1 Source'!C603<>\"\",'Line 1 Source'!C603,\"\")","v":"4"},{"$f":"IF('Line 1 Source'!D603<>\"\",'Line 1 Source'!D603,\"\")","v":"2950"},{"$f":"IF('Line 1 Source'!E603<>\"\",'Line 1 Source'!E603,\"\")","v":"0180"},{"$f":"IF('Line 1 Source'!F603<>\"\",'Line 1 Source'!F603,\"\")","v":1749080}]
[{"$f":"IF('Line 1 Source'!A604<>\"\",'Line 1 Source'!A604,\"\")","v":"2018"},"2842950",{"$f":"CONCATENATE(VLOOKUP(B604,'School List'!$B$3:$H$291,6,FALSE),H604)","v":"29500186"},{"$f":"CONCATENATE(VLOOKUP(B604,'School List'!$B$3:$D$291,3,FALSE),H604)","v":"Greene County - LINTON-STOCKTON SCHOOL CORPORATION0186"},{"$f":"IF('Line 1 Source'!B604<>\"\",'Line 1 Source'!B604,\"\")","v":"28"},{"$f":"IF('Line 1 Source'!C604<>\"\",'Line 1 Source'!C604,\"\")","v":"4"},{"$f":"IF('Line 1 Source'!D604<>\"\",'Line 1 Source'!D604,\"\")","v":"2950"},{"$f":"IF('Line 1 Source'!E604<>\"\",'Line 1 Source'!E604,\"\")","v":"0186"},{"$f":"IF('Line 1 Source'!F604<>\"\",'Line 1 Source'!F604,\"\")","v":248075}]
[{"$f":"IF('Line 1 Source'!A605<>\"\",'Line 1 Source'!A605,\"\")","v":"2018"},"2842950",{"$f":"CONCATENATE(VLOOKUP(B605,'School List'!$B$3:$H$291,6,FALSE),H605)","v":"29501214"},{"$f":"CONCATENATE(VLOOKUP(B605,'School List'!$B$3:$D$291,3,FALSE),H605)","v":"Greene County - LINTON-STOCKTON SCHOOL CORPORATION1214"},{"$f":"IF('Line 1 Source'!B605<>\"\",'Line 1 Source'!B605,\"\")","v":"28"},{"$f":"IF('Line 1 Source'!C605<>\"\",'Line 1 Source'!C605,\"\")","v":"4"},{"$f":"IF('Line 1 Source'!D605<>\"\",'Line 1 Source'!D605,\"\")","v":"2950"},{"$f":"IF('Line 1 Source'!E605<>\"\",'Line 1 Source'!E605,\"\")","v":"1214"},{"$f":"IF('Line 1 Source'!F605<>\"\",'Line 1 Source'!F605,\"\")","v":1140428}]
[{"$f":"IF('Line 1 Source'!A606<>\"\",'Line 1 Source'!A606,\"\")","v":"2018"},"2842950",{"$f":"CONCATENATE(VLOOKUP(B606,'School List'!$B$3:$H$291,6,FALSE),H606)","v":"29506301"},{"$f":"CONCATENATE(VLOOKUP(B606,'School List'!$B$3:$D$291,3,FALSE),H606)","v":"Greene County - LINTON-STOCKTON SCHOOL CORPORATION6301"},{"$f":"IF('Line 1 Source'!B606<>\"\",'Line 1 Source'!B606,\"\")","v":"28"},{"$f":"IF('Line 1 Source'!C606<>\"\",'Line 1 Source'!C606,\"\")","v":"4"},{"$f":"IF('Line 1 Source'!D606<>\"\",'Line 1 Source'!D606,\"\")","v":"2950"},{"$f":"IF('Line 1 Source'!E606<>\"\",'Line 1 Source'!E606,\"\")","v":"6301"},{"$f":"IF('Line 1 Source'!F606<>\"\",'Line 1 Source'!F606,\"\")","v":509035}]
[{"$f":"IF('Line 1 Source'!A607<>\"\",'Line 1 Source'!A607,\"\")","v":"2018"},"2842950",{"$f":"CONCATENATE(VLOOKUP(B607,'School List'!$B$3:$H$291,6,FALSE),H607)","v":"29506302"},{"$f":"CONCATENATE(VLOOKUP(B607,'School List'!$B$3:$D$291,3,FALSE),H607)","v":"Greene County - LINTON-STOCKTON SCHOOL CORPORATION6302"},{"$f":"IF('Line 1 Source'!B607<>\"\",'Line 1 Source'!B607,\"\")","v":"28"},{"$f":"IF('Line 1 Source'!C607<>\"\",'Line 1 Source'!C607,\"\")","v":"4"},{"$f":"IF('Line 1 Source'!D607<>\"\",'Line 1 Source'!D607,\"\")","v":"2950"},{"$f":"IF('Line 1 Source'!E607<>\"\",'Line 1 Source'!E607,\"\")","v":"6302"},{"$f":"IF('Line 1 Source'!F607<>\"\",'Line 1 Source'!F607,\"\")","v":150474}]
[{"$f":"IF('Line 1 Source'!A608<>\"\",'Line 1 Source'!A608,\"\")","v":"2018"},"2842960",{"$f":"CONCATENATE(VLOOKUP(B608,'School List'!$B$3:$H$291,6,FALSE),H608)","v":{"$error":"#N/A"}},{"$f":"CONCATENATE(VLOOKUP(B608,'School List'!$B$3:$D$291,3,FALSE),H608)","v":{"$error":"#N/A"}},{"$f":"IF('Line 1 Source'!B608<>\"\",'Line 1 Source'!B608,\"\")","v":"28"},{"$f":"IF('Line 1 Source'!C608<>\"\",'Line 1 Source'!C608,\"\")","v":"4"},{"$f":"IF('Line 1 Source'!D608<>\"\",'Line 1 Source'!D608,\"\")","v":"2960"},{"$f":"IF('Line 1 Source'!E608<>\"\",'Line 1 Source'!E608,\"\")","v":"0101"},{"$f":"IF('Line 1 Source'!F608<>\"\",'Line 1 Source'!F608,\"\")","v":0}]
[{"$f":"IF('Line 1 Source'!A609<>\"\",'Line 1 Source'!A609,\"\")","v":"2018"},"2842960",{"$f":"CONCATENATE(VLOOKUP(B609,'School List'!$B$3:$H$291,6,FALSE),H609)","v":{"$error":"#N/A"}},{"$f":"CONCATENATE(VLOOKUP(B609,'School List'!$B$3:$D$291,3,FALSE),H609)","v":{"$error":"#N/A"}},{"$f":"IF('Line 1 Source'!B609<>\"\",'Line 1 Source'!B609,\"\")","v":"28"},{"$f":"IF('Line 1 Source'!C609<>\"\",'Line 1 Source'!C609,\"\")","v":"4"},{"$f":"IF('Line 1 Source'!D609<>\"\",'Line 1 Source'!D609,\"\")","v":"2960"},{"$f":"IF('Line 1 Source'!E609<>\"\",'Line 1 Source'!E609,\"\")","v":"0180"},{"$f":"IF('Line 1 Source'!F609<>\"\",'Line 1 Source'!F609,\"\")","v":0}]
[{"$f":"IF('Line 1 Source'!A610<>\"\",'Line 1 Source'!A610,\"\")","v":"2018"},"2842960",{"$f":"CONCATENATE(VLOOKUP(B610,'School List'!$B$3:$H$291,6,FALSE),H610)","v":{"$error":"#N/A"}},{"$f":"CONCATENATE(VLOOKUP(B610,'School List'!$B$3:$D$291,3,FALSE),H610)","v":{"$error":"#N/A"}},{"$f":"IF('Line 1 Source'!B610<>\"\",'Line 1 Source'!B610,\"\")","v":"28"},{"$f":"IF('Line 1 Source'!C610<>\"\",'Line 1 Source'!C610,\"\")","v":"4"},{"$f":"IF('Line 1 Source'!D610<>\"\",'Line 1 Source'!D610,\"\")","v":"2960"},{"$f":"IF('Line 1 Source'!E610<>\"\",'Line 1 Source'!E610,\"\")","v":"0186"},{"$f":"IF('Line 1 Source'!F610<>\"\",'Line 1 Source'!F610,\"\")","v":0}]
[{"$f":"IF('Line 1 Source'!A611<>\"\",'Line 1 Source'!A611,\"\")","v":"2018"},"2842960",{"$f":"CONCATENATE(VLOOKUP(B611,'School List'!$B$3:$H$291,6,FALSE),H611)","v":{"$error":"#N/A"}},{"$f":"CONCATENATE(VLOOKUP(B611,'School List'!$B$3:$D$291,3,FALSE),H611)","v":{"$error":"#N/A"}},{"$f":"IF('Line 1 Source'!B611<>\"\",'Line 1 Source'!B611,\"\")","v":"28"},{"$f":"IF('Line 1 Source'!C611<>\"\",'Line 1 Source'!C611,\"\")","v":"4"},{"$f":"IF('Line 1 Source'!D611<>\"\",'Line 1 Source'!D611,\"\")","v":"2960"},{"$f":"IF('Line 1 Source'!E611<>\"\",'Line 1 Source'!E611,\"\")","v":"1214"},{"$f":"IF('Line 1 Source'!F611<>\"\",'Line 1 Source'!F611,\"\")","v":0}]
[{"$f":"IF('Line 1 Source'!A612<>\"\",'Line 1 Source'!A612,\"\")","v":"2018"},"2842960",{"$f":"CONCATENATE(VLOOKUP(B612,'School List'!$B$3:$H$291,6,FALSE),H612)","v":{"$error":"#N/A"}},{"$f":"CONCATENATE(VLOOKUP(B612,'School List'!$B$3:$D$291,3,FALSE),H612)","v":{"$error":"#N/A"}},{"$f":"IF('Line 1 Source'!B612<>\"\",'Line 1 Source'!B612,\"\")","v":"28"},{"$f":"IF('Line 1 Source'!C612<>\"\",'Line 1 Source'!C612,\"\")","v":"4"},{"$f":"IF('Line 1 Source'!D612<>\"\",'Line 1 Source'!D612,\"\")","v":"2960"},{"$f":"IF('Line 1 Source'!E612<>\"\",'Line 1 Source'!E612,\"\")","v":"6301"},{"$f":"IF('Line 1 Source'!F612<>\"\",'Line 1 Source'!F612,\"\")","v":0}]
[{"$f":"IF('Line 1 Source'!A613<>\"\",'Line 1 Source'!A613,\"\")","v":"2018"},"2842960",{"$f":"CONCATENATE(VLOOKUP(B613,'School List'!$B$3:$H$291,6,FALSE),H613)","v":{"$error":"#N/A"}},{"$f":"CONCATENATE(VLOOKUP(B613,'School List'!$B$3:$D$291,3,FALSE),H613)","v":{"$error":"#N/A"}},{"$f":"IF('Line 1 Source'!B613<>\"\",'Line 1 Source'!B613,\"\")","v":"28"},{"$f":"IF('Line 1 Source'!C613<>\"\",'Line 1 Source'!C613,\"\")","v":"4"},{"$f":"IF('Line 1 Source'!D613<>\"\",'Line 1 Source'!D613,\"\")","v":"2960"},{"$f":"IF('Line 1 Source'!E613<>\"\",'Line 1 Source'!E613,\"\")","v":"6302"},{"$f":"IF('Line 1 Source'!F613<>\"\",'Line 1 Source'!F613,\"\")","v":0}]
[{"$f":"IF('Line 1 Source'!A614<>\"\",'Line 1 Source'!A614,\"\")","v":"2018"},"2842980",{"$f":"CONCATENATE(VLOOKUP(B614,'School List'!$B$3:$H$291,6,FALSE),H614)","v":"29800022"},{"$f":"CONCATENATE(VLOOKUP(B614,'School List'!$B$3:$D$291,3,FALSE),H614)","v":"Greene County - WHITE RIVER VALLEY CONS SCHOOL CORP0022"},{"$f":"IF('Line 1 Source'!B614<>\"\",'Line 1 Source'!B614,\"\")","v":"28"},{"$f":"IF('Line 1 Source'!C614<>\"\",'Line 1 Source'!C614,\"\")","v":"4"},{"$f":"IF('Line 1 Source'!D614<>\"\",'Line 1 Source'!D614,\"\")","v":"2980"},{"$f":"IF('Line 1 Source'!E614<>\"\",'Line 1 Source'!E614,\"\")","v":"0022"},{"$f":"IF('Line 1 Source'!F614<>\"\",'Line 1 Source'!F614,\"\")","v":1900000}]
[{"$f":"IF('Line 1 Source'!A615<>\"\",'Line 1 Source'!A615,\"\")","v":"2018"},"2842980",{"$f":"CONCATENATE(VLOOKUP(B615,'School List'!$B$3:$H$291,6,FALSE),H615)","v":"29800061"},{"$f":"CONCATENATE(VLOOKUP(B615,'School List'!$B$3:$D$291,3,FALSE),H615)","v":"Greene County - WHITE RIVER VALLEY CONS SCHOOL CORP0061"},{"$f":"IF('Line 1 Source'!B615<>\"\",'Line 1 Source'!B615,\"\")","v":"28"},{"$f":"IF('Line 1 Source'!C615<>\"\",'Line 1 Source'!C615,\"\")","v":"4"},{"$f":"IF('Line 1 Source'!D615<>\"\",'Line 1 Source'!D615,\"\")","v":"2980"},{"$f":"IF('Line 1 Source'!E615<>\"\",'Line 1 Source'!E615,\"\")","v":"0061"},{"$f":"IF('Line 1 Source'!F615<>\"\",'Line 1 Source'!F615,\"\")","v":500000}]
[{"$f":"IF('Line 1 Source'!A616<>\"\",'Line 1 Source'!A616,\"\")","v":"2018"},"2842980",{"$f":"CONCATENATE(VLOOKUP(B616,'School List'!$B$3:$H$291,6,FALSE),H616)","v":"29800101"},{"$f":"CONCATENATE(VLOOKUP(B616,'School List'!$B$3:$D$291,3,FALSE),H616)","v":"Greene County - WHITE RIVER VALLEY CONS SCHOOL CORP0101"},{"$f":"IF('Line 1 Source'!B616<>\"\",'Line 1 Source'!B616,\"\")","v":"28"},{"$f":"IF('Line 1 Source'!C616<>\"\",'Line 1 Source'!C616,\"\")","v":"4"},{"$f":"IF('Line 1 Source'!D616<>\"\",'Line 1 Source'!D616,\"\")","v":"2980"},{"$f":"IF('Line 1 Source'!E616<>\"\",'Line 1 Source'!E616,\"\")","v":"0101"},{"$f":"IF('Line 1 Source'!F616<>\"\",'Line 1 Source'!F616,\"\")","v":5100000}]
[{"$f":"IF('Line 1 Source'!A617<>\"\",'Line 1 Source'!A617,\"\")","v":"2018"},"2842980",{"$f":"CONCATENATE(VLOOKUP(B617,'School List'!$B$3:$H$291,6,FALSE),H617)","v":"29800180"},{"$f":"CONCATENATE(VLOOKUP(B617,'School List'!$B$3:$D$291,3,FALSE),H617)","v":"Greene County - WHITE RIVER VALLEY CONS SCHOOL CORP0180"},{"$f":"IF('Line 1 Source'!B617<>\"\",'Line 1 Source'!B617,\"\")","v":"28"},{"$f":"IF('Line 1 Source'!C617<>\"\",'Line 1 Source'!C617,\"\")","v":"4"},{"$f":"IF('Line 1 Source'!D617<>\"\",'Line 1 Source'!D617,\"\")","v":"2980"},{"$f":"IF('Line 1 Source'!E617<>\"\",'Line 1 Source'!E617,\"\")","v":"0180"},{"$f":"IF('Line 1 Source'!F617<>\"\",'Line 1 Source'!F617,\"\")","v":278202}]
[{"$f":"IF('Line 1 Source'!A618<>\"\",'Line 1 Source'!A618,\"\")","v":"2018"},"2842980",{"$f":"CONCATENATE(VLOOKUP(B618,'School List'!$B$3:$H$291,6,FALSE),H618)","v":"29800186"},{"$f":"CONCATENATE(VLOOKUP(B618,'School List'!$B$3:$D$291,3,FALSE),H618)","v":"Greene County - WHITE RIVER VALLEY CONS SCHOOL CORP0186"},{"$f":"IF('Line 1 Source'!B618<>\"\",'Line 1 Source'!B618,\"\")","v":"28"},{"$f":"IF('Line 1 Source'!C618<>\"\",'Line 1 Source'!C618,\"\")","v":"4"},{"$f":"IF('Line 1 Source'!D618<>\"\",'Line 1 Source'!D618,\"\")","v":"2980"},{"$f":"IF('Line 1 Source'!E618<>\"\",'Line 1 Source'!E618,\"\")","v":"0186"},{"$f":"IF('Line 1 Source'!F618<>\"\",'Line 1 Source'!F618,\"\")","v":279108}]
[{"$f":"IF('Line 1 Source'!A619<>\"\",'Line 1 Source'!A619,\"\")","v":"2018"},"2842980",{"$f":"CONCATENATE(VLOOKUP(B619,'School List'!$B$3:$H$291,6,FALSE),H619)","v":"29801214"},{"$f":"CONCATENATE(VLOOKUP(B619,'School List'!$B$3:$D$291,3,FALSE),H619)","v":"Greene County - WHITE RIVER VALLEY CONS SCHOOL CORP1214"},{"$f":"IF('Line 1 Source'!B619<>\"\",'Line 1 Source'!B619,\"\")","v":"28"},{"$f":"IF('Line 1 Source'!C619<>\"\",'Line 1 Source'!C619,\"\")","v":"4"},{"$f":"IF('Line 1 Source'!D619<>\"\",'Line 1 Source'!D619,\"\")","v":"2980"},{"$f":"IF('Line 1 Source'!E619<>\"\",'Line 1 Source'!E619,\"\")","v":"1214"},{"$f":"IF('Line 1 Source'!F619<>\"\",'Line 1 Source'!F619,\"\")","v":952953}]
[{"$f":"IF('Line 1 Source'!A620<>\"\",'Line 1 Source'!A620,\"\")","v":"2018"},"2842980",{"$f":"CONCATENATE(VLOOKUP(B620,'School List'!$B$3:$H$291,6,FALSE),H620)","v":"29806301"},{"$f":"CONCATENATE(VLOOKUP(B620,'School List'!$B$3:$D$291,3,FALSE),H620)","v":"Greene County - WHITE RIVER VALLEY CONS SCHOOL CORP6301"},{"$f":"IF('Line 1 Source'!B620<>\"\",'Line 1 Source'!B620,\"\")","v":"28"},{"$f":"IF('Line 1 Source'!C620<>\"\",'Line 1 Source'!C620,\"\")","v":"4"},{"$f":"IF('Line 1 Source'!D620<>\"\",'Line 1 Source'!D620,\"\")","v":"2980"},{"$f":"IF('Line 1 Source'!E620<>\"\",'Line 1 Source'!E620,\"\")","v":"6301"},{"$f":"IF('Line 1 Source'!F620<>\"\",'Line 1 Source'!F620,\"\")","v":855961}]
[{"$f":"IF('Line 1 Source'!A621<>\"\",'Line 1 Source'!A621,\"\")","v":"2018"},"2842980",{"$f":"CONCATENATE(VLOOKUP(B621,'School List'!$B$3:$H$291,6,FALSE),H621)","v":"29806302"},{"$f":"CONCATENATE(VLOOKUP(B621,'School List'!$B$3:$D$291,3,FALSE),H621)","v":"Greene County - WHITE RIVER VALLEY CONS SCHOOL CORP6302"},{"$f":"IF('Line 1 Source'!B621<>\"\",'Line 1 Source'!B621,\"\")","v":"28"},{"$f":"IF('Line 1 Source'!C621<>\"\",'Line 1 Source'!C621,\"\")","v":"4"},{"$f":"IF('Line 1 Source'!D621<>\"\",'Line 1 Source'!D621,\"\")","v":"2980"},{"$f":"IF('Line 1 Source'!E621<>\"\",'Line 1 Source'!E621,\"\")","v":"6302"},{"$f":"IF('Line 1 Source'!F621<>\"\",'Line 1 Source'!F621,\"\")","v":0}]
[{"$f":"IF('Line 1 Source'!A622<>\"\",'Line 1 Source'!A622,\"\")","v":"2018"},"2943005",{"$f":"CONCATENATE(VLOOKUP(B622,'School List'!$B$3:$H$291,6,FALSE),H622)","v":"30050022"},{"$f":"CONCATENATE(VLOOKUP(B622,'School List'!$B$3:$D$291,3,FALSE),H622)","v":"Hamilton County - HAMILTON SOUTHEASTERN SCHOOL CORPORATION0022"},{"$f":"IF('Line 1 Source'!B622<>\"\",'Line 1 Source'!B622,\"\")","v":"29"},{"$f":"IF('Line 1 Source'!C622<>\"\",'Line 1 Source'!C622,\"\")","v":"4"},{"$f":"IF('Line 1 Source'!D622<>\"\",'Line 1 Source'!D622,\"\")","v":"3005"},{"$f":"IF('Line 1 Source'!E622<>\"\",'Line 1 Source'!E622,\"\")","v":"0022"},{"$f":"IF('Line 1 Source'!F622<>\"\",'Line 1 Source'!F622,\"\")","v":18612663}]
[{"$f":"IF('Line 1 Source'!A623<>\"\",'Line 1 Source'!A623,\"\")","v":"2018"},"2943005",{"$f":"CONCATENATE(VLOOKUP(B623,'School List'!$B$3:$H$291,6,FALSE),H623)","v":"30050061"},{"$f":"CONCATENATE(VLOOKUP(B623,'School List'!$B$3:$D$291,3,FALSE),H623)","v":"Hamilton County - HAMILTON SOUTHEASTERN SCHOOL CORPORATION0061"},{"$f":"IF('Line 1 Source'!B623<>\"\",'Line 1 Source'!B623,\"\")","v":"29"},{"$f":"IF('Line 1 Source'!C623<>\"\",'Line 1 Source'!C623,\"\")","v":"4"},{"$f":"IF('Line 1 Source'!D623<>\"\",'Line 1 Source'!D623,\"\")","v":"3005"},{"$f":"IF('Line 1 Source'!E623<>\"\",'Line 1 Source'!E623,\"\")","v":"0061"},{"$f":"IF('Line 1 Source'!F623<>\"\",'Line 1 Source'!F623,\"\")","v":2500000}]
[{"$f":"IF('Line 1 Source'!A624<>\"\",'Line 1 Source'!A624,\"\")","v":"2018"},"2943005",{"$f":"CONCATENATE(VLOOKUP(B624,'School List'!$B$3:$H$291,6,FALSE),H624)","v":"30050101"},{"$f":"CONCATENATE(VLOOKUP(B624,'School List'!$B$3:$D$291,3,FALSE),H624)","v":"Hamilton County - HAMILTON SOUTHEASTERN SCHOOL CORPORATION0101"},{"$f":"IF('Line 1 Source'!B624<>\"\",'Line 1 Source'!B624,\"\")","v":"29"},{"$f":"IF('Line 1 Source'!C624<>\"\",'Line 1 Source'!C624,\"\")","v":"4"},{"$f":"IF('Line 1 Source'!D624<>\"\",'Line 1 Source'!D624,\"\")","v":"3005"},{"$f":"IF('Line 1 Source'!E624<>\"\",'Line 1 Source'!E624,\"\")","v":"0101"},{"$f":"IF('Line 1 Source'!F624<>\"\",'Line 1 Source'!F624,\"\")","v":133411265}]
[{"$f":"IF('Line 1 Source'!A625<>\"\",'Line 1 Source'!A625,\"\")","v":"2018"},"2943005",{"$f":"CONCATENATE(VLOOKUP(B625,'School List'!$B$3:$H$291,6,FALSE),H625)","v":"30050180"},{"$f":"CONCATENATE(VLOOKUP(B625,'School List'!$B$3:$D$291,3,FALSE),H625)","v":"Hamilton County - HAMILTON SOUTHEASTERN SCHOOL CORPORATION0180"},{"$f":"IF('Line 1 Source'!B625<>\"\",'Line 1 Source'!B625,\"\")","v":"29"},{"$f":"IF('Line 1 Source'!C625<>\"\",'Line 1 Source'!C625,\"\")","v":"4"},{"$f":"IF('Line 1 Source'!D625<>\"\",'Line 1 Source'!D625,\"\")","v":"3005"},{"$f":"IF('Line 1 Source'!E625<>\"\",'Line 1 Source'!E625,\"\")","v":"0180"},{"$f":"IF('Line 1 Source'!F625<>\"\",'Line 1 Source'!F625,\"\")","v":36936891}]
[{"$f":"IF('Line 1 Source'!A626<>\"\",'Line 1 Source'!A626,\"\")","v":"2018"},"2943005",{"$f":"CONCATENATE(VLOOKUP(B626,'School List'!$B$3:$H$291,6,FALSE),H626)","v":"30050186"},{"$f":"CONCATENATE(VLOOKUP(B626,'School List'!$B$3:$D$291,3,FALSE),H626)","v":"Hamilton County - HAMILTON SOUTHEASTERN SCHOOL CORPORATION0186"},{"$f":"IF('Line 1 Source'!B626<>\"\",'Line 1 Source'!B626,\"\")","v":"29"},{"$f":"IF('Line 1 Source'!C626<>\"\",'Line 1 Source'!C626,\"\")","v":"4"},{"$f":"IF('Line 1 Source'!D626<>\"\",'Line 1 Source'!D626,\"\")","v":"3005"},{"$f":"IF('Line 1 Source'!E626<>\"\",'Line 1 Source'!E626,\"\")","v":"0186"},{"$f":"IF('Line 1 Source'!F626<>\"\",'Line 1 Source'!F626,\"\")","v":387054}]
[{"$f":"IF('Line 1 Source'!A627<>\"\",'Line 1 Source'!A627,\"\")","v":"2018"},"2943005",{"$f":"CONCATENATE(VLOOKUP(B627,'School List'!$B$3:$H$291,6,FALSE),H627)","v":"30050287"},{"$f":"CONCATENATE(VLOOKUP(B627,'School List'!$B$3:$D$291,3,FALSE),H627)","v":"Hamilton County - HAMILTON SOUTHEASTERN SCHOOL CORPORATION0287"},{"$f":"IF('Line 1 Source'!B627<>\"\",'Line 1 Source'!B627,\"\")","v":"29"},{"$f":"IF('Line 1 Source'!C627<>\"\",'Line 1 Source'!C627,\"\")","v":"4"},{"$f":"IF('Line 1 Source'!D627<>\"\",'Line 1 Source'!D627,\"\")","v":"3005"},{"$f":"IF('Line 1 Source'!E627<>\"\",'Line 1 Source'!E627,\"\")","v":"0287"},{"$f":"IF('Line 1 Source'!F627<>\"\",'Line 1 Source'!F627,\"\")","v":8640000}]
[{"$f":"IF('Line 1 Source'!A628<>\"\",'Line 1 Source'!A628,\"\")","v":"2018"},"2943005",{"$f":"CONCATENATE(VLOOKUP(B628,'School List'!$B$3:$H$291,6,FALSE),H628)","v":"30051214"},{"$f":"CONCATENATE(VLOOKUP(B628,'School List'!$B$3:$D$291,3,FALSE),H628)","v":"Hamilton County - HAMILTON SOUTHEASTERN SCHOOL CORPORATION1214"},{"$f":"IF('Line 1 Source'!B628<>\"\",'Line 1 Source'!B628,\"\")","v":"29"},{"$f":"IF('Line 1 Source'!C628<>\"\",'Line 1 Source'!C628,\"\")","v":"4"},{"$f":"IF('Line 1 Source'!D628<>\"\",'Line 1 Source'!D628,\"\")","v":"3005"},{"$f":"IF('Line 1 Source'!E628<>\"\",'Line 1 Source'!E628,\"\")","v":"1214"},{"$f":"IF('Line 1 Source'!F628<>\"\",'Line 1 Source'!F628,\"\")","v":15535425}]
[{"$f":"IF('Line 1 Source'!A629<>\"\",'Line 1 Source'!A629,\"\")","v":"2018"},"2943005",{"$f":"CONCATENATE(VLOOKUP(B629,'School List'!$B$3:$H$291,6,FALSE),H629)","v":"30056301"},{"$f":"CONCATENATE(VLOOKUP(B629,'School List'!$B$3:$D$291,3,FALSE),H629)","v":"Hamilton County - HAMILTON SOUTHEASTERN SCHOOL CORPORATION6301"},{"$f":"IF('Line 1 Source'!B629<>\"\",'Line 1 Source'!B629,\"\")","v":"29"},{"$f":"IF('Line 1 Source'!C629<>\"\",'Line 1 Source'!C629,\"\")","v":"4"},{"$f":"IF('Line 1 Source'!D629<>\"\",'Line 1 Source'!D629,\"\")","v":"3005"},{"$f":"IF('Line 1 Source'!E629<>\"\",'Line 1 Source'!E629,\"\")","v":"6301"},{"$f":"IF('Line 1 Source'!F629<>\"\",'Line 1 Source'!F629,\"\")","v":13794521}]
[{"$f":"IF('Line 1 Source'!A630<>\"\",'Line 1 Source'!A630,\"\")","v":"2018"},"2943005",{"$f":"CONCATENATE(VLOOKUP(B630,'School List'!$B$3:$H$291,6,FALSE),H630)","v":"30056302"},{"$f":"CONCATENATE(VLOOKUP(B630,'School List'!$B$3:$D$291,3,FALSE),H630)","v":"Hamilton County - HAMILTON SOUTHEASTERN SCHOOL CORPORATION6302"},{"$f":"IF('Line 1 Source'!B630<>\"\",'Line 1 Source'!B630,\"\")","v":"29"},{"$f":"IF('Line 1 Source'!C630<>\"\",'Line 1 Source'!C630,\"\")","v":"4"},{"$f":"IF('Line 1 Source'!D630<>\"\",'Line 1 Source'!D630,\"\")","v":"3005"},{"$f":"IF('Line 1 Source'!E630<>\"\",'Line 1 Source'!E630,\"\")","v":"6302"},{"$f":"IF('Line 1 Source'!F630<>\"\",'Line 1 Source'!F630,\"\")","v":1904083}]
[{"$f":"IF('Line 1 Source'!A631<>\"\",'Line 1 Source'!A631,\"\")","v":"2018"},"2943025",{"$f":"CONCATENATE(VLOOKUP(B631,'School List'!$B$3:$H$291,6,FALSE),H631)","v":"30250061"},{"$f":"CONCATENATE(VLOOKUP(B631,'School List'!$B$3:$D$291,3,FALSE),H631)","v":"Hamilton County - HAMILTON HEIGHTS SCHOOL CORPORATION0061"},{"$f":"IF('Line 1 Source'!B631<>\"\",'Line 1 Source'!B631,\"\")","v":"29"},{"$f":"IF('Line 1 Source'!C631<>\"\",'Line 1 Source'!C631,\"\")","v":"4"},{"$f":"IF('Line 1 Source'!D631<>\"\",'Line 1 Source'!D631,\"\")","v":"3025"},{"$f":"IF('Line 1 Source'!E631<>\"\",'Line 1 Source'!E631,\"\")","v":"0061"},{"$f":"IF('Line 1 Source'!F631<>\"\",'Line 1 Source'!F631,\"\")","v":400000}]
[{"$f":"IF('Line 1 Source'!A632<>\"\",'Line 1 Source'!A632,\"\")","v":"2018"},"2943025",{"$f":"CONCATENATE(VLOOKUP(B632,'School List'!$B$3:$H$291,6,FALSE),H632)","v":"30250101"},{"$f":"CONCATENATE(VLOOKUP(B632,'School List'!$B$3:$D$291,3,FALSE),H632)","v":"Hamilton County - HAMILTON HEIGHTS SCHOOL CORPORATION0101"},{"$f":"IF('Line 1 Source'!B632<>\"\",'Line 1 Source'!B632,\"\")","v":"29"},{"$f":"IF('Line 1 Source'!C632<>\"\",'Line 1 Source'!C632,\"\")","v":"4"},{"$f":"IF('Line 1 Source'!D632<>\"\",'Line 1 Source'!D632,\"\")","v":"3025"},{"$f":"IF('Line 1 Source'!E632<>\"\",'Line 1 Source'!E632,\"\")","v":"0101"},{"$f":"IF('Line 1 Source'!F632<>\"\",'Line 1 Source'!F632,\"\")","v":15250000}]
[{"$f":"IF('Line 1 Source'!A633<>\"\",'Line 1 Source'!A633,\"\")","v":"2018"},"2943025",{"$f":"CONCATENATE(VLOOKUP(B633,'School List'!$B$3:$H$291,6,FALSE),H633)","v":"30250180"},{"$f":"CONCATENATE(VLOOKUP(B633,'School List'!$B$3:$D$291,3,FALSE),H633)","v":"Hamilton County - HAMILTON HEIGHTS SCHOOL CORPORATION0180"},{"$f":"IF('Line 1 Source'!B633<>\"\",'Line 1 Source'!B633,\"\")","v":"29"},{"$f":"IF('Line 1 Source'!C633<>\"\",'Line 1 Source'!C633,\"\")","v":"4"},{"$f":"IF('Line 1 Source'!D633<>\"\",'Line 1 Source'!D633,\"\")","v":"3025"},{"$f":"IF('Line 1 Source'!E633<>\"\",'Line 1 Source'!E633,\"\")","v":"0180"},{"$f":"IF('Line 1 Source'!F633<>\"\",'Line 1 Source'!F633,\"\")","v":6608815}]
[{"$f":"IF('Line 1 Source'!A634<>\"\",'Line 1 Source'!A634,\"\")","v":"2018"},"2943025",{"$f":"CONCATENATE(VLOOKUP(B634,'School List'!$B$3:$H$291,6,FALSE),H634)","v":"30250186"},{"$f":"CONCATENATE(VLOOKUP(B634,'School List'!$B$3:$D$291,3,FALSE),H634)","v":"Hamilton County - HAMILTON HEIGHTS SCHOOL CORPORATION0186"},{"$f":"IF('Line 1 Source'!B634<>\"\",'Line 1 Source'!B634,\"\")","v":"29"},{"$f":"IF('Line 1 Source'!C634<>\"\",'Line 1 Source'!C634,\"\")","v":"4"},{"$f":"IF('Line 1 Source'!D634<>\"\",'Line 1 Source'!D634,\"\")","v":"3025"},{"$f":"IF('Line 1 Source'!E634<>\"\",'Line 1 Source'!E634,\"\")","v":"0186"},{"$f":"IF('Line 1 Source'!F634<>\"\",'Line 1 Source'!F634,\"\")","v":0}]
[{"$f":"IF('Line 1 Source'!A635<>\"\",'Line 1 Source'!A635,\"\")","v":"2018"},"2943025",{"$f":"CONCATENATE(VLOOKUP(B635,'School List'!$B$3:$H$291,6,FALSE),H635)","v":"30251214"},{"$f":"CONCATENATE(VLOOKUP(B635,'School List'!$B$3:$D$291,3,FALSE),H635)","v":"Hamilton County - HAMILTON HEIGHTS SCHOOL CORPORATION1214"},{"$f":"IF('Line 1 Source'!B635<>\"\",'Line 1 Source'!B635,\"\")","v":"29"},{"$f":"IF('Line 1 Source'!C635<>\"\",'Line 1 Source'!C635,\"\")","v":"4"},{"$f":"IF('Line 1 Source'!D635<>\"\",'Line 1 Source'!D635,\"\")","v":"3025"},{"$f":"IF('Line 1 Source'!E635<>\"\",'Line 1 Source'!E635,\"\")","v":"1214"},{"$f":"IF('Line 1 Source'!F635<>\"\",'Line 1 Source'!F635,\"\")","v":2135179}]
[{"$f":"IF('Line 1 Source'!A636<>\"\",'Line 1 Source'!A636,\"\")","v":"2018"},"2943025",{"$f":"CONCATENATE(VLOOKUP(B636,'School List'!$B$3:$H$291,6,FALSE),H636)","v":"30256301"},{"$f":"CONCATENATE(VLOOKUP(B636,'School List'!$B$3:$D$291,3,FALSE),H636)","v":"Hamilton County - HAMILTON HEIGHTS SCHOOL CORPORATION6301"},{"$f":"IF('Line 1 Source'!B636<>\"\",'Line 1 Source'!B636,\"\")","v":"29"},{"$f":"IF('Line 1 Source'!C636<>\"\",'Line 1 Source'!C636,\"\")","v":"4"},{"$f":"IF('Line 1 Source'!D636<>\"\",'Line 1 Source'!D636,\"\")","v":"3025"},{"$f":"IF('Line 1 Source'!E636<>\"\",'Line 1 Source'!E636,\"\")","v":"6301"},{"$f":"IF('Line 1 Source'!F636<>\"\",'Line 1 Source'!F636,\"\")","v":1720000}]
[{"$f":"IF('Line 1 Source'!A637<>\"\",'Line 1 Source'!A637,\"\")","v":"2018"},"2943025",{"$f":"CONCATENATE(VLOOKUP(B637,'School List'!$B$3:$H$291,6,FALSE),H637)","v":"30256302"},{"$f":"CONCATENATE(VLOOKUP(B637,'School List'!$B$3:$D$291,3,FALSE),H637)","v":"Hamilton County - HAMILTON HEIGHTS SCHOOL CORPORATION6302"},{"$f":"IF('Line 1 Source'!B637<>\"\",'Line 1 Source'!B637,\"\")","v":"29"},{"$f":"IF('Line 1 Source'!C637<>\"\",'Line 1 Source'!C637,\"\")","v":"4"},{"$f":"IF('Line 1 Source'!D637<>\"\",'Line 1 Source'!D637,\"\")","v":"3025"},{"$f":"IF('Line 1 Source'!E637<>\"\",'Line 1 Source'!E637,\"\")","v":"6302"},{"$f":"IF('Line 1 Source'!F637<>\"\",'Line 1 Source'!F637,\"\")","v":349575}]
[{"$f":"IF('Line 1 Source'!A638<>\"\",'Line 1 Source'!A638,\"\")","v":"2018"},"2943030",{"$f":"CONCATENATE(VLOOKUP(B638,'School List'!$B$3:$H$291,6,FALSE),H638)","v":"30300022"},{"$f":"CONCATENATE(VLOOKUP(B638,'School List'!$B$3:$D$291,3,FALSE),H638)","v":"Hamilton County - WESTFIELD-WASHINGTON SCHOOL CORPORATION0022"},{"$f":"IF('Line 1 Source'!B638<>\"\",'Line 1 Source'!B638,\"\")","v":"29"},{"$f":"IF('Line 1 Source'!C638<>\"\",'Line 1 Source'!C638,\"\")","v":"4"},{"$f":"IF('Line 1 Source'!D638<>\"\",'Line 1 Source'!D638,\"\")","v":"3030"},{"$f":"IF('Line 1 Source'!E638<>\"\",'Line 1 Source'!E638,\"\")","v":"0022"},{"$f":"IF('Line 1 Source'!F638<>\"\",'Line 1 Source'!F638,\"\")","v":6297875}]
[{"$f":"IF('Line 1 Source'!A639<>\"\",'Line 1 Source'!A639,\"\")","v":"2018"},"2943030",{"$f":"CONCATENATE(VLOOKUP(B639,'School List'!$B$3:$H$291,6,FALSE),H639)","v":"30300061"},{"$f":"CONCATENATE(VLOOKUP(B639,'School List'!$B$3:$D$291,3,FALSE),H639)","v":"Hamilton County - WESTFIELD-WASHINGTON SCHOOL CORPORATION0061"},{"$f":"IF('Line 1 Source'!B639<>\"\",'Line 1 Source'!B639,\"\")","v":"29"},{"$f":"IF('Line 1 Source'!C639<>\"\",'Line 1 Source'!C639,\"\")","v":"4"},{"$f":"IF('Line 1 Source'!D639<>\"\",'Line 1 Source'!D639,\"\")","v":"3030"},{"$f":"IF('Line 1 Source'!E639<>\"\",'Line 1 Source'!E639,\"\")","v":"0061"},{"$f":"IF('Line 1 Source'!F639<>\"\",'Line 1 Source'!F639,\"\")","v":0}]
[{"$f":"IF('Line 1 Source'!A640<>\"\",'Line 1 Source'!A640,\"\")","v":"2018"},"2943030",{"$f":"CONCATENATE(VLOOKUP(B640,'School List'!$B$3:$H$291,6,FALSE),H640)","v":"30300101"},{"$f":"CONCATENATE(VLOOKUP(B640,'School List'!$B$3:$D$291,3,FALSE),H640)","v":"Hamilton County - WESTFIELD-WASHINGTON SCHOOL CORPORATION0101"},{"$f":"IF('Line 1 Source'!B640<>\"\",'Line 1 Source'!B640,\"\")","v":"29"},{"$f":"IF('Line 1 Source'!C640<>\"\",'Line 1 Source'!C640,\"\")","v":"4"},{"$f":"IF('Line 1 Source'!D640<>\"\",'Line 1 Source'!D640,\"\")","v":"3030"},{"$f":"IF('Line 1 Source'!E640<>\"\",'Line 1 Source'!E640,\"\")","v":"0101"},{"$f":"IF('Line 1 Source'!F640<>\"\",'Line 1 Source'!F640,\"\")","v":52000000}]
[{"$f":"IF('Line 1 Source'!A641<>\"\",'Line 1 Source'!A641,\"\")","v":"2018"},"2943030",{"$f":"CONCATENATE(VLOOKUP(B641,'School List'!$B$3:$H$291,6,FALSE),H641)","v":"30300180"},{"$f":"CONCATENATE(VLOOKUP(B641,'School List'!$B$3:$D$291,3,FALSE),H641)","v":"Hamilton County - WESTFIELD-WASHINGTON SCHOOL CORPORATION0180"},{"$f":"IF('Line 1 Source'!B641<>\"\",'Line 1 Source'!B641,\"\")","v":"29"},{"$f":"IF('Line 1 Source'!C641<>\"\",'Line 1 Source'!C641,\"\")","v":"4"},{"$f":"IF('Line 1 Source'!D641<>\"\",'Line 1 Source'!D641,\"\")","v":"3030"},{"$f":"IF('Line 1 Source'!E641<>\"\",'Line 1 Source'!E641,\"\")","v":"0180"},{"$f":"IF('Line 1 Source'!F641<>\"\",'Line 1 Source'!F641,\"\")","v":23555000}]
[{"$f":"IF('Line 1 Source'!A642<>\"\",'Line 1 Source'!A642,\"\")","v":"2018"},"2943030",{"$f":"CONCATENATE(VLOOKUP(B642,'School List'!$B$3:$H$291,6,FALSE),H642)","v":"30300186"},{"$f":"CONCATENATE(VLOOKUP(B642,'School List'!$B$3:$D$291,3,FALSE),H642)","v":"Hamilton County - WESTFIELD-WASHINGTON SCHOOL CORPORATION0186"},{"$f":"IF('Line 1 Source'!B642<>\"\",'Line 1 Source'!B642,\"\")","v":"29"},{"$f":"IF('Line 1 Source'!C642<>\"\",'Line 1 Source'!C642,\"\")","v":"4"},{"$f":"IF('Line 1 Source'!D642<>\"\",'Line 1 Source'!D642,\"\")","v":"3030"},{"$f":"IF('Line 1 Source'!E642<>\"\",'Line 1 Source'!E642,\"\")","v":"0186"},{"$f":"IF('Line 1 Source'!F642<>\"\",'Line 1 Source'!F642,\"\")","v":390945}]
[{"$f":"IF('Line 1 Source'!A643<>\"\",'Line 1 Source'!A643,\"\")","v":"2018"},{"$f":"CONCATENATE(E643,F643,G643)","v":"2943030"},{"$f":"CONCATENATE(VLOOKUP(B643,'School List'!$B$3:$H$291,6,FALSE),H643)","v":"30301214"},{"$f":"CONCATENATE(VLOOKUP(B643,'School List'!$B$3:$D$291,3,FALSE),H643)","v":"Hamilton County - WESTFIELD-WASHINGTON SCHOOL CORPORATION1214"},{"$f":"IF('Line 1 Source'!B643<>\"\",'Line 1 Source'!B643,\"\")","v":"29"},{"$f":"IF('Line 1 Source'!C643<>\"\",'Line 1 Source'!C643,\"\")","v":"4"},{"$f":"IF('Line 1 Source'!D643<>\"\",'Line 1 Source'!D643,\"\")","v":"3030"},{"$f":"IF('Line 1 Source'!E643<>\"\",'Line 1 Source'!E643,\"\")","v":"1214"},{"$f":"IF('Line 1 Source'!F643<>\"\",'Line 1 Source'!F643,\"\")","v":3500959}]
[{"$f":"IF('Line 1 Source'!A644<>\"\",'Line 1 Source'!A644,\"\")","v":"2018"},"2943030",{"$f":"CONCATENATE(VLOOKUP(B644,'School List'!$B$3:$H$291,6,FALSE),H644)","v":"30306301"},{"$f":"CONCATENATE(VLOOKUP(B644,'School List'!$B$3:$D$291,3,FALSE),H644)","v":"Hamilton County - WESTFIELD-WASHINGTON SCHOOL CORPORATION6301"},{"$f":"IF('Line 1 Source'!B644<>\"\",'Line 1 Source'!B644,\"\")","v":"29"},{"$f":"IF('Line 1 Source'!C644<>\"\",'Line 1 Source'!C644,\"\")","v":"4"},{"$f":"IF('Line 1 Source'!D644<>\"\",'Line 1 Source'!D644,\"\")","v":"3030"},{"$f":"IF('Line 1 Source'!E644<>\"\",'Line 1 Source'!E644,\"\")","v":"6301"},{"$f":"IF('Line 1 Source'!F644<>\"\",'Line 1 Source'!F644,\"\")","v":2738105}]
[{"$f":"IF('Line 1 Source'!A645<>\"\",'Line 1 Source'!A645,\"\")","v":"2018"},"2943030",{"$f":"CONCATENATE(VLOOKUP(B645,'School List'!$B$3:$H$291,6,FALSE),H645)","v":"30306302"},{"$f":"CONCATENATE(VLOOKUP(B645,'School List'!$B$3:$D$291,3,FALSE),H645)","v":"Hamilton County - WESTFIELD-WASHINGTON SCHOOL CORPORATION6302"},{"$f":"IF('Line 1 Source'!B645<>\"\",'Line 1 Source'!B645,\"\")","v":"29"},{"$f":"IF('Line 1 Source'!C645<>\"\",'Line 1 Source'!C645,\"\")","v":"4"},{"$f":"IF('Line 1 Source'!D645<>\"\",'Line 1 Source'!D645,\"\")","v":"3030"},{"$f":"IF('Line 1 Source'!E645<>\"\",'Line 1 Source'!E645,\"\")","v":"6302"},{"$f":"IF('Line 1 Source'!F645<>\"\",'Line 1 Source'!F645,\"\")","v":847551}]
[{"$f":"IF('Line 1 Source'!A646<>\"\",'Line 1 Source'!A646,\"\")","v":"2018"},"2943055",{"$f":"CONCATENATE(VLOOKUP(B646,'School List'!$B$3:$H$291,6,FALSE),H646)","v":"30550022"},{"$f":"CONCATENATE(VLOOKUP(B646,'School List'!$B$3:$D$291,3,FALSE),H646)","v":"Hamilton County - SHERIDAN COMMUNITY SCHOOLS0022"},{"$f":"IF('Line 1 Source'!B646<>\"\",'Line 1 Source'!B646,\"\")","v":"29"},{"$f":"IF('Line 1 Source'!C646<>\"\",'Line 1 Source'!C646,\"\")","v":"4"},{"$f":"IF('Line 1 Source'!D646<>\"\",'Line 1 Source'!D646,\"\")","v":"3055"},{"$f":"IF('Line 1 Source'!E646<>\"\",'Line 1 Source'!E646,\"\")","v":"0022"},{"$f":"IF('Line 1 Source'!F646<>\"\",'Line 1 Source'!F646,\"\")","v":1054023}]
[{"$f":"IF('Line 1 Source'!A647<>\"\",'Line 1 Source'!A647,\"\")","v":"2018"},"2943055",{"$f":"CONCATENATE(VLOOKUP(B647,'School List'!$B$3:$H$291,6,FALSE),H647)","v":"30550061"},{"$f":"CONCATENATE(VLOOKUP(B647,'School List'!$B$3:$D$291,3,FALSE),H647)","v":"Hamilton County - SHERIDAN COMMUNITY SCHOOLS0061"},{"$f":"IF('Line 1 Source'!B647<>\"\",'Line 1 Source'!B647,\"\")","v":"29"},{"$f":"IF('Line 1 Source'!C647<>\"\",'Line 1 Source'!C647,\"\")","v":"4"},{"$f":"IF('Line 1 Source'!D647<>\"\",'Line 1 Source'!D647,\"\")","v":"3055"},{"$f":"IF('Line 1 Source'!E647<>\"\",'Line 1 Source'!E647,\"\")","v":"0061"},{"$f":"IF('Line 1 Source'!F647<>\"\",'Line 1 Source'!F647,\"\")","v":400000}]
[{"$f":"IF('Line 1 Source'!A648<>\"\",'Line 1 Source'!A648,\"\")","v":"2018"},"2943055",{"$f":"CONCATENATE(VLOOKUP(B648,'School List'!$B$3:$H$291,6,FALSE),H648)","v":"30550101"},{"$f":"CONCATENATE(VLOOKUP(B648,'School List'!$B$3:$D$291,3,FALSE),H648)","v":"Hamilton County - SHERIDAN COMMUNITY SCHOOLS0101"},{"$f":"IF('Line 1 Source'!B648<>\"\",'Line 1 Source'!B648,\"\")","v":"29"},{"$f":"IF('Line 1 Source'!C648<>\"\",'Line 1 Source'!C648,\"\")","v":"4"},{"$f":"IF('Line 1 Source'!D648<>\"\",'Line 1 Source'!D648,\"\")","v":"3055"},{"$f":"IF('Line 1 Source'!E648<>\"\",'Line 1 Source'!E648,\"\")","v":"0101"},{"$f":"IF('Line 1 Source'!F648<>\"\",'Line 1 Source'!F648,\"\")","v":7108020}]
[{"$f":"IF('Line 1 Source'!A649<>\"\",'Line 1 Source'!A649,\"\")","v":"2018"},"2943055",{"$f":"CONCATENATE(VLOOKUP(B649,'School List'!$B$3:$H$291,6,FALSE),H649)","v":"30550180"},{"$f":"CONCATENATE(VLOOKUP(B649,'School List'!$B$3:$D$291,3,FALSE),H649)","v":"Hamilton County - SHERIDAN COMMUNITY SCHOOLS0180"},{"$f":"IF('Line 1 Source'!B649<>\"\",'Line 1 Source'!B649,\"\")","v":"29"},{"$f":"IF('Line 1 Source'!C649<>\"\",'Line 1 Source'!C649,\"\")","v":"4"},{"$f":"IF('Line 1 Source'!D649<>\"\",'Line 1 Source'!D649,\"\")","v":"3055"},{"$f":"IF('Line 1 Source'!E649<>\"\",'Line 1 Source'!E649,\"\")","v":"0180"},{"$f":"IF('Line 1 Source'!F649<>\"\",'Line 1 Source'!F649,\"\")","v":2538900}]
[{"$f":"IF('Line 1 Source'!A650<>\"\",'Line 1 Source'!A650,\"\")","v":"2018"},"2943055",{"$f":"CONCATENATE(VLOOKUP(B650,'School List'!$B$3:$H$291,6,FALSE),H650)","v":"30550186"},{"$f":"CONCATENATE(VLOOKUP(B650,'School List'!$B$3:$D$291,3,FALSE),H650)","v":"Hamilton County - SHERIDAN COMMUNITY SCHOOLS0186"},{"$f":"IF('Line 1 Source'!B650<>\"\",'Line 1 Source'!B650,\"\")","v":"29"},{"$f":"IF('Line 1 Source'!C650<>\"\",'Line 1 Source'!C650,\"\")","v":"4"},{"$f":"IF('Line 1 Source'!D650<>\"\",'Line 1 Source'!D650,\"\")","v":"3055"},{"$f":"IF('Line 1 Source'!E650<>\"\",'Line 1 Source'!E650,\"\")","v":"0186"},{"$f":"IF('Line 1 Source'!F650<>\"\",'Line 1 Source'!F650,\"\")","v":34181}]
[{"$f":"IF('Line 1 Source'!A651<>\"\",'Line 1 Source'!A651,\"\")","v":"2018"},"2943055",{"$f":"CONCATENATE(VLOOKUP(B651,'School List'!$B$3:$H$291,6,FALSE),H651)","v":"30551214"},{"$f":"CONCATENATE(VLOOKUP(B651,'School List'!$B$3:$D$291,3,FALSE),H651)","v":"Hamilton County - SHERIDAN COMMUNITY SCHOOLS1214"},{"$f":"IF('Line 1 Source'!B651<>\"\",'Line 1 Source'!B651,\"\")","v":"29"},{"$f":"IF('Line 1 Source'!C651<>\"\",'Line 1 Source'!C651,\"\")","v":"4"},{"$f":"IF('Line 1 Source'!D651<>\"\",'Line 1 Source'!D651,\"\")","v":"3055"},{"$f":"IF('Line 1 Source'!E651<>\"\",'Line 1 Source'!E651,\"\")","v":"1214"},{"$f":"IF('Line 1 Source'!F651<>\"\",'Line 1 Source'!F651,\"\")","v":1516342}]
[{"$f":"IF('Line 1 Source'!A652<>\"\",'Line 1 Source'!A652,\"\")","v":"2018"},"2943055",{"$f":"CONCATENATE(VLOOKUP(B652,'School List'!$B$3:$H$291,6,FALSE),H652)","v":"30556301"},{"$f":"CONCATENATE(VLOOKUP(B652,'School List'!$B$3:$D$291,3,FALSE),H652)","v":"Hamilton County - SHERIDAN COMMUNITY SCHOOLS6301"},{"$f":"IF('Line 1 Source'!B652<>\"\",'Line 1 Source'!B652,\"\")","v":"29"},{"$f":"IF('Line 1 Source'!C652<>\"\",'Line 1 Source'!C652,\"\")","v":"4"},{"$f":"IF('Line 1 Source'!D652<>\"\",'Line 1 Source'!D652,\"\")","v":"3055"},{"$f":"IF('Line 1 Source'!E652<>\"\",'Line 1 Source'!E652,\"\")","v":"6301"},{"$f":"IF('Line 1 Source'!F652<>\"\",'Line 1 Source'!F652,\"\")","v":929051}]
[{"$f":"IF('Line 1 Source'!A653<>\"\",'Line 1 Source'!A653,\"\")","v":"2018"},"2943055",{"$f":"CONCATENATE(VLOOKUP(B653,'School List'!$B$3:$H$291,6,FALSE),H653)","v":"30556302"},{"$f":"CONCATENATE(VLOOKUP(B653,'School List'!$B$3:$D$291,3,FALSE),H653)","v":"Hamilton County - SHERIDAN COMMUNITY SCHOOLS6302"},{"$f":"IF('Line 1 Source'!B653<>\"\",'Line 1 Source'!B653,\"\")","v":"29"},{"$f":"IF('Line 1 Source'!C653<>\"\",'Line 1 Source'!C653,\"\")","v":"4"},{"$f":"IF('Line 1 Source'!D653<>\"\",'Line 1 Source'!D653,\"\")","v":"3055"},{"$f":"IF('Line 1 Source'!E653<>\"\",'Line 1 Source'!E653,\"\")","v":"6302"},{"$f":"IF('Line 1 Source'!F653<>\"\",'Line 1 Source'!F653,\"\")","v":197486}]
[{"$f":"IF('Line 1 Source'!A654<>\"\",'Line 1 Source'!A654,\"\")","v":"2018"},"2943060",{"$f":"CONCATENATE(VLOOKUP(B654,'School List'!$B$3:$H$291,6,FALSE),H654)","v":"30600022"},{"$f":"CONCATENATE(VLOOKUP(B654,'School List'!$B$3:$D$291,3,FALSE),H654)","v":"Hamilton County - CARMEL-CLAY SCHOOL CORPORATION0022"},{"$f":"IF('Line 1 Source'!B654<>\"\",'Line 1 Source'!B654,\"\")","v":"29"},{"$f":"IF('Line 1 Source'!C654<>\"\",'Line 1 Source'!C654,\"\")","v":"4"},{"$f":"IF('Line 1 Source'!D654<>\"\",'Line 1 Source'!D654,\"\")","v":"3060"},{"$f":"IF('Line 1 Source'!E654<>\"\",'Line 1 Source'!E654,\"\")","v":"0022"},{"$f":"IF('Line 1 Source'!F654<>\"\",'Line 1 Source'!F654,\"\")","v":18184316}]
[{"$f":"IF('Line 1 Source'!A655<>\"\",'Line 1 Source'!A655,\"\")","v":"2018"},"2943060",{"$f":"CONCATENATE(VLOOKUP(B655,'School List'!$B$3:$H$291,6,FALSE),H655)","v":"30600101"},{"$f":"CONCATENATE(VLOOKUP(B655,'School List'!$B$3:$D$291,3,FALSE),H655)","v":"Hamilton County - CARMEL-CLAY SCHOOL CORPORATION0101"},{"$f":"IF('Line 1 Source'!B655<>\"\",'Line 1 Source'!B655,\"\")","v":"29"},{"$f":"IF('Line 1 Source'!C655<>\"\",'Line 1 Source'!C655,\"\")","v":"4"},{"$f":"IF('Line 1 Source'!D655<>\"\",'Line 1 Source'!D655,\"\")","v":"3060"},{"$f":"IF('Line 1 Source'!E655<>\"\",'Line 1 Source'!E655,\"\")","v":"0101"},{"$f":"IF('Line 1 Source'!F655<>\"\",'Line 1 Source'!F655,\"\")","v":101422665}]
[{"$f":"IF('Line 1 Source'!A656<>\"\",'Line 1 Source'!A656,\"\")","v":"2018"},"2943060",{"$f":"CONCATENATE(VLOOKUP(B656,'School List'!$B$3:$H$291,6,FALSE),H656)","v":"30600180"},{"$f":"CONCATENATE(VLOOKUP(B656,'School List'!$B$3:$D$291,3,FALSE),H656)","v":"Hamilton County - CARMEL-CLAY SCHOOL CORPORATION0180"},{"$f":"IF('Line 1 Source'!B656<>\"\",'Line 1 Source'!B656,\"\")","v":"29"},{"$f":"IF('Line 1 Source'!C656<>\"\",'Line 1 Source'!C656,\"\")","v":"4"},{"$f":"IF('Line 1 Source'!D656<>\"\",'Line 1 Source'!D656,\"\")","v":"3060"},{"$f":"IF('Line 1 Source'!E656<>\"\",'Line 1 Source'!E656,\"\")","v":"0180"},{"$f":"IF('Line 1 Source'!F656<>\"\",'Line 1 Source'!F656,\"\")","v":23698821}]
[{"$f":"IF('Line 1 Source'!A657<>\"\",'Line 1 Source'!A657,\"\")","v":"2018"},"2943060",{"$f":"CONCATENATE(VLOOKUP(B657,'School List'!$B$3:$H$291,6,FALSE),H657)","v":"30601214"},{"$f":"CONCATENATE(VLOOKUP(B657,'School List'!$B$3:$D$291,3,FALSE),H657)","v":"Hamilton County - CARMEL-CLAY SCHOOL CORPORATION1214"},{"$f":"IF('Line 1 Source'!B657<>\"\",'Line 1 Source'!B657,\"\")","v":"29"},{"$f":"IF('Line 1 Source'!C657<>\"\",'Line 1 Source'!C657,\"\")","v":"4"},{"$f":"IF('Line 1 Source'!D657<>\"\",'Line 1 Source'!D657,\"\")","v":"3060"},{"$f":"IF('Line 1 Source'!E657<>\"\",'Line 1 Source'!E657,\"\")","v":"1214"},{"$f":"IF('Line 1 Source'!F657<>\"\",'Line 1 Source'!F657,\"\")","v":14522454}]
[{"$f":"IF('Line 1 Source'!A658<>\"\",'Line 1 Source'!A658,\"\")","v":"2018"},"2943060",{"$f":"CONCATENATE(VLOOKUP(B658,'School List'!$B$3:$H$291,6,FALSE),H658)","v":"30606301"},{"$f":"CONCATENATE(VLOOKUP(B658,'School List'!$B$3:$D$291,3,FALSE),H658)","v":"Hamilton County - CARMEL-CLAY SCHOOL CORPORATION6301"},{"$f":"IF('Line 1 Source'!B658<>\"\",'Line 1 Source'!B658,\"\")","v":"29"},{"$f":"IF('Line 1 Source'!C658<>\"\",'Line 1 Source'!C658,\"\")","v":"4"},{"$f":"IF('Line 1 Source'!D658<>\"\",'Line 1 Source'!D658,\"\")","v":"3060"},{"$f":"IF('Line 1 Source'!E658<>\"\",'Line 1 Source'!E658,\"\")","v":"6301"},{"$f":"IF('Line 1 Source'!F658<>\"\",'Line 1 Source'!F658,\"\")","v":9413325}]
[{"$f":"IF('Line 1 Source'!A659<>\"\",'Line 1 Source'!A659,\"\")","v":"2018"},"2943060",{"$f":"CONCATENATE(VLOOKUP(B659,'School List'!$B$3:$H$291,6,FALSE),H659)","v":"30606302"},{"$f":"CONCATENATE(VLOOKUP(B659,'School List'!$B$3:$D$291,3,FALSE),H659)","v":"Hamilton County - CARMEL-CLAY SCHOOL CORPORATION6302"},{"$f":"IF('Line 1 Source'!B659<>\"\",'Line 1 Source'!B659,\"\")","v":"29"},{"$f":"IF('Line 1 Source'!C659<>\"\",'Line 1 Source'!C659,\"\")","v":"4"},{"$f":"IF('Line 1 Source'!D659<>\"\",'Line 1 Source'!D659,\"\")","v":"3060"},{"$f":"IF('Line 1 Source'!E659<>\"\",'Line 1 Source'!E659,\"\")","v":"6302"},{"$f":"IF('Line 1 Source'!F659<>\"\",'Line 1 Source'!F659,\"\")","v":1519030}]
[{"$f":"IF('Line 1 Source'!A660<>\"\",'Line 1 Source'!A660,\"\")","v":"2018"},"2943070",{"$f":"CONCATENATE(VLOOKUP(B660,'School List'!$B$3:$H$291,6,FALSE),H660)","v":"30700022"},{"$f":"CONCATENATE(VLOOKUP(B660,'School List'!$B$3:$D$291,3,FALSE),H660)","v":"Hamilton County - NOBLESVILLE SCHOOL CORPORATION0022"},{"$f":"IF('Line 1 Source'!B660<>\"\",'Line 1 Source'!B660,\"\")","v":"29"},{"$f":"IF('Line 1 Source'!C660<>\"\",'Line 1 Source'!C660,\"\")","v":"4"},{"$f":"IF('Line 1 Source'!D660<>\"\",'Line 1 Source'!D660,\"\")","v":"3070"},{"$f":"IF('Line 1 Source'!E660<>\"\",'Line 1 Source'!E660,\"\")","v":"0022"},{"$f":"IF('Line 1 Source'!F660<>\"\",'Line 1 Source'!F660,\"\")","v":6787212}]
[{"$f":"IF('Line 1 Source'!A661<>\"\",'Line 1 Source'!A661,\"\")","v":"2018"},"2943070",{"$f":"CONCATENATE(VLOOKUP(B661,'School List'!$B$3:$H$291,6,FALSE),H661)","v":"30700101"},{"$f":"CONCATENATE(VLOOKUP(B661,'School List'!$B$3:$D$291,3,FALSE),H661)","v":"Hamilton County - NOBLESVILLE SCHOOL CORPORATION0101"},{"$f":"IF('Line 1 Source'!B661<>\"\",'Line 1 Source'!B661,\"\")","v":"29"},{"$f":"IF('Line 1 Source'!C661<>\"\",'Line 1 Source'!C661,\"\")","v":"4"},{"$f":"IF('Line 1 Source'!D661<>\"\",'Line 1 Source'!D661,\"\")","v":"3070"},{"$f":"IF('Line 1 Source'!E661<>\"\",'Line 1 Source'!E661,\"\")","v":"0101"},{"$f":"IF('Line 1 Source'!F661<>\"\",'Line 1 Source'!F661,\"\")","v":66071533}]
[{"$f":"IF('Line 1 Source'!A662<>\"\",'Line 1 Source'!A662,\"\")","v":"2018"},"2943070",{"$f":"CONCATENATE(VLOOKUP(B662,'School List'!$B$3:$H$291,6,FALSE),H662)","v":"30700180"},{"$f":"CONCATENATE(VLOOKUP(B662,'School List'!$B$3:$D$291,3,FALSE),H662)","v":"Hamilton County - NOBLESVILLE SCHOOL CORPORATION0180"},{"$f":"IF('Line 1 Source'!B662<>\"\",'Line 1 Source'!B662,\"\")","v":"29"},{"$f":"IF('Line 1 Source'!C662<>\"\",'Line 1 Source'!C662,\"\")","v":"4"},{"$f":"IF('Line 1 Source'!D662<>\"\",'Line 1 Source'!D662,\"\")","v":"3070"},{"$f":"IF('Line 1 Source'!E662<>\"\",'Line 1 Source'!E662,\"\")","v":"0180"},{"$f":"IF('Line 1 Source'!F662<>\"\",'Line 1 Source'!F662,\"\")","v":13640718}]
[{"$f":"IF('Line 1 Source'!A663<>\"\",'Line 1 Source'!A663,\"\")","v":"2018"},"2943070",{"$f":"CONCATENATE(VLOOKUP(B663,'School List'!$B$3:$H$291,6,FALSE),H663)","v":"30700287"},{"$f":"CONCATENATE(VLOOKUP(B663,'School List'!$B$3:$D$291,3,FALSE),H663)","v":"Hamilton County - NOBLESVILLE SCHOOL CORPORATION0287"},{"$f":"IF('Line 1 Source'!B663<>\"\",'Line 1 Source'!B663,\"\")","v":"29"},{"$f":"IF('Line 1 Source'!C663<>\"\",'Line 1 Source'!C663,\"\")","v":"4"},{"$f":"IF('Line 1 Source'!D663<>\"\",'Line 1 Source'!D663,\"\")","v":"3070"},{"$f":"IF('Line 1 Source'!E663<>\"\",'Line 1 Source'!E663,\"\")","v":"0287"},{"$f":"IF('Line 1 Source'!F663<>\"\",'Line 1 Source'!F663,\"\")","v":7196691}]
[{"$f":"IF('Line 1 Source'!A664<>\"\",'Line 1 Source'!A664,\"\")","v":"2018"},"2943070",{"$f":"CONCATENATE(VLOOKUP(B664,'School List'!$B$3:$H$291,6,FALSE),H664)","v":"30701214"},{"$f":"CONCATENATE(VLOOKUP(B664,'School List'!$B$3:$D$291,3,FALSE),H664)","v":"Hamilton County - NOBLESVILLE SCHOOL CORPORATION1214"},{"$f":"IF('Line 1 Source'!B664<>\"\",'Line 1 Source'!B664,\"\")","v":"29"},{"$f":"IF('Line 1 Source'!C664<>\"\",'Line 1 Source'!C664,\"\")","v":"4"},{"$f":"IF('Line 1 Source'!D664<>\"\",'Line 1 Source'!D664,\"\")","v":"3070"},{"$f":"IF('Line 1 Source'!E664<>\"\",'Line 1 Source'!E664,\"\")","v":"1214"},{"$f":"IF('Line 1 Source'!F664<>\"\",'Line 1 Source'!F664,\"\")","v":7760024}]
[{"$f":"IF('Line 1 Source'!A665<>\"\",'Line 1 Source'!A665,\"\")","v":"2018"},"2943070",{"$f":"CONCATENATE(VLOOKUP(B665,'School List'!$B$3:$H$291,6,FALSE),H665)","v":"30706301"},{"$f":"CONCATENATE(VLOOKUP(B665,'School List'!$B$3:$D$291,3,FALSE),H665)","v":"Hamilton County - NOBLESVILLE SCHOOL CORPORATION6301"},{"$f":"IF('Line 1 Source'!B665<>\"\",'Line 1 Source'!B665,\"\")","v":"29"},{"$f":"IF('Line 1 Source'!C665<>\"\",'Line 1 Source'!C665,\"\")","v":"4"},{"$f":"IF('Line 1 Source'!D665<>\"\",'Line 1 Source'!D665,\"\")","v":"3070"},{"$f":"IF('Line 1 Source'!E665<>\"\",'Line 1 Source'!E665,\"\")","v":"6301"},{"$f":"IF('Line 1 Source'!F665<>\"\",'Line 1 Source'!F665,\"\")","v":4283299}]
[{"$f":"IF('Line 1 Source'!A666<>\"\",'Line 1 Source'!A666,\"\")","v":"2018"},"2943070",{"$f":"CONCATENATE(VLOOKUP(B666,'School List'!$B$3:$H$291,6,FALSE),H666)","v":"30706302"},{"$f":"CONCATENATE(VLOOKUP(B666,'School List'!$B$3:$D$291,3,FALSE),H666)","v":"Hamilton County - NOBLESVILLE SCHOOL CORPORATION6302"},{"$f":"IF('Line 1 Source'!B666<>\"\",'Line 1 Source'!B666,\"\")","v":"29"},{"$f":"IF('Line 1 Source'!C666<>\"\",'Line 1 Source'!C666,\"\")","v":"4"},{"$f":"IF('Line 1 Source'!D666<>\"\",'Line 1 Source'!D666,\"\")","v":"3070"},{"$f":"IF('Line 1 Source'!E666<>\"\",'Line 1 Source'!E666,\"\")","v":"6302"},{"$f":"IF('Line 1 Source'!F666<>\"\",'Line 1 Source'!F666,\"\")","v":1354834}]
[{"$f":"IF('Line 1 Source'!A667<>\"\",'Line 1 Source'!A667,\"\")","v":"2018"},"3043115",{"$f":"CONCATENATE(VLOOKUP(B667,'School List'!$B$3:$H$291,6,FALSE),H667)","v":"31150061"},{"$f":"CONCATENATE(VLOOKUP(B667,'School List'!$B$3:$D$291,3,FALSE),H667)","v":"Hancock County - SOUTHERN HANCOCK COUNTY COMM SCHOOL CORP0061"},{"$f":"IF('Line 1 Source'!B667<>\"\",'Line 1 Source'!B667,\"\")","v":"30"},{"$f":"IF('Line 1 Source'!C667<>\"\",'Line 1 Source'!C667,\"\")","v":"4"},{"$f":"IF('Line 1 Source'!D667<>\"\",'Line 1 Source'!D667,\"\")","v":"3115"},{"$f":"IF('Line 1 Source'!E667<>\"\",'Line 1 Source'!E667,\"\")","v":"0061"},{"$f":"IF('Line 1 Source'!F667<>\"\",'Line 1 Source'!F667,\"\")","v":580000}]
[{"$f":"IF('Line 1 Source'!A668<>\"\",'Line 1 Source'!A668,\"\")","v":"2018"},"3043115",{"$f":"CONCATENATE(VLOOKUP(B668,'School List'!$B$3:$H$291,6,FALSE),H668)","v":"31150101"},{"$f":"CONCATENATE(VLOOKUP(B668,'School List'!$B$3:$D$291,3,FALSE),H668)","v":"Hancock County - SOUTHERN HANCOCK COUNTY COMM SCHOOL CORP0101"},{"$f":"IF('Line 1 Source'!B668<>\"\",'Line 1 Source'!B668,\"\")","v":"30"},{"$f":"IF('Line 1 Source'!C668<>\"\",'Line 1 Source'!C668,\"\")","v":"4"},{"$f":"IF('Line 1 Source'!D668<>\"\",'Line 1 Source'!D668,\"\")","v":"3115"},{"$f":"IF('Line 1 Source'!E668<>\"\",'Line 1 Source'!E668,\"\")","v":"0101"},{"$f":"IF('Line 1 Source'!F668<>\"\",'Line 1 Source'!F668,\"\")","v":24043950}]
[{"$f":"IF('Line 1 Source'!A669<>\"\",'Line 1 Source'!A669,\"\")","v":"2018"},"3043115",{"$f":"CONCATENATE(VLOOKUP(B669,'School List'!$B$3:$H$291,6,FALSE),H669)","v":"31150180"},{"$f":"CONCATENATE(VLOOKUP(B669,'School List'!$B$3:$D$291,3,FALSE),H669)","v":"Hancock County - SOUTHERN HANCOCK COUNTY COMM SCHOOL CORP0180"},{"$f":"IF('Line 1 Source'!B669<>\"\",'Line 1 Source'!B669,\"\")","v":"30"},{"$f":"IF('Line 1 Source'!C669<>\"\",'Line 1 Source'!C669,\"\")","v":"4"},{"$f":"IF('Line 1 Source'!D669<>\"\",'Line 1 Source'!D669,\"\")","v":"3115"},{"$f":"IF('Line 1 Source'!E669<>\"\",'Line 1 Source'!E669,\"\")","v":"0180"},{"$f":"IF('Line 1 Source'!F669<>\"\",'Line 1 Source'!F669,\"\")","v":5036220}]
[{"$f":"IF('Line 1 Source'!A670<>\"\",'Line 1 Source'!A670,\"\")","v":"2018"},"3043115",{"$f":"CONCATENATE(VLOOKUP(B670,'School List'!$B$3:$H$291,6,FALSE),H670)","v":"31151214"},{"$f":"CONCATENATE(VLOOKUP(B670,'School List'!$B$3:$D$291,3,FALSE),H670)","v":"Hancock County - SOUTHERN HANCOCK COUNTY COMM SCHOOL CORP1214"},{"$f":"IF('Line 1 Source'!B670<>\"\",'Line 1 Source'!B670,\"\")","v":"30"},{"$f":"IF('Line 1 Source'!C670<>\"\",'Line 1 Source'!C670,\"\")","v":"4"},{"$f":"IF('Line 1 Source'!D670<>\"\",'Line 1 Source'!D670,\"\")","v":"3115"},{"$f":"IF('Line 1 Source'!E670<>\"\",'Line 1 Source'!E670,\"\")","v":"1214"},{"$f":"IF('Line 1 Source'!F670<>\"\",'Line 1 Source'!F670,\"\")","v":2851910}]
[{"$f":"IF('Line 1 Source'!A671<>\"\",'Line 1 Source'!A671,\"\")","v":"2018"},"3043115",{"$f":"CONCATENATE(VLOOKUP(B671,'School List'!$B$3:$H$291,6,FALSE),H671)","v":"31156301"},{"$f":"CONCATENATE(VLOOKUP(B671,'School List'!$B$3:$D$291,3,FALSE),H671)","v":"Hancock County - SOUTHERN HANCOCK COUNTY COMM SCHOOL CORP6301"},{"$f":"IF('Line 1 Source'!B671<>\"\",'Line 1 Source'!B671,\"\")","v":"30"},{"$f":"IF('Line 1 Source'!C671<>\"\",'Line 1 Source'!C671,\"\")","v":"4"},{"$f":"IF('Line 1 Source'!D671<>\"\",'Line 1 Source'!D671,\"\")","v":"3115"},{"$f":"IF('Line 1 Source'!E671<>\"\",'Line 1 Source'!E671,\"\")","v":"6301"},{"$f":"IF('Line 1 Source'!F671<>\"\",'Line 1 Source'!F671,\"\")","v":1986500}]
[{"$f":"IF('Line 1 Source'!A672<>\"\",'Line 1 Source'!A672,\"\")","v":"2018"},"3043115",{"$f":"CONCATENATE(VLOOKUP(B672,'School List'!$B$3:$H$291,6,FALSE),H672)","v":"31156302"},{"$f":"CONCATENATE(VLOOKUP(B672,'School List'!$B$3:$D$291,3,FALSE),H672)","v":"Hancock County - SOUTHERN HANCOCK COUNTY COMM SCHOOL CORP6302"},{"$f":"IF('Line 1 Source'!B672<>\"\",'Line 1 Source'!B672,\"\")","v":"30"},{"$f":"IF('Line 1 Source'!C672<>\"\",'Line 1 Source'!C672,\"\")","v":"4"},{"$f":"IF('Line 1 Source'!D672<>\"\",'Line 1 Source'!D672,\"\")","v":"3115"},{"$f":"IF('Line 1 Source'!E672<>\"\",'Line 1 Source'!E672,\"\")","v":"6302"},{"$f":"IF('Line 1 Source'!F672<>\"\",'Line 1 Source'!F672,\"\")","v":436000}]
[{"$f":"IF('Line 1 Source'!A673<>\"\",'Line 1 Source'!A673,\"\")","v":"2018"},"3043125",{"$f":"CONCATENATE(VLOOKUP(B673,'School List'!$B$3:$H$291,6,FALSE),H673)","v":"31250061"},{"$f":"CONCATENATE(VLOOKUP(B673,'School List'!$B$3:$D$291,3,FALSE),H673)","v":"Hancock County - GREENFIELD CENTRAL COMMUNITY SCHOOL CORP0061"},{"$f":"IF('Line 1 Source'!B673<>\"\",'Line 1 Source'!B673,\"\")","v":"30"},{"$f":"IF('Line 1 Source'!C673<>\"\",'Line 1 Source'!C673,\"\")","v":"4"},{"$f":"IF('Line 1 Source'!D673<>\"\",'Line 1 Source'!D673,\"\")","v":"3125"},{"$f":"IF('Line 1 Source'!E673<>\"\",'Line 1 Source'!E673,\"\")","v":"0061"},{"$f":"IF('Line 1 Source'!F673<>\"\",'Line 1 Source'!F673,\"\")","v":750000}]
[{"$f":"IF('Line 1 Source'!A674<>\"\",'Line 1 Source'!A674,\"\")","v":"2018"},"3043125",{"$f":"CONCATENATE(VLOOKUP(B674,'School List'!$B$3:$H$291,6,FALSE),H674)","v":"31250101"},{"$f":"CONCATENATE(VLOOKUP(B674,'School List'!$B$3:$D$291,3,FALSE),H674)","v":"Hancock County - GREENFIELD CENTRAL COMMUNITY SCHOOL CORP0101"},{"$f":"IF('Line 1 Source'!B674<>\"\",'Line 1 Source'!B674,\"\")","v":"30"},{"$f":"IF('Line 1 Source'!C674<>\"\",'Line 1 Source'!C674,\"\")","v":"4"},{"$f":"IF('Line 1 Source'!D674<>\"\",'Line 1 Source'!D674,\"\")","v":"3125"},{"$f":"IF('Line 1 Source'!E674<>\"\",'Line 1 Source'!E674,\"\")","v":"0101"},{"$f":"IF('Line 1 Source'!F674<>\"\",'Line 1 Source'!F674,\"\")","v":32775890}]
[{"$f":"IF('Line 1 Source'!A675<>\"\",'Line 1 Source'!A675,\"\")","v":"2018"},"3043125",{"$f":"CONCATENATE(VLOOKUP(B675,'School List'!$B$3:$H$291,6,FALSE),H675)","v":"31250180"},{"$f":"CONCATENATE(VLOOKUP(B675,'School List'!$B$3:$D$291,3,FALSE),H675)","v":"Hancock County - GREENFIELD CENTRAL COMMUNITY SCHOOL CORP0180"},{"$f":"IF('Line 1 Source'!B675<>\"\",'Line 1 Source'!B675,\"\")","v":"30"},{"$f":"IF('Line 1 Source'!C675<>\"\",'Line 1 Source'!C675,\"\")","v":"4"},{"$f":"IF('Line 1 Source'!D675<>\"\",'Line 1 Source'!D675,\"\")","v":"3125"},{"$f":"IF('Line 1 Source'!E675<>\"\",'Line 1 Source'!E675,\"\")","v":"0180"},{"$f":"IF('Line 1 Source'!F675<>\"\",'Line 1 Source'!F675,\"\")","v":9258550}]
[{"$f":"IF('Line 1 Source'!A676<>\"\",'Line 1 Source'!A676,\"\")","v":"2018"},"3043125",{"$f":"CONCATENATE(VLOOKUP(B676,'School List'!$B$3:$H$291,6,FALSE),H676)","v":"31251214"},{"$f":"CONCATENATE(VLOOKUP(B676,'School List'!$B$3:$D$291,3,FALSE),H676)","v":"Hancock County - GREENFIELD CENTRAL COMMUNITY SCHOOL CORP1214"},{"$f":"IF('Line 1 Source'!B676<>\"\",'Line 1 Source'!B676,\"\")","v":"30"},{"$f":"IF('Line 1 Source'!C676<>\"\",'Line 1 Source'!C676,\"\")","v":"4"},{"$f":"IF('Line 1 Source'!D676<>\"\",'Line 1 Source'!D676,\"\")","v":"3125"},{"$f":"IF('Line 1 Source'!E676<>\"\",'Line 1 Source'!E676,\"\")","v":"1214"},{"$f":"IF('Line 1 Source'!F676<>\"\",'Line 1 Source'!F676,\"\")","v":6701692}]
[{"$f":"IF('Line 1 Source'!A677<>\"\",'Line 1 Source'!A677,\"\")","v":"2018"},"3043125",{"$f":"CONCATENATE(VLOOKUP(B677,'School List'!$B$3:$H$291,6,FALSE),H677)","v":"31256301"},{"$f":"CONCATENATE(VLOOKUP(B677,'School List'!$B$3:$D$291,3,FALSE),H677)","v":"Hancock County - GREENFIELD CENTRAL COMMUNITY SCHOOL CORP6301"},{"$f":"IF('Line 1 Source'!B677<>\"\",'Line 1 Source'!B677,\"\")","v":"30"},{"$f":"IF('Line 1 Source'!C677<>\"\",'Line 1 Source'!C677,\"\")","v":"4"},{"$f":"IF('Line 1 Source'!D677<>\"\",'Line 1 Source'!D677,\"\")","v":"3125"},{"$f":"IF('Line 1 Source'!E677<>\"\",'Line 1 Source'!E677,\"\")","v":"6301"},{"$f":"IF('Line 1 Source'!F677<>\"\",'Line 1 Source'!F677,\"\")","v":2850000}]
[{"$f":"IF('Line 1 Source'!A678<>\"\",'Line 1 Source'!A678,\"\")","v":"2018"},"3043125",{"$f":"CONCATENATE(VLOOKUP(B678,'School List'!$B$3:$H$291,6,FALSE),H678)","v":"31256302"},{"$f":"CONCATENATE(VLOOKUP(B678,'School List'!$B$3:$D$291,3,FALSE),H678)","v":"Hancock County - GREENFIELD CENTRAL COMMUNITY SCHOOL CORP6302"},{"$f":"IF('Line 1 Source'!B678<>\"\",'Line 1 Source'!B678,\"\")","v":"30"},{"$f":"IF('Line 1 Source'!C678<>\"\",'Line 1 Source'!C678,\"\")","v":"4"},{"$f":"IF('Line 1 Source'!D678<>\"\",'Line 1 Source'!D678,\"\")","v":"3125"},{"$f":"IF('Line 1 Source'!E678<>\"\",'Line 1 Source'!E678,\"\")","v":"6302"},{"$f":"IF('Line 1 Source'!F678<>\"\",'Line 1 Source'!F678,\"\")","v":791404}]
[{"$f":"IF('Line 1 Source'!A679<>\"\",'Line 1 Source'!A679,\"\")","v":"2018"},"3043135",{"$f":"CONCATENATE(VLOOKUP(B679,'School List'!$B$3:$H$291,6,FALSE),H679)","v":"31350061"},{"$f":"CONCATENATE(VLOOKUP(B679,'School List'!$B$3:$D$291,3,FALSE),H679)","v":"Hancock County - MT. VERNON COMMUNITY SCHOOL CORPORATION0061"},{"$f":"IF('Line 1 Source'!B679<>\"\",'Line 1 Source'!B679,\"\")","v":"30"},{"$f":"IF('Line 1 Source'!C679<>\"\",'Line 1 Source'!C679,\"\")","v":"4"},{"$f":"IF('Line 1 Source'!D679<>\"\",'Line 1 Source'!D679,\"\")","v":"3135"},{"$f":"IF('Line 1 Source'!E679<>\"\",'Line 1 Source'!E679,\"\")","v":"0061"},{"$f":"IF('Line 1 Source'!F679<>\"\",'Line 1 Source'!F679,\"\")","v":0}]
[{"$f":"IF('Line 1 Source'!A680<>\"\",'Line 1 Source'!A680,\"\")","v":"2018"},"3043135",{"$f":"CONCATENATE(VLOOKUP(B680,'School List'!$B$3:$H$291,6,FALSE),H680)","v":"31350101"},{"$f":"CONCATENATE(VLOOKUP(B680,'School List'!$B$3:$D$291,3,FALSE),H680)","v":"Hancock County - MT. VERNON COMMUNITY SCHOOL CORPORATION0101"},{"$f":"IF('Line 1 Source'!B680<>\"\",'Line 1 Source'!B680,\"\")","v":"30"},{"$f":"IF('Line 1 Source'!C680<>\"\",'Line 1 Source'!C680,\"\")","v":"4"},{"$f":"IF('Line 1 Source'!D680<>\"\",'Line 1 Source'!D680,\"\")","v":"3135"},{"$f":"IF('Line 1 Source'!E680<>\"\",'Line 1 Source'!E680,\"\")","v":"0101"},{"$f":"IF('Line 1 Source'!F680<>\"\",'Line 1 Source'!F680,\"\")","v":28000000}]
[{"$f":"IF('Line 1 Source'!A681<>\"\",'Line 1 Source'!A681,\"\")","v":"2018"},"3043135",{"$f":"CONCATENATE(VLOOKUP(B681,'School List'!$B$3:$H$291,6,FALSE),H681)","v":"31350180"},{"$f":"CONCATENATE(VLOOKUP(B681,'School List'!$B$3:$D$291,3,FALSE),H681)","v":"Hancock County - MT. VERNON COMMUNITY SCHOOL CORPORATION0180"},{"$f":"IF('Line 1 Source'!B681<>\"\",'Line 1 Source'!B681,\"\")","v":"30"},{"$f":"IF('Line 1 Source'!C681<>\"\",'Line 1 Source'!C681,\"\")","v":"4"},{"$f":"IF('Line 1 Source'!D681<>\"\",'Line 1 Source'!D681,\"\")","v":"3135"},{"$f":"IF('Line 1 Source'!E681<>\"\",'Line 1 Source'!E681,\"\")","v":"0180"},{"$f":"IF('Line 1 Source'!F681<>\"\",'Line 1 Source'!F681,\"\")","v":9565880}]
[{"$f":"IF('Line 1 Source'!A682<>\"\",'Line 1 Source'!A682,\"\")","v":"2018"},"3043135",{"$f":"CONCATENATE(VLOOKUP(B682,'School List'!$B$3:$H$291,6,FALSE),H682)","v":"31350186"},{"$f":"CONCATENATE(VLOOKUP(B682,'School List'!$B$3:$D$291,3,FALSE),H682)","v":"Hancock County - MT. VERNON COMMUNITY SCHOOL CORPORATION0186"},{"$f":"IF('Line 1 Source'!B682<>\"\",'Line 1 Source'!B682,\"\")","v":"30"},{"$f":"IF('Line 1 Source'!C682<>\"\",'Line 1 Source'!C682,\"\")","v":"4"},{"$f":"IF('Line 1 Source'!D682<>\"\",'Line 1 Source'!D682,\"\")","v":"3135"},{"$f":"IF('Line 1 Source'!E682<>\"\",'Line 1 Source'!E682,\"\")","v":"0186"},{"$f":"IF('Line 1 Source'!F682<>\"\",'Line 1 Source'!F682,\"\")","v":236210}]
[{"$f":"IF('Line 1 Source'!A683<>\"\",'Line 1 Source'!A683,\"\")","v":"2018"},"3043135",{"$f":"CONCATENATE(VLOOKUP(B683,'School List'!$B$3:$H$291,6,FALSE),H683)","v":"31351214"},{"$f":"CONCATENATE(VLOOKUP(B683,'School List'!$B$3:$D$291,3,FALSE),H683)","v":"Hancock County - MT. VERNON COMMUNITY SCHOOL CORPORATION1214"},{"$f":"IF('Line 1 Source'!B683<>\"\",'Line 1 Source'!B683,\"\")","v":"30"},{"$f":"IF('Line 1 Source'!C683<>\"\",'Line 1 Source'!C683,\"\")","v":"4"},{"$f":"IF('Line 1 Source'!D683<>\"\",'Line 1 Source'!D683,\"\")","v":"3135"},{"$f":"IF('Line 1 Source'!E683<>\"\",'Line 1 Source'!E683,\"\")","v":"1214"},{"$f":"IF('Line 1 Source'!F683<>\"\",'Line 1 Source'!F683,\"\")","v":4567000}]
[{"$f":"IF('Line 1 Source'!A684<>\"\",'Line 1 Source'!A684,\"\")","v":"2018"},"3043135",{"$f":"CONCATENATE(VLOOKUP(B684,'School List'!$B$3:$H$291,6,FALSE),H684)","v":"31356301"},{"$f":"CONCATENATE(VLOOKUP(B684,'School List'!$B$3:$D$291,3,FALSE),H684)","v":"Hancock County - MT. VERNON COMMUNITY SCHOOL CORPORATION6301"},{"$f":"IF('Line 1 Source'!B684<>\"\",'Line 1 Source'!B684,\"\")","v":"30"},{"$f":"IF('Line 1 Source'!C684<>\"\",'Line 1 Source'!C684,\"\")","v":"4"},{"$f":"IF('Line 1 Source'!D684<>\"\",'Line 1 Source'!D684,\"\")","v":"3135"},{"$f":"IF('Line 1 Source'!E684<>\"\",'Line 1 Source'!E684,\"\")","v":"6301"},{"$f":"IF('Line 1 Source'!F684<>\"\",'Line 1 Source'!F684,\"\")","v":2200000}]
[{"$f":"IF('Line 1 Source'!A685<>\"\",'Line 1 Source'!A685,\"\")","v":"2018"},"3043135",{"$f":"CONCATENATE(VLOOKUP(B685,'School List'!$B$3:$H$291,6,FALSE),H685)","v":"31356302"},{"$f":"CONCATENATE(VLOOKUP(B685,'School List'!$B$3:$D$291,3,FALSE),H685)","v":"Hancock County - MT. VERNON COMMUNITY SCHOOL CORPORATION6302"},{"$f":"IF('Line 1 Source'!B685<>\"\",'Line 1 Source'!B685,\"\")","v":"30"},{"$f":"IF('Line 1 Source'!C685<>\"\",'Line 1 Source'!C685,\"\")","v":"4"},{"$f":"IF('Line 1 Source'!D685<>\"\",'Line 1 Source'!D685,\"\")","v":"3135"},{"$f":"IF('Line 1 Source'!E685<>\"\",'Line 1 Source'!E685,\"\")","v":"6302"},{"$f":"IF('Line 1 Source'!F685<>\"\",'Line 1 Source'!F685,\"\")","v":35436}]
[{"$f":"IF('Line 1 Source'!A686<>\"\",'Line 1 Source'!A686,\"\")","v":"2018"},"3043145",{"$f":"CONCATENATE(VLOOKUP(B686,'School List'!$B$3:$H$291,6,FALSE),H686)","v":"31450101"},{"$f":"CONCATENATE(VLOOKUP(B686,'School List'!$B$3:$D$291,3,FALSE),H686)","v":"Hancock County - EASTERN HANCOCK COUNTY COMMUNITY SCHOOL0101"},{"$f":"IF('Line 1 Source'!B686<>\"\",'Line 1 Source'!B686,\"\")","v":"30"},{"$f":"IF('Line 1 Source'!C686<>\"\",'Line 1 Source'!C686,\"\")","v":"4"},{"$f":"IF('Line 1 Source'!D686<>\"\",'Line 1 Source'!D686,\"\")","v":"3145"},{"$f":"IF('Line 1 Source'!E686<>\"\",'Line 1 Source'!E686,\"\")","v":"0101"},{"$f":"IF('Line 1 Source'!F686<>\"\",'Line 1 Source'!F686,\"\")","v":8892200}]
[{"$f":"IF('Line 1 Source'!A687<>\"\",'Line 1 Source'!A687,\"\")","v":"2018"},"3043145",{"$f":"CONCATENATE(VLOOKUP(B687,'School List'!$B$3:$H$291,6,FALSE),H687)","v":"31450180"},{"$f":"CONCATENATE(VLOOKUP(B687,'School List'!$B$3:$D$291,3,FALSE),H687)","v":"Hancock County - EASTERN HANCOCK COUNTY COMMUNITY SCHOOL0180"},{"$f":"IF('Line 1 Source'!B687<>\"\",'Line 1 Source'!B687,\"\")","v":"30"},{"$f":"IF('Line 1 Source'!C687<>\"\",'Line 1 Source'!C687,\"\")","v":"4"},{"$f":"IF('Line 1 Source'!D687<>\"\",'Line 1 Source'!D687,\"\")","v":"3145"},{"$f":"IF('Line 1 Source'!E687<>\"\",'Line 1 Source'!E687,\"\")","v":"0180"},{"$f":"IF('Line 1 Source'!F687<>\"\",'Line 1 Source'!F687,\"\")","v":1561685}]
[{"$f":"IF('Line 1 Source'!A688<>\"\",'Line 1 Source'!A688,\"\")","v":"2018"},"3043145",{"$f":"CONCATENATE(VLOOKUP(B688,'School List'!$B$3:$H$291,6,FALSE),H688)","v":"31451214"},{"$f":"CONCATENATE(VLOOKUP(B688,'School List'!$B$3:$D$291,3,FALSE),H688)","v":"Hancock County - EASTERN HANCOCK COUNTY COMMUNITY SCHOOL1214"},{"$f":"IF('Line 1 Source'!B688<>\"\",'Line 1 Source'!B688,\"\")","v":"30"},{"$f":"IF('Line 1 Source'!C688<>\"\",'Line 1 Source'!C688,\"\")","v":"4"},{"$f":"IF('Line 1 Source'!D688<>\"\",'Line 1 Source'!D688,\"\")","v":"3145"},{"$f":"IF('Line 1 Source'!E688<>\"\",'Line 1 Source'!E688,\"\")","v":"1214"},{"$f":"IF('Line 1 Source'!F688<>\"\",'Line 1 Source'!F688,\"\")","v":1176459}]
[{"$f":"IF('Line 1 Source'!A689<>\"\",'Line 1 Source'!A689,\"\")","v":"2018"},"3043145",{"$f":"CONCATENATE(VLOOKUP(B689,'School List'!$B$3:$H$291,6,FALSE),H689)","v":"31456301"},{"$f":"CONCATENATE(VLOOKUP(B689,'School List'!$B$3:$D$291,3,FALSE),H689)","v":"Hancock County - EASTERN HANCOCK COUNTY COMMUNITY SCHOOL6301"},{"$f":"IF('Line 1 Source'!B689<>\"\",'Line 1 Source'!B689,\"\")","v":"30"},{"$f":"IF('Line 1 Source'!C689<>\"\",'Line 1 Source'!C689,\"\")","v":"4"},{"$f":"IF('Line 1 Source'!D689<>\"\",'Line 1 Source'!D689,\"\")","v":"3145"},{"$f":"IF('Line 1 Source'!E689<>\"\",'Line 1 Source'!E689,\"\")","v":"6301"},{"$f":"IF('Line 1 Source'!F689<>\"\",'Line 1 Source'!F689,\"\")","v":1334000}]
[{"$f":"IF('Line 1 Source'!A690<>\"\",'Line 1 Source'!A690,\"\")","v":"2018"},"3043145",{"$f":"CONCATENATE(VLOOKUP(B690,'School List'!$B$3:$H$291,6,FALSE),H690)","v":"31456302"},{"$f":"CONCATENATE(VLOOKUP(B690,'School List'!$B$3:$D$291,3,FALSE),H690)","v":"Hancock County - EASTERN HANCOCK COUNTY COMMUNITY SCHOOL6302"},{"$f":"IF('Line 1 Source'!B690<>\"\",'Line 1 Source'!B690,\"\")","v":"30"},{"$f":"IF('Line 1 Source'!C690<>\"\",'Line 1 Source'!C690,\"\")","v":"4"},{"$f":"IF('Line 1 Source'!D690<>\"\",'Line 1 Source'!D690,\"\")","v":"3145"},{"$f":"IF('Line 1 Source'!E690<>\"\",'Line 1 Source'!E690,\"\")","v":"6302"},{"$f":"IF('Line 1 Source'!F690<>\"\",'Line 1 Source'!F690,\"\")","v":530000}]
[{"$f":"IF('Line 1 Source'!A691<>\"\",'Line 1 Source'!A691,\"\")","v":"2018"},"3141300",{"$f":"CONCATENATE(VLOOKUP(B691,'School List'!$B$3:$H$291,6,FALSE),H691)","v":{"$error":"#N/A"}},{"$f":"CONCATENATE(VLOOKUP(B691,'School List'!$B$3:$D$291,3,FALSE),H691)","v":{"$error":"#N/A"}},{"$f":"IF('Line 1 Source'!B691<>\"\",'Line 1 Source'!B691,\"\")","v":"31"},{"$f":"IF('Line 1 Source'!C691<>\"\",'Line 1 Source'!C691,\"\")","v":"4"},{"$f":"IF('Line 1 Source'!D691<>\"\",'Line 1 Source'!D691,\"\")","v":"1300"},{"$f":"IF('Line 1 Source'!E691<>\"\",'Line 1 Source'!E691,\"\")","v":"0061"},{"$f":"IF('Line 1 Source'!F691<>\"\",'Line 1 Source'!F691,\"\")","v":0}]
[{"$f":"IF('Line 1 Source'!A692<>\"\",'Line 1 Source'!A692,\"\")","v":"2018"},"3141300",{"$f":"CONCATENATE(VLOOKUP(B692,'School List'!$B$3:$H$291,6,FALSE),H692)","v":{"$error":"#N/A"}},{"$f":"CONCATENATE(VLOOKUP(B692,'School List'!$B$3:$D$291,3,FALSE),H692)","v":{"$error":"#N/A"}},{"$f":"IF('Line 1 Source'!B692<>\"\",'Line 1 Source'!B692,\"\")","v":"31"},{"$f":"IF('Line 1 Source'!C692<>\"\",'Line 1 Source'!C692,\"\")","v":"4"},{"$f":"IF('Line 1 Source'!D692<>\"\",'Line 1 Source'!D692,\"\")","v":"1300"},{"$f":"IF('Line 1 Source'!E692<>\"\",'Line 1 Source'!E692,\"\")","v":"0101"},{"$f":"IF('Line 1 Source'!F692<>\"\",'Line 1 Source'!F692,\"\")","v":0}]
[{"$f":"IF('Line 1 Source'!A693<>\"\",'Line 1 Source'!A693,\"\")","v":"2018"},"3141300",{"$f":"CONCATENATE(VLOOKUP(B693,'School List'!$B$3:$H$291,6,FALSE),H693)","v":{"$error":"#N/A"}},{"$f":"CONCATENATE(VLOOKUP(B693,'School List'!$B$3:$D$291,3,FALSE),H693)","v":{"$error":"#N/A"}},{"$f":"IF('Line 1 Source'!B693<>\"\",'Line 1 Source'!B693,\"\")","v":"31"},{"$f":"IF('Line 1 Source'!C693<>\"\",'Line 1 Source'!C693,\"\")","v":"4"},{"$f":"IF('Line 1 Source'!D693<>\"\",'Line 1 Source'!D693,\"\")","v":"1300"},{"$f":"IF('Line 1 Source'!E693<>\"\",'Line 1 Source'!E693,\"\")","v":"0180"},{"$f":"IF('Line 1 Source'!F693<>\"\",'Line 1 Source'!F693,\"\")","v":0}]
[{"$f":"IF('Line 1 Source'!A694<>\"\",'Line 1 Source'!A694,\"\")","v":"2018"},"3141300",{"$f":"CONCATENATE(VLOOKUP(B694,'School List'!$B$3:$H$291,6,FALSE),H694)","v":{"$error":"#N/A"}},{"$f":"CONCATENATE(VLOOKUP(B694,'School List'!$B$3:$D$291,3,FALSE),H694)","v":{"$error":"#N/A"}},{"$f":"IF('Line 1 Source'!B694<>\"\",'Line 1 Source'!B694,\"\")","v":"31"},{"$f":"IF('Line 1 Source'!C694<>\"\",'Line 1 Source'!C694,\"\")","v":"4"},{"$f":"IF('Line 1 Source'!D694<>\"\",'Line 1 Source'!D694,\"\")","v":"1300"},{"$f":"IF('Line 1 Source'!E694<>\"\",'Line 1 Source'!E694,\"\")","v":"0186"},{"$f":"IF('Line 1 Source'!F694<>\"\",'Line 1 Source'!F694,\"\")","v":0}]
[{"$f":"IF('Line 1 Source'!A695<>\"\",'Line 1 Source'!A695,\"\")","v":"2018"},"3141300",{"$f":"CONCATENATE(VLOOKUP(B695,'School List'!$B$3:$H$291,6,FALSE),H695)","v":{"$error":"#N/A"}},{"$f":"CONCATENATE(VLOOKUP(B695,'School List'!$B$3:$D$291,3,FALSE),H695)","v":{"$error":"#N/A"}},{"$f":"IF('Line 1 Source'!B695<>\"\",'Line 1 Source'!B695,\"\")","v":"31"},{"$f":"IF('Line 1 Source'!C695<>\"\",'Line 1 Source'!C695,\"\")","v":"4"},{"$f":"IF('Line 1 Source'!D695<>\"\",'Line 1 Source'!D695,\"\")","v":"1300"},{"$f":"IF('Line 1 Source'!E695<>\"\",'Line 1 Source'!E695,\"\")","v":"1214"},{"$f":"IF('Line 1 Source'!F695<>\"\",'Line 1 Source'!F695,\"\")","v":0}]
[{"$f":"IF('Line 1 Source'!A696<>\"\",'Line 1 Source'!A696,\"\")","v":"2018"},"3141300",{"$f":"CONCATENATE(VLOOKUP(B696,'School List'!$B$3:$H$291,6,FALSE),H696)","v":{"$error":"#N/A"}},{"$f":"CONCATENATE(VLOOKUP(B696,'School List'!$B$3:$D$291,3,FALSE),H696)","v":{"$error":"#N/A"}},{"$f":"IF('Line 1 Source'!B696<>\"\",'Line 1 Source'!B696,\"\")","v":"31"},{"$f":"IF('Line 1 Source'!C696<>\"\",'Line 1 Source'!C696,\"\")","v":"4"},{"$f":"IF('Line 1 Source'!D696<>\"\",'Line 1 Source'!D696,\"\")","v":"1300"},{"$f":"IF('Line 1 Source'!E696<>\"\",'Line 1 Source'!E696,\"\")","v":"6301"},{"$f":"IF('Line 1 Source'!F696<>\"\",'Line 1 Source'!F696,\"\")","v":0}]
[{"$f":"IF('Line 1 Source'!A697<>\"\",'Line 1 Source'!A697,\"\")","v":"2018"},"3141300",{"$f":"CONCATENATE(VLOOKUP(B697,'School List'!$B$3:$H$291,6,FALSE),H697)","v":{"$error":"#N/A"}},{"$f":"CONCATENATE(VLOOKUP(B697,'School List'!$B$3:$D$291,3,FALSE),H697)","v":{"$error":"#N/A"}},{"$f":"IF('Line 1 Source'!B697<>\"\",'Line 1 Source'!B697,\"\")","v":"31"},{"$f":"IF('Line 1 Source'!C697<>\"\",'Line 1 Source'!C697,\"\")","v":"4"},{"$f":"IF('Line 1 Source'!D697<>\"\",'Line 1 Source'!D697,\"\")","v":"1300"},{"$f":"IF('Line 1 Source'!E697<>\"\",'Line 1 Source'!E697,\"\")","v":"6302"},{"$f":"IF('Line 1 Source'!F697<>\"\",'Line 1 Source'!F697,\"\")","v":0}]
[{"$f":"IF('Line 1 Source'!A698<>\"\",'Line 1 Source'!A698,\"\")","v":"2018"},"3143160",{"$f":"CONCATENATE(VLOOKUP(B698,'School List'!$B$3:$H$291,6,FALSE),H698)","v":"31600022"},{"$f":"CONCATENATE(VLOOKUP(B698,'School List'!$B$3:$D$291,3,FALSE),H698)","v":"Harrison County - LANESVILLE SCHOOL CORPORATION0022"},{"$f":"IF('Line 1 Source'!B698<>\"\",'Line 1 Source'!B698,\"\")","v":"31"},{"$f":"IF('Line 1 Source'!C698<>\"\",'Line 1 Source'!C698,\"\")","v":"4"},{"$f":"IF('Line 1 Source'!D698<>\"\",'Line 1 Source'!D698,\"\")","v":"3160"},{"$f":"IF('Line 1 Source'!E698<>\"\",'Line 1 Source'!E698,\"\")","v":"0022"},{"$f":"IF('Line 1 Source'!F698<>\"\",'Line 1 Source'!F698,\"\")","v":270000}]
[{"$f":"IF('Line 1 Source'!A699<>\"\",'Line 1 Source'!A699,\"\")","v":"2018"},"3143160",{"$f":"CONCATENATE(VLOOKUP(B699,'School List'!$B$3:$H$291,6,FALSE),H699)","v":"31600101"},{"$f":"CONCATENATE(VLOOKUP(B699,'School List'!$B$3:$D$291,3,FALSE),H699)","v":"Harrison County - LANESVILLE SCHOOL CORPORATION0101"},{"$f":"IF('Line 1 Source'!B699<>\"\",'Line 1 Source'!B699,\"\")","v":"31"},{"$f":"IF('Line 1 Source'!C699<>\"\",'Line 1 Source'!C699,\"\")","v":"4"},{"$f":"IF('Line 1 Source'!D699<>\"\",'Line 1 Source'!D699,\"\")","v":"3160"},{"$f":"IF('Line 1 Source'!E699<>\"\",'Line 1 Source'!E699,\"\")","v":"0101"},{"$f":"IF('Line 1 Source'!F699<>\"\",'Line 1 Source'!F699,\"\")","v":5684627}]
[{"$f":"IF('Line 1 Source'!A700<>\"\",'Line 1 Source'!A700,\"\")","v":"2018"},"3143160",{"$f":"CONCATENATE(VLOOKUP(B700,'School List'!$B$3:$H$291,6,FALSE),H700)","v":"31600180"},{"$f":"CONCATENATE(VLOOKUP(B700,'School List'!$B$3:$D$291,3,FALSE),H700)","v":"Harrison County - LANESVILLE SCHOOL CORPORATION0180"},{"$f":"IF('Line 1 Source'!B700<>\"\",'Line 1 Source'!B700,\"\")","v":"31"},{"$f":"IF('Line 1 Source'!C700<>\"\",'Line 1 Source'!C700,\"\")","v":"4"},{"$f":"IF('Line 1 Source'!D700<>\"\",'Line 1 Source'!D700,\"\")","v":"3160"},{"$f":"IF('Line 1 Source'!E700<>\"\",'Line 1 Source'!E700,\"\")","v":"0180"},{"$f":"IF('Line 1 Source'!F700<>\"\",'Line 1 Source'!F700,\"\")","v":759662}]
[{"$f":"IF('Line 1 Source'!A701<>\"\",'Line 1 Source'!A701,\"\")","v":"2018"},"3143160",{"$f":"CONCATENATE(VLOOKUP(B701,'School List'!$B$3:$H$291,6,FALSE),H701)","v":"31601214"},{"$f":"CONCATENATE(VLOOKUP(B701,'School List'!$B$3:$D$291,3,FALSE),H701)","v":"Harrison County - LANESVILLE SCHOOL CORPORATION1214"},{"$f":"IF('Line 1 Source'!B701<>\"\",'Line 1 Source'!B701,\"\")","v":"31"},{"$f":"IF('Line 1 Source'!C701<>\"\",'Line 1 Source'!C701,\"\")","v":"4"},{"$f":"IF('Line 1 Source'!D701<>\"\",'Line 1 Source'!D701,\"\")","v":"3160"},{"$f":"IF('Line 1 Source'!E701<>\"\",'Line 1 Source'!E701,\"\")","v":"1214"},{"$f":"IF('Line 1 Source'!F701<>\"\",'Line 1 Source'!F701,\"\")","v":735234}]
[{"$f":"IF('Line 1 Source'!A702<>\"\",'Line 1 Source'!A702,\"\")","v":"2018"},"3143160",{"$f":"CONCATENATE(VLOOKUP(B702,'School List'!$B$3:$H$291,6,FALSE),H702)","v":"31606301"},{"$f":"CONCATENATE(VLOOKUP(B702,'School List'!$B$3:$D$291,3,FALSE),H702)","v":"Harrison County - LANESVILLE SCHOOL CORPORATION6301"},{"$f":"IF('Line 1 Source'!B702<>\"\",'Line 1 Source'!B702,\"\")","v":"31"},{"$f":"IF('Line 1 Source'!C702<>\"\",'Line 1 Source'!C702,\"\")","v":"4"},{"$f":"IF('Line 1 Source'!D702<>\"\",'Line 1 Source'!D702,\"\")","v":"3160"},{"$f":"IF('Line 1 Source'!E702<>\"\",'Line 1 Source'!E702,\"\")","v":"6301"},{"$f":"IF('Line 1 Source'!F702<>\"\",'Line 1 Source'!F702,\"\")","v":407400}]
[{"$f":"IF('Line 1 Source'!A703<>\"\",'Line 1 Source'!A703,\"\")","v":"2018"},"3143160",{"$f":"CONCATENATE(VLOOKUP(B703,'School List'!$B$3:$H$291,6,FALSE),H703)","v":"31606302"},{"$f":"CONCATENATE(VLOOKUP(B703,'School List'!$B$3:$D$291,3,FALSE),H703)","v":"Harrison County - LANESVILLE SCHOOL CORPORATION6302"},{"$f":"IF('Line 1 Source'!B703<>\"\",'Line 1 Source'!B703,\"\")","v":"31"},{"$f":"IF('Line 1 Source'!C703<>\"\",'Line 1 Source'!C703,\"\")","v":"4"},{"$f":"IF('Line 1 Source'!D703<>\"\",'Line 1 Source'!D703,\"\")","v":"3160"},{"$f":"IF('Line 1 Source'!E703<>\"\",'Line 1 Source'!E703,\"\")","v":"6302"},{"$f":"IF('Line 1 Source'!F703<>\"\",'Line 1 Source'!F703,\"\")","v":130000}]
[{"$f":"IF('Line 1 Source'!A704<>\"\",'Line 1 Source'!A704,\"\")","v":"2018"},"3143180",{"$f":"CONCATENATE(VLOOKUP(B704,'School List'!$B$3:$H$291,6,FALSE),H704)","v":"31800101"},{"$f":"CONCATENATE(VLOOKUP(B704,'School List'!$B$3:$D$291,3,FALSE),H704)","v":"Harrison County - NORTH HARRISON COMMUNITY SCHOOL CORP0101"},{"$f":"IF('Line 1 Source'!B704<>\"\",'Line 1 Source'!B704,\"\")","v":"31"},{"$f":"IF('Line 1 Source'!C704<>\"\",'Line 1 Source'!C704,\"\")","v":"4"},{"$f":"IF('Line 1 Source'!D704<>\"\",'Line 1 Source'!D704,\"\")","v":"3180"},{"$f":"IF('Line 1 Source'!E704<>\"\",'Line 1 Source'!E704,\"\")","v":"0101"},{"$f":"IF('Line 1 Source'!F704<>\"\",'Line 1 Source'!F704,\"\")","v":15552820}]
[{"$f":"IF('Line 1 Source'!A705<>\"\",'Line 1 Source'!A705,\"\")","v":"2018"},"3143180",{"$f":"CONCATENATE(VLOOKUP(B705,'School List'!$B$3:$H$291,6,FALSE),H705)","v":"31800180"},{"$f":"CONCATENATE(VLOOKUP(B705,'School List'!$B$3:$D$291,3,FALSE),H705)","v":"Harrison County - NORTH HARRISON COMMUNITY SCHOOL CORP0180"},{"$f":"IF('Line 1 Source'!B705<>\"\",'Line 1 Source'!B705,\"\")","v":"31"},{"$f":"IF('Line 1 Source'!C705<>\"\",'Line 1 Source'!C705,\"\")","v":"4"},{"$f":"IF('Line 1 Source'!D705<>\"\",'Line 1 Source'!D705,\"\")","v":"3180"},{"$f":"IF('Line 1 Source'!E705<>\"\",'Line 1 Source'!E705,\"\")","v":"0180"},{"$f":"IF('Line 1 Source'!F705<>\"\",'Line 1 Source'!F705,\"\")","v":2304435}]
[{"$f":"IF('Line 1 Source'!A706<>\"\",'Line 1 Source'!A706,\"\")","v":"2018"},"3143180",{"$f":"CONCATENATE(VLOOKUP(B706,'School List'!$B$3:$H$291,6,FALSE),H706)","v":"31801214"},{"$f":"CONCATENATE(VLOOKUP(B706,'School List'!$B$3:$D$291,3,FALSE),H706)","v":"Harrison County - NORTH HARRISON COMMUNITY SCHOOL CORP1214"},{"$f":"IF('Line 1 Source'!B706<>\"\",'Line 1 Source'!B706,\"\")","v":"31"},{"$f":"IF('Line 1 Source'!C706<>\"\",'Line 1 Source'!C706,\"\")","v":"4"},{"$f":"IF('Line 1 Source'!D706<>\"\",'Line 1 Source'!D706,\"\")","v":"3180"},{"$f":"IF('Line 1 Source'!E706<>\"\",'Line 1 Source'!E706,\"\")","v":"1214"},{"$f":"IF('Line 1 Source'!F706<>\"\",'Line 1 Source'!F706,\"\")","v":1907645}]
[{"$f":"IF('Line 1 Source'!A707<>\"\",'Line 1 Source'!A707,\"\")","v":"2018"},{"$f":"CONCATENATE(E707,F707,G707)","v":"3143180"},{"$f":"CONCATENATE(VLOOKUP(B707,'School List'!$B$3:$H$291,6,FALSE),H707)","v":"31806301"},{"$f":"CONCATENATE(VLOOKUP(B707,'School List'!$B$3:$D$291,3,FALSE),H707)","v":"Harrison County - NORTH HARRISON COMMUNITY SCHOOL CORP6301"},{"$f":"IF('Line 1 Source'!B707<>\"\",'Line 1 Source'!B707,\"\")","v":"31"},{"$f":"IF('Line 1 Source'!C707<>\"\",'Line 1 Source'!C707,\"\")","v":"4"},{"$f":"IF('Line 1 Source'!D707<>\"\",'Line 1 Source'!D707,\"\")","v":"3180"},{"$f":"IF('Line 1 Source'!E707<>\"\",'Line 1 Source'!E707,\"\")","v":"6301"},{"$f":"IF('Line 1 Source'!F707<>\"\",'Line 1 Source'!F707,\"\")","v":1498966}]
[{"$f":"IF('Line 1 Source'!A708<>\"\",'Line 1 Source'!A708,\"\")","v":"2018"},"3143180",{"$f":"CONCATENATE(VLOOKUP(B708,'School List'!$B$3:$H$291,6,FALSE),H708)","v":"31806302"},{"$f":"CONCATENATE(VLOOKUP(B708,'School List'!$B$3:$D$291,3,FALSE),H708)","v":"Harrison County - NORTH HARRISON COMMUNITY SCHOOL CORP6302"},{"$f":"IF('Line 1 Source'!B708<>\"\",'Line 1 Source'!B708,\"\")","v":"31"},{"$f":"IF('Line 1 Source'!C708<>\"\",'Line 1 Source'!C708,\"\")","v":"4"},{"$f":"IF('Line 1 Source'!D708<>\"\",'Line 1 Source'!D708,\"\")","v":"3180"},{"$f":"IF('Line 1 Source'!E708<>\"\",'Line 1 Source'!E708,\"\")","v":"6302"},{"$f":"IF('Line 1 Source'!F708<>\"\",'Line 1 Source'!F708,\"\")","v":437535}]
[{"$f":"IF('Line 1 Source'!A709<>\"\",'Line 1 Source'!A709,\"\")","v":"2018"},"3143190",{"$f":"CONCATENATE(VLOOKUP(B709,'School List'!$B$3:$H$291,6,FALSE),H709)","v":"31900101"},{"$f":"CONCATENATE(VLOOKUP(B709,'School List'!$B$3:$D$291,3,FALSE),H709)","v":"Harrison County - SOUTH HARRISON SCHOOL CORPORATION0101"},{"$f":"IF('Line 1 Source'!B709<>\"\",'Line 1 Source'!B709,\"\")","v":"31"},{"$f":"IF('Line 1 Source'!C709<>\"\",'Line 1 Source'!C709,\"\")","v":"4"},{"$f":"IF('Line 1 Source'!D709<>\"\",'Line 1 Source'!D709,\"\")","v":"3190"},{"$f":"IF('Line 1 Source'!E709<>\"\",'Line 1 Source'!E709,\"\")","v":"0101"},{"$f":"IF('Line 1 Source'!F709<>\"\",'Line 1 Source'!F709,\"\")","v":20617520}]
[{"$f":"IF('Line 1 Source'!A710<>\"\",'Line 1 Source'!A710,\"\")","v":"2018"},"3143190",{"$f":"CONCATENATE(VLOOKUP(B710,'School List'!$B$3:$H$291,6,FALSE),H710)","v":"31900180"},{"$f":"CONCATENATE(VLOOKUP(B710,'School List'!$B$3:$D$291,3,FALSE),H710)","v":"Harrison County - SOUTH HARRISON SCHOOL CORPORATION0180"},{"$f":"IF('Line 1 Source'!B710<>\"\",'Line 1 Source'!B710,\"\")","v":"31"},{"$f":"IF('Line 1 Source'!C710<>\"\",'Line 1 Source'!C710,\"\")","v":"4"},{"$f":"IF('Line 1 Source'!D710<>\"\",'Line 1 Source'!D710,\"\")","v":"3190"},{"$f":"IF('Line 1 Source'!E710<>\"\",'Line 1 Source'!E710,\"\")","v":"0180"},{"$f":"IF('Line 1 Source'!F710<>\"\",'Line 1 Source'!F710,\"\")","v":4683350}]
[{"$f":"IF('Line 1 Source'!A711<>\"\",'Line 1 Source'!A711,\"\")","v":"2018"},"3143190",{"$f":"CONCATENATE(VLOOKUP(B711,'School List'!$B$3:$H$291,6,FALSE),H711)","v":"31901214"},{"$f":"CONCATENATE(VLOOKUP(B711,'School List'!$B$3:$D$291,3,FALSE),H711)","v":"Harrison County - SOUTH HARRISON SCHOOL CORPORATION1214"},{"$f":"IF('Line 1 Source'!B711<>\"\",'Line 1 Source'!B711,\"\")","v":"31"},{"$f":"IF('Line 1 Source'!C711<>\"\",'Line 1 Source'!C711,\"\")","v":"4"},{"$f":"IF('Line 1 Source'!D711<>\"\",'Line 1 Source'!D711,\"\")","v":"3190"},{"$f":"IF('Line 1 Source'!E711<>\"\",'Line 1 Source'!E711,\"\")","v":"1214"},{"$f":"IF('Line 1 Source'!F711<>\"\",'Line 1 Source'!F711,\"\")","v":3897941}]
[{"$f":"IF('Line 1 Source'!A712<>\"\",'Line 1 Source'!A712,\"\")","v":"2018"},"3143190",{"$f":"CONCATENATE(VLOOKUP(B712,'School List'!$B$3:$H$291,6,FALSE),H712)","v":"31906301"},{"$f":"CONCATENATE(VLOOKUP(B712,'School List'!$B$3:$D$291,3,FALSE),H712)","v":"Harrison County - SOUTH HARRISON SCHOOL CORPORATION6301"},{"$f":"IF('Line 1 Source'!B712<>\"\",'Line 1 Source'!B712,\"\")","v":"31"},{"$f":"IF('Line 1 Source'!C712<>\"\",'Line 1 Source'!C712,\"\")","v":"4"},{"$f":"IF('Line 1 Source'!D712<>\"\",'Line 1 Source'!D712,\"\")","v":"3190"},{"$f":"IF('Line 1 Source'!E712<>\"\",'Line 1 Source'!E712,\"\")","v":"6301"},{"$f":"IF('Line 1 Source'!F712<>\"\",'Line 1 Source'!F712,\"\")","v":2319593}]
[{"$f":"IF('Line 1 Source'!A713<>\"\",'Line 1 Source'!A713,\"\")","v":"2018"},"3143190",{"$f":"CONCATENATE(VLOOKUP(B713,'School List'!$B$3:$H$291,6,FALSE),H713)","v":"31906302"},{"$f":"CONCATENATE(VLOOKUP(B713,'School List'!$B$3:$D$291,3,FALSE),H713)","v":"Harrison County - SOUTH HARRISON SCHOOL CORPORATION6302"},{"$f":"IF('Line 1 Source'!B713<>\"\",'Line 1 Source'!B713,\"\")","v":"31"},{"$f":"IF('Line 1 Source'!C713<>\"\",'Line 1 Source'!C713,\"\")","v":"4"},{"$f":"IF('Line 1 Source'!D713<>\"\",'Line 1 Source'!D713,\"\")","v":"3190"},{"$f":"IF('Line 1 Source'!E713<>\"\",'Line 1 Source'!E713,\"\")","v":"6302"},{"$f":"IF('Line 1 Source'!F713<>\"\",'Line 1 Source'!F713,\"\")","v":251920}]
[{"$f":"IF('Line 1 Source'!A714<>\"\",'Line 1 Source'!A714,\"\")","v":"2018"},"3243295",{"$f":"CONCATENATE(VLOOKUP(B714,'School List'!$B$3:$H$291,6,FALSE),H714)","v":"32950061"},{"$f":"CONCATENATE(VLOOKUP(B714,'School List'!$B$3:$D$291,3,FALSE),H714)","v":"Hendricks County - NORTHWEST HENDRICKS SCHOOL CORPORATION0061"},{"$f":"IF('Line 1 Source'!B714<>\"\",'Line 1 Source'!B714,\"\")","v":"32"},{"$f":"IF('Line 1 Source'!C714<>\"\",'Line 1 Source'!C714,\"\")","v":"4"},{"$f":"IF('Line 1 Source'!D714<>\"\",'Line 1 Source'!D714,\"\")","v":"3295"},{"$f":"IF('Line 1 Source'!E714<>\"\",'Line 1 Source'!E714,\"\")","v":"0061"},{"$f":"IF('Line 1 Source'!F714<>\"\",'Line 1 Source'!F714,\"\")","v":350000}]
[{"$f":"IF('Line 1 Source'!A715<>\"\",'Line 1 Source'!A715,\"\")","v":"2018"},"3243295",{"$f":"CONCATENATE(VLOOKUP(B715,'School List'!$B$3:$H$291,6,FALSE),H715)","v":"32950101"},{"$f":"CONCATENATE(VLOOKUP(B715,'School List'!$B$3:$D$291,3,FALSE),H715)","v":"Hendricks County - NORTHWEST HENDRICKS SCHOOL CORPORATION0101"},{"$f":"IF('Line 1 Source'!B715<>\"\",'Line 1 Source'!B715,\"\")","v":"32"},{"$f":"IF('Line 1 Source'!C715<>\"\",'Line 1 Source'!C715,\"\")","v":"4"},{"$f":"IF('Line 1 Source'!D715<>\"\",'Line 1 Source'!D715,\"\")","v":"3295"},{"$f":"IF('Line 1 Source'!E715<>\"\",'Line 1 Source'!E715,\"\")","v":"0101"},{"$f":"IF('Line 1 Source'!F715<>\"\",'Line 1 Source'!F715,\"\")","v":12159267}]
[{"$f":"IF('Line 1 Source'!A716<>\"\",'Line 1 Source'!A716,\"\")","v":"2018"},"3243295",{"$f":"CONCATENATE(VLOOKUP(B716,'School List'!$B$3:$H$291,6,FALSE),H716)","v":"32950180"},{"$f":"CONCATENATE(VLOOKUP(B716,'School List'!$B$3:$D$291,3,FALSE),H716)","v":"Hendricks County - NORTHWEST HENDRICKS SCHOOL CORPORATION0180"},{"$f":"IF('Line 1 Source'!B716<>\"\",'Line 1 Source'!B716,\"\")","v":"32"},{"$f":"IF('Line 1 Source'!C716<>\"\",'Line 1 Source'!C716,\"\")","v":"4"},{"$f":"IF('Line 1 Source'!D716<>\"\",'Line 1 Source'!D716,\"\")","v":"3295"},{"$f":"IF('Line 1 Source'!E716<>\"\",'Line 1 Source'!E716,\"\")","v":"0180"},{"$f":"IF('Line 1 Source'!F716<>\"\",'Line 1 Source'!F716,\"\")","v":6317563}]
[{"$f":"IF('Line 1 Source'!A717<>\"\",'Line 1 Source'!A717,\"\")","v":"2018"},"3243295",{"$f":"CONCATENATE(VLOOKUP(B717,'School List'!$B$3:$H$291,6,FALSE),H717)","v":"32950186"},{"$f":"CONCATENATE(VLOOKUP(B717,'School List'!$B$3:$D$291,3,FALSE),H717)","v":"Hendricks County - NORTHWEST HENDRICKS SCHOOL CORPORATION0186"},{"$f":"IF('Line 1 Source'!B717<>\"\",'Line 1 Source'!B717,\"\")","v":"32"},{"$f":"IF('Line 1 Source'!C717<>\"\",'Line 1 Source'!C717,\"\")","v":"4"},{"$f":"IF('Line 1 Source'!D717<>\"\",'Line 1 Source'!D717,\"\")","v":"3295"},{"$f":"IF('Line 1 Source'!E717<>\"\",'Line 1 Source'!E717,\"\")","v":"0186"},{"$f":"IF('Line 1 Source'!F717<>\"\",'Line 1 Source'!F717,\"\")","v":223166}]
[{"$f":"IF('Line 1 Source'!A718<>\"\",'Line 1 Source'!A718,\"\")","v":"2018"},"3243295",{"$f":"CONCATENATE(VLOOKUP(B718,'School List'!$B$3:$H$291,6,FALSE),H718)","v":"32951214"},{"$f":"CONCATENATE(VLOOKUP(B718,'School List'!$B$3:$D$291,3,FALSE),H718)","v":"Hendricks County - NORTHWEST HENDRICKS SCHOOL CORPORATION1214"},{"$f":"IF('Line 1 Source'!B718<>\"\",'Line 1 Source'!B718,\"\")","v":"32"},{"$f":"IF('Line 1 Source'!C718<>\"\",'Line 1 Source'!C718,\"\")","v":"4"},{"$f":"IF('Line 1 Source'!D718<>\"\",'Line 1 Source'!D718,\"\")","v":"3295"},{"$f":"IF('Line 1 Source'!E718<>\"\",'Line 1 Source'!E718,\"\")","v":"1214"},{"$f":"IF('Line 1 Source'!F718<>\"\",'Line 1 Source'!F718,\"\")","v":1828410}]
[{"$f":"IF('Line 1 Source'!A719<>\"\",'Line 1 Source'!A719,\"\")","v":"2018"},"3243295",{"$f":"CONCATENATE(VLOOKUP(B719,'School List'!$B$3:$H$291,6,FALSE),H719)","v":"32956301"},{"$f":"CONCATENATE(VLOOKUP(B719,'School List'!$B$3:$D$291,3,FALSE),H719)","v":"Hendricks County - NORTHWEST HENDRICKS SCHOOL CORPORATION6301"},{"$f":"IF('Line 1 Source'!B719<>\"\",'Line 1 Source'!B719,\"\")","v":"32"},{"$f":"IF('Line 1 Source'!C719<>\"\",'Line 1 Source'!C719,\"\")","v":"4"},{"$f":"IF('Line 1 Source'!D719<>\"\",'Line 1 Source'!D719,\"\")","v":"3295"},{"$f":"IF('Line 1 Source'!E719<>\"\",'Line 1 Source'!E719,\"\")","v":"6301"},{"$f":"IF('Line 1 Source'!F719<>\"\",'Line 1 Source'!F719,\"\")","v":1306161}]
[{"$f":"IF('Line 1 Source'!A720<>\"\",'Line 1 Source'!A720,\"\")","v":"2018"},"3243295",{"$f":"CONCATENATE(VLOOKUP(B720,'School List'!$B$3:$H$291,6,FALSE),H720)","v":"32956302"},{"$f":"CONCATENATE(VLOOKUP(B720,'School List'!$B$3:$D$291,3,FALSE),H720)","v":"Hendricks County - NORTHWEST HENDRICKS SCHOOL CORPORATION6302"},{"$f":"IF('Line 1 Source'!B720<>\"\",'Line 1 Source'!B720,\"\")","v":"32"},{"$f":"IF('Line 1 Source'!C720<>\"\",'Line 1 Source'!C720,\"\")","v":"4"},{"$f":"IF('Line 1 Source'!D720<>\"\",'Line 1 Source'!D720,\"\")","v":"3295"},{"$f":"IF('Line 1 Source'!E720<>\"\",'Line 1 Source'!E720,\"\")","v":"6302"},{"$f":"IF('Line 1 Source'!F720<>\"\",'Line 1 Source'!F720,\"\")","v":1415000}]
[{"$f":"IF('Line 1 Source'!A721<>\"\",'Line 1 Source'!A721,\"\")","v":"2018"},"3243305",{"$f":"CONCATENATE(VLOOKUP(B721,'School List'!$B$3:$H$291,6,FALSE),H721)","v":"33050101"},{"$f":"CONCATENATE(VLOOKUP(B721,'School List'!$B$3:$D$291,3,FALSE),H721)","v":"Hendricks County - BROWNSBURG COMMUNITY SCHOOL CORPORATION0101"},{"$f":"IF('Line 1 Source'!B721<>\"\",'Line 1 Source'!B721,\"\")","v":"32"},{"$f":"IF('Line 1 Source'!C721<>\"\",'Line 1 Source'!C721,\"\")","v":"4"},{"$f":"IF('Line 1 Source'!D721<>\"\",'Line 1 Source'!D721,\"\")","v":"3305"},{"$f":"IF('Line 1 Source'!E721<>\"\",'Line 1 Source'!E721,\"\")","v":"0101"},{"$f":"IF('Line 1 Source'!F721<>\"\",'Line 1 Source'!F721,\"\")","v":59092702}]
[{"$f":"IF('Line 1 Source'!A722<>\"\",'Line 1 Source'!A722,\"\")","v":"2018"},"3243305",{"$f":"CONCATENATE(VLOOKUP(B722,'School List'!$B$3:$H$291,6,FALSE),H722)","v":"33050180"},{"$f":"CONCATENATE(VLOOKUP(B722,'School List'!$B$3:$D$291,3,FALSE),H722)","v":"Hendricks County - BROWNSBURG COMMUNITY SCHOOL CORPORATION0180"},{"$f":"IF('Line 1 Source'!B722<>\"\",'Line 1 Source'!B722,\"\")","v":"32"},{"$f":"IF('Line 1 Source'!C722<>\"\",'Line 1 Source'!C722,\"\")","v":"4"},{"$f":"IF('Line 1 Source'!D722<>\"\",'Line 1 Source'!D722,\"\")","v":"3305"},{"$f":"IF('Line 1 Source'!E722<>\"\",'Line 1 Source'!E722,\"\")","v":"0180"},{"$f":"IF('Line 1 Source'!F722<>\"\",'Line 1 Source'!F722,\"\")","v":23015608}]
[{"$f":"IF('Line 1 Source'!A723<>\"\",'Line 1 Source'!A723,\"\")","v":"2018"},"3243305",{"$f":"CONCATENATE(VLOOKUP(B723,'School List'!$B$3:$H$291,6,FALSE),H723)","v":"33050186"},{"$f":"CONCATENATE(VLOOKUP(B723,'School List'!$B$3:$D$291,3,FALSE),H723)","v":"Hendricks County - BROWNSBURG COMMUNITY SCHOOL CORPORATION0186"},{"$f":"IF('Line 1 Source'!B723<>\"\",'Line 1 Source'!B723,\"\")","v":"32"},{"$f":"IF('Line 1 Source'!C723<>\"\",'Line 1 Source'!C723,\"\")","v":"4"},{"$f":"IF('Line 1 Source'!D723<>\"\",'Line 1 Source'!D723,\"\")","v":"3305"},{"$f":"IF('Line 1 Source'!E723<>\"\",'Line 1 Source'!E723,\"\")","v":"0186"},{"$f":"IF('Line 1 Source'!F723<>\"\",'Line 1 Source'!F723,\"\")","v":703189}]
[{"$f":"IF('Line 1 Source'!A724<>\"\",'Line 1 Source'!A724,\"\")","v":"2018"},"3243305",{"$f":"CONCATENATE(VLOOKUP(B724,'School List'!$B$3:$H$291,6,FALSE),H724)","v":"33051214"},{"$f":"CONCATENATE(VLOOKUP(B724,'School List'!$B$3:$D$291,3,FALSE),H724)","v":"Hendricks County - BROWNSBURG COMMUNITY SCHOOL CORPORATION1214"},{"$f":"IF('Line 1 Source'!B724<>\"\",'Line 1 Source'!B724,\"\")","v":"32"},{"$f":"IF('Line 1 Source'!C724<>\"\",'Line 1 Source'!C724,\"\")","v":"4"},{"$f":"IF('Line 1 Source'!D724<>\"\",'Line 1 Source'!D724,\"\")","v":"3305"},{"$f":"IF('Line 1 Source'!E724<>\"\",'Line 1 Source'!E724,\"\")","v":"1214"},{"$f":"IF('Line 1 Source'!F724<>\"\",'Line 1 Source'!F724,\"\")","v":6786430}]
[{"$f":"IF('Line 1 Source'!A725<>\"\",'Line 1 Source'!A725,\"\")","v":"2018"},"3243305",{"$f":"CONCATENATE(VLOOKUP(B725,'School List'!$B$3:$H$291,6,FALSE),H725)","v":"33056301"},{"$f":"CONCATENATE(VLOOKUP(B725,'School List'!$B$3:$D$291,3,FALSE),H725)","v":"Hendricks County - BROWNSBURG COMMUNITY SCHOOL CORPORATION6301"},{"$f":"IF('Line 1 Source'!B725<>\"\",'Line 1 Source'!B725,\"\")","v":"32"},{"$f":"IF('Line 1 Source'!C725<>\"\",'Line 1 Source'!C725,\"\")","v":"4"},{"$f":"IF('Line 1 Source'!D725<>\"\",'Line 1 Source'!D725,\"\")","v":"3305"},{"$f":"IF('Line 1 Source'!E725<>\"\",'Line 1 Source'!E725,\"\")","v":"6301"},{"$f":"IF('Line 1 Source'!F725<>\"\",'Line 1 Source'!F725,\"\")","v":5225313}]
[{"$f":"IF('Line 1 Source'!A726<>\"\",'Line 1 Source'!A726,\"\")","v":"2018"},"3243305",{"$f":"CONCATENATE(VLOOKUP(B726,'School List'!$B$3:$H$291,6,FALSE),H726)","v":"33056302"},{"$f":"CONCATENATE(VLOOKUP(B726,'School List'!$B$3:$D$291,3,FALSE),H726)","v":"Hendricks County - BROWNSBURG COMMUNITY SCHOOL CORPORATION6302"},{"$f":"IF('Line 1 Source'!B726<>\"\",'Line 1 Source'!B726,\"\")","v":"32"},{"$f":"IF('Line 1 Source'!C726<>\"\",'Line 1 Source'!C726,\"\")","v":"4"},{"$f":"IF('Line 1 Source'!D726<>\"\",'Line 1 Source'!D726,\"\")","v":"3305"},{"$f":"IF('Line 1 Source'!E726<>\"\",'Line 1 Source'!E726,\"\")","v":"6302"},{"$f":"IF('Line 1 Source'!F726<>\"\",'Line 1 Source'!F726,\"\")","v":1417689}]
[{"$f":"IF('Line 1 Source'!A727<>\"\",'Line 1 Source'!A727,\"\")","v":"2018"},"3243315",{"$f":"CONCATENATE(VLOOKUP(B727,'School List'!$B$3:$H$291,6,FALSE),H727)","v":"33150101"},{"$f":"CONCATENATE(VLOOKUP(B727,'School List'!$B$3:$D$291,3,FALSE),H727)","v":"Hendricks County - AVON COMMUNITY SCHOOL CORPORATION0101"},{"$f":"IF('Line 1 Source'!B727<>\"\",'Line 1 Source'!B727,\"\")","v":"32"},{"$f":"IF('Line 1 Source'!C727<>\"\",'Line 1 Source'!C727,\"\")","v":"4"},{"$f":"IF('Line 1 Source'!D727<>\"\",'Line 1 Source'!D727,\"\")","v":"3315"},{"$f":"IF('Line 1 Source'!E727<>\"\",'Line 1 Source'!E727,\"\")","v":"0101"},{"$f":"IF('Line 1 Source'!F727<>\"\",'Line 1 Source'!F727,\"\")","v":62904457}]
[{"$f":"IF('Line 1 Source'!A728<>\"\",'Line 1 Source'!A728,\"\")","v":"2018"},"3243315",{"$f":"CONCATENATE(VLOOKUP(B728,'School List'!$B$3:$H$291,6,FALSE),H728)","v":"33150180"},{"$f":"CONCATENATE(VLOOKUP(B728,'School List'!$B$3:$D$291,3,FALSE),H728)","v":"Hendricks County - AVON COMMUNITY SCHOOL CORPORATION0180"},{"$f":"IF('Line 1 Source'!B728<>\"\",'Line 1 Source'!B728,\"\")","v":"32"},{"$f":"IF('Line 1 Source'!C728<>\"\",'Line 1 Source'!C728,\"\")","v":"4"},{"$f":"IF('Line 1 Source'!D728<>\"\",'Line 1 Source'!D728,\"\")","v":"3315"},{"$f":"IF('Line 1 Source'!E728<>\"\",'Line 1 Source'!E728,\"\")","v":"0180"},{"$f":"IF('Line 1 Source'!F728<>\"\",'Line 1 Source'!F728,\"\")","v":25008478}]
[{"$f":"IF('Line 1 Source'!A729<>\"\",'Line 1 Source'!A729,\"\")","v":"2018"},"3243315",{"$f":"CONCATENATE(VLOOKUP(B729,'School List'!$B$3:$H$291,6,FALSE),H729)","v":"33150186"},{"$f":"CONCATENATE(VLOOKUP(B729,'School List'!$B$3:$D$291,3,FALSE),H729)","v":"Hendricks County - AVON COMMUNITY SCHOOL CORPORATION0186"},{"$f":"IF('Line 1 Source'!B729<>\"\",'Line 1 Source'!B729,\"\")","v":"32"},{"$f":"IF('Line 1 Source'!C729<>\"\",'Line 1 Source'!C729,\"\")","v":"4"},{"$f":"IF('Line 1 Source'!D729<>\"\",'Line 1 Source'!D729,\"\")","v":"3315"},{"$f":"IF('Line 1 Source'!E729<>\"\",'Line 1 Source'!E729,\"\")","v":"0186"},{"$f":"IF('Line 1 Source'!F729<>\"\",'Line 1 Source'!F729,\"\")","v":852743}]
[{"$f":"IF('Line 1 Source'!A730<>\"\",'Line 1 Source'!A730,\"\")","v":"2018"},"3243315",{"$f":"CONCATENATE(VLOOKUP(B730,'School List'!$B$3:$H$291,6,FALSE),H730)","v":"33151214"},{"$f":"CONCATENATE(VLOOKUP(B730,'School List'!$B$3:$D$291,3,FALSE),H730)","v":"Hendricks County - AVON COMMUNITY SCHOOL CORPORATION1214"},{"$f":"IF('Line 1 Source'!B730<>\"\",'Line 1 Source'!B730,\"\")","v":"32"},{"$f":"IF('Line 1 Source'!C730<>\"\",'Line 1 Source'!C730,\"\")","v":"4"},{"$f":"IF('Line 1 Source'!D730<>\"\",'Line 1 Source'!D730,\"\")","v":"3315"},{"$f":"IF('Line 1 Source'!E730<>\"\",'Line 1 Source'!E730,\"\")","v":"1214"},{"$f":"IF('Line 1 Source'!F730<>\"\",'Line 1 Source'!F730,\"\")","v":7695772}]
[{"$f":"IF('Line 1 Source'!A731<>\"\",'Line 1 Source'!A731,\"\")","v":"2018"},"3243315",{"$f":"CONCATENATE(VLOOKUP(B731,'School List'!$B$3:$H$291,6,FALSE),H731)","v":"33156301"},{"$f":"CONCATENATE(VLOOKUP(B731,'School List'!$B$3:$D$291,3,FALSE),H731)","v":"Hendricks County - AVON COMMUNITY SCHOOL CORPORATION6301"},{"$f":"IF('Line 1 Source'!B731<>\"\",'Line 1 Source'!B731,\"\")","v":"32"},{"$f":"IF('Line 1 Source'!C731<>\"\",'Line 1 Source'!C731,\"\")","v":"4"},{"$f":"IF('Line 1 Source'!D731<>\"\",'Line 1 Source'!D731,\"\")","v":"3315"},{"$f":"IF('Line 1 Source'!E731<>\"\",'Line 1 Source'!E731,\"\")","v":"6301"},{"$f":"IF('Line 1 Source'!F731<>\"\",'Line 1 Source'!F731,\"\")","v":7959190}]
[{"$f":"IF('Line 1 Source'!A732<>\"\",'Line 1 Source'!A732,\"\")","v":"2018"},"3243315",{"$f":"CONCATENATE(VLOOKUP(B732,'School List'!$B$3:$H$291,6,FALSE),H732)","v":"33156302"},{"$f":"CONCATENATE(VLOOKUP(B732,'School List'!$B$3:$D$291,3,FALSE),H732)","v":"Hendricks County - AVON COMMUNITY SCHOOL CORPORATION6302"},{"$f":"IF('Line 1 Source'!B732<>\"\",'Line 1 Source'!B732,\"\")","v":"32"},{"$f":"IF('Line 1 Source'!C732<>\"\",'Line 1 Source'!C732,\"\")","v":"4"},{"$f":"IF('Line 1 Source'!D732<>\"\",'Line 1 Source'!D732,\"\")","v":"3315"},{"$f":"IF('Line 1 Source'!E732<>\"\",'Line 1 Source'!E732,\"\")","v":"6302"},{"$f":"IF('Line 1 Source'!F732<>\"\",'Line 1 Source'!F732,\"\")","v":925330}]
[{"$f":"IF('Line 1 Source'!A733<>\"\",'Line 1 Source'!A733,\"\")","v":"2018"},"3243325",{"$f":"CONCATENATE(VLOOKUP(B733,'School List'!$B$3:$H$291,6,FALSE),H733)","v":"33250101"},{"$f":"CONCATENATE(VLOOKUP(B733,'School List'!$B$3:$D$291,3,FALSE),H733)","v":"Hendricks County - DANVILLE COMMUNITY SCHOOL CORPORATION0101"},{"$f":"IF('Line 1 Source'!B733<>\"\",'Line 1 Source'!B733,\"\")","v":"32"},{"$f":"IF('Line 1 Source'!C733<>\"\",'Line 1 Source'!C733,\"\")","v":"4"},{"$f":"IF('Line 1 Source'!D733<>\"\",'Line 1 Source'!D733,\"\")","v":"3325"},{"$f":"IF('Line 1 Source'!E733<>\"\",'Line 1 Source'!E733,\"\")","v":"0101"},{"$f":"IF('Line 1 Source'!F733<>\"\",'Line 1 Source'!F733,\"\")","v":16370008}]
[{"$f":"IF('Line 1 Source'!A734<>\"\",'Line 1 Source'!A734,\"\")","v":"2018"},"3243325",{"$f":"CONCATENATE(VLOOKUP(B734,'School List'!$B$3:$H$291,6,FALSE),H734)","v":"33250180"},{"$f":"CONCATENATE(VLOOKUP(B734,'School List'!$B$3:$D$291,3,FALSE),H734)","v":"Hendricks County - DANVILLE COMMUNITY SCHOOL CORPORATION0180"},{"$f":"IF('Line 1 Source'!B734<>\"\",'Line 1 Source'!B734,\"\")","v":"32"},{"$f":"IF('Line 1 Source'!C734<>\"\",'Line 1 Source'!C734,\"\")","v":"4"},{"$f":"IF('Line 1 Source'!D734<>\"\",'Line 1 Source'!D734,\"\")","v":"3325"},{"$f":"IF('Line 1 Source'!E734<>\"\",'Line 1 Source'!E734,\"\")","v":"0180"},{"$f":"IF('Line 1 Source'!F734<>\"\",'Line 1 Source'!F734,\"\")","v":6848340}]
[{"$f":"IF('Line 1 Source'!A735<>\"\",'Line 1 Source'!A735,\"\")","v":"2018"},"3243325",{"$f":"CONCATENATE(VLOOKUP(B735,'School List'!$B$3:$H$291,6,FALSE),H735)","v":"33250186"},{"$f":"CONCATENATE(VLOOKUP(B735,'School List'!$B$3:$D$291,3,FALSE),H735)","v":"Hendricks County - DANVILLE COMMUNITY SCHOOL CORPORATION0186"},{"$f":"IF('Line 1 Source'!B735<>\"\",'Line 1 Source'!B735,\"\")","v":"32"},{"$f":"IF('Line 1 Source'!C735<>\"\",'Line 1 Source'!C735,\"\")","v":"4"},{"$f":"IF('Line 1 Source'!D735<>\"\",'Line 1 Source'!D735,\"\")","v":"3325"},{"$f":"IF('Line 1 Source'!E735<>\"\",'Line 1 Source'!E735,\"\")","v":"0186"},{"$f":"IF('Line 1 Source'!F735<>\"\",'Line 1 Source'!F735,\"\")","v":302313}]
[{"$f":"IF('Line 1 Source'!A736<>\"\",'Line 1 Source'!A736,\"\")","v":"2018"},"3243325",{"$f":"CONCATENATE(VLOOKUP(B736,'School List'!$B$3:$H$291,6,FALSE),H736)","v":"33251214"},{"$f":"CONCATENATE(VLOOKUP(B736,'School List'!$B$3:$D$291,3,FALSE),H736)","v":"Hendricks County - DANVILLE COMMUNITY SCHOOL CORPORATION1214"},{"$f":"IF('Line 1 Source'!B736<>\"\",'Line 1 Source'!B736,\"\")","v":"32"},{"$f":"IF('Line 1 Source'!C736<>\"\",'Line 1 Source'!C736,\"\")","v":"4"},{"$f":"IF('Line 1 Source'!D736<>\"\",'Line 1 Source'!D736,\"\")","v":"3325"},{"$f":"IF('Line 1 Source'!E736<>\"\",'Line 1 Source'!E736,\"\")","v":"1214"},{"$f":"IF('Line 1 Source'!F736<>\"\",'Line 1 Source'!F736,\"\")","v":2350049}]
[{"$f":"IF('Line 1 Source'!A737<>\"\",'Line 1 Source'!A737,\"\")","v":"2018"},"3243325",{"$f":"CONCATENATE(VLOOKUP(B737,'School List'!$B$3:$H$291,6,FALSE),H737)","v":"33256301"},{"$f":"CONCATENATE(VLOOKUP(B737,'School List'!$B$3:$D$291,3,FALSE),H737)","v":"Hendricks County - DANVILLE COMMUNITY SCHOOL CORPORATION6301"},{"$f":"IF('Line 1 Source'!B737<>\"\",'Line 1 Source'!B737,\"\")","v":"32"},{"$f":"IF('Line 1 Source'!C737<>\"\",'Line 1 Source'!C737,\"\")","v":"4"},{"$f":"IF('Line 1 Source'!D737<>\"\",'Line 1 Source'!D737,\"\")","v":"3325"},{"$f":"IF('Line 1 Source'!E737<>\"\",'Line 1 Source'!E737,\"\")","v":"6301"},{"$f":"IF('Line 1 Source'!F737<>\"\",'Line 1 Source'!F737,\"\")","v":1964256}]
[{"$f":"IF('Line 1 Source'!A738<>\"\",'Line 1 Source'!A738,\"\")","v":"2018"},"3243325",{"$f":"CONCATENATE(VLOOKUP(B738,'School List'!$B$3:$H$291,6,FALSE),H738)","v":"33256302"},{"$f":"CONCATENATE(VLOOKUP(B738,'School List'!$B$3:$D$291,3,FALSE),H738)","v":"Hendricks County - DANVILLE COMMUNITY SCHOOL CORPORATION6302"},{"$f":"IF('Line 1 Source'!B738<>\"\",'Line 1 Source'!B738,\"\")","v":"32"},{"$f":"IF('Line 1 Source'!C738<>\"\",'Line 1 Source'!C738,\"\")","v":"4"},{"$f":"IF('Line 1 Source'!D738<>\"\",'Line 1 Source'!D738,\"\")","v":"3325"},{"$f":"IF('Line 1 Source'!E738<>\"\",'Line 1 Source'!E738,\"\")","v":"6302"},{"$f":"IF('Line 1 Source'!F738<>\"\",'Line 1 Source'!F738,\"\")","v":460000}]
[{"$f":"IF('Line 1 Source'!A739<>\"\",'Line 1 Source'!A739,\"\")","v":"2018"},"3243330",{"$f":"CONCATENATE(VLOOKUP(B739,'School List'!$B$3:$H$291,6,FALSE),H739)","v":"33300101"},{"$f":"CONCATENATE(VLOOKUP(B739,'School List'!$B$3:$D$291,3,FALSE),H739)","v":"Hendricks County - PLAINFIELD COMMUNITY SCHOOL CORPORATION0101"},{"$f":"IF('Line 1 Source'!B739<>\"\",'Line 1 Source'!B739,\"\")","v":"32"},{"$f":"IF('Line 1 Source'!C739<>\"\",'Line 1 Source'!C739,\"\")","v":"4"},{"$f":"IF('Line 1 Source'!D739<>\"\",'Line 1 Source'!D739,\"\")","v":"3330"},{"$f":"IF('Line 1 Source'!E739<>\"\",'Line 1 Source'!E739,\"\")","v":"0101"},{"$f":"IF('Line 1 Source'!F739<>\"\",'Line 1 Source'!F739,\"\")","v":36900000}]
[{"$f":"IF('Line 1 Source'!A740<>\"\",'Line 1 Source'!A740,\"\")","v":"2018"},"3243330",{"$f":"CONCATENATE(VLOOKUP(B740,'School List'!$B$3:$H$291,6,FALSE),H740)","v":"33300180"},{"$f":"CONCATENATE(VLOOKUP(B740,'School List'!$B$3:$D$291,3,FALSE),H740)","v":"Hendricks County - PLAINFIELD COMMUNITY SCHOOL CORPORATION0180"},{"$f":"IF('Line 1 Source'!B740<>\"\",'Line 1 Source'!B740,\"\")","v":"32"},{"$f":"IF('Line 1 Source'!C740<>\"\",'Line 1 Source'!C740,\"\")","v":"4"},{"$f":"IF('Line 1 Source'!D740<>\"\",'Line 1 Source'!D740,\"\")","v":"3330"},{"$f":"IF('Line 1 Source'!E740<>\"\",'Line 1 Source'!E740,\"\")","v":"0180"},{"$f":"IF('Line 1 Source'!F740<>\"\",'Line 1 Source'!F740,\"\")","v":14937556}]
[{"$f":"IF('Line 1 Source'!A741<>\"\",'Line 1 Source'!A741,\"\")","v":"2018"},"3243330",{"$f":"CONCATENATE(VLOOKUP(B741,'School List'!$B$3:$H$291,6,FALSE),H741)","v":"33300186"},{"$f":"CONCATENATE(VLOOKUP(B741,'School List'!$B$3:$D$291,3,FALSE),H741)","v":"Hendricks County - PLAINFIELD COMMUNITY SCHOOL CORPORATION0186"},{"$f":"IF('Line 1 Source'!B741<>\"\",'Line 1 Source'!B741,\"\")","v":"32"},{"$f":"IF('Line 1 Source'!C741<>\"\",'Line 1 Source'!C741,\"\")","v":"4"},{"$f":"IF('Line 1 Source'!D741<>\"\",'Line 1 Source'!D741,\"\")","v":"3330"},{"$f":"IF('Line 1 Source'!E741<>\"\",'Line 1 Source'!E741,\"\")","v":"0186"},{"$f":"IF('Line 1 Source'!F741<>\"\",'Line 1 Source'!F741,\"\")","v":350806}]
[{"$f":"IF('Line 1 Source'!A742<>\"\",'Line 1 Source'!A742,\"\")","v":"2018"},"3243330",{"$f":"CONCATENATE(VLOOKUP(B742,'School List'!$B$3:$H$291,6,FALSE),H742)","v":"33301214"},{"$f":"CONCATENATE(VLOOKUP(B742,'School List'!$B$3:$D$291,3,FALSE),H742)","v":"Hendricks County - PLAINFIELD COMMUNITY SCHOOL CORPORATION1214"},{"$f":"IF('Line 1 Source'!B742<>\"\",'Line 1 Source'!B742,\"\")","v":"32"},{"$f":"IF('Line 1 Source'!C742<>\"\",'Line 1 Source'!C742,\"\")","v":"4"},{"$f":"IF('Line 1 Source'!D742<>\"\",'Line 1 Source'!D742,\"\")","v":"3330"},{"$f":"IF('Line 1 Source'!E742<>\"\",'Line 1 Source'!E742,\"\")","v":"1214"},{"$f":"IF('Line 1 Source'!F742<>\"\",'Line 1 Source'!F742,\"\")","v":5547685}]
[{"$f":"IF('Line 1 Source'!A743<>\"\",'Line 1 Source'!A743,\"\")","v":"2018"},"3243330",{"$f":"CONCATENATE(VLOOKUP(B743,'School List'!$B$3:$H$291,6,FALSE),H743)","v":"33306301"},{"$f":"CONCATENATE(VLOOKUP(B743,'School List'!$B$3:$D$291,3,FALSE),H743)","v":"Hendricks County - PLAINFIELD COMMUNITY SCHOOL CORPORATION6301"},{"$f":"IF('Line 1 Source'!B743<>\"\",'Line 1 Source'!B743,\"\")","v":"32"},{"$f":"IF('Line 1 Source'!C743<>\"\",'Line 1 Source'!C743,\"\")","v":"4"},{"$f":"IF('Line 1 Source'!D743<>\"\",'Line 1 Source'!D743,\"\")","v":"3330"},{"$f":"IF('Line 1 Source'!E743<>\"\",'Line 1 Source'!E743,\"\")","v":"6301"},{"$f":"IF('Line 1 Source'!F743<>\"\",'Line 1 Source'!F743,\"\")","v":2286803}]
[{"$f":"IF('Line 1 Source'!A744<>\"\",'Line 1 Source'!A744,\"\")","v":"2018"},"3243330",{"$f":"CONCATENATE(VLOOKUP(B744,'School List'!$B$3:$H$291,6,FALSE),H744)","v":"33306302"},{"$f":"CONCATENATE(VLOOKUP(B744,'School List'!$B$3:$D$291,3,FALSE),H744)","v":"Hendricks County - PLAINFIELD COMMUNITY SCHOOL CORPORATION6302"},{"$f":"IF('Line 1 Source'!B744<>\"\",'Line 1 Source'!B744,\"\")","v":"32"},{"$f":"IF('Line 1 Source'!C744<>\"\",'Line 1 Source'!C744,\"\")","v":"4"},{"$f":"IF('Line 1 Source'!D744<>\"\",'Line 1 Source'!D744,\"\")","v":"3330"},{"$f":"IF('Line 1 Source'!E744<>\"\",'Line 1 Source'!E744,\"\")","v":"6302"},{"$f":"IF('Line 1 Source'!F744<>\"\",'Line 1 Source'!F744,\"\")","v":496321}]
[{"$f":"IF('Line 1 Source'!A745<>\"\",'Line 1 Source'!A745,\"\")","v":"2018"},"3243335",{"$f":"CONCATENATE(VLOOKUP(B745,'School List'!$B$3:$H$291,6,FALSE),H745)","v":"33350101"},{"$f":"CONCATENATE(VLOOKUP(B745,'School List'!$B$3:$D$291,3,FALSE),H745)","v":"Hendricks County - MILL CREEK COMMUNITY SCHOOL CORPORATION0101"},{"$f":"IF('Line 1 Source'!B745<>\"\",'Line 1 Source'!B745,\"\")","v":"32"},{"$f":"IF('Line 1 Source'!C745<>\"\",'Line 1 Source'!C745,\"\")","v":"4"},{"$f":"IF('Line 1 Source'!D745<>\"\",'Line 1 Source'!D745,\"\")","v":"3335"},{"$f":"IF('Line 1 Source'!E745<>\"\",'Line 1 Source'!E745,\"\")","v":"0101"},{"$f":"IF('Line 1 Source'!F745<>\"\",'Line 1 Source'!F745,\"\")","v":10947500}]
[{"$f":"IF('Line 1 Source'!A746<>\"\",'Line 1 Source'!A746,\"\")","v":"2018"},"3243335",{"$f":"CONCATENATE(VLOOKUP(B746,'School List'!$B$3:$H$291,6,FALSE),H746)","v":"33350180"},{"$f":"CONCATENATE(VLOOKUP(B746,'School List'!$B$3:$D$291,3,FALSE),H746)","v":"Hendricks County - MILL CREEK COMMUNITY SCHOOL CORPORATION0180"},{"$f":"IF('Line 1 Source'!B746<>\"\",'Line 1 Source'!B746,\"\")","v":"32"},{"$f":"IF('Line 1 Source'!C746<>\"\",'Line 1 Source'!C746,\"\")","v":"4"},{"$f":"IF('Line 1 Source'!D746<>\"\",'Line 1 Source'!D746,\"\")","v":"3335"},{"$f":"IF('Line 1 Source'!E746<>\"\",'Line 1 Source'!E746,\"\")","v":"0180"},{"$f":"IF('Line 1 Source'!F746<>\"\",'Line 1 Source'!F746,\"\")","v":2838982}]
[{"$f":"IF('Line 1 Source'!A747<>\"\",'Line 1 Source'!A747,\"\")","v":"2018"},"3243335",{"$f":"CONCATENATE(VLOOKUP(B747,'School List'!$B$3:$H$291,6,FALSE),H747)","v":"33350186"},{"$f":"CONCATENATE(VLOOKUP(B747,'School List'!$B$3:$D$291,3,FALSE),H747)","v":"Hendricks County - MILL CREEK COMMUNITY SCHOOL CORPORATION0186"},{"$f":"IF('Line 1 Source'!B747<>\"\",'Line 1 Source'!B747,\"\")","v":"32"},{"$f":"IF('Line 1 Source'!C747<>\"\",'Line 1 Source'!C747,\"\")","v":"4"},{"$f":"IF('Line 1 Source'!D747<>\"\",'Line 1 Source'!D747,\"\")","v":"3335"},{"$f":"IF('Line 1 Source'!E747<>\"\",'Line 1 Source'!E747,\"\")","v":"0186"},{"$f":"IF('Line 1 Source'!F747<>\"\",'Line 1 Source'!F747,\"\")","v":0}]
[{"$f":"IF('Line 1 Source'!A748<>\"\",'Line 1 Source'!A748,\"\")","v":"2018"},"3243335",{"$f":"CONCATENATE(VLOOKUP(B748,'School List'!$B$3:$H$291,6,FALSE),H748)","v":"33351214"},{"$f":"CONCATENATE(VLOOKUP(B748,'School List'!$B$3:$D$291,3,FALSE),H748)","v":"Hendricks County - MILL CREEK COMMUNITY SCHOOL CORPORATION1214"},{"$f":"IF('Line 1 Source'!B748<>\"\",'Line 1 Source'!B748,\"\")","v":"32"},{"$f":"IF('Line 1 Source'!C748<>\"\",'Line 1 Source'!C748,\"\")","v":"4"},{"$f":"IF('Line 1 Source'!D748<>\"\",'Line 1 Source'!D748,\"\")","v":"3335"},{"$f":"IF('Line 1 Source'!E748<>\"\",'Line 1 Source'!E748,\"\")","v":"1214"},{"$f":"IF('Line 1 Source'!F748<>\"\",'Line 1 Source'!F748,\"\")","v":1486680}]
[{"$f":"IF('Line 1 Source'!A749<>\"\",'Line 1 Source'!A749,\"\")","v":"2018"},"3243335",{"$f":"CONCATENATE(VLOOKUP(B749,'School List'!$B$3:$H$291,6,FALSE),H749)","v":"33356301"},{"$f":"CONCATENATE(VLOOKUP(B749,'School List'!$B$3:$D$291,3,FALSE),H749)","v":"Hendricks County - MILL CREEK COMMUNITY SCHOOL CORPORATION6301"},{"$f":"IF('Line 1 Source'!B749<>\"\",'Line 1 Source'!B749,\"\")","v":"32"},{"$f":"IF('Line 1 Source'!C749<>\"\",'Line 1 Source'!C749,\"\")","v":"4"},{"$f":"IF('Line 1 Source'!D749<>\"\",'Line 1 Source'!D749,\"\")","v":"3335"},{"$f":"IF('Line 1 Source'!E749<>\"\",'Line 1 Source'!E749,\"\")","v":"6301"},{"$f":"IF('Line 1 Source'!F749<>\"\",'Line 1 Source'!F749,\"\")","v":1469000}]
[{"$f":"IF('Line 1 Source'!A750<>\"\",'Line 1 Source'!A750,\"\")","v":"2018"},"3243335",{"$f":"CONCATENATE(VLOOKUP(B750,'School List'!$B$3:$H$291,6,FALSE),H750)","v":"33356302"},{"$f":"CONCATENATE(VLOOKUP(B750,'School List'!$B$3:$D$291,3,FALSE),H750)","v":"Hendricks County - MILL CREEK COMMUNITY SCHOOL CORPORATION6302"},{"$f":"IF('Line 1 Source'!B750<>\"\",'Line 1 Source'!B750,\"\")","v":"32"},{"$f":"IF('Line 1 Source'!C750<>\"\",'Line 1 Source'!C750,\"\")","v":"4"},{"$f":"IF('Line 1 Source'!D750<>\"\",'Line 1 Source'!D750,\"\")","v":"3335"},{"$f":"IF('Line 1 Source'!E750<>\"\",'Line 1 Source'!E750,\"\")","v":"6302"},{"$f":"IF('Line 1 Source'!F750<>\"\",'Line 1 Source'!F750,\"\")","v":275000}]
[{"$f":"IF('Line 1 Source'!A751<>\"\",'Line 1 Source'!A751,\"\")","v":"2018"},"3343405",{"$f":"CONCATENATE(VLOOKUP(B751,'School List'!$B$3:$H$291,6,FALSE),H751)","v":"34050061"},{"$f":"CONCATENATE(VLOOKUP(B751,'School List'!$B$3:$D$291,3,FALSE),H751)","v":"Henry County - BLUE RIVER VALLEY SCHOOL CORPORATION0061"},{"$f":"IF('Line 1 Source'!B751<>\"\",'Line 1 Source'!B751,\"\")","v":"33"},{"$f":"IF('Line 1 Source'!C751<>\"\",'Line 1 Source'!C751,\"\")","v":"4"},{"$f":"IF('Line 1 Source'!D751<>\"\",'Line 1 Source'!D751,\"\")","v":"3405"},{"$f":"IF('Line 1 Source'!E751<>\"\",'Line 1 Source'!E751,\"\")","v":"0061"},{"$f":"IF('Line 1 Source'!F751<>\"\",'Line 1 Source'!F751,\"\")","v":400000}]
[{"$f":"IF('Line 1 Source'!A752<>\"\",'Line 1 Source'!A752,\"\")","v":"2018"},"3343405",{"$f":"CONCATENATE(VLOOKUP(B752,'School List'!$B$3:$H$291,6,FALSE),H752)","v":"34050101"},{"$f":"CONCATENATE(VLOOKUP(B752,'School List'!$B$3:$D$291,3,FALSE),H752)","v":"Henry County - BLUE RIVER VALLEY SCHOOL CORPORATION0101"},{"$f":"IF('Line 1 Source'!B752<>\"\",'Line 1 Source'!B752,\"\")","v":"33"},{"$f":"IF('Line 1 Source'!C752<>\"\",'Line 1 Source'!C752,\"\")","v":"4"},{"$f":"IF('Line 1 Source'!D752<>\"\",'Line 1 Source'!D752,\"\")","v":"3405"},{"$f":"IF('Line 1 Source'!E752<>\"\",'Line 1 Source'!E752,\"\")","v":"0101"},{"$f":"IF('Line 1 Source'!F752<>\"\",'Line 1 Source'!F752,\"\")","v":4200104}]
[{"$f":"IF('Line 1 Source'!A753<>\"\",'Line 1 Source'!A753,\"\")","v":"2018"},"3343405",{"$f":"CONCATENATE(VLOOKUP(B753,'School List'!$B$3:$H$291,6,FALSE),H753)","v":"34050180"},{"$f":"CONCATENATE(VLOOKUP(B753,'School List'!$B$3:$D$291,3,FALSE),H753)","v":"Henry County - BLUE RIVER VALLEY SCHOOL CORPORATION0180"},{"$f":"IF('Line 1 Source'!B753<>\"\",'Line 1 Source'!B753,\"\")","v":"33"},{"$f":"IF('Line 1 Source'!C753<>\"\",'Line 1 Source'!C753,\"\")","v":"4"},{"$f":"IF('Line 1 Source'!D753<>\"\",'Line 1 Source'!D753,\"\")","v":"3405"},{"$f":"IF('Line 1 Source'!E753<>\"\",'Line 1 Source'!E753,\"\")","v":"0180"},{"$f":"IF('Line 1 Source'!F753<>\"\",'Line 1 Source'!F753,\"\")","v":950000}]
[{"$f":"IF('Line 1 Source'!A754<>\"\",'Line 1 Source'!A754,\"\")","v":"2018"},"3343405",{"$f":"CONCATENATE(VLOOKUP(B754,'School List'!$B$3:$H$291,6,FALSE),H754)","v":"34051214"},{"$f":"CONCATENATE(VLOOKUP(B754,'School List'!$B$3:$D$291,3,FALSE),H754)","v":"Henry County - BLUE RIVER VALLEY SCHOOL CORPORATION1214"},{"$f":"IF('Line 1 Source'!B754<>\"\",'Line 1 Source'!B754,\"\")","v":"33"},{"$f":"IF('Line 1 Source'!C754<>\"\",'Line 1 Source'!C754,\"\")","v":"4"},{"$f":"IF('Line 1 Source'!D754<>\"\",'Line 1 Source'!D754,\"\")","v":"3405"},{"$f":"IF('Line 1 Source'!E754<>\"\",'Line 1 Source'!E754,\"\")","v":"1214"},{"$f":"IF('Line 1 Source'!F754<>\"\",'Line 1 Source'!F754,\"\")","v":1227904}]
[{"$f":"IF('Line 1 Source'!A755<>\"\",'Line 1 Source'!A755,\"\")","v":"2018"},"3343405",{"$f":"CONCATENATE(VLOOKUP(B755,'School List'!$B$3:$H$291,6,FALSE),H755)","v":"34056301"},{"$f":"CONCATENATE(VLOOKUP(B755,'School List'!$B$3:$D$291,3,FALSE),H755)","v":"Henry County - BLUE RIVER VALLEY SCHOOL CORPORATION6301"},{"$f":"IF('Line 1 Source'!B755<>\"\",'Line 1 Source'!B755,\"\")","v":"33"},{"$f":"IF('Line 1 Source'!C755<>\"\",'Line 1 Source'!C755,\"\")","v":"4"},{"$f":"IF('Line 1 Source'!D755<>\"\",'Line 1 Source'!D755,\"\")","v":"3405"},{"$f":"IF('Line 1 Source'!E755<>\"\",'Line 1 Source'!E755,\"\")","v":"6301"},{"$f":"IF('Line 1 Source'!F755<>\"\",'Line 1 Source'!F755,\"\")","v":1061564}]
[{"$f":"IF('Line 1 Source'!A756<>\"\",'Line 1 Source'!A756,\"\")","v":"2018"},"3343405",{"$f":"CONCATENATE(VLOOKUP(B756,'School List'!$B$3:$H$291,6,FALSE),H756)","v":"34056302"},{"$f":"CONCATENATE(VLOOKUP(B756,'School List'!$B$3:$D$291,3,FALSE),H756)","v":"Henry County - BLUE RIVER VALLEY SCHOOL CORPORATION6302"},{"$f":"IF('Line 1 Source'!B756<>\"\",'Line 1 Source'!B756,\"\")","v":"33"},{"$f":"IF('Line 1 Source'!C756<>\"\",'Line 1 Source'!C756,\"\")","v":"4"},{"$f":"IF('Line 1 Source'!D756<>\"\",'Line 1 Source'!D756,\"\")","v":"3405"},{"$f":"IF('Line 1 Source'!E756<>\"\",'Line 1 Source'!E756,\"\")","v":"6302"},{"$f":"IF('Line 1 Source'!F756<>\"\",'Line 1 Source'!F756,\"\")","v":105000}]
[{"$f":"IF('Line 1 Source'!A757<>\"\",'Line 1 Source'!A757,\"\")","v":"2018"},"3343415",{"$f":"CONCATENATE(VLOOKUP(B757,'School List'!$B$3:$H$291,6,FALSE),H757)","v":"34150061"},{"$f":"CONCATENATE(VLOOKUP(B757,'School List'!$B$3:$D$291,3,FALSE),H757)","v":"Henry County - SOUTH HENRY SCHOOL CORPORATION0061"},{"$f":"IF('Line 1 Source'!B757<>\"\",'Line 1 Source'!B757,\"\")","v":"33"},{"$f":"IF('Line 1 Source'!C757<>\"\",'Line 1 Source'!C757,\"\")","v":"4"},{"$f":"IF('Line 1 Source'!D757<>\"\",'Line 1 Source'!D757,\"\")","v":"3415"},{"$f":"IF('Line 1 Source'!E757<>\"\",'Line 1 Source'!E757,\"\")","v":"0061"},{"$f":"IF('Line 1 Source'!F757<>\"\",'Line 1 Source'!F757,\"\")","v":100000}]
[{"$f":"IF('Line 1 Source'!A758<>\"\",'Line 1 Source'!A758,\"\")","v":"2018"},"3343415",{"$f":"CONCATENATE(VLOOKUP(B758,'School List'!$B$3:$H$291,6,FALSE),H758)","v":"34150101"},{"$f":"CONCATENATE(VLOOKUP(B758,'School List'!$B$3:$D$291,3,FALSE),H758)","v":"Henry County - SOUTH HENRY SCHOOL CORPORATION0101"},{"$f":"IF('Line 1 Source'!B758<>\"\",'Line 1 Source'!B758,\"\")","v":"33"},{"$f":"IF('Line 1 Source'!C758<>\"\",'Line 1 Source'!C758,\"\")","v":"4"},{"$f":"IF('Line 1 Source'!D758<>\"\",'Line 1 Source'!D758,\"\")","v":"3415"},{"$f":"IF('Line 1 Source'!E758<>\"\",'Line 1 Source'!E758,\"\")","v":"0101"},{"$f":"IF('Line 1 Source'!F758<>\"\",'Line 1 Source'!F758,\"\")","v":5898933}]
[{"$f":"IF('Line 1 Source'!A759<>\"\",'Line 1 Source'!A759,\"\")","v":"2018"},"3343415",{"$f":"CONCATENATE(VLOOKUP(B759,'School List'!$B$3:$H$291,6,FALSE),H759)","v":"34150180"},{"$f":"CONCATENATE(VLOOKUP(B759,'School List'!$B$3:$D$291,3,FALSE),H759)","v":"Henry County - SOUTH HENRY SCHOOL CORPORATION0180"},{"$f":"IF('Line 1 Source'!B759<>\"\",'Line 1 Source'!B759,\"\")","v":"33"},{"$f":"IF('Line 1 Source'!C759<>\"\",'Line 1 Source'!C759,\"\")","v":"4"},{"$f":"IF('Line 1 Source'!D759<>\"\",'Line 1 Source'!D759,\"\")","v":"3415"},{"$f":"IF('Line 1 Source'!E759<>\"\",'Line 1 Source'!E759,\"\")","v":"0180"},{"$f":"IF('Line 1 Source'!F759<>\"\",'Line 1 Source'!F759,\"\")","v":745996}]
[{"$f":"IF('Line 1 Source'!A760<>\"\",'Line 1 Source'!A760,\"\")","v":"2018"},"3343415",{"$f":"CONCATENATE(VLOOKUP(B760,'School List'!$B$3:$H$291,6,FALSE),H760)","v":"34150186"},{"$f":"CONCATENATE(VLOOKUP(B760,'School List'!$B$3:$D$291,3,FALSE),H760)","v":"Henry County - SOUTH HENRY SCHOOL CORPORATION0186"},{"$f":"IF('Line 1 Source'!B760<>\"\",'Line 1 Source'!B760,\"\")","v":"33"},{"$f":"IF('Line 1 Source'!C760<>\"\",'Line 1 Source'!C760,\"\")","v":"4"},{"$f":"IF('Line 1 Source'!D760<>\"\",'Line 1 Source'!D760,\"\")","v":"3415"},{"$f":"IF('Line 1 Source'!E760<>\"\",'Line 1 Source'!E760,\"\")","v":"0186"},{"$f":"IF('Line 1 Source'!F760<>\"\",'Line 1 Source'!F760,\"\")","v":72395}]
[{"$f":"IF('Line 1 Source'!A761<>\"\",'Line 1 Source'!A761,\"\")","v":"2018"},"3343415",{"$f":"CONCATENATE(VLOOKUP(B761,'School List'!$B$3:$H$291,6,FALSE),H761)","v":"34151214"},{"$f":"CONCATENATE(VLOOKUP(B761,'School List'!$B$3:$D$291,3,FALSE),H761)","v":"Henry County - SOUTH HENRY SCHOOL CORPORATION1214"},{"$f":"IF('Line 1 Source'!B761<>\"\",'Line 1 Source'!B761,\"\")","v":"33"},{"$f":"IF('Line 1 Source'!C761<>\"\",'Line 1 Source'!C761,\"\")","v":"4"},{"$f":"IF('Line 1 Source'!D761<>\"\",'Line 1 Source'!D761,\"\")","v":"3415"},{"$f":"IF('Line 1 Source'!E761<>\"\",'Line 1 Source'!E761,\"\")","v":"1214"},{"$f":"IF('Line 1 Source'!F761<>\"\",'Line 1 Source'!F761,\"\")","v":606036}]
[{"$f":"IF('Line 1 Source'!A762<>\"\",'Line 1 Source'!A762,\"\")","v":"2018"},"3343415",{"$f":"CONCATENATE(VLOOKUP(B762,'School List'!$B$3:$H$291,6,FALSE),H762)","v":"34156301"},{"$f":"CONCATENATE(VLOOKUP(B762,'School List'!$B$3:$D$291,3,FALSE),H762)","v":"Henry County - SOUTH HENRY SCHOOL CORPORATION6301"},{"$f":"IF('Line 1 Source'!B762<>\"\",'Line 1 Source'!B762,\"\")","v":"33"},{"$f":"IF('Line 1 Source'!C762<>\"\",'Line 1 Source'!C762,\"\")","v":"4"},{"$f":"IF('Line 1 Source'!D762<>\"\",'Line 1 Source'!D762,\"\")","v":"3415"},{"$f":"IF('Line 1 Source'!E762<>\"\",'Line 1 Source'!E762,\"\")","v":"6301"},{"$f":"IF('Line 1 Source'!F762<>\"\",'Line 1 Source'!F762,\"\")","v":606600}]
[{"$f":"IF('Line 1 Source'!A763<>\"\",'Line 1 Source'!A763,\"\")","v":"2018"},"3343415",{"$f":"CONCATENATE(VLOOKUP(B763,'School List'!$B$3:$H$291,6,FALSE),H763)","v":"34156302"},{"$f":"CONCATENATE(VLOOKUP(B763,'School List'!$B$3:$D$291,3,FALSE),H763)","v":"Henry County - SOUTH HENRY SCHOOL CORPORATION6302"},{"$f":"IF('Line 1 Source'!B763<>\"\",'Line 1 Source'!B763,\"\")","v":"33"},{"$f":"IF('Line 1 Source'!C763<>\"\",'Line 1 Source'!C763,\"\")","v":"4"},{"$f":"IF('Line 1 Source'!D763<>\"\",'Line 1 Source'!D763,\"\")","v":"3415"},{"$f":"IF('Line 1 Source'!E763<>\"\",'Line 1 Source'!E763,\"\")","v":"6302"},{"$f":"IF('Line 1 Source'!F763<>\"\",'Line 1 Source'!F763,\"\")","v":118019}]
[{"$f":"IF('Line 1 Source'!A764<>\"\",'Line 1 Source'!A764,\"\")","v":"2018"},"3343435",{"$f":"CONCATENATE(VLOOKUP(B764,'School List'!$B$3:$H$291,6,FALSE),H764)","v":"34350101"},{"$f":"CONCATENATE(VLOOKUP(B764,'School List'!$B$3:$D$291,3,FALSE),H764)","v":"Henry County - SHENANDOAH SCHOOL CORPORATION0101"},{"$f":"IF('Line 1 Source'!B764<>\"\",'Line 1 Source'!B764,\"\")","v":"33"},{"$f":"IF('Line 1 Source'!C764<>\"\",'Line 1 Source'!C764,\"\")","v":"4"},{"$f":"IF('Line 1 Source'!D764<>\"\",'Line 1 Source'!D764,\"\")","v":"3435"},{"$f":"IF('Line 1 Source'!E764<>\"\",'Line 1 Source'!E764,\"\")","v":"0101"},{"$f":"IF('Line 1 Source'!F764<>\"\",'Line 1 Source'!F764,\"\")","v":9287088}]
[{"$f":"IF('Line 1 Source'!A765<>\"\",'Line 1 Source'!A765,\"\")","v":"2018"},"3343435",{"$f":"CONCATENATE(VLOOKUP(B765,'School List'!$B$3:$H$291,6,FALSE),H765)","v":"34350180"},{"$f":"CONCATENATE(VLOOKUP(B765,'School List'!$B$3:$D$291,3,FALSE),H765)","v":"Henry County - SHENANDOAH SCHOOL CORPORATION0180"},{"$f":"IF('Line 1 Source'!B765<>\"\",'Line 1 Source'!B765,\"\")","v":"33"},{"$f":"IF('Line 1 Source'!C765<>\"\",'Line 1 Source'!C765,\"\")","v":"4"},{"$f":"IF('Line 1 Source'!D765<>\"\",'Line 1 Source'!D765,\"\")","v":"3435"},{"$f":"IF('Line 1 Source'!E765<>\"\",'Line 1 Source'!E765,\"\")","v":"0180"},{"$f":"IF('Line 1 Source'!F765<>\"\",'Line 1 Source'!F765,\"\")","v":1058436}]
[{"$f":"IF('Line 1 Source'!A766<>\"\",'Line 1 Source'!A766,\"\")","v":"2018"},"3343435",{"$f":"CONCATENATE(VLOOKUP(B766,'School List'!$B$3:$H$291,6,FALSE),H766)","v":"34350186"},{"$f":"CONCATENATE(VLOOKUP(B766,'School List'!$B$3:$D$291,3,FALSE),H766)","v":"Henry County - SHENANDOAH SCHOOL CORPORATION0186"},{"$f":"IF('Line 1 Source'!B766<>\"\",'Line 1 Source'!B766,\"\")","v":"33"},{"$f":"IF('Line 1 Source'!C766<>\"\",'Line 1 Source'!C766,\"\")","v":"4"},{"$f":"IF('Line 1 Source'!D766<>\"\",'Line 1 Source'!D766,\"\")","v":"3435"},{"$f":"IF('Line 1 Source'!E766<>\"\",'Line 1 Source'!E766,\"\")","v":"0186"},{"$f":"IF('Line 1 Source'!F766<>\"\",'Line 1 Source'!F766,\"\")","v":324664}]
[{"$f":"IF('Line 1 Source'!A767<>\"\",'Line 1 Source'!A767,\"\")","v":"2018"},"3343435",{"$f":"CONCATENATE(VLOOKUP(B767,'School List'!$B$3:$H$291,6,FALSE),H767)","v":"34351214"},{"$f":"CONCATENATE(VLOOKUP(B767,'School List'!$B$3:$D$291,3,FALSE),H767)","v":"Henry County - SHENANDOAH SCHOOL CORPORATION1214"},{"$f":"IF('Line 1 Source'!B767<>\"\",'Line 1 Source'!B767,\"\")","v":"33"},{"$f":"IF('Line 1 Source'!C767<>\"\",'Line 1 Source'!C767,\"\")","v":"4"},{"$f":"IF('Line 1 Source'!D767<>\"\",'Line 1 Source'!D767,\"\")","v":"3435"},{"$f":"IF('Line 1 Source'!E767<>\"\",'Line 1 Source'!E767,\"\")","v":"1214"},{"$f":"IF('Line 1 Source'!F767<>\"\",'Line 1 Source'!F767,\"\")","v":582340}]
[{"$f":"IF('Line 1 Source'!A768<>\"\",'Line 1 Source'!A768,\"\")","v":"2018"},"3343435",{"$f":"CONCATENATE(VLOOKUP(B768,'School List'!$B$3:$H$291,6,FALSE),H768)","v":"34356301"},{"$f":"CONCATENATE(VLOOKUP(B768,'School List'!$B$3:$D$291,3,FALSE),H768)","v":"Henry County - SHENANDOAH SCHOOL CORPORATION6301"},{"$f":"IF('Line 1 Source'!B768<>\"\",'Line 1 Source'!B768,\"\")","v":"33"},{"$f":"IF('Line 1 Source'!C768<>\"\",'Line 1 Source'!C768,\"\")","v":"4"},{"$f":"IF('Line 1 Source'!D768<>\"\",'Line 1 Source'!D768,\"\")","v":"3435"},{"$f":"IF('Line 1 Source'!E768<>\"\",'Line 1 Source'!E768,\"\")","v":"6301"},{"$f":"IF('Line 1 Source'!F768<>\"\",'Line 1 Source'!F768,\"\")","v":950000}]
[{"$f":"IF('Line 1 Source'!A769<>\"\",'Line 1 Source'!A769,\"\")","v":"2018"},"3343435",{"$f":"CONCATENATE(VLOOKUP(B769,'School List'!$B$3:$H$291,6,FALSE),H769)","v":"34356302"},{"$f":"CONCATENATE(VLOOKUP(B769,'School List'!$B$3:$D$291,3,FALSE),H769)","v":"Henry County - SHENANDOAH SCHOOL CORPORATION6302"},{"$f":"IF('Line 1 Source'!B769<>\"\",'Line 1 Source'!B769,\"\")","v":"33"},{"$f":"IF('Line 1 Source'!C769<>\"\",'Line 1 Source'!C769,\"\")","v":"4"},{"$f":"IF('Line 1 Source'!D769<>\"\",'Line 1 Source'!D769,\"\")","v":"3435"},{"$f":"IF('Line 1 Source'!E769<>\"\",'Line 1 Source'!E769,\"\")","v":"6302"},{"$f":"IF('Line 1 Source'!F769<>\"\",'Line 1 Source'!F769,\"\")","v":82038}]
[{"$f":"IF('Line 1 Source'!A770<>\"\",'Line 1 Source'!A770,\"\")","v":"2018"},"3343445",{"$f":"CONCATENATE(VLOOKUP(B770,'School List'!$B$3:$H$291,6,FALSE),H770)","v":"34450061"},{"$f":"CONCATENATE(VLOOKUP(B770,'School List'!$B$3:$D$291,3,FALSE),H770)","v":"Henry County - NEW CASTLE COMMUNITY SCHOOL CORPORATION0061"},{"$f":"IF('Line 1 Source'!B770<>\"\",'Line 1 Source'!B770,\"\")","v":"33"},{"$f":"IF('Line 1 Source'!C770<>\"\",'Line 1 Source'!C770,\"\")","v":"4"},{"$f":"IF('Line 1 Source'!D770<>\"\",'Line 1 Source'!D770,\"\")","v":"3445"},{"$f":"IF('Line 1 Source'!E770<>\"\",'Line 1 Source'!E770,\"\")","v":"0061"},{"$f":"IF('Line 1 Source'!F770<>\"\",'Line 1 Source'!F770,\"\")","v":600000}]
[{"$f":"IF('Line 1 Source'!A771<>\"\",'Line 1 Source'!A771,\"\")","v":"2018"},{"$f":"CONCATENATE(E771,F771,G771)","v":"3343445"},{"$f":"CONCATENATE(VLOOKUP(B771,'School List'!$B$3:$H$291,6,FALSE),H771)","v":"34450101"},{"$f":"CONCATENATE(VLOOKUP(B771,'School List'!$B$3:$D$291,3,FALSE),H771)","v":"Henry County - NEW CASTLE COMMUNITY SCHOOL CORPORATION0101"},{"$f":"IF('Line 1 Source'!B771<>\"\",'Line 1 Source'!B771,\"\")","v":"33"},{"$f":"IF('Line 1 Source'!C771<>\"\",'Line 1 Source'!C771,\"\")","v":"4"},{"$f":"IF('Line 1 Source'!D771<>\"\",'Line 1 Source'!D771,\"\")","v":"3445"},{"$f":"IF('Line 1 Source'!E771<>\"\",'Line 1 Source'!E771,\"\")","v":"0101"},{"$f":"IF('Line 1 Source'!F771<>\"\",'Line 1 Source'!F771,\"\")","v":24224753}]
[{"$f":"IF('Line 1 Source'!A772<>\"\",'Line 1 Source'!A772,\"\")","v":"2018"},"3343445",{"$f":"CONCATENATE(VLOOKUP(B772,'School List'!$B$3:$H$291,6,FALSE),H772)","v":"34450180"},{"$f":"CONCATENATE(VLOOKUP(B772,'School List'!$B$3:$D$291,3,FALSE),H772)","v":"Henry County - NEW CASTLE COMMUNITY SCHOOL CORPORATION0180"},{"$f":"IF('Line 1 Source'!B772<>\"\",'Line 1 Source'!B772,\"\")","v":"33"},{"$f":"IF('Line 1 Source'!C772<>\"\",'Line 1 Source'!C772,\"\")","v":"4"},{"$f":"IF('Line 1 Source'!D772<>\"\",'Line 1 Source'!D772,\"\")","v":"3445"},{"$f":"IF('Line 1 Source'!E772<>\"\",'Line 1 Source'!E772,\"\")","v":"0180"},{"$f":"IF('Line 1 Source'!F772<>\"\",'Line 1 Source'!F772,\"\")","v":2643383}]
[{"$f":"IF('Line 1 Source'!A773<>\"\",'Line 1 Source'!A773,\"\")","v":"2018"},"3343445",{"$f":"CONCATENATE(VLOOKUP(B773,'School List'!$B$3:$H$291,6,FALSE),H773)","v":"34451214"},{"$f":"CONCATENATE(VLOOKUP(B773,'School List'!$B$3:$D$291,3,FALSE),H773)","v":"Henry County - NEW CASTLE COMMUNITY SCHOOL CORPORATION1214"},{"$f":"IF('Line 1 Source'!B773<>\"\",'Line 1 Source'!B773,\"\")","v":"33"},{"$f":"IF('Line 1 Source'!C773<>\"\",'Line 1 Source'!C773,\"\")","v":"4"},{"$f":"IF('Line 1 Source'!D773<>\"\",'Line 1 Source'!D773,\"\")","v":"3445"},{"$f":"IF('Line 1 Source'!E773<>\"\",'Line 1 Source'!E773,\"\")","v":"1214"},{"$f":"IF('Line 1 Source'!F773<>\"\",'Line 1 Source'!F773,\"\")","v":2419081}]
[{"$f":"IF('Line 1 Source'!A774<>\"\",'Line 1 Source'!A774,\"\")","v":"2018"},"3343445",{"$f":"CONCATENATE(VLOOKUP(B774,'School List'!$B$3:$H$291,6,FALSE),H774)","v":"34456301"},{"$f":"CONCATENATE(VLOOKUP(B774,'School List'!$B$3:$D$291,3,FALSE),H774)","v":"Henry County - NEW CASTLE COMMUNITY SCHOOL CORPORATION6301"},{"$f":"IF('Line 1 Source'!B774<>\"\",'Line 1 Source'!B774,\"\")","v":"33"},{"$f":"IF('Line 1 Source'!C774<>\"\",'Line 1 Source'!C774,\"\")","v":"4"},{"$f":"IF('Line 1 Source'!D774<>\"\",'Line 1 Source'!D774,\"\")","v":"3445"},{"$f":"IF('Line 1 Source'!E774<>\"\",'Line 1 Source'!E774,\"\")","v":"6301"},{"$f":"IF('Line 1 Source'!F774<>\"\",'Line 1 Source'!F774,\"\")","v":2608900}]
[{"$f":"IF('Line 1 Source'!A775<>\"\",'Line 1 Source'!A775,\"\")","v":"2018"},"3343445",{"$f":"CONCATENATE(VLOOKUP(B775,'School List'!$B$3:$H$291,6,FALSE),H775)","v":"34456302"},{"$f":"CONCATENATE(VLOOKUP(B775,'School List'!$B$3:$D$291,3,FALSE),H775)","v":"Henry County - NEW CASTLE COMMUNITY SCHOOL CORPORATION6302"},{"$f":"IF('Line 1 Source'!B775<>\"\",'Line 1 Source'!B775,\"\")","v":"33"},{"$f":"IF('Line 1 Source'!C775<>\"\",'Line 1 Source'!C775,\"\")","v":"4"},{"$f":"IF('Line 1 Source'!D775<>\"\",'Line 1 Source'!D775,\"\")","v":"3445"},{"$f":"IF('Line 1 Source'!E775<>\"\",'Line 1 Source'!E775,\"\")","v":"6302"},{"$f":"IF('Line 1 Source'!F775<>\"\",'Line 1 Source'!F775,\"\")","v":477468}]
[{"$f":"IF('Line 1 Source'!A776<>\"\",'Line 1 Source'!A776,\"\")","v":"2018"},"3343455",{"$f":"CONCATENATE(VLOOKUP(B776,'School List'!$B$3:$H$291,6,FALSE),H776)","v":"34550101"},{"$f":"CONCATENATE(VLOOKUP(B776,'School List'!$B$3:$D$291,3,FALSE),H776)","v":"Henry County - CHARLES A. BEARD MEMORIAL SCHOOL CORP0101"},{"$f":"IF('Line 1 Source'!B776<>\"\",'Line 1 Source'!B776,\"\")","v":"33"},{"$f":"IF('Line 1 Source'!C776<>\"\",'Line 1 Source'!C776,\"\")","v":"4"},{"$f":"IF('Line 1 Source'!D776<>\"\",'Line 1 Source'!D776,\"\")","v":"3455"},{"$f":"IF('Line 1 Source'!E776<>\"\",'Line 1 Source'!E776,\"\")","v":"0101"},{"$f":"IF('Line 1 Source'!F776<>\"\",'Line 1 Source'!F776,\"\")","v":8349388}]
[{"$f":"IF('Line 1 Source'!A777<>\"\",'Line 1 Source'!A777,\"\")","v":"2018"},"3343455",{"$f":"CONCATENATE(VLOOKUP(B777,'School List'!$B$3:$H$291,6,FALSE),H777)","v":"34550180"},{"$f":"CONCATENATE(VLOOKUP(B777,'School List'!$B$3:$D$291,3,FALSE),H777)","v":"Henry County - CHARLES A. BEARD MEMORIAL SCHOOL CORP0180"},{"$f":"IF('Line 1 Source'!B777<>\"\",'Line 1 Source'!B777,\"\")","v":"33"},{"$f":"IF('Line 1 Source'!C777<>\"\",'Line 1 Source'!C777,\"\")","v":"4"},{"$f":"IF('Line 1 Source'!D777<>\"\",'Line 1 Source'!D777,\"\")","v":"3455"},{"$f":"IF('Line 1 Source'!E777<>\"\",'Line 1 Source'!E777,\"\")","v":"0180"},{"$f":"IF('Line 1 Source'!F777<>\"\",'Line 1 Source'!F777,\"\")","v":2235079}]
[{"$f":"IF('Line 1 Source'!A778<>\"\",'Line 1 Source'!A778,\"\")","v":"2018"},"3343455",{"$f":"CONCATENATE(VLOOKUP(B778,'School List'!$B$3:$H$291,6,FALSE),H778)","v":"34551214"},{"$f":"CONCATENATE(VLOOKUP(B778,'School List'!$B$3:$D$291,3,FALSE),H778)","v":"Henry County - CHARLES A. BEARD MEMORIAL SCHOOL CORP1214"},{"$f":"IF('Line 1 Source'!B778<>\"\",'Line 1 Source'!B778,\"\")","v":"33"},{"$f":"IF('Line 1 Source'!C778<>\"\",'Line 1 Source'!C778,\"\")","v":"4"},{"$f":"IF('Line 1 Source'!D778<>\"\",'Line 1 Source'!D778,\"\")","v":"3455"},{"$f":"IF('Line 1 Source'!E778<>\"\",'Line 1 Source'!E778,\"\")","v":"1214"},{"$f":"IF('Line 1 Source'!F778<>\"\",'Line 1 Source'!F778,\"\")","v":973593}]
[{"$f":"IF('Line 1 Source'!A779<>\"\",'Line 1 Source'!A779,\"\")","v":"2018"},"3343455",{"$f":"CONCATENATE(VLOOKUP(B779,'School List'!$B$3:$H$291,6,FALSE),H779)","v":"34556301"},{"$f":"CONCATENATE(VLOOKUP(B779,'School List'!$B$3:$D$291,3,FALSE),H779)","v":"Henry County - CHARLES A. BEARD MEMORIAL SCHOOL CORP6301"},{"$f":"IF('Line 1 Source'!B779<>\"\",'Line 1 Source'!B779,\"\")","v":"33"},{"$f":"IF('Line 1 Source'!C779<>\"\",'Line 1 Source'!C779,\"\")","v":"4"},{"$f":"IF('Line 1 Source'!D779<>\"\",'Line 1 Source'!D779,\"\")","v":"3455"},{"$f":"IF('Line 1 Source'!E779<>\"\",'Line 1 Source'!E779,\"\")","v":"6301"},{"$f":"IF('Line 1 Source'!F779<>\"\",'Line 1 Source'!F779,\"\")","v":979672}]
[{"$f":"IF('Line 1 Source'!A780<>\"\",'Line 1 Source'!A780,\"\")","v":"2018"},"3343455",{"$f":"CONCATENATE(VLOOKUP(B780,'School List'!$B$3:$H$291,6,FALSE),H780)","v":"34556302"},{"$f":"CONCATENATE(VLOOKUP(B780,'School List'!$B$3:$D$291,3,FALSE),H780)","v":"Henry County - CHARLES A. BEARD MEMORIAL SCHOOL CORP6302"},{"$f":"IF('Line 1 Source'!B780<>\"\",'Line 1 Source'!B780,\"\")","v":"33"},{"$f":"IF('Line 1 Source'!C780<>\"\",'Line 1 Source'!C780,\"\")","v":"4"},{"$f":"IF('Line 1 Source'!D780<>\"\",'Line 1 Source'!D780,\"\")","v":"3455"},{"$f":"IF('Line 1 Source'!E780<>\"\",'Line 1 Source'!E780,\"\")","v":"6302"},{"$f":"IF('Line 1 Source'!F780<>\"\",'Line 1 Source'!F780,\"\")","v":200000}]
[{"$f":"IF('Line 1 Source'!A781<>\"\",'Line 1 Source'!A781,\"\")","v":"2018"},"3346795",{"$f":"CONCATENATE(VLOOKUP(B781,'School List'!$B$3:$H$291,6,FALSE),H781)","v":{"$error":"#N/A"}},{"$f":"CONCATENATE(VLOOKUP(B781,'School List'!$B$3:$D$291,3,FALSE),H781)","v":{"$error":"#N/A"}},{"$f":"IF('Line 1 Source'!B781<>\"\",'Line 1 Source'!B781,\"\")","v":"33"},{"$f":"IF('Line 1 Source'!C781<>\"\",'Line 1 Source'!C781,\"\")","v":"4"},{"$f":"IF('Line 1 Source'!D781<>\"\",'Line 1 Source'!D781,\"\")","v":"6795"},{"$f":"IF('Line 1 Source'!E781<>\"\",'Line 1 Source'!E781,\"\")","v":"0061"},{"$f":"IF('Line 1 Source'!F781<>\"\",'Line 1 Source'!F781,\"\")","v":0}]
[{"$f":"IF('Line 1 Source'!A782<>\"\",'Line 1 Source'!A782,\"\")","v":"2018"},"3346795",{"$f":"CONCATENATE(VLOOKUP(B782,'School List'!$B$3:$H$291,6,FALSE),H782)","v":{"$error":"#N/A"}},{"$f":"CONCATENATE(VLOOKUP(B782,'School List'!$B$3:$D$291,3,FALSE),H782)","v":{"$error":"#N/A"}},{"$f":"IF('Line 1 Source'!B782<>\"\",'Line 1 Source'!B782,\"\")","v":"33"},{"$f":"IF('Line 1 Source'!C782<>\"\",'Line 1 Source'!C782,\"\")","v":"4"},{"$f":"IF('Line 1 Source'!D782<>\"\",'Line 1 Source'!D782,\"\")","v":"6795"},{"$f":"IF('Line 1 Source'!E782<>\"\",'Line 1 Source'!E782,\"\")","v":"0101"},{"$f":"IF('Line 1 Source'!F782<>\"\",'Line 1 Source'!F782,\"\")","v":0}]
[{"$f":"IF('Line 1 Source'!A783<>\"\",'Line 1 Source'!A783,\"\")","v":"2018"},"3346795",{"$f":"CONCATENATE(VLOOKUP(B783,'School List'!$B$3:$H$291,6,FALSE),H783)","v":{"$error":"#N/A"}},{"$f":"CONCATENATE(VLOOKUP(B783,'School List'!$B$3:$D$291,3,FALSE),H783)","v":{"$error":"#N/A"}},{"$f":"IF('Line 1 Source'!B783<>\"\",'Line 1 Source'!B783,\"\")","v":"33"},{"$f":"IF('Line 1 Source'!C783<>\"\",'Line 1 Source'!C783,\"\")","v":"4"},{"$f":"IF('Line 1 Source'!D783<>\"\",'Line 1 Source'!D783,\"\")","v":"6795"},{"$f":"IF('Line 1 Source'!E783<>\"\",'Line 1 Source'!E783,\"\")","v":"0180"},{"$f":"IF('Line 1 Source'!F783<>\"\",'Line 1 Source'!F783,\"\")","v":0}]
[{"$f":"IF('Line 1 Source'!A784<>\"\",'Line 1 Source'!A784,\"\")","v":"2018"},"3346795",{"$f":"CONCATENATE(VLOOKUP(B784,'School List'!$B$3:$H$291,6,FALSE),H784)","v":{"$error":"#N/A"}},{"$f":"CONCATENATE(VLOOKUP(B784,'School List'!$B$3:$D$291,3,FALSE),H784)","v":{"$error":"#N/A"}},{"$f":"IF('Line 1 Source'!B784<>\"\",'Line 1 Source'!B784,\"\")","v":"33"},{"$f":"IF('Line 1 Source'!C784<>\"\",'Line 1 Source'!C784,\"\")","v":"4"},{"$f":"IF('Line 1 Source'!D784<>\"\",'Line 1 Source'!D784,\"\")","v":"6795"},{"$f":"IF('Line 1 Source'!E784<>\"\",'Line 1 Source'!E784,\"\")","v":"0186"},{"$f":"IF('Line 1 Source'!F784<>\"\",'Line 1 Source'!F784,\"\")","v":0}]
[{"$f":"IF('Line 1 Source'!A785<>\"\",'Line 1 Source'!A785,\"\")","v":"2018"},"3346795",{"$f":"CONCATENATE(VLOOKUP(B785,'School List'!$B$3:$H$291,6,FALSE),H785)","v":{"$error":"#N/A"}},{"$f":"CONCATENATE(VLOOKUP(B785,'School List'!$B$3:$D$291,3,FALSE),H785)","v":{"$error":"#N/A"}},{"$f":"IF('Line 1 Source'!B785<>\"\",'Line 1 Source'!B785,\"\")","v":"33"},{"$f":"IF('Line 1 Source'!C785<>\"\",'Line 1 Source'!C785,\"\")","v":"4"},{"$f":"IF('Line 1 Source'!D785<>\"\",'Line 1 Source'!D785,\"\")","v":"6795"},{"$f":"IF('Line 1 Source'!E785<>\"\",'Line 1 Source'!E785,\"\")","v":"1214"},{"$f":"IF('Line 1 Source'!F785<>\"\",'Line 1 Source'!F785,\"\")","v":0}]
[{"$f":"IF('Line 1 Source'!A786<>\"\",'Line 1 Source'!A786,\"\")","v":"2018"},"3346795",{"$f":"CONCATENATE(VLOOKUP(B786,'School List'!$B$3:$H$291,6,FALSE),H786)","v":{"$error":"#N/A"}},{"$f":"CONCATENATE(VLOOKUP(B786,'School List'!$B$3:$D$291,3,FALSE),H786)","v":{"$error":"#N/A"}},{"$f":"IF('Line 1 Source'!B786<>\"\",'Line 1 Source'!B786,\"\")","v":"33"},{"$f":"IF('Line 1 Source'!C786<>\"\",'Line 1 Source'!C786,\"\")","v":"4"},{"$f":"IF('Line 1 Source'!D786<>\"\",'Line 1 Source'!D786,\"\")","v":"6795"},{"$f":"IF('Line 1 Source'!E786<>\"\",'Line 1 Source'!E786,\"\")","v":"6301"},{"$f":"IF('Line 1 Source'!F786<>\"\",'Line 1 Source'!F786,\"\")","v":0}]
[{"$f":"IF('Line 1 Source'!A787<>\"\",'Line 1 Source'!A787,\"\")","v":"2018"},"3346795",{"$f":"CONCATENATE(VLOOKUP(B787,'School List'!$B$3:$H$291,6,FALSE),H787)","v":{"$error":"#N/A"}},{"$f":"CONCATENATE(VLOOKUP(B787,'School List'!$B$3:$D$291,3,FALSE),H787)","v":{"$error":"#N/A"}},{"$f":"IF('Line 1 Source'!B787<>\"\",'Line 1 Source'!B787,\"\")","v":"33"},{"$f":"IF('Line 1 Source'!C787<>\"\",'Line 1 Source'!C787,\"\")","v":"4"},{"$f":"IF('Line 1 Source'!D787<>\"\",'Line 1 Source'!D787,\"\")","v":"6795"},{"$f":"IF('Line 1 Source'!E787<>\"\",'Line 1 Source'!E787,\"\")","v":"6302"},{"$f":"IF('Line 1 Source'!F787<>\"\",'Line 1 Source'!F787,\"\")","v":0}]
[{"$f":"IF('Line 1 Source'!A788<>\"\",'Line 1 Source'!A788,\"\")","v":"2018"},"3348305",{"$f":"CONCATENATE(VLOOKUP(B788,'School List'!$B$3:$H$291,6,FALSE),H788)","v":{"$error":"#N/A"}},{"$f":"CONCATENATE(VLOOKUP(B788,'School List'!$B$3:$D$291,3,FALSE),H788)","v":{"$error":"#N/A"}},{"$f":"IF('Line 1 Source'!B788<>\"\",'Line 1 Source'!B788,\"\")","v":"33"},{"$f":"IF('Line 1 Source'!C788<>\"\",'Line 1 Source'!C788,\"\")","v":"4"},{"$f":"IF('Line 1 Source'!D788<>\"\",'Line 1 Source'!D788,\"\")","v":"8305"},{"$f":"IF('Line 1 Source'!E788<>\"\",'Line 1 Source'!E788,\"\")","v":"0061"},{"$f":"IF('Line 1 Source'!F788<>\"\",'Line 1 Source'!F788,\"\")","v":0}]
[{"$f":"IF('Line 1 Source'!A789<>\"\",'Line 1 Source'!A789,\"\")","v":"2018"},"3348305",{"$f":"CONCATENATE(VLOOKUP(B789,'School List'!$B$3:$H$291,6,FALSE),H789)","v":{"$error":"#N/A"}},{"$f":"CONCATENATE(VLOOKUP(B789,'School List'!$B$3:$D$291,3,FALSE),H789)","v":{"$error":"#N/A"}},{"$f":"IF('Line 1 Source'!B789<>\"\",'Line 1 Source'!B789,\"\")","v":"33"},{"$f":"IF('Line 1 Source'!C789<>\"\",'Line 1 Source'!C789,\"\")","v":"4"},{"$f":"IF('Line 1 Source'!D789<>\"\",'Line 1 Source'!D789,\"\")","v":"8305"},{"$f":"IF('Line 1 Source'!E789<>\"\",'Line 1 Source'!E789,\"\")","v":"0101"},{"$f":"IF('Line 1 Source'!F789<>\"\",'Line 1 Source'!F789,\"\")","v":0}]
[{"$f":"IF('Line 1 Source'!A790<>\"\",'Line 1 Source'!A790,\"\")","v":"2018"},"3348305",{"$f":"CONCATENATE(VLOOKUP(B790,'School List'!$B$3:$H$291,6,FALSE),H790)","v":{"$error":"#N/A"}},{"$f":"CONCATENATE(VLOOKUP(B790,'School List'!$B$3:$D$291,3,FALSE),H790)","v":{"$error":"#N/A"}},{"$f":"IF('Line 1 Source'!B790<>\"\",'Line 1 Source'!B790,\"\")","v":"33"},{"$f":"IF('Line 1 Source'!C790<>\"\",'Line 1 Source'!C790,\"\")","v":"4"},{"$f":"IF('Line 1 Source'!D790<>\"\",'Line 1 Source'!D790,\"\")","v":"8305"},{"$f":"IF('Line 1 Source'!E790<>\"\",'Line 1 Source'!E790,\"\")","v":"0180"},{"$f":"IF('Line 1 Source'!F790<>\"\",'Line 1 Source'!F790,\"\")","v":0}]
[{"$f":"IF('Line 1 Source'!A791<>\"\",'Line 1 Source'!A791,\"\")","v":"2018"},"3348305",{"$f":"CONCATENATE(VLOOKUP(B791,'School List'!$B$3:$H$291,6,FALSE),H791)","v":{"$error":"#N/A"}},{"$f":"CONCATENATE(VLOOKUP(B791,'School List'!$B$3:$D$291,3,FALSE),H791)","v":{"$error":"#N/A"}},{"$f":"IF('Line 1 Source'!B791<>\"\",'Line 1 Source'!B791,\"\")","v":"33"},{"$f":"IF('Line 1 Source'!C791<>\"\",'Line 1 Source'!C791,\"\")","v":"4"},{"$f":"IF('Line 1 Source'!D791<>\"\",'Line 1 Source'!D791,\"\")","v":"8305"},{"$f":"IF('Line 1 Source'!E791<>\"\",'Line 1 Source'!E791,\"\")","v":"1214"},{"$f":"IF('Line 1 Source'!F791<>\"\",'Line 1 Source'!F791,\"\")","v":0}]
[{"$f":"IF('Line 1 Source'!A792<>\"\",'Line 1 Source'!A792,\"\")","v":"2018"},"3348305",{"$f":"CONCATENATE(VLOOKUP(B792,'School List'!$B$3:$H$291,6,FALSE),H792)","v":{"$error":"#N/A"}},{"$f":"CONCATENATE(VLOOKUP(B792,'School List'!$B$3:$D$291,3,FALSE),H792)","v":{"$error":"#N/A"}},{"$f":"IF('Line 1 Source'!B792<>\"\",'Line 1 Source'!B792,\"\")","v":"33"},{"$f":"IF('Line 1 Source'!C792<>\"\",'Line 1 Source'!C792,\"\")","v":"4"},{"$f":"IF('Line 1 Source'!D792<>\"\",'Line 1 Source'!D792,\"\")","v":"8305"},{"$f":"IF('Line 1 Source'!E792<>\"\",'Line 1 Source'!E792,\"\")","v":"6301"},{"$f":"IF('Line 1 Source'!F792<>\"\",'Line 1 Source'!F792,\"\")","v":0}]
[{"$f":"IF('Line 1 Source'!A793<>\"\",'Line 1 Source'!A793,\"\")","v":"2018"},"3348305",{"$f":"CONCATENATE(VLOOKUP(B793,'School List'!$B$3:$H$291,6,FALSE),H793)","v":{"$error":"#N/A"}},{"$f":"CONCATENATE(VLOOKUP(B793,'School List'!$B$3:$D$291,3,FALSE),H793)","v":{"$error":"#N/A"}},{"$f":"IF('Line 1 Source'!B793<>\"\",'Line 1 Source'!B793,\"\")","v":"33"},{"$f":"IF('Line 1 Source'!C793<>\"\",'Line 1 Source'!C793,\"\")","v":"4"},{"$f":"IF('Line 1 Source'!D793<>\"\",'Line 1 Source'!D793,\"\")","v":"8305"},{"$f":"IF('Line 1 Source'!E793<>\"\",'Line 1 Source'!E793,\"\")","v":"6302"},{"$f":"IF('Line 1 Source'!F793<>\"\",'Line 1 Source'!F793,\"\")","v":0}]
[{"$f":"IF('Line 1 Source'!A794<>\"\",'Line 1 Source'!A794,\"\")","v":"2018"},"3443460",{"$f":"CONCATENATE(VLOOKUP(B794,'School List'!$B$3:$H$291,6,FALSE),H794)","v":"34600101"},{"$f":"CONCATENATE(VLOOKUP(B794,'School List'!$B$3:$D$291,3,FALSE),H794)","v":"Howard County - TAYLOR COMMUNITY SCHOOL CORPORATION0101"},{"$f":"IF('Line 1 Source'!B794<>\"\",'Line 1 Source'!B794,\"\")","v":"34"},{"$f":"IF('Line 1 Source'!C794<>\"\",'Line 1 Source'!C794,\"\")","v":"4"},{"$f":"IF('Line 1 Source'!D794<>\"\",'Line 1 Source'!D794,\"\")","v":"3460"},{"$f":"IF('Line 1 Source'!E794<>\"\",'Line 1 Source'!E794,\"\")","v":"0101"},{"$f":"IF('Line 1 Source'!F794<>\"\",'Line 1 Source'!F794,\"\")","v":8532485}]
[{"$f":"IF('Line 1 Source'!A795<>\"\",'Line 1 Source'!A795,\"\")","v":"2018"},"3443460",{"$f":"CONCATENATE(VLOOKUP(B795,'School List'!$B$3:$H$291,6,FALSE),H795)","v":"34600180"},{"$f":"CONCATENATE(VLOOKUP(B795,'School List'!$B$3:$D$291,3,FALSE),H795)","v":"Howard County - TAYLOR COMMUNITY SCHOOL CORPORATION0180"},{"$f":"IF('Line 1 Source'!B795<>\"\",'Line 1 Source'!B795,\"\")","v":"34"},{"$f":"IF('Line 1 Source'!C795<>\"\",'Line 1 Source'!C795,\"\")","v":"4"},{"$f":"IF('Line 1 Source'!D795<>\"\",'Line 1 Source'!D795,\"\")","v":"3460"},{"$f":"IF('Line 1 Source'!E795<>\"\",'Line 1 Source'!E795,\"\")","v":"0180"},{"$f":"IF('Line 1 Source'!F795<>\"\",'Line 1 Source'!F795,\"\")","v":2299444}]
[{"$f":"IF('Line 1 Source'!A796<>\"\",'Line 1 Source'!A796,\"\")","v":"2018"},"3443460",{"$f":"CONCATENATE(VLOOKUP(B796,'School List'!$B$3:$H$291,6,FALSE),H796)","v":"34601214"},{"$f":"CONCATENATE(VLOOKUP(B796,'School List'!$B$3:$D$291,3,FALSE),H796)","v":"Howard County - TAYLOR COMMUNITY SCHOOL CORPORATION1214"},{"$f":"IF('Line 1 Source'!B796<>\"\",'Line 1 Source'!B796,\"\")","v":"34"},{"$f":"IF('Line 1 Source'!C796<>\"\",'Line 1 Source'!C796,\"\")","v":"4"},{"$f":"IF('Line 1 Source'!D796<>\"\",'Line 1 Source'!D796,\"\")","v":"3460"},{"$f":"IF('Line 1 Source'!E796<>\"\",'Line 1 Source'!E796,\"\")","v":"1214"},{"$f":"IF('Line 1 Source'!F796<>\"\",'Line 1 Source'!F796,\"\")","v":1042315}]
[{"$f":"IF('Line 1 Source'!A797<>\"\",'Line 1 Source'!A797,\"\")","v":"2018"},"3443460",{"$f":"CONCATENATE(VLOOKUP(B797,'School List'!$B$3:$H$291,6,FALSE),H797)","v":"34606301"},{"$f":"CONCATENATE(VLOOKUP(B797,'School List'!$B$3:$D$291,3,FALSE),H797)","v":"Howard County - TAYLOR COMMUNITY SCHOOL CORPORATION6301"},{"$f":"IF('Line 1 Source'!B797<>\"\",'Line 1 Source'!B797,\"\")","v":"34"},{"$f":"IF('Line 1 Source'!C797<>\"\",'Line 1 Source'!C797,\"\")","v":"4"},{"$f":"IF('Line 1 Source'!D797<>\"\",'Line 1 Source'!D797,\"\")","v":"3460"},{"$f":"IF('Line 1 Source'!E797<>\"\",'Line 1 Source'!E797,\"\")","v":"6301"},{"$f":"IF('Line 1 Source'!F797<>\"\",'Line 1 Source'!F797,\"\")","v":648968}]
[{"$f":"IF('Line 1 Source'!A798<>\"\",'Line 1 Source'!A798,\"\")","v":"2018"},"3443460",{"$f":"CONCATENATE(VLOOKUP(B798,'School List'!$B$3:$H$291,6,FALSE),H798)","v":"34606302"},{"$f":"CONCATENATE(VLOOKUP(B798,'School List'!$B$3:$D$291,3,FALSE),H798)","v":"Howard County - TAYLOR COMMUNITY SCHOOL CORPORATION6302"},{"$f":"IF('Line 1 Source'!B798<>\"\",'Line 1 Source'!B798,\"\")","v":"34"},{"$f":"IF('Line 1 Source'!C798<>\"\",'Line 1 Source'!C798,\"\")","v":"4"},{"$f":"IF('Line 1 Source'!D798<>\"\",'Line 1 Source'!D798,\"\")","v":"3460"},{"$f":"IF('Line 1 Source'!E798<>\"\",'Line 1 Source'!E798,\"\")","v":"6302"},{"$f":"IF('Line 1 Source'!F798<>\"\",'Line 1 Source'!F798,\"\")","v":85000}]
[{"$f":"IF('Line 1 Source'!A799<>\"\",'Line 1 Source'!A799,\"\")","v":"2018"},"3443470",{"$f":"CONCATENATE(VLOOKUP(B799,'School List'!$B$3:$H$291,6,FALSE),H799)","v":"34700061"},{"$f":"CONCATENATE(VLOOKUP(B799,'School List'!$B$3:$D$291,3,FALSE),H799)","v":"Howard County - NORTHWESTERN SCHOOL CORPORATION0061"},{"$f":"IF('Line 1 Source'!B799<>\"\",'Line 1 Source'!B799,\"\")","v":"34"},{"$f":"IF('Line 1 Source'!C799<>\"\",'Line 1 Source'!C799,\"\")","v":"4"},{"$f":"IF('Line 1 Source'!D799<>\"\",'Line 1 Source'!D799,\"\")","v":"3470"},{"$f":"IF('Line 1 Source'!E799<>\"\",'Line 1 Source'!E799,\"\")","v":"0061"},{"$f":"IF('Line 1 Source'!F799<>\"\",'Line 1 Source'!F799,\"\")","v":200000}]
[{"$f":"IF('Line 1 Source'!A800<>\"\",'Line 1 Source'!A800,\"\")","v":"2018"},"3443470",{"$f":"CONCATENATE(VLOOKUP(B800,'School List'!$B$3:$H$291,6,FALSE),H800)","v":"34700101"},{"$f":"CONCATENATE(VLOOKUP(B800,'School List'!$B$3:$D$291,3,FALSE),H800)","v":"Howard County - NORTHWESTERN SCHOOL CORPORATION0101"},{"$f":"IF('Line 1 Source'!B800<>\"\",'Line 1 Source'!B800,\"\")","v":"34"},{"$f":"IF('Line 1 Source'!C800<>\"\",'Line 1 Source'!C800,\"\")","v":"4"},{"$f":"IF('Line 1 Source'!D800<>\"\",'Line 1 Source'!D800,\"\")","v":"3470"},{"$f":"IF('Line 1 Source'!E800<>\"\",'Line 1 Source'!E800,\"\")","v":"0101"},{"$f":"IF('Line 1 Source'!F800<>\"\",'Line 1 Source'!F800,\"\")","v":11537500}]
[{"$f":"IF('Line 1 Source'!A801<>\"\",'Line 1 Source'!A801,\"\")","v":"2018"},"3443470",{"$f":"CONCATENATE(VLOOKUP(B801,'School List'!$B$3:$H$291,6,FALSE),H801)","v":"34700180"},{"$f":"CONCATENATE(VLOOKUP(B801,'School List'!$B$3:$D$291,3,FALSE),H801)","v":"Howard County - NORTHWESTERN SCHOOL CORPORATION0180"},{"$f":"IF('Line 1 Source'!B801<>\"\",'Line 1 Source'!B801,\"\")","v":"34"},{"$f":"IF('Line 1 Source'!C801<>\"\",'Line 1 Source'!C801,\"\")","v":"4"},{"$f":"IF('Line 1 Source'!D801<>\"\",'Line 1 Source'!D801,\"\")","v":"3470"},{"$f":"IF('Line 1 Source'!E801<>\"\",'Line 1 Source'!E801,\"\")","v":"0180"},{"$f":"IF('Line 1 Source'!F801<>\"\",'Line 1 Source'!F801,\"\")","v":2923946}]
[{"$f":"IF('Line 1 Source'!A802<>\"\",'Line 1 Source'!A802,\"\")","v":"2018"},"3443470",{"$f":"CONCATENATE(VLOOKUP(B802,'School List'!$B$3:$H$291,6,FALSE),H802)","v":"34700186"},{"$f":"CONCATENATE(VLOOKUP(B802,'School List'!$B$3:$D$291,3,FALSE),H802)","v":"Howard County - NORTHWESTERN SCHOOL CORPORATION0186"},{"$f":"IF('Line 1 Source'!B802<>\"\",'Line 1 Source'!B802,\"\")","v":"34"},{"$f":"IF('Line 1 Source'!C802<>\"\",'Line 1 Source'!C802,\"\")","v":"4"},{"$f":"IF('Line 1 Source'!D802<>\"\",'Line 1 Source'!D802,\"\")","v":"3470"},{"$f":"IF('Line 1 Source'!E802<>\"\",'Line 1 Source'!E802,\"\")","v":"0186"},{"$f":"IF('Line 1 Source'!F802<>\"\",'Line 1 Source'!F802,\"\")","v":153390}]
[{"$f":"IF('Line 1 Source'!A803<>\"\",'Line 1 Source'!A803,\"\")","v":"2018"},"3443470",{"$f":"CONCATENATE(VLOOKUP(B803,'School List'!$B$3:$H$291,6,FALSE),H803)","v":"34701214"},{"$f":"CONCATENATE(VLOOKUP(B803,'School List'!$B$3:$D$291,3,FALSE),H803)","v":"Howard County - NORTHWESTERN SCHOOL CORPORATION1214"},{"$f":"IF('Line 1 Source'!B803<>\"\",'Line 1 Source'!B803,\"\")","v":"34"},{"$f":"IF('Line 1 Source'!C803<>\"\",'Line 1 Source'!C803,\"\")","v":"4"},{"$f":"IF('Line 1 Source'!D803<>\"\",'Line 1 Source'!D803,\"\")","v":"3470"},{"$f":"IF('Line 1 Source'!E803<>\"\",'Line 1 Source'!E803,\"\")","v":"1214"},{"$f":"IF('Line 1 Source'!F803<>\"\",'Line 1 Source'!F803,\"\")","v":2104599}]
[{"$f":"IF('Line 1 Source'!A804<>\"\",'Line 1 Source'!A804,\"\")","v":"2018"},"3443470",{"$f":"CONCATENATE(VLOOKUP(B804,'School List'!$B$3:$H$291,6,FALSE),H804)","v":"34706301"},{"$f":"CONCATENATE(VLOOKUP(B804,'School List'!$B$3:$D$291,3,FALSE),H804)","v":"Howard County - NORTHWESTERN SCHOOL CORPORATION6301"},{"$f":"IF('Line 1 Source'!B804<>\"\",'Line 1 Source'!B804,\"\")","v":"34"},{"$f":"IF('Line 1 Source'!C804<>\"\",'Line 1 Source'!C804,\"\")","v":"4"},{"$f":"IF('Line 1 Source'!D804<>\"\",'Line 1 Source'!D804,\"\")","v":"3470"},{"$f":"IF('Line 1 Source'!E804<>\"\",'Line 1 Source'!E804,\"\")","v":"6301"},{"$f":"IF('Line 1 Source'!F804<>\"\",'Line 1 Source'!F804,\"\")","v":1567987}]
[{"$f":"IF('Line 1 Source'!A805<>\"\",'Line 1 Source'!A805,\"\")","v":"2018"},"3443470",{"$f":"CONCATENATE(VLOOKUP(B805,'School List'!$B$3:$H$291,6,FALSE),H805)","v":"34706302"},{"$f":"CONCATENATE(VLOOKUP(B805,'School List'!$B$3:$D$291,3,FALSE),H805)","v":"Howard County - NORTHWESTERN SCHOOL CORPORATION6302"},{"$f":"IF('Line 1 Source'!B805<>\"\",'Line 1 Source'!B805,\"\")","v":"34"},{"$f":"IF('Line 1 Source'!C805<>\"\",'Line 1 Source'!C805,\"\")","v":"4"},{"$f":"IF('Line 1 Source'!D805<>\"\",'Line 1 Source'!D805,\"\")","v":"3470"},{"$f":"IF('Line 1 Source'!E805<>\"\",'Line 1 Source'!E805,\"\")","v":"6302"},{"$f":"IF('Line 1 Source'!F805<>\"\",'Line 1 Source'!F805,\"\")","v":172620}]
[{"$f":"IF('Line 1 Source'!A806<>\"\",'Line 1 Source'!A806,\"\")","v":"2018"},"3443480",{"$f":"CONCATENATE(VLOOKUP(B806,'School List'!$B$3:$H$291,6,FALSE),H806)","v":"34800061"},{"$f":"CONCATENATE(VLOOKUP(B806,'School List'!$B$3:$D$291,3,FALSE),H806)","v":"Howard County - EASTERN HOWARD COMMUNITY SCHOOL CORP0061"},{"$f":"IF('Line 1 Source'!B806<>\"\",'Line 1 Source'!B806,\"\")","v":"34"},{"$f":"IF('Line 1 Source'!C806<>\"\",'Line 1 Source'!C806,\"\")","v":"4"},{"$f":"IF('Line 1 Source'!D806<>\"\",'Line 1 Source'!D806,\"\")","v":"3480"},{"$f":"IF('Line 1 Source'!E806<>\"\",'Line 1 Source'!E806,\"\")","v":"0061"},{"$f":"IF('Line 1 Source'!F806<>\"\",'Line 1 Source'!F806,\"\")","v":0}]
[{"$f":"IF('Line 1 Source'!A807<>\"\",'Line 1 Source'!A807,\"\")","v":"2018"},"3443480",{"$f":"CONCATENATE(VLOOKUP(B807,'School List'!$B$3:$H$291,6,FALSE),H807)","v":"34800101"},{"$f":"CONCATENATE(VLOOKUP(B807,'School List'!$B$3:$D$291,3,FALSE),H807)","v":"Howard County - EASTERN HOWARD COMMUNITY SCHOOL CORP0101"},{"$f":"IF('Line 1 Source'!B807<>\"\",'Line 1 Source'!B807,\"\")","v":"34"},{"$f":"IF('Line 1 Source'!C807<>\"\",'Line 1 Source'!C807,\"\")","v":"4"},{"$f":"IF('Line 1 Source'!D807<>\"\",'Line 1 Source'!D807,\"\")","v":"3480"},{"$f":"IF('Line 1 Source'!E807<>\"\",'Line 1 Source'!E807,\"\")","v":"0101"},{"$f":"IF('Line 1 Source'!F807<>\"\",'Line 1 Source'!F807,\"\")","v":9771635}]
[{"$f":"IF('Line 1 Source'!A808<>\"\",'Line 1 Source'!A808,\"\")","v":"2018"},"3443480",{"$f":"CONCATENATE(VLOOKUP(B808,'School List'!$B$3:$H$291,6,FALSE),H808)","v":"34800180"},{"$f":"CONCATENATE(VLOOKUP(B808,'School List'!$B$3:$D$291,3,FALSE),H808)","v":"Howard County - EASTERN HOWARD COMMUNITY SCHOOL CORP0180"},{"$f":"IF('Line 1 Source'!B808<>\"\",'Line 1 Source'!B808,\"\")","v":"34"},{"$f":"IF('Line 1 Source'!C808<>\"\",'Line 1 Source'!C808,\"\")","v":"4"},{"$f":"IF('Line 1 Source'!D808<>\"\",'Line 1 Source'!D808,\"\")","v":"3480"},{"$f":"IF('Line 1 Source'!E808<>\"\",'Line 1 Source'!E808,\"\")","v":"0180"},{"$f":"IF('Line 1 Source'!F808<>\"\",'Line 1 Source'!F808,\"\")","v":2813908}]
[{"$f":"IF('Line 1 Source'!A809<>\"\",'Line 1 Source'!A809,\"\")","v":"2018"},"3443480",{"$f":"CONCATENATE(VLOOKUP(B809,'School List'!$B$3:$H$291,6,FALSE),H809)","v":"34800186"},{"$f":"CONCATENATE(VLOOKUP(B809,'School List'!$B$3:$D$291,3,FALSE),H809)","v":"Howard County - EASTERN HOWARD COMMUNITY SCHOOL CORP0186"},{"$f":"IF('Line 1 Source'!B809<>\"\",'Line 1 Source'!B809,\"\")","v":"34"},{"$f":"IF('Line 1 Source'!C809<>\"\",'Line 1 Source'!C809,\"\")","v":"4"},{"$f":"IF('Line 1 Source'!D809<>\"\",'Line 1 Source'!D809,\"\")","v":"3480"},{"$f":"IF('Line 1 Source'!E809<>\"\",'Line 1 Source'!E809,\"\")","v":"0186"},{"$f":"IF('Line 1 Source'!F809<>\"\",'Line 1 Source'!F809,\"\")","v":89247}]
[{"$f":"IF('Line 1 Source'!A810<>\"\",'Line 1 Source'!A810,\"\")","v":"2018"},"3443480",{"$f":"CONCATENATE(VLOOKUP(B810,'School List'!$B$3:$H$291,6,FALSE),H810)","v":"34801214"},{"$f":"CONCATENATE(VLOOKUP(B810,'School List'!$B$3:$D$291,3,FALSE),H810)","v":"Howard County - EASTERN HOWARD COMMUNITY SCHOOL CORP1214"},{"$f":"IF('Line 1 Source'!B810<>\"\",'Line 1 Source'!B810,\"\")","v":"34"},{"$f":"IF('Line 1 Source'!C810<>\"\",'Line 1 Source'!C810,\"\")","v":"4"},{"$f":"IF('Line 1 Source'!D810<>\"\",'Line 1 Source'!D810,\"\")","v":"3480"},{"$f":"IF('Line 1 Source'!E810<>\"\",'Line 1 Source'!E810,\"\")","v":"1214"},{"$f":"IF('Line 1 Source'!F810<>\"\",'Line 1 Source'!F810,\"\")","v":1255997}]
[{"$f":"IF('Line 1 Source'!A811<>\"\",'Line 1 Source'!A811,\"\")","v":"2018"},"3443480",{"$f":"CONCATENATE(VLOOKUP(B811,'School List'!$B$3:$H$291,6,FALSE),H811)","v":"34806301"},{"$f":"CONCATENATE(VLOOKUP(B811,'School List'!$B$3:$D$291,3,FALSE),H811)","v":"Howard County - EASTERN HOWARD COMMUNITY SCHOOL CORP6301"},{"$f":"IF('Line 1 Source'!B811<>\"\",'Line 1 Source'!B811,\"\")","v":"34"},{"$f":"IF('Line 1 Source'!C811<>\"\",'Line 1 Source'!C811,\"\")","v":"4"},{"$f":"IF('Line 1 Source'!D811<>\"\",'Line 1 Source'!D811,\"\")","v":"3480"},{"$f":"IF('Line 1 Source'!E811<>\"\",'Line 1 Source'!E811,\"\")","v":"6301"},{"$f":"IF('Line 1 Source'!F811<>\"\",'Line 1 Source'!F811,\"\")","v":824245}]
[{"$f":"IF('Line 1 Source'!A812<>\"\",'Line 1 Source'!A812,\"\")","v":"2018"},"3443480",{"$f":"CONCATENATE(VLOOKUP(B812,'School List'!$B$3:$H$291,6,FALSE),H812)","v":"34806302"},{"$f":"CONCATENATE(VLOOKUP(B812,'School List'!$B$3:$D$291,3,FALSE),H812)","v":"Howard County - EASTERN HOWARD COMMUNITY SCHOOL CORP6302"},{"$f":"IF('Line 1 Source'!B812<>\"\",'Line 1 Source'!B812,\"\")","v":"34"},{"$f":"IF('Line 1 Source'!C812<>\"\",'Line 1 Source'!C812,\"\")","v":"4"},{"$f":"IF('Line 1 Source'!D812<>\"\",'Line 1 Source'!D812,\"\")","v":"3480"},{"$f":"IF('Line 1 Source'!E812<>\"\",'Line 1 Source'!E812,\"\")","v":"6302"},{"$f":"IF('Line 1 Source'!F812<>\"\",'Line 1 Source'!F812,\"\")","v":245029}]
[{"$f":"IF('Line 1 Source'!A813<>\"\",'Line 1 Source'!A813,\"\")","v":"2018"},"3443490",{"$f":"CONCATENATE(VLOOKUP(B813,'School List'!$B$3:$H$291,6,FALSE),H813)","v":"34900061"},{"$f":"CONCATENATE(VLOOKUP(B813,'School List'!$B$3:$D$291,3,FALSE),H813)","v":"Howard County - WESTERN SCHOOL CORPORATION0061"},{"$f":"IF('Line 1 Source'!B813<>\"\",'Line 1 Source'!B813,\"\")","v":"34"},{"$f":"IF('Line 1 Source'!C813<>\"\",'Line 1 Source'!C813,\"\")","v":"4"},{"$f":"IF('Line 1 Source'!D813<>\"\",'Line 1 Source'!D813,\"\")","v":"3490"},{"$f":"IF('Line 1 Source'!E813<>\"\",'Line 1 Source'!E813,\"\")","v":"0061"},{"$f":"IF('Line 1 Source'!F813<>\"\",'Line 1 Source'!F813,\"\")","v":594915}]
[{"$f":"IF('Line 1 Source'!A814<>\"\",'Line 1 Source'!A814,\"\")","v":"2018"},"3443490",{"$f":"CONCATENATE(VLOOKUP(B814,'School List'!$B$3:$H$291,6,FALSE),H814)","v":"34900101"},{"$f":"CONCATENATE(VLOOKUP(B814,'School List'!$B$3:$D$291,3,FALSE),H814)","v":"Howard County - WESTERN SCHOOL CORPORATION0101"},{"$f":"IF('Line 1 Source'!B814<>\"\",'Line 1 Source'!B814,\"\")","v":"34"},{"$f":"IF('Line 1 Source'!C814<>\"\",'Line 1 Source'!C814,\"\")","v":"4"},{"$f":"IF('Line 1 Source'!D814<>\"\",'Line 1 Source'!D814,\"\")","v":"3490"},{"$f":"IF('Line 1 Source'!E814<>\"\",'Line 1 Source'!E814,\"\")","v":"0101"},{"$f":"IF('Line 1 Source'!F814<>\"\",'Line 1 Source'!F814,\"\")","v":18692622}]
[{"$f":"IF('Line 1 Source'!A815<>\"\",'Line 1 Source'!A815,\"\")","v":"2018"},"3443490",{"$f":"CONCATENATE(VLOOKUP(B815,'School List'!$B$3:$H$291,6,FALSE),H815)","v":"34900180"},{"$f":"CONCATENATE(VLOOKUP(B815,'School List'!$B$3:$D$291,3,FALSE),H815)","v":"Howard County - WESTERN SCHOOL CORPORATION0180"},{"$f":"IF('Line 1 Source'!B815<>\"\",'Line 1 Source'!B815,\"\")","v":"34"},{"$f":"IF('Line 1 Source'!C815<>\"\",'Line 1 Source'!C815,\"\")","v":"4"},{"$f":"IF('Line 1 Source'!D815<>\"\",'Line 1 Source'!D815,\"\")","v":"3490"},{"$f":"IF('Line 1 Source'!E815<>\"\",'Line 1 Source'!E815,\"\")","v":"0180"},{"$f":"IF('Line 1 Source'!F815<>\"\",'Line 1 Source'!F815,\"\")","v":2922338}]
[{"$f":"IF('Line 1 Source'!A816<>\"\",'Line 1 Source'!A816,\"\")","v":"2018"},"3443490",{"$f":"CONCATENATE(VLOOKUP(B816,'School List'!$B$3:$H$291,6,FALSE),H816)","v":"34900186"},{"$f":"CONCATENATE(VLOOKUP(B816,'School List'!$B$3:$D$291,3,FALSE),H816)","v":"Howard County - WESTERN SCHOOL CORPORATION0186"},{"$f":"IF('Line 1 Source'!B816<>\"\",'Line 1 Source'!B816,\"\")","v":"34"},{"$f":"IF('Line 1 Source'!C816<>\"\",'Line 1 Source'!C816,\"\")","v":"4"},{"$f":"IF('Line 1 Source'!D816<>\"\",'Line 1 Source'!D816,\"\")","v":"3490"},{"$f":"IF('Line 1 Source'!E816<>\"\",'Line 1 Source'!E816,\"\")","v":"0186"},{"$f":"IF('Line 1 Source'!F816<>\"\",'Line 1 Source'!F816,\"\")","v":240655}]
[{"$f":"IF('Line 1 Source'!A817<>\"\",'Line 1 Source'!A817,\"\")","v":"2018"},"3443490",{"$f":"CONCATENATE(VLOOKUP(B817,'School List'!$B$3:$H$291,6,FALSE),H817)","v":"34901214"},{"$f":"CONCATENATE(VLOOKUP(B817,'School List'!$B$3:$D$291,3,FALSE),H817)","v":"Howard County - WESTERN SCHOOL CORPORATION1214"},{"$f":"IF('Line 1 Source'!B817<>\"\",'Line 1 Source'!B817,\"\")","v":"34"},{"$f":"IF('Line 1 Source'!C817<>\"\",'Line 1 Source'!C817,\"\")","v":"4"},{"$f":"IF('Line 1 Source'!D817<>\"\",'Line 1 Source'!D817,\"\")","v":"3490"},{"$f":"IF('Line 1 Source'!E817<>\"\",'Line 1 Source'!E817,\"\")","v":"1214"},{"$f":"IF('Line 1 Source'!F817<>\"\",'Line 1 Source'!F817,\"\")","v":1243800}]
[{"$f":"IF('Line 1 Source'!A818<>\"\",'Line 1 Source'!A818,\"\")","v":"2018"},"3443490",{"$f":"CONCATENATE(VLOOKUP(B818,'School List'!$B$3:$H$291,6,FALSE),H818)","v":"34906301"},{"$f":"CONCATENATE(VLOOKUP(B818,'School List'!$B$3:$D$291,3,FALSE),H818)","v":"Howard County - WESTERN SCHOOL CORPORATION6301"},{"$f":"IF('Line 1 Source'!B818<>\"\",'Line 1 Source'!B818,\"\")","v":"34"},{"$f":"IF('Line 1 Source'!C818<>\"\",'Line 1 Source'!C818,\"\")","v":"4"},{"$f":"IF('Line 1 Source'!D818<>\"\",'Line 1 Source'!D818,\"\")","v":"3490"},{"$f":"IF('Line 1 Source'!E818<>\"\",'Line 1 Source'!E818,\"\")","v":"6301"},{"$f":"IF('Line 1 Source'!F818<>\"\",'Line 1 Source'!F818,\"\")","v":1118716}]
[{"$f":"IF('Line 1 Source'!A819<>\"\",'Line 1 Source'!A819,\"\")","v":"2018"},"3443490",{"$f":"CONCATENATE(VLOOKUP(B819,'School List'!$B$3:$H$291,6,FALSE),H819)","v":"34906302"},{"$f":"CONCATENATE(VLOOKUP(B819,'School List'!$B$3:$D$291,3,FALSE),H819)","v":"Howard County - WESTERN SCHOOL CORPORATION6302"},{"$f":"IF('Line 1 Source'!B819<>\"\",'Line 1 Source'!B819,\"\")","v":"34"},{"$f":"IF('Line 1 Source'!C819<>\"\",'Line 1 Source'!C819,\"\")","v":"4"},{"$f":"IF('Line 1 Source'!D819<>\"\",'Line 1 Source'!D819,\"\")","v":"3490"},{"$f":"IF('Line 1 Source'!E819<>\"\",'Line 1 Source'!E819,\"\")","v":"6302"},{"$f":"IF('Line 1 Source'!F819<>\"\",'Line 1 Source'!F819,\"\")","v":200000}]
[{"$f":"IF('Line 1 Source'!A820<>\"\",'Line 1 Source'!A820,\"\")","v":"2018"},"3443500",{"$f":"CONCATENATE(VLOOKUP(B820,'School List'!$B$3:$H$291,6,FALSE),H820)","v":"35000061"},{"$f":"CONCATENATE(VLOOKUP(B820,'School List'!$B$3:$D$291,3,FALSE),H820)","v":"Howard County - KOKOMO SCHOOL CORPORATION0061"},{"$f":"IF('Line 1 Source'!B820<>\"\",'Line 1 Source'!B820,\"\")","v":"34"},{"$f":"IF('Line 1 Source'!C820<>\"\",'Line 1 Source'!C820,\"\")","v":"4"},{"$f":"IF('Line 1 Source'!D820<>\"\",'Line 1 Source'!D820,\"\")","v":"3500"},{"$f":"IF('Line 1 Source'!E820<>\"\",'Line 1 Source'!E820,\"\")","v":"0061"},{"$f":"IF('Line 1 Source'!F820<>\"\",'Line 1 Source'!F820,\"\")","v":0}]
[{"$f":"IF('Line 1 Source'!A821<>\"\",'Line 1 Source'!A821,\"\")","v":"2018"},"3443500",{"$f":"CONCATENATE(VLOOKUP(B821,'School List'!$B$3:$H$291,6,FALSE),H821)","v":"35000101"},{"$f":"CONCATENATE(VLOOKUP(B821,'School List'!$B$3:$D$291,3,FALSE),H821)","v":"Howard County - KOKOMO SCHOOL CORPORATION0101"},{"$f":"IF('Line 1 Source'!B821<>\"\",'Line 1 Source'!B821,\"\")","v":"34"},{"$f":"IF('Line 1 Source'!C821<>\"\",'Line 1 Source'!C821,\"\")","v":"4"},{"$f":"IF('Line 1 Source'!D821<>\"\",'Line 1 Source'!D821,\"\")","v":"3500"},{"$f":"IF('Line 1 Source'!E821<>\"\",'Line 1 Source'!E821,\"\")","v":"0101"},{"$f":"IF('Line 1 Source'!F821<>\"\",'Line 1 Source'!F821,\"\")","v":47067821}]
[{"$f":"IF('Line 1 Source'!A822<>\"\",'Line 1 Source'!A822,\"\")","v":"2018"},"3443500",{"$f":"CONCATENATE(VLOOKUP(B822,'School List'!$B$3:$H$291,6,FALSE),H822)","v":"35000180"},{"$f":"CONCATENATE(VLOOKUP(B822,'School List'!$B$3:$D$291,3,FALSE),H822)","v":"Howard County - KOKOMO SCHOOL CORPORATION0180"},{"$f":"IF('Line 1 Source'!B822<>\"\",'Line 1 Source'!B822,\"\")","v":"34"},{"$f":"IF('Line 1 Source'!C822<>\"\",'Line 1 Source'!C822,\"\")","v":"4"},{"$f":"IF('Line 1 Source'!D822<>\"\",'Line 1 Source'!D822,\"\")","v":"3500"},{"$f":"IF('Line 1 Source'!E822<>\"\",'Line 1 Source'!E822,\"\")","v":"0180"},{"$f":"IF('Line 1 Source'!F822<>\"\",'Line 1 Source'!F822,\"\")","v":9161399}]
[{"$f":"IF('Line 1 Source'!A823<>\"\",'Line 1 Source'!A823,\"\")","v":"2018"},"3443500",{"$f":"CONCATENATE(VLOOKUP(B823,'School List'!$B$3:$H$291,6,FALSE),H823)","v":"35000186"},{"$f":"CONCATENATE(VLOOKUP(B823,'School List'!$B$3:$D$291,3,FALSE),H823)","v":"Howard County - KOKOMO SCHOOL CORPORATION0186"},{"$f":"IF('Line 1 Source'!B823<>\"\",'Line 1 Source'!B823,\"\")","v":"34"},{"$f":"IF('Line 1 Source'!C823<>\"\",'Line 1 Source'!C823,\"\")","v":"4"},{"$f":"IF('Line 1 Source'!D823<>\"\",'Line 1 Source'!D823,\"\")","v":"3500"},{"$f":"IF('Line 1 Source'!E823<>\"\",'Line 1 Source'!E823,\"\")","v":"0186"},{"$f":"IF('Line 1 Source'!F823<>\"\",'Line 1 Source'!F823,\"\")","v":429583}]
[{"$f":"IF('Line 1 Source'!A824<>\"\",'Line 1 Source'!A824,\"\")","v":"2018"},"3443500",{"$f":"CONCATENATE(VLOOKUP(B824,'School List'!$B$3:$H$291,6,FALSE),H824)","v":"35001214"},{"$f":"CONCATENATE(VLOOKUP(B824,'School List'!$B$3:$D$291,3,FALSE),H824)","v":"Howard County - KOKOMO SCHOOL CORPORATION1214"},{"$f":"IF('Line 1 Source'!B824<>\"\",'Line 1 Source'!B824,\"\")","v":"34"},{"$f":"IF('Line 1 Source'!C824<>\"\",'Line 1 Source'!C824,\"\")","v":"4"},{"$f":"IF('Line 1 Source'!D824<>\"\",'Line 1 Source'!D824,\"\")","v":"3500"},{"$f":"IF('Line 1 Source'!E824<>\"\",'Line 1 Source'!E824,\"\")","v":"1214"},{"$f":"IF('Line 1 Source'!F824<>\"\",'Line 1 Source'!F824,\"\")","v":8108468}]
[{"$f":"IF('Line 1 Source'!A825<>\"\",'Line 1 Source'!A825,\"\")","v":"2018"},"3443500",{"$f":"CONCATENATE(VLOOKUP(B825,'School List'!$B$3:$H$291,6,FALSE),H825)","v":"35006301"},{"$f":"CONCATENATE(VLOOKUP(B825,'School List'!$B$3:$D$291,3,FALSE),H825)","v":"Howard County - KOKOMO SCHOOL CORPORATION6301"},{"$f":"IF('Line 1 Source'!B825<>\"\",'Line 1 Source'!B825,\"\")","v":"34"},{"$f":"IF('Line 1 Source'!C825<>\"\",'Line 1 Source'!C825,\"\")","v":"4"},{"$f":"IF('Line 1 Source'!D825<>\"\",'Line 1 Source'!D825,\"\")","v":"3500"},{"$f":"IF('Line 1 Source'!E825<>\"\",'Line 1 Source'!E825,\"\")","v":"6301"},{"$f":"IF('Line 1 Source'!F825<>\"\",'Line 1 Source'!F825,\"\")","v":2835203}]
[{"$f":"IF('Line 1 Source'!A826<>\"\",'Line 1 Source'!A826,\"\")","v":"2018"},"3443500",{"$f":"CONCATENATE(VLOOKUP(B826,'School List'!$B$3:$H$291,6,FALSE),H826)","v":"35006302"},{"$f":"CONCATENATE(VLOOKUP(B826,'School List'!$B$3:$D$291,3,FALSE),H826)","v":"Howard County - KOKOMO SCHOOL CORPORATION6302"},{"$f":"IF('Line 1 Source'!B826<>\"\",'Line 1 Source'!B826,\"\")","v":"34"},{"$f":"IF('Line 1 Source'!C826<>\"\",'Line 1 Source'!C826,\"\")","v":"4"},{"$f":"IF('Line 1 Source'!D826<>\"\",'Line 1 Source'!D826,\"\")","v":"3500"},{"$f":"IF('Line 1 Source'!E826<>\"\",'Line 1 Source'!E826,\"\")","v":"6302"},{"$f":"IF('Line 1 Source'!F826<>\"\",'Line 1 Source'!F826,\"\")","v":695775}]
[{"$f":"IF('Line 1 Source'!A827<>\"\",'Line 1 Source'!A827,\"\")","v":"2018"},"3543625",{"$f":"CONCATENATE(VLOOKUP(B827,'School List'!$B$3:$H$291,6,FALSE),H827)","v":"36250101"},{"$f":"CONCATENATE(VLOOKUP(B827,'School List'!$B$3:$D$291,3,FALSE),H827)","v":"Huntington County - HUNTINGTON COUNTY COMMUNITY SCHOOL CORP0101"},{"$f":"IF('Line 1 Source'!B827<>\"\",'Line 1 Source'!B827,\"\")","v":"35"},{"$f":"IF('Line 1 Source'!C827<>\"\",'Line 1 Source'!C827,\"\")","v":"4"},{"$f":"IF('Line 1 Source'!D827<>\"\",'Line 1 Source'!D827,\"\")","v":"3625"},{"$f":"IF('Line 1 Source'!E827<>\"\",'Line 1 Source'!E827,\"\")","v":"0101"},{"$f":"IF('Line 1 Source'!F827<>\"\",'Line 1 Source'!F827,\"\")","v":35662206}]
[{"$f":"IF('Line 1 Source'!A828<>\"\",'Line 1 Source'!A828,\"\")","v":"2018"},"3543625",{"$f":"CONCATENATE(VLOOKUP(B828,'School List'!$B$3:$H$291,6,FALSE),H828)","v":"36250180"},{"$f":"CONCATENATE(VLOOKUP(B828,'School List'!$B$3:$D$291,3,FALSE),H828)","v":"Huntington County - HUNTINGTON COUNTY COMMUNITY SCHOOL CORP0180"},{"$f":"IF('Line 1 Source'!B828<>\"\",'Line 1 Source'!B828,\"\")","v":"35"},{"$f":"IF('Line 1 Source'!C828<>\"\",'Line 1 Source'!C828,\"\")","v":"4"},{"$f":"IF('Line 1 Source'!D828<>\"\",'Line 1 Source'!D828,\"\")","v":"3625"},{"$f":"IF('Line 1 Source'!E828<>\"\",'Line 1 Source'!E828,\"\")","v":"0180"},{"$f":"IF('Line 1 Source'!F828<>\"\",'Line 1 Source'!F828,\"\")","v":5845865}]
[{"$f":"IF('Line 1 Source'!A829<>\"\",'Line 1 Source'!A829,\"\")","v":"2018"},"3543625",{"$f":"CONCATENATE(VLOOKUP(B829,'School List'!$B$3:$H$291,6,FALSE),H829)","v":"36251214"},{"$f":"CONCATENATE(VLOOKUP(B829,'School List'!$B$3:$D$291,3,FALSE),H829)","v":"Huntington County - HUNTINGTON COUNTY COMMUNITY SCHOOL CORP1214"},{"$f":"IF('Line 1 Source'!B829<>\"\",'Line 1 Source'!B829,\"\")","v":"35"},{"$f":"IF('Line 1 Source'!C829<>\"\",'Line 1 Source'!C829,\"\")","v":"4"},{"$f":"IF('Line 1 Source'!D829<>\"\",'Line 1 Source'!D829,\"\")","v":"3625"},{"$f":"IF('Line 1 Source'!E829<>\"\",'Line 1 Source'!E829,\"\")","v":"1214"},{"$f":"IF('Line 1 Source'!F829<>\"\",'Line 1 Source'!F829,\"\")","v":5782470}]
[{"$f":"IF('Line 1 Source'!A830<>\"\",'Line 1 Source'!A830,\"\")","v":"2018"},"3543625",{"$f":"CONCATENATE(VLOOKUP(B830,'School List'!$B$3:$H$291,6,FALSE),H830)","v":"36256301"},{"$f":"CONCATENATE(VLOOKUP(B830,'School List'!$B$3:$D$291,3,FALSE),H830)","v":"Huntington County - HUNTINGTON COUNTY COMMUNITY SCHOOL CORP6301"},{"$f":"IF('Line 1 Source'!B830<>\"\",'Line 1 Source'!B830,\"\")","v":"35"},{"$f":"IF('Line 1 Source'!C830<>\"\",'Line 1 Source'!C830,\"\")","v":"4"},{"$f":"IF('Line 1 Source'!D830<>\"\",'Line 1 Source'!D830,\"\")","v":"3625"},{"$f":"IF('Line 1 Source'!E830<>\"\",'Line 1 Source'!E830,\"\")","v":"6301"},{"$f":"IF('Line 1 Source'!F830<>\"\",'Line 1 Source'!F830,\"\")","v":4465000}]
[{"$f":"IF('Line 1 Source'!A831<>\"\",'Line 1 Source'!A831,\"\")","v":"2018"},"3543625",{"$f":"CONCATENATE(VLOOKUP(B831,'School List'!$B$3:$H$291,6,FALSE),H831)","v":"36256302"},{"$f":"CONCATENATE(VLOOKUP(B831,'School List'!$B$3:$D$291,3,FALSE),H831)","v":"Huntington County - HUNTINGTON COUNTY COMMUNITY SCHOOL CORP6302"},{"$f":"IF('Line 1 Source'!B831<>\"\",'Line 1 Source'!B831,\"\")","v":"35"},{"$f":"IF('Line 1 Source'!C831<>\"\",'Line 1 Source'!C831,\"\")","v":"4"},{"$f":"IF('Line 1 Source'!D831<>\"\",'Line 1 Source'!D831,\"\")","v":"3625"},{"$f":"IF('Line 1 Source'!E831<>\"\",'Line 1 Source'!E831,\"\")","v":"6302"},{"$f":"IF('Line 1 Source'!F831<>\"\",'Line 1 Source'!F831,\"\")","v":567274}]
[{"$f":"IF('Line 1 Source'!A832<>\"\",'Line 1 Source'!A832,\"\")","v":"2018"},"3643640",{"$f":"CONCATENATE(VLOOKUP(B832,'School List'!$B$3:$H$291,6,FALSE),H832)","v":"36400061"},{"$f":"CONCATENATE(VLOOKUP(B832,'School List'!$B$3:$D$291,3,FALSE),H832)","v":"Jackson County - MEDORA COMMUNITY SCHOOL CORPORATION0061"},{"$f":"IF('Line 1 Source'!B832<>\"\",'Line 1 Source'!B832,\"\")","v":"36"},{"$f":"IF('Line 1 Source'!C832<>\"\",'Line 1 Source'!C832,\"\")","v":"4"},{"$f":"IF('Line 1 Source'!D832<>\"\",'Line 1 Source'!D832,\"\")","v":"3640"},{"$f":"IF('Line 1 Source'!E832<>\"\",'Line 1 Source'!E832,\"\")","v":"0061"},{"$f":"IF('Line 1 Source'!F832<>\"\",'Line 1 Source'!F832,\"\")","v":50000}]
[{"$f":"IF('Line 1 Source'!A833<>\"\",'Line 1 Source'!A833,\"\")","v":"2018"},"3643640",{"$f":"CONCATENATE(VLOOKUP(B833,'School List'!$B$3:$H$291,6,FALSE),H833)","v":"36400101"},{"$f":"CONCATENATE(VLOOKUP(B833,'School List'!$B$3:$D$291,3,FALSE),H833)","v":"Jackson County - MEDORA COMMUNITY SCHOOL CORPORATION0101"},{"$f":"IF('Line 1 Source'!B833<>\"\",'Line 1 Source'!B833,\"\")","v":"36"},{"$f":"IF('Line 1 Source'!C833<>\"\",'Line 1 Source'!C833,\"\")","v":"4"},{"$f":"IF('Line 1 Source'!D833<>\"\",'Line 1 Source'!D833,\"\")","v":"3640"},{"$f":"IF('Line 1 Source'!E833<>\"\",'Line 1 Source'!E833,\"\")","v":"0101"},{"$f":"IF('Line 1 Source'!F833<>\"\",'Line 1 Source'!F833,\"\")","v":1567950}]
[{"$f":"IF('Line 1 Source'!A834<>\"\",'Line 1 Source'!A834,\"\")","v":"2018"},"3643640",{"$f":"CONCATENATE(VLOOKUP(B834,'School List'!$B$3:$H$291,6,FALSE),H834)","v":"36400180"},{"$f":"CONCATENATE(VLOOKUP(B834,'School List'!$B$3:$D$291,3,FALSE),H834)","v":"Jackson County - MEDORA COMMUNITY SCHOOL CORPORATION0180"},{"$f":"IF('Line 1 Source'!B834<>\"\",'Line 1 Source'!B834,\"\")","v":"36"},{"$f":"IF('Line 1 Source'!C834<>\"\",'Line 1 Source'!C834,\"\")","v":"4"},{"$f":"IF('Line 1 Source'!D834<>\"\",'Line 1 Source'!D834,\"\")","v":"3640"},{"$f":"IF('Line 1 Source'!E834<>\"\",'Line 1 Source'!E834,\"\")","v":"0180"},{"$f":"IF('Line 1 Source'!F834<>\"\",'Line 1 Source'!F834,\"\")","v":451671}]
[{"$f":"IF('Line 1 Source'!A835<>\"\",'Line 1 Source'!A835,\"\")","v":"2018"},{"$f":"CONCATENATE(E835,F835,G835)","v":"3643640"},{"$f":"CONCATENATE(VLOOKUP(B835,'School List'!$B$3:$H$291,6,FALSE),H835)","v":"36400186"},{"$f":"CONCATENATE(VLOOKUP(B835,'School List'!$B$3:$D$291,3,FALSE),H835)","v":"Jackson County - MEDORA COMMUNITY SCHOOL CORPORATION0186"},{"$f":"IF('Line 1 Source'!B835<>\"\",'Line 1 Source'!B835,\"\")","v":"36"},{"$f":"IF('Line 1 Source'!C835<>\"\",'Line 1 Source'!C835,\"\")","v":"4"},{"$f":"IF('Line 1 Source'!D835<>\"\",'Line 1 Source'!D835,\"\")","v":"3640"},{"$f":"IF('Line 1 Source'!E835<>\"\",'Line 1 Source'!E835,\"\")","v":"0186"},{"$f":"IF('Line 1 Source'!F835<>\"\",'Line 1 Source'!F835,\"\")","v":34656}]
[{"$f":"IF('Line 1 Source'!A836<>\"\",'Line 1 Source'!A836,\"\")","v":"2018"},"3643640",{"$f":"CONCATENATE(VLOOKUP(B836,'School List'!$B$3:$H$291,6,FALSE),H836)","v":"36401214"},{"$f":"CONCATENATE(VLOOKUP(B836,'School List'!$B$3:$D$291,3,FALSE),H836)","v":"Jackson County - MEDORA COMMUNITY SCHOOL CORPORATION1214"},{"$f":"IF('Line 1 Source'!B836<>\"\",'Line 1 Source'!B836,\"\")","v":"36"},{"$f":"IF('Line 1 Source'!C836<>\"\",'Line 1 Source'!C836,\"\")","v":"4"},{"$f":"IF('Line 1 Source'!D836<>\"\",'Line 1 Source'!D836,\"\")","v":"3640"},{"$f":"IF('Line 1 Source'!E836<>\"\",'Line 1 Source'!E836,\"\")","v":"1214"},{"$f":"IF('Line 1 Source'!F836<>\"\",'Line 1 Source'!F836,\"\")","v":202389}]
[{"$f":"IF('Line 1 Source'!A837<>\"\",'Line 1 Source'!A837,\"\")","v":"2018"},"3643640",{"$f":"CONCATENATE(VLOOKUP(B837,'School List'!$B$3:$H$291,6,FALSE),H837)","v":"36406301"},{"$f":"CONCATENATE(VLOOKUP(B837,'School List'!$B$3:$D$291,3,FALSE),H837)","v":"Jackson County - MEDORA COMMUNITY SCHOOL CORPORATION6301"},{"$f":"IF('Line 1 Source'!B837<>\"\",'Line 1 Source'!B837,\"\")","v":"36"},{"$f":"IF('Line 1 Source'!C837<>\"\",'Line 1 Source'!C837,\"\")","v":"4"},{"$f":"IF('Line 1 Source'!D837<>\"\",'Line 1 Source'!D837,\"\")","v":"3640"},{"$f":"IF('Line 1 Source'!E837<>\"\",'Line 1 Source'!E837,\"\")","v":"6301"},{"$f":"IF('Line 1 Source'!F837<>\"\",'Line 1 Source'!F837,\"\")","v":135980}]
[{"$f":"IF('Line 1 Source'!A838<>\"\",'Line 1 Source'!A838,\"\")","v":"2018"},"3643640",{"$f":"CONCATENATE(VLOOKUP(B838,'School List'!$B$3:$H$291,6,FALSE),H838)","v":"36406302"},{"$f":"CONCATENATE(VLOOKUP(B838,'School List'!$B$3:$D$291,3,FALSE),H838)","v":"Jackson County - MEDORA COMMUNITY SCHOOL CORPORATION6302"},{"$f":"IF('Line 1 Source'!B838<>\"\",'Line 1 Source'!B838,\"\")","v":"36"},{"$f":"IF('Line 1 Source'!C838<>\"\",'Line 1 Source'!C838,\"\")","v":"4"},{"$f":"IF('Line 1 Source'!D838<>\"\",'Line 1 Source'!D838,\"\")","v":"3640"},{"$f":"IF('Line 1 Source'!E838<>\"\",'Line 1 Source'!E838,\"\")","v":"6302"},{"$f":"IF('Line 1 Source'!F838<>\"\",'Line 1 Source'!F838,\"\")","v":124588}]
[{"$f":"IF('Line 1 Source'!A839<>\"\",'Line 1 Source'!A839,\"\")","v":"2018"},"3643675",{"$f":"CONCATENATE(VLOOKUP(B839,'School List'!$B$3:$H$291,6,FALSE),H839)","v":"36750061"},{"$f":"CONCATENATE(VLOOKUP(B839,'School List'!$B$3:$D$291,3,FALSE),H839)","v":"Jackson County - SEYMOUR COMMUNITY SCHOOL CORPORATION0061"},{"$f":"IF('Line 1 Source'!B839<>\"\",'Line 1 Source'!B839,\"\")","v":"36"},{"$f":"IF('Line 1 Source'!C839<>\"\",'Line 1 Source'!C839,\"\")","v":"4"},{"$f":"IF('Line 1 Source'!D839<>\"\",'Line 1 Source'!D839,\"\")","v":"3675"},{"$f":"IF('Line 1 Source'!E839<>\"\",'Line 1 Source'!E839,\"\")","v":"0061"},{"$f":"IF('Line 1 Source'!F839<>\"\",'Line 1 Source'!F839,\"\")","v":2400000}]
[{"$f":"IF('Line 1 Source'!A840<>\"\",'Line 1 Source'!A840,\"\")","v":"2018"},"3643675",{"$f":"CONCATENATE(VLOOKUP(B840,'School List'!$B$3:$H$291,6,FALSE),H840)","v":"36750101"},{"$f":"CONCATENATE(VLOOKUP(B840,'School List'!$B$3:$D$291,3,FALSE),H840)","v":"Jackson County - SEYMOUR COMMUNITY SCHOOL CORPORATION0101"},{"$f":"IF('Line 1 Source'!B840<>\"\",'Line 1 Source'!B840,\"\")","v":"36"},{"$f":"IF('Line 1 Source'!C840<>\"\",'Line 1 Source'!C840,\"\")","v":"4"},{"$f":"IF('Line 1 Source'!D840<>\"\",'Line 1 Source'!D840,\"\")","v":"3675"},{"$f":"IF('Line 1 Source'!E840<>\"\",'Line 1 Source'!E840,\"\")","v":"0101"},{"$f":"IF('Line 1 Source'!F840<>\"\",'Line 1 Source'!F840,\"\")","v":32547234}]
[{"$f":"IF('Line 1 Source'!A841<>\"\",'Line 1 Source'!A841,\"\")","v":"2018"},"3643675",{"$f":"CONCATENATE(VLOOKUP(B841,'School List'!$B$3:$H$291,6,FALSE),H841)","v":"36750180"},{"$f":"CONCATENATE(VLOOKUP(B841,'School List'!$B$3:$D$291,3,FALSE),H841)","v":"Jackson County - SEYMOUR COMMUNITY SCHOOL CORPORATION0180"},{"$f":"IF('Line 1 Source'!B841<>\"\",'Line 1 Source'!B841,\"\")","v":"36"},{"$f":"IF('Line 1 Source'!C841<>\"\",'Line 1 Source'!C841,\"\")","v":"4"},{"$f":"IF('Line 1 Source'!D841<>\"\",'Line 1 Source'!D841,\"\")","v":"3675"},{"$f":"IF('Line 1 Source'!E841<>\"\",'Line 1 Source'!E841,\"\")","v":"0180"},{"$f":"IF('Line 1 Source'!F841<>\"\",'Line 1 Source'!F841,\"\")","v":4146394}]
[{"$f":"IF('Line 1 Source'!A842<>\"\",'Line 1 Source'!A842,\"\")","v":"2018"},"3643675",{"$f":"CONCATENATE(VLOOKUP(B842,'School List'!$B$3:$H$291,6,FALSE),H842)","v":"36750186"},{"$f":"CONCATENATE(VLOOKUP(B842,'School List'!$B$3:$D$291,3,FALSE),H842)","v":"Jackson County - SEYMOUR COMMUNITY SCHOOL CORPORATION0186"},{"$f":"IF('Line 1 Source'!B842<>\"\",'Line 1 Source'!B842,\"\")","v":"36"},{"$f":"IF('Line 1 Source'!C842<>\"\",'Line 1 Source'!C842,\"\")","v":"4"},{"$f":"IF('Line 1 Source'!D842<>\"\",'Line 1 Source'!D842,\"\")","v":"3675"},{"$f":"IF('Line 1 Source'!E842<>\"\",'Line 1 Source'!E842,\"\")","v":"0186"},{"$f":"IF('Line 1 Source'!F842<>\"\",'Line 1 Source'!F842,\"\")","v":304857}]
[{"$f":"IF('Line 1 Source'!A843<>\"\",'Line 1 Source'!A843,\"\")","v":"2018"},"3643675",{"$f":"CONCATENATE(VLOOKUP(B843,'School List'!$B$3:$H$291,6,FALSE),H843)","v":"36751214"},{"$f":"CONCATENATE(VLOOKUP(B843,'School List'!$B$3:$D$291,3,FALSE),H843)","v":"Jackson County - SEYMOUR COMMUNITY SCHOOL CORPORATION1214"},{"$f":"IF('Line 1 Source'!B843<>\"\",'Line 1 Source'!B843,\"\")","v":"36"},{"$f":"IF('Line 1 Source'!C843<>\"\",'Line 1 Source'!C843,\"\")","v":"4"},{"$f":"IF('Line 1 Source'!D843<>\"\",'Line 1 Source'!D843,\"\")","v":"3675"},{"$f":"IF('Line 1 Source'!E843<>\"\",'Line 1 Source'!E843,\"\")","v":"1214"},{"$f":"IF('Line 1 Source'!F843<>\"\",'Line 1 Source'!F843,\"\")","v":5306551}]
[{"$f":"IF('Line 1 Source'!A844<>\"\",'Line 1 Source'!A844,\"\")","v":"2018"},"3643675",{"$f":"CONCATENATE(VLOOKUP(B844,'School List'!$B$3:$H$291,6,FALSE),H844)","v":"36756301"},{"$f":"CONCATENATE(VLOOKUP(B844,'School List'!$B$3:$D$291,3,FALSE),H844)","v":"Jackson County - SEYMOUR COMMUNITY SCHOOL CORPORATION6301"},{"$f":"IF('Line 1 Source'!B844<>\"\",'Line 1 Source'!B844,\"\")","v":"36"},{"$f":"IF('Line 1 Source'!C844<>\"\",'Line 1 Source'!C844,\"\")","v":"4"},{"$f":"IF('Line 1 Source'!D844<>\"\",'Line 1 Source'!D844,\"\")","v":"3675"},{"$f":"IF('Line 1 Source'!E844<>\"\",'Line 1 Source'!E844,\"\")","v":"6301"},{"$f":"IF('Line 1 Source'!F844<>\"\",'Line 1 Source'!F844,\"\")","v":1734194}]
[{"$f":"IF('Line 1 Source'!A845<>\"\",'Line 1 Source'!A845,\"\")","v":"2018"},"3643675",{"$f":"CONCATENATE(VLOOKUP(B845,'School List'!$B$3:$H$291,6,FALSE),H845)","v":"36756302"},{"$f":"CONCATENATE(VLOOKUP(B845,'School List'!$B$3:$D$291,3,FALSE),H845)","v":"Jackson County - SEYMOUR COMMUNITY SCHOOL CORPORATION6302"},{"$f":"IF('Line 1 Source'!B845<>\"\",'Line 1 Source'!B845,\"\")","v":"36"},{"$f":"IF('Line 1 Source'!C845<>\"\",'Line 1 Source'!C845,\"\")","v":"4"},{"$f":"IF('Line 1 Source'!D845<>\"\",'Line 1 Source'!D845,\"\")","v":"3675"},{"$f":"IF('Line 1 Source'!E845<>\"\",'Line 1 Source'!E845,\"\")","v":"6302"},{"$f":"IF('Line 1 Source'!F845<>\"\",'Line 1 Source'!F845,\"\")","v":524916}]
[{"$f":"IF('Line 1 Source'!A846<>\"\",'Line 1 Source'!A846,\"\")","v":"2018"},"3643695",{"$f":"CONCATENATE(VLOOKUP(B846,'School List'!$B$3:$H$291,6,FALSE),H846)","v":"36950061"},{"$f":"CONCATENATE(VLOOKUP(B846,'School List'!$B$3:$D$291,3,FALSE),H846)","v":"Jackson County - BROWNSTOWN CENTRAL COMMUNITY SCHOOL CORP0061"},{"$f":"IF('Line 1 Source'!B846<>\"\",'Line 1 Source'!B846,\"\")","v":"36"},{"$f":"IF('Line 1 Source'!C846<>\"\",'Line 1 Source'!C846,\"\")","v":"4"},{"$f":"IF('Line 1 Source'!D846<>\"\",'Line 1 Source'!D846,\"\")","v":"3695"},{"$f":"IF('Line 1 Source'!E846<>\"\",'Line 1 Source'!E846,\"\")","v":"0061"},{"$f":"IF('Line 1 Source'!F846<>\"\",'Line 1 Source'!F846,\"\")","v":498266}]
[{"$f":"IF('Line 1 Source'!A847<>\"\",'Line 1 Source'!A847,\"\")","v":"2018"},"3643695",{"$f":"CONCATENATE(VLOOKUP(B847,'School List'!$B$3:$H$291,6,FALSE),H847)","v":"36950101"},{"$f":"CONCATENATE(VLOOKUP(B847,'School List'!$B$3:$D$291,3,FALSE),H847)","v":"Jackson County - BROWNSTOWN CENTRAL COMMUNITY SCHOOL CORP0101"},{"$f":"IF('Line 1 Source'!B847<>\"\",'Line 1 Source'!B847,\"\")","v":"36"},{"$f":"IF('Line 1 Source'!C847<>\"\",'Line 1 Source'!C847,\"\")","v":"4"},{"$f":"IF('Line 1 Source'!D847<>\"\",'Line 1 Source'!D847,\"\")","v":"3695"},{"$f":"IF('Line 1 Source'!E847<>\"\",'Line 1 Source'!E847,\"\")","v":"0101"},{"$f":"IF('Line 1 Source'!F847<>\"\",'Line 1 Source'!F847,\"\")","v":10520352}]
[{"$f":"IF('Line 1 Source'!A848<>\"\",'Line 1 Source'!A848,\"\")","v":"2018"},"3643695",{"$f":"CONCATENATE(VLOOKUP(B848,'School List'!$B$3:$H$291,6,FALSE),H848)","v":"36950180"},{"$f":"CONCATENATE(VLOOKUP(B848,'School List'!$B$3:$D$291,3,FALSE),H848)","v":"Jackson County - BROWNSTOWN CENTRAL COMMUNITY SCHOOL CORP0180"},{"$f":"IF('Line 1 Source'!B848<>\"\",'Line 1 Source'!B848,\"\")","v":"36"},{"$f":"IF('Line 1 Source'!C848<>\"\",'Line 1 Source'!C848,\"\")","v":"4"},{"$f":"IF('Line 1 Source'!D848<>\"\",'Line 1 Source'!D848,\"\")","v":"3695"},{"$f":"IF('Line 1 Source'!E848<>\"\",'Line 1 Source'!E848,\"\")","v":"0180"},{"$f":"IF('Line 1 Source'!F848<>\"\",'Line 1 Source'!F848,\"\")","v":1359682}]
[{"$f":"IF('Line 1 Source'!A849<>\"\",'Line 1 Source'!A849,\"\")","v":"2018"},"3643695",{"$f":"CONCATENATE(VLOOKUP(B849,'School List'!$B$3:$H$291,6,FALSE),H849)","v":"36951214"},{"$f":"CONCATENATE(VLOOKUP(B849,'School List'!$B$3:$D$291,3,FALSE),H849)","v":"Jackson County - BROWNSTOWN CENTRAL COMMUNITY SCHOOL CORP1214"},{"$f":"IF('Line 1 Source'!B849<>\"\",'Line 1 Source'!B849,\"\")","v":"36"},{"$f":"IF('Line 1 Source'!C849<>\"\",'Line 1 Source'!C849,\"\")","v":"4"},{"$f":"IF('Line 1 Source'!D849<>\"\",'Line 1 Source'!D849,\"\")","v":"3695"},{"$f":"IF('Line 1 Source'!E849<>\"\",'Line 1 Source'!E849,\"\")","v":"1214"},{"$f":"IF('Line 1 Source'!F849<>\"\",'Line 1 Source'!F849,\"\")","v":1774588}]
[{"$f":"IF('Line 1 Source'!A850<>\"\",'Line 1 Source'!A850,\"\")","v":"2018"},"3643695",{"$f":"CONCATENATE(VLOOKUP(B850,'School List'!$B$3:$H$291,6,FALSE),H850)","v":"36956301"},{"$f":"CONCATENATE(VLOOKUP(B850,'School List'!$B$3:$D$291,3,FALSE),H850)","v":"Jackson County - BROWNSTOWN CENTRAL COMMUNITY SCHOOL CORP6301"},{"$f":"IF('Line 1 Source'!B850<>\"\",'Line 1 Source'!B850,\"\")","v":"36"},{"$f":"IF('Line 1 Source'!C850<>\"\",'Line 1 Source'!C850,\"\")","v":"4"},{"$f":"IF('Line 1 Source'!D850<>\"\",'Line 1 Source'!D850,\"\")","v":"3695"},{"$f":"IF('Line 1 Source'!E850<>\"\",'Line 1 Source'!E850,\"\")","v":"6301"},{"$f":"IF('Line 1 Source'!F850<>\"\",'Line 1 Source'!F850,\"\")","v":1046689}]
[{"$f":"IF('Line 1 Source'!A851<>\"\",'Line 1 Source'!A851,\"\")","v":"2018"},"3643695",{"$f":"CONCATENATE(VLOOKUP(B851,'School List'!$B$3:$H$291,6,FALSE),H851)","v":"36956302"},{"$f":"CONCATENATE(VLOOKUP(B851,'School List'!$B$3:$D$291,3,FALSE),H851)","v":"Jackson County - BROWNSTOWN CENTRAL COMMUNITY SCHOOL CORP6302"},{"$f":"IF('Line 1 Source'!B851<>\"\",'Line 1 Source'!B851,\"\")","v":"36"},{"$f":"IF('Line 1 Source'!C851<>\"\",'Line 1 Source'!C851,\"\")","v":"4"},{"$f":"IF('Line 1 Source'!D851<>\"\",'Line 1 Source'!D851,\"\")","v":"3695"},{"$f":"IF('Line 1 Source'!E851<>\"\",'Line 1 Source'!E851,\"\")","v":"6302"},{"$f":"IF('Line 1 Source'!F851<>\"\",'Line 1 Source'!F851,\"\")","v":398000}]
[{"$f":"IF('Line 1 Source'!A852<>\"\",'Line 1 Source'!A852,\"\")","v":"2018"},"3643710",{"$f":"CONCATENATE(VLOOKUP(B852,'School List'!$B$3:$H$291,6,FALSE),H852)","v":"37100101"},{"$f":"CONCATENATE(VLOOKUP(B852,'School List'!$B$3:$D$291,3,FALSE),H852)","v":"Jackson County - CROTHERSVILLE COMMUNITY SCHOOL CORP0101"},{"$f":"IF('Line 1 Source'!B852<>\"\",'Line 1 Source'!B852,\"\")","v":"36"},{"$f":"IF('Line 1 Source'!C852<>\"\",'Line 1 Source'!C852,\"\")","v":"4"},{"$f":"IF('Line 1 Source'!D852<>\"\",'Line 1 Source'!D852,\"\")","v":"3710"},{"$f":"IF('Line 1 Source'!E852<>\"\",'Line 1 Source'!E852,\"\")","v":"0101"},{"$f":"IF('Line 1 Source'!F852<>\"\",'Line 1 Source'!F852,\"\")","v":3440812}]
[{"$f":"IF('Line 1 Source'!A853<>\"\",'Line 1 Source'!A853,\"\")","v":"2018"},"3643710",{"$f":"CONCATENATE(VLOOKUP(B853,'School List'!$B$3:$H$291,6,FALSE),H853)","v":"37100180"},{"$f":"CONCATENATE(VLOOKUP(B853,'School List'!$B$3:$D$291,3,FALSE),H853)","v":"Jackson County - CROTHERSVILLE COMMUNITY SCHOOL CORP0180"},{"$f":"IF('Line 1 Source'!B853<>\"\",'Line 1 Source'!B853,\"\")","v":"36"},{"$f":"IF('Line 1 Source'!C853<>\"\",'Line 1 Source'!C853,\"\")","v":"4"},{"$f":"IF('Line 1 Source'!D853<>\"\",'Line 1 Source'!D853,\"\")","v":"3710"},{"$f":"IF('Line 1 Source'!E853<>\"\",'Line 1 Source'!E853,\"\")","v":"0180"},{"$f":"IF('Line 1 Source'!F853<>\"\",'Line 1 Source'!F853,\"\")","v":707099}]
[{"$f":"IF('Line 1 Source'!A854<>\"\",'Line 1 Source'!A854,\"\")","v":"2018"},"3643710",{"$f":"CONCATENATE(VLOOKUP(B854,'School List'!$B$3:$H$291,6,FALSE),H854)","v":"37100186"},{"$f":"CONCATENATE(VLOOKUP(B854,'School List'!$B$3:$D$291,3,FALSE),H854)","v":"Jackson County - CROTHERSVILLE COMMUNITY SCHOOL CORP0186"},{"$f":"IF('Line 1 Source'!B854<>\"\",'Line 1 Source'!B854,\"\")","v":"36"},{"$f":"IF('Line 1 Source'!C854<>\"\",'Line 1 Source'!C854,\"\")","v":"4"},{"$f":"IF('Line 1 Source'!D854<>\"\",'Line 1 Source'!D854,\"\")","v":"3710"},{"$f":"IF('Line 1 Source'!E854<>\"\",'Line 1 Source'!E854,\"\")","v":"0186"},{"$f":"IF('Line 1 Source'!F854<>\"\",'Line 1 Source'!F854,\"\")","v":198926}]
[{"$f":"IF('Line 1 Source'!A855<>\"\",'Line 1 Source'!A855,\"\")","v":"2018"},"3643710",{"$f":"CONCATENATE(VLOOKUP(B855,'School List'!$B$3:$H$291,6,FALSE),H855)","v":"37101214"},{"$f":"CONCATENATE(VLOOKUP(B855,'School List'!$B$3:$D$291,3,FALSE),H855)","v":"Jackson County - CROTHERSVILLE COMMUNITY SCHOOL CORP1214"},{"$f":"IF('Line 1 Source'!B855<>\"\",'Line 1 Source'!B855,\"\")","v":"36"},{"$f":"IF('Line 1 Source'!C855<>\"\",'Line 1 Source'!C855,\"\")","v":"4"},{"$f":"IF('Line 1 Source'!D855<>\"\",'Line 1 Source'!D855,\"\")","v":"3710"},{"$f":"IF('Line 1 Source'!E855<>\"\",'Line 1 Source'!E855,\"\")","v":"1214"},{"$f":"IF('Line 1 Source'!F855<>\"\",'Line 1 Source'!F855,\"\")","v":243602}]
[{"$f":"IF('Line 1 Source'!A856<>\"\",'Line 1 Source'!A856,\"\")","v":"2018"},"3643710",{"$f":"CONCATENATE(VLOOKUP(B856,'School List'!$B$3:$H$291,6,FALSE),H856)","v":"37106301"},{"$f":"CONCATENATE(VLOOKUP(B856,'School List'!$B$3:$D$291,3,FALSE),H856)","v":"Jackson County - CROTHERSVILLE COMMUNITY SCHOOL CORP6301"},{"$f":"IF('Line 1 Source'!B856<>\"\",'Line 1 Source'!B856,\"\")","v":"36"},{"$f":"IF('Line 1 Source'!C856<>\"\",'Line 1 Source'!C856,\"\")","v":"4"},{"$f":"IF('Line 1 Source'!D856<>\"\",'Line 1 Source'!D856,\"\")","v":"3710"},{"$f":"IF('Line 1 Source'!E856<>\"\",'Line 1 Source'!E856,\"\")","v":"6301"},{"$f":"IF('Line 1 Source'!F856<>\"\",'Line 1 Source'!F856,\"\")","v":286841}]
[{"$f":"IF('Line 1 Source'!A857<>\"\",'Line 1 Source'!A857,\"\")","v":"2018"},"3643710",{"$f":"CONCATENATE(VLOOKUP(B857,'School List'!$B$3:$H$291,6,FALSE),H857)","v":"37106302"},{"$f":"CONCATENATE(VLOOKUP(B857,'School List'!$B$3:$D$291,3,FALSE),H857)","v":"Jackson County - CROTHERSVILLE COMMUNITY SCHOOL CORP6302"},{"$f":"IF('Line 1 Source'!B857<>\"\",'Line 1 Source'!B857,\"\")","v":"36"},{"$f":"IF('Line 1 Source'!C857<>\"\",'Line 1 Source'!C857,\"\")","v":"4"},{"$f":"IF('Line 1 Source'!D857<>\"\",'Line 1 Source'!D857,\"\")","v":"3710"},{"$f":"IF('Line 1 Source'!E857<>\"\",'Line 1 Source'!E857,\"\")","v":"6302"},{"$f":"IF('Line 1 Source'!F857<>\"\",'Line 1 Source'!F857,\"\")","v":0}]
[{"$f":"IF('Line 1 Source'!A858<>\"\",'Line 1 Source'!A858,\"\")","v":"2018"},"3743785",{"$f":"CONCATENATE(VLOOKUP(B858,'School List'!$B$3:$H$291,6,FALSE),H858)","v":"37850061"},{"$f":"CONCATENATE(VLOOKUP(B858,'School List'!$B$3:$D$291,3,FALSE),H858)","v":"Jasper County - KANKAKEE VALLEY SCHOOL CORPORATION0061"},{"$f":"IF('Line 1 Source'!B858<>\"\",'Line 1 Source'!B858,\"\")","v":"37"},{"$f":"IF('Line 1 Source'!C858<>\"\",'Line 1 Source'!C858,\"\")","v":"4"},{"$f":"IF('Line 1 Source'!D858<>\"\",'Line 1 Source'!D858,\"\")","v":"3785"},{"$f":"IF('Line 1 Source'!E858<>\"\",'Line 1 Source'!E858,\"\")","v":"0061"},{"$f":"IF('Line 1 Source'!F858<>\"\",'Line 1 Source'!F858,\"\")","v":995000}]
[{"$f":"IF('Line 1 Source'!A859<>\"\",'Line 1 Source'!A859,\"\")","v":"2018"},"3743785",{"$f":"CONCATENATE(VLOOKUP(B859,'School List'!$B$3:$H$291,6,FALSE),H859)","v":"37850101"},{"$f":"CONCATENATE(VLOOKUP(B859,'School List'!$B$3:$D$291,3,FALSE),H859)","v":"Jasper County - KANKAKEE VALLEY SCHOOL CORPORATION0101"},{"$f":"IF('Line 1 Source'!B859<>\"\",'Line 1 Source'!B859,\"\")","v":"37"},{"$f":"IF('Line 1 Source'!C859<>\"\",'Line 1 Source'!C859,\"\")","v":"4"},{"$f":"IF('Line 1 Source'!D859<>\"\",'Line 1 Source'!D859,\"\")","v":"3785"},{"$f":"IF('Line 1 Source'!E859<>\"\",'Line 1 Source'!E859,\"\")","v":"0101"},{"$f":"IF('Line 1 Source'!F859<>\"\",'Line 1 Source'!F859,\"\")","v":24997000}]
[{"$f":"IF('Line 1 Source'!A860<>\"\",'Line 1 Source'!A860,\"\")","v":"2018"},"3743785",{"$f":"CONCATENATE(VLOOKUP(B860,'School List'!$B$3:$H$291,6,FALSE),H860)","v":"37850180"},{"$f":"CONCATENATE(VLOOKUP(B860,'School List'!$B$3:$D$291,3,FALSE),H860)","v":"Jasper County - KANKAKEE VALLEY SCHOOL CORPORATION0180"},{"$f":"IF('Line 1 Source'!B860<>\"\",'Line 1 Source'!B860,\"\")","v":"37"},{"$f":"IF('Line 1 Source'!C860<>\"\",'Line 1 Source'!C860,\"\")","v":"4"},{"$f":"IF('Line 1 Source'!D860<>\"\",'Line 1 Source'!D860,\"\")","v":"3785"},{"$f":"IF('Line 1 Source'!E860<>\"\",'Line 1 Source'!E860,\"\")","v":"0180"},{"$f":"IF('Line 1 Source'!F860<>\"\",'Line 1 Source'!F860,\"\")","v":362848}]
[{"$f":"IF('Line 1 Source'!A861<>\"\",'Line 1 Source'!A861,\"\")","v":"2018"},"3743785",{"$f":"CONCATENATE(VLOOKUP(B861,'School List'!$B$3:$H$291,6,FALSE),H861)","v":"37850187"},{"$f":"CONCATENATE(VLOOKUP(B861,'School List'!$B$3:$D$291,3,FALSE),H861)","v":"Jasper County - KANKAKEE VALLEY SCHOOL CORPORATION0187"},{"$f":"IF('Line 1 Source'!B861<>\"\",'Line 1 Source'!B861,\"\")","v":"37"},{"$f":"IF('Line 1 Source'!C861<>\"\",'Line 1 Source'!C861,\"\")","v":"4"},{"$f":"IF('Line 1 Source'!D861<>\"\",'Line 1 Source'!D861,\"\")","v":"3785"},{"$f":"IF('Line 1 Source'!E861<>\"\",'Line 1 Source'!E861,\"\")","v":"0187"},{"$f":"IF('Line 1 Source'!F861<>\"\",'Line 1 Source'!F861,\"\")","v":7015600}]
[{"$f":"IF('Line 1 Source'!A862<>\"\",'Line 1 Source'!A862,\"\")","v":"2018"},"3743785",{"$f":"CONCATENATE(VLOOKUP(B862,'School List'!$B$3:$H$291,6,FALSE),H862)","v":"37851214"},{"$f":"CONCATENATE(VLOOKUP(B862,'School List'!$B$3:$D$291,3,FALSE),H862)","v":"Jasper County - KANKAKEE VALLEY SCHOOL CORPORATION1214"},{"$f":"IF('Line 1 Source'!B862<>\"\",'Line 1 Source'!B862,\"\")","v":"37"},{"$f":"IF('Line 1 Source'!C862<>\"\",'Line 1 Source'!C862,\"\")","v":"4"},{"$f":"IF('Line 1 Source'!D862<>\"\",'Line 1 Source'!D862,\"\")","v":"3785"},{"$f":"IF('Line 1 Source'!E862<>\"\",'Line 1 Source'!E862,\"\")","v":"1214"},{"$f":"IF('Line 1 Source'!F862<>\"\",'Line 1 Source'!F862,\"\")","v":6146079}]
[{"$f":"IF('Line 1 Source'!A863<>\"\",'Line 1 Source'!A863,\"\")","v":"2018"},"3743785",{"$f":"CONCATENATE(VLOOKUP(B863,'School List'!$B$3:$H$291,6,FALSE),H863)","v":"37856301"},{"$f":"CONCATENATE(VLOOKUP(B863,'School List'!$B$3:$D$291,3,FALSE),H863)","v":"Jasper County - KANKAKEE VALLEY SCHOOL CORPORATION6301"},{"$f":"IF('Line 1 Source'!B863<>\"\",'Line 1 Source'!B863,\"\")","v":"37"},{"$f":"IF('Line 1 Source'!C863<>\"\",'Line 1 Source'!C863,\"\")","v":"4"},{"$f":"IF('Line 1 Source'!D863<>\"\",'Line 1 Source'!D863,\"\")","v":"3785"},{"$f":"IF('Line 1 Source'!E863<>\"\",'Line 1 Source'!E863,\"\")","v":"6301"},{"$f":"IF('Line 1 Source'!F863<>\"\",'Line 1 Source'!F863,\"\")","v":1933716}]
[{"$f":"IF('Line 1 Source'!A864<>\"\",'Line 1 Source'!A864,\"\")","v":"2018"},"3743785",{"$f":"CONCATENATE(VLOOKUP(B864,'School List'!$B$3:$H$291,6,FALSE),H864)","v":"37856302"},{"$f":"CONCATENATE(VLOOKUP(B864,'School List'!$B$3:$D$291,3,FALSE),H864)","v":"Jasper County - KANKAKEE VALLEY SCHOOL CORPORATION6302"},{"$f":"IF('Line 1 Source'!B864<>\"\",'Line 1 Source'!B864,\"\")","v":"37"},{"$f":"IF('Line 1 Source'!C864<>\"\",'Line 1 Source'!C864,\"\")","v":"4"},{"$f":"IF('Line 1 Source'!D864<>\"\",'Line 1 Source'!D864,\"\")","v":"3785"},{"$f":"IF('Line 1 Source'!E864<>\"\",'Line 1 Source'!E864,\"\")","v":"6302"},{"$f":"IF('Line 1 Source'!F864<>\"\",'Line 1 Source'!F864,\"\")","v":521770}]
[{"$f":"IF('Line 1 Source'!A865<>\"\",'Line 1 Source'!A865,\"\")","v":"2018"},"3743815",{"$f":"CONCATENATE(VLOOKUP(B865,'School List'!$B$3:$H$291,6,FALSE),H865)","v":"38150101"},{"$f":"CONCATENATE(VLOOKUP(B865,'School List'!$B$3:$D$291,3,FALSE),H865)","v":"Jasper County - RENSSELAER CENTRAL SCHOOL CORPORATION0101"},{"$f":"IF('Line 1 Source'!B865<>\"\",'Line 1 Source'!B865,\"\")","v":"37"},{"$f":"IF('Line 1 Source'!C865<>\"\",'Line 1 Source'!C865,\"\")","v":"4"},{"$f":"IF('Line 1 Source'!D865<>\"\",'Line 1 Source'!D865,\"\")","v":"3815"},{"$f":"IF('Line 1 Source'!E865<>\"\",'Line 1 Source'!E865,\"\")","v":"0101"},{"$f":"IF('Line 1 Source'!F865<>\"\",'Line 1 Source'!F865,\"\")","v":11000175}]
[{"$f":"IF('Line 1 Source'!A866<>\"\",'Line 1 Source'!A866,\"\")","v":"2018"},"3743815",{"$f":"CONCATENATE(VLOOKUP(B866,'School List'!$B$3:$H$291,6,FALSE),H866)","v":"38150180"},{"$f":"CONCATENATE(VLOOKUP(B866,'School List'!$B$3:$D$291,3,FALSE),H866)","v":"Jasper County - RENSSELAER CENTRAL SCHOOL CORPORATION0180"},{"$f":"IF('Line 1 Source'!B866<>\"\",'Line 1 Source'!B866,\"\")","v":"37"},{"$f":"IF('Line 1 Source'!C866<>\"\",'Line 1 Source'!C866,\"\")","v":"4"},{"$f":"IF('Line 1 Source'!D866<>\"\",'Line 1 Source'!D866,\"\")","v":"3815"},{"$f":"IF('Line 1 Source'!E866<>\"\",'Line 1 Source'!E866,\"\")","v":"0180"},{"$f":"IF('Line 1 Source'!F866<>\"\",'Line 1 Source'!F866,\"\")","v":1092264}]
[{"$f":"IF('Line 1 Source'!A867<>\"\",'Line 1 Source'!A867,\"\")","v":"2018"},"3743815",{"$f":"CONCATENATE(VLOOKUP(B867,'School List'!$B$3:$H$291,6,FALSE),H867)","v":"38150287"},{"$f":"CONCATENATE(VLOOKUP(B867,'School List'!$B$3:$D$291,3,FALSE),H867)","v":"Jasper County - RENSSELAER CENTRAL SCHOOL CORPORATION0287"},{"$f":"IF('Line 1 Source'!B867<>\"\",'Line 1 Source'!B867,\"\")","v":"37"},{"$f":"IF('Line 1 Source'!C867<>\"\",'Line 1 Source'!C867,\"\")","v":"4"},{"$f":"IF('Line 1 Source'!D867<>\"\",'Line 1 Source'!D867,\"\")","v":"3815"},{"$f":"IF('Line 1 Source'!E867<>\"\",'Line 1 Source'!E867,\"\")","v":"0287"},{"$f":"IF('Line 1 Source'!F867<>\"\",'Line 1 Source'!F867,\"\")","v":1077000}]
[{"$f":"IF('Line 1 Source'!A868<>\"\",'Line 1 Source'!A868,\"\")","v":"2018"},"3743815",{"$f":"CONCATENATE(VLOOKUP(B868,'School List'!$B$3:$H$291,6,FALSE),H868)","v":"38151214"},{"$f":"CONCATENATE(VLOOKUP(B868,'School List'!$B$3:$D$291,3,FALSE),H868)","v":"Jasper County - RENSSELAER CENTRAL SCHOOL CORPORATION1214"},{"$f":"IF('Line 1 Source'!B868<>\"\",'Line 1 Source'!B868,\"\")","v":"37"},{"$f":"IF('Line 1 Source'!C868<>\"\",'Line 1 Source'!C868,\"\")","v":"4"},{"$f":"IF('Line 1 Source'!D868<>\"\",'Line 1 Source'!D868,\"\")","v":"3815"},{"$f":"IF('Line 1 Source'!E868<>\"\",'Line 1 Source'!E868,\"\")","v":"1214"},{"$f":"IF('Line 1 Source'!F868<>\"\",'Line 1 Source'!F868,\"\")","v":2264838}]
[{"$f":"IF('Line 1 Source'!A869<>\"\",'Line 1 Source'!A869,\"\")","v":"2018"},"3743815",{"$f":"CONCATENATE(VLOOKUP(B869,'School List'!$B$3:$H$291,6,FALSE),H869)","v":"38156301"},{"$f":"CONCATENATE(VLOOKUP(B869,'School List'!$B$3:$D$291,3,FALSE),H869)","v":"Jasper County - RENSSELAER CENTRAL SCHOOL CORPORATION6301"},{"$f":"IF('Line 1 Source'!B869<>\"\",'Line 1 Source'!B869,\"\")","v":"37"},{"$f":"IF('Line 1 Source'!C869<>\"\",'Line 1 Source'!C869,\"\")","v":"4"},{"$f":"IF('Line 1 Source'!D869<>\"\",'Line 1 Source'!D869,\"\")","v":"3815"},{"$f":"IF('Line 1 Source'!E869<>\"\",'Line 1 Source'!E869,\"\")","v":"6301"},{"$f":"IF('Line 1 Source'!F869<>\"\",'Line 1 Source'!F869,\"\")","v":847887}]
[{"$f":"IF('Line 1 Source'!A870<>\"\",'Line 1 Source'!A870,\"\")","v":"2018"},"3743815",{"$f":"CONCATENATE(VLOOKUP(B870,'School List'!$B$3:$H$291,6,FALSE),H870)","v":"38156302"},{"$f":"CONCATENATE(VLOOKUP(B870,'School List'!$B$3:$D$291,3,FALSE),H870)","v":"Jasper County - RENSSELAER CENTRAL SCHOOL CORPORATION6302"},{"$f":"IF('Line 1 Source'!B870<>\"\",'Line 1 Source'!B870,\"\")","v":"37"},{"$f":"IF('Line 1 Source'!C870<>\"\",'Line 1 Source'!C870,\"\")","v":"4"},{"$f":"IF('Line 1 Source'!D870<>\"\",'Line 1 Source'!D870,\"\")","v":"3815"},{"$f":"IF('Line 1 Source'!E870<>\"\",'Line 1 Source'!E870,\"\")","v":"6302"},{"$f":"IF('Line 1 Source'!F870<>\"\",'Line 1 Source'!F870,\"\")","v":200000}]
[{"$f":"IF('Line 1 Source'!A871<>\"\",'Line 1 Source'!A871,\"\")","v":"2018"},"3746630",{"$f":"CONCATENATE(VLOOKUP(B871,'School List'!$B$3:$H$291,6,FALSE),H871)","v":{"$error":"#N/A"}},{"$f":"CONCATENATE(VLOOKUP(B871,'School List'!$B$3:$D$291,3,FALSE),H871)","v":{"$error":"#N/A"}},{"$f":"IF('Line 1 Source'!B871<>\"\",'Line 1 Source'!B871,\"\")","v":"37"},{"$f":"IF('Line 1 Source'!C871<>\"\",'Line 1 Source'!C871,\"\")","v":"4"},{"$f":"IF('Line 1 Source'!D871<>\"\",'Line 1 Source'!D871,\"\")","v":"6630"},{"$f":"IF('Line 1 Source'!E871<>\"\",'Line 1 Source'!E871,\"\")","v":"0061"},{"$f":"IF('Line 1 Source'!F871<>\"\",'Line 1 Source'!F871,\"\")","v":0}]
[{"$f":"IF('Line 1 Source'!A872<>\"\",'Line 1 Source'!A872,\"\")","v":"2018"},"3746630",{"$f":"CONCATENATE(VLOOKUP(B872,'School List'!$B$3:$H$291,6,FALSE),H872)","v":{"$error":"#N/A"}},{"$f":"CONCATENATE(VLOOKUP(B872,'School List'!$B$3:$D$291,3,FALSE),H872)","v":{"$error":"#N/A"}},{"$f":"IF('Line 1 Source'!B872<>\"\",'Line 1 Source'!B872,\"\")","v":"37"},{"$f":"IF('Line 1 Source'!C872<>\"\",'Line 1 Source'!C872,\"\")","v":"4"},{"$f":"IF('Line 1 Source'!D872<>\"\",'Line 1 Source'!D872,\"\")","v":"6630"},{"$f":"IF('Line 1 Source'!E872<>\"\",'Line 1 Source'!E872,\"\")","v":"0101"},{"$f":"IF('Line 1 Source'!F872<>\"\",'Line 1 Source'!F872,\"\")","v":0}]
[{"$f":"IF('Line 1 Source'!A873<>\"\",'Line 1 Source'!A873,\"\")","v":"2018"},"3746630",{"$f":"CONCATENATE(VLOOKUP(B873,'School List'!$B$3:$H$291,6,FALSE),H873)","v":{"$error":"#N/A"}},{"$f":"CONCATENATE(VLOOKUP(B873,'School List'!$B$3:$D$291,3,FALSE),H873)","v":{"$error":"#N/A"}},{"$f":"IF('Line 1 Source'!B873<>\"\",'Line 1 Source'!B873,\"\")","v":"37"},{"$f":"IF('Line 1 Source'!C873<>\"\",'Line 1 Source'!C873,\"\")","v":"4"},{"$f":"IF('Line 1 Source'!D873<>\"\",'Line 1 Source'!D873,\"\")","v":"6630"},{"$f":"IF('Line 1 Source'!E873<>\"\",'Line 1 Source'!E873,\"\")","v":"0180"},{"$f":"IF('Line 1 Source'!F873<>\"\",'Line 1 Source'!F873,\"\")","v":0}]
[{"$f":"IF('Line 1 Source'!A874<>\"\",'Line 1 Source'!A874,\"\")","v":"2018"},"3746630",{"$f":"CONCATENATE(VLOOKUP(B874,'School List'!$B$3:$H$291,6,FALSE),H874)","v":{"$error":"#N/A"}},{"$f":"CONCATENATE(VLOOKUP(B874,'School List'!$B$3:$D$291,3,FALSE),H874)","v":{"$error":"#N/A"}},{"$f":"IF('Line 1 Source'!B874<>\"\",'Line 1 Source'!B874,\"\")","v":"37"},{"$f":"IF('Line 1 Source'!C874<>\"\",'Line 1 Source'!C874,\"\")","v":"4"},{"$f":"IF('Line 1 Source'!D874<>\"\",'Line 1 Source'!D874,\"\")","v":"6630"},{"$f":"IF('Line 1 Source'!E874<>\"\",'Line 1 Source'!E874,\"\")","v":"1214"},{"$f":"IF('Line 1 Source'!F874<>\"\",'Line 1 Source'!F874,\"\")","v":0}]
[{"$f":"IF('Line 1 Source'!A875<>\"\",'Line 1 Source'!A875,\"\")","v":"2018"},"3746630",{"$f":"CONCATENATE(VLOOKUP(B875,'School List'!$B$3:$H$291,6,FALSE),H875)","v":{"$error":"#N/A"}},{"$f":"CONCATENATE(VLOOKUP(B875,'School List'!$B$3:$D$291,3,FALSE),H875)","v":{"$error":"#N/A"}},{"$f":"IF('Line 1 Source'!B875<>\"\",'Line 1 Source'!B875,\"\")","v":"37"},{"$f":"IF('Line 1 Source'!C875<>\"\",'Line 1 Source'!C875,\"\")","v":"4"},{"$f":"IF('Line 1 Source'!D875<>\"\",'Line 1 Source'!D875,\"\")","v":"6630"},{"$f":"IF('Line 1 Source'!E875<>\"\",'Line 1 Source'!E875,\"\")","v":"6301"},{"$f":"IF('Line 1 Source'!F875<>\"\",'Line 1 Source'!F875,\"\")","v":0}]
[{"$f":"IF('Line 1 Source'!A876<>\"\",'Line 1 Source'!A876,\"\")","v":"2018"},"3746630",{"$f":"CONCATENATE(VLOOKUP(B876,'School List'!$B$3:$H$291,6,FALSE),H876)","v":{"$error":"#N/A"}},{"$f":"CONCATENATE(VLOOKUP(B876,'School List'!$B$3:$D$291,3,FALSE),H876)","v":{"$error":"#N/A"}},{"$f":"IF('Line 1 Source'!B876<>\"\",'Line 1 Source'!B876,\"\")","v":"37"},{"$f":"IF('Line 1 Source'!C876<>\"\",'Line 1 Source'!C876,\"\")","v":"4"},{"$f":"IF('Line 1 Source'!D876<>\"\",'Line 1 Source'!D876,\"\")","v":"6630"},{"$f":"IF('Line 1 Source'!E876<>\"\",'Line 1 Source'!E876,\"\")","v":"6302"},{"$f":"IF('Line 1 Source'!F876<>\"\",'Line 1 Source'!F876,\"\")","v":0}]
[{"$f":"IF('Line 1 Source'!A877<>\"\",'Line 1 Source'!A877,\"\")","v":"2018"},"3748535",{"$f":"CONCATENATE(VLOOKUP(B877,'School List'!$B$3:$H$291,6,FALSE),H877)","v":{"$error":"#N/A"}},{"$f":"CONCATENATE(VLOOKUP(B877,'School List'!$B$3:$D$291,3,FALSE),H877)","v":{"$error":"#N/A"}},{"$f":"IF('Line 1 Source'!B877<>\"\",'Line 1 Source'!B877,\"\")","v":"37"},{"$f":"IF('Line 1 Source'!C877<>\"\",'Line 1 Source'!C877,\"\")","v":"4"},{"$f":"IF('Line 1 Source'!D877<>\"\",'Line 1 Source'!D877,\"\")","v":"8535"},{"$f":"IF('Line 1 Source'!E877<>\"\",'Line 1 Source'!E877,\"\")","v":"0022"},{"$f":"IF('Line 1 Source'!F877<>\"\",'Line 1 Source'!F877,\"\")","v":0}]
[{"$f":"IF('Line 1 Source'!A878<>\"\",'Line 1 Source'!A878,\"\")","v":"2018"},"3748535",{"$f":"CONCATENATE(VLOOKUP(B878,'School List'!$B$3:$H$291,6,FALSE),H878)","v":{"$error":"#N/A"}},{"$f":"CONCATENATE(VLOOKUP(B878,'School List'!$B$3:$D$291,3,FALSE),H878)","v":{"$error":"#N/A"}},{"$f":"IF('Line 1 Source'!B878<>\"\",'Line 1 Source'!B878,\"\")","v":"37"},{"$f":"IF('Line 1 Source'!C878<>\"\",'Line 1 Source'!C878,\"\")","v":"4"},{"$f":"IF('Line 1 Source'!D878<>\"\",'Line 1 Source'!D878,\"\")","v":"8535"},{"$f":"IF('Line 1 Source'!E878<>\"\",'Line 1 Source'!E878,\"\")","v":"0061"},{"$f":"IF('Line 1 Source'!F878<>\"\",'Line 1 Source'!F878,\"\")","v":0}]
[{"$f":"IF('Line 1 Source'!A879<>\"\",'Line 1 Source'!A879,\"\")","v":"2018"},"3748535",{"$f":"CONCATENATE(VLOOKUP(B879,'School List'!$B$3:$H$291,6,FALSE),H879)","v":{"$error":"#N/A"}},{"$f":"CONCATENATE(VLOOKUP(B879,'School List'!$B$3:$D$291,3,FALSE),H879)","v":{"$error":"#N/A"}},{"$f":"IF('Line 1 Source'!B879<>\"\",'Line 1 Source'!B879,\"\")","v":"37"},{"$f":"IF('Line 1 Source'!C879<>\"\",'Line 1 Source'!C879,\"\")","v":"4"},{"$f":"IF('Line 1 Source'!D879<>\"\",'Line 1 Source'!D879,\"\")","v":"8535"},{"$f":"IF('Line 1 Source'!E879<>\"\",'Line 1 Source'!E879,\"\")","v":"0101"},{"$f":"IF('Line 1 Source'!F879<>\"\",'Line 1 Source'!F879,\"\")","v":0}]
[{"$f":"IF('Line 1 Source'!A880<>\"\",'Line 1 Source'!A880,\"\")","v":"2018"},"3748535",{"$f":"CONCATENATE(VLOOKUP(B880,'School List'!$B$3:$H$291,6,FALSE),H880)","v":{"$error":"#N/A"}},{"$f":"CONCATENATE(VLOOKUP(B880,'School List'!$B$3:$D$291,3,FALSE),H880)","v":{"$error":"#N/A"}},{"$f":"IF('Line 1 Source'!B880<>\"\",'Line 1 Source'!B880,\"\")","v":"37"},{"$f":"IF('Line 1 Source'!C880<>\"\",'Line 1 Source'!C880,\"\")","v":"4"},{"$f":"IF('Line 1 Source'!D880<>\"\",'Line 1 Source'!D880,\"\")","v":"8535"},{"$f":"IF('Line 1 Source'!E880<>\"\",'Line 1 Source'!E880,\"\")","v":"0180"},{"$f":"IF('Line 1 Source'!F880<>\"\",'Line 1 Source'!F880,\"\")","v":0}]
[{"$f":"IF('Line 1 Source'!A881<>\"\",'Line 1 Source'!A881,\"\")","v":"2018"},"3748535",{"$f":"CONCATENATE(VLOOKUP(B881,'School List'!$B$3:$H$291,6,FALSE),H881)","v":{"$error":"#N/A"}},{"$f":"CONCATENATE(VLOOKUP(B881,'School List'!$B$3:$D$291,3,FALSE),H881)","v":{"$error":"#N/A"}},{"$f":"IF('Line 1 Source'!B881<>\"\",'Line 1 Source'!B881,\"\")","v":"37"},{"$f":"IF('Line 1 Source'!C881<>\"\",'Line 1 Source'!C881,\"\")","v":"4"},{"$f":"IF('Line 1 Source'!D881<>\"\",'Line 1 Source'!D881,\"\")","v":"8535"},{"$f":"IF('Line 1 Source'!E881<>\"\",'Line 1 Source'!E881,\"\")","v":"1214"},{"$f":"IF('Line 1 Source'!F881<>\"\",'Line 1 Source'!F881,\"\")","v":0}]
[{"$f":"IF('Line 1 Source'!A882<>\"\",'Line 1 Source'!A882,\"\")","v":"2018"},"3748535",{"$f":"CONCATENATE(VLOOKUP(B882,'School List'!$B$3:$H$291,6,FALSE),H882)","v":{"$error":"#N/A"}},{"$f":"CONCATENATE(VLOOKUP(B882,'School List'!$B$3:$D$291,3,FALSE),H882)","v":{"$error":"#N/A"}},{"$f":"IF('Line 1 Source'!B882<>\"\",'Line 1 Source'!B882,\"\")","v":"37"},{"$f":"IF('Line 1 Source'!C882<>\"\",'Line 1 Source'!C882,\"\")","v":"4"},{"$f":"IF('Line 1 Source'!D882<>\"\",'Line 1 Source'!D882,\"\")","v":"8535"},{"$f":"IF('Line 1 Source'!E882<>\"\",'Line 1 Source'!E882,\"\")","v":"6301"},{"$f":"IF('Line 1 Source'!F882<>\"\",'Line 1 Source'!F882,\"\")","v":0}]
[{"$f":"IF('Line 1 Source'!A883<>\"\",'Line 1 Source'!A883,\"\")","v":"2018"},"3748535",{"$f":"CONCATENATE(VLOOKUP(B883,'School List'!$B$3:$H$291,6,FALSE),H883)","v":{"$error":"#N/A"}},{"$f":"CONCATENATE(VLOOKUP(B883,'School List'!$B$3:$D$291,3,FALSE),H883)","v":{"$error":"#N/A"}},{"$f":"IF('Line 1 Source'!B883<>\"\",'Line 1 Source'!B883,\"\")","v":"37"},{"$f":"IF('Line 1 Source'!C883<>\"\",'Line 1 Source'!C883,\"\")","v":"4"},{"$f":"IF('Line 1 Source'!D883<>\"\",'Line 1 Source'!D883,\"\")","v":"8535"},{"$f":"IF('Line 1 Source'!E883<>\"\",'Line 1 Source'!E883,\"\")","v":"6302"},{"$f":"IF('Line 1 Source'!F883<>\"\",'Line 1 Source'!F883,\"\")","v":0}]
[{"$f":"IF('Line 1 Source'!A884<>\"\",'Line 1 Source'!A884,\"\")","v":"2018"},"3843945",{"$f":"CONCATENATE(VLOOKUP(B884,'School List'!$B$3:$H$291,6,FALSE),H884)","v":"39450101"},{"$f":"CONCATENATE(VLOOKUP(B884,'School List'!$B$3:$D$291,3,FALSE),H884)","v":"Jay County - JAY COUNTY SCHOOL CORPORATION0101"},{"$f":"IF('Line 1 Source'!B884<>\"\",'Line 1 Source'!B884,\"\")","v":"38"},{"$f":"IF('Line 1 Source'!C884<>\"\",'Line 1 Source'!C884,\"\")","v":"4"},{"$f":"IF('Line 1 Source'!D884<>\"\",'Line 1 Source'!D884,\"\")","v":"3945"},{"$f":"IF('Line 1 Source'!E884<>\"\",'Line 1 Source'!E884,\"\")","v":"0101"},{"$f":"IF('Line 1 Source'!F884<>\"\",'Line 1 Source'!F884,\"\")","v":23352001}]
[{"$f":"IF('Line 1 Source'!A885<>\"\",'Line 1 Source'!A885,\"\")","v":"2018"},"3843945",{"$f":"CONCATENATE(VLOOKUP(B885,'School List'!$B$3:$H$291,6,FALSE),H885)","v":"39450180"},{"$f":"CONCATENATE(VLOOKUP(B885,'School List'!$B$3:$D$291,3,FALSE),H885)","v":"Jay County - JAY COUNTY SCHOOL CORPORATION0180"},{"$f":"IF('Line 1 Source'!B885<>\"\",'Line 1 Source'!B885,\"\")","v":"38"},{"$f":"IF('Line 1 Source'!C885<>\"\",'Line 1 Source'!C885,\"\")","v":"4"},{"$f":"IF('Line 1 Source'!D885<>\"\",'Line 1 Source'!D885,\"\")","v":"3945"},{"$f":"IF('Line 1 Source'!E885<>\"\",'Line 1 Source'!E885,\"\")","v":"0180"},{"$f":"IF('Line 1 Source'!F885<>\"\",'Line 1 Source'!F885,\"\")","v":3999459}]
[{"$f":"IF('Line 1 Source'!A886<>\"\",'Line 1 Source'!A886,\"\")","v":"2018"},"3843945",{"$f":"CONCATENATE(VLOOKUP(B886,'School List'!$B$3:$H$291,6,FALSE),H886)","v":"39450186"},{"$f":"CONCATENATE(VLOOKUP(B886,'School List'!$B$3:$D$291,3,FALSE),H886)","v":"Jay County - JAY COUNTY SCHOOL CORPORATION0186"},{"$f":"IF('Line 1 Source'!B886<>\"\",'Line 1 Source'!B886,\"\")","v":"38"},{"$f":"IF('Line 1 Source'!C886<>\"\",'Line 1 Source'!C886,\"\")","v":"4"},{"$f":"IF('Line 1 Source'!D886<>\"\",'Line 1 Source'!D886,\"\")","v":"3945"},{"$f":"IF('Line 1 Source'!E886<>\"\",'Line 1 Source'!E886,\"\")","v":"0186"},{"$f":"IF('Line 1 Source'!F886<>\"\",'Line 1 Source'!F886,\"\")","v":891318}]
[{"$f":"IF('Line 1 Source'!A887<>\"\",'Line 1 Source'!A887,\"\")","v":"2018"},"3843945",{"$f":"CONCATENATE(VLOOKUP(B887,'School List'!$B$3:$H$291,6,FALSE),H887)","v":"39451214"},{"$f":"CONCATENATE(VLOOKUP(B887,'School List'!$B$3:$D$291,3,FALSE),H887)","v":"Jay County - JAY COUNTY SCHOOL CORPORATION1214"},{"$f":"IF('Line 1 Source'!B887<>\"\",'Line 1 Source'!B887,\"\")","v":"38"},{"$f":"IF('Line 1 Source'!C887<>\"\",'Line 1 Source'!C887,\"\")","v":"4"},{"$f":"IF('Line 1 Source'!D887<>\"\",'Line 1 Source'!D887,\"\")","v":"3945"},{"$f":"IF('Line 1 Source'!E887<>\"\",'Line 1 Source'!E887,\"\")","v":"1214"},{"$f":"IF('Line 1 Source'!F887<>\"\",'Line 1 Source'!F887,\"\")","v":2951633}]
[{"$f":"IF('Line 1 Source'!A888<>\"\",'Line 1 Source'!A888,\"\")","v":"2018"},"3843945",{"$f":"CONCATENATE(VLOOKUP(B888,'School List'!$B$3:$H$291,6,FALSE),H888)","v":"39456301"},{"$f":"CONCATENATE(VLOOKUP(B888,'School List'!$B$3:$D$291,3,FALSE),H888)","v":"Jay County - JAY COUNTY SCHOOL CORPORATION6301"},{"$f":"IF('Line 1 Source'!B888<>\"\",'Line 1 Source'!B888,\"\")","v":"38"},{"$f":"IF('Line 1 Source'!C888<>\"\",'Line 1 Source'!C888,\"\")","v":"4"},{"$f":"IF('Line 1 Source'!D888<>\"\",'Line 1 Source'!D888,\"\")","v":"3945"},{"$f":"IF('Line 1 Source'!E888<>\"\",'Line 1 Source'!E888,\"\")","v":"6301"},{"$f":"IF('Line 1 Source'!F888<>\"\",'Line 1 Source'!F888,\"\")","v":2592000}]
[{"$f":"IF('Line 1 Source'!A889<>\"\",'Line 1 Source'!A889,\"\")","v":"2018"},"3843945",{"$f":"CONCATENATE(VLOOKUP(B889,'School List'!$B$3:$H$291,6,FALSE),H889)","v":"39456302"},{"$f":"CONCATENATE(VLOOKUP(B889,'School List'!$B$3:$D$291,3,FALSE),H889)","v":"Jay County - JAY COUNTY SCHOOL CORPORATION6302"},{"$f":"IF('Line 1 Source'!B889<>\"\",'Line 1 Source'!B889,\"\")","v":"38"},{"$f":"IF('Line 1 Source'!C889<>\"\",'Line 1 Source'!C889,\"\")","v":"4"},{"$f":"IF('Line 1 Source'!D889<>\"\",'Line 1 Source'!D889,\"\")","v":"3945"},{"$f":"IF('Line 1 Source'!E889<>\"\",'Line 1 Source'!E889,\"\")","v":"6302"},{"$f":"IF('Line 1 Source'!F889<>\"\",'Line 1 Source'!F889,\"\")","v":0}]
[{"$f":"IF('Line 1 Source'!A890<>\"\",'Line 1 Source'!A890,\"\")","v":"2018"},"3943995",{"$f":"CONCATENATE(VLOOKUP(B890,'School List'!$B$3:$H$291,6,FALSE),H890)","v":"39950061"},{"$f":"CONCATENATE(VLOOKUP(B890,'School List'!$B$3:$D$291,3,FALSE),H890)","v":"Jefferson County - MADISON CONSOLIDATED SCHOOL CORPORATION0061"},{"$f":"IF('Line 1 Source'!B890<>\"\",'Line 1 Source'!B890,\"\")","v":"39"},{"$f":"IF('Line 1 Source'!C890<>\"\",'Line 1 Source'!C890,\"\")","v":"4"},{"$f":"IF('Line 1 Source'!D890<>\"\",'Line 1 Source'!D890,\"\")","v":"3995"},{"$f":"IF('Line 1 Source'!E890<>\"\",'Line 1 Source'!E890,\"\")","v":"0061"},{"$f":"IF('Line 1 Source'!F890<>\"\",'Line 1 Source'!F890,\"\")","v":2000000}]
[{"$f":"IF('Line 1 Source'!A891<>\"\",'Line 1 Source'!A891,\"\")","v":"2018"},"3943995",{"$f":"CONCATENATE(VLOOKUP(B891,'School List'!$B$3:$H$291,6,FALSE),H891)","v":"39950101"},{"$f":"CONCATENATE(VLOOKUP(B891,'School List'!$B$3:$D$291,3,FALSE),H891)","v":"Jefferson County - MADISON CONSOLIDATED SCHOOL CORPORATION0101"},{"$f":"IF('Line 1 Source'!B891<>\"\",'Line 1 Source'!B891,\"\")","v":"39"},{"$f":"IF('Line 1 Source'!C891<>\"\",'Line 1 Source'!C891,\"\")","v":"4"},{"$f":"IF('Line 1 Source'!D891<>\"\",'Line 1 Source'!D891,\"\")","v":"3995"},{"$f":"IF('Line 1 Source'!E891<>\"\",'Line 1 Source'!E891,\"\")","v":"0101"},{"$f":"IF('Line 1 Source'!F891<>\"\",'Line 1 Source'!F891,\"\")","v":20854380}]
[{"$f":"IF('Line 1 Source'!A892<>\"\",'Line 1 Source'!A892,\"\")","v":"2018"},"3943995",{"$f":"CONCATENATE(VLOOKUP(B892,'School List'!$B$3:$H$291,6,FALSE),H892)","v":"39950180"},{"$f":"CONCATENATE(VLOOKUP(B892,'School List'!$B$3:$D$291,3,FALSE),H892)","v":"Jefferson County - MADISON CONSOLIDATED SCHOOL CORPORATION0180"},{"$f":"IF('Line 1 Source'!B892<>\"\",'Line 1 Source'!B892,\"\")","v":"39"},{"$f":"IF('Line 1 Source'!C892<>\"\",'Line 1 Source'!C892,\"\")","v":"4"},{"$f":"IF('Line 1 Source'!D892<>\"\",'Line 1 Source'!D892,\"\")","v":"3995"},{"$f":"IF('Line 1 Source'!E892<>\"\",'Line 1 Source'!E892,\"\")","v":"0180"},{"$f":"IF('Line 1 Source'!F892<>\"\",'Line 1 Source'!F892,\"\")","v":3231553}]
[{"$f":"IF('Line 1 Source'!A893<>\"\",'Line 1 Source'!A893,\"\")","v":"2018"},"3943995",{"$f":"CONCATENATE(VLOOKUP(B893,'School List'!$B$3:$H$291,6,FALSE),H893)","v":"39951214"},{"$f":"CONCATENATE(VLOOKUP(B893,'School List'!$B$3:$D$291,3,FALSE),H893)","v":"Jefferson County - MADISON CONSOLIDATED SCHOOL CORPORATION1214"},{"$f":"IF('Line 1 Source'!B893<>\"\",'Line 1 Source'!B893,\"\")","v":"39"},{"$f":"IF('Line 1 Source'!C893<>\"\",'Line 1 Source'!C893,\"\")","v":"4"},{"$f":"IF('Line 1 Source'!D893<>\"\",'Line 1 Source'!D893,\"\")","v":"3995"},{"$f":"IF('Line 1 Source'!E893<>\"\",'Line 1 Source'!E893,\"\")","v":"1214"},{"$f":"IF('Line 1 Source'!F893<>\"\",'Line 1 Source'!F893,\"\")","v":6847403}]
[{"$f":"IF('Line 1 Source'!A894<>\"\",'Line 1 Source'!A894,\"\")","v":"2018"},"3943995",{"$f":"CONCATENATE(VLOOKUP(B894,'School List'!$B$3:$H$291,6,FALSE),H894)","v":"39956301"},{"$f":"CONCATENATE(VLOOKUP(B894,'School List'!$B$3:$D$291,3,FALSE),H894)","v":"Jefferson County - MADISON CONSOLIDATED SCHOOL CORPORATION6301"},{"$f":"IF('Line 1 Source'!B894<>\"\",'Line 1 Source'!B894,\"\")","v":"39"},{"$f":"IF('Line 1 Source'!C894<>\"\",'Line 1 Source'!C894,\"\")","v":"4"},{"$f":"IF('Line 1 Source'!D894<>\"\",'Line 1 Source'!D894,\"\")","v":"3995"},{"$f":"IF('Line 1 Source'!E894<>\"\",'Line 1 Source'!E894,\"\")","v":"6301"},{"$f":"IF('Line 1 Source'!F894<>\"\",'Line 1 Source'!F894,\"\")","v":2267000}]
[{"$f":"IF('Line 1 Source'!A895<>\"\",'Line 1 Source'!A895,\"\")","v":"2018"},"3943995",{"$f":"CONCATENATE(VLOOKUP(B895,'School List'!$B$3:$H$291,6,FALSE),H895)","v":"39956302"},{"$f":"CONCATENATE(VLOOKUP(B895,'School List'!$B$3:$D$291,3,FALSE),H895)","v":"Jefferson County - MADISON CONSOLIDATED SCHOOL CORPORATION6302"},{"$f":"IF('Line 1 Source'!B895<>\"\",'Line 1 Source'!B895,\"\")","v":"39"},{"$f":"IF('Line 1 Source'!C895<>\"\",'Line 1 Source'!C895,\"\")","v":"4"},{"$f":"IF('Line 1 Source'!D895<>\"\",'Line 1 Source'!D895,\"\")","v":"3995"},{"$f":"IF('Line 1 Source'!E895<>\"\",'Line 1 Source'!E895,\"\")","v":"6302"},{"$f":"IF('Line 1 Source'!F895<>\"\",'Line 1 Source'!F895,\"\")","v":635000}]
[{"$f":"IF('Line 1 Source'!A896<>\"\",'Line 1 Source'!A896,\"\")","v":"2018"},"3944000",{"$f":"CONCATENATE(VLOOKUP(B896,'School List'!$B$3:$H$291,6,FALSE),H896)","v":"40000061"},{"$f":"CONCATENATE(VLOOKUP(B896,'School List'!$B$3:$D$291,3,FALSE),H896)","v":"Jefferson County - SOUTHWESTERN JEFFERSON CONSOLIDATED SCHO0061"},{"$f":"IF('Line 1 Source'!B896<>\"\",'Line 1 Source'!B896,\"\")","v":"39"},{"$f":"IF('Line 1 Source'!C896<>\"\",'Line 1 Source'!C896,\"\")","v":"4"},{"$f":"IF('Line 1 Source'!D896<>\"\",'Line 1 Source'!D896,\"\")","v":"4000"},{"$f":"IF('Line 1 Source'!E896<>\"\",'Line 1 Source'!E896,\"\")","v":"0061"},{"$f":"IF('Line 1 Source'!F896<>\"\",'Line 1 Source'!F896,\"\")","v":400000}]
[{"$f":"IF('Line 1 Source'!A897<>\"\",'Line 1 Source'!A897,\"\")","v":"2018"},"3944000",{"$f":"CONCATENATE(VLOOKUP(B897,'School List'!$B$3:$H$291,6,FALSE),H897)","v":"40000101"},{"$f":"CONCATENATE(VLOOKUP(B897,'School List'!$B$3:$D$291,3,FALSE),H897)","v":"Jefferson County - SOUTHWESTERN JEFFERSON CONSOLIDATED SCHO0101"},{"$f":"IF('Line 1 Source'!B897<>\"\",'Line 1 Source'!B897,\"\")","v":"39"},{"$f":"IF('Line 1 Source'!C897<>\"\",'Line 1 Source'!C897,\"\")","v":"4"},{"$f":"IF('Line 1 Source'!D897<>\"\",'Line 1 Source'!D897,\"\")","v":"4000"},{"$f":"IF('Line 1 Source'!E897<>\"\",'Line 1 Source'!E897,\"\")","v":"0101"},{"$f":"IF('Line 1 Source'!F897<>\"\",'Line 1 Source'!F897,\"\")","v":9465296}]
[{"$f":"IF('Line 1 Source'!A898<>\"\",'Line 1 Source'!A898,\"\")","v":"2018"},"3944000",{"$f":"CONCATENATE(VLOOKUP(B898,'School List'!$B$3:$H$291,6,FALSE),H898)","v":"40000180"},{"$f":"CONCATENATE(VLOOKUP(B898,'School List'!$B$3:$D$291,3,FALSE),H898)","v":"Jefferson County - SOUTHWESTERN JEFFERSON CONSOLIDATED SCHO0180"},{"$f":"IF('Line 1 Source'!B898<>\"\",'Line 1 Source'!B898,\"\")","v":"39"},{"$f":"IF('Line 1 Source'!C898<>\"\",'Line 1 Source'!C898,\"\")","v":"4"},{"$f":"IF('Line 1 Source'!D898<>\"\",'Line 1 Source'!D898,\"\")","v":"4000"},{"$f":"IF('Line 1 Source'!E898<>\"\",'Line 1 Source'!E898,\"\")","v":"0180"},{"$f":"IF('Line 1 Source'!F898<>\"\",'Line 1 Source'!F898,\"\")","v":645451}]
[{"$f":"IF('Line 1 Source'!A899<>\"\",'Line 1 Source'!A899,\"\")","v":"2018"},{"$f":"CONCATENATE(E899,F899,G899)","v":"3944000"},{"$f":"CONCATENATE(VLOOKUP(B899,'School List'!$B$3:$H$291,6,FALSE),H899)","v":"40000186"},{"$f":"CONCATENATE(VLOOKUP(B899,'School List'!$B$3:$D$291,3,FALSE),H899)","v":"Jefferson County - SOUTHWESTERN JEFFERSON CONSOLIDATED SCHO0186"},{"$f":"IF('Line 1 Source'!B899<>\"\",'Line 1 Source'!B899,\"\")","v":"39"},{"$f":"IF('Line 1 Source'!C899<>\"\",'Line 1 Source'!C899,\"\")","v":"4"},{"$f":"IF('Line 1 Source'!D899<>\"\",'Line 1 Source'!D899,\"\")","v":"4000"},{"$f":"IF('Line 1 Source'!E899<>\"\",'Line 1 Source'!E899,\"\")","v":"0186"},{"$f":"IF('Line 1 Source'!F899<>\"\",'Line 1 Source'!F899,\"\")","v":153120}]
[{"$f":"IF('Line 1 Source'!A900<>\"\",'Line 1 Source'!A900,\"\")","v":"2018"},"3944000",{"$f":"CONCATENATE(VLOOKUP(B900,'School List'!$B$3:$H$291,6,FALSE),H900)","v":"40001214"},{"$f":"CONCATENATE(VLOOKUP(B900,'School List'!$B$3:$D$291,3,FALSE),H900)","v":"Jefferson County - SOUTHWESTERN JEFFERSON CONSOLIDATED SCHO1214"},{"$f":"IF('Line 1 Source'!B900<>\"\",'Line 1 Source'!B900,\"\")","v":"39"},{"$f":"IF('Line 1 Source'!C900<>\"\",'Line 1 Source'!C900,\"\")","v":"4"},{"$f":"IF('Line 1 Source'!D900<>\"\",'Line 1 Source'!D900,\"\")","v":"4000"},{"$f":"IF('Line 1 Source'!E900<>\"\",'Line 1 Source'!E900,\"\")","v":"1214"},{"$f":"IF('Line 1 Source'!F900<>\"\",'Line 1 Source'!F900,\"\")","v":1076638}]
[{"$f":"IF('Line 1 Source'!A901<>\"\",'Line 1 Source'!A901,\"\")","v":"2018"},"3944000",{"$f":"CONCATENATE(VLOOKUP(B901,'School List'!$B$3:$H$291,6,FALSE),H901)","v":"40006301"},{"$f":"CONCATENATE(VLOOKUP(B901,'School List'!$B$3:$D$291,3,FALSE),H901)","v":"Jefferson County - SOUTHWESTERN JEFFERSON CONSOLIDATED SCHO6301"},{"$f":"IF('Line 1 Source'!B901<>\"\",'Line 1 Source'!B901,\"\")","v":"39"},{"$f":"IF('Line 1 Source'!C901<>\"\",'Line 1 Source'!C901,\"\")","v":"4"},{"$f":"IF('Line 1 Source'!D901<>\"\",'Line 1 Source'!D901,\"\")","v":"4000"},{"$f":"IF('Line 1 Source'!E901<>\"\",'Line 1 Source'!E901,\"\")","v":"6301"},{"$f":"IF('Line 1 Source'!F901<>\"\",'Line 1 Source'!F901,\"\")","v":1452600}]
[{"$f":"IF('Line 1 Source'!A902<>\"\",'Line 1 Source'!A902,\"\")","v":"2018"},"3944000",{"$f":"CONCATENATE(VLOOKUP(B902,'School List'!$B$3:$H$291,6,FALSE),H902)","v":"40006302"},{"$f":"CONCATENATE(VLOOKUP(B902,'School List'!$B$3:$D$291,3,FALSE),H902)","v":"Jefferson County - SOUTHWESTERN JEFFERSON CONSOLIDATED SCHO6302"},{"$f":"IF('Line 1 Source'!B902<>\"\",'Line 1 Source'!B902,\"\")","v":"39"},{"$f":"IF('Line 1 Source'!C902<>\"\",'Line 1 Source'!C902,\"\")","v":"4"},{"$f":"IF('Line 1 Source'!D902<>\"\",'Line 1 Source'!D902,\"\")","v":"4000"},{"$f":"IF('Line 1 Source'!E902<>\"\",'Line 1 Source'!E902,\"\")","v":"6302"},{"$f":"IF('Line 1 Source'!F902<>\"\",'Line 1 Source'!F902,\"\")","v":225162}]
[{"$f":"IF('Line 1 Source'!A903<>\"\",'Line 1 Source'!A903,\"\")","v":"2018"},"4044015",{"$f":"CONCATENATE(VLOOKUP(B903,'School List'!$B$3:$H$291,6,FALSE),H903)","v":"40150061"},{"$f":"CONCATENATE(VLOOKUP(B903,'School List'!$B$3:$D$291,3,FALSE),H903)","v":"Jennings County - JENNINGS COUNTY SCHOOL CORPORATION0061"},{"$f":"IF('Line 1 Source'!B903<>\"\",'Line 1 Source'!B903,\"\")","v":"40"},{"$f":"IF('Line 1 Source'!C903<>\"\",'Line 1 Source'!C903,\"\")","v":"4"},{"$f":"IF('Line 1 Source'!D903<>\"\",'Line 1 Source'!D903,\"\")","v":"4015"},{"$f":"IF('Line 1 Source'!E903<>\"\",'Line 1 Source'!E903,\"\")","v":"0061"},{"$f":"IF('Line 1 Source'!F903<>\"\",'Line 1 Source'!F903,\"\")","v":1235000}]
[{"$f":"IF('Line 1 Source'!A904<>\"\",'Line 1 Source'!A904,\"\")","v":"2018"},"4044015",{"$f":"CONCATENATE(VLOOKUP(B904,'School List'!$B$3:$H$291,6,FALSE),H904)","v":"40150101"},{"$f":"CONCATENATE(VLOOKUP(B904,'School List'!$B$3:$D$291,3,FALSE),H904)","v":"Jennings County - JENNINGS COUNTY SCHOOL CORPORATION0101"},{"$f":"IF('Line 1 Source'!B904<>\"\",'Line 1 Source'!B904,\"\")","v":"40"},{"$f":"IF('Line 1 Source'!C904<>\"\",'Line 1 Source'!C904,\"\")","v":"4"},{"$f":"IF('Line 1 Source'!D904<>\"\",'Line 1 Source'!D904,\"\")","v":"4015"},{"$f":"IF('Line 1 Source'!E904<>\"\",'Line 1 Source'!E904,\"\")","v":"0101"},{"$f":"IF('Line 1 Source'!F904<>\"\",'Line 1 Source'!F904,\"\")","v":33332123}]
[{"$f":"IF('Line 1 Source'!A905<>\"\",'Line 1 Source'!A905,\"\")","v":"2018"},"4044015",{"$f":"CONCATENATE(VLOOKUP(B905,'School List'!$B$3:$H$291,6,FALSE),H905)","v":"40150180"},{"$f":"CONCATENATE(VLOOKUP(B905,'School List'!$B$3:$D$291,3,FALSE),H905)","v":"Jennings County - JENNINGS COUNTY SCHOOL CORPORATION0180"},{"$f":"IF('Line 1 Source'!B905<>\"\",'Line 1 Source'!B905,\"\")","v":"40"},{"$f":"IF('Line 1 Source'!C905<>\"\",'Line 1 Source'!C905,\"\")","v":"4"},{"$f":"IF('Line 1 Source'!D905<>\"\",'Line 1 Source'!D905,\"\")","v":"4015"},{"$f":"IF('Line 1 Source'!E905<>\"\",'Line 1 Source'!E905,\"\")","v":"0180"},{"$f":"IF('Line 1 Source'!F905<>\"\",'Line 1 Source'!F905,\"\")","v":3606719}]
[{"$f":"IF('Line 1 Source'!A906<>\"\",'Line 1 Source'!A906,\"\")","v":"2018"},"4044015",{"$f":"CONCATENATE(VLOOKUP(B906,'School List'!$B$3:$H$291,6,FALSE),H906)","v":"40150186"},{"$f":"CONCATENATE(VLOOKUP(B906,'School List'!$B$3:$D$291,3,FALSE),H906)","v":"Jennings County - JENNINGS COUNTY SCHOOL CORPORATION0186"},{"$f":"IF('Line 1 Source'!B906<>\"\",'Line 1 Source'!B906,\"\")","v":"40"},{"$f":"IF('Line 1 Source'!C906<>\"\",'Line 1 Source'!C906,\"\")","v":"4"},{"$f":"IF('Line 1 Source'!D906<>\"\",'Line 1 Source'!D906,\"\")","v":"4015"},{"$f":"IF('Line 1 Source'!E906<>\"\",'Line 1 Source'!E906,\"\")","v":"0186"},{"$f":"IF('Line 1 Source'!F906<>\"\",'Line 1 Source'!F906,\"\")","v":390655}]
[{"$f":"IF('Line 1 Source'!A907<>\"\",'Line 1 Source'!A907,\"\")","v":"2018"},"4044015",{"$f":"CONCATENATE(VLOOKUP(B907,'School List'!$B$3:$H$291,6,FALSE),H907)","v":"40151214"},{"$f":"CONCATENATE(VLOOKUP(B907,'School List'!$B$3:$D$291,3,FALSE),H907)","v":"Jennings County - JENNINGS COUNTY SCHOOL CORPORATION1214"},{"$f":"IF('Line 1 Source'!B907<>\"\",'Line 1 Source'!B907,\"\")","v":"40"},{"$f":"IF('Line 1 Source'!C907<>\"\",'Line 1 Source'!C907,\"\")","v":"4"},{"$f":"IF('Line 1 Source'!D907<>\"\",'Line 1 Source'!D907,\"\")","v":"4015"},{"$f":"IF('Line 1 Source'!E907<>\"\",'Line 1 Source'!E907,\"\")","v":"1214"},{"$f":"IF('Line 1 Source'!F907<>\"\",'Line 1 Source'!F907,\"\")","v":3023469}]
[{"$f":"IF('Line 1 Source'!A908<>\"\",'Line 1 Source'!A908,\"\")","v":"2018"},"4044015",{"$f":"CONCATENATE(VLOOKUP(B908,'School List'!$B$3:$H$291,6,FALSE),H908)","v":"40156301"},{"$f":"CONCATENATE(VLOOKUP(B908,'School List'!$B$3:$D$291,3,FALSE),H908)","v":"Jennings County - JENNINGS COUNTY SCHOOL CORPORATION6301"},{"$f":"IF('Line 1 Source'!B908<>\"\",'Line 1 Source'!B908,\"\")","v":"40"},{"$f":"IF('Line 1 Source'!C908<>\"\",'Line 1 Source'!C908,\"\")","v":"4"},{"$f":"IF('Line 1 Source'!D908<>\"\",'Line 1 Source'!D908,\"\")","v":"4015"},{"$f":"IF('Line 1 Source'!E908<>\"\",'Line 1 Source'!E908,\"\")","v":"6301"},{"$f":"IF('Line 1 Source'!F908<>\"\",'Line 1 Source'!F908,\"\")","v":4102034}]
[{"$f":"IF('Line 1 Source'!A909<>\"\",'Line 1 Source'!A909,\"\")","v":"2018"},"4044015",{"$f":"CONCATENATE(VLOOKUP(B909,'School List'!$B$3:$H$291,6,FALSE),H909)","v":"40156302"},{"$f":"CONCATENATE(VLOOKUP(B909,'School List'!$B$3:$D$291,3,FALSE),H909)","v":"Jennings County - JENNINGS COUNTY SCHOOL CORPORATION6302"},{"$f":"IF('Line 1 Source'!B909<>\"\",'Line 1 Source'!B909,\"\")","v":"40"},{"$f":"IF('Line 1 Source'!C909<>\"\",'Line 1 Source'!C909,\"\")","v":"4"},{"$f":"IF('Line 1 Source'!D909<>\"\",'Line 1 Source'!D909,\"\")","v":"4015"},{"$f":"IF('Line 1 Source'!E909<>\"\",'Line 1 Source'!E909,\"\")","v":"6302"},{"$f":"IF('Line 1 Source'!F909<>\"\",'Line 1 Source'!F909,\"\")","v":240000}]
[{"$f":"IF('Line 1 Source'!A910<>\"\",'Line 1 Source'!A910,\"\")","v":"2018"},"4144145",{"$f":"CONCATENATE(VLOOKUP(B910,'School List'!$B$3:$H$291,6,FALSE),H910)","v":"41450101"},{"$f":"CONCATENATE(VLOOKUP(B910,'School List'!$B$3:$D$291,3,FALSE),H910)","v":"Johnson County - CLARK-PLEASANT COMMUNITY SCHOOL CORP0101"},{"$f":"IF('Line 1 Source'!B910<>\"\",'Line 1 Source'!B910,\"\")","v":"41"},{"$f":"IF('Line 1 Source'!C910<>\"\",'Line 1 Source'!C910,\"\")","v":"4"},{"$f":"IF('Line 1 Source'!D910<>\"\",'Line 1 Source'!D910,\"\")","v":"4145"},{"$f":"IF('Line 1 Source'!E910<>\"\",'Line 1 Source'!E910,\"\")","v":"0101"},{"$f":"IF('Line 1 Source'!F910<>\"\",'Line 1 Source'!F910,\"\")","v":44657647}]
[{"$f":"IF('Line 1 Source'!A911<>\"\",'Line 1 Source'!A911,\"\")","v":"2018"},"4144145",{"$f":"CONCATENATE(VLOOKUP(B911,'School List'!$B$3:$H$291,6,FALSE),H911)","v":"41450180"},{"$f":"CONCATENATE(VLOOKUP(B911,'School List'!$B$3:$D$291,3,FALSE),H911)","v":"Johnson County - CLARK-PLEASANT COMMUNITY SCHOOL CORP0180"},{"$f":"IF('Line 1 Source'!B911<>\"\",'Line 1 Source'!B911,\"\")","v":"41"},{"$f":"IF('Line 1 Source'!C911<>\"\",'Line 1 Source'!C911,\"\")","v":"4"},{"$f":"IF('Line 1 Source'!D911<>\"\",'Line 1 Source'!D911,\"\")","v":"4145"},{"$f":"IF('Line 1 Source'!E911<>\"\",'Line 1 Source'!E911,\"\")","v":"0180"},{"$f":"IF('Line 1 Source'!F911<>\"\",'Line 1 Source'!F911,\"\")","v":14118573}]
[{"$f":"IF('Line 1 Source'!A912<>\"\",'Line 1 Source'!A912,\"\")","v":"2018"},"4144145",{"$f":"CONCATENATE(VLOOKUP(B912,'School List'!$B$3:$H$291,6,FALSE),H912)","v":"41451214"},{"$f":"CONCATENATE(VLOOKUP(B912,'School List'!$B$3:$D$291,3,FALSE),H912)","v":"Johnson County - CLARK-PLEASANT COMMUNITY SCHOOL CORP1214"},{"$f":"IF('Line 1 Source'!B912<>\"\",'Line 1 Source'!B912,\"\")","v":"41"},{"$f":"IF('Line 1 Source'!C912<>\"\",'Line 1 Source'!C912,\"\")","v":"4"},{"$f":"IF('Line 1 Source'!D912<>\"\",'Line 1 Source'!D912,\"\")","v":"4145"},{"$f":"IF('Line 1 Source'!E912<>\"\",'Line 1 Source'!E912,\"\")","v":"1214"},{"$f":"IF('Line 1 Source'!F912<>\"\",'Line 1 Source'!F912,\"\")","v":5401084}]
[{"$f":"IF('Line 1 Source'!A913<>\"\",'Line 1 Source'!A913,\"\")","v":"2018"},"4144145",{"$f":"CONCATENATE(VLOOKUP(B913,'School List'!$B$3:$H$291,6,FALSE),H913)","v":"41456301"},{"$f":"CONCATENATE(VLOOKUP(B913,'School List'!$B$3:$D$291,3,FALSE),H913)","v":"Johnson County - CLARK-PLEASANT COMMUNITY SCHOOL CORP6301"},{"$f":"IF('Line 1 Source'!B913<>\"\",'Line 1 Source'!B913,\"\")","v":"41"},{"$f":"IF('Line 1 Source'!C913<>\"\",'Line 1 Source'!C913,\"\")","v":"4"},{"$f":"IF('Line 1 Source'!D913<>\"\",'Line 1 Source'!D913,\"\")","v":"4145"},{"$f":"IF('Line 1 Source'!E913<>\"\",'Line 1 Source'!E913,\"\")","v":"6301"},{"$f":"IF('Line 1 Source'!F913<>\"\",'Line 1 Source'!F913,\"\")","v":3966605}]
[{"$f":"IF('Line 1 Source'!A914<>\"\",'Line 1 Source'!A914,\"\")","v":"2018"},"4144145",{"$f":"CONCATENATE(VLOOKUP(B914,'School List'!$B$3:$H$291,6,FALSE),H914)","v":"41456302"},{"$f":"CONCATENATE(VLOOKUP(B914,'School List'!$B$3:$D$291,3,FALSE),H914)","v":"Johnson County - CLARK-PLEASANT COMMUNITY SCHOOL CORP6302"},{"$f":"IF('Line 1 Source'!B914<>\"\",'Line 1 Source'!B914,\"\")","v":"41"},{"$f":"IF('Line 1 Source'!C914<>\"\",'Line 1 Source'!C914,\"\")","v":"4"},{"$f":"IF('Line 1 Source'!D914<>\"\",'Line 1 Source'!D914,\"\")","v":"4145"},{"$f":"IF('Line 1 Source'!E914<>\"\",'Line 1 Source'!E914,\"\")","v":"6302"},{"$f":"IF('Line 1 Source'!F914<>\"\",'Line 1 Source'!F914,\"\")","v":904253}]
[{"$f":"IF('Line 1 Source'!A915<>\"\",'Line 1 Source'!A915,\"\")","v":"2018"},"4144205",{"$f":"CONCATENATE(VLOOKUP(B915,'School List'!$B$3:$H$291,6,FALSE),H915)","v":"42050101"},{"$f":"CONCATENATE(VLOOKUP(B915,'School List'!$B$3:$D$291,3,FALSE),H915)","v":"Johnson County - CENTER GROVE COMMUNITY SCHOOL CORP0101"},{"$f":"IF('Line 1 Source'!B915<>\"\",'Line 1 Source'!B915,\"\")","v":"41"},{"$f":"IF('Line 1 Source'!C915<>\"\",'Line 1 Source'!C915,\"\")","v":"4"},{"$f":"IF('Line 1 Source'!D915<>\"\",'Line 1 Source'!D915,\"\")","v":"4205"},{"$f":"IF('Line 1 Source'!E915<>\"\",'Line 1 Source'!E915,\"\")","v":"0101"},{"$f":"IF('Line 1 Source'!F915<>\"\",'Line 1 Source'!F915,\"\")","v":51880000}]
[{"$f":"IF('Line 1 Source'!A916<>\"\",'Line 1 Source'!A916,\"\")","v":"2018"},"4144205",{"$f":"CONCATENATE(VLOOKUP(B916,'School List'!$B$3:$H$291,6,FALSE),H916)","v":"42050180"},{"$f":"CONCATENATE(VLOOKUP(B916,'School List'!$B$3:$D$291,3,FALSE),H916)","v":"Johnson County - CENTER GROVE COMMUNITY SCHOOL CORP0180"},{"$f":"IF('Line 1 Source'!B916<>\"\",'Line 1 Source'!B916,\"\")","v":"41"},{"$f":"IF('Line 1 Source'!C916<>\"\",'Line 1 Source'!C916,\"\")","v":"4"},{"$f":"IF('Line 1 Source'!D916<>\"\",'Line 1 Source'!D916,\"\")","v":"4205"},{"$f":"IF('Line 1 Source'!E916<>\"\",'Line 1 Source'!E916,\"\")","v":"0180"},{"$f":"IF('Line 1 Source'!F916<>\"\",'Line 1 Source'!F916,\"\")","v":16412148}]
[{"$f":"IF('Line 1 Source'!A917<>\"\",'Line 1 Source'!A917,\"\")","v":"2018"},"4144205",{"$f":"CONCATENATE(VLOOKUP(B917,'School List'!$B$3:$H$291,6,FALSE),H917)","v":"42051214"},{"$f":"CONCATENATE(VLOOKUP(B917,'School List'!$B$3:$D$291,3,FALSE),H917)","v":"Johnson County - CENTER GROVE COMMUNITY SCHOOL CORP1214"},{"$f":"IF('Line 1 Source'!B917<>\"\",'Line 1 Source'!B917,\"\")","v":"41"},{"$f":"IF('Line 1 Source'!C917<>\"\",'Line 1 Source'!C917,\"\")","v":"4"},{"$f":"IF('Line 1 Source'!D917<>\"\",'Line 1 Source'!D917,\"\")","v":"4205"},{"$f":"IF('Line 1 Source'!E917<>\"\",'Line 1 Source'!E917,\"\")","v":"1214"},{"$f":"IF('Line 1 Source'!F917<>\"\",'Line 1 Source'!F917,\"\")","v":7084701}]
[{"$f":"IF('Line 1 Source'!A918<>\"\",'Line 1 Source'!A918,\"\")","v":"2018"},"4144205",{"$f":"CONCATENATE(VLOOKUP(B918,'School List'!$B$3:$H$291,6,FALSE),H918)","v":"42056301"},{"$f":"CONCATENATE(VLOOKUP(B918,'School List'!$B$3:$D$291,3,FALSE),H918)","v":"Johnson County - CENTER GROVE COMMUNITY SCHOOL CORP6301"},{"$f":"IF('Line 1 Source'!B918<>\"\",'Line 1 Source'!B918,\"\")","v":"41"},{"$f":"IF('Line 1 Source'!C918<>\"\",'Line 1 Source'!C918,\"\")","v":"4"},{"$f":"IF('Line 1 Source'!D918<>\"\",'Line 1 Source'!D918,\"\")","v":"4205"},{"$f":"IF('Line 1 Source'!E918<>\"\",'Line 1 Source'!E918,\"\")","v":"6301"},{"$f":"IF('Line 1 Source'!F918<>\"\",'Line 1 Source'!F918,\"\")","v":4040000}]
[{"$f":"IF('Line 1 Source'!A919<>\"\",'Line 1 Source'!A919,\"\")","v":"2018"},"4144205",{"$f":"CONCATENATE(VLOOKUP(B919,'School List'!$B$3:$H$291,6,FALSE),H919)","v":"42056302"},{"$f":"CONCATENATE(VLOOKUP(B919,'School List'!$B$3:$D$291,3,FALSE),H919)","v":"Johnson County - CENTER GROVE COMMUNITY SCHOOL CORP6302"},{"$f":"IF('Line 1 Source'!B919<>\"\",'Line 1 Source'!B919,\"\")","v":"41"},{"$f":"IF('Line 1 Source'!C919<>\"\",'Line 1 Source'!C919,\"\")","v":"4"},{"$f":"IF('Line 1 Source'!D919<>\"\",'Line 1 Source'!D919,\"\")","v":"4205"},{"$f":"IF('Line 1 Source'!E919<>\"\",'Line 1 Source'!E919,\"\")","v":"6302"},{"$f":"IF('Line 1 Source'!F919<>\"\",'Line 1 Source'!F919,\"\")","v":1054223}]
[{"$f":"IF('Line 1 Source'!A920<>\"\",'Line 1 Source'!A920,\"\")","v":"2018"},"4144215",{"$f":"CONCATENATE(VLOOKUP(B920,'School List'!$B$3:$H$291,6,FALSE),H920)","v":"42150061"},{"$f":"CONCATENATE(VLOOKUP(B920,'School List'!$B$3:$D$291,3,FALSE),H920)","v":"Johnson County - EDINBURGH COMMUNITY SCHOOL CORPORATION0061"},{"$f":"IF('Line 1 Source'!B920<>\"\",'Line 1 Source'!B920,\"\")","v":"41"},{"$f":"IF('Line 1 Source'!C920<>\"\",'Line 1 Source'!C920,\"\")","v":"4"},{"$f":"IF('Line 1 Source'!D920<>\"\",'Line 1 Source'!D920,\"\")","v":"4215"},{"$f":"IF('Line 1 Source'!E920<>\"\",'Line 1 Source'!E920,\"\")","v":"0061"},{"$f":"IF('Line 1 Source'!F920<>\"\",'Line 1 Source'!F920,\"\")","v":62931}]
[{"$f":"IF('Line 1 Source'!A921<>\"\",'Line 1 Source'!A921,\"\")","v":"2018"},"4144215",{"$f":"CONCATENATE(VLOOKUP(B921,'School List'!$B$3:$H$291,6,FALSE),H921)","v":"42150101"},{"$f":"CONCATENATE(VLOOKUP(B921,'School List'!$B$3:$D$291,3,FALSE),H921)","v":"Johnson County - EDINBURGH COMMUNITY SCHOOL CORPORATION0101"},{"$f":"IF('Line 1 Source'!B921<>\"\",'Line 1 Source'!B921,\"\")","v":"41"},{"$f":"IF('Line 1 Source'!C921<>\"\",'Line 1 Source'!C921,\"\")","v":"4"},{"$f":"IF('Line 1 Source'!D921<>\"\",'Line 1 Source'!D921,\"\")","v":"4215"},{"$f":"IF('Line 1 Source'!E921<>\"\",'Line 1 Source'!E921,\"\")","v":"0101"},{"$f":"IF('Line 1 Source'!F921<>\"\",'Line 1 Source'!F921,\"\")","v":6854482}]
[{"$f":"IF('Line 1 Source'!A922<>\"\",'Line 1 Source'!A922,\"\")","v":"2018"},"4144215",{"$f":"CONCATENATE(VLOOKUP(B922,'School List'!$B$3:$H$291,6,FALSE),H922)","v":"42150180"},{"$f":"CONCATENATE(VLOOKUP(B922,'School List'!$B$3:$D$291,3,FALSE),H922)","v":"Johnson County - EDINBURGH COMMUNITY SCHOOL CORPORATION0180"},{"$f":"IF('Line 1 Source'!B922<>\"\",'Line 1 Source'!B922,\"\")","v":"41"},{"$f":"IF('Line 1 Source'!C922<>\"\",'Line 1 Source'!C922,\"\")","v":"4"},{"$f":"IF('Line 1 Source'!D922<>\"\",'Line 1 Source'!D922,\"\")","v":"4215"},{"$f":"IF('Line 1 Source'!E922<>\"\",'Line 1 Source'!E922,\"\")","v":"0180"},{"$f":"IF('Line 1 Source'!F922<>\"\",'Line 1 Source'!F922,\"\")","v":1075035}]
[{"$f":"IF('Line 1 Source'!A923<>\"\",'Line 1 Source'!A923,\"\")","v":"2018"},"4144215",{"$f":"CONCATENATE(VLOOKUP(B923,'School List'!$B$3:$H$291,6,FALSE),H923)","v":"42150186"},{"$f":"CONCATENATE(VLOOKUP(B923,'School List'!$B$3:$D$291,3,FALSE),H923)","v":"Johnson County - EDINBURGH COMMUNITY SCHOOL CORPORATION0186"},{"$f":"IF('Line 1 Source'!B923<>\"\",'Line 1 Source'!B923,\"\")","v":"41"},{"$f":"IF('Line 1 Source'!C923<>\"\",'Line 1 Source'!C923,\"\")","v":"4"},{"$f":"IF('Line 1 Source'!D923<>\"\",'Line 1 Source'!D923,\"\")","v":"4215"},{"$f":"IF('Line 1 Source'!E923<>\"\",'Line 1 Source'!E923,\"\")","v":"0186"},{"$f":"IF('Line 1 Source'!F923<>\"\",'Line 1 Source'!F923,\"\")","v":196215}]
[{"$f":"IF('Line 1 Source'!A924<>\"\",'Line 1 Source'!A924,\"\")","v":"2018"},"4144215",{"$f":"CONCATENATE(VLOOKUP(B924,'School List'!$B$3:$H$291,6,FALSE),H924)","v":"42151214"},{"$f":"CONCATENATE(VLOOKUP(B924,'School List'!$B$3:$D$291,3,FALSE),H924)","v":"Johnson County - EDINBURGH COMMUNITY SCHOOL CORPORATION1214"},{"$f":"IF('Line 1 Source'!B924<>\"\",'Line 1 Source'!B924,\"\")","v":"41"},{"$f":"IF('Line 1 Source'!C924<>\"\",'Line 1 Source'!C924,\"\")","v":"4"},{"$f":"IF('Line 1 Source'!D924<>\"\",'Line 1 Source'!D924,\"\")","v":"4215"},{"$f":"IF('Line 1 Source'!E924<>\"\",'Line 1 Source'!E924,\"\")","v":"1214"},{"$f":"IF('Line 1 Source'!F924<>\"\",'Line 1 Source'!F924,\"\")","v":583626}]
[{"$f":"IF('Line 1 Source'!A925<>\"\",'Line 1 Source'!A925,\"\")","v":"2018"},"4144215",{"$f":"CONCATENATE(VLOOKUP(B925,'School List'!$B$3:$H$291,6,FALSE),H925)","v":"42156301"},{"$f":"CONCATENATE(VLOOKUP(B925,'School List'!$B$3:$D$291,3,FALSE),H925)","v":"Johnson County - EDINBURGH COMMUNITY SCHOOL CORPORATION6301"},{"$f":"IF('Line 1 Source'!B925<>\"\",'Line 1 Source'!B925,\"\")","v":"41"},{"$f":"IF('Line 1 Source'!C925<>\"\",'Line 1 Source'!C925,\"\")","v":"4"},{"$f":"IF('Line 1 Source'!D925<>\"\",'Line 1 Source'!D925,\"\")","v":"4215"},{"$f":"IF('Line 1 Source'!E925<>\"\",'Line 1 Source'!E925,\"\")","v":"6301"},{"$f":"IF('Line 1 Source'!F925<>\"\",'Line 1 Source'!F925,\"\")","v":217606}]
[{"$f":"IF('Line 1 Source'!A926<>\"\",'Line 1 Source'!A926,\"\")","v":"2018"},"4144215",{"$f":"CONCATENATE(VLOOKUP(B926,'School List'!$B$3:$H$291,6,FALSE),H926)","v":"42156302"},{"$f":"CONCATENATE(VLOOKUP(B926,'School List'!$B$3:$D$291,3,FALSE),H926)","v":"Johnson County - EDINBURGH COMMUNITY SCHOOL CORPORATION6302"},{"$f":"IF('Line 1 Source'!B926<>\"\",'Line 1 Source'!B926,\"\")","v":"41"},{"$f":"IF('Line 1 Source'!C926<>\"\",'Line 1 Source'!C926,\"\")","v":"4"},{"$f":"IF('Line 1 Source'!D926<>\"\",'Line 1 Source'!D926,\"\")","v":"4215"},{"$f":"IF('Line 1 Source'!E926<>\"\",'Line 1 Source'!E926,\"\")","v":"6302"},{"$f":"IF('Line 1 Source'!F926<>\"\",'Line 1 Source'!F926,\"\")","v":32104}]
[{"$f":"IF('Line 1 Source'!A927<>\"\",'Line 1 Source'!A927,\"\")","v":"2018"},"4144225",{"$f":"CONCATENATE(VLOOKUP(B927,'School List'!$B$3:$H$291,6,FALSE),H927)","v":"42250101"},{"$f":"CONCATENATE(VLOOKUP(B927,'School List'!$B$3:$D$291,3,FALSE),H927)","v":"Johnson County - FRANKLIN COMMUNITY SCHOOL CORPORATION0101"},{"$f":"IF('Line 1 Source'!B927<>\"\",'Line 1 Source'!B927,\"\")","v":"41"},{"$f":"IF('Line 1 Source'!C927<>\"\",'Line 1 Source'!C927,\"\")","v":"4"},{"$f":"IF('Line 1 Source'!D927<>\"\",'Line 1 Source'!D927,\"\")","v":"4225"},{"$f":"IF('Line 1 Source'!E927<>\"\",'Line 1 Source'!E927,\"\")","v":"0101"},{"$f":"IF('Line 1 Source'!F927<>\"\",'Line 1 Source'!F927,\"\")","v":33686439}]
[{"$f":"IF('Line 1 Source'!A928<>\"\",'Line 1 Source'!A928,\"\")","v":"2018"},"4144225",{"$f":"CONCATENATE(VLOOKUP(B928,'School List'!$B$3:$H$291,6,FALSE),H928)","v":"42250180"},{"$f":"CONCATENATE(VLOOKUP(B928,'School List'!$B$3:$D$291,3,FALSE),H928)","v":"Johnson County - FRANKLIN COMMUNITY SCHOOL CORPORATION0180"},{"$f":"IF('Line 1 Source'!B928<>\"\",'Line 1 Source'!B928,\"\")","v":"41"},{"$f":"IF('Line 1 Source'!C928<>\"\",'Line 1 Source'!C928,\"\")","v":"4"},{"$f":"IF('Line 1 Source'!D928<>\"\",'Line 1 Source'!D928,\"\")","v":"4225"},{"$f":"IF('Line 1 Source'!E928<>\"\",'Line 1 Source'!E928,\"\")","v":"0180"},{"$f":"IF('Line 1 Source'!F928<>\"\",'Line 1 Source'!F928,\"\")","v":14969620}]
[{"$f":"IF('Line 1 Source'!A929<>\"\",'Line 1 Source'!A929,\"\")","v":"2018"},"4144225",{"$f":"CONCATENATE(VLOOKUP(B929,'School List'!$B$3:$H$291,6,FALSE),H929)","v":"42251214"},{"$f":"CONCATENATE(VLOOKUP(B929,'School List'!$B$3:$D$291,3,FALSE),H929)","v":"Johnson County - FRANKLIN COMMUNITY SCHOOL CORPORATION1214"},{"$f":"IF('Line 1 Source'!B929<>\"\",'Line 1 Source'!B929,\"\")","v":"41"},{"$f":"IF('Line 1 Source'!C929<>\"\",'Line 1 Source'!C929,\"\")","v":"4"},{"$f":"IF('Line 1 Source'!D929<>\"\",'Line 1 Source'!D929,\"\")","v":"4225"},{"$f":"IF('Line 1 Source'!E929<>\"\",'Line 1 Source'!E929,\"\")","v":"1214"},{"$f":"IF('Line 1 Source'!F929<>\"\",'Line 1 Source'!F929,\"\")","v":4453856}]
[{"$f":"IF('Line 1 Source'!A930<>\"\",'Line 1 Source'!A930,\"\")","v":"2018"},"4144225",{"$f":"CONCATENATE(VLOOKUP(B930,'School List'!$B$3:$H$291,6,FALSE),H930)","v":"42256301"},{"$f":"CONCATENATE(VLOOKUP(B930,'School List'!$B$3:$D$291,3,FALSE),H930)","v":"Johnson County - FRANKLIN COMMUNITY SCHOOL CORPORATION6301"},{"$f":"IF('Line 1 Source'!B930<>\"\",'Line 1 Source'!B930,\"\")","v":"41"},{"$f":"IF('Line 1 Source'!C930<>\"\",'Line 1 Source'!C930,\"\")","v":"4"},{"$f":"IF('Line 1 Source'!D930<>\"\",'Line 1 Source'!D930,\"\")","v":"4225"},{"$f":"IF('Line 1 Source'!E930<>\"\",'Line 1 Source'!E930,\"\")","v":"6301"},{"$f":"IF('Line 1 Source'!F930<>\"\",'Line 1 Source'!F930,\"\")","v":2229618}]
[{"$f":"IF('Line 1 Source'!A931<>\"\",'Line 1 Source'!A931,\"\")","v":"2018"},"4144225",{"$f":"CONCATENATE(VLOOKUP(B931,'School List'!$B$3:$H$291,6,FALSE),H931)","v":"42256302"},{"$f":"CONCATENATE(VLOOKUP(B931,'School List'!$B$3:$D$291,3,FALSE),H931)","v":"Johnson County - FRANKLIN COMMUNITY SCHOOL CORPORATION6302"},{"$f":"IF('Line 1 Source'!B931<>\"\",'Line 1 Source'!B931,\"\")","v":"41"},{"$f":"IF('Line 1 Source'!C931<>\"\",'Line 1 Source'!C931,\"\")","v":"4"},{"$f":"IF('Line 1 Source'!D931<>\"\",'Line 1 Source'!D931,\"\")","v":"4225"},{"$f":"IF('Line 1 Source'!E931<>\"\",'Line 1 Source'!E931,\"\")","v":"6302"},{"$f":"IF('Line 1 Source'!F931<>\"\",'Line 1 Source'!F931,\"\")","v":687510}]
[{"$f":"IF('Line 1 Source'!A932<>\"\",'Line 1 Source'!A932,\"\")","v":"2018"},"4144245",{"$f":"CONCATENATE(VLOOKUP(B932,'School List'!$B$3:$H$291,6,FALSE),H932)","v":"42450061"},{"$f":"CONCATENATE(VLOOKUP(B932,'School List'!$B$3:$D$291,3,FALSE),H932)","v":"Johnson County - GREENWOOD COMMUNITY SCHOOL CORPORATION0061"},{"$f":"IF('Line 1 Source'!B932<>\"\",'Line 1 Source'!B932,\"\")","v":"41"},{"$f":"IF('Line 1 Source'!C932<>\"\",'Line 1 Source'!C932,\"\")","v":"4"},{"$f":"IF('Line 1 Source'!D932<>\"\",'Line 1 Source'!D932,\"\")","v":"4245"},{"$f":"IF('Line 1 Source'!E932<>\"\",'Line 1 Source'!E932,\"\")","v":"0061"},{"$f":"IF('Line 1 Source'!F932<>\"\",'Line 1 Source'!F932,\"\")","v":2833150}]
[{"$f":"IF('Line 1 Source'!A933<>\"\",'Line 1 Source'!A933,\"\")","v":"2018"},"4144245",{"$f":"CONCATENATE(VLOOKUP(B933,'School List'!$B$3:$H$291,6,FALSE),H933)","v":"42450101"},{"$f":"CONCATENATE(VLOOKUP(B933,'School List'!$B$3:$D$291,3,FALSE),H933)","v":"Johnson County - GREENWOOD COMMUNITY SCHOOL CORPORATION0101"},{"$f":"IF('Line 1 Source'!B933<>\"\",'Line 1 Source'!B933,\"\")","v":"41"},{"$f":"IF('Line 1 Source'!C933<>\"\",'Line 1 Source'!C933,\"\")","v":"4"},{"$f":"IF('Line 1 Source'!D933<>\"\",'Line 1 Source'!D933,\"\")","v":"4245"},{"$f":"IF('Line 1 Source'!E933<>\"\",'Line 1 Source'!E933,\"\")","v":"0101"},{"$f":"IF('Line 1 Source'!F933<>\"\",'Line 1 Source'!F933,\"\")","v":27500000}]
[{"$f":"IF('Line 1 Source'!A934<>\"\",'Line 1 Source'!A934,\"\")","v":"2018"},"4144245",{"$f":"CONCATENATE(VLOOKUP(B934,'School List'!$B$3:$H$291,6,FALSE),H934)","v":"42450180"},{"$f":"CONCATENATE(VLOOKUP(B934,'School List'!$B$3:$D$291,3,FALSE),H934)","v":"Johnson County - GREENWOOD COMMUNITY SCHOOL CORPORATION0180"},{"$f":"IF('Line 1 Source'!B934<>\"\",'Line 1 Source'!B934,\"\")","v":"41"},{"$f":"IF('Line 1 Source'!C934<>\"\",'Line 1 Source'!C934,\"\")","v":"4"},{"$f":"IF('Line 1 Source'!D934<>\"\",'Line 1 Source'!D934,\"\")","v":"4245"},{"$f":"IF('Line 1 Source'!E934<>\"\",'Line 1 Source'!E934,\"\")","v":"0180"},{"$f":"IF('Line 1 Source'!F934<>\"\",'Line 1 Source'!F934,\"\")","v":3895931}]
[{"$f":"IF('Line 1 Source'!A935<>\"\",'Line 1 Source'!A935,\"\")","v":"2018"},"4144245",{"$f":"CONCATENATE(VLOOKUP(B935,'School List'!$B$3:$H$291,6,FALSE),H935)","v":"42451214"},{"$f":"CONCATENATE(VLOOKUP(B935,'School List'!$B$3:$D$291,3,FALSE),H935)","v":"Johnson County - GREENWOOD COMMUNITY SCHOOL CORPORATION1214"},{"$f":"IF('Line 1 Source'!B935<>\"\",'Line 1 Source'!B935,\"\")","v":"41"},{"$f":"IF('Line 1 Source'!C935<>\"\",'Line 1 Source'!C935,\"\")","v":"4"},{"$f":"IF('Line 1 Source'!D935<>\"\",'Line 1 Source'!D935,\"\")","v":"4245"},{"$f":"IF('Line 1 Source'!E935<>\"\",'Line 1 Source'!E935,\"\")","v":"1214"},{"$f":"IF('Line 1 Source'!F935<>\"\",'Line 1 Source'!F935,\"\")","v":4036466}]
[{"$f":"IF('Line 1 Source'!A936<>\"\",'Line 1 Source'!A936,\"\")","v":"2018"},"4144245",{"$f":"CONCATENATE(VLOOKUP(B936,'School List'!$B$3:$H$291,6,FALSE),H936)","v":"42456301"},{"$f":"CONCATENATE(VLOOKUP(B936,'School List'!$B$3:$D$291,3,FALSE),H936)","v":"Johnson County - GREENWOOD COMMUNITY SCHOOL CORPORATION6301"},{"$f":"IF('Line 1 Source'!B936<>\"\",'Line 1 Source'!B936,\"\")","v":"41"},{"$f":"IF('Line 1 Source'!C936<>\"\",'Line 1 Source'!C936,\"\")","v":"4"},{"$f":"IF('Line 1 Source'!D936<>\"\",'Line 1 Source'!D936,\"\")","v":"4245"},{"$f":"IF('Line 1 Source'!E936<>\"\",'Line 1 Source'!E936,\"\")","v":"6301"},{"$f":"IF('Line 1 Source'!F936<>\"\",'Line 1 Source'!F936,\"\")","v":2200000}]
[{"$f":"IF('Line 1 Source'!A937<>\"\",'Line 1 Source'!A937,\"\")","v":"2018"},"4144245",{"$f":"CONCATENATE(VLOOKUP(B937,'School List'!$B$3:$H$291,6,FALSE),H937)","v":"42456302"},{"$f":"CONCATENATE(VLOOKUP(B937,'School List'!$B$3:$D$291,3,FALSE),H937)","v":"Johnson County - GREENWOOD COMMUNITY SCHOOL CORPORATION6302"},{"$f":"IF('Line 1 Source'!B937<>\"\",'Line 1 Source'!B937,\"\")","v":"41"},{"$f":"IF('Line 1 Source'!C937<>\"\",'Line 1 Source'!C937,\"\")","v":"4"},{"$f":"IF('Line 1 Source'!D937<>\"\",'Line 1 Source'!D937,\"\")","v":"4245"},{"$f":"IF('Line 1 Source'!E937<>\"\",'Line 1 Source'!E937,\"\")","v":"6302"},{"$f":"IF('Line 1 Source'!F937<>\"\",'Line 1 Source'!F937,\"\")","v":350000}]
[{"$f":"IF('Line 1 Source'!A938<>\"\",'Line 1 Source'!A938,\"\")","v":"2018"},"4144255",{"$f":"CONCATENATE(VLOOKUP(B938,'School List'!$B$3:$H$291,6,FALSE),H938)","v":"42550061"},{"$f":"CONCATENATE(VLOOKUP(B938,'School List'!$B$3:$D$291,3,FALSE),H938)","v":"Johnson County - NINEVEH-HENSLEY-JACKSON UNITED SCH CORP0061"},{"$f":"IF('Line 1 Source'!B938<>\"\",'Line 1 Source'!B938,\"\")","v":"41"},{"$f":"IF('Line 1 Source'!C938<>\"\",'Line 1 Source'!C938,\"\")","v":"4"},{"$f":"IF('Line 1 Source'!D938<>\"\",'Line 1 Source'!D938,\"\")","v":"4255"},{"$f":"IF('Line 1 Source'!E938<>\"\",'Line 1 Source'!E938,\"\")","v":"0061"},{"$f":"IF('Line 1 Source'!F938<>\"\",'Line 1 Source'!F938,\"\")","v":1310000}]
[{"$f":"IF('Line 1 Source'!A939<>\"\",'Line 1 Source'!A939,\"\")","v":"2018"},"4144255",{"$f":"CONCATENATE(VLOOKUP(B939,'School List'!$B$3:$H$291,6,FALSE),H939)","v":"42550101"},{"$f":"CONCATENATE(VLOOKUP(B939,'School List'!$B$3:$D$291,3,FALSE),H939)","v":"Johnson County - NINEVEH-HENSLEY-JACKSON UNITED SCH CORP0101"},{"$f":"IF('Line 1 Source'!B939<>\"\",'Line 1 Source'!B939,\"\")","v":"41"},{"$f":"IF('Line 1 Source'!C939<>\"\",'Line 1 Source'!C939,\"\")","v":"4"},{"$f":"IF('Line 1 Source'!D939<>\"\",'Line 1 Source'!D939,\"\")","v":"4255"},{"$f":"IF('Line 1 Source'!E939<>\"\",'Line 1 Source'!E939,\"\")","v":"0101"},{"$f":"IF('Line 1 Source'!F939<>\"\",'Line 1 Source'!F939,\"\")","v":13743114}]
[{"$f":"IF('Line 1 Source'!A940<>\"\",'Line 1 Source'!A940,\"\")","v":"2018"},"4144255",{"$f":"CONCATENATE(VLOOKUP(B940,'School List'!$B$3:$H$291,6,FALSE),H940)","v":"42550180"},{"$f":"CONCATENATE(VLOOKUP(B940,'School List'!$B$3:$D$291,3,FALSE),H940)","v":"Johnson County - NINEVEH-HENSLEY-JACKSON UNITED SCH CORP0180"},{"$f":"IF('Line 1 Source'!B940<>\"\",'Line 1 Source'!B940,\"\")","v":"41"},{"$f":"IF('Line 1 Source'!C940<>\"\",'Line 1 Source'!C940,\"\")","v":"4"},{"$f":"IF('Line 1 Source'!D940<>\"\",'Line 1 Source'!D940,\"\")","v":"4255"},{"$f":"IF('Line 1 Source'!E940<>\"\",'Line 1 Source'!E940,\"\")","v":"0180"},{"$f":"IF('Line 1 Source'!F940<>\"\",'Line 1 Source'!F940,\"\")","v":2412485}]
[{"$f":"IF('Line 1 Source'!A941<>\"\",'Line 1 Source'!A941,\"\")","v":"2018"},"4144255",{"$f":"CONCATENATE(VLOOKUP(B941,'School List'!$B$3:$H$291,6,FALSE),H941)","v":"42550186"},{"$f":"CONCATENATE(VLOOKUP(B941,'School List'!$B$3:$D$291,3,FALSE),H941)","v":"Johnson County - NINEVEH-HENSLEY-JACKSON UNITED SCH CORP0186"},{"$f":"IF('Line 1 Source'!B941<>\"\",'Line 1 Source'!B941,\"\")","v":"41"},{"$f":"IF('Line 1 Source'!C941<>\"\",'Line 1 Source'!C941,\"\")","v":"4"},{"$f":"IF('Line 1 Source'!D941<>\"\",'Line 1 Source'!D941,\"\")","v":"4255"},{"$f":"IF('Line 1 Source'!E941<>\"\",'Line 1 Source'!E941,\"\")","v":"0186"},{"$f":"IF('Line 1 Source'!F941<>\"\",'Line 1 Source'!F941,\"\")","v":200446}]
[{"$f":"IF('Line 1 Source'!A942<>\"\",'Line 1 Source'!A942,\"\")","v":"2018"},"4144255",{"$f":"CONCATENATE(VLOOKUP(B942,'School List'!$B$3:$H$291,6,FALSE),H942)","v":"42551214"},{"$f":"CONCATENATE(VLOOKUP(B942,'School List'!$B$3:$D$291,3,FALSE),H942)","v":"Johnson County - NINEVEH-HENSLEY-JACKSON UNITED SCH CORP1214"},{"$f":"IF('Line 1 Source'!B942<>\"\",'Line 1 Source'!B942,\"\")","v":"41"},{"$f":"IF('Line 1 Source'!C942<>\"\",'Line 1 Source'!C942,\"\")","v":"4"},{"$f":"IF('Line 1 Source'!D942<>\"\",'Line 1 Source'!D942,\"\")","v":"4255"},{"$f":"IF('Line 1 Source'!E942<>\"\",'Line 1 Source'!E942,\"\")","v":"1214"},{"$f":"IF('Line 1 Source'!F942<>\"\",'Line 1 Source'!F942,\"\")","v":1948203}]
[{"$f":"IF('Line 1 Source'!A943<>\"\",'Line 1 Source'!A943,\"\")","v":"2018"},"4144255",{"$f":"CONCATENATE(VLOOKUP(B943,'School List'!$B$3:$H$291,6,FALSE),H943)","v":"42556301"},{"$f":"CONCATENATE(VLOOKUP(B943,'School List'!$B$3:$D$291,3,FALSE),H943)","v":"Johnson County - NINEVEH-HENSLEY-JACKSON UNITED SCH CORP6301"},{"$f":"IF('Line 1 Source'!B943<>\"\",'Line 1 Source'!B943,\"\")","v":"41"},{"$f":"IF('Line 1 Source'!C943<>\"\",'Line 1 Source'!C943,\"\")","v":"4"},{"$f":"IF('Line 1 Source'!D943<>\"\",'Line 1 Source'!D943,\"\")","v":"4255"},{"$f":"IF('Line 1 Source'!E943<>\"\",'Line 1 Source'!E943,\"\")","v":"6301"},{"$f":"IF('Line 1 Source'!F943<>\"\",'Line 1 Source'!F943,\"\")","v":1734581}]
[{"$f":"IF('Line 1 Source'!A944<>\"\",'Line 1 Source'!A944,\"\")","v":"2018"},"4144255",{"$f":"CONCATENATE(VLOOKUP(B944,'School List'!$B$3:$H$291,6,FALSE),H944)","v":"42556302"},{"$f":"CONCATENATE(VLOOKUP(B944,'School List'!$B$3:$D$291,3,FALSE),H944)","v":"Johnson County - NINEVEH-HENSLEY-JACKSON UNITED SCH CORP6302"},{"$f":"IF('Line 1 Source'!B944<>\"\",'Line 1 Source'!B944,\"\")","v":"41"},{"$f":"IF('Line 1 Source'!C944<>\"\",'Line 1 Source'!C944,\"\")","v":"4"},{"$f":"IF('Line 1 Source'!D944<>\"\",'Line 1 Source'!D944,\"\")","v":"4255"},{"$f":"IF('Line 1 Source'!E944<>\"\",'Line 1 Source'!E944,\"\")","v":"6302"},{"$f":"IF('Line 1 Source'!F944<>\"\",'Line 1 Source'!F944,\"\")","v":330000}]
[{"$f":"IF('Line 1 Source'!A945<>\"\",'Line 1 Source'!A945,\"\")","v":"2018"},"4244315",{"$f":"CONCATENATE(VLOOKUP(B945,'School List'!$B$3:$H$291,6,FALSE),H945)","v":"43150061"},{"$f":"CONCATENATE(VLOOKUP(B945,'School List'!$B$3:$D$291,3,FALSE),H945)","v":"Knox County - NORTH KNOX SCHOOL CORPORATION0061"},{"$f":"IF('Line 1 Source'!B945<>\"\",'Line 1 Source'!B945,\"\")","v":"42"},{"$f":"IF('Line 1 Source'!C945<>\"\",'Line 1 Source'!C945,\"\")","v":"4"},{"$f":"IF('Line 1 Source'!D945<>\"\",'Line 1 Source'!D945,\"\")","v":"4315"},{"$f":"IF('Line 1 Source'!E945<>\"\",'Line 1 Source'!E945,\"\")","v":"0061"},{"$f":"IF('Line 1 Source'!F945<>\"\",'Line 1 Source'!F945,\"\")","v":1000000}]
[{"$f":"IF('Line 1 Source'!A946<>\"\",'Line 1 Source'!A946,\"\")","v":"2018"},"4244315",{"$f":"CONCATENATE(VLOOKUP(B946,'School List'!$B$3:$H$291,6,FALSE),H946)","v":"43150101"},{"$f":"CONCATENATE(VLOOKUP(B946,'School List'!$B$3:$D$291,3,FALSE),H946)","v":"Knox County - NORTH KNOX SCHOOL CORPORATION0101"},{"$f":"IF('Line 1 Source'!B946<>\"\",'Line 1 Source'!B946,\"\")","v":"42"},{"$f":"IF('Line 1 Source'!C946<>\"\",'Line 1 Source'!C946,\"\")","v":"4"},{"$f":"IF('Line 1 Source'!D946<>\"\",'Line 1 Source'!D946,\"\")","v":"4315"},{"$f":"IF('Line 1 Source'!E946<>\"\",'Line 1 Source'!E946,\"\")","v":"0101"},{"$f":"IF('Line 1 Source'!F946<>\"\",'Line 1 Source'!F946,\"\")","v":10706182}]
[{"$f":"IF('Line 1 Source'!A947<>\"\",'Line 1 Source'!A947,\"\")","v":"2018"},"4244315",{"$f":"CONCATENATE(VLOOKUP(B947,'School List'!$B$3:$H$291,6,FALSE),H947)","v":"43150180"},{"$f":"CONCATENATE(VLOOKUP(B947,'School List'!$B$3:$D$291,3,FALSE),H947)","v":"Knox County - NORTH KNOX SCHOOL CORPORATION0180"},{"$f":"IF('Line 1 Source'!B947<>\"\",'Line 1 Source'!B947,\"\")","v":"42"},{"$f":"IF('Line 1 Source'!C947<>\"\",'Line 1 Source'!C947,\"\")","v":"4"},{"$f":"IF('Line 1 Source'!D947<>\"\",'Line 1 Source'!D947,\"\")","v":"4315"},{"$f":"IF('Line 1 Source'!E947<>\"\",'Line 1 Source'!E947,\"\")","v":"0180"},{"$f":"IF('Line 1 Source'!F947<>\"\",'Line 1 Source'!F947,\"\")","v":1730165}]
[{"$f":"IF('Line 1 Source'!A948<>\"\",'Line 1 Source'!A948,\"\")","v":"2018"},"4244315",{"$f":"CONCATENATE(VLOOKUP(B948,'School List'!$B$3:$H$291,6,FALSE),H948)","v":"43150186"},{"$f":"CONCATENATE(VLOOKUP(B948,'School List'!$B$3:$D$291,3,FALSE),H948)","v":"Knox County - NORTH KNOX SCHOOL CORPORATION0186"},{"$f":"IF('Line 1 Source'!B948<>\"\",'Line 1 Source'!B948,\"\")","v":"42"},{"$f":"IF('Line 1 Source'!C948<>\"\",'Line 1 Source'!C948,\"\")","v":"4"},{"$f":"IF('Line 1 Source'!D948<>\"\",'Line 1 Source'!D948,\"\")","v":"4315"},{"$f":"IF('Line 1 Source'!E948<>\"\",'Line 1 Source'!E948,\"\")","v":"0186"},{"$f":"IF('Line 1 Source'!F948<>\"\",'Line 1 Source'!F948,\"\")","v":280490}]
[{"$f":"IF('Line 1 Source'!A949<>\"\",'Line 1 Source'!A949,\"\")","v":"2018"},"4244315",{"$f":"CONCATENATE(VLOOKUP(B949,'School List'!$B$3:$H$291,6,FALSE),H949)","v":"43151214"},{"$f":"CONCATENATE(VLOOKUP(B949,'School List'!$B$3:$D$291,3,FALSE),H949)","v":"Knox County - NORTH KNOX SCHOOL CORPORATION1214"},{"$f":"IF('Line 1 Source'!B949<>\"\",'Line 1 Source'!B949,\"\")","v":"42"},{"$f":"IF('Line 1 Source'!C949<>\"\",'Line 1 Source'!C949,\"\")","v":"4"},{"$f":"IF('Line 1 Source'!D949<>\"\",'Line 1 Source'!D949,\"\")","v":"4315"},{"$f":"IF('Line 1 Source'!E949<>\"\",'Line 1 Source'!E949,\"\")","v":"1214"},{"$f":"IF('Line 1 Source'!F949<>\"\",'Line 1 Source'!F949,\"\")","v":2019360}]
[{"$f":"IF('Line 1 Source'!A950<>\"\",'Line 1 Source'!A950,\"\")","v":"2018"},"4244315",{"$f":"CONCATENATE(VLOOKUP(B950,'School List'!$B$3:$H$291,6,FALSE),H950)","v":"43156301"},{"$f":"CONCATENATE(VLOOKUP(B950,'School List'!$B$3:$D$291,3,FALSE),H950)","v":"Knox County - NORTH KNOX SCHOOL CORPORATION6301"},{"$f":"IF('Line 1 Source'!B950<>\"\",'Line 1 Source'!B950,\"\")","v":"42"},{"$f":"IF('Line 1 Source'!C950<>\"\",'Line 1 Source'!C950,\"\")","v":"4"},{"$f":"IF('Line 1 Source'!D950<>\"\",'Line 1 Source'!D950,\"\")","v":"4315"},{"$f":"IF('Line 1 Source'!E950<>\"\",'Line 1 Source'!E950,\"\")","v":"6301"},{"$f":"IF('Line 1 Source'!F950<>\"\",'Line 1 Source'!F950,\"\")","v":1746400}]
[{"$f":"IF('Line 1 Source'!A951<>\"\",'Line 1 Source'!A951,\"\")","v":"2018"},"4244315",{"$f":"CONCATENATE(VLOOKUP(B951,'School List'!$B$3:$H$291,6,FALSE),H951)","v":"43156302"},{"$f":"CONCATENATE(VLOOKUP(B951,'School List'!$B$3:$D$291,3,FALSE),H951)","v":"Knox County - NORTH KNOX SCHOOL CORPORATION6302"},{"$f":"IF('Line 1 Source'!B951<>\"\",'Line 1 Source'!B951,\"\")","v":"42"},{"$f":"IF('Line 1 Source'!C951<>\"\",'Line 1 Source'!C951,\"\")","v":"4"},{"$f":"IF('Line 1 Source'!D951<>\"\",'Line 1 Source'!D951,\"\")","v":"4315"},{"$f":"IF('Line 1 Source'!E951<>\"\",'Line 1 Source'!E951,\"\")","v":"6302"},{"$f":"IF('Line 1 Source'!F951<>\"\",'Line 1 Source'!F951,\"\")","v":126895}]
[{"$f":"IF('Line 1 Source'!A952<>\"\",'Line 1 Source'!A952,\"\")","v":"2018"},"4244325",{"$f":"CONCATENATE(VLOOKUP(B952,'School List'!$B$3:$H$291,6,FALSE),H952)","v":"43250061"},{"$f":"CONCATENATE(VLOOKUP(B952,'School List'!$B$3:$D$291,3,FALSE),H952)","v":"Knox County - SOUTH KNOX SCHOOL CORPORATION0061"},{"$f":"IF('Line 1 Source'!B952<>\"\",'Line 1 Source'!B952,\"\")","v":"42"},{"$f":"IF('Line 1 Source'!C952<>\"\",'Line 1 Source'!C952,\"\")","v":"4"},{"$f":"IF('Line 1 Source'!D952<>\"\",'Line 1 Source'!D952,\"\")","v":"4325"},{"$f":"IF('Line 1 Source'!E952<>\"\",'Line 1 Source'!E952,\"\")","v":"0061"},{"$f":"IF('Line 1 Source'!F952<>\"\",'Line 1 Source'!F952,\"\")","v":196450}]
[{"$f":"IF('Line 1 Source'!A953<>\"\",'Line 1 Source'!A953,\"\")","v":"2018"},"4244325",{"$f":"CONCATENATE(VLOOKUP(B953,'School List'!$B$3:$H$291,6,FALSE),H953)","v":"43250101"},{"$f":"CONCATENATE(VLOOKUP(B953,'School List'!$B$3:$D$291,3,FALSE),H953)","v":"Knox County - SOUTH KNOX SCHOOL CORPORATION0101"},{"$f":"IF('Line 1 Source'!B953<>\"\",'Line 1 Source'!B953,\"\")","v":"42"},{"$f":"IF('Line 1 Source'!C953<>\"\",'Line 1 Source'!C953,\"\")","v":"4"},{"$f":"IF('Line 1 Source'!D953<>\"\",'Line 1 Source'!D953,\"\")","v":"4325"},{"$f":"IF('Line 1 Source'!E953<>\"\",'Line 1 Source'!E953,\"\")","v":"0101"},{"$f":"IF('Line 1 Source'!F953<>\"\",'Line 1 Source'!F953,\"\")","v":8487251}]
[{"$f":"IF('Line 1 Source'!A954<>\"\",'Line 1 Source'!A954,\"\")","v":"2018"},"4244325",{"$f":"CONCATENATE(VLOOKUP(B954,'School List'!$B$3:$H$291,6,FALSE),H954)","v":"43250180"},{"$f":"CONCATENATE(VLOOKUP(B954,'School List'!$B$3:$D$291,3,FALSE),H954)","v":"Knox County - SOUTH KNOX SCHOOL CORPORATION0180"},{"$f":"IF('Line 1 Source'!B954<>\"\",'Line 1 Source'!B954,\"\")","v":"42"},{"$f":"IF('Line 1 Source'!C954<>\"\",'Line 1 Source'!C954,\"\")","v":"4"},{"$f":"IF('Line 1 Source'!D954<>\"\",'Line 1 Source'!D954,\"\")","v":"4325"},{"$f":"IF('Line 1 Source'!E954<>\"\",'Line 1 Source'!E954,\"\")","v":"0180"},{"$f":"IF('Line 1 Source'!F954<>\"\",'Line 1 Source'!F954,\"\")","v":1401725}]
[{"$f":"IF('Line 1 Source'!A955<>\"\",'Line 1 Source'!A955,\"\")","v":"2018"},"4244325",{"$f":"CONCATENATE(VLOOKUP(B955,'School List'!$B$3:$H$291,6,FALSE),H955)","v":"43251214"},{"$f":"CONCATENATE(VLOOKUP(B955,'School List'!$B$3:$D$291,3,FALSE),H955)","v":"Knox County - SOUTH KNOX SCHOOL CORPORATION1214"},{"$f":"IF('Line 1 Source'!B955<>\"\",'Line 1 Source'!B955,\"\")","v":"42"},{"$f":"IF('Line 1 Source'!C955<>\"\",'Line 1 Source'!C955,\"\")","v":"4"},{"$f":"IF('Line 1 Source'!D955<>\"\",'Line 1 Source'!D955,\"\")","v":"4325"},{"$f":"IF('Line 1 Source'!E955<>\"\",'Line 1 Source'!E955,\"\")","v":"1214"},{"$f":"IF('Line 1 Source'!F955<>\"\",'Line 1 Source'!F955,\"\")","v":1604100}]
[{"$f":"IF('Line 1 Source'!A956<>\"\",'Line 1 Source'!A956,\"\")","v":"2018"},"4244325",{"$f":"CONCATENATE(VLOOKUP(B956,'School List'!$B$3:$H$291,6,FALSE),H956)","v":"43256301"},{"$f":"CONCATENATE(VLOOKUP(B956,'School List'!$B$3:$D$291,3,FALSE),H956)","v":"Knox County - SOUTH KNOX SCHOOL CORPORATION6301"},{"$f":"IF('Line 1 Source'!B956<>\"\",'Line 1 Source'!B956,\"\")","v":"42"},{"$f":"IF('Line 1 Source'!C956<>\"\",'Line 1 Source'!C956,\"\")","v":"4"},{"$f":"IF('Line 1 Source'!D956<>\"\",'Line 1 Source'!D956,\"\")","v":"4325"},{"$f":"IF('Line 1 Source'!E956<>\"\",'Line 1 Source'!E956,\"\")","v":"6301"},{"$f":"IF('Line 1 Source'!F956<>\"\",'Line 1 Source'!F956,\"\")","v":1639313}]
[{"$f":"IF('Line 1 Source'!A957<>\"\",'Line 1 Source'!A957,\"\")","v":"2018"},"4244325",{"$f":"CONCATENATE(VLOOKUP(B957,'School List'!$B$3:$H$291,6,FALSE),H957)","v":"43256302"},{"$f":"CONCATENATE(VLOOKUP(B957,'School List'!$B$3:$D$291,3,FALSE),H957)","v":"Knox County - SOUTH KNOX SCHOOL CORPORATION6302"},{"$f":"IF('Line 1 Source'!B957<>\"\",'Line 1 Source'!B957,\"\")","v":"42"},{"$f":"IF('Line 1 Source'!C957<>\"\",'Line 1 Source'!C957,\"\")","v":"4"},{"$f":"IF('Line 1 Source'!D957<>\"\",'Line 1 Source'!D957,\"\")","v":"4325"},{"$f":"IF('Line 1 Source'!E957<>\"\",'Line 1 Source'!E957,\"\")","v":"6302"},{"$f":"IF('Line 1 Source'!F957<>\"\",'Line 1 Source'!F957,\"\")","v":110000}]
[{"$f":"IF('Line 1 Source'!A958<>\"\",'Line 1 Source'!A958,\"\")","v":"2018"},"4244335",{"$f":"CONCATENATE(VLOOKUP(B958,'School List'!$B$3:$H$291,6,FALSE),H958)","v":"43350061"},{"$f":"CONCATENATE(VLOOKUP(B958,'School List'!$B$3:$D$291,3,FALSE),H958)","v":"Knox County - VINCENNES COMMUNITY SCHOOL CORPORATION0061"},{"$f":"IF('Line 1 Source'!B958<>\"\",'Line 1 Source'!B958,\"\")","v":"42"},{"$f":"IF('Line 1 Source'!C958<>\"\",'Line 1 Source'!C958,\"\")","v":"4"},{"$f":"IF('Line 1 Source'!D958<>\"\",'Line 1 Source'!D958,\"\")","v":"4335"},{"$f":"IF('Line 1 Source'!E958<>\"\",'Line 1 Source'!E958,\"\")","v":"0061"},{"$f":"IF('Line 1 Source'!F958<>\"\",'Line 1 Source'!F958,\"\")","v":2500000}]
[{"$f":"IF('Line 1 Source'!A959<>\"\",'Line 1 Source'!A959,\"\")","v":"2018"},"4244335",{"$f":"CONCATENATE(VLOOKUP(B959,'School List'!$B$3:$H$291,6,FALSE),H959)","v":"43350101"},{"$f":"CONCATENATE(VLOOKUP(B959,'School List'!$B$3:$D$291,3,FALSE),H959)","v":"Knox County - VINCENNES COMMUNITY SCHOOL CORPORATION0101"},{"$f":"IF('Line 1 Source'!B959<>\"\",'Line 1 Source'!B959,\"\")","v":"42"},{"$f":"IF('Line 1 Source'!C959<>\"\",'Line 1 Source'!C959,\"\")","v":"4"},{"$f":"IF('Line 1 Source'!D959<>\"\",'Line 1 Source'!D959,\"\")","v":"4335"},{"$f":"IF('Line 1 Source'!E959<>\"\",'Line 1 Source'!E959,\"\")","v":"0101"},{"$f":"IF('Line 1 Source'!F959<>\"\",'Line 1 Source'!F959,\"\")","v":20102654}]
[{"$f":"IF('Line 1 Source'!A960<>\"\",'Line 1 Source'!A960,\"\")","v":"2018"},"4244335",{"$f":"CONCATENATE(VLOOKUP(B960,'School List'!$B$3:$H$291,6,FALSE),H960)","v":"43350180"},{"$f":"CONCATENATE(VLOOKUP(B960,'School List'!$B$3:$D$291,3,FALSE),H960)","v":"Knox County - VINCENNES COMMUNITY SCHOOL CORPORATION0180"},{"$f":"IF('Line 1 Source'!B960<>\"\",'Line 1 Source'!B960,\"\")","v":"42"},{"$f":"IF('Line 1 Source'!C960<>\"\",'Line 1 Source'!C960,\"\")","v":"4"},{"$f":"IF('Line 1 Source'!D960<>\"\",'Line 1 Source'!D960,\"\")","v":"4335"},{"$f":"IF('Line 1 Source'!E960<>\"\",'Line 1 Source'!E960,\"\")","v":"0180"},{"$f":"IF('Line 1 Source'!F960<>\"\",'Line 1 Source'!F960,\"\")","v":4754483}]
[{"$f":"IF('Line 1 Source'!A961<>\"\",'Line 1 Source'!A961,\"\")","v":"2018"},"4244335",{"$f":"CONCATENATE(VLOOKUP(B961,'School List'!$B$3:$H$291,6,FALSE),H961)","v":"43350186"},{"$f":"CONCATENATE(VLOOKUP(B961,'School List'!$B$3:$D$291,3,FALSE),H961)","v":"Knox County - VINCENNES COMMUNITY SCHOOL CORPORATION0186"},{"$f":"IF('Line 1 Source'!B961<>\"\",'Line 1 Source'!B961,\"\")","v":"42"},{"$f":"IF('Line 1 Source'!C961<>\"\",'Line 1 Source'!C961,\"\")","v":"4"},{"$f":"IF('Line 1 Source'!D961<>\"\",'Line 1 Source'!D961,\"\")","v":"4335"},{"$f":"IF('Line 1 Source'!E961<>\"\",'Line 1 Source'!E961,\"\")","v":"0186"},{"$f":"IF('Line 1 Source'!F961<>\"\",'Line 1 Source'!F961,\"\")","v":237870}]
[{"$f":"IF('Line 1 Source'!A962<>\"\",'Line 1 Source'!A962,\"\")","v":"2018"},"4244335",{"$f":"CONCATENATE(VLOOKUP(B962,'School List'!$B$3:$H$291,6,FALSE),H962)","v":"43351214"},{"$f":"CONCATENATE(VLOOKUP(B962,'School List'!$B$3:$D$291,3,FALSE),H962)","v":"Knox County - VINCENNES COMMUNITY SCHOOL CORPORATION1214"},{"$f":"IF('Line 1 Source'!B962<>\"\",'Line 1 Source'!B962,\"\")","v":"42"},{"$f":"IF('Line 1 Source'!C962<>\"\",'Line 1 Source'!C962,\"\")","v":"4"},{"$f":"IF('Line 1 Source'!D962<>\"\",'Line 1 Source'!D962,\"\")","v":"4335"},{"$f":"IF('Line 1 Source'!E962<>\"\",'Line 1 Source'!E962,\"\")","v":"1214"},{"$f":"IF('Line 1 Source'!F962<>\"\",'Line 1 Source'!F962,\"\")","v":2672313}]
[{"$f":"IF('Line 1 Source'!A963<>\"\",'Line 1 Source'!A963,\"\")","v":"2018"},{"$f":"CONCATENATE(E963,F963,G963)","v":"4244335"},{"$f":"CONCATENATE(VLOOKUP(B963,'School List'!$B$3:$H$291,6,FALSE),H963)","v":"43356301"},{"$f":"CONCATENATE(VLOOKUP(B963,'School List'!$B$3:$D$291,3,FALSE),H963)","v":"Knox County - VINCENNES COMMUNITY SCHOOL CORPORATION6301"},{"$f":"IF('Line 1 Source'!B963<>\"\",'Line 1 Source'!B963,\"\")","v":"42"},{"$f":"IF('Line 1 Source'!C963<>\"\",'Line 1 Source'!C963,\"\")","v":"4"},{"$f":"IF('Line 1 Source'!D963<>\"\",'Line 1 Source'!D963,\"\")","v":"4335"},{"$f":"IF('Line 1 Source'!E963<>\"\",'Line 1 Source'!E963,\"\")","v":"6301"},{"$f":"IF('Line 1 Source'!F963<>\"\",'Line 1 Source'!F963,\"\")","v":1497635}]
[{"$f":"IF('Line 1 Source'!A964<>\"\",'Line 1 Source'!A964,\"\")","v":"2018"},"4244335",{"$f":"CONCATENATE(VLOOKUP(B964,'School List'!$B$3:$H$291,6,FALSE),H964)","v":"43356302"},{"$f":"CONCATENATE(VLOOKUP(B964,'School List'!$B$3:$D$291,3,FALSE),H964)","v":"Knox County - VINCENNES COMMUNITY SCHOOL CORPORATION6302"},{"$f":"IF('Line 1 Source'!B964<>\"\",'Line 1 Source'!B964,\"\")","v":"42"},{"$f":"IF('Line 1 Source'!C964<>\"\",'Line 1 Source'!C964,\"\")","v":"4"},{"$f":"IF('Line 1 Source'!D964<>\"\",'Line 1 Source'!D964,\"\")","v":"4335"},{"$f":"IF('Line 1 Source'!E964<>\"\",'Line 1 Source'!E964,\"\")","v":"6302"},{"$f":"IF('Line 1 Source'!F964<>\"\",'Line 1 Source'!F964,\"\")","v":128037}]
[{"$f":"IF('Line 1 Source'!A965<>\"\",'Line 1 Source'!A965,\"\")","v":"2018"},"4342285",{"$f":"CONCATENATE(VLOOKUP(B965,'School List'!$B$3:$H$291,6,FALSE),H965)","v":{"$error":"#N/A"}},{"$f":"CONCATENATE(VLOOKUP(B965,'School List'!$B$3:$D$291,3,FALSE),H965)","v":{"$error":"#N/A"}},{"$f":"IF('Line 1 Source'!B965<>\"\",'Line 1 Source'!B965,\"\")","v":"43"},{"$f":"IF('Line 1 Source'!C965<>\"\",'Line 1 Source'!C965,\"\")","v":"4"},{"$f":"IF('Line 1 Source'!D965<>\"\",'Line 1 Source'!D965,\"\")","v":"2285"},{"$f":"IF('Line 1 Source'!E965<>\"\",'Line 1 Source'!E965,\"\")","v":"0061"},{"$f":"IF('Line 1 Source'!F965<>\"\",'Line 1 Source'!F965,\"\")","v":0}]
[{"$f":"IF('Line 1 Source'!A966<>\"\",'Line 1 Source'!A966,\"\")","v":"2018"},"4342285",{"$f":"CONCATENATE(VLOOKUP(B966,'School List'!$B$3:$H$291,6,FALSE),H966)","v":{"$error":"#N/A"}},{"$f":"CONCATENATE(VLOOKUP(B966,'School List'!$B$3:$D$291,3,FALSE),H966)","v":{"$error":"#N/A"}},{"$f":"IF('Line 1 Source'!B966<>\"\",'Line 1 Source'!B966,\"\")","v":"43"},{"$f":"IF('Line 1 Source'!C966<>\"\",'Line 1 Source'!C966,\"\")","v":"4"},{"$f":"IF('Line 1 Source'!D966<>\"\",'Line 1 Source'!D966,\"\")","v":"2285"},{"$f":"IF('Line 1 Source'!E966<>\"\",'Line 1 Source'!E966,\"\")","v":"0101"},{"$f":"IF('Line 1 Source'!F966<>\"\",'Line 1 Source'!F966,\"\")","v":0}]
[{"$f":"IF('Line 1 Source'!A967<>\"\",'Line 1 Source'!A967,\"\")","v":"2018"},"4342285",{"$f":"CONCATENATE(VLOOKUP(B967,'School List'!$B$3:$H$291,6,FALSE),H967)","v":{"$error":"#N/A"}},{"$f":"CONCATENATE(VLOOKUP(B967,'School List'!$B$3:$D$291,3,FALSE),H967)","v":{"$error":"#N/A"}},{"$f":"IF('Line 1 Source'!B967<>\"\",'Line 1 Source'!B967,\"\")","v":"43"},{"$f":"IF('Line 1 Source'!C967<>\"\",'Line 1 Source'!C967,\"\")","v":"4"},{"$f":"IF('Line 1 Source'!D967<>\"\",'Line 1 Source'!D967,\"\")","v":"2285"},{"$f":"IF('Line 1 Source'!E967<>\"\",'Line 1 Source'!E967,\"\")","v":"0180"},{"$f":"IF('Line 1 Source'!F967<>\"\",'Line 1 Source'!F967,\"\")","v":0}]
[{"$f":"IF('Line 1 Source'!A968<>\"\",'Line 1 Source'!A968,\"\")","v":"2018"},"4342285",{"$f":"CONCATENATE(VLOOKUP(B968,'School List'!$B$3:$H$291,6,FALSE),H968)","v":{"$error":"#N/A"}},{"$f":"CONCATENATE(VLOOKUP(B968,'School List'!$B$3:$D$291,3,FALSE),H968)","v":{"$error":"#N/A"}},{"$f":"IF('Line 1 Source'!B968<>\"\",'Line 1 Source'!B968,\"\")","v":"43"},{"$f":"IF('Line 1 Source'!C968<>\"\",'Line 1 Source'!C968,\"\")","v":"4"},{"$f":"IF('Line 1 Source'!D968<>\"\",'Line 1 Source'!D968,\"\")","v":"2285"},{"$f":"IF('Line 1 Source'!E968<>\"\",'Line 1 Source'!E968,\"\")","v":"0186"},{"$f":"IF('Line 1 Source'!F968<>\"\",'Line 1 Source'!F968,\"\")","v":0}]
[{"$f":"IF('Line 1 Source'!A969<>\"\",'Line 1 Source'!A969,\"\")","v":"2018"},"4342285",{"$f":"CONCATENATE(VLOOKUP(B969,'School List'!$B$3:$H$291,6,FALSE),H969)","v":{"$error":"#N/A"}},{"$f":"CONCATENATE(VLOOKUP(B969,'School List'!$B$3:$D$291,3,FALSE),H969)","v":{"$error":"#N/A"}},{"$f":"IF('Line 1 Source'!B969<>\"\",'Line 1 Source'!B969,\"\")","v":"43"},{"$f":"IF('Line 1 Source'!C969<>\"\",'Line 1 Source'!C969,\"\")","v":"4"},{"$f":"IF('Line 1 Source'!D969<>\"\",'Line 1 Source'!D969,\"\")","v":"2285"},{"$f":"IF('Line 1 Source'!E969<>\"\",'Line 1 Source'!E969,\"\")","v":"1214"},{"$f":"IF('Line 1 Source'!F969<>\"\",'Line 1 Source'!F969,\"\")","v":0}]
[{"$f":"IF('Line 1 Source'!A970<>\"\",'Line 1 Source'!A970,\"\")","v":"2018"},"4342285",{"$f":"CONCATENATE(VLOOKUP(B970,'School List'!$B$3:$H$291,6,FALSE),H970)","v":{"$error":"#N/A"}},{"$f":"CONCATENATE(VLOOKUP(B970,'School List'!$B$3:$D$291,3,FALSE),H970)","v":{"$error":"#N/A"}},{"$f":"IF('Line 1 Source'!B970<>\"\",'Line 1 Source'!B970,\"\")","v":"43"},{"$f":"IF('Line 1 Source'!C970<>\"\",'Line 1 Source'!C970,\"\")","v":"4"},{"$f":"IF('Line 1 Source'!D970<>\"\",'Line 1 Source'!D970,\"\")","v":"2285"},{"$f":"IF('Line 1 Source'!E970<>\"\",'Line 1 Source'!E970,\"\")","v":"6301"},{"$f":"IF('Line 1 Source'!F970<>\"\",'Line 1 Source'!F970,\"\")","v":0}]
[{"$f":"IF('Line 1 Source'!A971<>\"\",'Line 1 Source'!A971,\"\")","v":"2018"},"4342285",{"$f":"CONCATENATE(VLOOKUP(B971,'School List'!$B$3:$H$291,6,FALSE),H971)","v":{"$error":"#N/A"}},{"$f":"CONCATENATE(VLOOKUP(B971,'School List'!$B$3:$D$291,3,FALSE),H971)","v":{"$error":"#N/A"}},{"$f":"IF('Line 1 Source'!B971<>\"\",'Line 1 Source'!B971,\"\")","v":"43"},{"$f":"IF('Line 1 Source'!C971<>\"\",'Line 1 Source'!C971,\"\")","v":"4"},{"$f":"IF('Line 1 Source'!D971<>\"\",'Line 1 Source'!D971,\"\")","v":"2285"},{"$f":"IF('Line 1 Source'!E971<>\"\",'Line 1 Source'!E971,\"\")","v":"6302"},{"$f":"IF('Line 1 Source'!F971<>\"\",'Line 1 Source'!F971,\"\")","v":0}]
[{"$f":"IF('Line 1 Source'!A972<>\"\",'Line 1 Source'!A972,\"\")","v":"2018"},"4344345",{"$f":"CONCATENATE(VLOOKUP(B972,'School List'!$B$3:$H$291,6,FALSE),H972)","v":"43450061"},{"$f":"CONCATENATE(VLOOKUP(B972,'School List'!$B$3:$D$291,3,FALSE),H972)","v":"Kosciusko County - WAWASEE COMMUNITY SCHOOL CORPORATION0061"},{"$f":"IF('Line 1 Source'!B972<>\"\",'Line 1 Source'!B972,\"\")","v":"43"},{"$f":"IF('Line 1 Source'!C972<>\"\",'Line 1 Source'!C972,\"\")","v":"4"},{"$f":"IF('Line 1 Source'!D972<>\"\",'Line 1 Source'!D972,\"\")","v":"4345"},{"$f":"IF('Line 1 Source'!E972<>\"\",'Line 1 Source'!E972,\"\")","v":"0061"},{"$f":"IF('Line 1 Source'!F972<>\"\",'Line 1 Source'!F972,\"\")","v":1767650}]
[{"$f":"IF('Line 1 Source'!A973<>\"\",'Line 1 Source'!A973,\"\")","v":"2018"},"4344345",{"$f":"CONCATENATE(VLOOKUP(B973,'School List'!$B$3:$H$291,6,FALSE),H973)","v":"43450101"},{"$f":"CONCATENATE(VLOOKUP(B973,'School List'!$B$3:$D$291,3,FALSE),H973)","v":"Kosciusko County - WAWASEE COMMUNITY SCHOOL CORPORATION0101"},{"$f":"IF('Line 1 Source'!B973<>\"\",'Line 1 Source'!B973,\"\")","v":"43"},{"$f":"IF('Line 1 Source'!C973<>\"\",'Line 1 Source'!C973,\"\")","v":"4"},{"$f":"IF('Line 1 Source'!D973<>\"\",'Line 1 Source'!D973,\"\")","v":"4345"},{"$f":"IF('Line 1 Source'!E973<>\"\",'Line 1 Source'!E973,\"\")","v":"0101"},{"$f":"IF('Line 1 Source'!F973<>\"\",'Line 1 Source'!F973,\"\")","v":23837647}]
[{"$f":"IF('Line 1 Source'!A974<>\"\",'Line 1 Source'!A974,\"\")","v":"2018"},"4344345",{"$f":"CONCATENATE(VLOOKUP(B974,'School List'!$B$3:$H$291,6,FALSE),H974)","v":"43450180"},{"$f":"CONCATENATE(VLOOKUP(B974,'School List'!$B$3:$D$291,3,FALSE),H974)","v":"Kosciusko County - WAWASEE COMMUNITY SCHOOL CORPORATION0180"},{"$f":"IF('Line 1 Source'!B974<>\"\",'Line 1 Source'!B974,\"\")","v":"43"},{"$f":"IF('Line 1 Source'!C974<>\"\",'Line 1 Source'!C974,\"\")","v":"4"},{"$f":"IF('Line 1 Source'!D974<>\"\",'Line 1 Source'!D974,\"\")","v":"4345"},{"$f":"IF('Line 1 Source'!E974<>\"\",'Line 1 Source'!E974,\"\")","v":"0180"},{"$f":"IF('Line 1 Source'!F974<>\"\",'Line 1 Source'!F974,\"\")","v":6379862}]
[{"$f":"IF('Line 1 Source'!A975<>\"\",'Line 1 Source'!A975,\"\")","v":"2018"},"4344345",{"$f":"CONCATENATE(VLOOKUP(B975,'School List'!$B$3:$H$291,6,FALSE),H975)","v":"43451214"},{"$f":"CONCATENATE(VLOOKUP(B975,'School List'!$B$3:$D$291,3,FALSE),H975)","v":"Kosciusko County - WAWASEE COMMUNITY SCHOOL CORPORATION1214"},{"$f":"IF('Line 1 Source'!B975<>\"\",'Line 1 Source'!B975,\"\")","v":"43"},{"$f":"IF('Line 1 Source'!C975<>\"\",'Line 1 Source'!C975,\"\")","v":"4"},{"$f":"IF('Line 1 Source'!D975<>\"\",'Line 1 Source'!D975,\"\")","v":"4345"},{"$f":"IF('Line 1 Source'!E975<>\"\",'Line 1 Source'!E975,\"\")","v":"1214"},{"$f":"IF('Line 1 Source'!F975<>\"\",'Line 1 Source'!F975,\"\")","v":5148290}]
[{"$f":"IF('Line 1 Source'!A976<>\"\",'Line 1 Source'!A976,\"\")","v":"2018"},"4344345",{"$f":"CONCATENATE(VLOOKUP(B976,'School List'!$B$3:$H$291,6,FALSE),H976)","v":"43456301"},{"$f":"CONCATENATE(VLOOKUP(B976,'School List'!$B$3:$D$291,3,FALSE),H976)","v":"Kosciusko County - WAWASEE COMMUNITY SCHOOL CORPORATION6301"},{"$f":"IF('Line 1 Source'!B976<>\"\",'Line 1 Source'!B976,\"\")","v":"43"},{"$f":"IF('Line 1 Source'!C976<>\"\",'Line 1 Source'!C976,\"\")","v":"4"},{"$f":"IF('Line 1 Source'!D976<>\"\",'Line 1 Source'!D976,\"\")","v":"4345"},{"$f":"IF('Line 1 Source'!E976<>\"\",'Line 1 Source'!E976,\"\")","v":"6301"},{"$f":"IF('Line 1 Source'!F976<>\"\",'Line 1 Source'!F976,\"\")","v":3225074}]
[{"$f":"IF('Line 1 Source'!A977<>\"\",'Line 1 Source'!A977,\"\")","v":"2018"},"4344345",{"$f":"CONCATENATE(VLOOKUP(B977,'School List'!$B$3:$H$291,6,FALSE),H977)","v":"43456302"},{"$f":"CONCATENATE(VLOOKUP(B977,'School List'!$B$3:$D$291,3,FALSE),H977)","v":"Kosciusko County - WAWASEE COMMUNITY SCHOOL CORPORATION6302"},{"$f":"IF('Line 1 Source'!B977<>\"\",'Line 1 Source'!B977,\"\")","v":"43"},{"$f":"IF('Line 1 Source'!C977<>\"\",'Line 1 Source'!C977,\"\")","v":"4"},{"$f":"IF('Line 1 Source'!D977<>\"\",'Line 1 Source'!D977,\"\")","v":"4345"},{"$f":"IF('Line 1 Source'!E977<>\"\",'Line 1 Source'!E977,\"\")","v":"6302"},{"$f":"IF('Line 1 Source'!F977<>\"\",'Line 1 Source'!F977,\"\")","v":559900}]
[{"$f":"IF('Line 1 Source'!A978<>\"\",'Line 1 Source'!A978,\"\")","v":"2018"},"4344415",{"$f":"CONCATENATE(VLOOKUP(B978,'School List'!$B$3:$H$291,6,FALSE),H978)","v":"44150061"},{"$f":"CONCATENATE(VLOOKUP(B978,'School List'!$B$3:$D$291,3,FALSE),H978)","v":"Kosciusko County - WARSAW COMMUNITY SCHOOL CORPORATION0061"},{"$f":"IF('Line 1 Source'!B978<>\"\",'Line 1 Source'!B978,\"\")","v":"43"},{"$f":"IF('Line 1 Source'!C978<>\"\",'Line 1 Source'!C978,\"\")","v":"4"},{"$f":"IF('Line 1 Source'!D978<>\"\",'Line 1 Source'!D978,\"\")","v":"4415"},{"$f":"IF('Line 1 Source'!E978<>\"\",'Line 1 Source'!E978,\"\")","v":"0061"},{"$f":"IF('Line 1 Source'!F978<>\"\",'Line 1 Source'!F978,\"\")","v":1700000}]
[{"$f":"IF('Line 1 Source'!A979<>\"\",'Line 1 Source'!A979,\"\")","v":"2018"},"4344415",{"$f":"CONCATENATE(VLOOKUP(B979,'School List'!$B$3:$H$291,6,FALSE),H979)","v":"44150101"},{"$f":"CONCATENATE(VLOOKUP(B979,'School List'!$B$3:$D$291,3,FALSE),H979)","v":"Kosciusko County - WARSAW COMMUNITY SCHOOL CORPORATION0101"},{"$f":"IF('Line 1 Source'!B979<>\"\",'Line 1 Source'!B979,\"\")","v":"43"},{"$f":"IF('Line 1 Source'!C979<>\"\",'Line 1 Source'!C979,\"\")","v":"4"},{"$f":"IF('Line 1 Source'!D979<>\"\",'Line 1 Source'!D979,\"\")","v":"4415"},{"$f":"IF('Line 1 Source'!E979<>\"\",'Line 1 Source'!E979,\"\")","v":"0101"},{"$f":"IF('Line 1 Source'!F979<>\"\",'Line 1 Source'!F979,\"\")","v":51519392}]
[{"$f":"IF('Line 1 Source'!A980<>\"\",'Line 1 Source'!A980,\"\")","v":"2018"},"4344415",{"$f":"CONCATENATE(VLOOKUP(B980,'School List'!$B$3:$H$291,6,FALSE),H980)","v":"44150180"},{"$f":"CONCATENATE(VLOOKUP(B980,'School List'!$B$3:$D$291,3,FALSE),H980)","v":"Kosciusko County - WARSAW COMMUNITY SCHOOL CORPORATION0180"},{"$f":"IF('Line 1 Source'!B980<>\"\",'Line 1 Source'!B980,\"\")","v":"43"},{"$f":"IF('Line 1 Source'!C980<>\"\",'Line 1 Source'!C980,\"\")","v":"4"},{"$f":"IF('Line 1 Source'!D980<>\"\",'Line 1 Source'!D980,\"\")","v":"4415"},{"$f":"IF('Line 1 Source'!E980<>\"\",'Line 1 Source'!E980,\"\")","v":"0180"},{"$f":"IF('Line 1 Source'!F980<>\"\",'Line 1 Source'!F980,\"\")","v":8564470}]
[{"$f":"IF('Line 1 Source'!A981<>\"\",'Line 1 Source'!A981,\"\")","v":"2018"},"4344415",{"$f":"CONCATENATE(VLOOKUP(B981,'School List'!$B$3:$H$291,6,FALSE),H981)","v":"44150186"},{"$f":"CONCATENATE(VLOOKUP(B981,'School List'!$B$3:$D$291,3,FALSE),H981)","v":"Kosciusko County - WARSAW COMMUNITY SCHOOL CORPORATION0186"},{"$f":"IF('Line 1 Source'!B981<>\"\",'Line 1 Source'!B981,\"\")","v":"43"},{"$f":"IF('Line 1 Source'!C981<>\"\",'Line 1 Source'!C981,\"\")","v":"4"},{"$f":"IF('Line 1 Source'!D981<>\"\",'Line 1 Source'!D981,\"\")","v":"4415"},{"$f":"IF('Line 1 Source'!E981<>\"\",'Line 1 Source'!E981,\"\")","v":"0186"},{"$f":"IF('Line 1 Source'!F981<>\"\",'Line 1 Source'!F981,\"\")","v":463572}]
[{"$f":"IF('Line 1 Source'!A982<>\"\",'Line 1 Source'!A982,\"\")","v":"2018"},"4344415",{"$f":"CONCATENATE(VLOOKUP(B982,'School List'!$B$3:$H$291,6,FALSE),H982)","v":"44150287"},{"$f":"CONCATENATE(VLOOKUP(B982,'School List'!$B$3:$D$291,3,FALSE),H982)","v":"Kosciusko County - WARSAW COMMUNITY SCHOOL CORPORATION0287"},{"$f":"IF('Line 1 Source'!B982<>\"\",'Line 1 Source'!B982,\"\")","v":"43"},{"$f":"IF('Line 1 Source'!C982<>\"\",'Line 1 Source'!C982,\"\")","v":"4"},{"$f":"IF('Line 1 Source'!D982<>\"\",'Line 1 Source'!D982,\"\")","v":"4415"},{"$f":"IF('Line 1 Source'!E982<>\"\",'Line 1 Source'!E982,\"\")","v":"0287"},{"$f":"IF('Line 1 Source'!F982<>\"\",'Line 1 Source'!F982,\"\")","v":2878000}]
[{"$f":"IF('Line 1 Source'!A983<>\"\",'Line 1 Source'!A983,\"\")","v":"2018"},"4344415",{"$f":"CONCATENATE(VLOOKUP(B983,'School List'!$B$3:$H$291,6,FALSE),H983)","v":"44151214"},{"$f":"CONCATENATE(VLOOKUP(B983,'School List'!$B$3:$D$291,3,FALSE),H983)","v":"Kosciusko County - WARSAW COMMUNITY SCHOOL CORPORATION1214"},{"$f":"IF('Line 1 Source'!B983<>\"\",'Line 1 Source'!B983,\"\")","v":"43"},{"$f":"IF('Line 1 Source'!C983<>\"\",'Line 1 Source'!C983,\"\")","v":"4"},{"$f":"IF('Line 1 Source'!D983<>\"\",'Line 1 Source'!D983,\"\")","v":"4415"},{"$f":"IF('Line 1 Source'!E983<>\"\",'Line 1 Source'!E983,\"\")","v":"1214"},{"$f":"IF('Line 1 Source'!F983<>\"\",'Line 1 Source'!F983,\"\")","v":7705079}]
[{"$f":"IF('Line 1 Source'!A984<>\"\",'Line 1 Source'!A984,\"\")","v":"2018"},"4344415",{"$f":"CONCATENATE(VLOOKUP(B984,'School List'!$B$3:$H$291,6,FALSE),H984)","v":"44156301"},{"$f":"CONCATENATE(VLOOKUP(B984,'School List'!$B$3:$D$291,3,FALSE),H984)","v":"Kosciusko County - WARSAW COMMUNITY SCHOOL CORPORATION6301"},{"$f":"IF('Line 1 Source'!B984<>\"\",'Line 1 Source'!B984,\"\")","v":"43"},{"$f":"IF('Line 1 Source'!C984<>\"\",'Line 1 Source'!C984,\"\")","v":"4"},{"$f":"IF('Line 1 Source'!D984<>\"\",'Line 1 Source'!D984,\"\")","v":"4415"},{"$f":"IF('Line 1 Source'!E984<>\"\",'Line 1 Source'!E984,\"\")","v":"6301"},{"$f":"IF('Line 1 Source'!F984<>\"\",'Line 1 Source'!F984,\"\")","v":3781075}]
[{"$f":"IF('Line 1 Source'!A985<>\"\",'Line 1 Source'!A985,\"\")","v":"2018"},"4344415",{"$f":"CONCATENATE(VLOOKUP(B985,'School List'!$B$3:$H$291,6,FALSE),H985)","v":"44156302"},{"$f":"CONCATENATE(VLOOKUP(B985,'School List'!$B$3:$D$291,3,FALSE),H985)","v":"Kosciusko County - WARSAW COMMUNITY SCHOOL CORPORATION6302"},{"$f":"IF('Line 1 Source'!B985<>\"\",'Line 1 Source'!B985,\"\")","v":"43"},{"$f":"IF('Line 1 Source'!C985<>\"\",'Line 1 Source'!C985,\"\")","v":"4"},{"$f":"IF('Line 1 Source'!D985<>\"\",'Line 1 Source'!D985,\"\")","v":"4415"},{"$f":"IF('Line 1 Source'!E985<>\"\",'Line 1 Source'!E985,\"\")","v":"6302"},{"$f":"IF('Line 1 Source'!F985<>\"\",'Line 1 Source'!F985,\"\")","v":713598}]
[{"$f":"IF('Line 1 Source'!A986<>\"\",'Line 1 Source'!A986,\"\")","v":"2018"},"4344445",{"$f":"CONCATENATE(VLOOKUP(B986,'School List'!$B$3:$H$291,6,FALSE),H986)","v":"44450101"},{"$f":"CONCATENATE(VLOOKUP(B986,'School List'!$B$3:$D$291,3,FALSE),H986)","v":"Kosciusko County - TIPPECANOE VALLEY SCHOOL CORPORATION0101"},{"$f":"IF('Line 1 Source'!B986<>\"\",'Line 1 Source'!B986,\"\")","v":"43"},{"$f":"IF('Line 1 Source'!C986<>\"\",'Line 1 Source'!C986,\"\")","v":"4"},{"$f":"IF('Line 1 Source'!D986<>\"\",'Line 1 Source'!D986,\"\")","v":"4445"},{"$f":"IF('Line 1 Source'!E986<>\"\",'Line 1 Source'!E986,\"\")","v":"0101"},{"$f":"IF('Line 1 Source'!F986<>\"\",'Line 1 Source'!F986,\"\")","v":15513355}]
[{"$f":"IF('Line 1 Source'!A987<>\"\",'Line 1 Source'!A987,\"\")","v":"2018"},"4344445",{"$f":"CONCATENATE(VLOOKUP(B987,'School List'!$B$3:$H$291,6,FALSE),H987)","v":"44450180"},{"$f":"CONCATENATE(VLOOKUP(B987,'School List'!$B$3:$D$291,3,FALSE),H987)","v":"Kosciusko County - TIPPECANOE VALLEY SCHOOL CORPORATION0180"},{"$f":"IF('Line 1 Source'!B987<>\"\",'Line 1 Source'!B987,\"\")","v":"43"},{"$f":"IF('Line 1 Source'!C987<>\"\",'Line 1 Source'!C987,\"\")","v":"4"},{"$f":"IF('Line 1 Source'!D987<>\"\",'Line 1 Source'!D987,\"\")","v":"4445"},{"$f":"IF('Line 1 Source'!E987<>\"\",'Line 1 Source'!E987,\"\")","v":"0180"},{"$f":"IF('Line 1 Source'!F987<>\"\",'Line 1 Source'!F987,\"\")","v":2819325}]
[{"$f":"IF('Line 1 Source'!A988<>\"\",'Line 1 Source'!A988,\"\")","v":"2018"},"4344445",{"$f":"CONCATENATE(VLOOKUP(B988,'School List'!$B$3:$H$291,6,FALSE),H988)","v":"44451214"},{"$f":"CONCATENATE(VLOOKUP(B988,'School List'!$B$3:$D$291,3,FALSE),H988)","v":"Kosciusko County - TIPPECANOE VALLEY SCHOOL CORPORATION1214"},{"$f":"IF('Line 1 Source'!B988<>\"\",'Line 1 Source'!B988,\"\")","v":"43"},{"$f":"IF('Line 1 Source'!C988<>\"\",'Line 1 Source'!C988,\"\")","v":"4"},{"$f":"IF('Line 1 Source'!D988<>\"\",'Line 1 Source'!D988,\"\")","v":"4445"},{"$f":"IF('Line 1 Source'!E988<>\"\",'Line 1 Source'!E988,\"\")","v":"1214"},{"$f":"IF('Line 1 Source'!F988<>\"\",'Line 1 Source'!F988,\"\")","v":2531724}]
[{"$f":"IF('Line 1 Source'!A989<>\"\",'Line 1 Source'!A989,\"\")","v":"2018"},"4344445",{"$f":"CONCATENATE(VLOOKUP(B989,'School List'!$B$3:$H$291,6,FALSE),H989)","v":"44456301"},{"$f":"CONCATENATE(VLOOKUP(B989,'School List'!$B$3:$D$291,3,FALSE),H989)","v":"Kosciusko County - TIPPECANOE VALLEY SCHOOL CORPORATION6301"},{"$f":"IF('Line 1 Source'!B989<>\"\",'Line 1 Source'!B989,\"\")","v":"43"},{"$f":"IF('Line 1 Source'!C989<>\"\",'Line 1 Source'!C989,\"\")","v":"4"},{"$f":"IF('Line 1 Source'!D989<>\"\",'Line 1 Source'!D989,\"\")","v":"4445"},{"$f":"IF('Line 1 Source'!E989<>\"\",'Line 1 Source'!E989,\"\")","v":"6301"},{"$f":"IF('Line 1 Source'!F989<>\"\",'Line 1 Source'!F989,\"\")","v":1920580}]
[{"$f":"IF('Line 1 Source'!A990<>\"\",'Line 1 Source'!A990,\"\")","v":"2018"},"4344445",{"$f":"CONCATENATE(VLOOKUP(B990,'School List'!$B$3:$H$291,6,FALSE),H990)","v":"44456302"},{"$f":"CONCATENATE(VLOOKUP(B990,'School List'!$B$3:$D$291,3,FALSE),H990)","v":"Kosciusko County - TIPPECANOE VALLEY SCHOOL CORPORATION6302"},{"$f":"IF('Line 1 Source'!B990<>\"\",'Line 1 Source'!B990,\"\")","v":"43"},{"$f":"IF('Line 1 Source'!C990<>\"\",'Line 1 Source'!C990,\"\")","v":"4"},{"$f":"IF('Line 1 Source'!D990<>\"\",'Line 1 Source'!D990,\"\")","v":"4445"},{"$f":"IF('Line 1 Source'!E990<>\"\",'Line 1 Source'!E990,\"\")","v":"6302"},{"$f":"IF('Line 1 Source'!F990<>\"\",'Line 1 Source'!F990,\"\")","v":294000}]
[{"$f":"IF('Line 1 Source'!A991<>\"\",'Line 1 Source'!A991,\"\")","v":"2018"},"4344455",{"$f":"CONCATENATE(VLOOKUP(B991,'School List'!$B$3:$H$291,6,FALSE),H991)","v":"44550101"},{"$f":"CONCATENATE(VLOOKUP(B991,'School List'!$B$3:$D$291,3,FALSE),H991)","v":"Kosciusko County - WHITKO COMMUNITY SCHOOL CORPORATION0101"},{"$f":"IF('Line 1 Source'!B991<>\"\",'Line 1 Source'!B991,\"\")","v":"43"},{"$f":"IF('Line 1 Source'!C991<>\"\",'Line 1 Source'!C991,\"\")","v":"4"},{"$f":"IF('Line 1 Source'!D991<>\"\",'Line 1 Source'!D991,\"\")","v":"4455"},{"$f":"IF('Line 1 Source'!E991<>\"\",'Line 1 Source'!E991,\"\")","v":"0101"},{"$f":"IF('Line 1 Source'!F991<>\"\",'Line 1 Source'!F991,\"\")","v":10555250}]
[{"$f":"IF('Line 1 Source'!A992<>\"\",'Line 1 Source'!A992,\"\")","v":"2018"},"4344455",{"$f":"CONCATENATE(VLOOKUP(B992,'School List'!$B$3:$H$291,6,FALSE),H992)","v":"44550180"},{"$f":"CONCATENATE(VLOOKUP(B992,'School List'!$B$3:$D$291,3,FALSE),H992)","v":"Kosciusko County - WHITKO COMMUNITY SCHOOL CORPORATION0180"},{"$f":"IF('Line 1 Source'!B992<>\"\",'Line 1 Source'!B992,\"\")","v":"43"},{"$f":"IF('Line 1 Source'!C992<>\"\",'Line 1 Source'!C992,\"\")","v":"4"},{"$f":"IF('Line 1 Source'!D992<>\"\",'Line 1 Source'!D992,\"\")","v":"4455"},{"$f":"IF('Line 1 Source'!E992<>\"\",'Line 1 Source'!E992,\"\")","v":"0180"},{"$f":"IF('Line 1 Source'!F992<>\"\",'Line 1 Source'!F992,\"\")","v":3406379}]
[{"$f":"IF('Line 1 Source'!A993<>\"\",'Line 1 Source'!A993,\"\")","v":"2018"},"4344455",{"$f":"CONCATENATE(VLOOKUP(B993,'School List'!$B$3:$H$291,6,FALSE),H993)","v":"44551214"},{"$f":"CONCATENATE(VLOOKUP(B993,'School List'!$B$3:$D$291,3,FALSE),H993)","v":"Kosciusko County - WHITKO COMMUNITY SCHOOL CORPORATION1214"},{"$f":"IF('Line 1 Source'!B993<>\"\",'Line 1 Source'!B993,\"\")","v":"43"},{"$f":"IF('Line 1 Source'!C993<>\"\",'Line 1 Source'!C993,\"\")","v":"4"},{"$f":"IF('Line 1 Source'!D993<>\"\",'Line 1 Source'!D993,\"\")","v":"4455"},{"$f":"IF('Line 1 Source'!E993<>\"\",'Line 1 Source'!E993,\"\")","v":"1214"},{"$f":"IF('Line 1 Source'!F993<>\"\",'Line 1 Source'!F993,\"\")","v":2280360}]
[{"$f":"IF('Line 1 Source'!A994<>\"\",'Line 1 Source'!A994,\"\")","v":"2018"},"4344455",{"$f":"CONCATENATE(VLOOKUP(B994,'School List'!$B$3:$H$291,6,FALSE),H994)","v":"44556301"},{"$f":"CONCATENATE(VLOOKUP(B994,'School List'!$B$3:$D$291,3,FALSE),H994)","v":"Kosciusko County - WHITKO COMMUNITY SCHOOL CORPORATION6301"},{"$f":"IF('Line 1 Source'!B994<>\"\",'Line 1 Source'!B994,\"\")","v":"43"},{"$f":"IF('Line 1 Source'!C994<>\"\",'Line 1 Source'!C994,\"\")","v":"4"},{"$f":"IF('Line 1 Source'!D994<>\"\",'Line 1 Source'!D994,\"\")","v":"4455"},{"$f":"IF('Line 1 Source'!E994<>\"\",'Line 1 Source'!E994,\"\")","v":"6301"},{"$f":"IF('Line 1 Source'!F994<>\"\",'Line 1 Source'!F994,\"\")","v":1123675}]
[{"$f":"IF('Line 1 Source'!A995<>\"\",'Line 1 Source'!A995,\"\")","v":"2018"},"4344455",{"$f":"CONCATENATE(VLOOKUP(B995,'School List'!$B$3:$H$291,6,FALSE),H995)","v":"44556302"},{"$f":"CONCATENATE(VLOOKUP(B995,'School List'!$B$3:$D$291,3,FALSE),H995)","v":"Kosciusko County - WHITKO COMMUNITY SCHOOL CORPORATION6302"},{"$f":"IF('Line 1 Source'!B995<>\"\",'Line 1 Source'!B995,\"\")","v":"43"},{"$f":"IF('Line 1 Source'!C995<>\"\",'Line 1 Source'!C995,\"\")","v":"4"},{"$f":"IF('Line 1 Source'!D995<>\"\",'Line 1 Source'!D995,\"\")","v":"4455"},{"$f":"IF('Line 1 Source'!E995<>\"\",'Line 1 Source'!E995,\"\")","v":"6302"},{"$f":"IF('Line 1 Source'!F995<>\"\",'Line 1 Source'!F995,\"\")","v":335000}]
[{"$f":"IF('Line 1 Source'!A996<>\"\",'Line 1 Source'!A996,\"\")","v":"2018"},"4345495",{"$f":"CONCATENATE(VLOOKUP(B996,'School List'!$B$3:$H$291,6,FALSE),H996)","v":{"$error":"#N/A"}},{"$f":"CONCATENATE(VLOOKUP(B996,'School List'!$B$3:$D$291,3,FALSE),H996)","v":{"$error":"#N/A"}},{"$f":"IF('Line 1 Source'!B996<>\"\",'Line 1 Source'!B996,\"\")","v":"43"},{"$f":"IF('Line 1 Source'!C996<>\"\",'Line 1 Source'!C996,\"\")","v":"4"},{"$f":"IF('Line 1 Source'!D996<>\"\",'Line 1 Source'!D996,\"\")","v":"5495"},{"$f":"IF('Line 1 Source'!E996<>\"\",'Line 1 Source'!E996,\"\")","v":"0101"},{"$f":"IF('Line 1 Source'!F996<>\"\",'Line 1 Source'!F996,\"\")","v":0}]
[{"$f":"IF('Line 1 Source'!A997<>\"\",'Line 1 Source'!A997,\"\")","v":"2018"},"4345495",{"$f":"CONCATENATE(VLOOKUP(B997,'School List'!$B$3:$H$291,6,FALSE),H997)","v":{"$error":"#N/A"}},{"$f":"CONCATENATE(VLOOKUP(B997,'School List'!$B$3:$D$291,3,FALSE),H997)","v":{"$error":"#N/A"}},{"$f":"IF('Line 1 Source'!B997<>\"\",'Line 1 Source'!B997,\"\")","v":"43"},{"$f":"IF('Line 1 Source'!C997<>\"\",'Line 1 Source'!C997,\"\")","v":"4"},{"$f":"IF('Line 1 Source'!D997<>\"\",'Line 1 Source'!D997,\"\")","v":"5495"},{"$f":"IF('Line 1 Source'!E997<>\"\",'Line 1 Source'!E997,\"\")","v":"0180"},{"$f":"IF('Line 1 Source'!F997<>\"\",'Line 1 Source'!F997,\"\")","v":0}]
[{"$f":"IF('Line 1 Source'!A998<>\"\",'Line 1 Source'!A998,\"\")","v":"2018"},"4345495",{"$f":"CONCATENATE(VLOOKUP(B998,'School List'!$B$3:$H$291,6,FALSE),H998)","v":{"$error":"#N/A"}},{"$f":"CONCATENATE(VLOOKUP(B998,'School List'!$B$3:$D$291,3,FALSE),H998)","v":{"$error":"#N/A"}},{"$f":"IF('Line 1 Source'!B998<>\"\",'Line 1 Source'!B998,\"\")","v":"43"},{"$f":"IF('Line 1 Source'!C998<>\"\",'Line 1 Source'!C998,\"\")","v":"4"},{"$f":"IF('Line 1 Source'!D998<>\"\",'Line 1 Source'!D998,\"\")","v":"5495"},{"$f":"IF('Line 1 Source'!E998<>\"\",'Line 1 Source'!E998,\"\")","v":"1214"},{"$f":"IF('Line 1 Source'!F998<>\"\",'Line 1 Source'!F998,\"\")","v":0}]
[{"$f":"IF('Line 1 Source'!A999<>\"\",'Line 1 Source'!A999,\"\")","v":"2018"},"4345495",{"$f":"CONCATENATE(VLOOKUP(B999,'School List'!$B$3:$H$291,6,FALSE),H999)","v":{"$error":"#N/A"}},{"$f":"CONCATENATE(VLOOKUP(B999,'School List'!$B$3:$D$291,3,FALSE),H999)","v":{"$error":"#N/A"}},{"$f":"IF('Line 1 Source'!B999<>\"\",'Line 1 Source'!B999,\"\")","v":"43"},{"$f":"IF('Line 1 Source'!C999<>\"\",'Line 1 Source'!C999,\"\")","v":"4"},{"$f":"IF('Line 1 Source'!D999<>\"\",'Line 1 Source'!D999,\"\")","v":"5495"},{"$f":"IF('Line 1 Source'!E999<>\"\",'Line 1 Source'!E999,\"\")","v":"6301"},{"$f":"IF('Line 1 Source'!F999<>\"\",'Line 1 Source'!F999,\"\")","v":0}]
[{"$f":"IF('Line 1 Source'!A1000<>\"\",'Line 1 Source'!A1000,\"\")","v":"2018"},"4345495",{"$f":"CONCATENATE(VLOOKUP(B1000,'School List'!$B$3:$H$291,6,FALSE),H1000)","v":{"$error":"#N/A"}},{"$f":"CONCATENATE(VLOOKUP(B1000,'School List'!$B$3:$D$291,3,FALSE),H1000)","v":{"$error":"#N/A"}},{"$f":"IF('Line 1 Source'!B1000<>\"\",'Line 1 Source'!B1000,\"\")","v":"43"},{"$f":"IF('Line 1 Source'!C1000<>\"\",'Line 1 Source'!C1000,\"\")","v":"4"},{"$f":"IF('Line 1 Source'!D1000<>\"\",'Line 1 Source'!D1000,\"\")","v":"5495"},{"$f":"IF('Line 1 Source'!E1000<>\"\",'Line 1 Source'!E1000,\"\")","v":"6302"},{"$f":"IF('Line 1 Source'!F1000<>\"\",'Line 1 Source'!F1000,\"\")","v":0}]
[{"$f":"IF('Line 1 Source'!A1001<>\"\",'Line 1 Source'!A1001,\"\")","v":"2018"},"4444515",{"$f":"CONCATENATE(VLOOKUP(B1001,'School List'!$B$3:$H$291,6,FALSE),H1001)","v":{"$error":"#N/A"}},{"$f":"CONCATENATE(VLOOKUP(B1001,'School List'!$B$3:$D$291,3,FALSE),H1001)","v":{"$error":"#N/A"}},{"$f":"IF('Line 1 Source'!B1001<>\"\",'Line 1 Source'!B1001,\"\")","v":"44"},{"$f":"IF('Line 1 Source'!C1001<>\"\",'Line 1 Source'!C1001,\"\")","v":"4"},{"$f":"IF('Line 1 Source'!D1001<>\"\",'Line 1 Source'!D1001,\"\")","v":"4515"},{"$f":"IF('Line 1 Source'!E1001<>\"\",'Line 1 Source'!E1001,\"\")","v":"0061"},{"$f":"IF('Line 1 Source'!F1001<>\"\",'Line 1 Source'!F1001,\"\")","v":0}]
[{"$f":"IF('Line 1 Source'!A1002<>\"\",'Line 1 Source'!A1002,\"\")","v":"2018"},"4444515",{"$f":"CONCATENATE(VLOOKUP(B1002,'School List'!$B$3:$H$291,6,FALSE),H1002)","v":{"$error":"#N/A"}},{"$f":"CONCATENATE(VLOOKUP(B1002,'School List'!$B$3:$D$291,3,FALSE),H1002)","v":{"$error":"#N/A"}},{"$f":"IF('Line 1 Source'!B1002<>\"\",'Line 1 Source'!B1002,\"\")","v":"44"},{"$f":"IF('Line 1 Source'!C1002<>\"\",'Line 1 Source'!C1002,\"\")","v":"4"},{"$f":"IF('Line 1 Source'!D1002<>\"\",'Line 1 Source'!D1002,\"\")","v":"4515"},{"$f":"IF('Line 1 Source'!E1002<>\"\",'Line 1 Source'!E1002,\"\")","v":"0101"},{"$f":"IF('Line 1 Source'!F1002<>\"\",'Line 1 Source'!F1002,\"\")","v":0}]
[{"$f":"IF('Line 1 Source'!A1003<>\"\",'Line 1 Source'!A1003,\"\")","v":"2018"},"4444515",{"$f":"CONCATENATE(VLOOKUP(B1003,'School List'!$B$3:$H$291,6,FALSE),H1003)","v":{"$error":"#N/A"}},{"$f":"CONCATENATE(VLOOKUP(B1003,'School List'!$B$3:$D$291,3,FALSE),H1003)","v":{"$error":"#N/A"}},{"$f":"IF('Line 1 Source'!B1003<>\"\",'Line 1 Source'!B1003,\"\")","v":"44"},{"$f":"IF('Line 1 Source'!C1003<>\"\",'Line 1 Source'!C1003,\"\")","v":"4"},{"$f":"IF('Line 1 Source'!D1003<>\"\",'Line 1 Source'!D1003,\"\")","v":"4515"},{"$f":"IF('Line 1 Source'!E1003<>\"\",'Line 1 Source'!E1003,\"\")","v":"0180"},{"$f":"IF('Line 1 Source'!F1003<>\"\",'Line 1 Source'!F1003,\"\")","v":0}]
[{"$f":"IF('Line 1 Source'!A1004<>\"\",'Line 1 Source'!A1004,\"\")","v":"2018"},"4444515",{"$f":"CONCATENATE(VLOOKUP(B1004,'School List'!$B$3:$H$291,6,FALSE),H1004)","v":{"$error":"#N/A"}},{"$f":"CONCATENATE(VLOOKUP(B1004,'School List'!$B$3:$D$291,3,FALSE),H1004)","v":{"$error":"#N/A"}},{"$f":"IF('Line 1 Source'!B1004<>\"\",'Line 1 Source'!B1004,\"\")","v":"44"},{"$f":"IF('Line 1 Source'!C1004<>\"\",'Line 1 Source'!C1004,\"\")","v":"4"},{"$f":"IF('Line 1 Source'!D1004<>\"\",'Line 1 Source'!D1004,\"\")","v":"4515"},{"$f":"IF('Line 1 Source'!E1004<>\"\",'Line 1 Source'!E1004,\"\")","v":"1214"},{"$f":"IF('Line 1 Source'!F1004<>\"\",'Line 1 Source'!F1004,\"\")","v":0}]
[{"$f":"IF('Line 1 Source'!A1005<>\"\",'Line 1 Source'!A1005,\"\")","v":"2018"},"4444515",{"$f":"CONCATENATE(VLOOKUP(B1005,'School List'!$B$3:$H$291,6,FALSE),H1005)","v":{"$error":"#N/A"}},{"$f":"CONCATENATE(VLOOKUP(B1005,'School List'!$B$3:$D$291,3,FALSE),H1005)","v":{"$error":"#N/A"}},{"$f":"IF('Line 1 Source'!B1005<>\"\",'Line 1 Source'!B1005,\"\")","v":"44"},{"$f":"IF('Line 1 Source'!C1005<>\"\",'Line 1 Source'!C1005,\"\")","v":"4"},{"$f":"IF('Line 1 Source'!D1005<>\"\",'Line 1 Source'!D1005,\"\")","v":"4515"},{"$f":"IF('Line 1 Source'!E1005<>\"\",'Line 1 Source'!E1005,\"\")","v":"6301"},{"$f":"IF('Line 1 Source'!F1005<>\"\",'Line 1 Source'!F1005,\"\")","v":0}]
[{"$f":"IF('Line 1 Source'!A1006<>\"\",'Line 1 Source'!A1006,\"\")","v":"2018"},"4444515",{"$f":"CONCATENATE(VLOOKUP(B1006,'School List'!$B$3:$H$291,6,FALSE),H1006)","v":{"$error":"#N/A"}},{"$f":"CONCATENATE(VLOOKUP(B1006,'School List'!$B$3:$D$291,3,FALSE),H1006)","v":{"$error":"#N/A"}},{"$f":"IF('Line 1 Source'!B1006<>\"\",'Line 1 Source'!B1006,\"\")","v":"44"},{"$f":"IF('Line 1 Source'!C1006<>\"\",'Line 1 Source'!C1006,\"\")","v":"4"},{"$f":"IF('Line 1 Source'!D1006<>\"\",'Line 1 Source'!D1006,\"\")","v":"4515"},{"$f":"IF('Line 1 Source'!E1006<>\"\",'Line 1 Source'!E1006,\"\")","v":"6302"},{"$f":"IF('Line 1 Source'!F1006<>\"\",'Line 1 Source'!F1006,\"\")","v":0}]
[{"$f":"IF('Line 1 Source'!A1007<>\"\",'Line 1 Source'!A1007,\"\")","v":"2018"},"4444525",{"$f":"CONCATENATE(VLOOKUP(B1007,'School List'!$B$3:$H$291,6,FALSE),H1007)","v":"45250022"},{"$f":"CONCATENATE(VLOOKUP(B1007,'School List'!$B$3:$D$291,3,FALSE),H1007)","v":"LaGrange County - WESTVIEW SCHOOL CORPORATION0022"},{"$f":"IF('Line 1 Source'!B1007<>\"\",'Line 1 Source'!B1007,\"\")","v":"44"},{"$f":"IF('Line 1 Source'!C1007<>\"\",'Line 1 Source'!C1007,\"\")","v":"4"},{"$f":"IF('Line 1 Source'!D1007<>\"\",'Line 1 Source'!D1007,\"\")","v":"4525"},{"$f":"IF('Line 1 Source'!E1007<>\"\",'Line 1 Source'!E1007,\"\")","v":"0022"},{"$f":"IF('Line 1 Source'!F1007<>\"\",'Line 1 Source'!F1007,\"\")","v":2000000}]
[{"$f":"IF('Line 1 Source'!A1008<>\"\",'Line 1 Source'!A1008,\"\")","v":"2018"},"4444525",{"$f":"CONCATENATE(VLOOKUP(B1008,'School List'!$B$3:$H$291,6,FALSE),H1008)","v":"45250061"},{"$f":"CONCATENATE(VLOOKUP(B1008,'School List'!$B$3:$D$291,3,FALSE),H1008)","v":"LaGrange County - WESTVIEW SCHOOL CORPORATION0061"},{"$f":"IF('Line 1 Source'!B1008<>\"\",'Line 1 Source'!B1008,\"\")","v":"44"},{"$f":"IF('Line 1 Source'!C1008<>\"\",'Line 1 Source'!C1008,\"\")","v":"4"},{"$f":"IF('Line 1 Source'!D1008<>\"\",'Line 1 Source'!D1008,\"\")","v":"4525"},{"$f":"IF('Line 1 Source'!E1008<>\"\",'Line 1 Source'!E1008,\"\")","v":"0061"},{"$f":"IF('Line 1 Source'!F1008<>\"\",'Line 1 Source'!F1008,\"\")","v":480161}]
[{"$f":"IF('Line 1 Source'!A1009<>\"\",'Line 1 Source'!A1009,\"\")","v":"2018"},"4444525",{"$f":"CONCATENATE(VLOOKUP(B1009,'School List'!$B$3:$H$291,6,FALSE),H1009)","v":"45250101"},{"$f":"CONCATENATE(VLOOKUP(B1009,'School List'!$B$3:$D$291,3,FALSE),H1009)","v":"LaGrange County - WESTVIEW SCHOOL CORPORATION0101"},{"$f":"IF('Line 1 Source'!B1009<>\"\",'Line 1 Source'!B1009,\"\")","v":"44"},{"$f":"IF('Line 1 Source'!C1009<>\"\",'Line 1 Source'!C1009,\"\")","v":"4"},{"$f":"IF('Line 1 Source'!D1009<>\"\",'Line 1 Source'!D1009,\"\")","v":"4525"},{"$f":"IF('Line 1 Source'!E1009<>\"\",'Line 1 Source'!E1009,\"\")","v":"0101"},{"$f":"IF('Line 1 Source'!F1009<>\"\",'Line 1 Source'!F1009,\"\")","v":15450000}]
[{"$f":"IF('Line 1 Source'!A1010<>\"\",'Line 1 Source'!A1010,\"\")","v":"2018"},"4444525",{"$f":"CONCATENATE(VLOOKUP(B1010,'School List'!$B$3:$H$291,6,FALSE),H1010)","v":"45250180"},{"$f":"CONCATENATE(VLOOKUP(B1010,'School List'!$B$3:$D$291,3,FALSE),H1010)","v":"LaGrange County - WESTVIEW SCHOOL CORPORATION0180"},{"$f":"IF('Line 1 Source'!B1010<>\"\",'Line 1 Source'!B1010,\"\")","v":"44"},{"$f":"IF('Line 1 Source'!C1010<>\"\",'Line 1 Source'!C1010,\"\")","v":"4"},{"$f":"IF('Line 1 Source'!D1010<>\"\",'Line 1 Source'!D1010,\"\")","v":"4525"},{"$f":"IF('Line 1 Source'!E1010<>\"\",'Line 1 Source'!E1010,\"\")","v":"0180"},{"$f":"IF('Line 1 Source'!F1010<>\"\",'Line 1 Source'!F1010,\"\")","v":3035597}]
[{"$f":"IF('Line 1 Source'!A1011<>\"\",'Line 1 Source'!A1011,\"\")","v":"2018"},"4444525",{"$f":"CONCATENATE(VLOOKUP(B1011,'School List'!$B$3:$H$291,6,FALSE),H1011)","v":"45250186"},{"$f":"CONCATENATE(VLOOKUP(B1011,'School List'!$B$3:$D$291,3,FALSE),H1011)","v":"LaGrange County - WESTVIEW SCHOOL CORPORATION0186"},{"$f":"IF('Line 1 Source'!B1011<>\"\",'Line 1 Source'!B1011,\"\")","v":"44"},{"$f":"IF('Line 1 Source'!C1011<>\"\",'Line 1 Source'!C1011,\"\")","v":"4"},{"$f":"IF('Line 1 Source'!D1011<>\"\",'Line 1 Source'!D1011,\"\")","v":"4525"},{"$f":"IF('Line 1 Source'!E1011<>\"\",'Line 1 Source'!E1011,\"\")","v":"0186"},{"$f":"IF('Line 1 Source'!F1011<>\"\",'Line 1 Source'!F1011,\"\")","v":284242}]
[{"$f":"IF('Line 1 Source'!A1012<>\"\",'Line 1 Source'!A1012,\"\")","v":"2018"},"4444525",{"$f":"CONCATENATE(VLOOKUP(B1012,'School List'!$B$3:$H$291,6,FALSE),H1012)","v":"45251214"},{"$f":"CONCATENATE(VLOOKUP(B1012,'School List'!$B$3:$D$291,3,FALSE),H1012)","v":"LaGrange County - WESTVIEW SCHOOL CORPORATION1214"},{"$f":"IF('Line 1 Source'!B1012<>\"\",'Line 1 Source'!B1012,\"\")","v":"44"},{"$f":"IF('Line 1 Source'!C1012<>\"\",'Line 1 Source'!C1012,\"\")","v":"4"},{"$f":"IF('Line 1 Source'!D1012<>\"\",'Line 1 Source'!D1012,\"\")","v":"4525"},{"$f":"IF('Line 1 Source'!E1012<>\"\",'Line 1 Source'!E1012,\"\")","v":"1214"},{"$f":"IF('Line 1 Source'!F1012<>\"\",'Line 1 Source'!F1012,\"\")","v":2315760}]
[{"$f":"IF('Line 1 Source'!A1013<>\"\",'Line 1 Source'!A1013,\"\")","v":"2018"},"4444525",{"$f":"CONCATENATE(VLOOKUP(B1013,'School List'!$B$3:$H$291,6,FALSE),H1013)","v":"45256301"},{"$f":"CONCATENATE(VLOOKUP(B1013,'School List'!$B$3:$D$291,3,FALSE),H1013)","v":"LaGrange County - WESTVIEW SCHOOL CORPORATION6301"},{"$f":"IF('Line 1 Source'!B1013<>\"\",'Line 1 Source'!B1013,\"\")","v":"44"},{"$f":"IF('Line 1 Source'!C1013<>\"\",'Line 1 Source'!C1013,\"\")","v":"4"},{"$f":"IF('Line 1 Source'!D1013<>\"\",'Line 1 Source'!D1013,\"\")","v":"4525"},{"$f":"IF('Line 1 Source'!E1013<>\"\",'Line 1 Source'!E1013,\"\")","v":"6301"},{"$f":"IF('Line 1 Source'!F1013<>\"\",'Line 1 Source'!F1013,\"\")","v":1600000}]
[{"$f":"IF('Line 1 Source'!A1014<>\"\",'Line 1 Source'!A1014,\"\")","v":"2018"},"4444525",{"$f":"CONCATENATE(VLOOKUP(B1014,'School List'!$B$3:$H$291,6,FALSE),H1014)","v":"45256302"},{"$f":"CONCATENATE(VLOOKUP(B1014,'School List'!$B$3:$D$291,3,FALSE),H1014)","v":"LaGrange County - WESTVIEW SCHOOL CORPORATION6302"},{"$f":"IF('Line 1 Source'!B1014<>\"\",'Line 1 Source'!B1014,\"\")","v":"44"},{"$f":"IF('Line 1 Source'!C1014<>\"\",'Line 1 Source'!C1014,\"\")","v":"4"},{"$f":"IF('Line 1 Source'!D1014<>\"\",'Line 1 Source'!D1014,\"\")","v":"4525"},{"$f":"IF('Line 1 Source'!E1014<>\"\",'Line 1 Source'!E1014,\"\")","v":"6302"},{"$f":"IF('Line 1 Source'!F1014<>\"\",'Line 1 Source'!F1014,\"\")","v":450000}]
[{"$f":"IF('Line 1 Source'!A1015<>\"\",'Line 1 Source'!A1015,\"\")","v":"2018"},"4444535",{"$f":"CONCATENATE(VLOOKUP(B1015,'School List'!$B$3:$H$291,6,FALSE),H1015)","v":"45350061"},{"$f":"CONCATENATE(VLOOKUP(B1015,'School List'!$B$3:$D$291,3,FALSE),H1015)","v":"LaGrange County - LAKELAND SCHOOL CORPORATION0061"},{"$f":"IF('Line 1 Source'!B1015<>\"\",'Line 1 Source'!B1015,\"\")","v":"44"},{"$f":"IF('Line 1 Source'!C1015<>\"\",'Line 1 Source'!C1015,\"\")","v":"4"},{"$f":"IF('Line 1 Source'!D1015<>\"\",'Line 1 Source'!D1015,\"\")","v":"4535"},{"$f":"IF('Line 1 Source'!E1015<>\"\",'Line 1 Source'!E1015,\"\")","v":"0061"},{"$f":"IF('Line 1 Source'!F1015<>\"\",'Line 1 Source'!F1015,\"\")","v":460000}]
[{"$f":"IF('Line 1 Source'!A1016<>\"\",'Line 1 Source'!A1016,\"\")","v":"2018"},"4444535",{"$f":"CONCATENATE(VLOOKUP(B1016,'School List'!$B$3:$H$291,6,FALSE),H1016)","v":"45350101"},{"$f":"CONCATENATE(VLOOKUP(B1016,'School List'!$B$3:$D$291,3,FALSE),H1016)","v":"LaGrange County - LAKELAND SCHOOL CORPORATION0101"},{"$f":"IF('Line 1 Source'!B1016<>\"\",'Line 1 Source'!B1016,\"\")","v":"44"},{"$f":"IF('Line 1 Source'!C1016<>\"\",'Line 1 Source'!C1016,\"\")","v":"4"},{"$f":"IF('Line 1 Source'!D1016<>\"\",'Line 1 Source'!D1016,\"\")","v":"4535"},{"$f":"IF('Line 1 Source'!E1016<>\"\",'Line 1 Source'!E1016,\"\")","v":"0101"},{"$f":"IF('Line 1 Source'!F1016<>\"\",'Line 1 Source'!F1016,\"\")","v":14213726}]
[{"$f":"IF('Line 1 Source'!A1017<>\"\",'Line 1 Source'!A1017,\"\")","v":"2018"},"4444535",{"$f":"CONCATENATE(VLOOKUP(B1017,'School List'!$B$3:$H$291,6,FALSE),H1017)","v":"45350180"},{"$f":"CONCATENATE(VLOOKUP(B1017,'School List'!$B$3:$D$291,3,FALSE),H1017)","v":"LaGrange County - LAKELAND SCHOOL CORPORATION0180"},{"$f":"IF('Line 1 Source'!B1017<>\"\",'Line 1 Source'!B1017,\"\")","v":"44"},{"$f":"IF('Line 1 Source'!C1017<>\"\",'Line 1 Source'!C1017,\"\")","v":"4"},{"$f":"IF('Line 1 Source'!D1017<>\"\",'Line 1 Source'!D1017,\"\")","v":"4535"},{"$f":"IF('Line 1 Source'!E1017<>\"\",'Line 1 Source'!E1017,\"\")","v":"0180"},{"$f":"IF('Line 1 Source'!F1017<>\"\",'Line 1 Source'!F1017,\"\")","v":1161585}]
[{"$f":"IF('Line 1 Source'!A1018<>\"\",'Line 1 Source'!A1018,\"\")","v":"2018"},"4444535",{"$f":"CONCATENATE(VLOOKUP(B1018,'School List'!$B$3:$H$291,6,FALSE),H1018)","v":"45351214"},{"$f":"CONCATENATE(VLOOKUP(B1018,'School List'!$B$3:$D$291,3,FALSE),H1018)","v":"LaGrange County - LAKELAND SCHOOL CORPORATION1214"},{"$f":"IF('Line 1 Source'!B1018<>\"\",'Line 1 Source'!B1018,\"\")","v":"44"},{"$f":"IF('Line 1 Source'!C1018<>\"\",'Line 1 Source'!C1018,\"\")","v":"4"},{"$f":"IF('Line 1 Source'!D1018<>\"\",'Line 1 Source'!D1018,\"\")","v":"4535"},{"$f":"IF('Line 1 Source'!E1018<>\"\",'Line 1 Source'!E1018,\"\")","v":"1214"},{"$f":"IF('Line 1 Source'!F1018<>\"\",'Line 1 Source'!F1018,\"\")","v":2453637}]
[{"$f":"IF('Line 1 Source'!A1019<>\"\",'Line 1 Source'!A1019,\"\")","v":"2018"},"4444535",{"$f":"CONCATENATE(VLOOKUP(B1019,'School List'!$B$3:$H$291,6,FALSE),H1019)","v":"45356301"},{"$f":"CONCATENATE(VLOOKUP(B1019,'School List'!$B$3:$D$291,3,FALSE),H1019)","v":"LaGrange County - LAKELAND SCHOOL CORPORATION6301"},{"$f":"IF('Line 1 Source'!B1019<>\"\",'Line 1 Source'!B1019,\"\")","v":"44"},{"$f":"IF('Line 1 Source'!C1019<>\"\",'Line 1 Source'!C1019,\"\")","v":"4"},{"$f":"IF('Line 1 Source'!D1019<>\"\",'Line 1 Source'!D1019,\"\")","v":"4535"},{"$f":"IF('Line 1 Source'!E1019<>\"\",'Line 1 Source'!E1019,\"\")","v":"6301"},{"$f":"IF('Line 1 Source'!F1019<>\"\",'Line 1 Source'!F1019,\"\")","v":2056189}]
[{"$f":"IF('Line 1 Source'!A1020<>\"\",'Line 1 Source'!A1020,\"\")","v":"2018"},"4444535",{"$f":"CONCATENATE(VLOOKUP(B1020,'School List'!$B$3:$H$291,6,FALSE),H1020)","v":"45356302"},{"$f":"CONCATENATE(VLOOKUP(B1020,'School List'!$B$3:$D$291,3,FALSE),H1020)","v":"LaGrange County - LAKELAND SCHOOL CORPORATION6302"},{"$f":"IF('Line 1 Source'!B1020<>\"\",'Line 1 Source'!B1020,\"\")","v":"44"},{"$f":"IF('Line 1 Source'!C1020<>\"\",'Line 1 Source'!C1020,\"\")","v":"4"},{"$f":"IF('Line 1 Source'!D1020<>\"\",'Line 1 Source'!D1020,\"\")","v":"4535"},{"$f":"IF('Line 1 Source'!E1020<>\"\",'Line 1 Source'!E1020,\"\")","v":"6302"},{"$f":"IF('Line 1 Source'!F1020<>\"\",'Line 1 Source'!F1020,\"\")","v":416475}]
[{"$f":"IF('Line 1 Source'!A1021<>\"\",'Line 1 Source'!A1021,\"\")","v":"2018"},"4544580",{"$f":"CONCATENATE(VLOOKUP(B1021,'School List'!$B$3:$H$291,6,FALSE),H1021)","v":"45800022"},{"$f":"CONCATENATE(VLOOKUP(B1021,'School List'!$B$3:$D$291,3,FALSE),H1021)","v":"Lake County - HANOVER COMMUNITY SCHOOL CORPORATION0022"},{"$f":"IF('Line 1 Source'!B1021<>\"\",'Line 1 Source'!B1021,\"\")","v":"45"},{"$f":"IF('Line 1 Source'!C1021<>\"\",'Line 1 Source'!C1021,\"\")","v":"4"},{"$f":"IF('Line 1 Source'!D1021<>\"\",'Line 1 Source'!D1021,\"\")","v":"4580"},{"$f":"IF('Line 1 Source'!E1021<>\"\",'Line 1 Source'!E1021,\"\")","v":"0022"},{"$f":"IF('Line 1 Source'!F1021<>\"\",'Line 1 Source'!F1021,\"\")","v":2100000}]
[{"$f":"IF('Line 1 Source'!A1022<>\"\",'Line 1 Source'!A1022,\"\")","v":"2018"},"4544580",{"$f":"CONCATENATE(VLOOKUP(B1022,'School List'!$B$3:$H$291,6,FALSE),H1022)","v":"45800061"},{"$f":"CONCATENATE(VLOOKUP(B1022,'School List'!$B$3:$D$291,3,FALSE),H1022)","v":"Lake County - HANOVER COMMUNITY SCHOOL CORPORATION0061"},{"$f":"IF('Line 1 Source'!B1022<>\"\",'Line 1 Source'!B1022,\"\")","v":"45"},{"$f":"IF('Line 1 Source'!C1022<>\"\",'Line 1 Source'!C1022,\"\")","v":"4"},{"$f":"IF('Line 1 Source'!D1022<>\"\",'Line 1 Source'!D1022,\"\")","v":"4580"},{"$f":"IF('Line 1 Source'!E1022<>\"\",'Line 1 Source'!E1022,\"\")","v":"0061"},{"$f":"IF('Line 1 Source'!F1022<>\"\",'Line 1 Source'!F1022,\"\")","v":1000000}]
[{"$f":"IF('Line 1 Source'!A1023<>\"\",'Line 1 Source'!A1023,\"\")","v":"2018"},"4544580",{"$f":"CONCATENATE(VLOOKUP(B1023,'School List'!$B$3:$H$291,6,FALSE),H1023)","v":"45800101"},{"$f":"CONCATENATE(VLOOKUP(B1023,'School List'!$B$3:$D$291,3,FALSE),H1023)","v":"Lake County - HANOVER COMMUNITY SCHOOL CORPORATION0101"},{"$f":"IF('Line 1 Source'!B1023<>\"\",'Line 1 Source'!B1023,\"\")","v":"45"},{"$f":"IF('Line 1 Source'!C1023<>\"\",'Line 1 Source'!C1023,\"\")","v":"4"},{"$f":"IF('Line 1 Source'!D1023<>\"\",'Line 1 Source'!D1023,\"\")","v":"4580"},{"$f":"IF('Line 1 Source'!E1023<>\"\",'Line 1 Source'!E1023,\"\")","v":"0101"},{"$f":"IF('Line 1 Source'!F1023<>\"\",'Line 1 Source'!F1023,\"\")","v":14000000}]
[{"$f":"IF('Line 1 Source'!A1024<>\"\",'Line 1 Source'!A1024,\"\")","v":"2018"},"4544580",{"$f":"CONCATENATE(VLOOKUP(B1024,'School List'!$B$3:$H$291,6,FALSE),H1024)","v":"45800180"},{"$f":"CONCATENATE(VLOOKUP(B1024,'School List'!$B$3:$D$291,3,FALSE),H1024)","v":"Lake County - HANOVER COMMUNITY SCHOOL CORPORATION0180"},{"$f":"IF('Line 1 Source'!B1024<>\"\",'Line 1 Source'!B1024,\"\")","v":"45"},{"$f":"IF('Line 1 Source'!C1024<>\"\",'Line 1 Source'!C1024,\"\")","v":"4"},{"$f":"IF('Line 1 Source'!D1024<>\"\",'Line 1 Source'!D1024,\"\")","v":"4580"},{"$f":"IF('Line 1 Source'!E1024<>\"\",'Line 1 Source'!E1024,\"\")","v":"0180"},{"$f":"IF('Line 1 Source'!F1024<>\"\",'Line 1 Source'!F1024,\"\")","v":4018938}]
[{"$f":"IF('Line 1 Source'!A1025<>\"\",'Line 1 Source'!A1025,\"\")","v":"2018"},"4544580",{"$f":"CONCATENATE(VLOOKUP(B1025,'School List'!$B$3:$H$291,6,FALSE),H1025)","v":"45800188"},{"$f":"CONCATENATE(VLOOKUP(B1025,'School List'!$B$3:$D$291,3,FALSE),H1025)","v":"Lake County - HANOVER COMMUNITY SCHOOL CORPORATION0188"},{"$f":"IF('Line 1 Source'!B1025<>\"\",'Line 1 Source'!B1025,\"\")","v":"45"},{"$f":"IF('Line 1 Source'!C1025<>\"\",'Line 1 Source'!C1025,\"\")","v":"4"},{"$f":"IF('Line 1 Source'!D1025<>\"\",'Line 1 Source'!D1025,\"\")","v":"4580"},{"$f":"IF('Line 1 Source'!E1025<>\"\",'Line 1 Source'!E1025,\"\")","v":"0188"},{"$f":"IF('Line 1 Source'!F1025<>\"\",'Line 1 Source'!F1025,\"\")","v":3340043}]
[{"$f":"IF('Line 1 Source'!A1026<>\"\",'Line 1 Source'!A1026,\"\")","v":"2018"},"4544580",{"$f":"CONCATENATE(VLOOKUP(B1026,'School List'!$B$3:$H$291,6,FALSE),H1026)","v":"45801214"},{"$f":"CONCATENATE(VLOOKUP(B1026,'School List'!$B$3:$D$291,3,FALSE),H1026)","v":"Lake County - HANOVER COMMUNITY SCHOOL CORPORATION1214"},{"$f":"IF('Line 1 Source'!B1026<>\"\",'Line 1 Source'!B1026,\"\")","v":"45"},{"$f":"IF('Line 1 Source'!C1026<>\"\",'Line 1 Source'!C1026,\"\")","v":"4"},{"$f":"IF('Line 1 Source'!D1026<>\"\",'Line 1 Source'!D1026,\"\")","v":"4580"},{"$f":"IF('Line 1 Source'!E1026<>\"\",'Line 1 Source'!E1026,\"\")","v":"1214"},{"$f":"IF('Line 1 Source'!F1026<>\"\",'Line 1 Source'!F1026,\"\")","v":958039}]
[{"$f":"IF('Line 1 Source'!A1027<>\"\",'Line 1 Source'!A1027,\"\")","v":"2018"},{"$f":"CONCATENATE(E1027,F1027,G1027)","v":"4544580"},{"$f":"CONCATENATE(VLOOKUP(B1027,'School List'!$B$3:$H$291,6,FALSE),H1027)","v":"45806301"},{"$f":"CONCATENATE(VLOOKUP(B1027,'School List'!$B$3:$D$291,3,FALSE),H1027)","v":"Lake County - HANOVER COMMUNITY SCHOOL CORPORATION6301"},{"$f":"IF('Line 1 Source'!B1027<>\"\",'Line 1 Source'!B1027,\"\")","v":"45"},{"$f":"IF('Line 1 Source'!C1027<>\"\",'Line 1 Source'!C1027,\"\")","v":"4"},{"$f":"IF('Line 1 Source'!D1027<>\"\",'Line 1 Source'!D1027,\"\")","v":"4580"},{"$f":"IF('Line 1 Source'!E1027<>\"\",'Line 1 Source'!E1027,\"\")","v":"6301"},{"$f":"IF('Line 1 Source'!F1027<>\"\",'Line 1 Source'!F1027,\"\")","v":625910}]
[{"$f":"IF('Line 1 Source'!A1028<>\"\",'Line 1 Source'!A1028,\"\")","v":"2018"},"4544580",{"$f":"CONCATENATE(VLOOKUP(B1028,'School List'!$B$3:$H$291,6,FALSE),H1028)","v":"45806302"},{"$f":"CONCATENATE(VLOOKUP(B1028,'School List'!$B$3:$D$291,3,FALSE),H1028)","v":"Lake County - HANOVER COMMUNITY SCHOOL CORPORATION6302"},{"$f":"IF('Line 1 Source'!B1028<>\"\",'Line 1 Source'!B1028,\"\")","v":"45"},{"$f":"IF('Line 1 Source'!C1028<>\"\",'Line 1 Source'!C1028,\"\")","v":"4"},{"$f":"IF('Line 1 Source'!D1028<>\"\",'Line 1 Source'!D1028,\"\")","v":"4580"},{"$f":"IF('Line 1 Source'!E1028<>\"\",'Line 1 Source'!E1028,\"\")","v":"6302"},{"$f":"IF('Line 1 Source'!F1028<>\"\",'Line 1 Source'!F1028,\"\")","v":230000}]
[{"$f":"IF('Line 1 Source'!A1029<>\"\",'Line 1 Source'!A1029,\"\")","v":"2018"},"4544590",{"$f":"CONCATENATE(VLOOKUP(B1029,'School List'!$B$3:$H$291,6,FALSE),H1029)","v":"45900022"},{"$f":"CONCATENATE(VLOOKUP(B1029,'School List'!$B$3:$D$291,3,FALSE),H1029)","v":"Lake County - RIVER FOREST COMMUNITY SCHOOL CORP0022"},{"$f":"IF('Line 1 Source'!B1029<>\"\",'Line 1 Source'!B1029,\"\")","v":"45"},{"$f":"IF('Line 1 Source'!C1029<>\"\",'Line 1 Source'!C1029,\"\")","v":"4"},{"$f":"IF('Line 1 Source'!D1029<>\"\",'Line 1 Source'!D1029,\"\")","v":"4590"},{"$f":"IF('Line 1 Source'!E1029<>\"\",'Line 1 Source'!E1029,\"\")","v":"0022"},{"$f":"IF('Line 1 Source'!F1029<>\"\",'Line 1 Source'!F1029,\"\")","v":977174}]
[{"$f":"IF('Line 1 Source'!A1030<>\"\",'Line 1 Source'!A1030,\"\")","v":"2018"},"4544590",{"$f":"CONCATENATE(VLOOKUP(B1030,'School List'!$B$3:$H$291,6,FALSE),H1030)","v":"45900101"},{"$f":"CONCATENATE(VLOOKUP(B1030,'School List'!$B$3:$D$291,3,FALSE),H1030)","v":"Lake County - RIVER FOREST COMMUNITY SCHOOL CORP0101"},{"$f":"IF('Line 1 Source'!B1030<>\"\",'Line 1 Source'!B1030,\"\")","v":"45"},{"$f":"IF('Line 1 Source'!C1030<>\"\",'Line 1 Source'!C1030,\"\")","v":"4"},{"$f":"IF('Line 1 Source'!D1030<>\"\",'Line 1 Source'!D1030,\"\")","v":"4590"},{"$f":"IF('Line 1 Source'!E1030<>\"\",'Line 1 Source'!E1030,\"\")","v":"0101"},{"$f":"IF('Line 1 Source'!F1030<>\"\",'Line 1 Source'!F1030,\"\")","v":12975307}]
[{"$f":"IF('Line 1 Source'!A1031<>\"\",'Line 1 Source'!A1031,\"\")","v":"2018"},"4544590",{"$f":"CONCATENATE(VLOOKUP(B1031,'School List'!$B$3:$H$291,6,FALSE),H1031)","v":"45900180"},{"$f":"CONCATENATE(VLOOKUP(B1031,'School List'!$B$3:$D$291,3,FALSE),H1031)","v":"Lake County - RIVER FOREST COMMUNITY SCHOOL CORP0180"},{"$f":"IF('Line 1 Source'!B1031<>\"\",'Line 1 Source'!B1031,\"\")","v":"45"},{"$f":"IF('Line 1 Source'!C1031<>\"\",'Line 1 Source'!C1031,\"\")","v":"4"},{"$f":"IF('Line 1 Source'!D1031<>\"\",'Line 1 Source'!D1031,\"\")","v":"4590"},{"$f":"IF('Line 1 Source'!E1031<>\"\",'Line 1 Source'!E1031,\"\")","v":"0180"},{"$f":"IF('Line 1 Source'!F1031<>\"\",'Line 1 Source'!F1031,\"\")","v":591893}]
[{"$f":"IF('Line 1 Source'!A1032<>\"\",'Line 1 Source'!A1032,\"\")","v":"2018"},"4544590",{"$f":"CONCATENATE(VLOOKUP(B1032,'School List'!$B$3:$H$291,6,FALSE),H1032)","v":"45900188"},{"$f":"CONCATENATE(VLOOKUP(B1032,'School List'!$B$3:$D$291,3,FALSE),H1032)","v":"Lake County - RIVER FOREST COMMUNITY SCHOOL CORP0188"},{"$f":"IF('Line 1 Source'!B1032<>\"\",'Line 1 Source'!B1032,\"\")","v":"45"},{"$f":"IF('Line 1 Source'!C1032<>\"\",'Line 1 Source'!C1032,\"\")","v":"4"},{"$f":"IF('Line 1 Source'!D1032<>\"\",'Line 1 Source'!D1032,\"\")","v":"4590"},{"$f":"IF('Line 1 Source'!E1032<>\"\",'Line 1 Source'!E1032,\"\")","v":"0188"},{"$f":"IF('Line 1 Source'!F1032<>\"\",'Line 1 Source'!F1032,\"\")","v":1174842}]
[{"$f":"IF('Line 1 Source'!A1033<>\"\",'Line 1 Source'!A1033,\"\")","v":"2018"},"4544590",{"$f":"CONCATENATE(VLOOKUP(B1033,'School List'!$B$3:$H$291,6,FALSE),H1033)","v":"45900189"},{"$f":"CONCATENATE(VLOOKUP(B1033,'School List'!$B$3:$D$291,3,FALSE),H1033)","v":"Lake County - RIVER FOREST COMMUNITY SCHOOL CORP0189"},{"$f":"IF('Line 1 Source'!B1033<>\"\",'Line 1 Source'!B1033,\"\")","v":"45"},{"$f":"IF('Line 1 Source'!C1033<>\"\",'Line 1 Source'!C1033,\"\")","v":"4"},{"$f":"IF('Line 1 Source'!D1033<>\"\",'Line 1 Source'!D1033,\"\")","v":"4590"},{"$f":"IF('Line 1 Source'!E1033<>\"\",'Line 1 Source'!E1033,\"\")","v":"0189"},{"$f":"IF('Line 1 Source'!F1033<>\"\",'Line 1 Source'!F1033,\"\")","v":35665}]
[{"$f":"IF('Line 1 Source'!A1034<>\"\",'Line 1 Source'!A1034,\"\")","v":"2018"},"4544590",{"$f":"CONCATENATE(VLOOKUP(B1034,'School List'!$B$3:$H$291,6,FALSE),H1034)","v":"45901214"},{"$f":"CONCATENATE(VLOOKUP(B1034,'School List'!$B$3:$D$291,3,FALSE),H1034)","v":"Lake County - RIVER FOREST COMMUNITY SCHOOL CORP1214"},{"$f":"IF('Line 1 Source'!B1034<>\"\",'Line 1 Source'!B1034,\"\")","v":"45"},{"$f":"IF('Line 1 Source'!C1034<>\"\",'Line 1 Source'!C1034,\"\")","v":"4"},{"$f":"IF('Line 1 Source'!D1034<>\"\",'Line 1 Source'!D1034,\"\")","v":"4590"},{"$f":"IF('Line 1 Source'!E1034<>\"\",'Line 1 Source'!E1034,\"\")","v":"1214"},{"$f":"IF('Line 1 Source'!F1034<>\"\",'Line 1 Source'!F1034,\"\")","v":1056023}]
[{"$f":"IF('Line 1 Source'!A1035<>\"\",'Line 1 Source'!A1035,\"\")","v":"2018"},"4544590",{"$f":"CONCATENATE(VLOOKUP(B1035,'School List'!$B$3:$H$291,6,FALSE),H1035)","v":"45906301"},{"$f":"CONCATENATE(VLOOKUP(B1035,'School List'!$B$3:$D$291,3,FALSE),H1035)","v":"Lake County - RIVER FOREST COMMUNITY SCHOOL CORP6301"},{"$f":"IF('Line 1 Source'!B1035<>\"\",'Line 1 Source'!B1035,\"\")","v":"45"},{"$f":"IF('Line 1 Source'!C1035<>\"\",'Line 1 Source'!C1035,\"\")","v":"4"},{"$f":"IF('Line 1 Source'!D1035<>\"\",'Line 1 Source'!D1035,\"\")","v":"4590"},{"$f":"IF('Line 1 Source'!E1035<>\"\",'Line 1 Source'!E1035,\"\")","v":"6301"},{"$f":"IF('Line 1 Source'!F1035<>\"\",'Line 1 Source'!F1035,\"\")","v":585853}]
[{"$f":"IF('Line 1 Source'!A1036<>\"\",'Line 1 Source'!A1036,\"\")","v":"2018"},"4544590",{"$f":"CONCATENATE(VLOOKUP(B1036,'School List'!$B$3:$H$291,6,FALSE),H1036)","v":"45906302"},{"$f":"CONCATENATE(VLOOKUP(B1036,'School List'!$B$3:$D$291,3,FALSE),H1036)","v":"Lake County - RIVER FOREST COMMUNITY SCHOOL CORP6302"},{"$f":"IF('Line 1 Source'!B1036<>\"\",'Line 1 Source'!B1036,\"\")","v":"45"},{"$f":"IF('Line 1 Source'!C1036<>\"\",'Line 1 Source'!C1036,\"\")","v":"4"},{"$f":"IF('Line 1 Source'!D1036<>\"\",'Line 1 Source'!D1036,\"\")","v":"4590"},{"$f":"IF('Line 1 Source'!E1036<>\"\",'Line 1 Source'!E1036,\"\")","v":"6302"},{"$f":"IF('Line 1 Source'!F1036<>\"\",'Line 1 Source'!F1036,\"\")","v":113524}]
[{"$f":"IF('Line 1 Source'!A1037<>\"\",'Line 1 Source'!A1037,\"\")","v":"2018"},"4544600",{"$f":"CONCATENATE(VLOOKUP(B1037,'School List'!$B$3:$H$291,6,FALSE),H1037)","v":"46000101"},{"$f":"CONCATENATE(VLOOKUP(B1037,'School List'!$B$3:$D$291,3,FALSE),H1037)","v":"Lake County - MERRILLVILLE SCHOOL CORPORATION0101"},{"$f":"IF('Line 1 Source'!B1037<>\"\",'Line 1 Source'!B1037,\"\")","v":"45"},{"$f":"IF('Line 1 Source'!C1037<>\"\",'Line 1 Source'!C1037,\"\")","v":"4"},{"$f":"IF('Line 1 Source'!D1037<>\"\",'Line 1 Source'!D1037,\"\")","v":"4600"},{"$f":"IF('Line 1 Source'!E1037<>\"\",'Line 1 Source'!E1037,\"\")","v":"0101"},{"$f":"IF('Line 1 Source'!F1037<>\"\",'Line 1 Source'!F1037,\"\")","v":50158398}]
[{"$f":"IF('Line 1 Source'!A1038<>\"\",'Line 1 Source'!A1038,\"\")","v":"2018"},"4544600",{"$f":"CONCATENATE(VLOOKUP(B1038,'School List'!$B$3:$H$291,6,FALSE),H1038)","v":"46000180"},{"$f":"CONCATENATE(VLOOKUP(B1038,'School List'!$B$3:$D$291,3,FALSE),H1038)","v":"Lake County - MERRILLVILLE SCHOOL CORPORATION0180"},{"$f":"IF('Line 1 Source'!B1038<>\"\",'Line 1 Source'!B1038,\"\")","v":"45"},{"$f":"IF('Line 1 Source'!C1038<>\"\",'Line 1 Source'!C1038,\"\")","v":"4"},{"$f":"IF('Line 1 Source'!D1038<>\"\",'Line 1 Source'!D1038,\"\")","v":"4600"},{"$f":"IF('Line 1 Source'!E1038<>\"\",'Line 1 Source'!E1038,\"\")","v":"0180"},{"$f":"IF('Line 1 Source'!F1038<>\"\",'Line 1 Source'!F1038,\"\")","v":1929499}]
[{"$f":"IF('Line 1 Source'!A1039<>\"\",'Line 1 Source'!A1039,\"\")","v":"2018"},"4544600",{"$f":"CONCATENATE(VLOOKUP(B1039,'School List'!$B$3:$H$291,6,FALSE),H1039)","v":"46000188"},{"$f":"CONCATENATE(VLOOKUP(B1039,'School List'!$B$3:$D$291,3,FALSE),H1039)","v":"Lake County - MERRILLVILLE SCHOOL CORPORATION0188"},{"$f":"IF('Line 1 Source'!B1039<>\"\",'Line 1 Source'!B1039,\"\")","v":"45"},{"$f":"IF('Line 1 Source'!C1039<>\"\",'Line 1 Source'!C1039,\"\")","v":"4"},{"$f":"IF('Line 1 Source'!D1039<>\"\",'Line 1 Source'!D1039,\"\")","v":"4600"},{"$f":"IF('Line 1 Source'!E1039<>\"\",'Line 1 Source'!E1039,\"\")","v":"0188"},{"$f":"IF('Line 1 Source'!F1039<>\"\",'Line 1 Source'!F1039,\"\")","v":13401000}]
[{"$f":"IF('Line 1 Source'!A1040<>\"\",'Line 1 Source'!A1040,\"\")","v":"2018"},"4544600",{"$f":"CONCATENATE(VLOOKUP(B1040,'School List'!$B$3:$H$291,6,FALSE),H1040)","v":"46000189"},{"$f":"CONCATENATE(VLOOKUP(B1040,'School List'!$B$3:$D$291,3,FALSE),H1040)","v":"Lake County - MERRILLVILLE SCHOOL CORPORATION0189"},{"$f":"IF('Line 1 Source'!B1040<>\"\",'Line 1 Source'!B1040,\"\")","v":"45"},{"$f":"IF('Line 1 Source'!C1040<>\"\",'Line 1 Source'!C1040,\"\")","v":"4"},{"$f":"IF('Line 1 Source'!D1040<>\"\",'Line 1 Source'!D1040,\"\")","v":"4600"},{"$f":"IF('Line 1 Source'!E1040<>\"\",'Line 1 Source'!E1040,\"\")","v":"0189"},{"$f":"IF('Line 1 Source'!F1040<>\"\",'Line 1 Source'!F1040,\"\")","v":454411}]
[{"$f":"IF('Line 1 Source'!A1041<>\"\",'Line 1 Source'!A1041,\"\")","v":"2018"},"4544600",{"$f":"CONCATENATE(VLOOKUP(B1041,'School List'!$B$3:$H$291,6,FALSE),H1041)","v":"46001214"},{"$f":"CONCATENATE(VLOOKUP(B1041,'School List'!$B$3:$D$291,3,FALSE),H1041)","v":"Lake County - MERRILLVILLE SCHOOL CORPORATION1214"},{"$f":"IF('Line 1 Source'!B1041<>\"\",'Line 1 Source'!B1041,\"\")","v":"45"},{"$f":"IF('Line 1 Source'!C1041<>\"\",'Line 1 Source'!C1041,\"\")","v":"4"},{"$f":"IF('Line 1 Source'!D1041<>\"\",'Line 1 Source'!D1041,\"\")","v":"4600"},{"$f":"IF('Line 1 Source'!E1041<>\"\",'Line 1 Source'!E1041,\"\")","v":"1214"},{"$f":"IF('Line 1 Source'!F1041<>\"\",'Line 1 Source'!F1041,\"\")","v":7149099}]
[{"$f":"IF('Line 1 Source'!A1042<>\"\",'Line 1 Source'!A1042,\"\")","v":"2018"},"4544600",{"$f":"CONCATENATE(VLOOKUP(B1042,'School List'!$B$3:$H$291,6,FALSE),H1042)","v":"46006301"},{"$f":"CONCATENATE(VLOOKUP(B1042,'School List'!$B$3:$D$291,3,FALSE),H1042)","v":"Lake County - MERRILLVILLE SCHOOL CORPORATION6301"},{"$f":"IF('Line 1 Source'!B1042<>\"\",'Line 1 Source'!B1042,\"\")","v":"45"},{"$f":"IF('Line 1 Source'!C1042<>\"\",'Line 1 Source'!C1042,\"\")","v":"4"},{"$f":"IF('Line 1 Source'!D1042<>\"\",'Line 1 Source'!D1042,\"\")","v":"4600"},{"$f":"IF('Line 1 Source'!E1042<>\"\",'Line 1 Source'!E1042,\"\")","v":"6301"},{"$f":"IF('Line 1 Source'!F1042<>\"\",'Line 1 Source'!F1042,\"\")","v":5758192}]
[{"$f":"IF('Line 1 Source'!A1043<>\"\",'Line 1 Source'!A1043,\"\")","v":"2018"},"4544600",{"$f":"CONCATENATE(VLOOKUP(B1043,'School List'!$B$3:$H$291,6,FALSE),H1043)","v":"46006302"},{"$f":"CONCATENATE(VLOOKUP(B1043,'School List'!$B$3:$D$291,3,FALSE),H1043)","v":"Lake County - MERRILLVILLE SCHOOL CORPORATION6302"},{"$f":"IF('Line 1 Source'!B1043<>\"\",'Line 1 Source'!B1043,\"\")","v":"45"},{"$f":"IF('Line 1 Source'!C1043<>\"\",'Line 1 Source'!C1043,\"\")","v":"4"},{"$f":"IF('Line 1 Source'!D1043<>\"\",'Line 1 Source'!D1043,\"\")","v":"4600"},{"$f":"IF('Line 1 Source'!E1043<>\"\",'Line 1 Source'!E1043,\"\")","v":"6302"},{"$f":"IF('Line 1 Source'!F1043<>\"\",'Line 1 Source'!F1043,\"\")","v":1885100}]
[{"$f":"IF('Line 1 Source'!A1044<>\"\",'Line 1 Source'!A1044,\"\")","v":"2018"},"4544615",{"$f":"CONCATENATE(VLOOKUP(B1044,'School List'!$B$3:$H$291,6,FALSE),H1044)","v":"46150061"},{"$f":"CONCATENATE(VLOOKUP(B1044,'School List'!$B$3:$D$291,3,FALSE),H1044)","v":"Lake County - LAKE CENTRAL SCHOOL CORPORATION0061"},{"$f":"IF('Line 1 Source'!B1044<>\"\",'Line 1 Source'!B1044,\"\")","v":"45"},{"$f":"IF('Line 1 Source'!C1044<>\"\",'Line 1 Source'!C1044,\"\")","v":"4"},{"$f":"IF('Line 1 Source'!D1044<>\"\",'Line 1 Source'!D1044,\"\")","v":"4615"},{"$f":"IF('Line 1 Source'!E1044<>\"\",'Line 1 Source'!E1044,\"\")","v":"0061"},{"$f":"IF('Line 1 Source'!F1044<>\"\",'Line 1 Source'!F1044,\"\")","v":1350000}]
[{"$f":"IF('Line 1 Source'!A1045<>\"\",'Line 1 Source'!A1045,\"\")","v":"2018"},"4544615",{"$f":"CONCATENATE(VLOOKUP(B1045,'School List'!$B$3:$H$291,6,FALSE),H1045)","v":"46150101"},{"$f":"CONCATENATE(VLOOKUP(B1045,'School List'!$B$3:$D$291,3,FALSE),H1045)","v":"Lake County - LAKE CENTRAL SCHOOL CORPORATION0101"},{"$f":"IF('Line 1 Source'!B1045<>\"\",'Line 1 Source'!B1045,\"\")","v":"45"},{"$f":"IF('Line 1 Source'!C1045<>\"\",'Line 1 Source'!C1045,\"\")","v":"4"},{"$f":"IF('Line 1 Source'!D1045<>\"\",'Line 1 Source'!D1045,\"\")","v":"4615"},{"$f":"IF('Line 1 Source'!E1045<>\"\",'Line 1 Source'!E1045,\"\")","v":"0101"},{"$f":"IF('Line 1 Source'!F1045<>\"\",'Line 1 Source'!F1045,\"\")","v":61000000}]
[{"$f":"IF('Line 1 Source'!A1046<>\"\",'Line 1 Source'!A1046,\"\")","v":"2018"},"4544615",{"$f":"CONCATENATE(VLOOKUP(B1046,'School List'!$B$3:$H$291,6,FALSE),H1046)","v":"46150180"},{"$f":"CONCATENATE(VLOOKUP(B1046,'School List'!$B$3:$D$291,3,FALSE),H1046)","v":"Lake County - LAKE CENTRAL SCHOOL CORPORATION0180"},{"$f":"IF('Line 1 Source'!B1046<>\"\",'Line 1 Source'!B1046,\"\")","v":"45"},{"$f":"IF('Line 1 Source'!C1046<>\"\",'Line 1 Source'!C1046,\"\")","v":"4"},{"$f":"IF('Line 1 Source'!D1046<>\"\",'Line 1 Source'!D1046,\"\")","v":"4615"},{"$f":"IF('Line 1 Source'!E1046<>\"\",'Line 1 Source'!E1046,\"\")","v":"0180"},{"$f":"IF('Line 1 Source'!F1046<>\"\",'Line 1 Source'!F1046,\"\")","v":3785868}]
[{"$f":"IF('Line 1 Source'!A1047<>\"\",'Line 1 Source'!A1047,\"\")","v":"2018"},"4544615",{"$f":"CONCATENATE(VLOOKUP(B1047,'School List'!$B$3:$H$291,6,FALSE),H1047)","v":"46150188"},{"$f":"CONCATENATE(VLOOKUP(B1047,'School List'!$B$3:$D$291,3,FALSE),H1047)","v":"Lake County - LAKE CENTRAL SCHOOL CORPORATION0188"},{"$f":"IF('Line 1 Source'!B1047<>\"\",'Line 1 Source'!B1047,\"\")","v":"45"},{"$f":"IF('Line 1 Source'!C1047<>\"\",'Line 1 Source'!C1047,\"\")","v":"4"},{"$f":"IF('Line 1 Source'!D1047<>\"\",'Line 1 Source'!D1047,\"\")","v":"4615"},{"$f":"IF('Line 1 Source'!E1047<>\"\",'Line 1 Source'!E1047,\"\")","v":"0188"},{"$f":"IF('Line 1 Source'!F1047<>\"\",'Line 1 Source'!F1047,\"\")","v":3739000}]
[{"$f":"IF('Line 1 Source'!A1048<>\"\",'Line 1 Source'!A1048,\"\")","v":"2018"},"4544615",{"$f":"CONCATENATE(VLOOKUP(B1048,'School List'!$B$3:$H$291,6,FALSE),H1048)","v":"46150189"},{"$f":"CONCATENATE(VLOOKUP(B1048,'School List'!$B$3:$D$291,3,FALSE),H1048)","v":"Lake County - LAKE CENTRAL SCHOOL CORPORATION0189"},{"$f":"IF('Line 1 Source'!B1048<>\"\",'Line 1 Source'!B1048,\"\")","v":"45"},{"$f":"IF('Line 1 Source'!C1048<>\"\",'Line 1 Source'!C1048,\"\")","v":"4"},{"$f":"IF('Line 1 Source'!D1048<>\"\",'Line 1 Source'!D1048,\"\")","v":"4615"},{"$f":"IF('Line 1 Source'!E1048<>\"\",'Line 1 Source'!E1048,\"\")","v":"0189"},{"$f":"IF('Line 1 Source'!F1048<>\"\",'Line 1 Source'!F1048,\"\")","v":1325811}]
[{"$f":"IF('Line 1 Source'!A1049<>\"\",'Line 1 Source'!A1049,\"\")","v":"2018"},"4544615",{"$f":"CONCATENATE(VLOOKUP(B1049,'School List'!$B$3:$H$291,6,FALSE),H1049)","v":"46150287"},{"$f":"CONCATENATE(VLOOKUP(B1049,'School List'!$B$3:$D$291,3,FALSE),H1049)","v":"Lake County - LAKE CENTRAL SCHOOL CORPORATION0287"},{"$f":"IF('Line 1 Source'!B1049<>\"\",'Line 1 Source'!B1049,\"\")","v":"45"},{"$f":"IF('Line 1 Source'!C1049<>\"\",'Line 1 Source'!C1049,\"\")","v":"4"},{"$f":"IF('Line 1 Source'!D1049<>\"\",'Line 1 Source'!D1049,\"\")","v":"4615"},{"$f":"IF('Line 1 Source'!E1049<>\"\",'Line 1 Source'!E1049,\"\")","v":"0287"},{"$f":"IF('Line 1 Source'!F1049<>\"\",'Line 1 Source'!F1049,\"\")","v":11606000}]
[{"$f":"IF('Line 1 Source'!A1050<>\"\",'Line 1 Source'!A1050,\"\")","v":"2018"},"4544615",{"$f":"CONCATENATE(VLOOKUP(B1050,'School List'!$B$3:$H$291,6,FALSE),H1050)","v":"46151214"},{"$f":"CONCATENATE(VLOOKUP(B1050,'School List'!$B$3:$D$291,3,FALSE),H1050)","v":"Lake County - LAKE CENTRAL SCHOOL CORPORATION1214"},{"$f":"IF('Line 1 Source'!B1050<>\"\",'Line 1 Source'!B1050,\"\")","v":"45"},{"$f":"IF('Line 1 Source'!C1050<>\"\",'Line 1 Source'!C1050,\"\")","v":"4"},{"$f":"IF('Line 1 Source'!D1050<>\"\",'Line 1 Source'!D1050,\"\")","v":"4615"},{"$f":"IF('Line 1 Source'!E1050<>\"\",'Line 1 Source'!E1050,\"\")","v":"1214"},{"$f":"IF('Line 1 Source'!F1050<>\"\",'Line 1 Source'!F1050,\"\")","v":7281420}]
[{"$f":"IF('Line 1 Source'!A1051<>\"\",'Line 1 Source'!A1051,\"\")","v":"2018"},"4544615",{"$f":"CONCATENATE(VLOOKUP(B1051,'School List'!$B$3:$H$291,6,FALSE),H1051)","v":"46156301"},{"$f":"CONCATENATE(VLOOKUP(B1051,'School List'!$B$3:$D$291,3,FALSE),H1051)","v":"Lake County - LAKE CENTRAL SCHOOL CORPORATION6301"},{"$f":"IF('Line 1 Source'!B1051<>\"\",'Line 1 Source'!B1051,\"\")","v":"45"},{"$f":"IF('Line 1 Source'!C1051<>\"\",'Line 1 Source'!C1051,\"\")","v":"4"},{"$f":"IF('Line 1 Source'!D1051<>\"\",'Line 1 Source'!D1051,\"\")","v":"4615"},{"$f":"IF('Line 1 Source'!E1051<>\"\",'Line 1 Source'!E1051,\"\")","v":"6301"},{"$f":"IF('Line 1 Source'!F1051<>\"\",'Line 1 Source'!F1051,\"\")","v":5900000}]
[{"$f":"IF('Line 1 Source'!A1052<>\"\",'Line 1 Source'!A1052,\"\")","v":"2018"},"4544615",{"$f":"CONCATENATE(VLOOKUP(B1052,'School List'!$B$3:$H$291,6,FALSE),H1052)","v":"46156302"},{"$f":"CONCATENATE(VLOOKUP(B1052,'School List'!$B$3:$D$291,3,FALSE),H1052)","v":"Lake County - LAKE CENTRAL SCHOOL CORPORATION6302"},{"$f":"IF('Line 1 Source'!B1052<>\"\",'Line 1 Source'!B1052,\"\")","v":"45"},{"$f":"IF('Line 1 Source'!C1052<>\"\",'Line 1 Source'!C1052,\"\")","v":"4"},{"$f":"IF('Line 1 Source'!D1052<>\"\",'Line 1 Source'!D1052,\"\")","v":"4615"},{"$f":"IF('Line 1 Source'!E1052<>\"\",'Line 1 Source'!E1052,\"\")","v":"6302"},{"$f":"IF('Line 1 Source'!F1052<>\"\",'Line 1 Source'!F1052,\"\")","v":1009000}]
[{"$f":"IF('Line 1 Source'!A1053<>\"\",'Line 1 Source'!A1053,\"\")","v":"2018"},"4544645",{"$f":"CONCATENATE(VLOOKUP(B1053,'School List'!$B$3:$H$291,6,FALSE),H1053)","v":"46450101"},{"$f":"CONCATENATE(VLOOKUP(B1053,'School List'!$B$3:$D$291,3,FALSE),H1053)","v":"Lake County - TRI CREEK SCHOOL CORPORATION0101"},{"$f":"IF('Line 1 Source'!B1053<>\"\",'Line 1 Source'!B1053,\"\")","v":"45"},{"$f":"IF('Line 1 Source'!C1053<>\"\",'Line 1 Source'!C1053,\"\")","v":"4"},{"$f":"IF('Line 1 Source'!D1053<>\"\",'Line 1 Source'!D1053,\"\")","v":"4645"},{"$f":"IF('Line 1 Source'!E1053<>\"\",'Line 1 Source'!E1053,\"\")","v":"0101"},{"$f":"IF('Line 1 Source'!F1053<>\"\",'Line 1 Source'!F1053,\"\")","v":22000000}]
[{"$f":"IF('Line 1 Source'!A1054<>\"\",'Line 1 Source'!A1054,\"\")","v":"2018"},"4544645",{"$f":"CONCATENATE(VLOOKUP(B1054,'School List'!$B$3:$H$291,6,FALSE),H1054)","v":"46450180"},{"$f":"CONCATENATE(VLOOKUP(B1054,'School List'!$B$3:$D$291,3,FALSE),H1054)","v":"Lake County - TRI CREEK SCHOOL CORPORATION0180"},{"$f":"IF('Line 1 Source'!B1054<>\"\",'Line 1 Source'!B1054,\"\")","v":"45"},{"$f":"IF('Line 1 Source'!C1054<>\"\",'Line 1 Source'!C1054,\"\")","v":"4"},{"$f":"IF('Line 1 Source'!D1054<>\"\",'Line 1 Source'!D1054,\"\")","v":"4645"},{"$f":"IF('Line 1 Source'!E1054<>\"\",'Line 1 Source'!E1054,\"\")","v":"0180"},{"$f":"IF('Line 1 Source'!F1054<>\"\",'Line 1 Source'!F1054,\"\")","v":2336569}]
[{"$f":"IF('Line 1 Source'!A1055<>\"\",'Line 1 Source'!A1055,\"\")","v":"2018"},"4544645",{"$f":"CONCATENATE(VLOOKUP(B1055,'School List'!$B$3:$H$291,6,FALSE),H1055)","v":"46450188"},{"$f":"CONCATENATE(VLOOKUP(B1055,'School List'!$B$3:$D$291,3,FALSE),H1055)","v":"Lake County - TRI CREEK SCHOOL CORPORATION0188"},{"$f":"IF('Line 1 Source'!B1055<>\"\",'Line 1 Source'!B1055,\"\")","v":"45"},{"$f":"IF('Line 1 Source'!C1055<>\"\",'Line 1 Source'!C1055,\"\")","v":"4"},{"$f":"IF('Line 1 Source'!D1055<>\"\",'Line 1 Source'!D1055,\"\")","v":"4645"},{"$f":"IF('Line 1 Source'!E1055<>\"\",'Line 1 Source'!E1055,\"\")","v":"0188"},{"$f":"IF('Line 1 Source'!F1055<>\"\",'Line 1 Source'!F1055,\"\")","v":5832900}]
[{"$f":"IF('Line 1 Source'!A1056<>\"\",'Line 1 Source'!A1056,\"\")","v":"2018"},"4544645",{"$f":"CONCATENATE(VLOOKUP(B1056,'School List'!$B$3:$H$291,6,FALSE),H1056)","v":"46450189"},{"$f":"CONCATENATE(VLOOKUP(B1056,'School List'!$B$3:$D$291,3,FALSE),H1056)","v":"Lake County - TRI CREEK SCHOOL CORPORATION0189"},{"$f":"IF('Line 1 Source'!B1056<>\"\",'Line 1 Source'!B1056,\"\")","v":"45"},{"$f":"IF('Line 1 Source'!C1056<>\"\",'Line 1 Source'!C1056,\"\")","v":"4"},{"$f":"IF('Line 1 Source'!D1056<>\"\",'Line 1 Source'!D1056,\"\")","v":"4645"},{"$f":"IF('Line 1 Source'!E1056<>\"\",'Line 1 Source'!E1056,\"\")","v":"0189"},{"$f":"IF('Line 1 Source'!F1056<>\"\",'Line 1 Source'!F1056,\"\")","v":209118}]
[{"$f":"IF('Line 1 Source'!A1057<>\"\",'Line 1 Source'!A1057,\"\")","v":"2018"},"4544645",{"$f":"CONCATENATE(VLOOKUP(B1057,'School List'!$B$3:$H$291,6,FALSE),H1057)","v":"46451214"},{"$f":"CONCATENATE(VLOOKUP(B1057,'School List'!$B$3:$D$291,3,FALSE),H1057)","v":"Lake County - TRI CREEK SCHOOL CORPORATION1214"},{"$f":"IF('Line 1 Source'!B1057<>\"\",'Line 1 Source'!B1057,\"\")","v":"45"},{"$f":"IF('Line 1 Source'!C1057<>\"\",'Line 1 Source'!C1057,\"\")","v":"4"},{"$f":"IF('Line 1 Source'!D1057<>\"\",'Line 1 Source'!D1057,\"\")","v":"4645"},{"$f":"IF('Line 1 Source'!E1057<>\"\",'Line 1 Source'!E1057,\"\")","v":"1214"},{"$f":"IF('Line 1 Source'!F1057<>\"\",'Line 1 Source'!F1057,\"\")","v":2371870}]
[{"$f":"IF('Line 1 Source'!A1058<>\"\",'Line 1 Source'!A1058,\"\")","v":"2018"},"4544645",{"$f":"CONCATENATE(VLOOKUP(B1058,'School List'!$B$3:$H$291,6,FALSE),H1058)","v":"46456301"},{"$f":"CONCATENATE(VLOOKUP(B1058,'School List'!$B$3:$D$291,3,FALSE),H1058)","v":"Lake County - TRI CREEK SCHOOL CORPORATION6301"},{"$f":"IF('Line 1 Source'!B1058<>\"\",'Line 1 Source'!B1058,\"\")","v":"45"},{"$f":"IF('Line 1 Source'!C1058<>\"\",'Line 1 Source'!C1058,\"\")","v":"4"},{"$f":"IF('Line 1 Source'!D1058<>\"\",'Line 1 Source'!D1058,\"\")","v":"4645"},{"$f":"IF('Line 1 Source'!E1058<>\"\",'Line 1 Source'!E1058,\"\")","v":"6301"},{"$f":"IF('Line 1 Source'!F1058<>\"\",'Line 1 Source'!F1058,\"\")","v":2256792}]
[{"$f":"IF('Line 1 Source'!A1059<>\"\",'Line 1 Source'!A1059,\"\")","v":"2018"},"4544645",{"$f":"CONCATENATE(VLOOKUP(B1059,'School List'!$B$3:$H$291,6,FALSE),H1059)","v":"46456302"},{"$f":"CONCATENATE(VLOOKUP(B1059,'School List'!$B$3:$D$291,3,FALSE),H1059)","v":"Lake County - TRI CREEK SCHOOL CORPORATION6302"},{"$f":"IF('Line 1 Source'!B1059<>\"\",'Line 1 Source'!B1059,\"\")","v":"45"},{"$f":"IF('Line 1 Source'!C1059<>\"\",'Line 1 Source'!C1059,\"\")","v":"4"},{"$f":"IF('Line 1 Source'!D1059<>\"\",'Line 1 Source'!D1059,\"\")","v":"4645"},{"$f":"IF('Line 1 Source'!E1059<>\"\",'Line 1 Source'!E1059,\"\")","v":"6302"},{"$f":"IF('Line 1 Source'!F1059<>\"\",'Line 1 Source'!F1059,\"\")","v":520000}]
[{"$f":"IF('Line 1 Source'!A1060<>\"\",'Line 1 Source'!A1060,\"\")","v":"2018"},"4544650",{"$f":"CONCATENATE(VLOOKUP(B1060,'School List'!$B$3:$H$291,6,FALSE),H1060)","v":"46500061"},{"$f":"CONCATENATE(VLOOKUP(B1060,'School List'!$B$3:$D$291,3,FALSE),H1060)","v":"Lake County - LAKE RIDGE SCHOOL CORPORATION0061"},{"$f":"IF('Line 1 Source'!B1060<>\"\",'Line 1 Source'!B1060,\"\")","v":"45"},{"$f":"IF('Line 1 Source'!C1060<>\"\",'Line 1 Source'!C1060,\"\")","v":"4"},{"$f":"IF('Line 1 Source'!D1060<>\"\",'Line 1 Source'!D1060,\"\")","v":"4650"},{"$f":"IF('Line 1 Source'!E1060<>\"\",'Line 1 Source'!E1060,\"\")","v":"0061"},{"$f":"IF('Line 1 Source'!F1060<>\"\",'Line 1 Source'!F1060,\"\")","v":2600000}]
[{"$f":"IF('Line 1 Source'!A1061<>\"\",'Line 1 Source'!A1061,\"\")","v":"2018"},"4544650",{"$f":"CONCATENATE(VLOOKUP(B1061,'School List'!$B$3:$H$291,6,FALSE),H1061)","v":"46500101"},{"$f":"CONCATENATE(VLOOKUP(B1061,'School List'!$B$3:$D$291,3,FALSE),H1061)","v":"Lake County - LAKE RIDGE SCHOOL CORPORATION0101"},{"$f":"IF('Line 1 Source'!B1061<>\"\",'Line 1 Source'!B1061,\"\")","v":"45"},{"$f":"IF('Line 1 Source'!C1061<>\"\",'Line 1 Source'!C1061,\"\")","v":"4"},{"$f":"IF('Line 1 Source'!D1061<>\"\",'Line 1 Source'!D1061,\"\")","v":"4650"},{"$f":"IF('Line 1 Source'!E1061<>\"\",'Line 1 Source'!E1061,\"\")","v":"0101"},{"$f":"IF('Line 1 Source'!F1061<>\"\",'Line 1 Source'!F1061,\"\")","v":18010630}]
[{"$f":"IF('Line 1 Source'!A1062<>\"\",'Line 1 Source'!A1062,\"\")","v":"2018"},"4544650",{"$f":"CONCATENATE(VLOOKUP(B1062,'School List'!$B$3:$H$291,6,FALSE),H1062)","v":"46500180"},{"$f":"CONCATENATE(VLOOKUP(B1062,'School List'!$B$3:$D$291,3,FALSE),H1062)","v":"Lake County - LAKE RIDGE SCHOOL CORPORATION0180"},{"$f":"IF('Line 1 Source'!B1062<>\"\",'Line 1 Source'!B1062,\"\")","v":"45"},{"$f":"IF('Line 1 Source'!C1062<>\"\",'Line 1 Source'!C1062,\"\")","v":"4"},{"$f":"IF('Line 1 Source'!D1062<>\"\",'Line 1 Source'!D1062,\"\")","v":"4650"},{"$f":"IF('Line 1 Source'!E1062<>\"\",'Line 1 Source'!E1062,\"\")","v":"0180"},{"$f":"IF('Line 1 Source'!F1062<>\"\",'Line 1 Source'!F1062,\"\")","v":1875275}]
[{"$f":"IF('Line 1 Source'!A1063<>\"\",'Line 1 Source'!A1063,\"\")","v":"2018"},"4544650",{"$f":"CONCATENATE(VLOOKUP(B1063,'School List'!$B$3:$H$291,6,FALSE),H1063)","v":"46500188"},{"$f":"CONCATENATE(VLOOKUP(B1063,'School List'!$B$3:$D$291,3,FALSE),H1063)","v":"Lake County - LAKE RIDGE SCHOOL CORPORATION0188"},{"$f":"IF('Line 1 Source'!B1063<>\"\",'Line 1 Source'!B1063,\"\")","v":"45"},{"$f":"IF('Line 1 Source'!C1063<>\"\",'Line 1 Source'!C1063,\"\")","v":"4"},{"$f":"IF('Line 1 Source'!D1063<>\"\",'Line 1 Source'!D1063,\"\")","v":"4650"},{"$f":"IF('Line 1 Source'!E1063<>\"\",'Line 1 Source'!E1063,\"\")","v":"0188"},{"$f":"IF('Line 1 Source'!F1063<>\"\",'Line 1 Source'!F1063,\"\")","v":2300056}]
[{"$f":"IF('Line 1 Source'!A1064<>\"\",'Line 1 Source'!A1064,\"\")","v":"2018"},"4544650",{"$f":"CONCATENATE(VLOOKUP(B1064,'School List'!$B$3:$H$291,6,FALSE),H1064)","v":"46501214"},{"$f":"CONCATENATE(VLOOKUP(B1064,'School List'!$B$3:$D$291,3,FALSE),H1064)","v":"Lake County - LAKE RIDGE SCHOOL CORPORATION1214"},{"$f":"IF('Line 1 Source'!B1064<>\"\",'Line 1 Source'!B1064,\"\")","v":"45"},{"$f":"IF('Line 1 Source'!C1064<>\"\",'Line 1 Source'!C1064,\"\")","v":"4"},{"$f":"IF('Line 1 Source'!D1064<>\"\",'Line 1 Source'!D1064,\"\")","v":"4650"},{"$f":"IF('Line 1 Source'!E1064<>\"\",'Line 1 Source'!E1064,\"\")","v":"1214"},{"$f":"IF('Line 1 Source'!F1064<>\"\",'Line 1 Source'!F1064,\"\")","v":974398}]
[{"$f":"IF('Line 1 Source'!A1065<>\"\",'Line 1 Source'!A1065,\"\")","v":"2018"},"4544650",{"$f":"CONCATENATE(VLOOKUP(B1065,'School List'!$B$3:$H$291,6,FALSE),H1065)","v":"46506301"},{"$f":"CONCATENATE(VLOOKUP(B1065,'School List'!$B$3:$D$291,3,FALSE),H1065)","v":"Lake County - LAKE RIDGE SCHOOL CORPORATION6301"},{"$f":"IF('Line 1 Source'!B1065<>\"\",'Line 1 Source'!B1065,\"\")","v":"45"},{"$f":"IF('Line 1 Source'!C1065<>\"\",'Line 1 Source'!C1065,\"\")","v":"4"},{"$f":"IF('Line 1 Source'!D1065<>\"\",'Line 1 Source'!D1065,\"\")","v":"4650"},{"$f":"IF('Line 1 Source'!E1065<>\"\",'Line 1 Source'!E1065,\"\")","v":"6301"},{"$f":"IF('Line 1 Source'!F1065<>\"\",'Line 1 Source'!F1065,\"\")","v":1703753}]
[{"$f":"IF('Line 1 Source'!A1066<>\"\",'Line 1 Source'!A1066,\"\")","v":"2018"},"4544650",{"$f":"CONCATENATE(VLOOKUP(B1066,'School List'!$B$3:$H$291,6,FALSE),H1066)","v":"46506302"},{"$f":"CONCATENATE(VLOOKUP(B1066,'School List'!$B$3:$D$291,3,FALSE),H1066)","v":"Lake County - LAKE RIDGE SCHOOL CORPORATION6302"},{"$f":"IF('Line 1 Source'!B1066<>\"\",'Line 1 Source'!B1066,\"\")","v":"45"},{"$f":"IF('Line 1 Source'!C1066<>\"\",'Line 1 Source'!C1066,\"\")","v":"4"},{"$f":"IF('Line 1 Source'!D1066<>\"\",'Line 1 Source'!D1066,\"\")","v":"4650"},{"$f":"IF('Line 1 Source'!E1066<>\"\",'Line 1 Source'!E1066,\"\")","v":"6302"},{"$f":"IF('Line 1 Source'!F1066<>\"\",'Line 1 Source'!F1066,\"\")","v":291828}]
[{"$f":"IF('Line 1 Source'!A1067<>\"\",'Line 1 Source'!A1067,\"\")","v":"2018"},"4544660",{"$f":"CONCATENATE(VLOOKUP(B1067,'School List'!$B$3:$H$291,6,FALSE),H1067)","v":"46600022"},{"$f":"CONCATENATE(VLOOKUP(B1067,'School List'!$B$3:$D$291,3,FALSE),H1067)","v":"Lake County - CROWN POINT COMMUNITY SCHOOL CORPORATION0022"},{"$f":"IF('Line 1 Source'!B1067<>\"\",'Line 1 Source'!B1067,\"\")","v":"45"},{"$f":"IF('Line 1 Source'!C1067<>\"\",'Line 1 Source'!C1067,\"\")","v":"4"},{"$f":"IF('Line 1 Source'!D1067<>\"\",'Line 1 Source'!D1067,\"\")","v":"4660"},{"$f":"IF('Line 1 Source'!E1067<>\"\",'Line 1 Source'!E1067,\"\")","v":"0022"},{"$f":"IF('Line 1 Source'!F1067<>\"\",'Line 1 Source'!F1067,\"\")","v":6466645}]
[{"$f":"IF('Line 1 Source'!A1068<>\"\",'Line 1 Source'!A1068,\"\")","v":"2018"},"4544660",{"$f":"CONCATENATE(VLOOKUP(B1068,'School List'!$B$3:$H$291,6,FALSE),H1068)","v":"46600061"},{"$f":"CONCATENATE(VLOOKUP(B1068,'School List'!$B$3:$D$291,3,FALSE),H1068)","v":"Lake County - CROWN POINT COMMUNITY SCHOOL CORPORATION0061"},{"$f":"IF('Line 1 Source'!B1068<>\"\",'Line 1 Source'!B1068,\"\")","v":"45"},{"$f":"IF('Line 1 Source'!C1068<>\"\",'Line 1 Source'!C1068,\"\")","v":"4"},{"$f":"IF('Line 1 Source'!D1068<>\"\",'Line 1 Source'!D1068,\"\")","v":"4660"},{"$f":"IF('Line 1 Source'!E1068<>\"\",'Line 1 Source'!E1068,\"\")","v":"0061"},{"$f":"IF('Line 1 Source'!F1068<>\"\",'Line 1 Source'!F1068,\"\")","v":420000}]
[{"$f":"IF('Line 1 Source'!A1069<>\"\",'Line 1 Source'!A1069,\"\")","v":"2018"},"4544660",{"$f":"CONCATENATE(VLOOKUP(B1069,'School List'!$B$3:$H$291,6,FALSE),H1069)","v":"46600101"},{"$f":"CONCATENATE(VLOOKUP(B1069,'School List'!$B$3:$D$291,3,FALSE),H1069)","v":"Lake County - CROWN POINT COMMUNITY SCHOOL CORPORATION0101"},{"$f":"IF('Line 1 Source'!B1069<>\"\",'Line 1 Source'!B1069,\"\")","v":"45"},{"$f":"IF('Line 1 Source'!C1069<>\"\",'Line 1 Source'!C1069,\"\")","v":"4"},{"$f":"IF('Line 1 Source'!D1069<>\"\",'Line 1 Source'!D1069,\"\")","v":"4660"},{"$f":"IF('Line 1 Source'!E1069<>\"\",'Line 1 Source'!E1069,\"\")","v":"0101"},{"$f":"IF('Line 1 Source'!F1069<>\"\",'Line 1 Source'!F1069,\"\")","v":52000000}]
[{"$f":"IF('Line 1 Source'!A1070<>\"\",'Line 1 Source'!A1070,\"\")","v":"2018"},"4544660",{"$f":"CONCATENATE(VLOOKUP(B1070,'School List'!$B$3:$H$291,6,FALSE),H1070)","v":"46600180"},{"$f":"CONCATENATE(VLOOKUP(B1070,'School List'!$B$3:$D$291,3,FALSE),H1070)","v":"Lake County - CROWN POINT COMMUNITY SCHOOL CORPORATION0180"},{"$f":"IF('Line 1 Source'!B1070<>\"\",'Line 1 Source'!B1070,\"\")","v":"45"},{"$f":"IF('Line 1 Source'!C1070<>\"\",'Line 1 Source'!C1070,\"\")","v":"4"},{"$f":"IF('Line 1 Source'!D1070<>\"\",'Line 1 Source'!D1070,\"\")","v":"4660"},{"$f":"IF('Line 1 Source'!E1070<>\"\",'Line 1 Source'!E1070,\"\")","v":"0180"},{"$f":"IF('Line 1 Source'!F1070<>\"\",'Line 1 Source'!F1070,\"\")","v":2289428}]
[{"$f":"IF('Line 1 Source'!A1071<>\"\",'Line 1 Source'!A1071,\"\")","v":"2018"},"4544660",{"$f":"CONCATENATE(VLOOKUP(B1071,'School List'!$B$3:$H$291,6,FALSE),H1071)","v":"46600188"},{"$f":"CONCATENATE(VLOOKUP(B1071,'School List'!$B$3:$D$291,3,FALSE),H1071)","v":"Lake County - CROWN POINT COMMUNITY SCHOOL CORPORATION0188"},{"$f":"IF('Line 1 Source'!B1071<>\"\",'Line 1 Source'!B1071,\"\")","v":"45"},{"$f":"IF('Line 1 Source'!C1071<>\"\",'Line 1 Source'!C1071,\"\")","v":"4"},{"$f":"IF('Line 1 Source'!D1071<>\"\",'Line 1 Source'!D1071,\"\")","v":"4660"},{"$f":"IF('Line 1 Source'!E1071<>\"\",'Line 1 Source'!E1071,\"\")","v":"0188"},{"$f":"IF('Line 1 Source'!F1071<>\"\",'Line 1 Source'!F1071,\"\")","v":21112989}]
[{"$f":"IF('Line 1 Source'!A1072<>\"\",'Line 1 Source'!A1072,\"\")","v":"2018"},"4544660",{"$f":"CONCATENATE(VLOOKUP(B1072,'School List'!$B$3:$H$291,6,FALSE),H1072)","v":"46601214"},{"$f":"CONCATENATE(VLOOKUP(B1072,'School List'!$B$3:$D$291,3,FALSE),H1072)","v":"Lake County - CROWN POINT COMMUNITY SCHOOL CORPORATION1214"},{"$f":"IF('Line 1 Source'!B1072<>\"\",'Line 1 Source'!B1072,\"\")","v":"45"},{"$f":"IF('Line 1 Source'!C1072<>\"\",'Line 1 Source'!C1072,\"\")","v":"4"},{"$f":"IF('Line 1 Source'!D1072<>\"\",'Line 1 Source'!D1072,\"\")","v":"4660"},{"$f":"IF('Line 1 Source'!E1072<>\"\",'Line 1 Source'!E1072,\"\")","v":"1214"},{"$f":"IF('Line 1 Source'!F1072<>\"\",'Line 1 Source'!F1072,\"\")","v":4855583}]
[{"$f":"IF('Line 1 Source'!A1073<>\"\",'Line 1 Source'!A1073,\"\")","v":"2018"},"4544660",{"$f":"CONCATENATE(VLOOKUP(B1073,'School List'!$B$3:$H$291,6,FALSE),H1073)","v":"46606301"},{"$f":"CONCATENATE(VLOOKUP(B1073,'School List'!$B$3:$D$291,3,FALSE),H1073)","v":"Lake County - CROWN POINT COMMUNITY SCHOOL CORPORATION6301"},{"$f":"IF('Line 1 Source'!B1073<>\"\",'Line 1 Source'!B1073,\"\")","v":"45"},{"$f":"IF('Line 1 Source'!C1073<>\"\",'Line 1 Source'!C1073,\"\")","v":"4"},{"$f":"IF('Line 1 Source'!D1073<>\"\",'Line 1 Source'!D1073,\"\")","v":"4660"},{"$f":"IF('Line 1 Source'!E1073<>\"\",'Line 1 Source'!E1073,\"\")","v":"6301"},{"$f":"IF('Line 1 Source'!F1073<>\"\",'Line 1 Source'!F1073,\"\")","v":4092342}]
[{"$f":"IF('Line 1 Source'!A1074<>\"\",'Line 1 Source'!A1074,\"\")","v":"2018"},"4544660",{"$f":"CONCATENATE(VLOOKUP(B1074,'School List'!$B$3:$H$291,6,FALSE),H1074)","v":"46606302"},{"$f":"CONCATENATE(VLOOKUP(B1074,'School List'!$B$3:$D$291,3,FALSE),H1074)","v":"Lake County - CROWN POINT COMMUNITY SCHOOL CORPORATION6302"},{"$f":"IF('Line 1 Source'!B1074<>\"\",'Line 1 Source'!B1074,\"\")","v":"45"},{"$f":"IF('Line 1 Source'!C1074<>\"\",'Line 1 Source'!C1074,\"\")","v":"4"},{"$f":"IF('Line 1 Source'!D1074<>\"\",'Line 1 Source'!D1074,\"\")","v":"4660"},{"$f":"IF('Line 1 Source'!E1074<>\"\",'Line 1 Source'!E1074,\"\")","v":"6302"},{"$f":"IF('Line 1 Source'!F1074<>\"\",'Line 1 Source'!F1074,\"\")","v":750000}]
[{"$f":"IF('Line 1 Source'!A1075<>\"\",'Line 1 Source'!A1075,\"\")","v":"2018"},"4544670",{"$f":"CONCATENATE(VLOOKUP(B1075,'School List'!$B$3:$H$291,6,FALSE),H1075)","v":"46700101"},{"$f":"CONCATENATE(VLOOKUP(B1075,'School List'!$B$3:$D$291,3,FALSE),H1075)","v":"Lake County - SCHOOL CITY OF EAST CHICAGO SCHOOL CORP0101"},{"$f":"IF('Line 1 Source'!B1075<>\"\",'Line 1 Source'!B1075,\"\")","v":"45"},{"$f":"IF('Line 1 Source'!C1075<>\"\",'Line 1 Source'!C1075,\"\")","v":"4"},{"$f":"IF('Line 1 Source'!D1075<>\"\",'Line 1 Source'!D1075,\"\")","v":"4670"},{"$f":"IF('Line 1 Source'!E1075<>\"\",'Line 1 Source'!E1075,\"\")","v":"0101"},{"$f":"IF('Line 1 Source'!F1075<>\"\",'Line 1 Source'!F1075,\"\")","v":33236695}]
[{"$f":"IF('Line 1 Source'!A1076<>\"\",'Line 1 Source'!A1076,\"\")","v":"2018"},"4544670",{"$f":"CONCATENATE(VLOOKUP(B1076,'School List'!$B$3:$H$291,6,FALSE),H1076)","v":"46700180"},{"$f":"CONCATENATE(VLOOKUP(B1076,'School List'!$B$3:$D$291,3,FALSE),H1076)","v":"Lake County - SCHOOL CITY OF EAST CHICAGO SCHOOL CORP0180"},{"$f":"IF('Line 1 Source'!B1076<>\"\",'Line 1 Source'!B1076,\"\")","v":"45"},{"$f":"IF('Line 1 Source'!C1076<>\"\",'Line 1 Source'!C1076,\"\")","v":"4"},{"$f":"IF('Line 1 Source'!D1076<>\"\",'Line 1 Source'!D1076,\"\")","v":"4670"},{"$f":"IF('Line 1 Source'!E1076<>\"\",'Line 1 Source'!E1076,\"\")","v":"0180"},{"$f":"IF('Line 1 Source'!F1076<>\"\",'Line 1 Source'!F1076,\"\")","v":2011620}]
[{"$f":"IF('Line 1 Source'!A1077<>\"\",'Line 1 Source'!A1077,\"\")","v":"2018"},"4544670",{"$f":"CONCATENATE(VLOOKUP(B1077,'School List'!$B$3:$H$291,6,FALSE),H1077)","v":"46700188"},{"$f":"CONCATENATE(VLOOKUP(B1077,'School List'!$B$3:$D$291,3,FALSE),H1077)","v":"Lake County - SCHOOL CITY OF EAST CHICAGO SCHOOL CORP0188"},{"$f":"IF('Line 1 Source'!B1077<>\"\",'Line 1 Source'!B1077,\"\")","v":"45"},{"$f":"IF('Line 1 Source'!C1077<>\"\",'Line 1 Source'!C1077,\"\")","v":"4"},{"$f":"IF('Line 1 Source'!D1077<>\"\",'Line 1 Source'!D1077,\"\")","v":"4670"},{"$f":"IF('Line 1 Source'!E1077<>\"\",'Line 1 Source'!E1077,\"\")","v":"0188"},{"$f":"IF('Line 1 Source'!F1077<>\"\",'Line 1 Source'!F1077,\"\")","v":736000}]
[{"$f":"IF('Line 1 Source'!A1078<>\"\",'Line 1 Source'!A1078,\"\")","v":"2018"},"4544670",{"$f":"CONCATENATE(VLOOKUP(B1078,'School List'!$B$3:$H$291,6,FALSE),H1078)","v":"46700189"},{"$f":"CONCATENATE(VLOOKUP(B1078,'School List'!$B$3:$D$291,3,FALSE),H1078)","v":"Lake County - SCHOOL CITY OF EAST CHICAGO SCHOOL CORP0189"},{"$f":"IF('Line 1 Source'!B1078<>\"\",'Line 1 Source'!B1078,\"\")","v":"45"},{"$f":"IF('Line 1 Source'!C1078<>\"\",'Line 1 Source'!C1078,\"\")","v":"4"},{"$f":"IF('Line 1 Source'!D1078<>\"\",'Line 1 Source'!D1078,\"\")","v":"4670"},{"$f":"IF('Line 1 Source'!E1078<>\"\",'Line 1 Source'!E1078,\"\")","v":"0189"},{"$f":"IF('Line 1 Source'!F1078<>\"\",'Line 1 Source'!F1078,\"\")","v":392705}]
[{"$f":"IF('Line 1 Source'!A1079<>\"\",'Line 1 Source'!A1079,\"\")","v":"2018"},"4544670",{"$f":"CONCATENATE(VLOOKUP(B1079,'School List'!$B$3:$H$291,6,FALSE),H1079)","v":"46701214"},{"$f":"CONCATENATE(VLOOKUP(B1079,'School List'!$B$3:$D$291,3,FALSE),H1079)","v":"Lake County - SCHOOL CITY OF EAST CHICAGO SCHOOL CORP1214"},{"$f":"IF('Line 1 Source'!B1079<>\"\",'Line 1 Source'!B1079,\"\")","v":"45"},{"$f":"IF('Line 1 Source'!C1079<>\"\",'Line 1 Source'!C1079,\"\")","v":"4"},{"$f":"IF('Line 1 Source'!D1079<>\"\",'Line 1 Source'!D1079,\"\")","v":"4670"},{"$f":"IF('Line 1 Source'!E1079<>\"\",'Line 1 Source'!E1079,\"\")","v":"1214"},{"$f":"IF('Line 1 Source'!F1079<>\"\",'Line 1 Source'!F1079,\"\")","v":3798903}]
[{"$f":"IF('Line 1 Source'!A1080<>\"\",'Line 1 Source'!A1080,\"\")","v":"2018"},"4544670",{"$f":"CONCATENATE(VLOOKUP(B1080,'School List'!$B$3:$H$291,6,FALSE),H1080)","v":"46706301"},{"$f":"CONCATENATE(VLOOKUP(B1080,'School List'!$B$3:$D$291,3,FALSE),H1080)","v":"Lake County - SCHOOL CITY OF EAST CHICAGO SCHOOL CORP6301"},{"$f":"IF('Line 1 Source'!B1080<>\"\",'Line 1 Source'!B1080,\"\")","v":"45"},{"$f":"IF('Line 1 Source'!C1080<>\"\",'Line 1 Source'!C1080,\"\")","v":"4"},{"$f":"IF('Line 1 Source'!D1080<>\"\",'Line 1 Source'!D1080,\"\")","v":"4670"},{"$f":"IF('Line 1 Source'!E1080<>\"\",'Line 1 Source'!E1080,\"\")","v":"6301"},{"$f":"IF('Line 1 Source'!F1080<>\"\",'Line 1 Source'!F1080,\"\")","v":3683640}]
[{"$f":"IF('Line 1 Source'!A1081<>\"\",'Line 1 Source'!A1081,\"\")","v":"2018"},"4544670",{"$f":"CONCATENATE(VLOOKUP(B1081,'School List'!$B$3:$H$291,6,FALSE),H1081)","v":"46706302"},{"$f":"CONCATENATE(VLOOKUP(B1081,'School List'!$B$3:$D$291,3,FALSE),H1081)","v":"Lake County - SCHOOL CITY OF EAST CHICAGO SCHOOL CORP6302"},{"$f":"IF('Line 1 Source'!B1081<>\"\",'Line 1 Source'!B1081,\"\")","v":"45"},{"$f":"IF('Line 1 Source'!C1081<>\"\",'Line 1 Source'!C1081,\"\")","v":"4"},{"$f":"IF('Line 1 Source'!D1081<>\"\",'Line 1 Source'!D1081,\"\")","v":"4670"},{"$f":"IF('Line 1 Source'!E1081<>\"\",'Line 1 Source'!E1081,\"\")","v":"6302"},{"$f":"IF('Line 1 Source'!F1081<>\"\",'Line 1 Source'!F1081,\"\")","v":230179}]
[{"$f":"IF('Line 1 Source'!A1082<>\"\",'Line 1 Source'!A1082,\"\")","v":"2018"},"4544680",{"$f":"CONCATENATE(VLOOKUP(B1082,'School List'!$B$3:$H$291,6,FALSE),H1082)","v":"46800022"},{"$f":"CONCATENATE(VLOOKUP(B1082,'School List'!$B$3:$D$291,3,FALSE),H1082)","v":"Lake County - LAKE STATION SCHOOL CORPORATION0022"},{"$f":"IF('Line 1 Source'!B1082<>\"\",'Line 1 Source'!B1082,\"\")","v":"45"},{"$f":"IF('Line 1 Source'!C1082<>\"\",'Line 1 Source'!C1082,\"\")","v":"4"},{"$f":"IF('Line 1 Source'!D1082<>\"\",'Line 1 Source'!D1082,\"\")","v":"4680"},{"$f":"IF('Line 1 Source'!E1082<>\"\",'Line 1 Source'!E1082,\"\")","v":"0022"},{"$f":"IF('Line 1 Source'!F1082<>\"\",'Line 1 Source'!F1082,\"\")","v":1024799}]
[{"$f":"IF('Line 1 Source'!A1083<>\"\",'Line 1 Source'!A1083,\"\")","v":"2018"},"4544680",{"$f":"CONCATENATE(VLOOKUP(B1083,'School List'!$B$3:$H$291,6,FALSE),H1083)","v":"46800101"},{"$f":"CONCATENATE(VLOOKUP(B1083,'School List'!$B$3:$D$291,3,FALSE),H1083)","v":"Lake County - LAKE STATION SCHOOL CORPORATION0101"},{"$f":"IF('Line 1 Source'!B1083<>\"\",'Line 1 Source'!B1083,\"\")","v":"45"},{"$f":"IF('Line 1 Source'!C1083<>\"\",'Line 1 Source'!C1083,\"\")","v":"4"},{"$f":"IF('Line 1 Source'!D1083<>\"\",'Line 1 Source'!D1083,\"\")","v":"4680"},{"$f":"IF('Line 1 Source'!E1083<>\"\",'Line 1 Source'!E1083,\"\")","v":"0101"},{"$f":"IF('Line 1 Source'!F1083<>\"\",'Line 1 Source'!F1083,\"\")","v":9345551}]
[{"$f":"IF('Line 1 Source'!A1084<>\"\",'Line 1 Source'!A1084,\"\")","v":"2018"},"4544680",{"$f":"CONCATENATE(VLOOKUP(B1084,'School List'!$B$3:$H$291,6,FALSE),H1084)","v":"46800180"},{"$f":"CONCATENATE(VLOOKUP(B1084,'School List'!$B$3:$D$291,3,FALSE),H1084)","v":"Lake County - LAKE STATION SCHOOL CORPORATION0180"},{"$f":"IF('Line 1 Source'!B1084<>\"\",'Line 1 Source'!B1084,\"\")","v":"45"},{"$f":"IF('Line 1 Source'!C1084<>\"\",'Line 1 Source'!C1084,\"\")","v":"4"},{"$f":"IF('Line 1 Source'!D1084<>\"\",'Line 1 Source'!D1084,\"\")","v":"4680"},{"$f":"IF('Line 1 Source'!E1084<>\"\",'Line 1 Source'!E1084,\"\")","v":"0180"},{"$f":"IF('Line 1 Source'!F1084<>\"\",'Line 1 Source'!F1084,\"\")","v":1158328}]
[{"$f":"IF('Line 1 Source'!A1085<>\"\",'Line 1 Source'!A1085,\"\")","v":"2018"},"4544680",{"$f":"CONCATENATE(VLOOKUP(B1085,'School List'!$B$3:$H$291,6,FALSE),H1085)","v":"46800188"},{"$f":"CONCATENATE(VLOOKUP(B1085,'School List'!$B$3:$D$291,3,FALSE),H1085)","v":"Lake County - LAKE STATION SCHOOL CORPORATION0188"},{"$f":"IF('Line 1 Source'!B1085<>\"\",'Line 1 Source'!B1085,\"\")","v":"45"},{"$f":"IF('Line 1 Source'!C1085<>\"\",'Line 1 Source'!C1085,\"\")","v":"4"},{"$f":"IF('Line 1 Source'!D1085<>\"\",'Line 1 Source'!D1085,\"\")","v":"4680"},{"$f":"IF('Line 1 Source'!E1085<>\"\",'Line 1 Source'!E1085,\"\")","v":"0188"},{"$f":"IF('Line 1 Source'!F1085<>\"\",'Line 1 Source'!F1085,\"\")","v":794822}]
[{"$f":"IF('Line 1 Source'!A1086<>\"\",'Line 1 Source'!A1086,\"\")","v":"2018"},"4544680",{"$f":"CONCATENATE(VLOOKUP(B1086,'School List'!$B$3:$H$291,6,FALSE),H1086)","v":"46801214"},{"$f":"CONCATENATE(VLOOKUP(B1086,'School List'!$B$3:$D$291,3,FALSE),H1086)","v":"Lake County - LAKE STATION SCHOOL CORPORATION1214"},{"$f":"IF('Line 1 Source'!B1086<>\"\",'Line 1 Source'!B1086,\"\")","v":"45"},{"$f":"IF('Line 1 Source'!C1086<>\"\",'Line 1 Source'!C1086,\"\")","v":"4"},{"$f":"IF('Line 1 Source'!D1086<>\"\",'Line 1 Source'!D1086,\"\")","v":"4680"},{"$f":"IF('Line 1 Source'!E1086<>\"\",'Line 1 Source'!E1086,\"\")","v":"1214"},{"$f":"IF('Line 1 Source'!F1086<>\"\",'Line 1 Source'!F1086,\"\")","v":629393}]
[{"$f":"IF('Line 1 Source'!A1087<>\"\",'Line 1 Source'!A1087,\"\")","v":"2018"},"4544680",{"$f":"CONCATENATE(VLOOKUP(B1087,'School List'!$B$3:$H$291,6,FALSE),H1087)","v":"46806301"},{"$f":"CONCATENATE(VLOOKUP(B1087,'School List'!$B$3:$D$291,3,FALSE),H1087)","v":"Lake County - LAKE STATION SCHOOL CORPORATION6301"},{"$f":"IF('Line 1 Source'!B1087<>\"\",'Line 1 Source'!B1087,\"\")","v":"45"},{"$f":"IF('Line 1 Source'!C1087<>\"\",'Line 1 Source'!C1087,\"\")","v":"4"},{"$f":"IF('Line 1 Source'!D1087<>\"\",'Line 1 Source'!D1087,\"\")","v":"4680"},{"$f":"IF('Line 1 Source'!E1087<>\"\",'Line 1 Source'!E1087,\"\")","v":"6301"},{"$f":"IF('Line 1 Source'!F1087<>\"\",'Line 1 Source'!F1087,\"\")","v":650000}]
[{"$f":"IF('Line 1 Source'!A1088<>\"\",'Line 1 Source'!A1088,\"\")","v":"2018"},"4544680",{"$f":"CONCATENATE(VLOOKUP(B1088,'School List'!$B$3:$H$291,6,FALSE),H1088)","v":"46806302"},{"$f":"CONCATENATE(VLOOKUP(B1088,'School List'!$B$3:$D$291,3,FALSE),H1088)","v":"Lake County - LAKE STATION SCHOOL CORPORATION6302"},{"$f":"IF('Line 1 Source'!B1088<>\"\",'Line 1 Source'!B1088,\"\")","v":"45"},{"$f":"IF('Line 1 Source'!C1088<>\"\",'Line 1 Source'!C1088,\"\")","v":"4"},{"$f":"IF('Line 1 Source'!D1088<>\"\",'Line 1 Source'!D1088,\"\")","v":"4680"},{"$f":"IF('Line 1 Source'!E1088<>\"\",'Line 1 Source'!E1088,\"\")","v":"6302"},{"$f":"IF('Line 1 Source'!F1088<>\"\",'Line 1 Source'!F1088,\"\")","v":83786}]
[{"$f":"IF('Line 1 Source'!A1089<>\"\",'Line 1 Source'!A1089,\"\")","v":"2018"},"4544690",{"$f":"CONCATENATE(VLOOKUP(B1089,'School List'!$B$3:$H$291,6,FALSE),H1089)","v":"46900101"},{"$f":"CONCATENATE(VLOOKUP(B1089,'School List'!$B$3:$D$291,3,FALSE),H1089)","v":"Lake County - GARY COMMUNITY SCHOOL CORPORATION0101"},{"$f":"IF('Line 1 Source'!B1089<>\"\",'Line 1 Source'!B1089,\"\")","v":"45"},{"$f":"IF('Line 1 Source'!C1089<>\"\",'Line 1 Source'!C1089,\"\")","v":"4"},{"$f":"IF('Line 1 Source'!D1089<>\"\",'Line 1 Source'!D1089,\"\")","v":"4690"},{"$f":"IF('Line 1 Source'!E1089<>\"\",'Line 1 Source'!E1089,\"\")","v":"0101"},{"$f":"IF('Line 1 Source'!F1089<>\"\",'Line 1 Source'!F1089,\"\")","v":50442048}]
[{"$f":"IF('Line 1 Source'!A1090<>\"\",'Line 1 Source'!A1090,\"\")","v":"2018"},"4544690",{"$f":"CONCATENATE(VLOOKUP(B1090,'School List'!$B$3:$H$291,6,FALSE),H1090)","v":"46900180"},{"$f":"CONCATENATE(VLOOKUP(B1090,'School List'!$B$3:$D$291,3,FALSE),H1090)","v":"Lake County - GARY COMMUNITY SCHOOL CORPORATION0180"},{"$f":"IF('Line 1 Source'!B1090<>\"\",'Line 1 Source'!B1090,\"\")","v":"45"},{"$f":"IF('Line 1 Source'!C1090<>\"\",'Line 1 Source'!C1090,\"\")","v":"4"},{"$f":"IF('Line 1 Source'!D1090<>\"\",'Line 1 Source'!D1090,\"\")","v":"4690"},{"$f":"IF('Line 1 Source'!E1090<>\"\",'Line 1 Source'!E1090,\"\")","v":"0180"},{"$f":"IF('Line 1 Source'!F1090<>\"\",'Line 1 Source'!F1090,\"\")","v":7624340}]
[{"$f":"IF('Line 1 Source'!A1091<>\"\",'Line 1 Source'!A1091,\"\")","v":"2018"},{"$f":"CONCATENATE(E1091,F1091,G1091)","v":"4544690"},{"$f":"CONCATENATE(VLOOKUP(B1091,'School List'!$B$3:$H$291,6,FALSE),H1091)","v":"46900188"},{"$f":"CONCATENATE(VLOOKUP(B1091,'School List'!$B$3:$D$291,3,FALSE),H1091)","v":"Lake County - GARY COMMUNITY SCHOOL CORPORATION0188"},{"$f":"IF('Line 1 Source'!B1091<>\"\",'Line 1 Source'!B1091,\"\")","v":"45"},{"$f":"IF('Line 1 Source'!C1091<>\"\",'Line 1 Source'!C1091,\"\")","v":"4"},{"$f":"IF('Line 1 Source'!D1091<>\"\",'Line 1 Source'!D1091,\"\")","v":"4690"},{"$f":"IF('Line 1 Source'!E1091<>\"\",'Line 1 Source'!E1091,\"\")","v":"0188"},{"$f":"IF('Line 1 Source'!F1091<>\"\",'Line 1 Source'!F1091,\"\")","v":2261857}]
[{"$f":"IF('Line 1 Source'!A1092<>\"\",'Line 1 Source'!A1092,\"\")","v":"2018"},"4544690",{"$f":"CONCATENATE(VLOOKUP(B1092,'School List'!$B$3:$H$291,6,FALSE),H1092)","v":"46901214"},{"$f":"CONCATENATE(VLOOKUP(B1092,'School List'!$B$3:$D$291,3,FALSE),H1092)","v":"Lake County - GARY COMMUNITY SCHOOL CORPORATION1214"},{"$f":"IF('Line 1 Source'!B1092<>\"\",'Line 1 Source'!B1092,\"\")","v":"45"},{"$f":"IF('Line 1 Source'!C1092<>\"\",'Line 1 Source'!C1092,\"\")","v":"4"},{"$f":"IF('Line 1 Source'!D1092<>\"\",'Line 1 Source'!D1092,\"\")","v":"4690"},{"$f":"IF('Line 1 Source'!E1092<>\"\",'Line 1 Source'!E1092,\"\")","v":"1214"},{"$f":"IF('Line 1 Source'!F1092<>\"\",'Line 1 Source'!F1092,\"\")","v":5722923}]
[{"$f":"IF('Line 1 Source'!A1093<>\"\",'Line 1 Source'!A1093,\"\")","v":"2018"},"4544690",{"$f":"CONCATENATE(VLOOKUP(B1093,'School List'!$B$3:$H$291,6,FALSE),H1093)","v":"46906301"},{"$f":"CONCATENATE(VLOOKUP(B1093,'School List'!$B$3:$D$291,3,FALSE),H1093)","v":"Lake County - GARY COMMUNITY SCHOOL CORPORATION6301"},{"$f":"IF('Line 1 Source'!B1093<>\"\",'Line 1 Source'!B1093,\"\")","v":"45"},{"$f":"IF('Line 1 Source'!C1093<>\"\",'Line 1 Source'!C1093,\"\")","v":"4"},{"$f":"IF('Line 1 Source'!D1093<>\"\",'Line 1 Source'!D1093,\"\")","v":"4690"},{"$f":"IF('Line 1 Source'!E1093<>\"\",'Line 1 Source'!E1093,\"\")","v":"6301"},{"$f":"IF('Line 1 Source'!F1093<>\"\",'Line 1 Source'!F1093,\"\")","v":2747042}]
[{"$f":"IF('Line 1 Source'!A1094<>\"\",'Line 1 Source'!A1094,\"\")","v":"2018"},"4544700",{"$f":"CONCATENATE(VLOOKUP(B1094,'School List'!$B$3:$H$291,6,FALSE),H1094)","v":"47000061"},{"$f":"CONCATENATE(VLOOKUP(B1094,'School List'!$B$3:$D$291,3,FALSE),H1094)","v":"Lake County - GRIFFITH PUBLIC SCHOOL CORPORATION0061"},{"$f":"IF('Line 1 Source'!B1094<>\"\",'Line 1 Source'!B1094,\"\")","v":"45"},{"$f":"IF('Line 1 Source'!C1094<>\"\",'Line 1 Source'!C1094,\"\")","v":"4"},{"$f":"IF('Line 1 Source'!D1094<>\"\",'Line 1 Source'!D1094,\"\")","v":"4700"},{"$f":"IF('Line 1 Source'!E1094<>\"\",'Line 1 Source'!E1094,\"\")","v":"0061"},{"$f":"IF('Line 1 Source'!F1094<>\"\",'Line 1 Source'!F1094,\"\")","v":145703}]
[{"$f":"IF('Line 1 Source'!A1095<>\"\",'Line 1 Source'!A1095,\"\")","v":"2018"},"4544700",{"$f":"CONCATENATE(VLOOKUP(B1095,'School List'!$B$3:$H$291,6,FALSE),H1095)","v":"47000101"},{"$f":"CONCATENATE(VLOOKUP(B1095,'School List'!$B$3:$D$291,3,FALSE),H1095)","v":"Lake County - GRIFFITH PUBLIC SCHOOL CORPORATION0101"},{"$f":"IF('Line 1 Source'!B1095<>\"\",'Line 1 Source'!B1095,\"\")","v":"45"},{"$f":"IF('Line 1 Source'!C1095<>\"\",'Line 1 Source'!C1095,\"\")","v":"4"},{"$f":"IF('Line 1 Source'!D1095<>\"\",'Line 1 Source'!D1095,\"\")","v":"4700"},{"$f":"IF('Line 1 Source'!E1095<>\"\",'Line 1 Source'!E1095,\"\")","v":"0101"},{"$f":"IF('Line 1 Source'!F1095<>\"\",'Line 1 Source'!F1095,\"\")","v":16677853}]
[{"$f":"IF('Line 1 Source'!A1096<>\"\",'Line 1 Source'!A1096,\"\")","v":"2018"},"4544700",{"$f":"CONCATENATE(VLOOKUP(B1096,'School List'!$B$3:$H$291,6,FALSE),H1096)","v":"47000180"},{"$f":"CONCATENATE(VLOOKUP(B1096,'School List'!$B$3:$D$291,3,FALSE),H1096)","v":"Lake County - GRIFFITH PUBLIC SCHOOL CORPORATION0180"},{"$f":"IF('Line 1 Source'!B1096<>\"\",'Line 1 Source'!B1096,\"\")","v":"45"},{"$f":"IF('Line 1 Source'!C1096<>\"\",'Line 1 Source'!C1096,\"\")","v":"4"},{"$f":"IF('Line 1 Source'!D1096<>\"\",'Line 1 Source'!D1096,\"\")","v":"4700"},{"$f":"IF('Line 1 Source'!E1096<>\"\",'Line 1 Source'!E1096,\"\")","v":"0180"},{"$f":"IF('Line 1 Source'!F1096<>\"\",'Line 1 Source'!F1096,\"\")","v":1418407}]
[{"$f":"IF('Line 1 Source'!A1097<>\"\",'Line 1 Source'!A1097,\"\")","v":"2018"},"4544700",{"$f":"CONCATENATE(VLOOKUP(B1097,'School List'!$B$3:$H$291,6,FALSE),H1097)","v":"47000188"},{"$f":"CONCATENATE(VLOOKUP(B1097,'School List'!$B$3:$D$291,3,FALSE),H1097)","v":"Lake County - GRIFFITH PUBLIC SCHOOL CORPORATION0188"},{"$f":"IF('Line 1 Source'!B1097<>\"\",'Line 1 Source'!B1097,\"\")","v":"45"},{"$f":"IF('Line 1 Source'!C1097<>\"\",'Line 1 Source'!C1097,\"\")","v":"4"},{"$f":"IF('Line 1 Source'!D1097<>\"\",'Line 1 Source'!D1097,\"\")","v":"4700"},{"$f":"IF('Line 1 Source'!E1097<>\"\",'Line 1 Source'!E1097,\"\")","v":"0188"},{"$f":"IF('Line 1 Source'!F1097<>\"\",'Line 1 Source'!F1097,\"\")","v":3511398}]
[{"$f":"IF('Line 1 Source'!A1098<>\"\",'Line 1 Source'!A1098,\"\")","v":"2018"},"4544700",{"$f":"CONCATENATE(VLOOKUP(B1098,'School List'!$B$3:$H$291,6,FALSE),H1098)","v":"47000189"},{"$f":"CONCATENATE(VLOOKUP(B1098,'School List'!$B$3:$D$291,3,FALSE),H1098)","v":"Lake County - GRIFFITH PUBLIC SCHOOL CORPORATION0189"},{"$f":"IF('Line 1 Source'!B1098<>\"\",'Line 1 Source'!B1098,\"\")","v":"45"},{"$f":"IF('Line 1 Source'!C1098<>\"\",'Line 1 Source'!C1098,\"\")","v":"4"},{"$f":"IF('Line 1 Source'!D1098<>\"\",'Line 1 Source'!D1098,\"\")","v":"4700"},{"$f":"IF('Line 1 Source'!E1098<>\"\",'Line 1 Source'!E1098,\"\")","v":"0189"},{"$f":"IF('Line 1 Source'!F1098<>\"\",'Line 1 Source'!F1098,\"\")","v":377260}]
[{"$f":"IF('Line 1 Source'!A1099<>\"\",'Line 1 Source'!A1099,\"\")","v":"2018"},"4544700",{"$f":"CONCATENATE(VLOOKUP(B1099,'School List'!$B$3:$H$291,6,FALSE),H1099)","v":"47001214"},{"$f":"CONCATENATE(VLOOKUP(B1099,'School List'!$B$3:$D$291,3,FALSE),H1099)","v":"Lake County - GRIFFITH PUBLIC SCHOOL CORPORATION1214"},{"$f":"IF('Line 1 Source'!B1099<>\"\",'Line 1 Source'!B1099,\"\")","v":"45"},{"$f":"IF('Line 1 Source'!C1099<>\"\",'Line 1 Source'!C1099,\"\")","v":"4"},{"$f":"IF('Line 1 Source'!D1099<>\"\",'Line 1 Source'!D1099,\"\")","v":"4700"},{"$f":"IF('Line 1 Source'!E1099<>\"\",'Line 1 Source'!E1099,\"\")","v":"1214"},{"$f":"IF('Line 1 Source'!F1099<>\"\",'Line 1 Source'!F1099,\"\")","v":789850}]
[{"$f":"IF('Line 1 Source'!A1100<>\"\",'Line 1 Source'!A1100,\"\")","v":"2018"},"4544700",{"$f":"CONCATENATE(VLOOKUP(B1100,'School List'!$B$3:$H$291,6,FALSE),H1100)","v":"47006301"},{"$f":"CONCATENATE(VLOOKUP(B1100,'School List'!$B$3:$D$291,3,FALSE),H1100)","v":"Lake County - GRIFFITH PUBLIC SCHOOL CORPORATION6301"},{"$f":"IF('Line 1 Source'!B1100<>\"\",'Line 1 Source'!B1100,\"\")","v":"45"},{"$f":"IF('Line 1 Source'!C1100<>\"\",'Line 1 Source'!C1100,\"\")","v":"4"},{"$f":"IF('Line 1 Source'!D1100<>\"\",'Line 1 Source'!D1100,\"\")","v":"4700"},{"$f":"IF('Line 1 Source'!E1100<>\"\",'Line 1 Source'!E1100,\"\")","v":"6301"},{"$f":"IF('Line 1 Source'!F1100<>\"\",'Line 1 Source'!F1100,\"\")","v":794180}]
[{"$f":"IF('Line 1 Source'!A1101<>\"\",'Line 1 Source'!A1101,\"\")","v":"2018"},"4544700",{"$f":"CONCATENATE(VLOOKUP(B1101,'School List'!$B$3:$H$291,6,FALSE),H1101)","v":"47006302"},{"$f":"CONCATENATE(VLOOKUP(B1101,'School List'!$B$3:$D$291,3,FALSE),H1101)","v":"Lake County - GRIFFITH PUBLIC SCHOOL CORPORATION6302"},{"$f":"IF('Line 1 Source'!B1101<>\"\",'Line 1 Source'!B1101,\"\")","v":"45"},{"$f":"IF('Line 1 Source'!C1101<>\"\",'Line 1 Source'!C1101,\"\")","v":"4"},{"$f":"IF('Line 1 Source'!D1101<>\"\",'Line 1 Source'!D1101,\"\")","v":"4700"},{"$f":"IF('Line 1 Source'!E1101<>\"\",'Line 1 Source'!E1101,\"\")","v":"6302"},{"$f":"IF('Line 1 Source'!F1101<>\"\",'Line 1 Source'!F1101,\"\")","v":57000}]
[{"$f":"IF('Line 1 Source'!A1102<>\"\",'Line 1 Source'!A1102,\"\")","v":"2018"},"4544710",{"$f":"CONCATENATE(VLOOKUP(B1102,'School List'!$B$3:$H$291,6,FALSE),H1102)","v":"47100022"},{"$f":"CONCATENATE(VLOOKUP(B1102,'School List'!$B$3:$D$291,3,FALSE),H1102)","v":"Lake County - HAMMOND CITY SCHOOL CORPORATION0022"},{"$f":"IF('Line 1 Source'!B1102<>\"\",'Line 1 Source'!B1102,\"\")","v":"45"},{"$f":"IF('Line 1 Source'!C1102<>\"\",'Line 1 Source'!C1102,\"\")","v":"4"},{"$f":"IF('Line 1 Source'!D1102<>\"\",'Line 1 Source'!D1102,\"\")","v":"4710"},{"$f":"IF('Line 1 Source'!E1102<>\"\",'Line 1 Source'!E1102,\"\")","v":"0022"},{"$f":"IF('Line 1 Source'!F1102<>\"\",'Line 1 Source'!F1102,\"\")","v":10000000}]
[{"$f":"IF('Line 1 Source'!A1103<>\"\",'Line 1 Source'!A1103,\"\")","v":"2018"},"4544710",{"$f":"CONCATENATE(VLOOKUP(B1103,'School List'!$B$3:$H$291,6,FALSE),H1103)","v":"47100101"},{"$f":"CONCATENATE(VLOOKUP(B1103,'School List'!$B$3:$D$291,3,FALSE),H1103)","v":"Lake County - HAMMOND CITY SCHOOL CORPORATION0101"},{"$f":"IF('Line 1 Source'!B1103<>\"\",'Line 1 Source'!B1103,\"\")","v":"45"},{"$f":"IF('Line 1 Source'!C1103<>\"\",'Line 1 Source'!C1103,\"\")","v":"4"},{"$f":"IF('Line 1 Source'!D1103<>\"\",'Line 1 Source'!D1103,\"\")","v":"4710"},{"$f":"IF('Line 1 Source'!E1103<>\"\",'Line 1 Source'!E1103,\"\")","v":"0101"},{"$f":"IF('Line 1 Source'!F1103<>\"\",'Line 1 Source'!F1103,\"\")","v":99710725}]
[{"$f":"IF('Line 1 Source'!A1104<>\"\",'Line 1 Source'!A1104,\"\")","v":"2018"},"4544710",{"$f":"CONCATENATE(VLOOKUP(B1104,'School List'!$B$3:$H$291,6,FALSE),H1104)","v":"47100180"},{"$f":"CONCATENATE(VLOOKUP(B1104,'School List'!$B$3:$D$291,3,FALSE),H1104)","v":"Lake County - HAMMOND CITY SCHOOL CORPORATION0180"},{"$f":"IF('Line 1 Source'!B1104<>\"\",'Line 1 Source'!B1104,\"\")","v":"45"},{"$f":"IF('Line 1 Source'!C1104<>\"\",'Line 1 Source'!C1104,\"\")","v":"4"},{"$f":"IF('Line 1 Source'!D1104<>\"\",'Line 1 Source'!D1104,\"\")","v":"4710"},{"$f":"IF('Line 1 Source'!E1104<>\"\",'Line 1 Source'!E1104,\"\")","v":"0180"},{"$f":"IF('Line 1 Source'!F1104<>\"\",'Line 1 Source'!F1104,\"\")","v":3860132}]
[{"$f":"IF('Line 1 Source'!A1105<>\"\",'Line 1 Source'!A1105,\"\")","v":"2018"},"4544710",{"$f":"CONCATENATE(VLOOKUP(B1105,'School List'!$B$3:$H$291,6,FALSE),H1105)","v":"47100188"},{"$f":"CONCATENATE(VLOOKUP(B1105,'School List'!$B$3:$D$291,3,FALSE),H1105)","v":"Lake County - HAMMOND CITY SCHOOL CORPORATION0188"},{"$f":"IF('Line 1 Source'!B1105<>\"\",'Line 1 Source'!B1105,\"\")","v":"45"},{"$f":"IF('Line 1 Source'!C1105<>\"\",'Line 1 Source'!C1105,\"\")","v":"4"},{"$f":"IF('Line 1 Source'!D1105<>\"\",'Line 1 Source'!D1105,\"\")","v":"4710"},{"$f":"IF('Line 1 Source'!E1105<>\"\",'Line 1 Source'!E1105,\"\")","v":"0188"},{"$f":"IF('Line 1 Source'!F1105<>\"\",'Line 1 Source'!F1105,\"\")","v":17843370}]
[{"$f":"IF('Line 1 Source'!A1106<>\"\",'Line 1 Source'!A1106,\"\")","v":"2018"},"4544710",{"$f":"CONCATENATE(VLOOKUP(B1106,'School List'!$B$3:$H$291,6,FALSE),H1106)","v":"47100189"},{"$f":"CONCATENATE(VLOOKUP(B1106,'School List'!$B$3:$D$291,3,FALSE),H1106)","v":"Lake County - HAMMOND CITY SCHOOL CORPORATION0189"},{"$f":"IF('Line 1 Source'!B1106<>\"\",'Line 1 Source'!B1106,\"\")","v":"45"},{"$f":"IF('Line 1 Source'!C1106<>\"\",'Line 1 Source'!C1106,\"\")","v":"4"},{"$f":"IF('Line 1 Source'!D1106<>\"\",'Line 1 Source'!D1106,\"\")","v":"4710"},{"$f":"IF('Line 1 Source'!E1106<>\"\",'Line 1 Source'!E1106,\"\")","v":"0189"},{"$f":"IF('Line 1 Source'!F1106<>\"\",'Line 1 Source'!F1106,\"\")","v":600899}]
[{"$f":"IF('Line 1 Source'!A1107<>\"\",'Line 1 Source'!A1107,\"\")","v":"2018"},"4544710",{"$f":"CONCATENATE(VLOOKUP(B1107,'School List'!$B$3:$H$291,6,FALSE),H1107)","v":"47101214"},{"$f":"CONCATENATE(VLOOKUP(B1107,'School List'!$B$3:$D$291,3,FALSE),H1107)","v":"Lake County - HAMMOND CITY SCHOOL CORPORATION1214"},{"$f":"IF('Line 1 Source'!B1107<>\"\",'Line 1 Source'!B1107,\"\")","v":"45"},{"$f":"IF('Line 1 Source'!C1107<>\"\",'Line 1 Source'!C1107,\"\")","v":"4"},{"$f":"IF('Line 1 Source'!D1107<>\"\",'Line 1 Source'!D1107,\"\")","v":"4710"},{"$f":"IF('Line 1 Source'!E1107<>\"\",'Line 1 Source'!E1107,\"\")","v":"1214"},{"$f":"IF('Line 1 Source'!F1107<>\"\",'Line 1 Source'!F1107,\"\")","v":2999087}]
[{"$f":"IF('Line 1 Source'!A1108<>\"\",'Line 1 Source'!A1108,\"\")","v":"2018"},"4544710",{"$f":"CONCATENATE(VLOOKUP(B1108,'School List'!$B$3:$H$291,6,FALSE),H1108)","v":"47106301"},{"$f":"CONCATENATE(VLOOKUP(B1108,'School List'!$B$3:$D$291,3,FALSE),H1108)","v":"Lake County - HAMMOND CITY SCHOOL CORPORATION6301"},{"$f":"IF('Line 1 Source'!B1108<>\"\",'Line 1 Source'!B1108,\"\")","v":"45"},{"$f":"IF('Line 1 Source'!C1108<>\"\",'Line 1 Source'!C1108,\"\")","v":"4"},{"$f":"IF('Line 1 Source'!D1108<>\"\",'Line 1 Source'!D1108,\"\")","v":"4710"},{"$f":"IF('Line 1 Source'!E1108<>\"\",'Line 1 Source'!E1108,\"\")","v":"6301"},{"$f":"IF('Line 1 Source'!F1108<>\"\",'Line 1 Source'!F1108,\"\")","v":3337242}]
[{"$f":"IF('Line 1 Source'!A1109<>\"\",'Line 1 Source'!A1109,\"\")","v":"2018"},"4544710",{"$f":"CONCATENATE(VLOOKUP(B1109,'School List'!$B$3:$H$291,6,FALSE),H1109)","v":"47106302"},{"$f":"CONCATENATE(VLOOKUP(B1109,'School List'!$B$3:$D$291,3,FALSE),H1109)","v":"Lake County - HAMMOND CITY SCHOOL CORPORATION6302"},{"$f":"IF('Line 1 Source'!B1109<>\"\",'Line 1 Source'!B1109,\"\")","v":"45"},{"$f":"IF('Line 1 Source'!C1109<>\"\",'Line 1 Source'!C1109,\"\")","v":"4"},{"$f":"IF('Line 1 Source'!D1109<>\"\",'Line 1 Source'!D1109,\"\")","v":"4710"},{"$f":"IF('Line 1 Source'!E1109<>\"\",'Line 1 Source'!E1109,\"\")","v":"6302"},{"$f":"IF('Line 1 Source'!F1109<>\"\",'Line 1 Source'!F1109,\"\")","v":200102}]
[{"$f":"IF('Line 1 Source'!A1110<>\"\",'Line 1 Source'!A1110,\"\")","v":"2018"},"4544720",{"$f":"CONCATENATE(VLOOKUP(B1110,'School List'!$B$3:$H$291,6,FALSE),H1110)","v":"47200101"},{"$f":"CONCATENATE(VLOOKUP(B1110,'School List'!$B$3:$D$291,3,FALSE),H1110)","v":"Lake County - HIGHLAND TOWN SCHOOL CORPORATION0101"},{"$f":"IF('Line 1 Source'!B1110<>\"\",'Line 1 Source'!B1110,\"\")","v":"45"},{"$f":"IF('Line 1 Source'!C1110<>\"\",'Line 1 Source'!C1110,\"\")","v":"4"},{"$f":"IF('Line 1 Source'!D1110<>\"\",'Line 1 Source'!D1110,\"\")","v":"4720"},{"$f":"IF('Line 1 Source'!E1110<>\"\",'Line 1 Source'!E1110,\"\")","v":"0101"},{"$f":"IF('Line 1 Source'!F1110<>\"\",'Line 1 Source'!F1110,\"\")","v":21073150}]
[{"$f":"IF('Line 1 Source'!A1111<>\"\",'Line 1 Source'!A1111,\"\")","v":"2018"},"4544720",{"$f":"CONCATENATE(VLOOKUP(B1111,'School List'!$B$3:$H$291,6,FALSE),H1111)","v":"47200180"},{"$f":"CONCATENATE(VLOOKUP(B1111,'School List'!$B$3:$D$291,3,FALSE),H1111)","v":"Lake County - HIGHLAND TOWN SCHOOL CORPORATION0180"},{"$f":"IF('Line 1 Source'!B1111<>\"\",'Line 1 Source'!B1111,\"\")","v":"45"},{"$f":"IF('Line 1 Source'!C1111<>\"\",'Line 1 Source'!C1111,\"\")","v":"4"},{"$f":"IF('Line 1 Source'!D1111<>\"\",'Line 1 Source'!D1111,\"\")","v":"4720"},{"$f":"IF('Line 1 Source'!E1111<>\"\",'Line 1 Source'!E1111,\"\")","v":"0180"},{"$f":"IF('Line 1 Source'!F1111<>\"\",'Line 1 Source'!F1111,\"\")","v":2417588}]
[{"$f":"IF('Line 1 Source'!A1112<>\"\",'Line 1 Source'!A1112,\"\")","v":"2018"},"4544720",{"$f":"CONCATENATE(VLOOKUP(B1112,'School List'!$B$3:$H$291,6,FALSE),H1112)","v":"47200188"},{"$f":"CONCATENATE(VLOOKUP(B1112,'School List'!$B$3:$D$291,3,FALSE),H1112)","v":"Lake County - HIGHLAND TOWN SCHOOL CORPORATION0188"},{"$f":"IF('Line 1 Source'!B1112<>\"\",'Line 1 Source'!B1112,\"\")","v":"45"},{"$f":"IF('Line 1 Source'!C1112<>\"\",'Line 1 Source'!C1112,\"\")","v":"4"},{"$f":"IF('Line 1 Source'!D1112<>\"\",'Line 1 Source'!D1112,\"\")","v":"4720"},{"$f":"IF('Line 1 Source'!E1112<>\"\",'Line 1 Source'!E1112,\"\")","v":"0188"},{"$f":"IF('Line 1 Source'!F1112<>\"\",'Line 1 Source'!F1112,\"\")","v":4628000}]
[{"$f":"IF('Line 1 Source'!A1113<>\"\",'Line 1 Source'!A1113,\"\")","v":"2018"},"4544720",{"$f":"CONCATENATE(VLOOKUP(B1113,'School List'!$B$3:$H$291,6,FALSE),H1113)","v":"47201214"},{"$f":"CONCATENATE(VLOOKUP(B1113,'School List'!$B$3:$D$291,3,FALSE),H1113)","v":"Lake County - HIGHLAND TOWN SCHOOL CORPORATION1214"},{"$f":"IF('Line 1 Source'!B1113<>\"\",'Line 1 Source'!B1113,\"\")","v":"45"},{"$f":"IF('Line 1 Source'!C1113<>\"\",'Line 1 Source'!C1113,\"\")","v":"4"},{"$f":"IF('Line 1 Source'!D1113<>\"\",'Line 1 Source'!D1113,\"\")","v":"4720"},{"$f":"IF('Line 1 Source'!E1113<>\"\",'Line 1 Source'!E1113,\"\")","v":"1214"},{"$f":"IF('Line 1 Source'!F1113<>\"\",'Line 1 Source'!F1113,\"\")","v":2111150}]
[{"$f":"IF('Line 1 Source'!A1114<>\"\",'Line 1 Source'!A1114,\"\")","v":"2018"},"4544720",{"$f":"CONCATENATE(VLOOKUP(B1114,'School List'!$B$3:$H$291,6,FALSE),H1114)","v":"47206301"},{"$f":"CONCATENATE(VLOOKUP(B1114,'School List'!$B$3:$D$291,3,FALSE),H1114)","v":"Lake County - HIGHLAND TOWN SCHOOL CORPORATION6301"},{"$f":"IF('Line 1 Source'!B1114<>\"\",'Line 1 Source'!B1114,\"\")","v":"45"},{"$f":"IF('Line 1 Source'!C1114<>\"\",'Line 1 Source'!C1114,\"\")","v":"4"},{"$f":"IF('Line 1 Source'!D1114<>\"\",'Line 1 Source'!D1114,\"\")","v":"4720"},{"$f":"IF('Line 1 Source'!E1114<>\"\",'Line 1 Source'!E1114,\"\")","v":"6301"},{"$f":"IF('Line 1 Source'!F1114<>\"\",'Line 1 Source'!F1114,\"\")","v":1429056}]
[{"$f":"IF('Line 1 Source'!A1115<>\"\",'Line 1 Source'!A1115,\"\")","v":"2018"},"4544720",{"$f":"CONCATENATE(VLOOKUP(B1115,'School List'!$B$3:$H$291,6,FALSE),H1115)","v":"47206302"},{"$f":"CONCATENATE(VLOOKUP(B1115,'School List'!$B$3:$D$291,3,FALSE),H1115)","v":"Lake County - HIGHLAND TOWN SCHOOL CORPORATION6302"},{"$f":"IF('Line 1 Source'!B1115<>\"\",'Line 1 Source'!B1115,\"\")","v":"45"},{"$f":"IF('Line 1 Source'!C1115<>\"\",'Line 1 Source'!C1115,\"\")","v":"4"},{"$f":"IF('Line 1 Source'!D1115<>\"\",'Line 1 Source'!D1115,\"\")","v":"4720"},{"$f":"IF('Line 1 Source'!E1115<>\"\",'Line 1 Source'!E1115,\"\")","v":"6302"},{"$f":"IF('Line 1 Source'!F1115<>\"\",'Line 1 Source'!F1115,\"\")","v":198007}]
[{"$f":"IF('Line 1 Source'!A1116<>\"\",'Line 1 Source'!A1116,\"\")","v":"2018"},"4544730",{"$f":"CONCATENATE(VLOOKUP(B1116,'School List'!$B$3:$H$291,6,FALSE),H1116)","v":"47300101"},{"$f":"CONCATENATE(VLOOKUP(B1116,'School List'!$B$3:$D$291,3,FALSE),H1116)","v":"Lake County - SCHOOL CITY OF HOBART SCHOOL CORPORATION0101"},{"$f":"IF('Line 1 Source'!B1116<>\"\",'Line 1 Source'!B1116,\"\")","v":"45"},{"$f":"IF('Line 1 Source'!C1116<>\"\",'Line 1 Source'!C1116,\"\")","v":"4"},{"$f":"IF('Line 1 Source'!D1116<>\"\",'Line 1 Source'!D1116,\"\")","v":"4730"},{"$f":"IF('Line 1 Source'!E1116<>\"\",'Line 1 Source'!E1116,\"\")","v":"0101"},{"$f":"IF('Line 1 Source'!F1116<>\"\",'Line 1 Source'!F1116,\"\")","v":30450451}]
[{"$f":"IF('Line 1 Source'!A1117<>\"\",'Line 1 Source'!A1117,\"\")","v":"2018"},"4544730",{"$f":"CONCATENATE(VLOOKUP(B1117,'School List'!$B$3:$H$291,6,FALSE),H1117)","v":"47300180"},{"$f":"CONCATENATE(VLOOKUP(B1117,'School List'!$B$3:$D$291,3,FALSE),H1117)","v":"Lake County - SCHOOL CITY OF HOBART SCHOOL CORPORATION0180"},{"$f":"IF('Line 1 Source'!B1117<>\"\",'Line 1 Source'!B1117,\"\")","v":"45"},{"$f":"IF('Line 1 Source'!C1117<>\"\",'Line 1 Source'!C1117,\"\")","v":"4"},{"$f":"IF('Line 1 Source'!D1117<>\"\",'Line 1 Source'!D1117,\"\")","v":"4730"},{"$f":"IF('Line 1 Source'!E1117<>\"\",'Line 1 Source'!E1117,\"\")","v":"0180"},{"$f":"IF('Line 1 Source'!F1117<>\"\",'Line 1 Source'!F1117,\"\")","v":3174238}]
[{"$f":"IF('Line 1 Source'!A1118<>\"\",'Line 1 Source'!A1118,\"\")","v":"2018"},"4544730",{"$f":"CONCATENATE(VLOOKUP(B1118,'School List'!$B$3:$H$291,6,FALSE),H1118)","v":"47300188"},{"$f":"CONCATENATE(VLOOKUP(B1118,'School List'!$B$3:$D$291,3,FALSE),H1118)","v":"Lake County - SCHOOL CITY OF HOBART SCHOOL CORPORATION0188"},{"$f":"IF('Line 1 Source'!B1118<>\"\",'Line 1 Source'!B1118,\"\")","v":"45"},{"$f":"IF('Line 1 Source'!C1118<>\"\",'Line 1 Source'!C1118,\"\")","v":"4"},{"$f":"IF('Line 1 Source'!D1118<>\"\",'Line 1 Source'!D1118,\"\")","v":"4730"},{"$f":"IF('Line 1 Source'!E1118<>\"\",'Line 1 Source'!E1118,\"\")","v":"0188"},{"$f":"IF('Line 1 Source'!F1118<>\"\",'Line 1 Source'!F1118,\"\")","v":6109250}]
[{"$f":"IF('Line 1 Source'!A1119<>\"\",'Line 1 Source'!A1119,\"\")","v":"2018"},"4544730",{"$f":"CONCATENATE(VLOOKUP(B1119,'School List'!$B$3:$H$291,6,FALSE),H1119)","v":"47301214"},{"$f":"CONCATENATE(VLOOKUP(B1119,'School List'!$B$3:$D$291,3,FALSE),H1119)","v":"Lake County - SCHOOL CITY OF HOBART SCHOOL CORPORATION1214"},{"$f":"IF('Line 1 Source'!B1119<>\"\",'Line 1 Source'!B1119,\"\")","v":"45"},{"$f":"IF('Line 1 Source'!C1119<>\"\",'Line 1 Source'!C1119,\"\")","v":"4"},{"$f":"IF('Line 1 Source'!D1119<>\"\",'Line 1 Source'!D1119,\"\")","v":"4730"},{"$f":"IF('Line 1 Source'!E1119<>\"\",'Line 1 Source'!E1119,\"\")","v":"1214"},{"$f":"IF('Line 1 Source'!F1119<>\"\",'Line 1 Source'!F1119,\"\")","v":1411982}]
[{"$f":"IF('Line 1 Source'!A1120<>\"\",'Line 1 Source'!A1120,\"\")","v":"2018"},"4544730",{"$f":"CONCATENATE(VLOOKUP(B1120,'School List'!$B$3:$H$291,6,FALSE),H1120)","v":"47306301"},{"$f":"CONCATENATE(VLOOKUP(B1120,'School List'!$B$3:$D$291,3,FALSE),H1120)","v":"Lake County - SCHOOL CITY OF HOBART SCHOOL CORPORATION6301"},{"$f":"IF('Line 1 Source'!B1120<>\"\",'Line 1 Source'!B1120,\"\")","v":"45"},{"$f":"IF('Line 1 Source'!C1120<>\"\",'Line 1 Source'!C1120,\"\")","v":"4"},{"$f":"IF('Line 1 Source'!D1120<>\"\",'Line 1 Source'!D1120,\"\")","v":"4730"},{"$f":"IF('Line 1 Source'!E1120<>\"\",'Line 1 Source'!E1120,\"\")","v":"6301"},{"$f":"IF('Line 1 Source'!F1120<>\"\",'Line 1 Source'!F1120,\"\")","v":1578327}]
[{"$f":"IF('Line 1 Source'!A1121<>\"\",'Line 1 Source'!A1121,\"\")","v":"2018"},"4544730",{"$f":"CONCATENATE(VLOOKUP(B1121,'School List'!$B$3:$H$291,6,FALSE),H1121)","v":"47306302"},{"$f":"CONCATENATE(VLOOKUP(B1121,'School List'!$B$3:$D$291,3,FALSE),H1121)","v":"Lake County - SCHOOL CITY OF HOBART SCHOOL CORPORATION6302"},{"$f":"IF('Line 1 Source'!B1121<>\"\",'Line 1 Source'!B1121,\"\")","v":"45"},{"$f":"IF('Line 1 Source'!C1121<>\"\",'Line 1 Source'!C1121,\"\")","v":"4"},{"$f":"IF('Line 1 Source'!D1121<>\"\",'Line 1 Source'!D1121,\"\")","v":"4730"},{"$f":"IF('Line 1 Source'!E1121<>\"\",'Line 1 Source'!E1121,\"\")","v":"6302"},{"$f":"IF('Line 1 Source'!F1121<>\"\",'Line 1 Source'!F1121,\"\")","v":245497}]
[{"$f":"IF('Line 1 Source'!A1122<>\"\",'Line 1 Source'!A1122,\"\")","v":"2018"},"4544740",{"$f":"CONCATENATE(VLOOKUP(B1122,'School List'!$B$3:$H$291,6,FALSE),H1122)","v":"47400022"},{"$f":"CONCATENATE(VLOOKUP(B1122,'School List'!$B$3:$D$291,3,FALSE),H1122)","v":"Lake County - MUNSTER COMMUNITY SCHOOL CORPORATION0022"},{"$f":"IF('Line 1 Source'!B1122<>\"\",'Line 1 Source'!B1122,\"\")","v":"45"},{"$f":"IF('Line 1 Source'!C1122<>\"\",'Line 1 Source'!C1122,\"\")","v":"4"},{"$f":"IF('Line 1 Source'!D1122<>\"\",'Line 1 Source'!D1122,\"\")","v":"4740"},{"$f":"IF('Line 1 Source'!E1122<>\"\",'Line 1 Source'!E1122,\"\")","v":"0022"},{"$f":"IF('Line 1 Source'!F1122<>\"\",'Line 1 Source'!F1122,\"\")","v":6904250}]
[{"$f":"IF('Line 1 Source'!A1123<>\"\",'Line 1 Source'!A1123,\"\")","v":"2018"},"4544740",{"$f":"CONCATENATE(VLOOKUP(B1123,'School List'!$B$3:$H$291,6,FALSE),H1123)","v":"47400061"},{"$f":"CONCATENATE(VLOOKUP(B1123,'School List'!$B$3:$D$291,3,FALSE),H1123)","v":"Lake County - MUNSTER COMMUNITY SCHOOL CORPORATION0061"},{"$f":"IF('Line 1 Source'!B1123<>\"\",'Line 1 Source'!B1123,\"\")","v":"45"},{"$f":"IF('Line 1 Source'!C1123<>\"\",'Line 1 Source'!C1123,\"\")","v":"4"},{"$f":"IF('Line 1 Source'!D1123<>\"\",'Line 1 Source'!D1123,\"\")","v":"4740"},{"$f":"IF('Line 1 Source'!E1123<>\"\",'Line 1 Source'!E1123,\"\")","v":"0061"},{"$f":"IF('Line 1 Source'!F1123<>\"\",'Line 1 Source'!F1123,\"\")","v":300000}]
[{"$f":"IF('Line 1 Source'!A1124<>\"\",'Line 1 Source'!A1124,\"\")","v":"2018"},"4544740",{"$f":"CONCATENATE(VLOOKUP(B1124,'School List'!$B$3:$H$291,6,FALSE),H1124)","v":"47400101"},{"$f":"CONCATENATE(VLOOKUP(B1124,'School List'!$B$3:$D$291,3,FALSE),H1124)","v":"Lake County - MUNSTER COMMUNITY SCHOOL CORPORATION0101"},{"$f":"IF('Line 1 Source'!B1124<>\"\",'Line 1 Source'!B1124,\"\")","v":"45"},{"$f":"IF('Line 1 Source'!C1124<>\"\",'Line 1 Source'!C1124,\"\")","v":"4"},{"$f":"IF('Line 1 Source'!D1124<>\"\",'Line 1 Source'!D1124,\"\")","v":"4740"},{"$f":"IF('Line 1 Source'!E1124<>\"\",'Line 1 Source'!E1124,\"\")","v":"0101"},{"$f":"IF('Line 1 Source'!F1124<>\"\",'Line 1 Source'!F1124,\"\")","v":21819771}]
[{"$f":"IF('Line 1 Source'!A1125<>\"\",'Line 1 Source'!A1125,\"\")","v":"2018"},"4544740",{"$f":"CONCATENATE(VLOOKUP(B1125,'School List'!$B$3:$H$291,6,FALSE),H1125)","v":"47400180"},{"$f":"CONCATENATE(VLOOKUP(B1125,'School List'!$B$3:$D$291,3,FALSE),H1125)","v":"Lake County - MUNSTER COMMUNITY SCHOOL CORPORATION0180"},{"$f":"IF('Line 1 Source'!B1125<>\"\",'Line 1 Source'!B1125,\"\")","v":"45"},{"$f":"IF('Line 1 Source'!C1125<>\"\",'Line 1 Source'!C1125,\"\")","v":"4"},{"$f":"IF('Line 1 Source'!D1125<>\"\",'Line 1 Source'!D1125,\"\")","v":"4740"},{"$f":"IF('Line 1 Source'!E1125<>\"\",'Line 1 Source'!E1125,\"\")","v":"0180"},{"$f":"IF('Line 1 Source'!F1125<>\"\",'Line 1 Source'!F1125,\"\")","v":4812215}]
[{"$f":"IF('Line 1 Source'!A1126<>\"\",'Line 1 Source'!A1126,\"\")","v":"2018"},"4544740",{"$f":"CONCATENATE(VLOOKUP(B1126,'School List'!$B$3:$H$291,6,FALSE),H1126)","v":"47400188"},{"$f":"CONCATENATE(VLOOKUP(B1126,'School List'!$B$3:$D$291,3,FALSE),H1126)","v":"Lake County - MUNSTER COMMUNITY SCHOOL CORPORATION0188"},{"$f":"IF('Line 1 Source'!B1126<>\"\",'Line 1 Source'!B1126,\"\")","v":"45"},{"$f":"IF('Line 1 Source'!C1126<>\"\",'Line 1 Source'!C1126,\"\")","v":"4"},{"$f":"IF('Line 1 Source'!D1126<>\"\",'Line 1 Source'!D1126,\"\")","v":"4740"},{"$f":"IF('Line 1 Source'!E1126<>\"\",'Line 1 Source'!E1126,\"\")","v":"0188"},{"$f":"IF('Line 1 Source'!F1126<>\"\",'Line 1 Source'!F1126,\"\")","v":5770500}]
[{"$f":"IF('Line 1 Source'!A1127<>\"\",'Line 1 Source'!A1127,\"\")","v":"2018"},"4544740",{"$f":"CONCATENATE(VLOOKUP(B1127,'School List'!$B$3:$H$291,6,FALSE),H1127)","v":"47400189"},{"$f":"CONCATENATE(VLOOKUP(B1127,'School List'!$B$3:$D$291,3,FALSE),H1127)","v":"Lake County - MUNSTER COMMUNITY SCHOOL CORPORATION0189"},{"$f":"IF('Line 1 Source'!B1127<>\"\",'Line 1 Source'!B1127,\"\")","v":"45"},{"$f":"IF('Line 1 Source'!C1127<>\"\",'Line 1 Source'!C1127,\"\")","v":"4"},{"$f":"IF('Line 1 Source'!D1127<>\"\",'Line 1 Source'!D1127,\"\")","v":"4740"},{"$f":"IF('Line 1 Source'!E1127<>\"\",'Line 1 Source'!E1127,\"\")","v":"0189"},{"$f":"IF('Line 1 Source'!F1127<>\"\",'Line 1 Source'!F1127,\"\")","v":273434}]
[{"$f":"IF('Line 1 Source'!A1128<>\"\",'Line 1 Source'!A1128,\"\")","v":"2018"},"4544740",{"$f":"CONCATENATE(VLOOKUP(B1128,'School List'!$B$3:$H$291,6,FALSE),H1128)","v":"47400287"},{"$f":"CONCATENATE(VLOOKUP(B1128,'School List'!$B$3:$D$291,3,FALSE),H1128)","v":"Lake County - MUNSTER COMMUNITY SCHOOL CORPORATION0287"},{"$f":"IF('Line 1 Source'!B1128<>\"\",'Line 1 Source'!B1128,\"\")","v":"45"},{"$f":"IF('Line 1 Source'!C1128<>\"\",'Line 1 Source'!C1128,\"\")","v":"4"},{"$f":"IF('Line 1 Source'!D1128<>\"\",'Line 1 Source'!D1128,\"\")","v":"4740"},{"$f":"IF('Line 1 Source'!E1128<>\"\",'Line 1 Source'!E1128,\"\")","v":"0287"},{"$f":"IF('Line 1 Source'!F1128<>\"\",'Line 1 Source'!F1128,\"\")","v":303000}]
[{"$f":"IF('Line 1 Source'!A1129<>\"\",'Line 1 Source'!A1129,\"\")","v":"2018"},"4544740",{"$f":"CONCATENATE(VLOOKUP(B1129,'School List'!$B$3:$H$291,6,FALSE),H1129)","v":"47401214"},{"$f":"CONCATENATE(VLOOKUP(B1129,'School List'!$B$3:$D$291,3,FALSE),H1129)","v":"Lake County - MUNSTER COMMUNITY SCHOOL CORPORATION1214"},{"$f":"IF('Line 1 Source'!B1129<>\"\",'Line 1 Source'!B1129,\"\")","v":"45"},{"$f":"IF('Line 1 Source'!C1129<>\"\",'Line 1 Source'!C1129,\"\")","v":"4"},{"$f":"IF('Line 1 Source'!D1129<>\"\",'Line 1 Source'!D1129,\"\")","v":"4740"},{"$f":"IF('Line 1 Source'!E1129<>\"\",'Line 1 Source'!E1129,\"\")","v":"1214"},{"$f":"IF('Line 1 Source'!F1129<>\"\",'Line 1 Source'!F1129,\"\")","v":2182749}]
[{"$f":"IF('Line 1 Source'!A1130<>\"\",'Line 1 Source'!A1130,\"\")","v":"2018"},"4544740",{"$f":"CONCATENATE(VLOOKUP(B1130,'School List'!$B$3:$H$291,6,FALSE),H1130)","v":"47406301"},{"$f":"CONCATENATE(VLOOKUP(B1130,'School List'!$B$3:$D$291,3,FALSE),H1130)","v":"Lake County - MUNSTER COMMUNITY SCHOOL CORPORATION6301"},{"$f":"IF('Line 1 Source'!B1130<>\"\",'Line 1 Source'!B1130,\"\")","v":"45"},{"$f":"IF('Line 1 Source'!C1130<>\"\",'Line 1 Source'!C1130,\"\")","v":"4"},{"$f":"IF('Line 1 Source'!D1130<>\"\",'Line 1 Source'!D1130,\"\")","v":"4740"},{"$f":"IF('Line 1 Source'!E1130<>\"\",'Line 1 Source'!E1130,\"\")","v":"6301"},{"$f":"IF('Line 1 Source'!F1130<>\"\",'Line 1 Source'!F1130,\"\")","v":1609701}]
[{"$f":"IF('Line 1 Source'!A1131<>\"\",'Line 1 Source'!A1131,\"\")","v":"2018"},"4544740",{"$f":"CONCATENATE(VLOOKUP(B1131,'School List'!$B$3:$H$291,6,FALSE),H1131)","v":"47406302"},{"$f":"CONCATENATE(VLOOKUP(B1131,'School List'!$B$3:$D$291,3,FALSE),H1131)","v":"Lake County - MUNSTER COMMUNITY SCHOOL CORPORATION6302"},{"$f":"IF('Line 1 Source'!B1131<>\"\",'Line 1 Source'!B1131,\"\")","v":"45"},{"$f":"IF('Line 1 Source'!C1131<>\"\",'Line 1 Source'!C1131,\"\")","v":"4"},{"$f":"IF('Line 1 Source'!D1131<>\"\",'Line 1 Source'!D1131,\"\")","v":"4740"},{"$f":"IF('Line 1 Source'!E1131<>\"\",'Line 1 Source'!E1131,\"\")","v":"6302"},{"$f":"IF('Line 1 Source'!F1131<>\"\",'Line 1 Source'!F1131,\"\")","v":303669}]
[{"$f":"IF('Line 1 Source'!A1132<>\"\",'Line 1 Source'!A1132,\"\")","v":"2018"},"4544760",{"$f":"CONCATENATE(VLOOKUP(B1132,'School List'!$B$3:$H$291,6,FALSE),H1132)","v":"47600061"},{"$f":"CONCATENATE(VLOOKUP(B1132,'School List'!$B$3:$D$291,3,FALSE),H1132)","v":"Lake County - WHITING CITY SCHOOL CORPORATION0061"},{"$f":"IF('Line 1 Source'!B1132<>\"\",'Line 1 Source'!B1132,\"\")","v":"45"},{"$f":"IF('Line 1 Source'!C1132<>\"\",'Line 1 Source'!C1132,\"\")","v":"4"},{"$f":"IF('Line 1 Source'!D1132<>\"\",'Line 1 Source'!D1132,\"\")","v":"4760"},{"$f":"IF('Line 1 Source'!E1132<>\"\",'Line 1 Source'!E1132,\"\")","v":"0061"},{"$f":"IF('Line 1 Source'!F1132<>\"\",'Line 1 Source'!F1132,\"\")","v":450000}]
[{"$f":"IF('Line 1 Source'!A1133<>\"\",'Line 1 Source'!A1133,\"\")","v":"2018"},"4544760",{"$f":"CONCATENATE(VLOOKUP(B1133,'School List'!$B$3:$H$291,6,FALSE),H1133)","v":"47600101"},{"$f":"CONCATENATE(VLOOKUP(B1133,'School List'!$B$3:$D$291,3,FALSE),H1133)","v":"Lake County - WHITING CITY SCHOOL CORPORATION0101"},{"$f":"IF('Line 1 Source'!B1133<>\"\",'Line 1 Source'!B1133,\"\")","v":"45"},{"$f":"IF('Line 1 Source'!C1133<>\"\",'Line 1 Source'!C1133,\"\")","v":"4"},{"$f":"IF('Line 1 Source'!D1133<>\"\",'Line 1 Source'!D1133,\"\")","v":"4760"},{"$f":"IF('Line 1 Source'!E1133<>\"\",'Line 1 Source'!E1133,\"\")","v":"0101"},{"$f":"IF('Line 1 Source'!F1133<>\"\",'Line 1 Source'!F1133,\"\")","v":9689867}]
[{"$f":"IF('Line 1 Source'!A1134<>\"\",'Line 1 Source'!A1134,\"\")","v":"2018"},"4544760",{"$f":"CONCATENATE(VLOOKUP(B1134,'School List'!$B$3:$H$291,6,FALSE),H1134)","v":"47600180"},{"$f":"CONCATENATE(VLOOKUP(B1134,'School List'!$B$3:$D$291,3,FALSE),H1134)","v":"Lake County - WHITING CITY SCHOOL CORPORATION0180"},{"$f":"IF('Line 1 Source'!B1134<>\"\",'Line 1 Source'!B1134,\"\")","v":"45"},{"$f":"IF('Line 1 Source'!C1134<>\"\",'Line 1 Source'!C1134,\"\")","v":"4"},{"$f":"IF('Line 1 Source'!D1134<>\"\",'Line 1 Source'!D1134,\"\")","v":"4760"},{"$f":"IF('Line 1 Source'!E1134<>\"\",'Line 1 Source'!E1134,\"\")","v":"0180"},{"$f":"IF('Line 1 Source'!F1134<>\"\",'Line 1 Source'!F1134,\"\")","v":693937}]
[{"$f":"IF('Line 1 Source'!A1135<>\"\",'Line 1 Source'!A1135,\"\")","v":"2018"},"4544760",{"$f":"CONCATENATE(VLOOKUP(B1135,'School List'!$B$3:$H$291,6,FALSE),H1135)","v":"47601214"},{"$f":"CONCATENATE(VLOOKUP(B1135,'School List'!$B$3:$D$291,3,FALSE),H1135)","v":"Lake County - WHITING CITY SCHOOL CORPORATION1214"},{"$f":"IF('Line 1 Source'!B1135<>\"\",'Line 1 Source'!B1135,\"\")","v":"45"},{"$f":"IF('Line 1 Source'!C1135<>\"\",'Line 1 Source'!C1135,\"\")","v":"4"},{"$f":"IF('Line 1 Source'!D1135<>\"\",'Line 1 Source'!D1135,\"\")","v":"4760"},{"$f":"IF('Line 1 Source'!E1135<>\"\",'Line 1 Source'!E1135,\"\")","v":"1214"},{"$f":"IF('Line 1 Source'!F1135<>\"\",'Line 1 Source'!F1135,\"\")","v":1962977}]
[{"$f":"IF('Line 1 Source'!A1136<>\"\",'Line 1 Source'!A1136,\"\")","v":"2018"},"4544760",{"$f":"CONCATENATE(VLOOKUP(B1136,'School List'!$B$3:$H$291,6,FALSE),H1136)","v":"47606301"},{"$f":"CONCATENATE(VLOOKUP(B1136,'School List'!$B$3:$D$291,3,FALSE),H1136)","v":"Lake County - WHITING CITY SCHOOL CORPORATION6301"},{"$f":"IF('Line 1 Source'!B1136<>\"\",'Line 1 Source'!B1136,\"\")","v":"45"},{"$f":"IF('Line 1 Source'!C1136<>\"\",'Line 1 Source'!C1136,\"\")","v":"4"},{"$f":"IF('Line 1 Source'!D1136<>\"\",'Line 1 Source'!D1136,\"\")","v":"4760"},{"$f":"IF('Line 1 Source'!E1136<>\"\",'Line 1 Source'!E1136,\"\")","v":"6301"},{"$f":"IF('Line 1 Source'!F1136<>\"\",'Line 1 Source'!F1136,\"\")","v":601294}]
[{"$f":"IF('Line 1 Source'!A1137<>\"\",'Line 1 Source'!A1137,\"\")","v":"2018"},"4544760",{"$f":"CONCATENATE(VLOOKUP(B1137,'School List'!$B$3:$H$291,6,FALSE),H1137)","v":"47606302"},{"$f":"CONCATENATE(VLOOKUP(B1137,'School List'!$B$3:$D$291,3,FALSE),H1137)","v":"Lake County - WHITING CITY SCHOOL CORPORATION6302"},{"$f":"IF('Line 1 Source'!B1137<>\"\",'Line 1 Source'!B1137,\"\")","v":"45"},{"$f":"IF('Line 1 Source'!C1137<>\"\",'Line 1 Source'!C1137,\"\")","v":"4"},{"$f":"IF('Line 1 Source'!D1137<>\"\",'Line 1 Source'!D1137,\"\")","v":"4760"},{"$f":"IF('Line 1 Source'!E1137<>\"\",'Line 1 Source'!E1137,\"\")","v":"6302"},{"$f":"IF('Line 1 Source'!F1137<>\"\",'Line 1 Source'!F1137,\"\")","v":270269}]
[{"$f":"IF('Line 1 Source'!A1138<>\"\",'Line 1 Source'!A1138,\"\")","v":"2018"},"4644805",{"$f":"CONCATENATE(VLOOKUP(B1138,'School List'!$B$3:$H$291,6,FALSE),H1138)","v":"48050061"},{"$f":"CONCATENATE(VLOOKUP(B1138,'School List'!$B$3:$D$291,3,FALSE),H1138)","v":"LaPorte County - NEW PRAIRIE UNITED SCHOOL CORPORATION0061"},{"$f":"IF('Line 1 Source'!B1138<>\"\",'Line 1 Source'!B1138,\"\")","v":"46"},{"$f":"IF('Line 1 Source'!C1138<>\"\",'Line 1 Source'!C1138,\"\")","v":"4"},{"$f":"IF('Line 1 Source'!D1138<>\"\",'Line 1 Source'!D1138,\"\")","v":"4805"},{"$f":"IF('Line 1 Source'!E1138<>\"\",'Line 1 Source'!E1138,\"\")","v":"0061"},{"$f":"IF('Line 1 Source'!F1138<>\"\",'Line 1 Source'!F1138,\"\")","v":1000000}]
[{"$f":"IF('Line 1 Source'!A1139<>\"\",'Line 1 Source'!A1139,\"\")","v":"2018"},"4644805",{"$f":"CONCATENATE(VLOOKUP(B1139,'School List'!$B$3:$H$291,6,FALSE),H1139)","v":"48050101"},{"$f":"CONCATENATE(VLOOKUP(B1139,'School List'!$B$3:$D$291,3,FALSE),H1139)","v":"LaPorte County - NEW PRAIRIE UNITED SCHOOL CORPORATION0101"},{"$f":"IF('Line 1 Source'!B1139<>\"\",'Line 1 Source'!B1139,\"\")","v":"46"},{"$f":"IF('Line 1 Source'!C1139<>\"\",'Line 1 Source'!C1139,\"\")","v":"4"},{"$f":"IF('Line 1 Source'!D1139<>\"\",'Line 1 Source'!D1139,\"\")","v":"4805"},{"$f":"IF('Line 1 Source'!E1139<>\"\",'Line 1 Source'!E1139,\"\")","v":"0101"},{"$f":"IF('Line 1 Source'!F1139<>\"\",'Line 1 Source'!F1139,\"\")","v":20480415}]
[{"$f":"IF('Line 1 Source'!A1140<>\"\",'Line 1 Source'!A1140,\"\")","v":"2018"},"4644805",{"$f":"CONCATENATE(VLOOKUP(B1140,'School List'!$B$3:$H$291,6,FALSE),H1140)","v":"48050180"},{"$f":"CONCATENATE(VLOOKUP(B1140,'School List'!$B$3:$D$291,3,FALSE),H1140)","v":"LaPorte County - NEW PRAIRIE UNITED SCHOOL CORPORATION0180"},{"$f":"IF('Line 1 Source'!B1140<>\"\",'Line 1 Source'!B1140,\"\")","v":"46"},{"$f":"IF('Line 1 Source'!C1140<>\"\",'Line 1 Source'!C1140,\"\")","v":"4"},{"$f":"IF('Line 1 Source'!D1140<>\"\",'Line 1 Source'!D1140,\"\")","v":"4805"},{"$f":"IF('Line 1 Source'!E1140<>\"\",'Line 1 Source'!E1140,\"\")","v":"0180"},{"$f":"IF('Line 1 Source'!F1140<>\"\",'Line 1 Source'!F1140,\"\")","v":828732}]
[{"$f":"IF('Line 1 Source'!A1141<>\"\",'Line 1 Source'!A1141,\"\")","v":"2018"},"4644805",{"$f":"CONCATENATE(VLOOKUP(B1141,'School List'!$B$3:$H$291,6,FALSE),H1141)","v":"48050188"},{"$f":"CONCATENATE(VLOOKUP(B1141,'School List'!$B$3:$D$291,3,FALSE),H1141)","v":"LaPorte County - NEW PRAIRIE UNITED SCHOOL CORPORATION0188"},{"$f":"IF('Line 1 Source'!B1141<>\"\",'Line 1 Source'!B1141,\"\")","v":"46"},{"$f":"IF('Line 1 Source'!C1141<>\"\",'Line 1 Source'!C1141,\"\")","v":"4"},{"$f":"IF('Line 1 Source'!D1141<>\"\",'Line 1 Source'!D1141,\"\")","v":"4805"},{"$f":"IF('Line 1 Source'!E1141<>\"\",'Line 1 Source'!E1141,\"\")","v":"0188"},{"$f":"IF('Line 1 Source'!F1141<>\"\",'Line 1 Source'!F1141,\"\")","v":4106750}]
[{"$f":"IF('Line 1 Source'!A1142<>\"\",'Line 1 Source'!A1142,\"\")","v":"2018"},"4644805",{"$f":"CONCATENATE(VLOOKUP(B1142,'School List'!$B$3:$H$291,6,FALSE),H1142)","v":"48050189"},{"$f":"CONCATENATE(VLOOKUP(B1142,'School List'!$B$3:$D$291,3,FALSE),H1142)","v":"LaPorte County - NEW PRAIRIE UNITED SCHOOL CORPORATION0189"},{"$f":"IF('Line 1 Source'!B1142<>\"\",'Line 1 Source'!B1142,\"\")","v":"46"},{"$f":"IF('Line 1 Source'!C1142<>\"\",'Line 1 Source'!C1142,\"\")","v":"4"},{"$f":"IF('Line 1 Source'!D1142<>\"\",'Line 1 Source'!D1142,\"\")","v":"4805"},{"$f":"IF('Line 1 Source'!E1142<>\"\",'Line 1 Source'!E1142,\"\")","v":"0189"},{"$f":"IF('Line 1 Source'!F1142<>\"\",'Line 1 Source'!F1142,\"\")","v":141952}]
[{"$f":"IF('Line 1 Source'!A1143<>\"\",'Line 1 Source'!A1143,\"\")","v":"2018"},"4644805",{"$f":"CONCATENATE(VLOOKUP(B1143,'School List'!$B$3:$H$291,6,FALSE),H1143)","v":"48050287"},{"$f":"CONCATENATE(VLOOKUP(B1143,'School List'!$B$3:$D$291,3,FALSE),H1143)","v":"LaPorte County - NEW PRAIRIE UNITED SCHOOL CORPORATION0287"},{"$f":"IF('Line 1 Source'!B1143<>\"\",'Line 1 Source'!B1143,\"\")","v":"46"},{"$f":"IF('Line 1 Source'!C1143<>\"\",'Line 1 Source'!C1143,\"\")","v":"4"},{"$f":"IF('Line 1 Source'!D1143<>\"\",'Line 1 Source'!D1143,\"\")","v":"4805"},{"$f":"IF('Line 1 Source'!E1143<>\"\",'Line 1 Source'!E1143,\"\")","v":"0287"},{"$f":"IF('Line 1 Source'!F1143<>\"\",'Line 1 Source'!F1143,\"\")","v":1752750}]
[{"$f":"IF('Line 1 Source'!A1144<>\"\",'Line 1 Source'!A1144,\"\")","v":"2018"},"4644805",{"$f":"CONCATENATE(VLOOKUP(B1144,'School List'!$B$3:$H$291,6,FALSE),H1144)","v":"48051214"},{"$f":"CONCATENATE(VLOOKUP(B1144,'School List'!$B$3:$D$291,3,FALSE),H1144)","v":"LaPorte County - NEW PRAIRIE UNITED SCHOOL CORPORATION1214"},{"$f":"IF('Line 1 Source'!B1144<>\"\",'Line 1 Source'!B1144,\"\")","v":"46"},{"$f":"IF('Line 1 Source'!C1144<>\"\",'Line 1 Source'!C1144,\"\")","v":"4"},{"$f":"IF('Line 1 Source'!D1144<>\"\",'Line 1 Source'!D1144,\"\")","v":"4805"},{"$f":"IF('Line 1 Source'!E1144<>\"\",'Line 1 Source'!E1144,\"\")","v":"1214"},{"$f":"IF('Line 1 Source'!F1144<>\"\",'Line 1 Source'!F1144,\"\")","v":3297316}]
[{"$f":"IF('Line 1 Source'!A1145<>\"\",'Line 1 Source'!A1145,\"\")","v":"2018"},"4644805",{"$f":"CONCATENATE(VLOOKUP(B1145,'School List'!$B$3:$H$291,6,FALSE),H1145)","v":"48056301"},{"$f":"CONCATENATE(VLOOKUP(B1145,'School List'!$B$3:$D$291,3,FALSE),H1145)","v":"LaPorte County - NEW PRAIRIE UNITED SCHOOL CORPORATION6301"},{"$f":"IF('Line 1 Source'!B1145<>\"\",'Line 1 Source'!B1145,\"\")","v":"46"},{"$f":"IF('Line 1 Source'!C1145<>\"\",'Line 1 Source'!C1145,\"\")","v":"4"},{"$f":"IF('Line 1 Source'!D1145<>\"\",'Line 1 Source'!D1145,\"\")","v":"4805"},{"$f":"IF('Line 1 Source'!E1145<>\"\",'Line 1 Source'!E1145,\"\")","v":"6301"},{"$f":"IF('Line 1 Source'!F1145<>\"\",'Line 1 Source'!F1145,\"\")","v":2127951}]
[{"$f":"IF('Line 1 Source'!A1146<>\"\",'Line 1 Source'!A1146,\"\")","v":"2018"},"4644805",{"$f":"CONCATENATE(VLOOKUP(B1146,'School List'!$B$3:$H$291,6,FALSE),H1146)","v":"48056302"},{"$f":"CONCATENATE(VLOOKUP(B1146,'School List'!$B$3:$D$291,3,FALSE),H1146)","v":"LaPorte County - NEW PRAIRIE UNITED SCHOOL CORPORATION6302"},{"$f":"IF('Line 1 Source'!B1146<>\"\",'Line 1 Source'!B1146,\"\")","v":"46"},{"$f":"IF('Line 1 Source'!C1146<>\"\",'Line 1 Source'!C1146,\"\")","v":"4"},{"$f":"IF('Line 1 Source'!D1146<>\"\",'Line 1 Source'!D1146,\"\")","v":"4805"},{"$f":"IF('Line 1 Source'!E1146<>\"\",'Line 1 Source'!E1146,\"\")","v":"6302"},{"$f":"IF('Line 1 Source'!F1146<>\"\",'Line 1 Source'!F1146,\"\")","v":387600}]
[{"$f":"IF('Line 1 Source'!A1147<>\"\",'Line 1 Source'!A1147,\"\")","v":"2018"},"4644860",{"$f":"CONCATENATE(VLOOKUP(B1147,'School List'!$B$3:$H$291,6,FALSE),H1147)","v":"48600101"},{"$f":"CONCATENATE(VLOOKUP(B1147,'School List'!$B$3:$D$291,3,FALSE),H1147)","v":"LaPorte County - NEW DURHAM TOWNSHIP SCHOOL CORPORATION0101"},{"$f":"IF('Line 1 Source'!B1147<>\"\",'Line 1 Source'!B1147,\"\")","v":"46"},{"$f":"IF('Line 1 Source'!C1147<>\"\",'Line 1 Source'!C1147,\"\")","v":"4"},{"$f":"IF('Line 1 Source'!D1147<>\"\",'Line 1 Source'!D1147,\"\")","v":"4860"},{"$f":"IF('Line 1 Source'!E1147<>\"\",'Line 1 Source'!E1147,\"\")","v":"0101"},{"$f":"IF('Line 1 Source'!F1147<>\"\",'Line 1 Source'!F1147,\"\")","v":5895712}]
[{"$f":"IF('Line 1 Source'!A1148<>\"\",'Line 1 Source'!A1148,\"\")","v":"2018"},"4644860",{"$f":"CONCATENATE(VLOOKUP(B1148,'School List'!$B$3:$H$291,6,FALSE),H1148)","v":"48600180"},{"$f":"CONCATENATE(VLOOKUP(B1148,'School List'!$B$3:$D$291,3,FALSE),H1148)","v":"LaPorte County - NEW DURHAM TOWNSHIP SCHOOL CORPORATION0180"},{"$f":"IF('Line 1 Source'!B1148<>\"\",'Line 1 Source'!B1148,\"\")","v":"46"},{"$f":"IF('Line 1 Source'!C1148<>\"\",'Line 1 Source'!C1148,\"\")","v":"4"},{"$f":"IF('Line 1 Source'!D1148<>\"\",'Line 1 Source'!D1148,\"\")","v":"4860"},{"$f":"IF('Line 1 Source'!E1148<>\"\",'Line 1 Source'!E1148,\"\")","v":"0180"},{"$f":"IF('Line 1 Source'!F1148<>\"\",'Line 1 Source'!F1148,\"\")","v":1511122}]
[{"$f":"IF('Line 1 Source'!A1149<>\"\",'Line 1 Source'!A1149,\"\")","v":"2018"},"4644860",{"$f":"CONCATENATE(VLOOKUP(B1149,'School List'!$B$3:$H$291,6,FALSE),H1149)","v":"48600186"},{"$f":"CONCATENATE(VLOOKUP(B1149,'School List'!$B$3:$D$291,3,FALSE),H1149)","v":"LaPorte County - NEW DURHAM TOWNSHIP SCHOOL CORPORATION0186"},{"$f":"IF('Line 1 Source'!B1149<>\"\",'Line 1 Source'!B1149,\"\")","v":"46"},{"$f":"IF('Line 1 Source'!C1149<>\"\",'Line 1 Source'!C1149,\"\")","v":"4"},{"$f":"IF('Line 1 Source'!D1149<>\"\",'Line 1 Source'!D1149,\"\")","v":"4860"},{"$f":"IF('Line 1 Source'!E1149<>\"\",'Line 1 Source'!E1149,\"\")","v":"0186"},{"$f":"IF('Line 1 Source'!F1149<>\"\",'Line 1 Source'!F1149,\"\")","v":96088}]
[{"$f":"IF('Line 1 Source'!A1150<>\"\",'Line 1 Source'!A1150,\"\")","v":"2018"},"4644860",{"$f":"CONCATENATE(VLOOKUP(B1150,'School List'!$B$3:$H$291,6,FALSE),H1150)","v":"48601214"},{"$f":"CONCATENATE(VLOOKUP(B1150,'School List'!$B$3:$D$291,3,FALSE),H1150)","v":"LaPorte County - NEW DURHAM TOWNSHIP SCHOOL CORPORATION1214"},{"$f":"IF('Line 1 Source'!B1150<>\"\",'Line 1 Source'!B1150,\"\")","v":"46"},{"$f":"IF('Line 1 Source'!C1150<>\"\",'Line 1 Source'!C1150,\"\")","v":"4"},{"$f":"IF('Line 1 Source'!D1150<>\"\",'Line 1 Source'!D1150,\"\")","v":"4860"},{"$f":"IF('Line 1 Source'!E1150<>\"\",'Line 1 Source'!E1150,\"\")","v":"1214"},{"$f":"IF('Line 1 Source'!F1150<>\"\",'Line 1 Source'!F1150,\"\")","v":699297}]
[{"$f":"IF('Line 1 Source'!A1151<>\"\",'Line 1 Source'!A1151,\"\")","v":"2018"},"4644860",{"$f":"CONCATENATE(VLOOKUP(B1151,'School List'!$B$3:$H$291,6,FALSE),H1151)","v":"48606301"},{"$f":"CONCATENATE(VLOOKUP(B1151,'School List'!$B$3:$D$291,3,FALSE),H1151)","v":"LaPorte County - NEW DURHAM TOWNSHIP SCHOOL CORPORATION6301"},{"$f":"IF('Line 1 Source'!B1151<>\"\",'Line 1 Source'!B1151,\"\")","v":"46"},{"$f":"IF('Line 1 Source'!C1151<>\"\",'Line 1 Source'!C1151,\"\")","v":"4"},{"$f":"IF('Line 1 Source'!D1151<>\"\",'Line 1 Source'!D1151,\"\")","v":"4860"},{"$f":"IF('Line 1 Source'!E1151<>\"\",'Line 1 Source'!E1151,\"\")","v":"6301"},{"$f":"IF('Line 1 Source'!F1151<>\"\",'Line 1 Source'!F1151,\"\")","v":451031}]
[{"$f":"IF('Line 1 Source'!A1152<>\"\",'Line 1 Source'!A1152,\"\")","v":"2018"},"4644860",{"$f":"CONCATENATE(VLOOKUP(B1152,'School List'!$B$3:$H$291,6,FALSE),H1152)","v":"48606302"},{"$f":"CONCATENATE(VLOOKUP(B1152,'School List'!$B$3:$D$291,3,FALSE),H1152)","v":"LaPorte County - NEW DURHAM TOWNSHIP SCHOOL CORPORATION6302"},{"$f":"IF('Line 1 Source'!B1152<>\"\",'Line 1 Source'!B1152,\"\")","v":"46"},{"$f":"IF('Line 1 Source'!C1152<>\"\",'Line 1 Source'!C1152,\"\")","v":"4"},{"$f":"IF('Line 1 Source'!D1152<>\"\",'Line 1 Source'!D1152,\"\")","v":"4860"},{"$f":"IF('Line 1 Source'!E1152<>\"\",'Line 1 Source'!E1152,\"\")","v":"6302"},{"$f":"IF('Line 1 Source'!F1152<>\"\",'Line 1 Source'!F1152,\"\")","v":188203}]
[{"$f":"IF('Line 1 Source'!A1153<>\"\",'Line 1 Source'!A1153,\"\")","v":"2018"},"4644915",{"$f":"CONCATENATE(VLOOKUP(B1153,'School List'!$B$3:$H$291,6,FALSE),H1153)","v":"49150061"},{"$f":"CONCATENATE(VLOOKUP(B1153,'School List'!$B$3:$D$291,3,FALSE),H1153)","v":"LaPorte County - TRI-TOWNSHIP SCHOOL CORPORATION0061"},{"$f":"IF('Line 1 Source'!B1153<>\"\",'Line 1 Source'!B1153,\"\")","v":"46"},{"$f":"IF('Line 1 Source'!C1153<>\"\",'Line 1 Source'!C1153,\"\")","v":"4"},{"$f":"IF('Line 1 Source'!D1153<>\"\",'Line 1 Source'!D1153,\"\")","v":"4915"},{"$f":"IF('Line 1 Source'!E1153<>\"\",'Line 1 Source'!E1153,\"\")","v":"0061"},{"$f":"IF('Line 1 Source'!F1153<>\"\",'Line 1 Source'!F1153,\"\")","v":450000}]
[{"$f":"IF('Line 1 Source'!A1154<>\"\",'Line 1 Source'!A1154,\"\")","v":"2018"},"4644915",{"$f":"CONCATENATE(VLOOKUP(B1154,'School List'!$B$3:$H$291,6,FALSE),H1154)","v":"49150101"},{"$f":"CONCATENATE(VLOOKUP(B1154,'School List'!$B$3:$D$291,3,FALSE),H1154)","v":"LaPorte County - TRI-TOWNSHIP SCHOOL CORPORATION0101"},{"$f":"IF('Line 1 Source'!B1154<>\"\",'Line 1 Source'!B1154,\"\")","v":"46"},{"$f":"IF('Line 1 Source'!C1154<>\"\",'Line 1 Source'!C1154,\"\")","v":"4"},{"$f":"IF('Line 1 Source'!D1154<>\"\",'Line 1 Source'!D1154,\"\")","v":"4915"},{"$f":"IF('Line 1 Source'!E1154<>\"\",'Line 1 Source'!E1154,\"\")","v":"0101"},{"$f":"IF('Line 1 Source'!F1154<>\"\",'Line 1 Source'!F1154,\"\")","v":3320341}]
[{"$f":"IF('Line 1 Source'!A1155<>\"\",'Line 1 Source'!A1155,\"\")","v":"2018"},{"$f":"CONCATENATE(E1155,F1155,G1155)","v":"4644915"},{"$f":"CONCATENATE(VLOOKUP(B1155,'School List'!$B$3:$H$291,6,FALSE),H1155)","v":"49150180"},{"$f":"CONCATENATE(VLOOKUP(B1155,'School List'!$B$3:$D$291,3,FALSE),H1155)","v":"LaPorte County - TRI-TOWNSHIP SCHOOL CORPORATION0180"},{"$f":"IF('Line 1 Source'!B1155<>\"\",'Line 1 Source'!B1155,\"\")","v":"46"},{"$f":"IF('Line 1 Source'!C1155<>\"\",'Line 1 Source'!C1155,\"\")","v":"4"},{"$f":"IF('Line 1 Source'!D1155<>\"\",'Line 1 Source'!D1155,\"\")","v":"4915"},{"$f":"IF('Line 1 Source'!E1155<>\"\",'Line 1 Source'!E1155,\"\")","v":"0180"},{"$f":"IF('Line 1 Source'!F1155<>\"\",'Line 1 Source'!F1155,\"\")","v":233500}]
[{"$f":"IF('Line 1 Source'!A1156<>\"\",'Line 1 Source'!A1156,\"\")","v":"2018"},"4644915",{"$f":"CONCATENATE(VLOOKUP(B1156,'School List'!$B$3:$H$291,6,FALSE),H1156)","v":"49151214"},{"$f":"CONCATENATE(VLOOKUP(B1156,'School List'!$B$3:$D$291,3,FALSE),H1156)","v":"LaPorte County - TRI-TOWNSHIP SCHOOL CORPORATION1214"},{"$f":"IF('Line 1 Source'!B1156<>\"\",'Line 1 Source'!B1156,\"\")","v":"46"},{"$f":"IF('Line 1 Source'!C1156<>\"\",'Line 1 Source'!C1156,\"\")","v":"4"},{"$f":"IF('Line 1 Source'!D1156<>\"\",'Line 1 Source'!D1156,\"\")","v":"4915"},{"$f":"IF('Line 1 Source'!E1156<>\"\",'Line 1 Source'!E1156,\"\")","v":"1214"},{"$f":"IF('Line 1 Source'!F1156<>\"\",'Line 1 Source'!F1156,\"\")","v":704920}]
[{"$f":"IF('Line 1 Source'!A1157<>\"\",'Line 1 Source'!A1157,\"\")","v":"2018"},"4644915",{"$f":"CONCATENATE(VLOOKUP(B1157,'School List'!$B$3:$H$291,6,FALSE),H1157)","v":"49156301"},{"$f":"CONCATENATE(VLOOKUP(B1157,'School List'!$B$3:$D$291,3,FALSE),H1157)","v":"LaPorte County - TRI-TOWNSHIP SCHOOL CORPORATION6301"},{"$f":"IF('Line 1 Source'!B1157<>\"\",'Line 1 Source'!B1157,\"\")","v":"46"},{"$f":"IF('Line 1 Source'!C1157<>\"\",'Line 1 Source'!C1157,\"\")","v":"4"},{"$f":"IF('Line 1 Source'!D1157<>\"\",'Line 1 Source'!D1157,\"\")","v":"4915"},{"$f":"IF('Line 1 Source'!E1157<>\"\",'Line 1 Source'!E1157,\"\")","v":"6301"},{"$f":"IF('Line 1 Source'!F1157<>\"\",'Line 1 Source'!F1157,\"\")","v":313008}]
[{"$f":"IF('Line 1 Source'!A1158<>\"\",'Line 1 Source'!A1158,\"\")","v":"2018"},"4644915",{"$f":"CONCATENATE(VLOOKUP(B1158,'School List'!$B$3:$H$291,6,FALSE),H1158)","v":"49156302"},{"$f":"CONCATENATE(VLOOKUP(B1158,'School List'!$B$3:$D$291,3,FALSE),H1158)","v":"LaPorte County - TRI-TOWNSHIP SCHOOL CORPORATION6302"},{"$f":"IF('Line 1 Source'!B1158<>\"\",'Line 1 Source'!B1158,\"\")","v":"46"},{"$f":"IF('Line 1 Source'!C1158<>\"\",'Line 1 Source'!C1158,\"\")","v":"4"},{"$f":"IF('Line 1 Source'!D1158<>\"\",'Line 1 Source'!D1158,\"\")","v":"4915"},{"$f":"IF('Line 1 Source'!E1158<>\"\",'Line 1 Source'!E1158,\"\")","v":"6302"},{"$f":"IF('Line 1 Source'!F1158<>\"\",'Line 1 Source'!F1158,\"\")","v":150000}]
[{"$f":"IF('Line 1 Source'!A1159<>\"\",'Line 1 Source'!A1159,\"\")","v":"2018"},"4644925",{"$f":"CONCATENATE(VLOOKUP(B1159,'School List'!$B$3:$H$291,6,FALSE),H1159)","v":"49250101"},{"$f":"CONCATENATE(VLOOKUP(B1159,'School List'!$B$3:$D$291,3,FALSE),H1159)","v":"LaPorte County - MICHIGAN CITY AREA SCHOOL CORPORATION0101"},{"$f":"IF('Line 1 Source'!B1159<>\"\",'Line 1 Source'!B1159,\"\")","v":"46"},{"$f":"IF('Line 1 Source'!C1159<>\"\",'Line 1 Source'!C1159,\"\")","v":"4"},{"$f":"IF('Line 1 Source'!D1159<>\"\",'Line 1 Source'!D1159,\"\")","v":"4925"},{"$f":"IF('Line 1 Source'!E1159<>\"\",'Line 1 Source'!E1159,\"\")","v":"0101"},{"$f":"IF('Line 1 Source'!F1159<>\"\",'Line 1 Source'!F1159,\"\")","v":43030720}]
[{"$f":"IF('Line 1 Source'!A1160<>\"\",'Line 1 Source'!A1160,\"\")","v":"2018"},"4644925",{"$f":"CONCATENATE(VLOOKUP(B1160,'School List'!$B$3:$H$291,6,FALSE),H1160)","v":"49250180"},{"$f":"CONCATENATE(VLOOKUP(B1160,'School List'!$B$3:$D$291,3,FALSE),H1160)","v":"LaPorte County - MICHIGAN CITY AREA SCHOOL CORPORATION0180"},{"$f":"IF('Line 1 Source'!B1160<>\"\",'Line 1 Source'!B1160,\"\")","v":"46"},{"$f":"IF('Line 1 Source'!C1160<>\"\",'Line 1 Source'!C1160,\"\")","v":"4"},{"$f":"IF('Line 1 Source'!D1160<>\"\",'Line 1 Source'!D1160,\"\")","v":"4925"},{"$f":"IF('Line 1 Source'!E1160<>\"\",'Line 1 Source'!E1160,\"\")","v":"0180"},{"$f":"IF('Line 1 Source'!F1160<>\"\",'Line 1 Source'!F1160,\"\")","v":11761643}]
[{"$f":"IF('Line 1 Source'!A1161<>\"\",'Line 1 Source'!A1161,\"\")","v":"2018"},"4644925",{"$f":"CONCATENATE(VLOOKUP(B1161,'School List'!$B$3:$H$291,6,FALSE),H1161)","v":"49250186"},{"$f":"CONCATENATE(VLOOKUP(B1161,'School List'!$B$3:$D$291,3,FALSE),H1161)","v":"LaPorte County - MICHIGAN CITY AREA SCHOOL CORPORATION0186"},{"$f":"IF('Line 1 Source'!B1161<>\"\",'Line 1 Source'!B1161,\"\")","v":"46"},{"$f":"IF('Line 1 Source'!C1161<>\"\",'Line 1 Source'!C1161,\"\")","v":"4"},{"$f":"IF('Line 1 Source'!D1161<>\"\",'Line 1 Source'!D1161,\"\")","v":"4925"},{"$f":"IF('Line 1 Source'!E1161<>\"\",'Line 1 Source'!E1161,\"\")","v":"0186"},{"$f":"IF('Line 1 Source'!F1161<>\"\",'Line 1 Source'!F1161,\"\")","v":887414}]
[{"$f":"IF('Line 1 Source'!A1162<>\"\",'Line 1 Source'!A1162,\"\")","v":"2018"},"4644925",{"$f":"CONCATENATE(VLOOKUP(B1162,'School List'!$B$3:$H$291,6,FALSE),H1162)","v":"49251214"},{"$f":"CONCATENATE(VLOOKUP(B1162,'School List'!$B$3:$D$291,3,FALSE),H1162)","v":"LaPorte County - MICHIGAN CITY AREA SCHOOL CORPORATION1214"},{"$f":"IF('Line 1 Source'!B1162<>\"\",'Line 1 Source'!B1162,\"\")","v":"46"},{"$f":"IF('Line 1 Source'!C1162<>\"\",'Line 1 Source'!C1162,\"\")","v":"4"},{"$f":"IF('Line 1 Source'!D1162<>\"\",'Line 1 Source'!D1162,\"\")","v":"4925"},{"$f":"IF('Line 1 Source'!E1162<>\"\",'Line 1 Source'!E1162,\"\")","v":"1214"},{"$f":"IF('Line 1 Source'!F1162<>\"\",'Line 1 Source'!F1162,\"\")","v":2665960}]
[{"$f":"IF('Line 1 Source'!A1163<>\"\",'Line 1 Source'!A1163,\"\")","v":"2018"},"4644925",{"$f":"CONCATENATE(VLOOKUP(B1163,'School List'!$B$3:$H$291,6,FALSE),H1163)","v":"49256301"},{"$f":"CONCATENATE(VLOOKUP(B1163,'School List'!$B$3:$D$291,3,FALSE),H1163)","v":"LaPorte County - MICHIGAN CITY AREA SCHOOL CORPORATION6301"},{"$f":"IF('Line 1 Source'!B1163<>\"\",'Line 1 Source'!B1163,\"\")","v":"46"},{"$f":"IF('Line 1 Source'!C1163<>\"\",'Line 1 Source'!C1163,\"\")","v":"4"},{"$f":"IF('Line 1 Source'!D1163<>\"\",'Line 1 Source'!D1163,\"\")","v":"4925"},{"$f":"IF('Line 1 Source'!E1163<>\"\",'Line 1 Source'!E1163,\"\")","v":"6301"},{"$f":"IF('Line 1 Source'!F1163<>\"\",'Line 1 Source'!F1163,\"\")","v":3846788}]
[{"$f":"IF('Line 1 Source'!A1164<>\"\",'Line 1 Source'!A1164,\"\")","v":"2018"},"4644925",{"$f":"CONCATENATE(VLOOKUP(B1164,'School List'!$B$3:$H$291,6,FALSE),H1164)","v":"49256302"},{"$f":"CONCATENATE(VLOOKUP(B1164,'School List'!$B$3:$D$291,3,FALSE),H1164)","v":"LaPorte County - MICHIGAN CITY AREA SCHOOL CORPORATION6302"},{"$f":"IF('Line 1 Source'!B1164<>\"\",'Line 1 Source'!B1164,\"\")","v":"46"},{"$f":"IF('Line 1 Source'!C1164<>\"\",'Line 1 Source'!C1164,\"\")","v":"4"},{"$f":"IF('Line 1 Source'!D1164<>\"\",'Line 1 Source'!D1164,\"\")","v":"4925"},{"$f":"IF('Line 1 Source'!E1164<>\"\",'Line 1 Source'!E1164,\"\")","v":"6302"},{"$f":"IF('Line 1 Source'!F1164<>\"\",'Line 1 Source'!F1164,\"\")","v":238375}]
[{"$f":"IF('Line 1 Source'!A1165<>\"\",'Line 1 Source'!A1165,\"\")","v":"2018"},"4644940",{"$f":"CONCATENATE(VLOOKUP(B1165,'School List'!$B$3:$H$291,6,FALSE),H1165)","v":"49400101"},{"$f":"CONCATENATE(VLOOKUP(B1165,'School List'!$B$3:$D$291,3,FALSE),H1165)","v":"LaPorte County - SOUTH CENTRAL COMMUNITY SCHOOL CORP0101"},{"$f":"IF('Line 1 Source'!B1165<>\"\",'Line 1 Source'!B1165,\"\")","v":"46"},{"$f":"IF('Line 1 Source'!C1165<>\"\",'Line 1 Source'!C1165,\"\")","v":"4"},{"$f":"IF('Line 1 Source'!D1165<>\"\",'Line 1 Source'!D1165,\"\")","v":"4940"},{"$f":"IF('Line 1 Source'!E1165<>\"\",'Line 1 Source'!E1165,\"\")","v":"0101"},{"$f":"IF('Line 1 Source'!F1165<>\"\",'Line 1 Source'!F1165,\"\")","v":6279985}]
[{"$f":"IF('Line 1 Source'!A1166<>\"\",'Line 1 Source'!A1166,\"\")","v":"2018"},"4644940",{"$f":"CONCATENATE(VLOOKUP(B1166,'School List'!$B$3:$H$291,6,FALSE),H1166)","v":"49400180"},{"$f":"CONCATENATE(VLOOKUP(B1166,'School List'!$B$3:$D$291,3,FALSE),H1166)","v":"LaPorte County - SOUTH CENTRAL COMMUNITY SCHOOL CORP0180"},{"$f":"IF('Line 1 Source'!B1166<>\"\",'Line 1 Source'!B1166,\"\")","v":"46"},{"$f":"IF('Line 1 Source'!C1166<>\"\",'Line 1 Source'!C1166,\"\")","v":"4"},{"$f":"IF('Line 1 Source'!D1166<>\"\",'Line 1 Source'!D1166,\"\")","v":"4940"},{"$f":"IF('Line 1 Source'!E1166<>\"\",'Line 1 Source'!E1166,\"\")","v":"0180"},{"$f":"IF('Line 1 Source'!F1166<>\"\",'Line 1 Source'!F1166,\"\")","v":1156776}]
[{"$f":"IF('Line 1 Source'!A1167<>\"\",'Line 1 Source'!A1167,\"\")","v":"2018"},"4644940",{"$f":"CONCATENATE(VLOOKUP(B1167,'School List'!$B$3:$H$291,6,FALSE),H1167)","v":"49400186"},{"$f":"CONCATENATE(VLOOKUP(B1167,'School List'!$B$3:$D$291,3,FALSE),H1167)","v":"LaPorte County - SOUTH CENTRAL COMMUNITY SCHOOL CORP0186"},{"$f":"IF('Line 1 Source'!B1167<>\"\",'Line 1 Source'!B1167,\"\")","v":"46"},{"$f":"IF('Line 1 Source'!C1167<>\"\",'Line 1 Source'!C1167,\"\")","v":"4"},{"$f":"IF('Line 1 Source'!D1167<>\"\",'Line 1 Source'!D1167,\"\")","v":"4940"},{"$f":"IF('Line 1 Source'!E1167<>\"\",'Line 1 Source'!E1167,\"\")","v":"0186"},{"$f":"IF('Line 1 Source'!F1167<>\"\",'Line 1 Source'!F1167,\"\")","v":83008}]
[{"$f":"IF('Line 1 Source'!A1168<>\"\",'Line 1 Source'!A1168,\"\")","v":"2018"},"4644940",{"$f":"CONCATENATE(VLOOKUP(B1168,'School List'!$B$3:$H$291,6,FALSE),H1168)","v":"49401214"},{"$f":"CONCATENATE(VLOOKUP(B1168,'School List'!$B$3:$D$291,3,FALSE),H1168)","v":"LaPorte County - SOUTH CENTRAL COMMUNITY SCHOOL CORP1214"},{"$f":"IF('Line 1 Source'!B1168<>\"\",'Line 1 Source'!B1168,\"\")","v":"46"},{"$f":"IF('Line 1 Source'!C1168<>\"\",'Line 1 Source'!C1168,\"\")","v":"4"},{"$f":"IF('Line 1 Source'!D1168<>\"\",'Line 1 Source'!D1168,\"\")","v":"4940"},{"$f":"IF('Line 1 Source'!E1168<>\"\",'Line 1 Source'!E1168,\"\")","v":"1214"},{"$f":"IF('Line 1 Source'!F1168<>\"\",'Line 1 Source'!F1168,\"\")","v":642728}]
[{"$f":"IF('Line 1 Source'!A1169<>\"\",'Line 1 Source'!A1169,\"\")","v":"2018"},"4644940",{"$f":"CONCATENATE(VLOOKUP(B1169,'School List'!$B$3:$H$291,6,FALSE),H1169)","v":"49406301"},{"$f":"CONCATENATE(VLOOKUP(B1169,'School List'!$B$3:$D$291,3,FALSE),H1169)","v":"LaPorte County - SOUTH CENTRAL COMMUNITY SCHOOL CORP6301"},{"$f":"IF('Line 1 Source'!B1169<>\"\",'Line 1 Source'!B1169,\"\")","v":"46"},{"$f":"IF('Line 1 Source'!C1169<>\"\",'Line 1 Source'!C1169,\"\")","v":"4"},{"$f":"IF('Line 1 Source'!D1169<>\"\",'Line 1 Source'!D1169,\"\")","v":"4940"},{"$f":"IF('Line 1 Source'!E1169<>\"\",'Line 1 Source'!E1169,\"\")","v":"6301"},{"$f":"IF('Line 1 Source'!F1169<>\"\",'Line 1 Source'!F1169,\"\")","v":631564}]
[{"$f":"IF('Line 1 Source'!A1170<>\"\",'Line 1 Source'!A1170,\"\")","v":"2018"},"4644940",{"$f":"CONCATENATE(VLOOKUP(B1170,'School List'!$B$3:$H$291,6,FALSE),H1170)","v":"49406302"},{"$f":"CONCATENATE(VLOOKUP(B1170,'School List'!$B$3:$D$291,3,FALSE),H1170)","v":"LaPorte County - SOUTH CENTRAL COMMUNITY SCHOOL CORP6302"},{"$f":"IF('Line 1 Source'!B1170<>\"\",'Line 1 Source'!B1170,\"\")","v":"46"},{"$f":"IF('Line 1 Source'!C1170<>\"\",'Line 1 Source'!C1170,\"\")","v":"4"},{"$f":"IF('Line 1 Source'!D1170<>\"\",'Line 1 Source'!D1170,\"\")","v":"4940"},{"$f":"IF('Line 1 Source'!E1170<>\"\",'Line 1 Source'!E1170,\"\")","v":"6302"},{"$f":"IF('Line 1 Source'!F1170<>\"\",'Line 1 Source'!F1170,\"\")","v":180000}]
[{"$f":"IF('Line 1 Source'!A1171<>\"\",'Line 1 Source'!A1171,\"\")","v":"2018"},"4644945",{"$f":"CONCATENATE(VLOOKUP(B1171,'School List'!$B$3:$H$291,6,FALSE),H1171)","v":"49450061"},{"$f":"CONCATENATE(VLOOKUP(B1171,'School List'!$B$3:$D$291,3,FALSE),H1171)","v":"LaPorte County - LAPORTE COMMUNITY SCHOOL CORPORATION0061"},{"$f":"IF('Line 1 Source'!B1171<>\"\",'Line 1 Source'!B1171,\"\")","v":"46"},{"$f":"IF('Line 1 Source'!C1171<>\"\",'Line 1 Source'!C1171,\"\")","v":"4"},{"$f":"IF('Line 1 Source'!D1171<>\"\",'Line 1 Source'!D1171,\"\")","v":"4945"},{"$f":"IF('Line 1 Source'!E1171<>\"\",'Line 1 Source'!E1171,\"\")","v":"0061"},{"$f":"IF('Line 1 Source'!F1171<>\"\",'Line 1 Source'!F1171,\"\")","v":0}]
[{"$f":"IF('Line 1 Source'!A1172<>\"\",'Line 1 Source'!A1172,\"\")","v":"2018"},"4644945",{"$f":"CONCATENATE(VLOOKUP(B1172,'School List'!$B$3:$H$291,6,FALSE),H1172)","v":"49450101"},{"$f":"CONCATENATE(VLOOKUP(B1172,'School List'!$B$3:$D$291,3,FALSE),H1172)","v":"LaPorte County - LAPORTE COMMUNITY SCHOOL CORPORATION0101"},{"$f":"IF('Line 1 Source'!B1172<>\"\",'Line 1 Source'!B1172,\"\")","v":"46"},{"$f":"IF('Line 1 Source'!C1172<>\"\",'Line 1 Source'!C1172,\"\")","v":"4"},{"$f":"IF('Line 1 Source'!D1172<>\"\",'Line 1 Source'!D1172,\"\")","v":"4945"},{"$f":"IF('Line 1 Source'!E1172<>\"\",'Line 1 Source'!E1172,\"\")","v":"0101"},{"$f":"IF('Line 1 Source'!F1172<>\"\",'Line 1 Source'!F1172,\"\")","v":42583188}]
[{"$f":"IF('Line 1 Source'!A1173<>\"\",'Line 1 Source'!A1173,\"\")","v":"2018"},"4644945",{"$f":"CONCATENATE(VLOOKUP(B1173,'School List'!$B$3:$H$291,6,FALSE),H1173)","v":"49450180"},{"$f":"CONCATENATE(VLOOKUP(B1173,'School List'!$B$3:$D$291,3,FALSE),H1173)","v":"LaPorte County - LAPORTE COMMUNITY SCHOOL CORPORATION0180"},{"$f":"IF('Line 1 Source'!B1173<>\"\",'Line 1 Source'!B1173,\"\")","v":"46"},{"$f":"IF('Line 1 Source'!C1173<>\"\",'Line 1 Source'!C1173,\"\")","v":"4"},{"$f":"IF('Line 1 Source'!D1173<>\"\",'Line 1 Source'!D1173,\"\")","v":"4945"},{"$f":"IF('Line 1 Source'!E1173<>\"\",'Line 1 Source'!E1173,\"\")","v":"0180"},{"$f":"IF('Line 1 Source'!F1173<>\"\",'Line 1 Source'!F1173,\"\")","v":7055286}]
[{"$f":"IF('Line 1 Source'!A1174<>\"\",'Line 1 Source'!A1174,\"\")","v":"2018"},"4644945",{"$f":"CONCATENATE(VLOOKUP(B1174,'School List'!$B$3:$H$291,6,FALSE),H1174)","v":"49451214"},{"$f":"CONCATENATE(VLOOKUP(B1174,'School List'!$B$3:$D$291,3,FALSE),H1174)","v":"LaPorte County - LAPORTE COMMUNITY SCHOOL CORPORATION1214"},{"$f":"IF('Line 1 Source'!B1174<>\"\",'Line 1 Source'!B1174,\"\")","v":"46"},{"$f":"IF('Line 1 Source'!C1174<>\"\",'Line 1 Source'!C1174,\"\")","v":"4"},{"$f":"IF('Line 1 Source'!D1174<>\"\",'Line 1 Source'!D1174,\"\")","v":"4945"},{"$f":"IF('Line 1 Source'!E1174<>\"\",'Line 1 Source'!E1174,\"\")","v":"1214"},{"$f":"IF('Line 1 Source'!F1174<>\"\",'Line 1 Source'!F1174,\"\")","v":3877969}]
[{"$f":"IF('Line 1 Source'!A1175<>\"\",'Line 1 Source'!A1175,\"\")","v":"2018"},"4644945",{"$f":"CONCATENATE(VLOOKUP(B1175,'School List'!$B$3:$H$291,6,FALSE),H1175)","v":"49456301"},{"$f":"CONCATENATE(VLOOKUP(B1175,'School List'!$B$3:$D$291,3,FALSE),H1175)","v":"LaPorte County - LAPORTE COMMUNITY SCHOOL CORPORATION6301"},{"$f":"IF('Line 1 Source'!B1175<>\"\",'Line 1 Source'!B1175,\"\")","v":"46"},{"$f":"IF('Line 1 Source'!C1175<>\"\",'Line 1 Source'!C1175,\"\")","v":"4"},{"$f":"IF('Line 1 Source'!D1175<>\"\",'Line 1 Source'!D1175,\"\")","v":"4945"},{"$f":"IF('Line 1 Source'!E1175<>\"\",'Line 1 Source'!E1175,\"\")","v":"6301"},{"$f":"IF('Line 1 Source'!F1175<>\"\",'Line 1 Source'!F1175,\"\")","v":3148288}]
[{"$f":"IF('Line 1 Source'!A1176<>\"\",'Line 1 Source'!A1176,\"\")","v":"2018"},"4644945",{"$f":"CONCATENATE(VLOOKUP(B1176,'School List'!$B$3:$H$291,6,FALSE),H1176)","v":"49456302"},{"$f":"CONCATENATE(VLOOKUP(B1176,'School List'!$B$3:$D$291,3,FALSE),H1176)","v":"LaPorte County - LAPORTE COMMUNITY SCHOOL CORPORATION6302"},{"$f":"IF('Line 1 Source'!B1176<>\"\",'Line 1 Source'!B1176,\"\")","v":"46"},{"$f":"IF('Line 1 Source'!C1176<>\"\",'Line 1 Source'!C1176,\"\")","v":"4"},{"$f":"IF('Line 1 Source'!D1176<>\"\",'Line 1 Source'!D1176,\"\")","v":"4945"},{"$f":"IF('Line 1 Source'!E1176<>\"\",'Line 1 Source'!E1176,\"\")","v":"6302"},{"$f":"IF('Line 1 Source'!F1176<>\"\",'Line 1 Source'!F1176,\"\")","v":690000}]
[{"$f":"IF('Line 1 Source'!A1177<>\"\",'Line 1 Source'!A1177,\"\")","v":"2018"},"4647150",{"$f":"CONCATENATE(VLOOKUP(B1177,'School List'!$B$3:$H$291,6,FALSE),H1177)","v":{"$error":"#N/A"}},{"$f":"CONCATENATE(VLOOKUP(B1177,'School List'!$B$3:$D$291,3,FALSE),H1177)","v":{"$error":"#N/A"}},{"$f":"IF('Line 1 Source'!B1177<>\"\",'Line 1 Source'!B1177,\"\")","v":"46"},{"$f":"IF('Line 1 Source'!C1177<>\"\",'Line 1 Source'!C1177,\"\")","v":"4"},{"$f":"IF('Line 1 Source'!D1177<>\"\",'Line 1 Source'!D1177,\"\")","v":"7150"},{"$f":"IF('Line 1 Source'!E1177<>\"\",'Line 1 Source'!E1177,\"\")","v":"0061"},{"$f":"IF('Line 1 Source'!F1177<>\"\",'Line 1 Source'!F1177,\"\")","v":0}]
[{"$f":"IF('Line 1 Source'!A1178<>\"\",'Line 1 Source'!A1178,\"\")","v":"2018"},"4647150",{"$f":"CONCATENATE(VLOOKUP(B1178,'School List'!$B$3:$H$291,6,FALSE),H1178)","v":{"$error":"#N/A"}},{"$f":"CONCATENATE(VLOOKUP(B1178,'School List'!$B$3:$D$291,3,FALSE),H1178)","v":{"$error":"#N/A"}},{"$f":"IF('Line 1 Source'!B1178<>\"\",'Line 1 Source'!B1178,\"\")","v":"46"},{"$f":"IF('Line 1 Source'!C1178<>\"\",'Line 1 Source'!C1178,\"\")","v":"4"},{"$f":"IF('Line 1 Source'!D1178<>\"\",'Line 1 Source'!D1178,\"\")","v":"7150"},{"$f":"IF('Line 1 Source'!E1178<>\"\",'Line 1 Source'!E1178,\"\")","v":"0101"},{"$f":"IF('Line 1 Source'!F1178<>\"\",'Line 1 Source'!F1178,\"\")","v":0}]
[{"$f":"IF('Line 1 Source'!A1179<>\"\",'Line 1 Source'!A1179,\"\")","v":"2018"},"4647150",{"$f":"CONCATENATE(VLOOKUP(B1179,'School List'!$B$3:$H$291,6,FALSE),H1179)","v":{"$error":"#N/A"}},{"$f":"CONCATENATE(VLOOKUP(B1179,'School List'!$B$3:$D$291,3,FALSE),H1179)","v":{"$error":"#N/A"}},{"$f":"IF('Line 1 Source'!B1179<>\"\",'Line 1 Source'!B1179,\"\")","v":"46"},{"$f":"IF('Line 1 Source'!C1179<>\"\",'Line 1 Source'!C1179,\"\")","v":"4"},{"$f":"IF('Line 1 Source'!D1179<>\"\",'Line 1 Source'!D1179,\"\")","v":"7150"},{"$f":"IF('Line 1 Source'!E1179<>\"\",'Line 1 Source'!E1179,\"\")","v":"0180"},{"$f":"IF('Line 1 Source'!F1179<>\"\",'Line 1 Source'!F1179,\"\")","v":0}]
[{"$f":"IF('Line 1 Source'!A1180<>\"\",'Line 1 Source'!A1180,\"\")","v":"2018"},"4647150",{"$f":"CONCATENATE(VLOOKUP(B1180,'School List'!$B$3:$H$291,6,FALSE),H1180)","v":{"$error":"#N/A"}},{"$f":"CONCATENATE(VLOOKUP(B1180,'School List'!$B$3:$D$291,3,FALSE),H1180)","v":{"$error":"#N/A"}},{"$f":"IF('Line 1 Source'!B1180<>\"\",'Line 1 Source'!B1180,\"\")","v":"46"},{"$f":"IF('Line 1 Source'!C1180<>\"\",'Line 1 Source'!C1180,\"\")","v":"4"},{"$f":"IF('Line 1 Source'!D1180<>\"\",'Line 1 Source'!D1180,\"\")","v":"7150"},{"$f":"IF('Line 1 Source'!E1180<>\"\",'Line 1 Source'!E1180,\"\")","v":"0188"},{"$f":"IF('Line 1 Source'!F1180<>\"\",'Line 1 Source'!F1180,\"\")","v":0}]
[{"$f":"IF('Line 1 Source'!A1181<>\"\",'Line 1 Source'!A1181,\"\")","v":"2018"},"4647150",{"$f":"CONCATENATE(VLOOKUP(B1181,'School List'!$B$3:$H$291,6,FALSE),H1181)","v":{"$error":"#N/A"}},{"$f":"CONCATENATE(VLOOKUP(B1181,'School List'!$B$3:$D$291,3,FALSE),H1181)","v":{"$error":"#N/A"}},{"$f":"IF('Line 1 Source'!B1181<>\"\",'Line 1 Source'!B1181,\"\")","v":"46"},{"$f":"IF('Line 1 Source'!C1181<>\"\",'Line 1 Source'!C1181,\"\")","v":"4"},{"$f":"IF('Line 1 Source'!D1181<>\"\",'Line 1 Source'!D1181,\"\")","v":"7150"},{"$f":"IF('Line 1 Source'!E1181<>\"\",'Line 1 Source'!E1181,\"\")","v":"0189"},{"$f":"IF('Line 1 Source'!F1181<>\"\",'Line 1 Source'!F1181,\"\")","v":0}]
[{"$f":"IF('Line 1 Source'!A1182<>\"\",'Line 1 Source'!A1182,\"\")","v":"2018"},"4647150",{"$f":"CONCATENATE(VLOOKUP(B1182,'School List'!$B$3:$H$291,6,FALSE),H1182)","v":{"$error":"#N/A"}},{"$f":"CONCATENATE(VLOOKUP(B1182,'School List'!$B$3:$D$291,3,FALSE),H1182)","v":{"$error":"#N/A"}},{"$f":"IF('Line 1 Source'!B1182<>\"\",'Line 1 Source'!B1182,\"\")","v":"46"},{"$f":"IF('Line 1 Source'!C1182<>\"\",'Line 1 Source'!C1182,\"\")","v":"4"},{"$f":"IF('Line 1 Source'!D1182<>\"\",'Line 1 Source'!D1182,\"\")","v":"7150"},{"$f":"IF('Line 1 Source'!E1182<>\"\",'Line 1 Source'!E1182,\"\")","v":"1214"},{"$f":"IF('Line 1 Source'!F1182<>\"\",'Line 1 Source'!F1182,\"\")","v":0}]
[{"$f":"IF('Line 1 Source'!A1183<>\"\",'Line 1 Source'!A1183,\"\")","v":"2018"},"4647150",{"$f":"CONCATENATE(VLOOKUP(B1183,'School List'!$B$3:$H$291,6,FALSE),H1183)","v":{"$error":"#N/A"}},{"$f":"CONCATENATE(VLOOKUP(B1183,'School List'!$B$3:$D$291,3,FALSE),H1183)","v":{"$error":"#N/A"}},{"$f":"IF('Line 1 Source'!B1183<>\"\",'Line 1 Source'!B1183,\"\")","v":"46"},{"$f":"IF('Line 1 Source'!C1183<>\"\",'Line 1 Source'!C1183,\"\")","v":"4"},{"$f":"IF('Line 1 Source'!D1183<>\"\",'Line 1 Source'!D1183,\"\")","v":"7150"},{"$f":"IF('Line 1 Source'!E1183<>\"\",'Line 1 Source'!E1183,\"\")","v":"6301"},{"$f":"IF('Line 1 Source'!F1183<>\"\",'Line 1 Source'!F1183,\"\")","v":0}]
[{"$f":"IF('Line 1 Source'!A1184<>\"\",'Line 1 Source'!A1184,\"\")","v":"2018"},"4647150",{"$f":"CONCATENATE(VLOOKUP(B1184,'School List'!$B$3:$H$291,6,FALSE),H1184)","v":{"$error":"#N/A"}},{"$f":"CONCATENATE(VLOOKUP(B1184,'School List'!$B$3:$D$291,3,FALSE),H1184)","v":{"$error":"#N/A"}},{"$f":"IF('Line 1 Source'!B1184<>\"\",'Line 1 Source'!B1184,\"\")","v":"46"},{"$f":"IF('Line 1 Source'!C1184<>\"\",'Line 1 Source'!C1184,\"\")","v":"4"},{"$f":"IF('Line 1 Source'!D1184<>\"\",'Line 1 Source'!D1184,\"\")","v":"7150"},{"$f":"IF('Line 1 Source'!E1184<>\"\",'Line 1 Source'!E1184,\"\")","v":"6302"},{"$f":"IF('Line 1 Source'!F1184<>\"\",'Line 1 Source'!F1184,\"\")","v":0}]
[{"$f":"IF('Line 1 Source'!A1185<>\"\",'Line 1 Source'!A1185,\"\")","v":"2018"},"4745075",{"$f":"CONCATENATE(VLOOKUP(B1185,'School List'!$B$3:$H$291,6,FALSE),H1185)","v":"50750061"},{"$f":"CONCATENATE(VLOOKUP(B1185,'School List'!$B$3:$D$291,3,FALSE),H1185)","v":"Lawrence County - NORTH LAWRENCE COMMUNITY SCHOOL CORP0061"},{"$f":"IF('Line 1 Source'!B1185<>\"\",'Line 1 Source'!B1185,\"\")","v":"47"},{"$f":"IF('Line 1 Source'!C1185<>\"\",'Line 1 Source'!C1185,\"\")","v":"4"},{"$f":"IF('Line 1 Source'!D1185<>\"\",'Line 1 Source'!D1185,\"\")","v":"5075"},{"$f":"IF('Line 1 Source'!E1185<>\"\",'Line 1 Source'!E1185,\"\")","v":"0061"},{"$f":"IF('Line 1 Source'!F1185<>\"\",'Line 1 Source'!F1185,\"\")","v":2150000}]
[{"$f":"IF('Line 1 Source'!A1186<>\"\",'Line 1 Source'!A1186,\"\")","v":"2018"},"4745075",{"$f":"CONCATENATE(VLOOKUP(B1186,'School List'!$B$3:$H$291,6,FALSE),H1186)","v":"50750101"},{"$f":"CONCATENATE(VLOOKUP(B1186,'School List'!$B$3:$D$291,3,FALSE),H1186)","v":"Lawrence County - NORTH LAWRENCE COMMUNITY SCHOOL CORP0101"},{"$f":"IF('Line 1 Source'!B1186<>\"\",'Line 1 Source'!B1186,\"\")","v":"47"},{"$f":"IF('Line 1 Source'!C1186<>\"\",'Line 1 Source'!C1186,\"\")","v":"4"},{"$f":"IF('Line 1 Source'!D1186<>\"\",'Line 1 Source'!D1186,\"\")","v":"5075"},{"$f":"IF('Line 1 Source'!E1186<>\"\",'Line 1 Source'!E1186,\"\")","v":"0101"},{"$f":"IF('Line 1 Source'!F1186<>\"\",'Line 1 Source'!F1186,\"\")","v":33630476}]
[{"$f":"IF('Line 1 Source'!A1187<>\"\",'Line 1 Source'!A1187,\"\")","v":"2018"},"4745075",{"$f":"CONCATENATE(VLOOKUP(B1187,'School List'!$B$3:$H$291,6,FALSE),H1187)","v":"50750180"},{"$f":"CONCATENATE(VLOOKUP(B1187,'School List'!$B$3:$D$291,3,FALSE),H1187)","v":"Lawrence County - NORTH LAWRENCE COMMUNITY SCHOOL CORP0180"},{"$f":"IF('Line 1 Source'!B1187<>\"\",'Line 1 Source'!B1187,\"\")","v":"47"},{"$f":"IF('Line 1 Source'!C1187<>\"\",'Line 1 Source'!C1187,\"\")","v":"4"},{"$f":"IF('Line 1 Source'!D1187<>\"\",'Line 1 Source'!D1187,\"\")","v":"5075"},{"$f":"IF('Line 1 Source'!E1187<>\"\",'Line 1 Source'!E1187,\"\")","v":"0180"},{"$f":"IF('Line 1 Source'!F1187<>\"\",'Line 1 Source'!F1187,\"\")","v":4803334}]
[{"$f":"IF('Line 1 Source'!A1188<>\"\",'Line 1 Source'!A1188,\"\")","v":"2018"},"4745075",{"$f":"CONCATENATE(VLOOKUP(B1188,'School List'!$B$3:$H$291,6,FALSE),H1188)","v":"50750186"},{"$f":"CONCATENATE(VLOOKUP(B1188,'School List'!$B$3:$D$291,3,FALSE),H1188)","v":"Lawrence County - NORTH LAWRENCE COMMUNITY SCHOOL CORP0186"},{"$f":"IF('Line 1 Source'!B1188<>\"\",'Line 1 Source'!B1188,\"\")","v":"47"},{"$f":"IF('Line 1 Source'!C1188<>\"\",'Line 1 Source'!C1188,\"\")","v":"4"},{"$f":"IF('Line 1 Source'!D1188<>\"\",'Line 1 Source'!D1188,\"\")","v":"5075"},{"$f":"IF('Line 1 Source'!E1188<>\"\",'Line 1 Source'!E1188,\"\")","v":"0186"},{"$f":"IF('Line 1 Source'!F1188<>\"\",'Line 1 Source'!F1188,\"\")","v":801336}]
[{"$f":"IF('Line 1 Source'!A1189<>\"\",'Line 1 Source'!A1189,\"\")","v":"2018"},"4745075",{"$f":"CONCATENATE(VLOOKUP(B1189,'School List'!$B$3:$H$291,6,FALSE),H1189)","v":"50751214"},{"$f":"CONCATENATE(VLOOKUP(B1189,'School List'!$B$3:$D$291,3,FALSE),H1189)","v":"Lawrence County - NORTH LAWRENCE COMMUNITY SCHOOL CORP1214"},{"$f":"IF('Line 1 Source'!B1189<>\"\",'Line 1 Source'!B1189,\"\")","v":"47"},{"$f":"IF('Line 1 Source'!C1189<>\"\",'Line 1 Source'!C1189,\"\")","v":"4"},{"$f":"IF('Line 1 Source'!D1189<>\"\",'Line 1 Source'!D1189,\"\")","v":"5075"},{"$f":"IF('Line 1 Source'!E1189<>\"\",'Line 1 Source'!E1189,\"\")","v":"1214"},{"$f":"IF('Line 1 Source'!F1189<>\"\",'Line 1 Source'!F1189,\"\")","v":3452222}]
[{"$f":"IF('Line 1 Source'!A1190<>\"\",'Line 1 Source'!A1190,\"\")","v":"2018"},"4745075",{"$f":"CONCATENATE(VLOOKUP(B1190,'School List'!$B$3:$H$291,6,FALSE),H1190)","v":"50756301"},{"$f":"CONCATENATE(VLOOKUP(B1190,'School List'!$B$3:$D$291,3,FALSE),H1190)","v":"Lawrence County - NORTH LAWRENCE COMMUNITY SCHOOL CORP6301"},{"$f":"IF('Line 1 Source'!B1190<>\"\",'Line 1 Source'!B1190,\"\")","v":"47"},{"$f":"IF('Line 1 Source'!C1190<>\"\",'Line 1 Source'!C1190,\"\")","v":"4"},{"$f":"IF('Line 1 Source'!D1190<>\"\",'Line 1 Source'!D1190,\"\")","v":"5075"},{"$f":"IF('Line 1 Source'!E1190<>\"\",'Line 1 Source'!E1190,\"\")","v":"6301"},{"$f":"IF('Line 1 Source'!F1190<>\"\",'Line 1 Source'!F1190,\"\")","v":4710179}]
[{"$f":"IF('Line 1 Source'!A1191<>\"\",'Line 1 Source'!A1191,\"\")","v":"2018"},"4745075",{"$f":"CONCATENATE(VLOOKUP(B1191,'School List'!$B$3:$H$291,6,FALSE),H1191)","v":"50756302"},{"$f":"CONCATENATE(VLOOKUP(B1191,'School List'!$B$3:$D$291,3,FALSE),H1191)","v":"Lawrence County - NORTH LAWRENCE COMMUNITY SCHOOL CORP6302"},{"$f":"IF('Line 1 Source'!B1191<>\"\",'Line 1 Source'!B1191,\"\")","v":"47"},{"$f":"IF('Line 1 Source'!C1191<>\"\",'Line 1 Source'!C1191,\"\")","v":"4"},{"$f":"IF('Line 1 Source'!D1191<>\"\",'Line 1 Source'!D1191,\"\")","v":"5075"},{"$f":"IF('Line 1 Source'!E1191<>\"\",'Line 1 Source'!E1191,\"\")","v":"6302"},{"$f":"IF('Line 1 Source'!F1191<>\"\",'Line 1 Source'!F1191,\"\")","v":33340}]
[{"$f":"IF('Line 1 Source'!A1192<>\"\",'Line 1 Source'!A1192,\"\")","v":"2018"},"4745085",{"$f":"CONCATENATE(VLOOKUP(B1192,'School List'!$B$3:$H$291,6,FALSE),H1192)","v":"50850061"},{"$f":"CONCATENATE(VLOOKUP(B1192,'School List'!$B$3:$D$291,3,FALSE),H1192)","v":"Lawrence County - MITCHELL COMMUNITY SCHOOL CORPORATION0061"},{"$f":"IF('Line 1 Source'!B1192<>\"\",'Line 1 Source'!B1192,\"\")","v":"47"},{"$f":"IF('Line 1 Source'!C1192<>\"\",'Line 1 Source'!C1192,\"\")","v":"4"},{"$f":"IF('Line 1 Source'!D1192<>\"\",'Line 1 Source'!D1192,\"\")","v":"5085"},{"$f":"IF('Line 1 Source'!E1192<>\"\",'Line 1 Source'!E1192,\"\")","v":"0061"},{"$f":"IF('Line 1 Source'!F1192<>\"\",'Line 1 Source'!F1192,\"\")","v":1000000}]
[{"$f":"IF('Line 1 Source'!A1193<>\"\",'Line 1 Source'!A1193,\"\")","v":"2018"},"4745085",{"$f":"CONCATENATE(VLOOKUP(B1193,'School List'!$B$3:$H$291,6,FALSE),H1193)","v":"50850101"},{"$f":"CONCATENATE(VLOOKUP(B1193,'School List'!$B$3:$D$291,3,FALSE),H1193)","v":"Lawrence County - MITCHELL COMMUNITY SCHOOL CORPORATION0101"},{"$f":"IF('Line 1 Source'!B1193<>\"\",'Line 1 Source'!B1193,\"\")","v":"47"},{"$f":"IF('Line 1 Source'!C1193<>\"\",'Line 1 Source'!C1193,\"\")","v":"4"},{"$f":"IF('Line 1 Source'!D1193<>\"\",'Line 1 Source'!D1193,\"\")","v":"5085"},{"$f":"IF('Line 1 Source'!E1193<>\"\",'Line 1 Source'!E1193,\"\")","v":"0101"},{"$f":"IF('Line 1 Source'!F1193<>\"\",'Line 1 Source'!F1193,\"\")","v":11895460}]
[{"$f":"IF('Line 1 Source'!A1194<>\"\",'Line 1 Source'!A1194,\"\")","v":"2018"},"4745085",{"$f":"CONCATENATE(VLOOKUP(B1194,'School List'!$B$3:$H$291,6,FALSE),H1194)","v":"50850180"},{"$f":"CONCATENATE(VLOOKUP(B1194,'School List'!$B$3:$D$291,3,FALSE),H1194)","v":"Lawrence County - MITCHELL COMMUNITY SCHOOL CORPORATION0180"},{"$f":"IF('Line 1 Source'!B1194<>\"\",'Line 1 Source'!B1194,\"\")","v":"47"},{"$f":"IF('Line 1 Source'!C1194<>\"\",'Line 1 Source'!C1194,\"\")","v":"4"},{"$f":"IF('Line 1 Source'!D1194<>\"\",'Line 1 Source'!D1194,\"\")","v":"5085"},{"$f":"IF('Line 1 Source'!E1194<>\"\",'Line 1 Source'!E1194,\"\")","v":"0180"},{"$f":"IF('Line 1 Source'!F1194<>\"\",'Line 1 Source'!F1194,\"\")","v":2654525}]
[{"$f":"IF('Line 1 Source'!A1195<>\"\",'Line 1 Source'!A1195,\"\")","v":"2018"},"4745085",{"$f":"CONCATENATE(VLOOKUP(B1195,'School List'!$B$3:$H$291,6,FALSE),H1195)","v":"50851214"},{"$f":"CONCATENATE(VLOOKUP(B1195,'School List'!$B$3:$D$291,3,FALSE),H1195)","v":"Lawrence County - MITCHELL COMMUNITY SCHOOL CORPORATION1214"},{"$f":"IF('Line 1 Source'!B1195<>\"\",'Line 1 Source'!B1195,\"\")","v":"47"},{"$f":"IF('Line 1 Source'!C1195<>\"\",'Line 1 Source'!C1195,\"\")","v":"4"},{"$f":"IF('Line 1 Source'!D1195<>\"\",'Line 1 Source'!D1195,\"\")","v":"5085"},{"$f":"IF('Line 1 Source'!E1195<>\"\",'Line 1 Source'!E1195,\"\")","v":"1214"},{"$f":"IF('Line 1 Source'!F1195<>\"\",'Line 1 Source'!F1195,\"\")","v":1574960}]
[{"$f":"IF('Line 1 Source'!A1196<>\"\",'Line 1 Source'!A1196,\"\")","v":"2018"},"4745085",{"$f":"CONCATENATE(VLOOKUP(B1196,'School List'!$B$3:$H$291,6,FALSE),H1196)","v":"50856301"},{"$f":"CONCATENATE(VLOOKUP(B1196,'School List'!$B$3:$D$291,3,FALSE),H1196)","v":"Lawrence County - MITCHELL COMMUNITY SCHOOL CORPORATION6301"},{"$f":"IF('Line 1 Source'!B1196<>\"\",'Line 1 Source'!B1196,\"\")","v":"47"},{"$f":"IF('Line 1 Source'!C1196<>\"\",'Line 1 Source'!C1196,\"\")","v":"4"},{"$f":"IF('Line 1 Source'!D1196<>\"\",'Line 1 Source'!D1196,\"\")","v":"5085"},{"$f":"IF('Line 1 Source'!E1196<>\"\",'Line 1 Source'!E1196,\"\")","v":"6301"},{"$f":"IF('Line 1 Source'!F1196<>\"\",'Line 1 Source'!F1196,\"\")","v":1208756}]
[{"$f":"IF('Line 1 Source'!A1197<>\"\",'Line 1 Source'!A1197,\"\")","v":"2018"},"4745085",{"$f":"CONCATENATE(VLOOKUP(B1197,'School List'!$B$3:$H$291,6,FALSE),H1197)","v":"50856302"},{"$f":"CONCATENATE(VLOOKUP(B1197,'School List'!$B$3:$D$291,3,FALSE),H1197)","v":"Lawrence County - MITCHELL COMMUNITY SCHOOL CORPORATION6302"},{"$f":"IF('Line 1 Source'!B1197<>\"\",'Line 1 Source'!B1197,\"\")","v":"47"},{"$f":"IF('Line 1 Source'!C1197<>\"\",'Line 1 Source'!C1197,\"\")","v":"4"},{"$f":"IF('Line 1 Source'!D1197<>\"\",'Line 1 Source'!D1197,\"\")","v":"5085"},{"$f":"IF('Line 1 Source'!E1197<>\"\",'Line 1 Source'!E1197,\"\")","v":"6302"},{"$f":"IF('Line 1 Source'!F1197<>\"\",'Line 1 Source'!F1197,\"\")","v":278000}]
[{"$f":"IF('Line 1 Source'!A1198<>\"\",'Line 1 Source'!A1198,\"\")","v":"2018"},"4842825",{"$f":"CONCATENATE(VLOOKUP(B1198,'School List'!$B$3:$H$291,6,FALSE),H1198)","v":{"$error":"#N/A"}},{"$f":"CONCATENATE(VLOOKUP(B1198,'School List'!$B$3:$D$291,3,FALSE),H1198)","v":{"$error":"#N/A"}},{"$f":"IF('Line 1 Source'!B1198<>\"\",'Line 1 Source'!B1198,\"\")","v":"48"},{"$f":"IF('Line 1 Source'!C1198<>\"\",'Line 1 Source'!C1198,\"\")","v":"4"},{"$f":"IF('Line 1 Source'!D1198<>\"\",'Line 1 Source'!D1198,\"\")","v":"2825"},{"$f":"IF('Line 1 Source'!E1198<>\"\",'Line 1 Source'!E1198,\"\")","v":"0101"},{"$f":"IF('Line 1 Source'!F1198<>\"\",'Line 1 Source'!F1198,\"\")","v":0}]
[{"$f":"IF('Line 1 Source'!A1199<>\"\",'Line 1 Source'!A1199,\"\")","v":"2018"},"4842825",{"$f":"CONCATENATE(VLOOKUP(B1199,'School List'!$B$3:$H$291,6,FALSE),H1199)","v":{"$error":"#N/A"}},{"$f":"CONCATENATE(VLOOKUP(B1199,'School List'!$B$3:$D$291,3,FALSE),H1199)","v":{"$error":"#N/A"}},{"$f":"IF('Line 1 Source'!B1199<>\"\",'Line 1 Source'!B1199,\"\")","v":"48"},{"$f":"IF('Line 1 Source'!C1199<>\"\",'Line 1 Source'!C1199,\"\")","v":"4"},{"$f":"IF('Line 1 Source'!D1199<>\"\",'Line 1 Source'!D1199,\"\")","v":"2825"},{"$f":"IF('Line 1 Source'!E1199<>\"\",'Line 1 Source'!E1199,\"\")","v":"0180"},{"$f":"IF('Line 1 Source'!F1199<>\"\",'Line 1 Source'!F1199,\"\")","v":0}]
[{"$f":"IF('Line 1 Source'!A1200<>\"\",'Line 1 Source'!A1200,\"\")","v":"2018"},"4842825",{"$f":"CONCATENATE(VLOOKUP(B1200,'School List'!$B$3:$H$291,6,FALSE),H1200)","v":{"$error":"#N/A"}},{"$f":"CONCATENATE(VLOOKUP(B1200,'School List'!$B$3:$D$291,3,FALSE),H1200)","v":{"$error":"#N/A"}},{"$f":"IF('Line 1 Source'!B1200<>\"\",'Line 1 Source'!B1200,\"\")","v":"48"},{"$f":"IF('Line 1 Source'!C1200<>\"\",'Line 1 Source'!C1200,\"\")","v":"4"},{"$f":"IF('Line 1 Source'!D1200<>\"\",'Line 1 Source'!D1200,\"\")","v":"2825"},{"$f":"IF('Line 1 Source'!E1200<>\"\",'Line 1 Source'!E1200,\"\")","v":"0186"},{"$f":"IF('Line 1 Source'!F1200<>\"\",'Line 1 Source'!F1200,\"\")","v":0}]
[{"$f":"IF('Line 1 Source'!A1201<>\"\",'Line 1 Source'!A1201,\"\")","v":"2018"},"4842825",{"$f":"CONCATENATE(VLOOKUP(B1201,'School List'!$B$3:$H$291,6,FALSE),H1201)","v":{"$error":"#N/A"}},{"$f":"CONCATENATE(VLOOKUP(B1201,'School List'!$B$3:$D$291,3,FALSE),H1201)","v":{"$error":"#N/A"}},{"$f":"IF('Line 1 Source'!B1201<>\"\",'Line 1 Source'!B1201,\"\")","v":"48"},{"$f":"IF('Line 1 Source'!C1201<>\"\",'Line 1 Source'!C1201,\"\")","v":"4"},{"$f":"IF('Line 1 Source'!D1201<>\"\",'Line 1 Source'!D1201,\"\")","v":"2825"},{"$f":"IF('Line 1 Source'!E1201<>\"\",'Line 1 Source'!E1201,\"\")","v":"1214"},{"$f":"IF('Line 1 Source'!F1201<>\"\",'Line 1 Source'!F1201,\"\")","v":0}]
[{"$f":"IF('Line 1 Source'!A1202<>\"\",'Line 1 Source'!A1202,\"\")","v":"2018"},"4842825",{"$f":"CONCATENATE(VLOOKUP(B1202,'School List'!$B$3:$H$291,6,FALSE),H1202)","v":{"$error":"#N/A"}},{"$f":"CONCATENATE(VLOOKUP(B1202,'School List'!$B$3:$D$291,3,FALSE),H1202)","v":{"$error":"#N/A"}},{"$f":"IF('Line 1 Source'!B1202<>\"\",'Line 1 Source'!B1202,\"\")","v":"48"},{"$f":"IF('Line 1 Source'!C1202<>\"\",'Line 1 Source'!C1202,\"\")","v":"4"},{"$f":"IF('Line 1 Source'!D1202<>\"\",'Line 1 Source'!D1202,\"\")","v":"2825"},{"$f":"IF('Line 1 Source'!E1202<>\"\",'Line 1 Source'!E1202,\"\")","v":"6301"},{"$f":"IF('Line 1 Source'!F1202<>\"\",'Line 1 Source'!F1202,\"\")","v":0}]
[{"$f":"IF('Line 1 Source'!A1203<>\"\",'Line 1 Source'!A1203,\"\")","v":"2018"},"4842825",{"$f":"CONCATENATE(VLOOKUP(B1203,'School List'!$B$3:$H$291,6,FALSE),H1203)","v":{"$error":"#N/A"}},{"$f":"CONCATENATE(VLOOKUP(B1203,'School List'!$B$3:$D$291,3,FALSE),H1203)","v":{"$error":"#N/A"}},{"$f":"IF('Line 1 Source'!B1203<>\"\",'Line 1 Source'!B1203,\"\")","v":"48"},{"$f":"IF('Line 1 Source'!C1203<>\"\",'Line 1 Source'!C1203,\"\")","v":"4"},{"$f":"IF('Line 1 Source'!D1203<>\"\",'Line 1 Source'!D1203,\"\")","v":"2825"},{"$f":"IF('Line 1 Source'!E1203<>\"\",'Line 1 Source'!E1203,\"\")","v":"6302"},{"$f":"IF('Line 1 Source'!F1203<>\"\",'Line 1 Source'!F1203,\"\")","v":0}]
[{"$f":"IF('Line 1 Source'!A1204<>\"\",'Line 1 Source'!A1204,\"\")","v":"2018"},"4845245",{"$f":"CONCATENATE(VLOOKUP(B1204,'School List'!$B$3:$H$291,6,FALSE),H1204)","v":"52450101"},{"$f":"CONCATENATE(VLOOKUP(B1204,'School List'!$B$3:$D$291,3,FALSE),H1204)","v":"Madison County - FRANKTON-LAPEL COMMUNITY SCHOOL CORP0101"},{"$f":"IF('Line 1 Source'!B1204<>\"\",'Line 1 Source'!B1204,\"\")","v":"48"},{"$f":"IF('Line 1 Source'!C1204<>\"\",'Line 1 Source'!C1204,\"\")","v":"4"},{"$f":"IF('Line 1 Source'!D1204<>\"\",'Line 1 Source'!D1204,\"\")","v":"5245"},{"$f":"IF('Line 1 Source'!E1204<>\"\",'Line 1 Source'!E1204,\"\")","v":"0101"},{"$f":"IF('Line 1 Source'!F1204<>\"\",'Line 1 Source'!F1204,\"\")","v":19200000}]
[{"$f":"IF('Line 1 Source'!A1205<>\"\",'Line 1 Source'!A1205,\"\")","v":"2018"},"4845245",{"$f":"CONCATENATE(VLOOKUP(B1205,'School List'!$B$3:$H$291,6,FALSE),H1205)","v":"52450180"},{"$f":"CONCATENATE(VLOOKUP(B1205,'School List'!$B$3:$D$291,3,FALSE),H1205)","v":"Madison County - FRANKTON-LAPEL COMMUNITY SCHOOL CORP0180"},{"$f":"IF('Line 1 Source'!B1205<>\"\",'Line 1 Source'!B1205,\"\")","v":"48"},{"$f":"IF('Line 1 Source'!C1205<>\"\",'Line 1 Source'!C1205,\"\")","v":"4"},{"$f":"IF('Line 1 Source'!D1205<>\"\",'Line 1 Source'!D1205,\"\")","v":"5245"},{"$f":"IF('Line 1 Source'!E1205<>\"\",'Line 1 Source'!E1205,\"\")","v":"0180"},{"$f":"IF('Line 1 Source'!F1205<>\"\",'Line 1 Source'!F1205,\"\")","v":5279773}]
[{"$f":"IF('Line 1 Source'!A1206<>\"\",'Line 1 Source'!A1206,\"\")","v":"2018"},"4845245",{"$f":"CONCATENATE(VLOOKUP(B1206,'School List'!$B$3:$H$291,6,FALSE),H1206)","v":"52451214"},{"$f":"CONCATENATE(VLOOKUP(B1206,'School List'!$B$3:$D$291,3,FALSE),H1206)","v":"Madison County - FRANKTON-LAPEL COMMUNITY SCHOOL CORP1214"},{"$f":"IF('Line 1 Source'!B1206<>\"\",'Line 1 Source'!B1206,\"\")","v":"48"},{"$f":"IF('Line 1 Source'!C1206<>\"\",'Line 1 Source'!C1206,\"\")","v":"4"},{"$f":"IF('Line 1 Source'!D1206<>\"\",'Line 1 Source'!D1206,\"\")","v":"5245"},{"$f":"IF('Line 1 Source'!E1206<>\"\",'Line 1 Source'!E1206,\"\")","v":"1214"},{"$f":"IF('Line 1 Source'!F1206<>\"\",'Line 1 Source'!F1206,\"\")","v":1077293}]
[{"$f":"IF('Line 1 Source'!A1207<>\"\",'Line 1 Source'!A1207,\"\")","v":"2018"},"4845245",{"$f":"CONCATENATE(VLOOKUP(B1207,'School List'!$B$3:$H$291,6,FALSE),H1207)","v":"52456301"},{"$f":"CONCATENATE(VLOOKUP(B1207,'School List'!$B$3:$D$291,3,FALSE),H1207)","v":"Madison County - FRANKTON-LAPEL COMMUNITY SCHOOL CORP6301"},{"$f":"IF('Line 1 Source'!B1207<>\"\",'Line 1 Source'!B1207,\"\")","v":"48"},{"$f":"IF('Line 1 Source'!C1207<>\"\",'Line 1 Source'!C1207,\"\")","v":"4"},{"$f":"IF('Line 1 Source'!D1207<>\"\",'Line 1 Source'!D1207,\"\")","v":"5245"},{"$f":"IF('Line 1 Source'!E1207<>\"\",'Line 1 Source'!E1207,\"\")","v":"6301"},{"$f":"IF('Line 1 Source'!F1207<>\"\",'Line 1 Source'!F1207,\"\")","v":1350176}]
[{"$f":"IF('Line 1 Source'!A1208<>\"\",'Line 1 Source'!A1208,\"\")","v":"2018"},"4845245",{"$f":"CONCATENATE(VLOOKUP(B1208,'School List'!$B$3:$H$291,6,FALSE),H1208)","v":"52456302"},{"$f":"CONCATENATE(VLOOKUP(B1208,'School List'!$B$3:$D$291,3,FALSE),H1208)","v":"Madison County - FRANKTON-LAPEL COMMUNITY SCHOOL CORP6302"},{"$f":"IF('Line 1 Source'!B1208<>\"\",'Line 1 Source'!B1208,\"\")","v":"48"},{"$f":"IF('Line 1 Source'!C1208<>\"\",'Line 1 Source'!C1208,\"\")","v":"4"},{"$f":"IF('Line 1 Source'!D1208<>\"\",'Line 1 Source'!D1208,\"\")","v":"5245"},{"$f":"IF('Line 1 Source'!E1208<>\"\",'Line 1 Source'!E1208,\"\")","v":"6302"},{"$f":"IF('Line 1 Source'!F1208<>\"\",'Line 1 Source'!F1208,\"\")","v":502160}]
[{"$f":"IF('Line 1 Source'!A1209<>\"\",'Line 1 Source'!A1209,\"\")","v":"2018"},"4845255",{"$f":"CONCATENATE(VLOOKUP(B1209,'School List'!$B$3:$H$291,6,FALSE),H1209)","v":"52550101"},{"$f":"CONCATENATE(VLOOKUP(B1209,'School List'!$B$3:$D$291,3,FALSE),H1209)","v":"Madison County - SOUTH MADISON COMMUNITY SCHOOL CORP0101"},{"$f":"IF('Line 1 Source'!B1209<>\"\",'Line 1 Source'!B1209,\"\")","v":"48"},{"$f":"IF('Line 1 Source'!C1209<>\"\",'Line 1 Source'!C1209,\"\")","v":"4"},{"$f":"IF('Line 1 Source'!D1209<>\"\",'Line 1 Source'!D1209,\"\")","v":"5255"},{"$f":"IF('Line 1 Source'!E1209<>\"\",'Line 1 Source'!E1209,\"\")","v":"0101"},{"$f":"IF('Line 1 Source'!F1209<>\"\",'Line 1 Source'!F1209,\"\")","v":31219202}]
[{"$f":"IF('Line 1 Source'!A1210<>\"\",'Line 1 Source'!A1210,\"\")","v":"2018"},"4845255",{"$f":"CONCATENATE(VLOOKUP(B1210,'School List'!$B$3:$H$291,6,FALSE),H1210)","v":"52550180"},{"$f":"CONCATENATE(VLOOKUP(B1210,'School List'!$B$3:$D$291,3,FALSE),H1210)","v":"Madison County - SOUTH MADISON COMMUNITY SCHOOL CORP0180"},{"$f":"IF('Line 1 Source'!B1210<>\"\",'Line 1 Source'!B1210,\"\")","v":"48"},{"$f":"IF('Line 1 Source'!C1210<>\"\",'Line 1 Source'!C1210,\"\")","v":"4"},{"$f":"IF('Line 1 Source'!D1210<>\"\",'Line 1 Source'!D1210,\"\")","v":"5255"},{"$f":"IF('Line 1 Source'!E1210<>\"\",'Line 1 Source'!E1210,\"\")","v":"0180"},{"$f":"IF('Line 1 Source'!F1210<>\"\",'Line 1 Source'!F1210,\"\")","v":7303815}]
[{"$f":"IF('Line 1 Source'!A1211<>\"\",'Line 1 Source'!A1211,\"\")","v":"2018"},"4845255",{"$f":"CONCATENATE(VLOOKUP(B1211,'School List'!$B$3:$H$291,6,FALSE),H1211)","v":"52551214"},{"$f":"CONCATENATE(VLOOKUP(B1211,'School List'!$B$3:$D$291,3,FALSE),H1211)","v":"Madison County - SOUTH MADISON COMMUNITY SCHOOL CORP1214"},{"$f":"IF('Line 1 Source'!B1211<>\"\",'Line 1 Source'!B1211,\"\")","v":"48"},{"$f":"IF('Line 1 Source'!C1211<>\"\",'Line 1 Source'!C1211,\"\")","v":"4"},{"$f":"IF('Line 1 Source'!D1211<>\"\",'Line 1 Source'!D1211,\"\")","v":"5255"},{"$f":"IF('Line 1 Source'!E1211<>\"\",'Line 1 Source'!E1211,\"\")","v":"1214"},{"$f":"IF('Line 1 Source'!F1211<>\"\",'Line 1 Source'!F1211,\"\")","v":2666095}]
[{"$f":"IF('Line 1 Source'!A1212<>\"\",'Line 1 Source'!A1212,\"\")","v":"2018"},"4845255",{"$f":"CONCATENATE(VLOOKUP(B1212,'School List'!$B$3:$H$291,6,FALSE),H1212)","v":"52556301"},{"$f":"CONCATENATE(VLOOKUP(B1212,'School List'!$B$3:$D$291,3,FALSE),H1212)","v":"Madison County - SOUTH MADISON COMMUNITY SCHOOL CORP6301"},{"$f":"IF('Line 1 Source'!B1212<>\"\",'Line 1 Source'!B1212,\"\")","v":"48"},{"$f":"IF('Line 1 Source'!C1212<>\"\",'Line 1 Source'!C1212,\"\")","v":"4"},{"$f":"IF('Line 1 Source'!D1212<>\"\",'Line 1 Source'!D1212,\"\")","v":"5255"},{"$f":"IF('Line 1 Source'!E1212<>\"\",'Line 1 Source'!E1212,\"\")","v":"6301"},{"$f":"IF('Line 1 Source'!F1212<>\"\",'Line 1 Source'!F1212,\"\")","v":2399307}]
[{"$f":"IF('Line 1 Source'!A1213<>\"\",'Line 1 Source'!A1213,\"\")","v":"2018"},"4845255",{"$f":"CONCATENATE(VLOOKUP(B1213,'School List'!$B$3:$H$291,6,FALSE),H1213)","v":"52556302"},{"$f":"CONCATENATE(VLOOKUP(B1213,'School List'!$B$3:$D$291,3,FALSE),H1213)","v":"Madison County - SOUTH MADISON COMMUNITY SCHOOL CORP6302"},{"$f":"IF('Line 1 Source'!B1213<>\"\",'Line 1 Source'!B1213,\"\")","v":"48"},{"$f":"IF('Line 1 Source'!C1213<>\"\",'Line 1 Source'!C1213,\"\")","v":"4"},{"$f":"IF('Line 1 Source'!D1213<>\"\",'Line 1 Source'!D1213,\"\")","v":"5255"},{"$f":"IF('Line 1 Source'!E1213<>\"\",'Line 1 Source'!E1213,\"\")","v":"6302"},{"$f":"IF('Line 1 Source'!F1213<>\"\",'Line 1 Source'!F1213,\"\")","v":378343}]
[{"$f":"IF('Line 1 Source'!A1214<>\"\",'Line 1 Source'!A1214,\"\")","v":"2018"},"4845265",{"$f":"CONCATENATE(VLOOKUP(B1214,'School List'!$B$3:$H$291,6,FALSE),H1214)","v":"52650061"},{"$f":"CONCATENATE(VLOOKUP(B1214,'School List'!$B$3:$D$291,3,FALSE),H1214)","v":"Madison County - ALEXANDRIA COMMUNITY SCHOOL CORPORATION0061"},{"$f":"IF('Line 1 Source'!B1214<>\"\",'Line 1 Source'!B1214,\"\")","v":"48"},{"$f":"IF('Line 1 Source'!C1214<>\"\",'Line 1 Source'!C1214,\"\")","v":"4"},{"$f":"IF('Line 1 Source'!D1214<>\"\",'Line 1 Source'!D1214,\"\")","v":"5265"},{"$f":"IF('Line 1 Source'!E1214<>\"\",'Line 1 Source'!E1214,\"\")","v":"0061"},{"$f":"IF('Line 1 Source'!F1214<>\"\",'Line 1 Source'!F1214,\"\")","v":100000}]
[{"$f":"IF('Line 1 Source'!A1215<>\"\",'Line 1 Source'!A1215,\"\")","v":"2018"},"4845265",{"$f":"CONCATENATE(VLOOKUP(B1215,'School List'!$B$3:$H$291,6,FALSE),H1215)","v":"52650101"},{"$f":"CONCATENATE(VLOOKUP(B1215,'School List'!$B$3:$D$291,3,FALSE),H1215)","v":"Madison County - ALEXANDRIA COMMUNITY SCHOOL CORPORATION0101"},{"$f":"IF('Line 1 Source'!B1215<>\"\",'Line 1 Source'!B1215,\"\")","v":"48"},{"$f":"IF('Line 1 Source'!C1215<>\"\",'Line 1 Source'!C1215,\"\")","v":"4"},{"$f":"IF('Line 1 Source'!D1215<>\"\",'Line 1 Source'!D1215,\"\")","v":"5265"},{"$f":"IF('Line 1 Source'!E1215<>\"\",'Line 1 Source'!E1215,\"\")","v":"0101"},{"$f":"IF('Line 1 Source'!F1215<>\"\",'Line 1 Source'!F1215,\"\")","v":12000000}]
[{"$f":"IF('Line 1 Source'!A1216<>\"\",'Line 1 Source'!A1216,\"\")","v":"2018"},"4845265",{"$f":"CONCATENATE(VLOOKUP(B1216,'School List'!$B$3:$H$291,6,FALSE),H1216)","v":"52650180"},{"$f":"CONCATENATE(VLOOKUP(B1216,'School List'!$B$3:$D$291,3,FALSE),H1216)","v":"Madison County - ALEXANDRIA COMMUNITY SCHOOL CORPORATION0180"},{"$f":"IF('Line 1 Source'!B1216<>\"\",'Line 1 Source'!B1216,\"\")","v":"48"},{"$f":"IF('Line 1 Source'!C1216<>\"\",'Line 1 Source'!C1216,\"\")","v":"4"},{"$f":"IF('Line 1 Source'!D1216<>\"\",'Line 1 Source'!D1216,\"\")","v":"5265"},{"$f":"IF('Line 1 Source'!E1216<>\"\",'Line 1 Source'!E1216,\"\")","v":"0180"},{"$f":"IF('Line 1 Source'!F1216<>\"\",'Line 1 Source'!F1216,\"\")","v":495179}]
[{"$f":"IF('Line 1 Source'!A1217<>\"\",'Line 1 Source'!A1217,\"\")","v":"2018"},"4845265",{"$f":"CONCATENATE(VLOOKUP(B1217,'School List'!$B$3:$H$291,6,FALSE),H1217)","v":"52651214"},{"$f":"CONCATENATE(VLOOKUP(B1217,'School List'!$B$3:$D$291,3,FALSE),H1217)","v":"Madison County - ALEXANDRIA COMMUNITY SCHOOL CORPORATION1214"},{"$f":"IF('Line 1 Source'!B1217<>\"\",'Line 1 Source'!B1217,\"\")","v":"48"},{"$f":"IF('Line 1 Source'!C1217<>\"\",'Line 1 Source'!C1217,\"\")","v":"4"},{"$f":"IF('Line 1 Source'!D1217<>\"\",'Line 1 Source'!D1217,\"\")","v":"5265"},{"$f":"IF('Line 1 Source'!E1217<>\"\",'Line 1 Source'!E1217,\"\")","v":"1214"},{"$f":"IF('Line 1 Source'!F1217<>\"\",'Line 1 Source'!F1217,\"\")","v":858447}]
[{"$f":"IF('Line 1 Source'!A1218<>\"\",'Line 1 Source'!A1218,\"\")","v":"2018"},"4845265",{"$f":"CONCATENATE(VLOOKUP(B1218,'School List'!$B$3:$H$291,6,FALSE),H1218)","v":"52656301"},{"$f":"CONCATENATE(VLOOKUP(B1218,'School List'!$B$3:$D$291,3,FALSE),H1218)","v":"Madison County - ALEXANDRIA COMMUNITY SCHOOL CORPORATION6301"},{"$f":"IF('Line 1 Source'!B1218<>\"\",'Line 1 Source'!B1218,\"\")","v":"48"},{"$f":"IF('Line 1 Source'!C1218<>\"\",'Line 1 Source'!C1218,\"\")","v":"4"},{"$f":"IF('Line 1 Source'!D1218<>\"\",'Line 1 Source'!D1218,\"\")","v":"5265"},{"$f":"IF('Line 1 Source'!E1218<>\"\",'Line 1 Source'!E1218,\"\")","v":"6301"},{"$f":"IF('Line 1 Source'!F1218<>\"\",'Line 1 Source'!F1218,\"\")","v":478246}]
[{"$f":"IF('Line 1 Source'!A1219<>\"\",'Line 1 Source'!A1219,\"\")","v":"2018"},{"$f":"CONCATENATE(E1219,F1219,G1219)","v":"4845265"},{"$f":"CONCATENATE(VLOOKUP(B1219,'School List'!$B$3:$H$291,6,FALSE),H1219)","v":"52656302"},{"$f":"CONCATENATE(VLOOKUP(B1219,'School List'!$B$3:$D$291,3,FALSE),H1219)","v":"Madison County - ALEXANDRIA COMMUNITY SCHOOL CORPORATION6302"},{"$f":"IF('Line 1 Source'!B1219<>\"\",'Line 1 Source'!B1219,\"\")","v":"48"},{"$f":"IF('Line 1 Source'!C1219<>\"\",'Line 1 Source'!C1219,\"\")","v":"4"},{"$f":"IF('Line 1 Source'!D1219<>\"\",'Line 1 Source'!D1219,\"\")","v":"5265"},{"$f":"IF('Line 1 Source'!E1219<>\"\",'Line 1 Source'!E1219,\"\")","v":"6302"},{"$f":"IF('Line 1 Source'!F1219<>\"\",'Line 1 Source'!F1219,\"\")","v":214440}]
[{"$f":"IF('Line 1 Source'!A1220<>\"\",'Line 1 Source'!A1220,\"\")","v":"2018"},"4845275",{"$f":"CONCATENATE(VLOOKUP(B1220,'School List'!$B$3:$H$291,6,FALSE),H1220)","v":"52750101"},{"$f":"CONCATENATE(VLOOKUP(B1220,'School List'!$B$3:$D$291,3,FALSE),H1220)","v":"Madison County - ANDERSON COMMUNITY SCHOOL CORPORATION0101"},{"$f":"IF('Line 1 Source'!B1220<>\"\",'Line 1 Source'!B1220,\"\")","v":"48"},{"$f":"IF('Line 1 Source'!C1220<>\"\",'Line 1 Source'!C1220,\"\")","v":"4"},{"$f":"IF('Line 1 Source'!D1220<>\"\",'Line 1 Source'!D1220,\"\")","v":"5275"},{"$f":"IF('Line 1 Source'!E1220<>\"\",'Line 1 Source'!E1220,\"\")","v":"0101"},{"$f":"IF('Line 1 Source'!F1220<>\"\",'Line 1 Source'!F1220,\"\")","v":60000000}]
[{"$f":"IF('Line 1 Source'!A1221<>\"\",'Line 1 Source'!A1221,\"\")","v":"2018"},"4845275",{"$f":"CONCATENATE(VLOOKUP(B1221,'School List'!$B$3:$H$291,6,FALSE),H1221)","v":"52750180"},{"$f":"CONCATENATE(VLOOKUP(B1221,'School List'!$B$3:$D$291,3,FALSE),H1221)","v":"Madison County - ANDERSON COMMUNITY SCHOOL CORPORATION0180"},{"$f":"IF('Line 1 Source'!B1221<>\"\",'Line 1 Source'!B1221,\"\")","v":"48"},{"$f":"IF('Line 1 Source'!C1221<>\"\",'Line 1 Source'!C1221,\"\")","v":"4"},{"$f":"IF('Line 1 Source'!D1221<>\"\",'Line 1 Source'!D1221,\"\")","v":"5275"},{"$f":"IF('Line 1 Source'!E1221<>\"\",'Line 1 Source'!E1221,\"\")","v":"0180"},{"$f":"IF('Line 1 Source'!F1221<>\"\",'Line 1 Source'!F1221,\"\")","v":8249692}]
[{"$f":"IF('Line 1 Source'!A1222<>\"\",'Line 1 Source'!A1222,\"\")","v":"2018"},"4845275",{"$f":"CONCATENATE(VLOOKUP(B1222,'School List'!$B$3:$H$291,6,FALSE),H1222)","v":"52750186"},{"$f":"CONCATENATE(VLOOKUP(B1222,'School List'!$B$3:$D$291,3,FALSE),H1222)","v":"Madison County - ANDERSON COMMUNITY SCHOOL CORPORATION0186"},{"$f":"IF('Line 1 Source'!B1222<>\"\",'Line 1 Source'!B1222,\"\")","v":"48"},{"$f":"IF('Line 1 Source'!C1222<>\"\",'Line 1 Source'!C1222,\"\")","v":"4"},{"$f":"IF('Line 1 Source'!D1222<>\"\",'Line 1 Source'!D1222,\"\")","v":"5275"},{"$f":"IF('Line 1 Source'!E1222<>\"\",'Line 1 Source'!E1222,\"\")","v":"0186"},{"$f":"IF('Line 1 Source'!F1222<>\"\",'Line 1 Source'!F1222,\"\")","v":2477477}]
[{"$f":"IF('Line 1 Source'!A1223<>\"\",'Line 1 Source'!A1223,\"\")","v":"2018"},"4845275",{"$f":"CONCATENATE(VLOOKUP(B1223,'School List'!$B$3:$H$291,6,FALSE),H1223)","v":"52751214"},{"$f":"CONCATENATE(VLOOKUP(B1223,'School List'!$B$3:$D$291,3,FALSE),H1223)","v":"Madison County - ANDERSON COMMUNITY SCHOOL CORPORATION1214"},{"$f":"IF('Line 1 Source'!B1223<>\"\",'Line 1 Source'!B1223,\"\")","v":"48"},{"$f":"IF('Line 1 Source'!C1223<>\"\",'Line 1 Source'!C1223,\"\")","v":"4"},{"$f":"IF('Line 1 Source'!D1223<>\"\",'Line 1 Source'!D1223,\"\")","v":"5275"},{"$f":"IF('Line 1 Source'!E1223<>\"\",'Line 1 Source'!E1223,\"\")","v":"1214"},{"$f":"IF('Line 1 Source'!F1223<>\"\",'Line 1 Source'!F1223,\"\")","v":8803256}]
[{"$f":"IF('Line 1 Source'!A1224<>\"\",'Line 1 Source'!A1224,\"\")","v":"2018"},"4845275",{"$f":"CONCATENATE(VLOOKUP(B1224,'School List'!$B$3:$H$291,6,FALSE),H1224)","v":"52756301"},{"$f":"CONCATENATE(VLOOKUP(B1224,'School List'!$B$3:$D$291,3,FALSE),H1224)","v":"Madison County - ANDERSON COMMUNITY SCHOOL CORPORATION6301"},{"$f":"IF('Line 1 Source'!B1224<>\"\",'Line 1 Source'!B1224,\"\")","v":"48"},{"$f":"IF('Line 1 Source'!C1224<>\"\",'Line 1 Source'!C1224,\"\")","v":"4"},{"$f":"IF('Line 1 Source'!D1224<>\"\",'Line 1 Source'!D1224,\"\")","v":"5275"},{"$f":"IF('Line 1 Source'!E1224<>\"\",'Line 1 Source'!E1224,\"\")","v":"6301"},{"$f":"IF('Line 1 Source'!F1224<>\"\",'Line 1 Source'!F1224,\"\")","v":5339117}]
[{"$f":"IF('Line 1 Source'!A1225<>\"\",'Line 1 Source'!A1225,\"\")","v":"2018"},"4845275",{"$f":"CONCATENATE(VLOOKUP(B1225,'School List'!$B$3:$H$291,6,FALSE),H1225)","v":"52756302"},{"$f":"CONCATENATE(VLOOKUP(B1225,'School List'!$B$3:$D$291,3,FALSE),H1225)","v":"Madison County - ANDERSON COMMUNITY SCHOOL CORPORATION6302"},{"$f":"IF('Line 1 Source'!B1225<>\"\",'Line 1 Source'!B1225,\"\")","v":"48"},{"$f":"IF('Line 1 Source'!C1225<>\"\",'Line 1 Source'!C1225,\"\")","v":"4"},{"$f":"IF('Line 1 Source'!D1225<>\"\",'Line 1 Source'!D1225,\"\")","v":"5275"},{"$f":"IF('Line 1 Source'!E1225<>\"\",'Line 1 Source'!E1225,\"\")","v":"6302"},{"$f":"IF('Line 1 Source'!F1225<>\"\",'Line 1 Source'!F1225,\"\")","v":181773}]
[{"$f":"IF('Line 1 Source'!A1226<>\"\",'Line 1 Source'!A1226,\"\")","v":"2018"},"4845280",{"$f":"CONCATENATE(VLOOKUP(B1226,'School List'!$B$3:$H$291,6,FALSE),H1226)","v":"52800061"},{"$f":"CONCATENATE(VLOOKUP(B1226,'School List'!$B$3:$D$291,3,FALSE),H1226)","v":"Madison County - ELWOOD COMMUNITY SCHOOL CORPORATION0061"},{"$f":"IF('Line 1 Source'!B1226<>\"\",'Line 1 Source'!B1226,\"\")","v":"48"},{"$f":"IF('Line 1 Source'!C1226<>\"\",'Line 1 Source'!C1226,\"\")","v":"4"},{"$f":"IF('Line 1 Source'!D1226<>\"\",'Line 1 Source'!D1226,\"\")","v":"5280"},{"$f":"IF('Line 1 Source'!E1226<>\"\",'Line 1 Source'!E1226,\"\")","v":"0061"},{"$f":"IF('Line 1 Source'!F1226<>\"\",'Line 1 Source'!F1226,\"\")","v":0}]
[{"$f":"IF('Line 1 Source'!A1227<>\"\",'Line 1 Source'!A1227,\"\")","v":"2018"},"4845280",{"$f":"CONCATENATE(VLOOKUP(B1227,'School List'!$B$3:$H$291,6,FALSE),H1227)","v":"52800101"},{"$f":"CONCATENATE(VLOOKUP(B1227,'School List'!$B$3:$D$291,3,FALSE),H1227)","v":"Madison County - ELWOOD COMMUNITY SCHOOL CORPORATION0101"},{"$f":"IF('Line 1 Source'!B1227<>\"\",'Line 1 Source'!B1227,\"\")","v":"48"},{"$f":"IF('Line 1 Source'!C1227<>\"\",'Line 1 Source'!C1227,\"\")","v":"4"},{"$f":"IF('Line 1 Source'!D1227<>\"\",'Line 1 Source'!D1227,\"\")","v":"5280"},{"$f":"IF('Line 1 Source'!E1227<>\"\",'Line 1 Source'!E1227,\"\")","v":"0101"},{"$f":"IF('Line 1 Source'!F1227<>\"\",'Line 1 Source'!F1227,\"\")","v":10852189}]
[{"$f":"IF('Line 1 Source'!A1228<>\"\",'Line 1 Source'!A1228,\"\")","v":"2018"},"4845280",{"$f":"CONCATENATE(VLOOKUP(B1228,'School List'!$B$3:$H$291,6,FALSE),H1228)","v":"52800180"},{"$f":"CONCATENATE(VLOOKUP(B1228,'School List'!$B$3:$D$291,3,FALSE),H1228)","v":"Madison County - ELWOOD COMMUNITY SCHOOL CORPORATION0180"},{"$f":"IF('Line 1 Source'!B1228<>\"\",'Line 1 Source'!B1228,\"\")","v":"48"},{"$f":"IF('Line 1 Source'!C1228<>\"\",'Line 1 Source'!C1228,\"\")","v":"4"},{"$f":"IF('Line 1 Source'!D1228<>\"\",'Line 1 Source'!D1228,\"\")","v":"5280"},{"$f":"IF('Line 1 Source'!E1228<>\"\",'Line 1 Source'!E1228,\"\")","v":"0180"},{"$f":"IF('Line 1 Source'!F1228<>\"\",'Line 1 Source'!F1228,\"\")","v":1750297}]
[{"$f":"IF('Line 1 Source'!A1229<>\"\",'Line 1 Source'!A1229,\"\")","v":"2018"},"4845280",{"$f":"CONCATENATE(VLOOKUP(B1229,'School List'!$B$3:$H$291,6,FALSE),H1229)","v":"52800186"},{"$f":"CONCATENATE(VLOOKUP(B1229,'School List'!$B$3:$D$291,3,FALSE),H1229)","v":"Madison County - ELWOOD COMMUNITY SCHOOL CORPORATION0186"},{"$f":"IF('Line 1 Source'!B1229<>\"\",'Line 1 Source'!B1229,\"\")","v":"48"},{"$f":"IF('Line 1 Source'!C1229<>\"\",'Line 1 Source'!C1229,\"\")","v":"4"},{"$f":"IF('Line 1 Source'!D1229<>\"\",'Line 1 Source'!D1229,\"\")","v":"5280"},{"$f":"IF('Line 1 Source'!E1229<>\"\",'Line 1 Source'!E1229,\"\")","v":"0186"},{"$f":"IF('Line 1 Source'!F1229<>\"\",'Line 1 Source'!F1229,\"\")","v":220416}]
[{"$f":"IF('Line 1 Source'!A1230<>\"\",'Line 1 Source'!A1230,\"\")","v":"2018"},"4845280",{"$f":"CONCATENATE(VLOOKUP(B1230,'School List'!$B$3:$H$291,6,FALSE),H1230)","v":"52801214"},{"$f":"CONCATENATE(VLOOKUP(B1230,'School List'!$B$3:$D$291,3,FALSE),H1230)","v":"Madison County - ELWOOD COMMUNITY SCHOOL CORPORATION1214"},{"$f":"IF('Line 1 Source'!B1230<>\"\",'Line 1 Source'!B1230,\"\")","v":"48"},{"$f":"IF('Line 1 Source'!C1230<>\"\",'Line 1 Source'!C1230,\"\")","v":"4"},{"$f":"IF('Line 1 Source'!D1230<>\"\",'Line 1 Source'!D1230,\"\")","v":"5280"},{"$f":"IF('Line 1 Source'!E1230<>\"\",'Line 1 Source'!E1230,\"\")","v":"1214"},{"$f":"IF('Line 1 Source'!F1230<>\"\",'Line 1 Source'!F1230,\"\")","v":461280}]
[{"$f":"IF('Line 1 Source'!A1231<>\"\",'Line 1 Source'!A1231,\"\")","v":"2018"},"4845280",{"$f":"CONCATENATE(VLOOKUP(B1231,'School List'!$B$3:$H$291,6,FALSE),H1231)","v":"52806301"},{"$f":"CONCATENATE(VLOOKUP(B1231,'School List'!$B$3:$D$291,3,FALSE),H1231)","v":"Madison County - ELWOOD COMMUNITY SCHOOL CORPORATION6301"},{"$f":"IF('Line 1 Source'!B1231<>\"\",'Line 1 Source'!B1231,\"\")","v":"48"},{"$f":"IF('Line 1 Source'!C1231<>\"\",'Line 1 Source'!C1231,\"\")","v":"4"},{"$f":"IF('Line 1 Source'!D1231<>\"\",'Line 1 Source'!D1231,\"\")","v":"5280"},{"$f":"IF('Line 1 Source'!E1231<>\"\",'Line 1 Source'!E1231,\"\")","v":"6301"},{"$f":"IF('Line 1 Source'!F1231<>\"\",'Line 1 Source'!F1231,\"\")","v":507251}]
[{"$f":"IF('Line 1 Source'!A1232<>\"\",'Line 1 Source'!A1232,\"\")","v":"2018"},"4845280",{"$f":"CONCATENATE(VLOOKUP(B1232,'School List'!$B$3:$H$291,6,FALSE),H1232)","v":"52806302"},{"$f":"CONCATENATE(VLOOKUP(B1232,'School List'!$B$3:$D$291,3,FALSE),H1232)","v":"Madison County - ELWOOD COMMUNITY SCHOOL CORPORATION6302"},{"$f":"IF('Line 1 Source'!B1232<>\"\",'Line 1 Source'!B1232,\"\")","v":"48"},{"$f":"IF('Line 1 Source'!C1232<>\"\",'Line 1 Source'!C1232,\"\")","v":"4"},{"$f":"IF('Line 1 Source'!D1232<>\"\",'Line 1 Source'!D1232,\"\")","v":"5280"},{"$f":"IF('Line 1 Source'!E1232<>\"\",'Line 1 Source'!E1232,\"\")","v":"6302"},{"$f":"IF('Line 1 Source'!F1232<>\"\",'Line 1 Source'!F1232,\"\")","v":148877}]
[{"$f":"IF('Line 1 Source'!A1233<>\"\",'Line 1 Source'!A1233,\"\")","v":"2018"},"4945300",{"$f":"CONCATENATE(VLOOKUP(B1233,'School List'!$B$3:$H$291,6,FALSE),H1233)","v":"53000022"},{"$f":"CONCATENATE(VLOOKUP(B1233,'School List'!$B$3:$D$291,3,FALSE),H1233)","v":"Marion County - M.S.D. DECATUR TOWNSHIP SCHOOL CORP0022"},{"$f":"IF('Line 1 Source'!B1233<>\"\",'Line 1 Source'!B1233,\"\")","v":"49"},{"$f":"IF('Line 1 Source'!C1233<>\"\",'Line 1 Source'!C1233,\"\")","v":"4"},{"$f":"IF('Line 1 Source'!D1233<>\"\",'Line 1 Source'!D1233,\"\")","v":"5300"},{"$f":"IF('Line 1 Source'!E1233<>\"\",'Line 1 Source'!E1233,\"\")","v":"0022"},{"$f":"IF('Line 1 Source'!F1233<>\"\",'Line 1 Source'!F1233,\"\")","v":5000000}]
[{"$f":"IF('Line 1 Source'!A1234<>\"\",'Line 1 Source'!A1234,\"\")","v":"2018"},"4945300",{"$f":"CONCATENATE(VLOOKUP(B1234,'School List'!$B$3:$H$291,6,FALSE),H1234)","v":"53000061"},{"$f":"CONCATENATE(VLOOKUP(B1234,'School List'!$B$3:$D$291,3,FALSE),H1234)","v":"Marion County - M.S.D. DECATUR TOWNSHIP SCHOOL CORP0061"},{"$f":"IF('Line 1 Source'!B1234<>\"\",'Line 1 Source'!B1234,\"\")","v":"49"},{"$f":"IF('Line 1 Source'!C1234<>\"\",'Line 1 Source'!C1234,\"\")","v":"4"},{"$f":"IF('Line 1 Source'!D1234<>\"\",'Line 1 Source'!D1234,\"\")","v":"5300"},{"$f":"IF('Line 1 Source'!E1234<>\"\",'Line 1 Source'!E1234,\"\")","v":"0061"},{"$f":"IF('Line 1 Source'!F1234<>\"\",'Line 1 Source'!F1234,\"\")","v":1000000}]
[{"$f":"IF('Line 1 Source'!A1235<>\"\",'Line 1 Source'!A1235,\"\")","v":"2018"},"4945300",{"$f":"CONCATENATE(VLOOKUP(B1235,'School List'!$B$3:$H$291,6,FALSE),H1235)","v":"53000101"},{"$f":"CONCATENATE(VLOOKUP(B1235,'School List'!$B$3:$D$291,3,FALSE),H1235)","v":"Marion County - M.S.D. DECATUR TOWNSHIP SCHOOL CORP0101"},{"$f":"IF('Line 1 Source'!B1235<>\"\",'Line 1 Source'!B1235,\"\")","v":"49"},{"$f":"IF('Line 1 Source'!C1235<>\"\",'Line 1 Source'!C1235,\"\")","v":"4"},{"$f":"IF('Line 1 Source'!D1235<>\"\",'Line 1 Source'!D1235,\"\")","v":"5300"},{"$f":"IF('Line 1 Source'!E1235<>\"\",'Line 1 Source'!E1235,\"\")","v":"0101"},{"$f":"IF('Line 1 Source'!F1235<>\"\",'Line 1 Source'!F1235,\"\")","v":44300000}]
[{"$f":"IF('Line 1 Source'!A1236<>\"\",'Line 1 Source'!A1236,\"\")","v":"2018"},"4945300",{"$f":"CONCATENATE(VLOOKUP(B1236,'School List'!$B$3:$H$291,6,FALSE),H1236)","v":"53000180"},{"$f":"CONCATENATE(VLOOKUP(B1236,'School List'!$B$3:$D$291,3,FALSE),H1236)","v":"Marion County - M.S.D. DECATUR TOWNSHIP SCHOOL CORP0180"},{"$f":"IF('Line 1 Source'!B1236<>\"\",'Line 1 Source'!B1236,\"\")","v":"49"},{"$f":"IF('Line 1 Source'!C1236<>\"\",'Line 1 Source'!C1236,\"\")","v":"4"},{"$f":"IF('Line 1 Source'!D1236<>\"\",'Line 1 Source'!D1236,\"\")","v":"5300"},{"$f":"IF('Line 1 Source'!E1236<>\"\",'Line 1 Source'!E1236,\"\")","v":"0180"},{"$f":"IF('Line 1 Source'!F1236<>\"\",'Line 1 Source'!F1236,\"\")","v":14661365}]
[{"$f":"IF('Line 1 Source'!A1237<>\"\",'Line 1 Source'!A1237,\"\")","v":"2018"},"4945300",{"$f":"CONCATENATE(VLOOKUP(B1237,'School List'!$B$3:$H$291,6,FALSE),H1237)","v":"53000186"},{"$f":"CONCATENATE(VLOOKUP(B1237,'School List'!$B$3:$D$291,3,FALSE),H1237)","v":"Marion County - M.S.D. DECATUR TOWNSHIP SCHOOL CORP0186"},{"$f":"IF('Line 1 Source'!B1237<>\"\",'Line 1 Source'!B1237,\"\")","v":"49"},{"$f":"IF('Line 1 Source'!C1237<>\"\",'Line 1 Source'!C1237,\"\")","v":"4"},{"$f":"IF('Line 1 Source'!D1237<>\"\",'Line 1 Source'!D1237,\"\")","v":"5300"},{"$f":"IF('Line 1 Source'!E1237<>\"\",'Line 1 Source'!E1237,\"\")","v":"0186"},{"$f":"IF('Line 1 Source'!F1237<>\"\",'Line 1 Source'!F1237,\"\")","v":667572}]
[{"$f":"IF('Line 1 Source'!A1238<>\"\",'Line 1 Source'!A1238,\"\")","v":"2018"},"4945300",{"$f":"CONCATENATE(VLOOKUP(B1238,'School List'!$B$3:$H$291,6,FALSE),H1238)","v":"53001214"},{"$f":"CONCATENATE(VLOOKUP(B1238,'School List'!$B$3:$D$291,3,FALSE),H1238)","v":"Marion County - M.S.D. DECATUR TOWNSHIP SCHOOL CORP1214"},{"$f":"IF('Line 1 Source'!B1238<>\"\",'Line 1 Source'!B1238,\"\")","v":"49"},{"$f":"IF('Line 1 Source'!C1238<>\"\",'Line 1 Source'!C1238,\"\")","v":"4"},{"$f":"IF('Line 1 Source'!D1238<>\"\",'Line 1 Source'!D1238,\"\")","v":"5300"},{"$f":"IF('Line 1 Source'!E1238<>\"\",'Line 1 Source'!E1238,\"\")","v":"1214"},{"$f":"IF('Line 1 Source'!F1238<>\"\",'Line 1 Source'!F1238,\"\")","v":3710286}]
[{"$f":"IF('Line 1 Source'!A1239<>\"\",'Line 1 Source'!A1239,\"\")","v":"2018"},"4945300",{"$f":"CONCATENATE(VLOOKUP(B1239,'School List'!$B$3:$H$291,6,FALSE),H1239)","v":"53006301"},{"$f":"CONCATENATE(VLOOKUP(B1239,'School List'!$B$3:$D$291,3,FALSE),H1239)","v":"Marion County - M.S.D. DECATUR TOWNSHIP SCHOOL CORP6301"},{"$f":"IF('Line 1 Source'!B1239<>\"\",'Line 1 Source'!B1239,\"\")","v":"49"},{"$f":"IF('Line 1 Source'!C1239<>\"\",'Line 1 Source'!C1239,\"\")","v":"4"},{"$f":"IF('Line 1 Source'!D1239<>\"\",'Line 1 Source'!D1239,\"\")","v":"5300"},{"$f":"IF('Line 1 Source'!E1239<>\"\",'Line 1 Source'!E1239,\"\")","v":"6301"},{"$f":"IF('Line 1 Source'!F1239<>\"\",'Line 1 Source'!F1239,\"\")","v":2721501}]
[{"$f":"IF('Line 1 Source'!A1240<>\"\",'Line 1 Source'!A1240,\"\")","v":"2018"},"4945300",{"$f":"CONCATENATE(VLOOKUP(B1240,'School List'!$B$3:$H$291,6,FALSE),H1240)","v":"53006302"},{"$f":"CONCATENATE(VLOOKUP(B1240,'School List'!$B$3:$D$291,3,FALSE),H1240)","v":"Marion County - M.S.D. DECATUR TOWNSHIP SCHOOL CORP6302"},{"$f":"IF('Line 1 Source'!B1240<>\"\",'Line 1 Source'!B1240,\"\")","v":"49"},{"$f":"IF('Line 1 Source'!C1240<>\"\",'Line 1 Source'!C1240,\"\")","v":"4"},{"$f":"IF('Line 1 Source'!D1240<>\"\",'Line 1 Source'!D1240,\"\")","v":"5300"},{"$f":"IF('Line 1 Source'!E1240<>\"\",'Line 1 Source'!E1240,\"\")","v":"6302"},{"$f":"IF('Line 1 Source'!F1240<>\"\",'Line 1 Source'!F1240,\"\")","v":704608}]
[{"$f":"IF('Line 1 Source'!A1241<>\"\",'Line 1 Source'!A1241,\"\")","v":"2018"},"4945310",{"$f":"CONCATENATE(VLOOKUP(B1241,'School List'!$B$3:$H$291,6,FALSE),H1241)","v":"53100101"},{"$f":"CONCATENATE(VLOOKUP(B1241,'School List'!$B$3:$D$291,3,FALSE),H1241)","v":"Marion County - FRANKLIN TOWNSHIP COMMUNITY SCHOOL CORP0101"},{"$f":"IF('Line 1 Source'!B1241<>\"\",'Line 1 Source'!B1241,\"\")","v":"49"},{"$f":"IF('Line 1 Source'!C1241<>\"\",'Line 1 Source'!C1241,\"\")","v":"4"},{"$f":"IF('Line 1 Source'!D1241<>\"\",'Line 1 Source'!D1241,\"\")","v":"5310"},{"$f":"IF('Line 1 Source'!E1241<>\"\",'Line 1 Source'!E1241,\"\")","v":"0101"},{"$f":"IF('Line 1 Source'!F1241<>\"\",'Line 1 Source'!F1241,\"\")","v":64150000}]
[{"$f":"IF('Line 1 Source'!A1242<>\"\",'Line 1 Source'!A1242,\"\")","v":"2018"},"4945310",{"$f":"CONCATENATE(VLOOKUP(B1242,'School List'!$B$3:$H$291,6,FALSE),H1242)","v":"53100180"},{"$f":"CONCATENATE(VLOOKUP(B1242,'School List'!$B$3:$D$291,3,FALSE),H1242)","v":"Marion County - FRANKLIN TOWNSHIP COMMUNITY SCHOOL CORP0180"},{"$f":"IF('Line 1 Source'!B1242<>\"\",'Line 1 Source'!B1242,\"\")","v":"49"},{"$f":"IF('Line 1 Source'!C1242<>\"\",'Line 1 Source'!C1242,\"\")","v":"4"},{"$f":"IF('Line 1 Source'!D1242<>\"\",'Line 1 Source'!D1242,\"\")","v":"5310"},{"$f":"IF('Line 1 Source'!E1242<>\"\",'Line 1 Source'!E1242,\"\")","v":"0180"},{"$f":"IF('Line 1 Source'!F1242<>\"\",'Line 1 Source'!F1242,\"\")","v":18615910}]
[{"$f":"IF('Line 1 Source'!A1243<>\"\",'Line 1 Source'!A1243,\"\")","v":"2018"},"4945310",{"$f":"CONCATENATE(VLOOKUP(B1243,'School List'!$B$3:$H$291,6,FALSE),H1243)","v":"53100186"},{"$f":"CONCATENATE(VLOOKUP(B1243,'School List'!$B$3:$D$291,3,FALSE),H1243)","v":"Marion County - FRANKLIN TOWNSHIP COMMUNITY SCHOOL CORP0186"},{"$f":"IF('Line 1 Source'!B1243<>\"\",'Line 1 Source'!B1243,\"\")","v":"49"},{"$f":"IF('Line 1 Source'!C1243<>\"\",'Line 1 Source'!C1243,\"\")","v":"4"},{"$f":"IF('Line 1 Source'!D1243<>\"\",'Line 1 Source'!D1243,\"\")","v":"5310"},{"$f":"IF('Line 1 Source'!E1243<>\"\",'Line 1 Source'!E1243,\"\")","v":"0186"},{"$f":"IF('Line 1 Source'!F1243<>\"\",'Line 1 Source'!F1243,\"\")","v":403345}]
[{"$f":"IF('Line 1 Source'!A1244<>\"\",'Line 1 Source'!A1244,\"\")","v":"2018"},"4945310",{"$f":"CONCATENATE(VLOOKUP(B1244,'School List'!$B$3:$H$291,6,FALSE),H1244)","v":"53101214"},{"$f":"CONCATENATE(VLOOKUP(B1244,'School List'!$B$3:$D$291,3,FALSE),H1244)","v":"Marion County - FRANKLIN TOWNSHIP COMMUNITY SCHOOL CORP1214"},{"$f":"IF('Line 1 Source'!B1244<>\"\",'Line 1 Source'!B1244,\"\")","v":"49"},{"$f":"IF('Line 1 Source'!C1244<>\"\",'Line 1 Source'!C1244,\"\")","v":"4"},{"$f":"IF('Line 1 Source'!D1244<>\"\",'Line 1 Source'!D1244,\"\")","v":"5310"},{"$f":"IF('Line 1 Source'!E1244<>\"\",'Line 1 Source'!E1244,\"\")","v":"1214"},{"$f":"IF('Line 1 Source'!F1244<>\"\",'Line 1 Source'!F1244,\"\")","v":6125846}]
[{"$f":"IF('Line 1 Source'!A1245<>\"\",'Line 1 Source'!A1245,\"\")","v":"2018"},"4945310",{"$f":"CONCATENATE(VLOOKUP(B1245,'School List'!$B$3:$H$291,6,FALSE),H1245)","v":"53106301"},{"$f":"CONCATENATE(VLOOKUP(B1245,'School List'!$B$3:$D$291,3,FALSE),H1245)","v":"Marion County - FRANKLIN TOWNSHIP COMMUNITY SCHOOL CORP6301"},{"$f":"IF('Line 1 Source'!B1245<>\"\",'Line 1 Source'!B1245,\"\")","v":"49"},{"$f":"IF('Line 1 Source'!C1245<>\"\",'Line 1 Source'!C1245,\"\")","v":"4"},{"$f":"IF('Line 1 Source'!D1245<>\"\",'Line 1 Source'!D1245,\"\")","v":"5310"},{"$f":"IF('Line 1 Source'!E1245<>\"\",'Line 1 Source'!E1245,\"\")","v":"6301"},{"$f":"IF('Line 1 Source'!F1245<>\"\",'Line 1 Source'!F1245,\"\")","v":5183052}]
[{"$f":"IF('Line 1 Source'!A1246<>\"\",'Line 1 Source'!A1246,\"\")","v":"2018"},"4945310",{"$f":"CONCATENATE(VLOOKUP(B1246,'School List'!$B$3:$H$291,6,FALSE),H1246)","v":"53106302"},{"$f":"CONCATENATE(VLOOKUP(B1246,'School List'!$B$3:$D$291,3,FALSE),H1246)","v":"Marion County - FRANKLIN TOWNSHIP COMMUNITY SCHOOL CORP6302"},{"$f":"IF('Line 1 Source'!B1246<>\"\",'Line 1 Source'!B1246,\"\")","v":"49"},{"$f":"IF('Line 1 Source'!C1246<>\"\",'Line 1 Source'!C1246,\"\")","v":"4"},{"$f":"IF('Line 1 Source'!D1246<>\"\",'Line 1 Source'!D1246,\"\")","v":"5310"},{"$f":"IF('Line 1 Source'!E1246<>\"\",'Line 1 Source'!E1246,\"\")","v":"6302"},{"$f":"IF('Line 1 Source'!F1246<>\"\",'Line 1 Source'!F1246,\"\")","v":947600}]
[{"$f":"IF('Line 1 Source'!A1247<>\"\",'Line 1 Source'!A1247,\"\")","v":"2018"},"4945330",{"$f":"CONCATENATE(VLOOKUP(B1247,'School List'!$B$3:$H$291,6,FALSE),H1247)","v":"53300101"},{"$f":"CONCATENATE(VLOOKUP(B1247,'School List'!$B$3:$D$291,3,FALSE),H1247)","v":"Marion County - M.S.D. LAWRENCE TOWNSHIP SCHOOL CORP0101"},{"$f":"IF('Line 1 Source'!B1247<>\"\",'Line 1 Source'!B1247,\"\")","v":"49"},{"$f":"IF('Line 1 Source'!C1247<>\"\",'Line 1 Source'!C1247,\"\")","v":"4"},{"$f":"IF('Line 1 Source'!D1247<>\"\",'Line 1 Source'!D1247,\"\")","v":"5330"},{"$f":"IF('Line 1 Source'!E1247<>\"\",'Line 1 Source'!E1247,\"\")","v":"0101"},{"$f":"IF('Line 1 Source'!F1247<>\"\",'Line 1 Source'!F1247,\"\")","v":116171534}]
[{"$f":"IF('Line 1 Source'!A1248<>\"\",'Line 1 Source'!A1248,\"\")","v":"2018"},"4945330",{"$f":"CONCATENATE(VLOOKUP(B1248,'School List'!$B$3:$H$291,6,FALSE),H1248)","v":"53300180"},{"$f":"CONCATENATE(VLOOKUP(B1248,'School List'!$B$3:$D$291,3,FALSE),H1248)","v":"Marion County - M.S.D. LAWRENCE TOWNSHIP SCHOOL CORP0180"},{"$f":"IF('Line 1 Source'!B1248<>\"\",'Line 1 Source'!B1248,\"\")","v":"49"},{"$f":"IF('Line 1 Source'!C1248<>\"\",'Line 1 Source'!C1248,\"\")","v":"4"},{"$f":"IF('Line 1 Source'!D1248<>\"\",'Line 1 Source'!D1248,\"\")","v":"5330"},{"$f":"IF('Line 1 Source'!E1248<>\"\",'Line 1 Source'!E1248,\"\")","v":"0180"},{"$f":"IF('Line 1 Source'!F1248<>\"\",'Line 1 Source'!F1248,\"\")","v":19304770}]
[{"$f":"IF('Line 1 Source'!A1249<>\"\",'Line 1 Source'!A1249,\"\")","v":"2018"},"4945330",{"$f":"CONCATENATE(VLOOKUP(B1249,'School List'!$B$3:$H$291,6,FALSE),H1249)","v":"53300186"},{"$f":"CONCATENATE(VLOOKUP(B1249,'School List'!$B$3:$D$291,3,FALSE),H1249)","v":"Marion County - M.S.D. LAWRENCE TOWNSHIP SCHOOL CORP0186"},{"$f":"IF('Line 1 Source'!B1249<>\"\",'Line 1 Source'!B1249,\"\")","v":"49"},{"$f":"IF('Line 1 Source'!C1249<>\"\",'Line 1 Source'!C1249,\"\")","v":"4"},{"$f":"IF('Line 1 Source'!D1249<>\"\",'Line 1 Source'!D1249,\"\")","v":"5330"},{"$f":"IF('Line 1 Source'!E1249<>\"\",'Line 1 Source'!E1249,\"\")","v":"0186"},{"$f":"IF('Line 1 Source'!F1249<>\"\",'Line 1 Source'!F1249,\"\")","v":1687571}]
[{"$f":"IF('Line 1 Source'!A1250<>\"\",'Line 1 Source'!A1250,\"\")","v":"2018"},"4945330",{"$f":"CONCATENATE(VLOOKUP(B1250,'School List'!$B$3:$H$291,6,FALSE),H1250)","v":"53301214"},{"$f":"CONCATENATE(VLOOKUP(B1250,'School List'!$B$3:$D$291,3,FALSE),H1250)","v":"Marion County - M.S.D. LAWRENCE TOWNSHIP SCHOOL CORP1214"},{"$f":"IF('Line 1 Source'!B1250<>\"\",'Line 1 Source'!B1250,\"\")","v":"49"},{"$f":"IF('Line 1 Source'!C1250<>\"\",'Line 1 Source'!C1250,\"\")","v":"4"},{"$f":"IF('Line 1 Source'!D1250<>\"\",'Line 1 Source'!D1250,\"\")","v":"5330"},{"$f":"IF('Line 1 Source'!E1250<>\"\",'Line 1 Source'!E1250,\"\")","v":"1214"},{"$f":"IF('Line 1 Source'!F1250<>\"\",'Line 1 Source'!F1250,\"\")","v":9052409}]
[{"$f":"IF('Line 1 Source'!A1251<>\"\",'Line 1 Source'!A1251,\"\")","v":"2018"},"4945330",{"$f":"CONCATENATE(VLOOKUP(B1251,'School List'!$B$3:$H$291,6,FALSE),H1251)","v":"53306301"},{"$f":"CONCATENATE(VLOOKUP(B1251,'School List'!$B$3:$D$291,3,FALSE),H1251)","v":"Marion County - M.S.D. LAWRENCE TOWNSHIP SCHOOL CORP6301"},{"$f":"IF('Line 1 Source'!B1251<>\"\",'Line 1 Source'!B1251,\"\")","v":"49"},{"$f":"IF('Line 1 Source'!C1251<>\"\",'Line 1 Source'!C1251,\"\")","v":"4"},{"$f":"IF('Line 1 Source'!D1251<>\"\",'Line 1 Source'!D1251,\"\")","v":"5330"},{"$f":"IF('Line 1 Source'!E1251<>\"\",'Line 1 Source'!E1251,\"\")","v":"6301"},{"$f":"IF('Line 1 Source'!F1251<>\"\",'Line 1 Source'!F1251,\"\")","v":9711189}]
[{"$f":"IF('Line 1 Source'!A1252<>\"\",'Line 1 Source'!A1252,\"\")","v":"2018"},"4945330",{"$f":"CONCATENATE(VLOOKUP(B1252,'School List'!$B$3:$H$291,6,FALSE),H1252)","v":"53306302"},{"$f":"CONCATENATE(VLOOKUP(B1252,'School List'!$B$3:$D$291,3,FALSE),H1252)","v":"Marion County - M.S.D. LAWRENCE TOWNSHIP SCHOOL CORP6302"},{"$f":"IF('Line 1 Source'!B1252<>\"\",'Line 1 Source'!B1252,\"\")","v":"49"},{"$f":"IF('Line 1 Source'!C1252<>\"\",'Line 1 Source'!C1252,\"\")","v":"4"},{"$f":"IF('Line 1 Source'!D1252<>\"\",'Line 1 Source'!D1252,\"\")","v":"5330"},{"$f":"IF('Line 1 Source'!E1252<>\"\",'Line 1 Source'!E1252,\"\")","v":"6302"},{"$f":"IF('Line 1 Source'!F1252<>\"\",'Line 1 Source'!F1252,\"\")","v":1812231}]
[{"$f":"IF('Line 1 Source'!A1253<>\"\",'Line 1 Source'!A1253,\"\")","v":"2018"},"4945340",{"$f":"CONCATENATE(VLOOKUP(B1253,'School List'!$B$3:$H$291,6,FALSE),H1253)","v":"53400022"},{"$f":"CONCATENATE(VLOOKUP(B1253,'School List'!$B$3:$D$291,3,FALSE),H1253)","v":"Marion County - M.S.D. PERRY TOWNSHIP SCHOOL CORPORATION0022"},{"$f":"IF('Line 1 Source'!B1253<>\"\",'Line 1 Source'!B1253,\"\")","v":"49"},{"$f":"IF('Line 1 Source'!C1253<>\"\",'Line 1 Source'!C1253,\"\")","v":"4"},{"$f":"IF('Line 1 Source'!D1253<>\"\",'Line 1 Source'!D1253,\"\")","v":"5340"},{"$f":"IF('Line 1 Source'!E1253<>\"\",'Line 1 Source'!E1253,\"\")","v":"0022"},{"$f":"IF('Line 1 Source'!F1253<>\"\",'Line 1 Source'!F1253,\"\")","v":14000000}]
[{"$f":"IF('Line 1 Source'!A1254<>\"\",'Line 1 Source'!A1254,\"\")","v":"2018"},"4945340",{"$f":"CONCATENATE(VLOOKUP(B1254,'School List'!$B$3:$H$291,6,FALSE),H1254)","v":"53400061"},{"$f":"CONCATENATE(VLOOKUP(B1254,'School List'!$B$3:$D$291,3,FALSE),H1254)","v":"Marion County - M.S.D. PERRY TOWNSHIP SCHOOL CORPORATION0061"},{"$f":"IF('Line 1 Source'!B1254<>\"\",'Line 1 Source'!B1254,\"\")","v":"49"},{"$f":"IF('Line 1 Source'!C1254<>\"\",'Line 1 Source'!C1254,\"\")","v":"4"},{"$f":"IF('Line 1 Source'!D1254<>\"\",'Line 1 Source'!D1254,\"\")","v":"5340"},{"$f":"IF('Line 1 Source'!E1254<>\"\",'Line 1 Source'!E1254,\"\")","v":"0061"},{"$f":"IF('Line 1 Source'!F1254<>\"\",'Line 1 Source'!F1254,\"\")","v":1500000}]
[{"$f":"IF('Line 1 Source'!A1255<>\"\",'Line 1 Source'!A1255,\"\")","v":"2018"},"4945340",{"$f":"CONCATENATE(VLOOKUP(B1255,'School List'!$B$3:$H$291,6,FALSE),H1255)","v":"53400101"},{"$f":"CONCATENATE(VLOOKUP(B1255,'School List'!$B$3:$D$291,3,FALSE),H1255)","v":"Marion County - M.S.D. PERRY TOWNSHIP SCHOOL CORPORATION0101"},{"$f":"IF('Line 1 Source'!B1255<>\"\",'Line 1 Source'!B1255,\"\")","v":"49"},{"$f":"IF('Line 1 Source'!C1255<>\"\",'Line 1 Source'!C1255,\"\")","v":"4"},{"$f":"IF('Line 1 Source'!D1255<>\"\",'Line 1 Source'!D1255,\"\")","v":"5340"},{"$f":"IF('Line 1 Source'!E1255<>\"\",'Line 1 Source'!E1255,\"\")","v":"0101"},{"$f":"IF('Line 1 Source'!F1255<>\"\",'Line 1 Source'!F1255,\"\")","v":114072160}]
[{"$f":"IF('Line 1 Source'!A1256<>\"\",'Line 1 Source'!A1256,\"\")","v":"2018"},"4945340",{"$f":"CONCATENATE(VLOOKUP(B1256,'School List'!$B$3:$H$291,6,FALSE),H1256)","v":"53400180"},{"$f":"CONCATENATE(VLOOKUP(B1256,'School List'!$B$3:$D$291,3,FALSE),H1256)","v":"Marion County - M.S.D. PERRY TOWNSHIP SCHOOL CORPORATION0180"},{"$f":"IF('Line 1 Source'!B1256<>\"\",'Line 1 Source'!B1256,\"\")","v":"49"},{"$f":"IF('Line 1 Source'!C1256<>\"\",'Line 1 Source'!C1256,\"\")","v":"4"},{"$f":"IF('Line 1 Source'!D1256<>\"\",'Line 1 Source'!D1256,\"\")","v":"5340"},{"$f":"IF('Line 1 Source'!E1256<>\"\",'Line 1 Source'!E1256,\"\")","v":"0180"},{"$f":"IF('Line 1 Source'!F1256<>\"\",'Line 1 Source'!F1256,\"\")","v":12690235}]
[{"$f":"IF('Line 1 Source'!A1257<>\"\",'Line 1 Source'!A1257,\"\")","v":"2018"},"4945340",{"$f":"CONCATENATE(VLOOKUP(B1257,'School List'!$B$3:$H$291,6,FALSE),H1257)","v":"53400186"},{"$f":"CONCATENATE(VLOOKUP(B1257,'School List'!$B$3:$D$291,3,FALSE),H1257)","v":"Marion County - M.S.D. PERRY TOWNSHIP SCHOOL CORPORATION0186"},{"$f":"IF('Line 1 Source'!B1257<>\"\",'Line 1 Source'!B1257,\"\")","v":"49"},{"$f":"IF('Line 1 Source'!C1257<>\"\",'Line 1 Source'!C1257,\"\")","v":"4"},{"$f":"IF('Line 1 Source'!D1257<>\"\",'Line 1 Source'!D1257,\"\")","v":"5340"},{"$f":"IF('Line 1 Source'!E1257<>\"\",'Line 1 Source'!E1257,\"\")","v":"0186"},{"$f":"IF('Line 1 Source'!F1257<>\"\",'Line 1 Source'!F1257,\"\")","v":1875185}]
[{"$f":"IF('Line 1 Source'!A1258<>\"\",'Line 1 Source'!A1258,\"\")","v":"2018"},"4945340",{"$f":"CONCATENATE(VLOOKUP(B1258,'School List'!$B$3:$H$291,6,FALSE),H1258)","v":"53400287"},{"$f":"CONCATENATE(VLOOKUP(B1258,'School List'!$B$3:$D$291,3,FALSE),H1258)","v":"Marion County - M.S.D. PERRY TOWNSHIP SCHOOL CORPORATION0287"},{"$f":"IF('Line 1 Source'!B1258<>\"\",'Line 1 Source'!B1258,\"\")","v":"49"},{"$f":"IF('Line 1 Source'!C1258<>\"\",'Line 1 Source'!C1258,\"\")","v":"4"},{"$f":"IF('Line 1 Source'!D1258<>\"\",'Line 1 Source'!D1258,\"\")","v":"5340"},{"$f":"IF('Line 1 Source'!E1258<>\"\",'Line 1 Source'!E1258,\"\")","v":"0287"},{"$f":"IF('Line 1 Source'!F1258<>\"\",'Line 1 Source'!F1258,\"\")","v":6237000}]
[{"$f":"IF('Line 1 Source'!A1259<>\"\",'Line 1 Source'!A1259,\"\")","v":"2018"},"4945340",{"$f":"CONCATENATE(VLOOKUP(B1259,'School List'!$B$3:$H$291,6,FALSE),H1259)","v":"53401214"},{"$f":"CONCATENATE(VLOOKUP(B1259,'School List'!$B$3:$D$291,3,FALSE),H1259)","v":"Marion County - M.S.D. PERRY TOWNSHIP SCHOOL CORPORATION1214"},{"$f":"IF('Line 1 Source'!B1259<>\"\",'Line 1 Source'!B1259,\"\")","v":"49"},{"$f":"IF('Line 1 Source'!C1259<>\"\",'Line 1 Source'!C1259,\"\")","v":"4"},{"$f":"IF('Line 1 Source'!D1259<>\"\",'Line 1 Source'!D1259,\"\")","v":"5340"},{"$f":"IF('Line 1 Source'!E1259<>\"\",'Line 1 Source'!E1259,\"\")","v":"1214"},{"$f":"IF('Line 1 Source'!F1259<>\"\",'Line 1 Source'!F1259,\"\")","v":12509986}]
[{"$f":"IF('Line 1 Source'!A1260<>\"\",'Line 1 Source'!A1260,\"\")","v":"2018"},"4945340",{"$f":"CONCATENATE(VLOOKUP(B1260,'School List'!$B$3:$H$291,6,FALSE),H1260)","v":"53406301"},{"$f":"CONCATENATE(VLOOKUP(B1260,'School List'!$B$3:$D$291,3,FALSE),H1260)","v":"Marion County - M.S.D. PERRY TOWNSHIP SCHOOL CORPORATION6301"},{"$f":"IF('Line 1 Source'!B1260<>\"\",'Line 1 Source'!B1260,\"\")","v":"49"},{"$f":"IF('Line 1 Source'!C1260<>\"\",'Line 1 Source'!C1260,\"\")","v":"4"},{"$f":"IF('Line 1 Source'!D1260<>\"\",'Line 1 Source'!D1260,\"\")","v":"5340"},{"$f":"IF('Line 1 Source'!E1260<>\"\",'Line 1 Source'!E1260,\"\")","v":"6301"},{"$f":"IF('Line 1 Source'!F1260<>\"\",'Line 1 Source'!F1260,\"\")","v":8726410}]
[{"$f":"IF('Line 1 Source'!A1261<>\"\",'Line 1 Source'!A1261,\"\")","v":"2018"},"4945340",{"$f":"CONCATENATE(VLOOKUP(B1261,'School List'!$B$3:$H$291,6,FALSE),H1261)","v":"53406302"},{"$f":"CONCATENATE(VLOOKUP(B1261,'School List'!$B$3:$D$291,3,FALSE),H1261)","v":"Marion County - M.S.D. PERRY TOWNSHIP SCHOOL CORPORATION6302"},{"$f":"IF('Line 1 Source'!B1261<>\"\",'Line 1 Source'!B1261,\"\")","v":"49"},{"$f":"IF('Line 1 Source'!C1261<>\"\",'Line 1 Source'!C1261,\"\")","v":"4"},{"$f":"IF('Line 1 Source'!D1261<>\"\",'Line 1 Source'!D1261,\"\")","v":"5340"},{"$f":"IF('Line 1 Source'!E1261<>\"\",'Line 1 Source'!E1261,\"\")","v":"6302"},{"$f":"IF('Line 1 Source'!F1261<>\"\",'Line 1 Source'!F1261,\"\")","v":1735845}]
[{"$f":"IF('Line 1 Source'!A1262<>\"\",'Line 1 Source'!A1262,\"\")","v":"2018"},"4945350",{"$f":"CONCATENATE(VLOOKUP(B1262,'School List'!$B$3:$H$291,6,FALSE),H1262)","v":"53500061"},{"$f":"CONCATENATE(VLOOKUP(B1262,'School List'!$B$3:$D$291,3,FALSE),H1262)","v":"Marion County - M.S.D. PIKE TOWNSHIP SCHOOL CORPORATION0061"},{"$f":"IF('Line 1 Source'!B1262<>\"\",'Line 1 Source'!B1262,\"\")","v":"49"},{"$f":"IF('Line 1 Source'!C1262<>\"\",'Line 1 Source'!C1262,\"\")","v":"4"},{"$f":"IF('Line 1 Source'!D1262<>\"\",'Line 1 Source'!D1262,\"\")","v":"5350"},{"$f":"IF('Line 1 Source'!E1262<>\"\",'Line 1 Source'!E1262,\"\")","v":"0061"},{"$f":"IF('Line 1 Source'!F1262<>\"\",'Line 1 Source'!F1262,\"\")","v":5000000}]
[{"$f":"IF('Line 1 Source'!A1263<>\"\",'Line 1 Source'!A1263,\"\")","v":"2018"},"4945350",{"$f":"CONCATENATE(VLOOKUP(B1263,'School List'!$B$3:$H$291,6,FALSE),H1263)","v":"53500101"},{"$f":"CONCATENATE(VLOOKUP(B1263,'School List'!$B$3:$D$291,3,FALSE),H1263)","v":"Marion County - M.S.D. PIKE TOWNSHIP SCHOOL CORPORATION0101"},{"$f":"IF('Line 1 Source'!B1263<>\"\",'Line 1 Source'!B1263,\"\")","v":"49"},{"$f":"IF('Line 1 Source'!C1263<>\"\",'Line 1 Source'!C1263,\"\")","v":"4"},{"$f":"IF('Line 1 Source'!D1263<>\"\",'Line 1 Source'!D1263,\"\")","v":"5350"},{"$f":"IF('Line 1 Source'!E1263<>\"\",'Line 1 Source'!E1263,\"\")","v":"0101"},{"$f":"IF('Line 1 Source'!F1263<>\"\",'Line 1 Source'!F1263,\"\")","v":77500000}]
[{"$f":"IF('Line 1 Source'!A1264<>\"\",'Line 1 Source'!A1264,\"\")","v":"2018"},"4945350",{"$f":"CONCATENATE(VLOOKUP(B1264,'School List'!$B$3:$H$291,6,FALSE),H1264)","v":"53500180"},{"$f":"CONCATENATE(VLOOKUP(B1264,'School List'!$B$3:$D$291,3,FALSE),H1264)","v":"Marion County - M.S.D. PIKE TOWNSHIP SCHOOL CORPORATION0180"},{"$f":"IF('Line 1 Source'!B1264<>\"\",'Line 1 Source'!B1264,\"\")","v":"49"},{"$f":"IF('Line 1 Source'!C1264<>\"\",'Line 1 Source'!C1264,\"\")","v":"4"},{"$f":"IF('Line 1 Source'!D1264<>\"\",'Line 1 Source'!D1264,\"\")","v":"5350"},{"$f":"IF('Line 1 Source'!E1264<>\"\",'Line 1 Source'!E1264,\"\")","v":"0180"},{"$f":"IF('Line 1 Source'!F1264<>\"\",'Line 1 Source'!F1264,\"\")","v":13979450}]
[{"$f":"IF('Line 1 Source'!A1265<>\"\",'Line 1 Source'!A1265,\"\")","v":"2018"},"4945350",{"$f":"CONCATENATE(VLOOKUP(B1265,'School List'!$B$3:$H$291,6,FALSE),H1265)","v":"53501214"},{"$f":"CONCATENATE(VLOOKUP(B1265,'School List'!$B$3:$D$291,3,FALSE),H1265)","v":"Marion County - M.S.D. PIKE TOWNSHIP SCHOOL CORPORATION1214"},{"$f":"IF('Line 1 Source'!B1265<>\"\",'Line 1 Source'!B1265,\"\")","v":"49"},{"$f":"IF('Line 1 Source'!C1265<>\"\",'Line 1 Source'!C1265,\"\")","v":"4"},{"$f":"IF('Line 1 Source'!D1265<>\"\",'Line 1 Source'!D1265,\"\")","v":"5350"},{"$f":"IF('Line 1 Source'!E1265<>\"\",'Line 1 Source'!E1265,\"\")","v":"1214"},{"$f":"IF('Line 1 Source'!F1265<>\"\",'Line 1 Source'!F1265,\"\")","v":13368371}]
[{"$f":"IF('Line 1 Source'!A1266<>\"\",'Line 1 Source'!A1266,\"\")","v":"2018"},"4945350",{"$f":"CONCATENATE(VLOOKUP(B1266,'School List'!$B$3:$H$291,6,FALSE),H1266)","v":"53506301"},{"$f":"CONCATENATE(VLOOKUP(B1266,'School List'!$B$3:$D$291,3,FALSE),H1266)","v":"Marion County - M.S.D. PIKE TOWNSHIP SCHOOL CORPORATION6301"},{"$f":"IF('Line 1 Source'!B1266<>\"\",'Line 1 Source'!B1266,\"\")","v":"49"},{"$f":"IF('Line 1 Source'!C1266<>\"\",'Line 1 Source'!C1266,\"\")","v":"4"},{"$f":"IF('Line 1 Source'!D1266<>\"\",'Line 1 Source'!D1266,\"\")","v":"5350"},{"$f":"IF('Line 1 Source'!E1266<>\"\",'Line 1 Source'!E1266,\"\")","v":"6301"},{"$f":"IF('Line 1 Source'!F1266<>\"\",'Line 1 Source'!F1266,\"\")","v":8863572}]
[{"$f":"IF('Line 1 Source'!A1267<>\"\",'Line 1 Source'!A1267,\"\")","v":"2018"},"4945350",{"$f":"CONCATENATE(VLOOKUP(B1267,'School List'!$B$3:$H$291,6,FALSE),H1267)","v":"53506302"},{"$f":"CONCATENATE(VLOOKUP(B1267,'School List'!$B$3:$D$291,3,FALSE),H1267)","v":"Marion County - M.S.D. PIKE TOWNSHIP SCHOOL CORPORATION6302"},{"$f":"IF('Line 1 Source'!B1267<>\"\",'Line 1 Source'!B1267,\"\")","v":"49"},{"$f":"IF('Line 1 Source'!C1267<>\"\",'Line 1 Source'!C1267,\"\")","v":"4"},{"$f":"IF('Line 1 Source'!D1267<>\"\",'Line 1 Source'!D1267,\"\")","v":"5350"},{"$f":"IF('Line 1 Source'!E1267<>\"\",'Line 1 Source'!E1267,\"\")","v":"6302"},{"$f":"IF('Line 1 Source'!F1267<>\"\",'Line 1 Source'!F1267,\"\")","v":1567850}]
[{"$f":"IF('Line 1 Source'!A1268<>\"\",'Line 1 Source'!A1268,\"\")","v":"2018"},"4945360",{"$f":"CONCATENATE(VLOOKUP(B1268,'School List'!$B$3:$H$291,6,FALSE),H1268)","v":"53600101"},{"$f":"CONCATENATE(VLOOKUP(B1268,'School List'!$B$3:$D$291,3,FALSE),H1268)","v":"Marion County - M.S.D. WARREN TOWNSHIP SCHOOL CORP0101"},{"$f":"IF('Line 1 Source'!B1268<>\"\",'Line 1 Source'!B1268,\"\")","v":"49"},{"$f":"IF('Line 1 Source'!C1268<>\"\",'Line 1 Source'!C1268,\"\")","v":"4"},{"$f":"IF('Line 1 Source'!D1268<>\"\",'Line 1 Source'!D1268,\"\")","v":"5360"},{"$f":"IF('Line 1 Source'!E1268<>\"\",'Line 1 Source'!E1268,\"\")","v":"0101"},{"$f":"IF('Line 1 Source'!F1268<>\"\",'Line 1 Source'!F1268,\"\")","v":88500000}]
[{"$f":"IF('Line 1 Source'!A1269<>\"\",'Line 1 Source'!A1269,\"\")","v":"2018"},"4945360",{"$f":"CONCATENATE(VLOOKUP(B1269,'School List'!$B$3:$H$291,6,FALSE),H1269)","v":"53600180"},{"$f":"CONCATENATE(VLOOKUP(B1269,'School List'!$B$3:$D$291,3,FALSE),H1269)","v":"Marion County - M.S.D. WARREN TOWNSHIP SCHOOL CORP0180"},{"$f":"IF('Line 1 Source'!B1269<>\"\",'Line 1 Source'!B1269,\"\")","v":"49"},{"$f":"IF('Line 1 Source'!C1269<>\"\",'Line 1 Source'!C1269,\"\")","v":"4"},{"$f":"IF('Line 1 Source'!D1269<>\"\",'Line 1 Source'!D1269,\"\")","v":"5360"},{"$f":"IF('Line 1 Source'!E1269<>\"\",'Line 1 Source'!E1269,\"\")","v":"0180"},{"$f":"IF('Line 1 Source'!F1269<>\"\",'Line 1 Source'!F1269,\"\")","v":14701850}]
[{"$f":"IF('Line 1 Source'!A1270<>\"\",'Line 1 Source'!A1270,\"\")","v":"2018"},"4945360",{"$f":"CONCATENATE(VLOOKUP(B1270,'School List'!$B$3:$H$291,6,FALSE),H1270)","v":"53601214"},{"$f":"CONCATENATE(VLOOKUP(B1270,'School List'!$B$3:$D$291,3,FALSE),H1270)","v":"Marion County - M.S.D. WARREN TOWNSHIP SCHOOL CORP1214"},{"$f":"IF('Line 1 Source'!B1270<>\"\",'Line 1 Source'!B1270,\"\")","v":"49"},{"$f":"IF('Line 1 Source'!C1270<>\"\",'Line 1 Source'!C1270,\"\")","v":"4"},{"$f":"IF('Line 1 Source'!D1270<>\"\",'Line 1 Source'!D1270,\"\")","v":"5360"},{"$f":"IF('Line 1 Source'!E1270<>\"\",'Line 1 Source'!E1270,\"\")","v":"1214"},{"$f":"IF('Line 1 Source'!F1270<>\"\",'Line 1 Source'!F1270,\"\")","v":16500000}]
[{"$f":"IF('Line 1 Source'!A1271<>\"\",'Line 1 Source'!A1271,\"\")","v":"2018"},"4945360",{"$f":"CONCATENATE(VLOOKUP(B1271,'School List'!$B$3:$H$291,6,FALSE),H1271)","v":"53606301"},{"$f":"CONCATENATE(VLOOKUP(B1271,'School List'!$B$3:$D$291,3,FALSE),H1271)","v":"Marion County - M.S.D. WARREN TOWNSHIP SCHOOL CORP6301"},{"$f":"IF('Line 1 Source'!B1271<>\"\",'Line 1 Source'!B1271,\"\")","v":"49"},{"$f":"IF('Line 1 Source'!C1271<>\"\",'Line 1 Source'!C1271,\"\")","v":"4"},{"$f":"IF('Line 1 Source'!D1271<>\"\",'Line 1 Source'!D1271,\"\")","v":"5360"},{"$f":"IF('Line 1 Source'!E1271<>\"\",'Line 1 Source'!E1271,\"\")","v":"6301"},{"$f":"IF('Line 1 Source'!F1271<>\"\",'Line 1 Source'!F1271,\"\")","v":2201625}]
[{"$f":"IF('Line 1 Source'!A1272<>\"\",'Line 1 Source'!A1272,\"\")","v":"2018"},"4945360",{"$f":"CONCATENATE(VLOOKUP(B1272,'School List'!$B$3:$H$291,6,FALSE),H1272)","v":"53606302"},{"$f":"CONCATENATE(VLOOKUP(B1272,'School List'!$B$3:$D$291,3,FALSE),H1272)","v":"Marion County - M.S.D. WARREN TOWNSHIP SCHOOL CORP6302"},{"$f":"IF('Line 1 Source'!B1272<>\"\",'Line 1 Source'!B1272,\"\")","v":"49"},{"$f":"IF('Line 1 Source'!C1272<>\"\",'Line 1 Source'!C1272,\"\")","v":"4"},{"$f":"IF('Line 1 Source'!D1272<>\"\",'Line 1 Source'!D1272,\"\")","v":"5360"},{"$f":"IF('Line 1 Source'!E1272<>\"\",'Line 1 Source'!E1272,\"\")","v":"6302"},{"$f":"IF('Line 1 Source'!F1272<>\"\",'Line 1 Source'!F1272,\"\")","v":1262097}]
[{"$f":"IF('Line 1 Source'!A1273<>\"\",'Line 1 Source'!A1273,\"\")","v":"2018"},"4945370",{"$f":"CONCATENATE(VLOOKUP(B1273,'School List'!$B$3:$H$291,6,FALSE),H1273)","v":"53700022"},{"$f":"CONCATENATE(VLOOKUP(B1273,'School List'!$B$3:$D$291,3,FALSE),H1273)","v":"Marion County - M.S.D. WASHINGTON TOWNSHIP SCHOOL CORP0022"},{"$f":"IF('Line 1 Source'!B1273<>\"\",'Line 1 Source'!B1273,\"\")","v":"49"},{"$f":"IF('Line 1 Source'!C1273<>\"\",'Line 1 Source'!C1273,\"\")","v":"4"},{"$f":"IF('Line 1 Source'!D1273<>\"\",'Line 1 Source'!D1273,\"\")","v":"5370"},{"$f":"IF('Line 1 Source'!E1273<>\"\",'Line 1 Source'!E1273,\"\")","v":"0022"},{"$f":"IF('Line 1 Source'!F1273<>\"\",'Line 1 Source'!F1273,\"\")","v":7599414}]
[{"$f":"IF('Line 1 Source'!A1274<>\"\",'Line 1 Source'!A1274,\"\")","v":"2018"},"4945370",{"$f":"CONCATENATE(VLOOKUP(B1274,'School List'!$B$3:$H$291,6,FALSE),H1274)","v":"53700061"},{"$f":"CONCATENATE(VLOOKUP(B1274,'School List'!$B$3:$D$291,3,FALSE),H1274)","v":"Marion County - M.S.D. WASHINGTON TOWNSHIP SCHOOL CORP0061"},{"$f":"IF('Line 1 Source'!B1274<>\"\",'Line 1 Source'!B1274,\"\")","v":"49"},{"$f":"IF('Line 1 Source'!C1274<>\"\",'Line 1 Source'!C1274,\"\")","v":"4"},{"$f":"IF('Line 1 Source'!D1274<>\"\",'Line 1 Source'!D1274,\"\")","v":"5370"},{"$f":"IF('Line 1 Source'!E1274<>\"\",'Line 1 Source'!E1274,\"\")","v":"0061"},{"$f":"IF('Line 1 Source'!F1274<>\"\",'Line 1 Source'!F1274,\"\")","v":3010498}]
[{"$f":"IF('Line 1 Source'!A1275<>\"\",'Line 1 Source'!A1275,\"\")","v":"2018"},"4945370",{"$f":"CONCATENATE(VLOOKUP(B1275,'School List'!$B$3:$H$291,6,FALSE),H1275)","v":"53700101"},{"$f":"CONCATENATE(VLOOKUP(B1275,'School List'!$B$3:$D$291,3,FALSE),H1275)","v":"Marion County - M.S.D. WASHINGTON TOWNSHIP SCHOOL CORP0101"},{"$f":"IF('Line 1 Source'!B1275<>\"\",'Line 1 Source'!B1275,\"\")","v":"49"},{"$f":"IF('Line 1 Source'!C1275<>\"\",'Line 1 Source'!C1275,\"\")","v":"4"},{"$f":"IF('Line 1 Source'!D1275<>\"\",'Line 1 Source'!D1275,\"\")","v":"5370"},{"$f":"IF('Line 1 Source'!E1275<>\"\",'Line 1 Source'!E1275,\"\")","v":"0101"},{"$f":"IF('Line 1 Source'!F1275<>\"\",'Line 1 Source'!F1275,\"\")","v":85483436}]
[{"$f":"IF('Line 1 Source'!A1276<>\"\",'Line 1 Source'!A1276,\"\")","v":"2018"},"4945370",{"$f":"CONCATENATE(VLOOKUP(B1276,'School List'!$B$3:$H$291,6,FALSE),H1276)","v":"53700180"},{"$f":"CONCATENATE(VLOOKUP(B1276,'School List'!$B$3:$D$291,3,FALSE),H1276)","v":"Marion County - M.S.D. WASHINGTON TOWNSHIP SCHOOL CORP0180"},{"$f":"IF('Line 1 Source'!B1276<>\"\",'Line 1 Source'!B1276,\"\")","v":"49"},{"$f":"IF('Line 1 Source'!C1276<>\"\",'Line 1 Source'!C1276,\"\")","v":"4"},{"$f":"IF('Line 1 Source'!D1276<>\"\",'Line 1 Source'!D1276,\"\")","v":"5370"},{"$f":"IF('Line 1 Source'!E1276<>\"\",'Line 1 Source'!E1276,\"\")","v":"0180"},{"$f":"IF('Line 1 Source'!F1276<>\"\",'Line 1 Source'!F1276,\"\")","v":9007436}]
[{"$f":"IF('Line 1 Source'!A1277<>\"\",'Line 1 Source'!A1277,\"\")","v":"2018"},"4945370",{"$f":"CONCATENATE(VLOOKUP(B1277,'School List'!$B$3:$H$291,6,FALSE),H1277)","v":"53700186"},{"$f":"CONCATENATE(VLOOKUP(B1277,'School List'!$B$3:$D$291,3,FALSE),H1277)","v":"Marion County - M.S.D. WASHINGTON TOWNSHIP SCHOOL CORP0186"},{"$f":"IF('Line 1 Source'!B1277<>\"\",'Line 1 Source'!B1277,\"\")","v":"49"},{"$f":"IF('Line 1 Source'!C1277<>\"\",'Line 1 Source'!C1277,\"\")","v":"4"},{"$f":"IF('Line 1 Source'!D1277<>\"\",'Line 1 Source'!D1277,\"\")","v":"5370"},{"$f":"IF('Line 1 Source'!E1277<>\"\",'Line 1 Source'!E1277,\"\")","v":"0186"},{"$f":"IF('Line 1 Source'!F1277<>\"\",'Line 1 Source'!F1277,\"\")","v":1262773}]
[{"$f":"IF('Line 1 Source'!A1278<>\"\",'Line 1 Source'!A1278,\"\")","v":"2018"},"4945370",{"$f":"CONCATENATE(VLOOKUP(B1278,'School List'!$B$3:$H$291,6,FALSE),H1278)","v":"53700287"},{"$f":"CONCATENATE(VLOOKUP(B1278,'School List'!$B$3:$D$291,3,FALSE),H1278)","v":"Marion County - M.S.D. WASHINGTON TOWNSHIP SCHOOL CORP0287"},{"$f":"IF('Line 1 Source'!B1278<>\"\",'Line 1 Source'!B1278,\"\")","v":"49"},{"$f":"IF('Line 1 Source'!C1278<>\"\",'Line 1 Source'!C1278,\"\")","v":"4"},{"$f":"IF('Line 1 Source'!D1278<>\"\",'Line 1 Source'!D1278,\"\")","v":"5370"},{"$f":"IF('Line 1 Source'!E1278<>\"\",'Line 1 Source'!E1278,\"\")","v":"0287"},{"$f":"IF('Line 1 Source'!F1278<>\"\",'Line 1 Source'!F1278,\"\")","v":7609821}]
[{"$f":"IF('Line 1 Source'!A1279<>\"\",'Line 1 Source'!A1279,\"\")","v":"2018"},"4945370",{"$f":"CONCATENATE(VLOOKUP(B1279,'School List'!$B$3:$H$291,6,FALSE),H1279)","v":"53701214"},{"$f":"CONCATENATE(VLOOKUP(B1279,'School List'!$B$3:$D$291,3,FALSE),H1279)","v":"Marion County - M.S.D. WASHINGTON TOWNSHIP SCHOOL CORP1214"},{"$f":"IF('Line 1 Source'!B1279<>\"\",'Line 1 Source'!B1279,\"\")","v":"49"},{"$f":"IF('Line 1 Source'!C1279<>\"\",'Line 1 Source'!C1279,\"\")","v":"4"},{"$f":"IF('Line 1 Source'!D1279<>\"\",'Line 1 Source'!D1279,\"\")","v":"5370"},{"$f":"IF('Line 1 Source'!E1279<>\"\",'Line 1 Source'!E1279,\"\")","v":"1214"},{"$f":"IF('Line 1 Source'!F1279<>\"\",'Line 1 Source'!F1279,\"\")","v":16601841}]
[{"$f":"IF('Line 1 Source'!A1280<>\"\",'Line 1 Source'!A1280,\"\")","v":"2018"},"4945370",{"$f":"CONCATENATE(VLOOKUP(B1280,'School List'!$B$3:$H$291,6,FALSE),H1280)","v":"53706301"},{"$f":"CONCATENATE(VLOOKUP(B1280,'School List'!$B$3:$D$291,3,FALSE),H1280)","v":"Marion County - M.S.D. WASHINGTON TOWNSHIP SCHOOL CORP6301"},{"$f":"IF('Line 1 Source'!B1280<>\"\",'Line 1 Source'!B1280,\"\")","v":"49"},{"$f":"IF('Line 1 Source'!C1280<>\"\",'Line 1 Source'!C1280,\"\")","v":"4"},{"$f":"IF('Line 1 Source'!D1280<>\"\",'Line 1 Source'!D1280,\"\")","v":"5370"},{"$f":"IF('Line 1 Source'!E1280<>\"\",'Line 1 Source'!E1280,\"\")","v":"6301"},{"$f":"IF('Line 1 Source'!F1280<>\"\",'Line 1 Source'!F1280,\"\")","v":8546323}]
[{"$f":"IF('Line 1 Source'!A1281<>\"\",'Line 1 Source'!A1281,\"\")","v":"2018"},"4945370",{"$f":"CONCATENATE(VLOOKUP(B1281,'School List'!$B$3:$H$291,6,FALSE),H1281)","v":"53706302"},{"$f":"CONCATENATE(VLOOKUP(B1281,'School List'!$B$3:$D$291,3,FALSE),H1281)","v":"Marion County - M.S.D. WASHINGTON TOWNSHIP SCHOOL CORP6302"},{"$f":"IF('Line 1 Source'!B1281<>\"\",'Line 1 Source'!B1281,\"\")","v":"49"},{"$f":"IF('Line 1 Source'!C1281<>\"\",'Line 1 Source'!C1281,\"\")","v":"4"},{"$f":"IF('Line 1 Source'!D1281<>\"\",'Line 1 Source'!D1281,\"\")","v":"5370"},{"$f":"IF('Line 1 Source'!E1281<>\"\",'Line 1 Source'!E1281,\"\")","v":"6302"},{"$f":"IF('Line 1 Source'!F1281<>\"\",'Line 1 Source'!F1281,\"\")","v":1670146}]
[{"$f":"IF('Line 1 Source'!A1282<>\"\",'Line 1 Source'!A1282,\"\")","v":"2018"},"4945375",{"$f":"CONCATENATE(VLOOKUP(B1282,'School List'!$B$3:$H$291,6,FALSE),H1282)","v":"53750022"},{"$f":"CONCATENATE(VLOOKUP(B1282,'School List'!$B$3:$D$291,3,FALSE),H1282)","v":"Marion County - M.S.D. WAYNE TOWNSHIP SCHOOL CORPORATION0022"},{"$f":"IF('Line 1 Source'!B1282<>\"\",'Line 1 Source'!B1282,\"\")","v":"49"},{"$f":"IF('Line 1 Source'!C1282<>\"\",'Line 1 Source'!C1282,\"\")","v":"4"},{"$f":"IF('Line 1 Source'!D1282<>\"\",'Line 1 Source'!D1282,\"\")","v":"5375"},{"$f":"IF('Line 1 Source'!E1282<>\"\",'Line 1 Source'!E1282,\"\")","v":"0022"},{"$f":"IF('Line 1 Source'!F1282<>\"\",'Line 1 Source'!F1282,\"\")","v":10300000}]
[{"$f":"IF('Line 1 Source'!A1283<>\"\",'Line 1 Source'!A1283,\"\")","v":"2018"},{"$f":"CONCATENATE(E1283,F1283,G1283)","v":"4945375"},{"$f":"CONCATENATE(VLOOKUP(B1283,'School List'!$B$3:$H$291,6,FALSE),H1283)","v":"53750101"},{"$f":"CONCATENATE(VLOOKUP(B1283,'School List'!$B$3:$D$291,3,FALSE),H1283)","v":"Marion County - M.S.D. WAYNE TOWNSHIP SCHOOL CORPORATION0101"},{"$f":"IF('Line 1 Source'!B1283<>\"\",'Line 1 Source'!B1283,\"\")","v":"49"},{"$f":"IF('Line 1 Source'!C1283<>\"\",'Line 1 Source'!C1283,\"\")","v":"4"},{"$f":"IF('Line 1 Source'!D1283<>\"\",'Line 1 Source'!D1283,\"\")","v":"5375"},{"$f":"IF('Line 1 Source'!E1283<>\"\",'Line 1 Source'!E1283,\"\")","v":"0101"},{"$f":"IF('Line 1 Source'!F1283<>\"\",'Line 1 Source'!F1283,\"\")","v":122695847}]
[{"$f":"IF('Line 1 Source'!A1284<>\"\",'Line 1 Source'!A1284,\"\")","v":"2018"},"4945375",{"$f":"CONCATENATE(VLOOKUP(B1284,'School List'!$B$3:$H$291,6,FALSE),H1284)","v":"53750180"},{"$f":"CONCATENATE(VLOOKUP(B1284,'School List'!$B$3:$D$291,3,FALSE),H1284)","v":"Marion County - M.S.D. WAYNE TOWNSHIP SCHOOL CORPORATION0180"},{"$f":"IF('Line 1 Source'!B1284<>\"\",'Line 1 Source'!B1284,\"\")","v":"49"},{"$f":"IF('Line 1 Source'!C1284<>\"\",'Line 1 Source'!C1284,\"\")","v":"4"},{"$f":"IF('Line 1 Source'!D1284<>\"\",'Line 1 Source'!D1284,\"\")","v":"5375"},{"$f":"IF('Line 1 Source'!E1284<>\"\",'Line 1 Source'!E1284,\"\")","v":"0180"},{"$f":"IF('Line 1 Source'!F1284<>\"\",'Line 1 Source'!F1284,\"\")","v":23654502}]
[{"$f":"IF('Line 1 Source'!A1285<>\"\",'Line 1 Source'!A1285,\"\")","v":"2018"},"4945375",{"$f":"CONCATENATE(VLOOKUP(B1285,'School List'!$B$3:$H$291,6,FALSE),H1285)","v":"53751214"},{"$f":"CONCATENATE(VLOOKUP(B1285,'School List'!$B$3:$D$291,3,FALSE),H1285)","v":"Marion County - M.S.D. WAYNE TOWNSHIP SCHOOL CORPORATION1214"},{"$f":"IF('Line 1 Source'!B1285<>\"\",'Line 1 Source'!B1285,\"\")","v":"49"},{"$f":"IF('Line 1 Source'!C1285<>\"\",'Line 1 Source'!C1285,\"\")","v":"4"},{"$f":"IF('Line 1 Source'!D1285<>\"\",'Line 1 Source'!D1285,\"\")","v":"5375"},{"$f":"IF('Line 1 Source'!E1285<>\"\",'Line 1 Source'!E1285,\"\")","v":"1214"},{"$f":"IF('Line 1 Source'!F1285<>\"\",'Line 1 Source'!F1285,\"\")","v":4546185}]
[{"$f":"IF('Line 1 Source'!A1286<>\"\",'Line 1 Source'!A1286,\"\")","v":"2018"},"4945375",{"$f":"CONCATENATE(VLOOKUP(B1286,'School List'!$B$3:$H$291,6,FALSE),H1286)","v":"53756301"},{"$f":"CONCATENATE(VLOOKUP(B1286,'School List'!$B$3:$D$291,3,FALSE),H1286)","v":"Marion County - M.S.D. WAYNE TOWNSHIP SCHOOL CORPORATION6301"},{"$f":"IF('Line 1 Source'!B1286<>\"\",'Line 1 Source'!B1286,\"\")","v":"49"},{"$f":"IF('Line 1 Source'!C1286<>\"\",'Line 1 Source'!C1286,\"\")","v":"4"},{"$f":"IF('Line 1 Source'!D1286<>\"\",'Line 1 Source'!D1286,\"\")","v":"5375"},{"$f":"IF('Line 1 Source'!E1286<>\"\",'Line 1 Source'!E1286,\"\")","v":"6301"},{"$f":"IF('Line 1 Source'!F1286<>\"\",'Line 1 Source'!F1286,\"\")","v":10124377}]
[{"$f":"IF('Line 1 Source'!A1287<>\"\",'Line 1 Source'!A1287,\"\")","v":"2018"},"4945375",{"$f":"CONCATENATE(VLOOKUP(B1287,'School List'!$B$3:$H$291,6,FALSE),H1287)","v":"53756302"},{"$f":"CONCATENATE(VLOOKUP(B1287,'School List'!$B$3:$D$291,3,FALSE),H1287)","v":"Marion County - M.S.D. WAYNE TOWNSHIP SCHOOL CORPORATION6302"},{"$f":"IF('Line 1 Source'!B1287<>\"\",'Line 1 Source'!B1287,\"\")","v":"49"},{"$f":"IF('Line 1 Source'!C1287<>\"\",'Line 1 Source'!C1287,\"\")","v":"4"},{"$f":"IF('Line 1 Source'!D1287<>\"\",'Line 1 Source'!D1287,\"\")","v":"5375"},{"$f":"IF('Line 1 Source'!E1287<>\"\",'Line 1 Source'!E1287,\"\")","v":"6302"},{"$f":"IF('Line 1 Source'!F1287<>\"\",'Line 1 Source'!F1287,\"\")","v":829786}]
[{"$f":"IF('Line 1 Source'!A1288<>\"\",'Line 1 Source'!A1288,\"\")","v":"2018"},"4945380",{"$f":"CONCATENATE(VLOOKUP(B1288,'School List'!$B$3:$H$291,6,FALSE),H1288)","v":"53800022"},{"$f":"CONCATENATE(VLOOKUP(B1288,'School List'!$B$3:$D$291,3,FALSE),H1288)","v":"Marion County - BEECH GROVE CITY SCHOOL CORPORATION0022"},{"$f":"IF('Line 1 Source'!B1288<>\"\",'Line 1 Source'!B1288,\"\")","v":"49"},{"$f":"IF('Line 1 Source'!C1288<>\"\",'Line 1 Source'!C1288,\"\")","v":"4"},{"$f":"IF('Line 1 Source'!D1288<>\"\",'Line 1 Source'!D1288,\"\")","v":"5380"},{"$f":"IF('Line 1 Source'!E1288<>\"\",'Line 1 Source'!E1288,\"\")","v":"0022"},{"$f":"IF('Line 1 Source'!F1288<>\"\",'Line 1 Source'!F1288,\"\")","v":2302661}]
[{"$f":"IF('Line 1 Source'!A1289<>\"\",'Line 1 Source'!A1289,\"\")","v":"2018"},"4945380",{"$f":"CONCATENATE(VLOOKUP(B1289,'School List'!$B$3:$H$291,6,FALSE),H1289)","v":"53800061"},{"$f":"CONCATENATE(VLOOKUP(B1289,'School List'!$B$3:$D$291,3,FALSE),H1289)","v":"Marion County - BEECH GROVE CITY SCHOOL CORPORATION0061"},{"$f":"IF('Line 1 Source'!B1289<>\"\",'Line 1 Source'!B1289,\"\")","v":"49"},{"$f":"IF('Line 1 Source'!C1289<>\"\",'Line 1 Source'!C1289,\"\")","v":"4"},{"$f":"IF('Line 1 Source'!D1289<>\"\",'Line 1 Source'!D1289,\"\")","v":"5380"},{"$f":"IF('Line 1 Source'!E1289<>\"\",'Line 1 Source'!E1289,\"\")","v":"0061"},{"$f":"IF('Line 1 Source'!F1289<>\"\",'Line 1 Source'!F1289,\"\")","v":90}]
[{"$f":"IF('Line 1 Source'!A1290<>\"\",'Line 1 Source'!A1290,\"\")","v":"2018"},"4945380",{"$f":"CONCATENATE(VLOOKUP(B1290,'School List'!$B$3:$H$291,6,FALSE),H1290)","v":"53800101"},{"$f":"CONCATENATE(VLOOKUP(B1290,'School List'!$B$3:$D$291,3,FALSE),H1290)","v":"Marion County - BEECH GROVE CITY SCHOOL CORPORATION0101"},{"$f":"IF('Line 1 Source'!B1290<>\"\",'Line 1 Source'!B1290,\"\")","v":"49"},{"$f":"IF('Line 1 Source'!C1290<>\"\",'Line 1 Source'!C1290,\"\")","v":"4"},{"$f":"IF('Line 1 Source'!D1290<>\"\",'Line 1 Source'!D1290,\"\")","v":"5380"},{"$f":"IF('Line 1 Source'!E1290<>\"\",'Line 1 Source'!E1290,\"\")","v":"0101"},{"$f":"IF('Line 1 Source'!F1290<>\"\",'Line 1 Source'!F1290,\"\")","v":23503892}]
[{"$f":"IF('Line 1 Source'!A1291<>\"\",'Line 1 Source'!A1291,\"\")","v":"2018"},"4945380",{"$f":"CONCATENATE(VLOOKUP(B1291,'School List'!$B$3:$H$291,6,FALSE),H1291)","v":"53800180"},{"$f":"CONCATENATE(VLOOKUP(B1291,'School List'!$B$3:$D$291,3,FALSE),H1291)","v":"Marion County - BEECH GROVE CITY SCHOOL CORPORATION0180"},{"$f":"IF('Line 1 Source'!B1291<>\"\",'Line 1 Source'!B1291,\"\")","v":"49"},{"$f":"IF('Line 1 Source'!C1291<>\"\",'Line 1 Source'!C1291,\"\")","v":"4"},{"$f":"IF('Line 1 Source'!D1291<>\"\",'Line 1 Source'!D1291,\"\")","v":"5380"},{"$f":"IF('Line 1 Source'!E1291<>\"\",'Line 1 Source'!E1291,\"\")","v":"0180"},{"$f":"IF('Line 1 Source'!F1291<>\"\",'Line 1 Source'!F1291,\"\")","v":5212059}]
[{"$f":"IF('Line 1 Source'!A1292<>\"\",'Line 1 Source'!A1292,\"\")","v":"2018"},"4945380",{"$f":"CONCATENATE(VLOOKUP(B1292,'School List'!$B$3:$H$291,6,FALSE),H1292)","v":"53800186"},{"$f":"CONCATENATE(VLOOKUP(B1292,'School List'!$B$3:$D$291,3,FALSE),H1292)","v":"Marion County - BEECH GROVE CITY SCHOOL CORPORATION0186"},{"$f":"IF('Line 1 Source'!B1292<>\"\",'Line 1 Source'!B1292,\"\")","v":"49"},{"$f":"IF('Line 1 Source'!C1292<>\"\",'Line 1 Source'!C1292,\"\")","v":"4"},{"$f":"IF('Line 1 Source'!D1292<>\"\",'Line 1 Source'!D1292,\"\")","v":"5380"},{"$f":"IF('Line 1 Source'!E1292<>\"\",'Line 1 Source'!E1292,\"\")","v":"0186"},{"$f":"IF('Line 1 Source'!F1292<>\"\",'Line 1 Source'!F1292,\"\")","v":466171}]
[{"$f":"IF('Line 1 Source'!A1293<>\"\",'Line 1 Source'!A1293,\"\")","v":"2018"},"4945380",{"$f":"CONCATENATE(VLOOKUP(B1293,'School List'!$B$3:$H$291,6,FALSE),H1293)","v":"53800287"},{"$f":"CONCATENATE(VLOOKUP(B1293,'School List'!$B$3:$D$291,3,FALSE),H1293)","v":"Marion County - BEECH GROVE CITY SCHOOL CORPORATION0287"},{"$f":"IF('Line 1 Source'!B1293<>\"\",'Line 1 Source'!B1293,\"\")","v":"49"},{"$f":"IF('Line 1 Source'!C1293<>\"\",'Line 1 Source'!C1293,\"\")","v":"4"},{"$f":"IF('Line 1 Source'!D1293<>\"\",'Line 1 Source'!D1293,\"\")","v":"5380"},{"$f":"IF('Line 1 Source'!E1293<>\"\",'Line 1 Source'!E1293,\"\")","v":"0287"},{"$f":"IF('Line 1 Source'!F1293<>\"\",'Line 1 Source'!F1293,\"\")","v":681000}]
[{"$f":"IF('Line 1 Source'!A1294<>\"\",'Line 1 Source'!A1294,\"\")","v":"2018"},"4945380",{"$f":"CONCATENATE(VLOOKUP(B1294,'School List'!$B$3:$H$291,6,FALSE),H1294)","v":"53801214"},{"$f":"CONCATENATE(VLOOKUP(B1294,'School List'!$B$3:$D$291,3,FALSE),H1294)","v":"Marion County - BEECH GROVE CITY SCHOOL CORPORATION1214"},{"$f":"IF('Line 1 Source'!B1294<>\"\",'Line 1 Source'!B1294,\"\")","v":"49"},{"$f":"IF('Line 1 Source'!C1294<>\"\",'Line 1 Source'!C1294,\"\")","v":"4"},{"$f":"IF('Line 1 Source'!D1294<>\"\",'Line 1 Source'!D1294,\"\")","v":"5380"},{"$f":"IF('Line 1 Source'!E1294<>\"\",'Line 1 Source'!E1294,\"\")","v":"1214"},{"$f":"IF('Line 1 Source'!F1294<>\"\",'Line 1 Source'!F1294,\"\")","v":916893}]
[{"$f":"IF('Line 1 Source'!A1295<>\"\",'Line 1 Source'!A1295,\"\")","v":"2018"},"4945380",{"$f":"CONCATENATE(VLOOKUP(B1295,'School List'!$B$3:$H$291,6,FALSE),H1295)","v":"53806301"},{"$f":"CONCATENATE(VLOOKUP(B1295,'School List'!$B$3:$D$291,3,FALSE),H1295)","v":"Marion County - BEECH GROVE CITY SCHOOL CORPORATION6301"},{"$f":"IF('Line 1 Source'!B1295<>\"\",'Line 1 Source'!B1295,\"\")","v":"49"},{"$f":"IF('Line 1 Source'!C1295<>\"\",'Line 1 Source'!C1295,\"\")","v":"4"},{"$f":"IF('Line 1 Source'!D1295<>\"\",'Line 1 Source'!D1295,\"\")","v":"5380"},{"$f":"IF('Line 1 Source'!E1295<>\"\",'Line 1 Source'!E1295,\"\")","v":"6301"},{"$f":"IF('Line 1 Source'!F1295<>\"\",'Line 1 Source'!F1295,\"\")","v":0}]
[{"$f":"IF('Line 1 Source'!A1296<>\"\",'Line 1 Source'!A1296,\"\")","v":"2018"},"4945380",{"$f":"CONCATENATE(VLOOKUP(B1296,'School List'!$B$3:$H$291,6,FALSE),H1296)","v":"53806302"},{"$f":"CONCATENATE(VLOOKUP(B1296,'School List'!$B$3:$D$291,3,FALSE),H1296)","v":"Marion County - BEECH GROVE CITY SCHOOL CORPORATION6302"},{"$f":"IF('Line 1 Source'!B1296<>\"\",'Line 1 Source'!B1296,\"\")","v":"49"},{"$f":"IF('Line 1 Source'!C1296<>\"\",'Line 1 Source'!C1296,\"\")","v":"4"},{"$f":"IF('Line 1 Source'!D1296<>\"\",'Line 1 Source'!D1296,\"\")","v":"5380"},{"$f":"IF('Line 1 Source'!E1296<>\"\",'Line 1 Source'!E1296,\"\")","v":"6302"},{"$f":"IF('Line 1 Source'!F1296<>\"\",'Line 1 Source'!F1296,\"\")","v":3201}]
[{"$f":"IF('Line 1 Source'!A1297<>\"\",'Line 1 Source'!A1297,\"\")","v":"2018"},"4945385",{"$f":"CONCATENATE(VLOOKUP(B1297,'School List'!$B$3:$H$291,6,FALSE),H1297)","v":"53850101"},{"$f":"CONCATENATE(VLOOKUP(B1297,'School List'!$B$3:$D$291,3,FALSE),H1297)","v":"Marion County - INDIANAPOLIS PUBLIC SCHOOL CORPORATION0101"},{"$f":"IF('Line 1 Source'!B1297<>\"\",'Line 1 Source'!B1297,\"\")","v":"49"},{"$f":"IF('Line 1 Source'!C1297<>\"\",'Line 1 Source'!C1297,\"\")","v":"4"},{"$f":"IF('Line 1 Source'!D1297<>\"\",'Line 1 Source'!D1297,\"\")","v":"5385"},{"$f":"IF('Line 1 Source'!E1297<>\"\",'Line 1 Source'!E1297,\"\")","v":"0101"},{"$f":"IF('Line 1 Source'!F1297<>\"\",'Line 1 Source'!F1297,\"\")","v":260000000}]
[{"$f":"IF('Line 1 Source'!A1298<>\"\",'Line 1 Source'!A1298,\"\")","v":"2018"},"4945385",{"$f":"CONCATENATE(VLOOKUP(B1298,'School List'!$B$3:$H$291,6,FALSE),H1298)","v":"53850180"},{"$f":"CONCATENATE(VLOOKUP(B1298,'School List'!$B$3:$D$291,3,FALSE),H1298)","v":"Marion County - INDIANAPOLIS PUBLIC SCHOOL CORPORATION0180"},{"$f":"IF('Line 1 Source'!B1298<>\"\",'Line 1 Source'!B1298,\"\")","v":"49"},{"$f":"IF('Line 1 Source'!C1298<>\"\",'Line 1 Source'!C1298,\"\")","v":"4"},{"$f":"IF('Line 1 Source'!D1298<>\"\",'Line 1 Source'!D1298,\"\")","v":"5385"},{"$f":"IF('Line 1 Source'!E1298<>\"\",'Line 1 Source'!E1298,\"\")","v":"0180"},{"$f":"IF('Line 1 Source'!F1298<>\"\",'Line 1 Source'!F1298,\"\")","v":33246325}]
[{"$f":"IF('Line 1 Source'!A1299<>\"\",'Line 1 Source'!A1299,\"\")","v":"2018"},"4945385",{"$f":"CONCATENATE(VLOOKUP(B1299,'School List'!$B$3:$H$291,6,FALSE),H1299)","v":"53850186"},{"$f":"CONCATENATE(VLOOKUP(B1299,'School List'!$B$3:$D$291,3,FALSE),H1299)","v":"Marion County - INDIANAPOLIS PUBLIC SCHOOL CORPORATION0186"},{"$f":"IF('Line 1 Source'!B1299<>\"\",'Line 1 Source'!B1299,\"\")","v":"49"},{"$f":"IF('Line 1 Source'!C1299<>\"\",'Line 1 Source'!C1299,\"\")","v":"4"},{"$f":"IF('Line 1 Source'!D1299<>\"\",'Line 1 Source'!D1299,\"\")","v":"5385"},{"$f":"IF('Line 1 Source'!E1299<>\"\",'Line 1 Source'!E1299,\"\")","v":"0186"},{"$f":"IF('Line 1 Source'!F1299<>\"\",'Line 1 Source'!F1299,\"\")","v":2885944}]
[{"$f":"IF('Line 1 Source'!A1300<>\"\",'Line 1 Source'!A1300,\"\")","v":"2018"},"4945385",{"$f":"CONCATENATE(VLOOKUP(B1300,'School List'!$B$3:$H$291,6,FALSE),H1300)","v":"53850187"},{"$f":"CONCATENATE(VLOOKUP(B1300,'School List'!$B$3:$D$291,3,FALSE),H1300)","v":"Marion County - INDIANAPOLIS PUBLIC SCHOOL CORPORATION0187"},{"$f":"IF('Line 1 Source'!B1300<>\"\",'Line 1 Source'!B1300,\"\")","v":"49"},{"$f":"IF('Line 1 Source'!C1300<>\"\",'Line 1 Source'!C1300,\"\")","v":"4"},{"$f":"IF('Line 1 Source'!D1300<>\"\",'Line 1 Source'!D1300,\"\")","v":"5385"},{"$f":"IF('Line 1 Source'!E1300<>\"\",'Line 1 Source'!E1300,\"\")","v":"0187"},{"$f":"IF('Line 1 Source'!F1300<>\"\",'Line 1 Source'!F1300,\"\")","v":18065000}]
[{"$f":"IF('Line 1 Source'!A1301<>\"\",'Line 1 Source'!A1301,\"\")","v":"2018"},"4945385",{"$f":"CONCATENATE(VLOOKUP(B1301,'School List'!$B$3:$H$291,6,FALSE),H1301)","v":"53851214"},{"$f":"CONCATENATE(VLOOKUP(B1301,'School List'!$B$3:$D$291,3,FALSE),H1301)","v":"Marion County - INDIANAPOLIS PUBLIC SCHOOL CORPORATION1214"},{"$f":"IF('Line 1 Source'!B1301<>\"\",'Line 1 Source'!B1301,\"\")","v":"49"},{"$f":"IF('Line 1 Source'!C1301<>\"\",'Line 1 Source'!C1301,\"\")","v":"4"},{"$f":"IF('Line 1 Source'!D1301<>\"\",'Line 1 Source'!D1301,\"\")","v":"5385"},{"$f":"IF('Line 1 Source'!E1301<>\"\",'Line 1 Source'!E1301,\"\")","v":"1214"},{"$f":"IF('Line 1 Source'!F1301<>\"\",'Line 1 Source'!F1301,\"\")","v":45510656}]
[{"$f":"IF('Line 1 Source'!A1302<>\"\",'Line 1 Source'!A1302,\"\")","v":"2018"},"4945385",{"$f":"CONCATENATE(VLOOKUP(B1302,'School List'!$B$3:$H$291,6,FALSE),H1302)","v":"53856301"},{"$f":"CONCATENATE(VLOOKUP(B1302,'School List'!$B$3:$D$291,3,FALSE),H1302)","v":"Marion County - INDIANAPOLIS PUBLIC SCHOOL CORPORATION6301"},{"$f":"IF('Line 1 Source'!B1302<>\"\",'Line 1 Source'!B1302,\"\")","v":"49"},{"$f":"IF('Line 1 Source'!C1302<>\"\",'Line 1 Source'!C1302,\"\")","v":"4"},{"$f":"IF('Line 1 Source'!D1302<>\"\",'Line 1 Source'!D1302,\"\")","v":"5385"},{"$f":"IF('Line 1 Source'!E1302<>\"\",'Line 1 Source'!E1302,\"\")","v":"6301"},{"$f":"IF('Line 1 Source'!F1302<>\"\",'Line 1 Source'!F1302,\"\")","v":22007641}]
[{"$f":"IF('Line 1 Source'!A1303<>\"\",'Line 1 Source'!A1303,\"\")","v":"2018"},"4945385",{"$f":"CONCATENATE(VLOOKUP(B1303,'School List'!$B$3:$H$291,6,FALSE),H1303)","v":"53856302"},{"$f":"CONCATENATE(VLOOKUP(B1303,'School List'!$B$3:$D$291,3,FALSE),H1303)","v":"Marion County - INDIANAPOLIS PUBLIC SCHOOL CORPORATION6302"},{"$f":"IF('Line 1 Source'!B1303<>\"\",'Line 1 Source'!B1303,\"\")","v":"49"},{"$f":"IF('Line 1 Source'!C1303<>\"\",'Line 1 Source'!C1303,\"\")","v":"4"},{"$f":"IF('Line 1 Source'!D1303<>\"\",'Line 1 Source'!D1303,\"\")","v":"5385"},{"$f":"IF('Line 1 Source'!E1303<>\"\",'Line 1 Source'!E1303,\"\")","v":"6302"},{"$f":"IF('Line 1 Source'!F1303<>\"\",'Line 1 Source'!F1303,\"\")","v":10847394}]
[{"$f":"IF('Line 1 Source'!A1304<>\"\",'Line 1 Source'!A1304,\"\")","v":"2018"},"4945400",{"$f":"CONCATENATE(VLOOKUP(B1304,'School List'!$B$3:$H$291,6,FALSE),H1304)","v":"54000022"},{"$f":"CONCATENATE(VLOOKUP(B1304,'School List'!$B$3:$D$291,3,FALSE),H1304)","v":"Marion County - SPEEDWAY CITY SCHOOL CORPORATION0022"},{"$f":"IF('Line 1 Source'!B1304<>\"\",'Line 1 Source'!B1304,\"\")","v":"49"},{"$f":"IF('Line 1 Source'!C1304<>\"\",'Line 1 Source'!C1304,\"\")","v":"4"},{"$f":"IF('Line 1 Source'!D1304<>\"\",'Line 1 Source'!D1304,\"\")","v":"5400"},{"$f":"IF('Line 1 Source'!E1304<>\"\",'Line 1 Source'!E1304,\"\")","v":"0022"},{"$f":"IF('Line 1 Source'!F1304<>\"\",'Line 1 Source'!F1304,\"\")","v":4081800}]
[{"$f":"IF('Line 1 Source'!A1305<>\"\",'Line 1 Source'!A1305,\"\")","v":"2018"},"4945400",{"$f":"CONCATENATE(VLOOKUP(B1305,'School List'!$B$3:$H$291,6,FALSE),H1305)","v":"54000061"},{"$f":"CONCATENATE(VLOOKUP(B1305,'School List'!$B$3:$D$291,3,FALSE),H1305)","v":"Marion County - SPEEDWAY CITY SCHOOL CORPORATION0061"},{"$f":"IF('Line 1 Source'!B1305<>\"\",'Line 1 Source'!B1305,\"\")","v":"49"},{"$f":"IF('Line 1 Source'!C1305<>\"\",'Line 1 Source'!C1305,\"\")","v":"4"},{"$f":"IF('Line 1 Source'!D1305<>\"\",'Line 1 Source'!D1305,\"\")","v":"5400"},{"$f":"IF('Line 1 Source'!E1305<>\"\",'Line 1 Source'!E1305,\"\")","v":"0061"},{"$f":"IF('Line 1 Source'!F1305<>\"\",'Line 1 Source'!F1305,\"\")","v":80000}]
[{"$f":"IF('Line 1 Source'!A1306<>\"\",'Line 1 Source'!A1306,\"\")","v":"2018"},"4945400",{"$f":"CONCATENATE(VLOOKUP(B1306,'School List'!$B$3:$H$291,6,FALSE),H1306)","v":"54000101"},{"$f":"CONCATENATE(VLOOKUP(B1306,'School List'!$B$3:$D$291,3,FALSE),H1306)","v":"Marion County - SPEEDWAY CITY SCHOOL CORPORATION0101"},{"$f":"IF('Line 1 Source'!B1306<>\"\",'Line 1 Source'!B1306,\"\")","v":"49"},{"$f":"IF('Line 1 Source'!C1306<>\"\",'Line 1 Source'!C1306,\"\")","v":"4"},{"$f":"IF('Line 1 Source'!D1306<>\"\",'Line 1 Source'!D1306,\"\")","v":"5400"},{"$f":"IF('Line 1 Source'!E1306<>\"\",'Line 1 Source'!E1306,\"\")","v":"0101"},{"$f":"IF('Line 1 Source'!F1306<>\"\",'Line 1 Source'!F1306,\"\")","v":15203125}]
[{"$f":"IF('Line 1 Source'!A1307<>\"\",'Line 1 Source'!A1307,\"\")","v":"2018"},"4945400",{"$f":"CONCATENATE(VLOOKUP(B1307,'School List'!$B$3:$H$291,6,FALSE),H1307)","v":"54000180"},{"$f":"CONCATENATE(VLOOKUP(B1307,'School List'!$B$3:$D$291,3,FALSE),H1307)","v":"Marion County - SPEEDWAY CITY SCHOOL CORPORATION0180"},{"$f":"IF('Line 1 Source'!B1307<>\"\",'Line 1 Source'!B1307,\"\")","v":"49"},{"$f":"IF('Line 1 Source'!C1307<>\"\",'Line 1 Source'!C1307,\"\")","v":"4"},{"$f":"IF('Line 1 Source'!D1307<>\"\",'Line 1 Source'!D1307,\"\")","v":"5400"},{"$f":"IF('Line 1 Source'!E1307<>\"\",'Line 1 Source'!E1307,\"\")","v":"0180"},{"$f":"IF('Line 1 Source'!F1307<>\"\",'Line 1 Source'!F1307,\"\")","v":10684}]
[{"$f":"IF('Line 1 Source'!A1308<>\"\",'Line 1 Source'!A1308,\"\")","v":"2018"},"4945400",{"$f":"CONCATENATE(VLOOKUP(B1308,'School List'!$B$3:$H$291,6,FALSE),H1308)","v":"54001214"},{"$f":"CONCATENATE(VLOOKUP(B1308,'School List'!$B$3:$D$291,3,FALSE),H1308)","v":"Marion County - SPEEDWAY CITY SCHOOL CORPORATION1214"},{"$f":"IF('Line 1 Source'!B1308<>\"\",'Line 1 Source'!B1308,\"\")","v":"49"},{"$f":"IF('Line 1 Source'!C1308<>\"\",'Line 1 Source'!C1308,\"\")","v":"4"},{"$f":"IF('Line 1 Source'!D1308<>\"\",'Line 1 Source'!D1308,\"\")","v":"5400"},{"$f":"IF('Line 1 Source'!E1308<>\"\",'Line 1 Source'!E1308,\"\")","v":"1214"},{"$f":"IF('Line 1 Source'!F1308<>\"\",'Line 1 Source'!F1308,\"\")","v":2493829}]
[{"$f":"IF('Line 1 Source'!A1309<>\"\",'Line 1 Source'!A1309,\"\")","v":"2018"},"4945400",{"$f":"CONCATENATE(VLOOKUP(B1309,'School List'!$B$3:$H$291,6,FALSE),H1309)","v":"54006301"},{"$f":"CONCATENATE(VLOOKUP(B1309,'School List'!$B$3:$D$291,3,FALSE),H1309)","v":"Marion County - SPEEDWAY CITY SCHOOL CORPORATION6301"},{"$f":"IF('Line 1 Source'!B1309<>\"\",'Line 1 Source'!B1309,\"\")","v":"49"},{"$f":"IF('Line 1 Source'!C1309<>\"\",'Line 1 Source'!C1309,\"\")","v":"4"},{"$f":"IF('Line 1 Source'!D1309<>\"\",'Line 1 Source'!D1309,\"\")","v":"5400"},{"$f":"IF('Line 1 Source'!E1309<>\"\",'Line 1 Source'!E1309,\"\")","v":"6301"},{"$f":"IF('Line 1 Source'!F1309<>\"\",'Line 1 Source'!F1309,\"\")","v":109630}]
[{"$f":"IF('Line 1 Source'!A1310<>\"\",'Line 1 Source'!A1310,\"\")","v":"2018"},"5045455",{"$f":"CONCATENATE(VLOOKUP(B1310,'School List'!$B$3:$H$291,6,FALSE),H1310)","v":"54550061"},{"$f":"CONCATENATE(VLOOKUP(B1310,'School List'!$B$3:$D$291,3,FALSE),H1310)","v":"Marshall County - CULVER COMMUNITY SCHOOL CORPORATION0061"},{"$f":"IF('Line 1 Source'!B1310<>\"\",'Line 1 Source'!B1310,\"\")","v":"50"},{"$f":"IF('Line 1 Source'!C1310<>\"\",'Line 1 Source'!C1310,\"\")","v":"4"},{"$f":"IF('Line 1 Source'!D1310<>\"\",'Line 1 Source'!D1310,\"\")","v":"5455"},{"$f":"IF('Line 1 Source'!E1310<>\"\",'Line 1 Source'!E1310,\"\")","v":"0061"},{"$f":"IF('Line 1 Source'!F1310<>\"\",'Line 1 Source'!F1310,\"\")","v":393392}]
[{"$f":"IF('Line 1 Source'!A1311<>\"\",'Line 1 Source'!A1311,\"\")","v":"2018"},"5045455",{"$f":"CONCATENATE(VLOOKUP(B1311,'School List'!$B$3:$H$291,6,FALSE),H1311)","v":"54550101"},{"$f":"CONCATENATE(VLOOKUP(B1311,'School List'!$B$3:$D$291,3,FALSE),H1311)","v":"Marshall County - CULVER COMMUNITY SCHOOL CORPORATION0101"},{"$f":"IF('Line 1 Source'!B1311<>\"\",'Line 1 Source'!B1311,\"\")","v":"50"},{"$f":"IF('Line 1 Source'!C1311<>\"\",'Line 1 Source'!C1311,\"\")","v":"4"},{"$f":"IF('Line 1 Source'!D1311<>\"\",'Line 1 Source'!D1311,\"\")","v":"5455"},{"$f":"IF('Line 1 Source'!E1311<>\"\",'Line 1 Source'!E1311,\"\")","v":"0101"},{"$f":"IF('Line 1 Source'!F1311<>\"\",'Line 1 Source'!F1311,\"\")","v":5774996}]
[{"$f":"IF('Line 1 Source'!A1312<>\"\",'Line 1 Source'!A1312,\"\")","v":"2018"},"5045455",{"$f":"CONCATENATE(VLOOKUP(B1312,'School List'!$B$3:$H$291,6,FALSE),H1312)","v":"54550180"},{"$f":"CONCATENATE(VLOOKUP(B1312,'School List'!$B$3:$D$291,3,FALSE),H1312)","v":"Marshall County - CULVER COMMUNITY SCHOOL CORPORATION0180"},{"$f":"IF('Line 1 Source'!B1312<>\"\",'Line 1 Source'!B1312,\"\")","v":"50"},{"$f":"IF('Line 1 Source'!C1312<>\"\",'Line 1 Source'!C1312,\"\")","v":"4"},{"$f":"IF('Line 1 Source'!D1312<>\"\",'Line 1 Source'!D1312,\"\")","v":"5455"},{"$f":"IF('Line 1 Source'!E1312<>\"\",'Line 1 Source'!E1312,\"\")","v":"0180"},{"$f":"IF('Line 1 Source'!F1312<>\"\",'Line 1 Source'!F1312,\"\")","v":1742887}]
[{"$f":"IF('Line 1 Source'!A1313<>\"\",'Line 1 Source'!A1313,\"\")","v":"2018"},"5045455",{"$f":"CONCATENATE(VLOOKUP(B1313,'School List'!$B$3:$H$291,6,FALSE),H1313)","v":"54550186"},{"$f":"CONCATENATE(VLOOKUP(B1313,'School List'!$B$3:$D$291,3,FALSE),H1313)","v":"Marshall County - CULVER COMMUNITY SCHOOL CORPORATION0186"},{"$f":"IF('Line 1 Source'!B1313<>\"\",'Line 1 Source'!B1313,\"\")","v":"50"},{"$f":"IF('Line 1 Source'!C1313<>\"\",'Line 1 Source'!C1313,\"\")","v":"4"},{"$f":"IF('Line 1 Source'!D1313<>\"\",'Line 1 Source'!D1313,\"\")","v":"5455"},{"$f":"IF('Line 1 Source'!E1313<>\"\",'Line 1 Source'!E1313,\"\")","v":"0186"},{"$f":"IF('Line 1 Source'!F1313<>\"\",'Line 1 Source'!F1313,\"\")","v":273515}]
[{"$f":"IF('Line 1 Source'!A1314<>\"\",'Line 1 Source'!A1314,\"\")","v":"2018"},"5045455",{"$f":"CONCATENATE(VLOOKUP(B1314,'School List'!$B$3:$H$291,6,FALSE),H1314)","v":"54551214"},{"$f":"CONCATENATE(VLOOKUP(B1314,'School List'!$B$3:$D$291,3,FALSE),H1314)","v":"Marshall County - CULVER COMMUNITY SCHOOL CORPORATION1214"},{"$f":"IF('Line 1 Source'!B1314<>\"\",'Line 1 Source'!B1314,\"\")","v":"50"},{"$f":"IF('Line 1 Source'!C1314<>\"\",'Line 1 Source'!C1314,\"\")","v":"4"},{"$f":"IF('Line 1 Source'!D1314<>\"\",'Line 1 Source'!D1314,\"\")","v":"5455"},{"$f":"IF('Line 1 Source'!E1314<>\"\",'Line 1 Source'!E1314,\"\")","v":"1214"},{"$f":"IF('Line 1 Source'!F1314<>\"\",'Line 1 Source'!F1314,\"\")","v":1583071}]
[{"$f":"IF('Line 1 Source'!A1315<>\"\",'Line 1 Source'!A1315,\"\")","v":"2018"},"5045455",{"$f":"CONCATENATE(VLOOKUP(B1315,'School List'!$B$3:$H$291,6,FALSE),H1315)","v":"54556301"},{"$f":"CONCATENATE(VLOOKUP(B1315,'School List'!$B$3:$D$291,3,FALSE),H1315)","v":"Marshall County - CULVER COMMUNITY SCHOOL CORPORATION6301"},{"$f":"IF('Line 1 Source'!B1315<>\"\",'Line 1 Source'!B1315,\"\")","v":"50"},{"$f":"IF('Line 1 Source'!C1315<>\"\",'Line 1 Source'!C1315,\"\")","v":"4"},{"$f":"IF('Line 1 Source'!D1315<>\"\",'Line 1 Source'!D1315,\"\")","v":"5455"},{"$f":"IF('Line 1 Source'!E1315<>\"\",'Line 1 Source'!E1315,\"\")","v":"6301"},{"$f":"IF('Line 1 Source'!F1315<>\"\",'Line 1 Source'!F1315,\"\")","v":1275000}]
[{"$f":"IF('Line 1 Source'!A1316<>\"\",'Line 1 Source'!A1316,\"\")","v":"2018"},"5045455",{"$f":"CONCATENATE(VLOOKUP(B1316,'School List'!$B$3:$H$291,6,FALSE),H1316)","v":"54556302"},{"$f":"CONCATENATE(VLOOKUP(B1316,'School List'!$B$3:$D$291,3,FALSE),H1316)","v":"Marshall County - CULVER COMMUNITY SCHOOL CORPORATION6302"},{"$f":"IF('Line 1 Source'!B1316<>\"\",'Line 1 Source'!B1316,\"\")","v":"50"},{"$f":"IF('Line 1 Source'!C1316<>\"\",'Line 1 Source'!C1316,\"\")","v":"4"},{"$f":"IF('Line 1 Source'!D1316<>\"\",'Line 1 Source'!D1316,\"\")","v":"5455"},{"$f":"IF('Line 1 Source'!E1316<>\"\",'Line 1 Source'!E1316,\"\")","v":"6302"},{"$f":"IF('Line 1 Source'!F1316<>\"\",'Line 1 Source'!F1316,\"\")","v":350000}]
[{"$f":"IF('Line 1 Source'!A1317<>\"\",'Line 1 Source'!A1317,\"\")","v":"2018"},"5045470",{"$f":"CONCATENATE(VLOOKUP(B1317,'School List'!$B$3:$H$291,6,FALSE),H1317)","v":"54700101"},{"$f":"CONCATENATE(VLOOKUP(B1317,'School List'!$B$3:$D$291,3,FALSE),H1317)","v":"Marshall County - ARGOS COMMUNITY SCHOOL CORPORATION0101"},{"$f":"IF('Line 1 Source'!B1317<>\"\",'Line 1 Source'!B1317,\"\")","v":"50"},{"$f":"IF('Line 1 Source'!C1317<>\"\",'Line 1 Source'!C1317,\"\")","v":"4"},{"$f":"IF('Line 1 Source'!D1317<>\"\",'Line 1 Source'!D1317,\"\")","v":"5470"},{"$f":"IF('Line 1 Source'!E1317<>\"\",'Line 1 Source'!E1317,\"\")","v":"0101"},{"$f":"IF('Line 1 Source'!F1317<>\"\",'Line 1 Source'!F1317,\"\")","v":3995295}]
[{"$f":"IF('Line 1 Source'!A1318<>\"\",'Line 1 Source'!A1318,\"\")","v":"2018"},"5045470",{"$f":"CONCATENATE(VLOOKUP(B1318,'School List'!$B$3:$H$291,6,FALSE),H1318)","v":"54700180"},{"$f":"CONCATENATE(VLOOKUP(B1318,'School List'!$B$3:$D$291,3,FALSE),H1318)","v":"Marshall County - ARGOS COMMUNITY SCHOOL CORPORATION0180"},{"$f":"IF('Line 1 Source'!B1318<>\"\",'Line 1 Source'!B1318,\"\")","v":"50"},{"$f":"IF('Line 1 Source'!C1318<>\"\",'Line 1 Source'!C1318,\"\")","v":"4"},{"$f":"IF('Line 1 Source'!D1318<>\"\",'Line 1 Source'!D1318,\"\")","v":"5470"},{"$f":"IF('Line 1 Source'!E1318<>\"\",'Line 1 Source'!E1318,\"\")","v":"0180"},{"$f":"IF('Line 1 Source'!F1318<>\"\",'Line 1 Source'!F1318,\"\")","v":906472}]
[{"$f":"IF('Line 1 Source'!A1319<>\"\",'Line 1 Source'!A1319,\"\")","v":"2018"},"5045470",{"$f":"CONCATENATE(VLOOKUP(B1319,'School List'!$B$3:$H$291,6,FALSE),H1319)","v":"54700186"},{"$f":"CONCATENATE(VLOOKUP(B1319,'School List'!$B$3:$D$291,3,FALSE),H1319)","v":"Marshall County - ARGOS COMMUNITY SCHOOL CORPORATION0186"},{"$f":"IF('Line 1 Source'!B1319<>\"\",'Line 1 Source'!B1319,\"\")","v":"50"},{"$f":"IF('Line 1 Source'!C1319<>\"\",'Line 1 Source'!C1319,\"\")","v":"4"},{"$f":"IF('Line 1 Source'!D1319<>\"\",'Line 1 Source'!D1319,\"\")","v":"5470"},{"$f":"IF('Line 1 Source'!E1319<>\"\",'Line 1 Source'!E1319,\"\")","v":"0186"},{"$f":"IF('Line 1 Source'!F1319<>\"\",'Line 1 Source'!F1319,\"\")","v":46654}]
[{"$f":"IF('Line 1 Source'!A1320<>\"\",'Line 1 Source'!A1320,\"\")","v":"2018"},"5045470",{"$f":"CONCATENATE(VLOOKUP(B1320,'School List'!$B$3:$H$291,6,FALSE),H1320)","v":"54701214"},{"$f":"CONCATENATE(VLOOKUP(B1320,'School List'!$B$3:$D$291,3,FALSE),H1320)","v":"Marshall County - ARGOS COMMUNITY SCHOOL CORPORATION1214"},{"$f":"IF('Line 1 Source'!B1320<>\"\",'Line 1 Source'!B1320,\"\")","v":"50"},{"$f":"IF('Line 1 Source'!C1320<>\"\",'Line 1 Source'!C1320,\"\")","v":"4"},{"$f":"IF('Line 1 Source'!D1320<>\"\",'Line 1 Source'!D1320,\"\")","v":"5470"},{"$f":"IF('Line 1 Source'!E1320<>\"\",'Line 1 Source'!E1320,\"\")","v":"1214"},{"$f":"IF('Line 1 Source'!F1320<>\"\",'Line 1 Source'!F1320,\"\")","v":710135}]
[{"$f":"IF('Line 1 Source'!A1321<>\"\",'Line 1 Source'!A1321,\"\")","v":"2018"},"5045470",{"$f":"CONCATENATE(VLOOKUP(B1321,'School List'!$B$3:$H$291,6,FALSE),H1321)","v":"54706301"},{"$f":"CONCATENATE(VLOOKUP(B1321,'School List'!$B$3:$D$291,3,FALSE),H1321)","v":"Marshall County - ARGOS COMMUNITY SCHOOL CORPORATION6301"},{"$f":"IF('Line 1 Source'!B1321<>\"\",'Line 1 Source'!B1321,\"\")","v":"50"},{"$f":"IF('Line 1 Source'!C1321<>\"\",'Line 1 Source'!C1321,\"\")","v":"4"},{"$f":"IF('Line 1 Source'!D1321<>\"\",'Line 1 Source'!D1321,\"\")","v":"5470"},{"$f":"IF('Line 1 Source'!E1321<>\"\",'Line 1 Source'!E1321,\"\")","v":"6301"},{"$f":"IF('Line 1 Source'!F1321<>\"\",'Line 1 Source'!F1321,\"\")","v":430000}]
[{"$f":"IF('Line 1 Source'!A1322<>\"\",'Line 1 Source'!A1322,\"\")","v":"2018"},"5045470",{"$f":"CONCATENATE(VLOOKUP(B1322,'School List'!$B$3:$H$291,6,FALSE),H1322)","v":"54706302"},{"$f":"CONCATENATE(VLOOKUP(B1322,'School List'!$B$3:$D$291,3,FALSE),H1322)","v":"Marshall County - ARGOS COMMUNITY SCHOOL CORPORATION6302"},{"$f":"IF('Line 1 Source'!B1322<>\"\",'Line 1 Source'!B1322,\"\")","v":"50"},{"$f":"IF('Line 1 Source'!C1322<>\"\",'Line 1 Source'!C1322,\"\")","v":"4"},{"$f":"IF('Line 1 Source'!D1322<>\"\",'Line 1 Source'!D1322,\"\")","v":"5470"},{"$f":"IF('Line 1 Source'!E1322<>\"\",'Line 1 Source'!E1322,\"\")","v":"6302"},{"$f":"IF('Line 1 Source'!F1322<>\"\",'Line 1 Source'!F1322,\"\")","v":73856}]
[{"$f":"IF('Line 1 Source'!A1323<>\"\",'Line 1 Source'!A1323,\"\")","v":"2018"},"5045480",{"$f":"CONCATENATE(VLOOKUP(B1323,'School List'!$B$3:$H$291,6,FALSE),H1323)","v":"54800101"},{"$f":"CONCATENATE(VLOOKUP(B1323,'School List'!$B$3:$D$291,3,FALSE),H1323)","v":"Marshall County - BREMEN PUBLIC SCHOOL CORPORATION0101"},{"$f":"IF('Line 1 Source'!B1323<>\"\",'Line 1 Source'!B1323,\"\")","v":"50"},{"$f":"IF('Line 1 Source'!C1323<>\"\",'Line 1 Source'!C1323,\"\")","v":"4"},{"$f":"IF('Line 1 Source'!D1323<>\"\",'Line 1 Source'!D1323,\"\")","v":"5480"},{"$f":"IF('Line 1 Source'!E1323<>\"\",'Line 1 Source'!E1323,\"\")","v":"0101"},{"$f":"IF('Line 1 Source'!F1323<>\"\",'Line 1 Source'!F1323,\"\")","v":9915566}]
[{"$f":"IF('Line 1 Source'!A1324<>\"\",'Line 1 Source'!A1324,\"\")","v":"2018"},"5045480",{"$f":"CONCATENATE(VLOOKUP(B1324,'School List'!$B$3:$H$291,6,FALSE),H1324)","v":"54800180"},{"$f":"CONCATENATE(VLOOKUP(B1324,'School List'!$B$3:$D$291,3,FALSE),H1324)","v":"Marshall County - BREMEN PUBLIC SCHOOL CORPORATION0180"},{"$f":"IF('Line 1 Source'!B1324<>\"\",'Line 1 Source'!B1324,\"\")","v":"50"},{"$f":"IF('Line 1 Source'!C1324<>\"\",'Line 1 Source'!C1324,\"\")","v":"4"},{"$f":"IF('Line 1 Source'!D1324<>\"\",'Line 1 Source'!D1324,\"\")","v":"5480"},{"$f":"IF('Line 1 Source'!E1324<>\"\",'Line 1 Source'!E1324,\"\")","v":"0180"},{"$f":"IF('Line 1 Source'!F1324<>\"\",'Line 1 Source'!F1324,\"\")","v":1271000}]
[{"$f":"IF('Line 1 Source'!A1325<>\"\",'Line 1 Source'!A1325,\"\")","v":"2018"},"5045480",{"$f":"CONCATENATE(VLOOKUP(B1325,'School List'!$B$3:$H$291,6,FALSE),H1325)","v":"54800186"},{"$f":"CONCATENATE(VLOOKUP(B1325,'School List'!$B$3:$D$291,3,FALSE),H1325)","v":"Marshall County - BREMEN PUBLIC SCHOOL CORPORATION0186"},{"$f":"IF('Line 1 Source'!B1325<>\"\",'Line 1 Source'!B1325,\"\")","v":"50"},{"$f":"IF('Line 1 Source'!C1325<>\"\",'Line 1 Source'!C1325,\"\")","v":"4"},{"$f":"IF('Line 1 Source'!D1325<>\"\",'Line 1 Source'!D1325,\"\")","v":"5480"},{"$f":"IF('Line 1 Source'!E1325<>\"\",'Line 1 Source'!E1325,\"\")","v":"0186"},{"$f":"IF('Line 1 Source'!F1325<>\"\",'Line 1 Source'!F1325,\"\")","v":134160}]
[{"$f":"IF('Line 1 Source'!A1326<>\"\",'Line 1 Source'!A1326,\"\")","v":"2018"},"5045480",{"$f":"CONCATENATE(VLOOKUP(B1326,'School List'!$B$3:$H$291,6,FALSE),H1326)","v":"54801214"},{"$f":"CONCATENATE(VLOOKUP(B1326,'School List'!$B$3:$D$291,3,FALSE),H1326)","v":"Marshall County - BREMEN PUBLIC SCHOOL CORPORATION1214"},{"$f":"IF('Line 1 Source'!B1326<>\"\",'Line 1 Source'!B1326,\"\")","v":"50"},{"$f":"IF('Line 1 Source'!C1326<>\"\",'Line 1 Source'!C1326,\"\")","v":"4"},{"$f":"IF('Line 1 Source'!D1326<>\"\",'Line 1 Source'!D1326,\"\")","v":"5480"},{"$f":"IF('Line 1 Source'!E1326<>\"\",'Line 1 Source'!E1326,\"\")","v":"1214"},{"$f":"IF('Line 1 Source'!F1326<>\"\",'Line 1 Source'!F1326,\"\")","v":1665824}]
[{"$f":"IF('Line 1 Source'!A1327<>\"\",'Line 1 Source'!A1327,\"\")","v":"2018"},"5045480",{"$f":"CONCATENATE(VLOOKUP(B1327,'School List'!$B$3:$H$291,6,FALSE),H1327)","v":"54806301"},{"$f":"CONCATENATE(VLOOKUP(B1327,'School List'!$B$3:$D$291,3,FALSE),H1327)","v":"Marshall County - BREMEN PUBLIC SCHOOL CORPORATION6301"},{"$f":"IF('Line 1 Source'!B1327<>\"\",'Line 1 Source'!B1327,\"\")","v":"50"},{"$f":"IF('Line 1 Source'!C1327<>\"\",'Line 1 Source'!C1327,\"\")","v":"4"},{"$f":"IF('Line 1 Source'!D1327<>\"\",'Line 1 Source'!D1327,\"\")","v":"5480"},{"$f":"IF('Line 1 Source'!E1327<>\"\",'Line 1 Source'!E1327,\"\")","v":"6301"},{"$f":"IF('Line 1 Source'!F1327<>\"\",'Line 1 Source'!F1327,\"\")","v":704287}]
[{"$f":"IF('Line 1 Source'!A1328<>\"\",'Line 1 Source'!A1328,\"\")","v":"2018"},"5045480",{"$f":"CONCATENATE(VLOOKUP(B1328,'School List'!$B$3:$H$291,6,FALSE),H1328)","v":"54806302"},{"$f":"CONCATENATE(VLOOKUP(B1328,'School List'!$B$3:$D$291,3,FALSE),H1328)","v":"Marshall County - BREMEN PUBLIC SCHOOL CORPORATION6302"},{"$f":"IF('Line 1 Source'!B1328<>\"\",'Line 1 Source'!B1328,\"\")","v":"50"},{"$f":"IF('Line 1 Source'!C1328<>\"\",'Line 1 Source'!C1328,\"\")","v":"4"},{"$f":"IF('Line 1 Source'!D1328<>\"\",'Line 1 Source'!D1328,\"\")","v":"5480"},{"$f":"IF('Line 1 Source'!E1328<>\"\",'Line 1 Source'!E1328,\"\")","v":"6302"},{"$f":"IF('Line 1 Source'!F1328<>\"\",'Line 1 Source'!F1328,\"\")","v":192000}]
[{"$f":"IF('Line 1 Source'!A1329<>\"\",'Line 1 Source'!A1329,\"\")","v":"2018"},"5045485",{"$f":"CONCATENATE(VLOOKUP(B1329,'School List'!$B$3:$H$291,6,FALSE),H1329)","v":"54850061"},{"$f":"CONCATENATE(VLOOKUP(B1329,'School List'!$B$3:$D$291,3,FALSE),H1329)","v":"Marshall County - PLYMOUTH COMMUNITY SCHOOL CORP0061"},{"$f":"IF('Line 1 Source'!B1329<>\"\",'Line 1 Source'!B1329,\"\")","v":"50"},{"$f":"IF('Line 1 Source'!C1329<>\"\",'Line 1 Source'!C1329,\"\")","v":"4"},{"$f":"IF('Line 1 Source'!D1329<>\"\",'Line 1 Source'!D1329,\"\")","v":"5485"},{"$f":"IF('Line 1 Source'!E1329<>\"\",'Line 1 Source'!E1329,\"\")","v":"0061"},{"$f":"IF('Line 1 Source'!F1329<>\"\",'Line 1 Source'!F1329,\"\")","v":600000}]
[{"$f":"IF('Line 1 Source'!A1330<>\"\",'Line 1 Source'!A1330,\"\")","v":"2018"},"5045485",{"$f":"CONCATENATE(VLOOKUP(B1330,'School List'!$B$3:$H$291,6,FALSE),H1330)","v":"54850101"},{"$f":"CONCATENATE(VLOOKUP(B1330,'School List'!$B$3:$D$291,3,FALSE),H1330)","v":"Marshall County - PLYMOUTH COMMUNITY SCHOOL CORP0101"},{"$f":"IF('Line 1 Source'!B1330<>\"\",'Line 1 Source'!B1330,\"\")","v":"50"},{"$f":"IF('Line 1 Source'!C1330<>\"\",'Line 1 Source'!C1330,\"\")","v":"4"},{"$f":"IF('Line 1 Source'!D1330<>\"\",'Line 1 Source'!D1330,\"\")","v":"5485"},{"$f":"IF('Line 1 Source'!E1330<>\"\",'Line 1 Source'!E1330,\"\")","v":"0101"},{"$f":"IF('Line 1 Source'!F1330<>\"\",'Line 1 Source'!F1330,\"\")","v":25710491}]
[{"$f":"IF('Line 1 Source'!A1331<>\"\",'Line 1 Source'!A1331,\"\")","v":"2018"},"5045485",{"$f":"CONCATENATE(VLOOKUP(B1331,'School List'!$B$3:$H$291,6,FALSE),H1331)","v":"54850180"},{"$f":"CONCATENATE(VLOOKUP(B1331,'School List'!$B$3:$D$291,3,FALSE),H1331)","v":"Marshall County - PLYMOUTH COMMUNITY SCHOOL CORP0180"},{"$f":"IF('Line 1 Source'!B1331<>\"\",'Line 1 Source'!B1331,\"\")","v":"50"},{"$f":"IF('Line 1 Source'!C1331<>\"\",'Line 1 Source'!C1331,\"\")","v":"4"},{"$f":"IF('Line 1 Source'!D1331<>\"\",'Line 1 Source'!D1331,\"\")","v":"5485"},{"$f":"IF('Line 1 Source'!E1331<>\"\",'Line 1 Source'!E1331,\"\")","v":"0180"},{"$f":"IF('Line 1 Source'!F1331<>\"\",'Line 1 Source'!F1331,\"\")","v":5580617}]
[{"$f":"IF('Line 1 Source'!A1332<>\"\",'Line 1 Source'!A1332,\"\")","v":"2018"},"5045485",{"$f":"CONCATENATE(VLOOKUP(B1332,'School List'!$B$3:$H$291,6,FALSE),H1332)","v":"54850186"},{"$f":"CONCATENATE(VLOOKUP(B1332,'School List'!$B$3:$D$291,3,FALSE),H1332)","v":"Marshall County - PLYMOUTH COMMUNITY SCHOOL CORP0186"},{"$f":"IF('Line 1 Source'!B1332<>\"\",'Line 1 Source'!B1332,\"\")","v":"50"},{"$f":"IF('Line 1 Source'!C1332<>\"\",'Line 1 Source'!C1332,\"\")","v":"4"},{"$f":"IF('Line 1 Source'!D1332<>\"\",'Line 1 Source'!D1332,\"\")","v":"5485"},{"$f":"IF('Line 1 Source'!E1332<>\"\",'Line 1 Source'!E1332,\"\")","v":"0186"},{"$f":"IF('Line 1 Source'!F1332<>\"\",'Line 1 Source'!F1332,\"\")","v":293057}]
[{"$f":"IF('Line 1 Source'!A1333<>\"\",'Line 1 Source'!A1333,\"\")","v":"2018"},"5045485",{"$f":"CONCATENATE(VLOOKUP(B1333,'School List'!$B$3:$H$291,6,FALSE),H1333)","v":"54851214"},{"$f":"CONCATENATE(VLOOKUP(B1333,'School List'!$B$3:$D$291,3,FALSE),H1333)","v":"Marshall County - PLYMOUTH COMMUNITY SCHOOL CORP1214"},{"$f":"IF('Line 1 Source'!B1333<>\"\",'Line 1 Source'!B1333,\"\")","v":"50"},{"$f":"IF('Line 1 Source'!C1333<>\"\",'Line 1 Source'!C1333,\"\")","v":"4"},{"$f":"IF('Line 1 Source'!D1333<>\"\",'Line 1 Source'!D1333,\"\")","v":"5485"},{"$f":"IF('Line 1 Source'!E1333<>\"\",'Line 1 Source'!E1333,\"\")","v":"1214"},{"$f":"IF('Line 1 Source'!F1333<>\"\",'Line 1 Source'!F1333,\"\")","v":3016486}]
[{"$f":"IF('Line 1 Source'!A1334<>\"\",'Line 1 Source'!A1334,\"\")","v":"2018"},"5045485",{"$f":"CONCATENATE(VLOOKUP(B1334,'School List'!$B$3:$H$291,6,FALSE),H1334)","v":"54856301"},{"$f":"CONCATENATE(VLOOKUP(B1334,'School List'!$B$3:$D$291,3,FALSE),H1334)","v":"Marshall County - PLYMOUTH COMMUNITY SCHOOL CORP6301"},{"$f":"IF('Line 1 Source'!B1334<>\"\",'Line 1 Source'!B1334,\"\")","v":"50"},{"$f":"IF('Line 1 Source'!C1334<>\"\",'Line 1 Source'!C1334,\"\")","v":"4"},{"$f":"IF('Line 1 Source'!D1334<>\"\",'Line 1 Source'!D1334,\"\")","v":"5485"},{"$f":"IF('Line 1 Source'!E1334<>\"\",'Line 1 Source'!E1334,\"\")","v":"6301"},{"$f":"IF('Line 1 Source'!F1334<>\"\",'Line 1 Source'!F1334,\"\")","v":1316950}]
[{"$f":"IF('Line 1 Source'!A1335<>\"\",'Line 1 Source'!A1335,\"\")","v":"2018"},"5045485",{"$f":"CONCATENATE(VLOOKUP(B1335,'School List'!$B$3:$H$291,6,FALSE),H1335)","v":"54856302"},{"$f":"CONCATENATE(VLOOKUP(B1335,'School List'!$B$3:$D$291,3,FALSE),H1335)","v":"Marshall County - PLYMOUTH COMMUNITY SCHOOL CORP6302"},{"$f":"IF('Line 1 Source'!B1335<>\"\",'Line 1 Source'!B1335,\"\")","v":"50"},{"$f":"IF('Line 1 Source'!C1335<>\"\",'Line 1 Source'!C1335,\"\")","v":"4"},{"$f":"IF('Line 1 Source'!D1335<>\"\",'Line 1 Source'!D1335,\"\")","v":"5485"},{"$f":"IF('Line 1 Source'!E1335<>\"\",'Line 1 Source'!E1335,\"\")","v":"6302"},{"$f":"IF('Line 1 Source'!F1335<>\"\",'Line 1 Source'!F1335,\"\")","v":408000}]
[{"$f":"IF('Line 1 Source'!A1336<>\"\",'Line 1 Source'!A1336,\"\")","v":"2018"},"5045495",{"$f":"CONCATENATE(VLOOKUP(B1336,'School List'!$B$3:$H$291,6,FALSE),H1336)","v":"54950101"},{"$f":"CONCATENATE(VLOOKUP(B1336,'School List'!$B$3:$D$291,3,FALSE),H1336)","v":"Marshall County - TRITON SCHOOL CORPORATION0101"},{"$f":"IF('Line 1 Source'!B1336<>\"\",'Line 1 Source'!B1336,\"\")","v":"50"},{"$f":"IF('Line 1 Source'!C1336<>\"\",'Line 1 Source'!C1336,\"\")","v":"4"},{"$f":"IF('Line 1 Source'!D1336<>\"\",'Line 1 Source'!D1336,\"\")","v":"5495"},{"$f":"IF('Line 1 Source'!E1336<>\"\",'Line 1 Source'!E1336,\"\")","v":"0101"},{"$f":"IF('Line 1 Source'!F1336<>\"\",'Line 1 Source'!F1336,\"\")","v":5931045}]
[{"$f":"IF('Line 1 Source'!A1337<>\"\",'Line 1 Source'!A1337,\"\")","v":"2018"},"5045495",{"$f":"CONCATENATE(VLOOKUP(B1337,'School List'!$B$3:$H$291,6,FALSE),H1337)","v":"54950180"},{"$f":"CONCATENATE(VLOOKUP(B1337,'School List'!$B$3:$D$291,3,FALSE),H1337)","v":"Marshall County - TRITON SCHOOL CORPORATION0180"},{"$f":"IF('Line 1 Source'!B1337<>\"\",'Line 1 Source'!B1337,\"\")","v":"50"},{"$f":"IF('Line 1 Source'!C1337<>\"\",'Line 1 Source'!C1337,\"\")","v":"4"},{"$f":"IF('Line 1 Source'!D1337<>\"\",'Line 1 Source'!D1337,\"\")","v":"5495"},{"$f":"IF('Line 1 Source'!E1337<>\"\",'Line 1 Source'!E1337,\"\")","v":"0180"},{"$f":"IF('Line 1 Source'!F1337<>\"\",'Line 1 Source'!F1337,\"\")","v":968431}]
[{"$f":"IF('Line 1 Source'!A1338<>\"\",'Line 1 Source'!A1338,\"\")","v":"2018"},"5045495",{"$f":"CONCATENATE(VLOOKUP(B1338,'School List'!$B$3:$H$291,6,FALSE),H1338)","v":"54951214"},{"$f":"CONCATENATE(VLOOKUP(B1338,'School List'!$B$3:$D$291,3,FALSE),H1338)","v":"Marshall County - TRITON SCHOOL CORPORATION1214"},{"$f":"IF('Line 1 Source'!B1338<>\"\",'Line 1 Source'!B1338,\"\")","v":"50"},{"$f":"IF('Line 1 Source'!C1338<>\"\",'Line 1 Source'!C1338,\"\")","v":"4"},{"$f":"IF('Line 1 Source'!D1338<>\"\",'Line 1 Source'!D1338,\"\")","v":"5495"},{"$f":"IF('Line 1 Source'!E1338<>\"\",'Line 1 Source'!E1338,\"\")","v":"1214"},{"$f":"IF('Line 1 Source'!F1338<>\"\",'Line 1 Source'!F1338,\"\")","v":1059989}]
[{"$f":"IF('Line 1 Source'!A1339<>\"\",'Line 1 Source'!A1339,\"\")","v":"2018"},"5045495",{"$f":"CONCATENATE(VLOOKUP(B1339,'School List'!$B$3:$H$291,6,FALSE),H1339)","v":"54956301"},{"$f":"CONCATENATE(VLOOKUP(B1339,'School List'!$B$3:$D$291,3,FALSE),H1339)","v":"Marshall County - TRITON SCHOOL CORPORATION6301"},{"$f":"IF('Line 1 Source'!B1339<>\"\",'Line 1 Source'!B1339,\"\")","v":"50"},{"$f":"IF('Line 1 Source'!C1339<>\"\",'Line 1 Source'!C1339,\"\")","v":"4"},{"$f":"IF('Line 1 Source'!D1339<>\"\",'Line 1 Source'!D1339,\"\")","v":"5495"},{"$f":"IF('Line 1 Source'!E1339<>\"\",'Line 1 Source'!E1339,\"\")","v":"6301"},{"$f":"IF('Line 1 Source'!F1339<>\"\",'Line 1 Source'!F1339,\"\")","v":684350}]
[{"$f":"IF('Line 1 Source'!A1340<>\"\",'Line 1 Source'!A1340,\"\")","v":"2018"},"5045495",{"$f":"CONCATENATE(VLOOKUP(B1340,'School List'!$B$3:$H$291,6,FALSE),H1340)","v":"54956302"},{"$f":"CONCATENATE(VLOOKUP(B1340,'School List'!$B$3:$D$291,3,FALSE),H1340)","v":"Marshall County - TRITON SCHOOL CORPORATION6302"},{"$f":"IF('Line 1 Source'!B1340<>\"\",'Line 1 Source'!B1340,\"\")","v":"50"},{"$f":"IF('Line 1 Source'!C1340<>\"\",'Line 1 Source'!C1340,\"\")","v":"4"},{"$f":"IF('Line 1 Source'!D1340<>\"\",'Line 1 Source'!D1340,\"\")","v":"5495"},{"$f":"IF('Line 1 Source'!E1340<>\"\",'Line 1 Source'!E1340,\"\")","v":"6302"},{"$f":"IF('Line 1 Source'!F1340<>\"\",'Line 1 Source'!F1340,\"\")","v":232868}]
[{"$f":"IF('Line 1 Source'!A1341<>\"\",'Line 1 Source'!A1341,\"\")","v":"2018"},"5047150",{"$f":"CONCATENATE(VLOOKUP(B1341,'School List'!$B$3:$H$291,6,FALSE),H1341)","v":{"$error":"#N/A"}},{"$f":"CONCATENATE(VLOOKUP(B1341,'School List'!$B$3:$D$291,3,FALSE),H1341)","v":{"$error":"#N/A"}},{"$f":"IF('Line 1 Source'!B1341<>\"\",'Line 1 Source'!B1341,\"\")","v":"50"},{"$f":"IF('Line 1 Source'!C1341<>\"\",'Line 1 Source'!C1341,\"\")","v":"4"},{"$f":"IF('Line 1 Source'!D1341<>\"\",'Line 1 Source'!D1341,\"\")","v":"7150"},{"$f":"IF('Line 1 Source'!E1341<>\"\",'Line 1 Source'!E1341,\"\")","v":"0061"},{"$f":"IF('Line 1 Source'!F1341<>\"\",'Line 1 Source'!F1341,\"\")","v":0}]
[{"$f":"IF('Line 1 Source'!A1342<>\"\",'Line 1 Source'!A1342,\"\")","v":"2018"},"5047150",{"$f":"CONCATENATE(VLOOKUP(B1342,'School List'!$B$3:$H$291,6,FALSE),H1342)","v":{"$error":"#N/A"}},{"$f":"CONCATENATE(VLOOKUP(B1342,'School List'!$B$3:$D$291,3,FALSE),H1342)","v":{"$error":"#N/A"}},{"$f":"IF('Line 1 Source'!B1342<>\"\",'Line 1 Source'!B1342,\"\")","v":"50"},{"$f":"IF('Line 1 Source'!C1342<>\"\",'Line 1 Source'!C1342,\"\")","v":"4"},{"$f":"IF('Line 1 Source'!D1342<>\"\",'Line 1 Source'!D1342,\"\")","v":"7150"},{"$f":"IF('Line 1 Source'!E1342<>\"\",'Line 1 Source'!E1342,\"\")","v":"0101"},{"$f":"IF('Line 1 Source'!F1342<>\"\",'Line 1 Source'!F1342,\"\")","v":0}]
[{"$f":"IF('Line 1 Source'!A1343<>\"\",'Line 1 Source'!A1343,\"\")","v":"2018"},"5047150",{"$f":"CONCATENATE(VLOOKUP(B1343,'School List'!$B$3:$H$291,6,FALSE),H1343)","v":{"$error":"#N/A"}},{"$f":"CONCATENATE(VLOOKUP(B1343,'School List'!$B$3:$D$291,3,FALSE),H1343)","v":{"$error":"#N/A"}},{"$f":"IF('Line 1 Source'!B1343<>\"\",'Line 1 Source'!B1343,\"\")","v":"50"},{"$f":"IF('Line 1 Source'!C1343<>\"\",'Line 1 Source'!C1343,\"\")","v":"4"},{"$f":"IF('Line 1 Source'!D1343<>\"\",'Line 1 Source'!D1343,\"\")","v":"7150"},{"$f":"IF('Line 1 Source'!E1343<>\"\",'Line 1 Source'!E1343,\"\")","v":"0180"},{"$f":"IF('Line 1 Source'!F1343<>\"\",'Line 1 Source'!F1343,\"\")","v":0}]
[{"$f":"IF('Line 1 Source'!A1344<>\"\",'Line 1 Source'!A1344,\"\")","v":"2018"},"5047150",{"$f":"CONCATENATE(VLOOKUP(B1344,'School List'!$B$3:$H$291,6,FALSE),H1344)","v":{"$error":"#N/A"}},{"$f":"CONCATENATE(VLOOKUP(B1344,'School List'!$B$3:$D$291,3,FALSE),H1344)","v":{"$error":"#N/A"}},{"$f":"IF('Line 1 Source'!B1344<>\"\",'Line 1 Source'!B1344,\"\")","v":"50"},{"$f":"IF('Line 1 Source'!C1344<>\"\",'Line 1 Source'!C1344,\"\")","v":"4"},{"$f":"IF('Line 1 Source'!D1344<>\"\",'Line 1 Source'!D1344,\"\")","v":"7150"},{"$f":"IF('Line 1 Source'!E1344<>\"\",'Line 1 Source'!E1344,\"\")","v":"0188"},{"$f":"IF('Line 1 Source'!F1344<>\"\",'Line 1 Source'!F1344,\"\")","v":0}]
[{"$f":"IF('Line 1 Source'!A1345<>\"\",'Line 1 Source'!A1345,\"\")","v":"2018"},"5047150",{"$f":"CONCATENATE(VLOOKUP(B1345,'School List'!$B$3:$H$291,6,FALSE),H1345)","v":{"$error":"#N/A"}},{"$f":"CONCATENATE(VLOOKUP(B1345,'School List'!$B$3:$D$291,3,FALSE),H1345)","v":{"$error":"#N/A"}},{"$f":"IF('Line 1 Source'!B1345<>\"\",'Line 1 Source'!B1345,\"\")","v":"50"},{"$f":"IF('Line 1 Source'!C1345<>\"\",'Line 1 Source'!C1345,\"\")","v":"4"},{"$f":"IF('Line 1 Source'!D1345<>\"\",'Line 1 Source'!D1345,\"\")","v":"7150"},{"$f":"IF('Line 1 Source'!E1345<>\"\",'Line 1 Source'!E1345,\"\")","v":"0189"},{"$f":"IF('Line 1 Source'!F1345<>\"\",'Line 1 Source'!F1345,\"\")","v":0}]
[{"$f":"IF('Line 1 Source'!A1346<>\"\",'Line 1 Source'!A1346,\"\")","v":"2018"},"5047150",{"$f":"CONCATENATE(VLOOKUP(B1346,'School List'!$B$3:$H$291,6,FALSE),H1346)","v":{"$error":"#N/A"}},{"$f":"CONCATENATE(VLOOKUP(B1346,'School List'!$B$3:$D$291,3,FALSE),H1346)","v":{"$error":"#N/A"}},{"$f":"IF('Line 1 Source'!B1346<>\"\",'Line 1 Source'!B1346,\"\")","v":"50"},{"$f":"IF('Line 1 Source'!C1346<>\"\",'Line 1 Source'!C1346,\"\")","v":"4"},{"$f":"IF('Line 1 Source'!D1346<>\"\",'Line 1 Source'!D1346,\"\")","v":"7150"},{"$f":"IF('Line 1 Source'!E1346<>\"\",'Line 1 Source'!E1346,\"\")","v":"1214"},{"$f":"IF('Line 1 Source'!F1346<>\"\",'Line 1 Source'!F1346,\"\")","v":0}]
[{"$f":"IF('Line 1 Source'!A1347<>\"\",'Line 1 Source'!A1347,\"\")","v":"2018"},{"$f":"CONCATENATE(E1347,F1347,G1347)","v":"5047150"},{"$f":"CONCATENATE(VLOOKUP(B1347,'School List'!$B$3:$H$291,6,FALSE),H1347)","v":{"$error":"#N/A"}},{"$f":"CONCATENATE(VLOOKUP(B1347,'School List'!$B$3:$D$291,3,FALSE),H1347)","v":{"$error":"#N/A"}},{"$f":"IF('Line 1 Source'!B1347<>\"\",'Line 1 Source'!B1347,\"\")","v":"50"},{"$f":"IF('Line 1 Source'!C1347<>\"\",'Line 1 Source'!C1347,\"\")","v":"4"},{"$f":"IF('Line 1 Source'!D1347<>\"\",'Line 1 Source'!D1347,\"\")","v":"7150"},{"$f":"IF('Line 1 Source'!E1347<>\"\",'Line 1 Source'!E1347,\"\")","v":"6301"},{"$f":"IF('Line 1 Source'!F1347<>\"\",'Line 1 Source'!F1347,\"\")","v":0}]
[{"$f":"IF('Line 1 Source'!A1348<>\"\",'Line 1 Source'!A1348,\"\")","v":"2018"},"5047150",{"$f":"CONCATENATE(VLOOKUP(B1348,'School List'!$B$3:$H$291,6,FALSE),H1348)","v":{"$error":"#N/A"}},{"$f":"CONCATENATE(VLOOKUP(B1348,'School List'!$B$3:$D$291,3,FALSE),H1348)","v":{"$error":"#N/A"}},{"$f":"IF('Line 1 Source'!B1348<>\"\",'Line 1 Source'!B1348,\"\")","v":"50"},{"$f":"IF('Line 1 Source'!C1348<>\"\",'Line 1 Source'!C1348,\"\")","v":"4"},{"$f":"IF('Line 1 Source'!D1348<>\"\",'Line 1 Source'!D1348,\"\")","v":"7150"},{"$f":"IF('Line 1 Source'!E1348<>\"\",'Line 1 Source'!E1348,\"\")","v":"6302"},{"$f":"IF('Line 1 Source'!F1348<>\"\",'Line 1 Source'!F1348,\"\")","v":0}]
[{"$f":"IF('Line 1 Source'!A1349<>\"\",'Line 1 Source'!A1349,\"\")","v":"2018"},"5047215",{"$f":"CONCATENATE(VLOOKUP(B1349,'School List'!$B$3:$H$291,6,FALSE),H1349)","v":"72150061"},{"$f":"CONCATENATE(VLOOKUP(B1349,'School List'!$B$3:$D$291,3,FALSE),H1349)","v":"Marshall County - UNION-NORTH UNITED SCHOOL CORPORATION0061"},{"$f":"IF('Line 1 Source'!B1349<>\"\",'Line 1 Source'!B1349,\"\")","v":"50"},{"$f":"IF('Line 1 Source'!C1349<>\"\",'Line 1 Source'!C1349,\"\")","v":"4"},{"$f":"IF('Line 1 Source'!D1349<>\"\",'Line 1 Source'!D1349,\"\")","v":"7215"},{"$f":"IF('Line 1 Source'!E1349<>\"\",'Line 1 Source'!E1349,\"\")","v":"0061"},{"$f":"IF('Line 1 Source'!F1349<>\"\",'Line 1 Source'!F1349,\"\")","v":400348}]
[{"$f":"IF('Line 1 Source'!A1350<>\"\",'Line 1 Source'!A1350,\"\")","v":"2018"},"5047215",{"$f":"CONCATENATE(VLOOKUP(B1350,'School List'!$B$3:$H$291,6,FALSE),H1350)","v":"72150101"},{"$f":"CONCATENATE(VLOOKUP(B1350,'School List'!$B$3:$D$291,3,FALSE),H1350)","v":"Marshall County - UNION-NORTH UNITED SCHOOL CORPORATION0101"},{"$f":"IF('Line 1 Source'!B1350<>\"\",'Line 1 Source'!B1350,\"\")","v":"50"},{"$f":"IF('Line 1 Source'!C1350<>\"\",'Line 1 Source'!C1350,\"\")","v":"4"},{"$f":"IF('Line 1 Source'!D1350<>\"\",'Line 1 Source'!D1350,\"\")","v":"7215"},{"$f":"IF('Line 1 Source'!E1350<>\"\",'Line 1 Source'!E1350,\"\")","v":"0101"},{"$f":"IF('Line 1 Source'!F1350<>\"\",'Line 1 Source'!F1350,\"\")","v":7946562}]
[{"$f":"IF('Line 1 Source'!A1351<>\"\",'Line 1 Source'!A1351,\"\")","v":"2018"},"5047215",{"$f":"CONCATENATE(VLOOKUP(B1351,'School List'!$B$3:$H$291,6,FALSE),H1351)","v":"72150180"},{"$f":"CONCATENATE(VLOOKUP(B1351,'School List'!$B$3:$D$291,3,FALSE),H1351)","v":"Marshall County - UNION-NORTH UNITED SCHOOL CORPORATION0180"},{"$f":"IF('Line 1 Source'!B1351<>\"\",'Line 1 Source'!B1351,\"\")","v":"50"},{"$f":"IF('Line 1 Source'!C1351<>\"\",'Line 1 Source'!C1351,\"\")","v":"4"},{"$f":"IF('Line 1 Source'!D1351<>\"\",'Line 1 Source'!D1351,\"\")","v":"7215"},{"$f":"IF('Line 1 Source'!E1351<>\"\",'Line 1 Source'!E1351,\"\")","v":"0180"},{"$f":"IF('Line 1 Source'!F1351<>\"\",'Line 1 Source'!F1351,\"\")","v":1232009}]
[{"$f":"IF('Line 1 Source'!A1352<>\"\",'Line 1 Source'!A1352,\"\")","v":"2018"},"5047215",{"$f":"CONCATENATE(VLOOKUP(B1352,'School List'!$B$3:$H$291,6,FALSE),H1352)","v":"72151214"},{"$f":"CONCATENATE(VLOOKUP(B1352,'School List'!$B$3:$D$291,3,FALSE),H1352)","v":"Marshall County - UNION-NORTH UNITED SCHOOL CORPORATION1214"},{"$f":"IF('Line 1 Source'!B1352<>\"\",'Line 1 Source'!B1352,\"\")","v":"50"},{"$f":"IF('Line 1 Source'!C1352<>\"\",'Line 1 Source'!C1352,\"\")","v":"4"},{"$f":"IF('Line 1 Source'!D1352<>\"\",'Line 1 Source'!D1352,\"\")","v":"7215"},{"$f":"IF('Line 1 Source'!E1352<>\"\",'Line 1 Source'!E1352,\"\")","v":"1214"},{"$f":"IF('Line 1 Source'!F1352<>\"\",'Line 1 Source'!F1352,\"\")","v":771950}]
[{"$f":"IF('Line 1 Source'!A1353<>\"\",'Line 1 Source'!A1353,\"\")","v":"2018"},"5047215",{"$f":"CONCATENATE(VLOOKUP(B1353,'School List'!$B$3:$H$291,6,FALSE),H1353)","v":"72156301"},{"$f":"CONCATENATE(VLOOKUP(B1353,'School List'!$B$3:$D$291,3,FALSE),H1353)","v":"Marshall County - UNION-NORTH UNITED SCHOOL CORPORATION6301"},{"$f":"IF('Line 1 Source'!B1353<>\"\",'Line 1 Source'!B1353,\"\")","v":"50"},{"$f":"IF('Line 1 Source'!C1353<>\"\",'Line 1 Source'!C1353,\"\")","v":"4"},{"$f":"IF('Line 1 Source'!D1353<>\"\",'Line 1 Source'!D1353,\"\")","v":"7215"},{"$f":"IF('Line 1 Source'!E1353<>\"\",'Line 1 Source'!E1353,\"\")","v":"6301"},{"$f":"IF('Line 1 Source'!F1353<>\"\",'Line 1 Source'!F1353,\"\")","v":916020}]
[{"$f":"IF('Line 1 Source'!A1354<>\"\",'Line 1 Source'!A1354,\"\")","v":"2018"},"5047215",{"$f":"CONCATENATE(VLOOKUP(B1354,'School List'!$B$3:$H$291,6,FALSE),H1354)","v":"72156302"},{"$f":"CONCATENATE(VLOOKUP(B1354,'School List'!$B$3:$D$291,3,FALSE),H1354)","v":"Marshall County - UNION-NORTH UNITED SCHOOL CORPORATION6302"},{"$f":"IF('Line 1 Source'!B1354<>\"\",'Line 1 Source'!B1354,\"\")","v":"50"},{"$f":"IF('Line 1 Source'!C1354<>\"\",'Line 1 Source'!C1354,\"\")","v":"4"},{"$f":"IF('Line 1 Source'!D1354<>\"\",'Line 1 Source'!D1354,\"\")","v":"7215"},{"$f":"IF('Line 1 Source'!E1354<>\"\",'Line 1 Source'!E1354,\"\")","v":"6302"},{"$f":"IF('Line 1 Source'!F1354<>\"\",'Line 1 Source'!F1354,\"\")","v":106650}]
[{"$f":"IF('Line 1 Source'!A1355<>\"\",'Line 1 Source'!A1355,\"\")","v":"2018"},"5145520",{"$f":"CONCATENATE(VLOOKUP(B1355,'School List'!$B$3:$H$291,6,FALSE),H1355)","v":"55200061"},{"$f":"CONCATENATE(VLOOKUP(B1355,'School List'!$B$3:$D$291,3,FALSE),H1355)","v":"Martin County - SHOALS COMMUNITY SCHOOL CORPORATION0061"},{"$f":"IF('Line 1 Source'!B1355<>\"\",'Line 1 Source'!B1355,\"\")","v":"51"},{"$f":"IF('Line 1 Source'!C1355<>\"\",'Line 1 Source'!C1355,\"\")","v":"4"},{"$f":"IF('Line 1 Source'!D1355<>\"\",'Line 1 Source'!D1355,\"\")","v":"5520"},{"$f":"IF('Line 1 Source'!E1355<>\"\",'Line 1 Source'!E1355,\"\")","v":"0061"},{"$f":"IF('Line 1 Source'!F1355<>\"\",'Line 1 Source'!F1355,\"\")","v":300000}]
[{"$f":"IF('Line 1 Source'!A1356<>\"\",'Line 1 Source'!A1356,\"\")","v":"2018"},"5145520",{"$f":"CONCATENATE(VLOOKUP(B1356,'School List'!$B$3:$H$291,6,FALSE),H1356)","v":"55200101"},{"$f":"CONCATENATE(VLOOKUP(B1356,'School List'!$B$3:$D$291,3,FALSE),H1356)","v":"Martin County - SHOALS COMMUNITY SCHOOL CORPORATION0101"},{"$f":"IF('Line 1 Source'!B1356<>\"\",'Line 1 Source'!B1356,\"\")","v":"51"},{"$f":"IF('Line 1 Source'!C1356<>\"\",'Line 1 Source'!C1356,\"\")","v":"4"},{"$f":"IF('Line 1 Source'!D1356<>\"\",'Line 1 Source'!D1356,\"\")","v":"5520"},{"$f":"IF('Line 1 Source'!E1356<>\"\",'Line 1 Source'!E1356,\"\")","v":"0101"},{"$f":"IF('Line 1 Source'!F1356<>\"\",'Line 1 Source'!F1356,\"\")","v":4680006}]
[{"$f":"IF('Line 1 Source'!A1357<>\"\",'Line 1 Source'!A1357,\"\")","v":"2018"},"5145520",{"$f":"CONCATENATE(VLOOKUP(B1357,'School List'!$B$3:$H$291,6,FALSE),H1357)","v":"55200180"},{"$f":"CONCATENATE(VLOOKUP(B1357,'School List'!$B$3:$D$291,3,FALSE),H1357)","v":"Martin County - SHOALS COMMUNITY SCHOOL CORPORATION0180"},{"$f":"IF('Line 1 Source'!B1357<>\"\",'Line 1 Source'!B1357,\"\")","v":"51"},{"$f":"IF('Line 1 Source'!C1357<>\"\",'Line 1 Source'!C1357,\"\")","v":"4"},{"$f":"IF('Line 1 Source'!D1357<>\"\",'Line 1 Source'!D1357,\"\")","v":"5520"},{"$f":"IF('Line 1 Source'!E1357<>\"\",'Line 1 Source'!E1357,\"\")","v":"0180"},{"$f":"IF('Line 1 Source'!F1357<>\"\",'Line 1 Source'!F1357,\"\")","v":355000}]
[{"$f":"IF('Line 1 Source'!A1358<>\"\",'Line 1 Source'!A1358,\"\")","v":"2018"},"5145520",{"$f":"CONCATENATE(VLOOKUP(B1358,'School List'!$B$3:$H$291,6,FALSE),H1358)","v":"55200186"},{"$f":"CONCATENATE(VLOOKUP(B1358,'School List'!$B$3:$D$291,3,FALSE),H1358)","v":"Martin County - SHOALS COMMUNITY SCHOOL CORPORATION0186"},{"$f":"IF('Line 1 Source'!B1358<>\"\",'Line 1 Source'!B1358,\"\")","v":"51"},{"$f":"IF('Line 1 Source'!C1358<>\"\",'Line 1 Source'!C1358,\"\")","v":"4"},{"$f":"IF('Line 1 Source'!D1358<>\"\",'Line 1 Source'!D1358,\"\")","v":"5520"},{"$f":"IF('Line 1 Source'!E1358<>\"\",'Line 1 Source'!E1358,\"\")","v":"0186"},{"$f":"IF('Line 1 Source'!F1358<>\"\",'Line 1 Source'!F1358,\"\")","v":0}]
[{"$f":"IF('Line 1 Source'!A1359<>\"\",'Line 1 Source'!A1359,\"\")","v":"2018"},"5145520",{"$f":"CONCATENATE(VLOOKUP(B1359,'School List'!$B$3:$H$291,6,FALSE),H1359)","v":"55201214"},{"$f":"CONCATENATE(VLOOKUP(B1359,'School List'!$B$3:$D$291,3,FALSE),H1359)","v":"Martin County - SHOALS COMMUNITY SCHOOL CORPORATION1214"},{"$f":"IF('Line 1 Source'!B1359<>\"\",'Line 1 Source'!B1359,\"\")","v":"51"},{"$f":"IF('Line 1 Source'!C1359<>\"\",'Line 1 Source'!C1359,\"\")","v":"4"},{"$f":"IF('Line 1 Source'!D1359<>\"\",'Line 1 Source'!D1359,\"\")","v":"5520"},{"$f":"IF('Line 1 Source'!E1359<>\"\",'Line 1 Source'!E1359,\"\")","v":"1214"},{"$f":"IF('Line 1 Source'!F1359<>\"\",'Line 1 Source'!F1359,\"\")","v":574947}]
[{"$f":"IF('Line 1 Source'!A1360<>\"\",'Line 1 Source'!A1360,\"\")","v":"2018"},"5145520",{"$f":"CONCATENATE(VLOOKUP(B1360,'School List'!$B$3:$H$291,6,FALSE),H1360)","v":"55206301"},{"$f":"CONCATENATE(VLOOKUP(B1360,'School List'!$B$3:$D$291,3,FALSE),H1360)","v":"Martin County - SHOALS COMMUNITY SCHOOL CORPORATION6301"},{"$f":"IF('Line 1 Source'!B1360<>\"\",'Line 1 Source'!B1360,\"\")","v":"51"},{"$f":"IF('Line 1 Source'!C1360<>\"\",'Line 1 Source'!C1360,\"\")","v":"4"},{"$f":"IF('Line 1 Source'!D1360<>\"\",'Line 1 Source'!D1360,\"\")","v":"5520"},{"$f":"IF('Line 1 Source'!E1360<>\"\",'Line 1 Source'!E1360,\"\")","v":"6301"},{"$f":"IF('Line 1 Source'!F1360<>\"\",'Line 1 Source'!F1360,\"\")","v":768750}]
[{"$f":"IF('Line 1 Source'!A1361<>\"\",'Line 1 Source'!A1361,\"\")","v":"2018"},"5145520",{"$f":"CONCATENATE(VLOOKUP(B1361,'School List'!$B$3:$H$291,6,FALSE),H1361)","v":"55206302"},{"$f":"CONCATENATE(VLOOKUP(B1361,'School List'!$B$3:$D$291,3,FALSE),H1361)","v":"Martin County - SHOALS COMMUNITY SCHOOL CORPORATION6302"},{"$f":"IF('Line 1 Source'!B1361<>\"\",'Line 1 Source'!B1361,\"\")","v":"51"},{"$f":"IF('Line 1 Source'!C1361<>\"\",'Line 1 Source'!C1361,\"\")","v":"4"},{"$f":"IF('Line 1 Source'!D1361<>\"\",'Line 1 Source'!D1361,\"\")","v":"5520"},{"$f":"IF('Line 1 Source'!E1361<>\"\",'Line 1 Source'!E1361,\"\")","v":"6302"},{"$f":"IF('Line 1 Source'!F1361<>\"\",'Line 1 Source'!F1361,\"\")","v":65000}]
[{"$f":"IF('Line 1 Source'!A1362<>\"\",'Line 1 Source'!A1362,\"\")","v":"2018"},"5145525",{"$f":"CONCATENATE(VLOOKUP(B1362,'School List'!$B$3:$H$291,6,FALSE),H1362)","v":"55250061"},{"$f":"CONCATENATE(VLOOKUP(B1362,'School List'!$B$3:$D$291,3,FALSE),H1362)","v":"Martin County - LOOGOOTEE COMMUNITY SCHOOL CORPORATION0061"},{"$f":"IF('Line 1 Source'!B1362<>\"\",'Line 1 Source'!B1362,\"\")","v":"51"},{"$f":"IF('Line 1 Source'!C1362<>\"\",'Line 1 Source'!C1362,\"\")","v":"4"},{"$f":"IF('Line 1 Source'!D1362<>\"\",'Line 1 Source'!D1362,\"\")","v":"5525"},{"$f":"IF('Line 1 Source'!E1362<>\"\",'Line 1 Source'!E1362,\"\")","v":"0061"},{"$f":"IF('Line 1 Source'!F1362<>\"\",'Line 1 Source'!F1362,\"\")","v":650000}]
[{"$f":"IF('Line 1 Source'!A1363<>\"\",'Line 1 Source'!A1363,\"\")","v":"2018"},"5145525",{"$f":"CONCATENATE(VLOOKUP(B1363,'School List'!$B$3:$H$291,6,FALSE),H1363)","v":"55250101"},{"$f":"CONCATENATE(VLOOKUP(B1363,'School List'!$B$3:$D$291,3,FALSE),H1363)","v":"Martin County - LOOGOOTEE COMMUNITY SCHOOL CORPORATION0101"},{"$f":"IF('Line 1 Source'!B1363<>\"\",'Line 1 Source'!B1363,\"\")","v":"51"},{"$f":"IF('Line 1 Source'!C1363<>\"\",'Line 1 Source'!C1363,\"\")","v":"4"},{"$f":"IF('Line 1 Source'!D1363<>\"\",'Line 1 Source'!D1363,\"\")","v":"5525"},{"$f":"IF('Line 1 Source'!E1363<>\"\",'Line 1 Source'!E1363,\"\")","v":"0101"},{"$f":"IF('Line 1 Source'!F1363<>\"\",'Line 1 Source'!F1363,\"\")","v":5830800}]
[{"$f":"IF('Line 1 Source'!A1364<>\"\",'Line 1 Source'!A1364,\"\")","v":"2018"},"5145525",{"$f":"CONCATENATE(VLOOKUP(B1364,'School List'!$B$3:$H$291,6,FALSE),H1364)","v":"55250180"},{"$f":"CONCATENATE(VLOOKUP(B1364,'School List'!$B$3:$D$291,3,FALSE),H1364)","v":"Martin County - LOOGOOTEE COMMUNITY SCHOOL CORPORATION0180"},{"$f":"IF('Line 1 Source'!B1364<>\"\",'Line 1 Source'!B1364,\"\")","v":"51"},{"$f":"IF('Line 1 Source'!C1364<>\"\",'Line 1 Source'!C1364,\"\")","v":"4"},{"$f":"IF('Line 1 Source'!D1364<>\"\",'Line 1 Source'!D1364,\"\")","v":"5525"},{"$f":"IF('Line 1 Source'!E1364<>\"\",'Line 1 Source'!E1364,\"\")","v":"0180"},{"$f":"IF('Line 1 Source'!F1364<>\"\",'Line 1 Source'!F1364,\"\")","v":600070}]
[{"$f":"IF('Line 1 Source'!A1365<>\"\",'Line 1 Source'!A1365,\"\")","v":"2018"},"5145525",{"$f":"CONCATENATE(VLOOKUP(B1365,'School List'!$B$3:$H$291,6,FALSE),H1365)","v":"55250186"},{"$f":"CONCATENATE(VLOOKUP(B1365,'School List'!$B$3:$D$291,3,FALSE),H1365)","v":"Martin County - LOOGOOTEE COMMUNITY SCHOOL CORPORATION0186"},{"$f":"IF('Line 1 Source'!B1365<>\"\",'Line 1 Source'!B1365,\"\")","v":"51"},{"$f":"IF('Line 1 Source'!C1365<>\"\",'Line 1 Source'!C1365,\"\")","v":"4"},{"$f":"IF('Line 1 Source'!D1365<>\"\",'Line 1 Source'!D1365,\"\")","v":"5525"},{"$f":"IF('Line 1 Source'!E1365<>\"\",'Line 1 Source'!E1365,\"\")","v":"0186"},{"$f":"IF('Line 1 Source'!F1365<>\"\",'Line 1 Source'!F1365,\"\")","v":266411}]
[{"$f":"IF('Line 1 Source'!A1366<>\"\",'Line 1 Source'!A1366,\"\")","v":"2018"},"5145525",{"$f":"CONCATENATE(VLOOKUP(B1366,'School List'!$B$3:$H$291,6,FALSE),H1366)","v":"55251214"},{"$f":"CONCATENATE(VLOOKUP(B1366,'School List'!$B$3:$D$291,3,FALSE),H1366)","v":"Martin County - LOOGOOTEE COMMUNITY SCHOOL CORPORATION1214"},{"$f":"IF('Line 1 Source'!B1366<>\"\",'Line 1 Source'!B1366,\"\")","v":"51"},{"$f":"IF('Line 1 Source'!C1366<>\"\",'Line 1 Source'!C1366,\"\")","v":"4"},{"$f":"IF('Line 1 Source'!D1366<>\"\",'Line 1 Source'!D1366,\"\")","v":"5525"},{"$f":"IF('Line 1 Source'!E1366<>\"\",'Line 1 Source'!E1366,\"\")","v":"1214"},{"$f":"IF('Line 1 Source'!F1366<>\"\",'Line 1 Source'!F1366,\"\")","v":737124}]
[{"$f":"IF('Line 1 Source'!A1367<>\"\",'Line 1 Source'!A1367,\"\")","v":"2018"},"5145525",{"$f":"CONCATENATE(VLOOKUP(B1367,'School List'!$B$3:$H$291,6,FALSE),H1367)","v":"55256301"},{"$f":"CONCATENATE(VLOOKUP(B1367,'School List'!$B$3:$D$291,3,FALSE),H1367)","v":"Martin County - LOOGOOTEE COMMUNITY SCHOOL CORPORATION6301"},{"$f":"IF('Line 1 Source'!B1367<>\"\",'Line 1 Source'!B1367,\"\")","v":"51"},{"$f":"IF('Line 1 Source'!C1367<>\"\",'Line 1 Source'!C1367,\"\")","v":"4"},{"$f":"IF('Line 1 Source'!D1367<>\"\",'Line 1 Source'!D1367,\"\")","v":"5525"},{"$f":"IF('Line 1 Source'!E1367<>\"\",'Line 1 Source'!E1367,\"\")","v":"6301"},{"$f":"IF('Line 1 Source'!F1367<>\"\",'Line 1 Source'!F1367,\"\")","v":646500}]
[{"$f":"IF('Line 1 Source'!A1368<>\"\",'Line 1 Source'!A1368,\"\")","v":"2018"},"5145525",{"$f":"CONCATENATE(VLOOKUP(B1368,'School List'!$B$3:$H$291,6,FALSE),H1368)","v":"55256302"},{"$f":"CONCATENATE(VLOOKUP(B1368,'School List'!$B$3:$D$291,3,FALSE),H1368)","v":"Martin County - LOOGOOTEE COMMUNITY SCHOOL CORPORATION6302"},{"$f":"IF('Line 1 Source'!B1368<>\"\",'Line 1 Source'!B1368,\"\")","v":"51"},{"$f":"IF('Line 1 Source'!C1368<>\"\",'Line 1 Source'!C1368,\"\")","v":"4"},{"$f":"IF('Line 1 Source'!D1368<>\"\",'Line 1 Source'!D1368,\"\")","v":"5525"},{"$f":"IF('Line 1 Source'!E1368<>\"\",'Line 1 Source'!E1368,\"\")","v":"6302"},{"$f":"IF('Line 1 Source'!F1368<>\"\",'Line 1 Source'!F1368,\"\")","v":0}]
[{"$f":"IF('Line 1 Source'!A1369<>\"\",'Line 1 Source'!A1369,\"\")","v":"2018"},"5245615",{"$f":"CONCATENATE(VLOOKUP(B1369,'School List'!$B$3:$H$291,6,FALSE),H1369)","v":"56150101"},{"$f":"CONCATENATE(VLOOKUP(B1369,'School List'!$B$3:$D$291,3,FALSE),H1369)","v":"Miami County - MACONAQUAH SCHOOL CORPORATION0101"},{"$f":"IF('Line 1 Source'!B1369<>\"\",'Line 1 Source'!B1369,\"\")","v":"52"},{"$f":"IF('Line 1 Source'!C1369<>\"\",'Line 1 Source'!C1369,\"\")","v":"4"},{"$f":"IF('Line 1 Source'!D1369<>\"\",'Line 1 Source'!D1369,\"\")","v":"5615"},{"$f":"IF('Line 1 Source'!E1369<>\"\",'Line 1 Source'!E1369,\"\")","v":"0101"},{"$f":"IF('Line 1 Source'!F1369<>\"\",'Line 1 Source'!F1369,\"\")","v":16255002}]
[{"$f":"IF('Line 1 Source'!A1370<>\"\",'Line 1 Source'!A1370,\"\")","v":"2018"},"5245615",{"$f":"CONCATENATE(VLOOKUP(B1370,'School List'!$B$3:$H$291,6,FALSE),H1370)","v":"56150180"},{"$f":"CONCATENATE(VLOOKUP(B1370,'School List'!$B$3:$D$291,3,FALSE),H1370)","v":"Miami County - MACONAQUAH SCHOOL CORPORATION0180"},{"$f":"IF('Line 1 Source'!B1370<>\"\",'Line 1 Source'!B1370,\"\")","v":"52"},{"$f":"IF('Line 1 Source'!C1370<>\"\",'Line 1 Source'!C1370,\"\")","v":"4"},{"$f":"IF('Line 1 Source'!D1370<>\"\",'Line 1 Source'!D1370,\"\")","v":"5615"},{"$f":"IF('Line 1 Source'!E1370<>\"\",'Line 1 Source'!E1370,\"\")","v":"0180"},{"$f":"IF('Line 1 Source'!F1370<>\"\",'Line 1 Source'!F1370,\"\")","v":1242253}]
[{"$f":"IF('Line 1 Source'!A1371<>\"\",'Line 1 Source'!A1371,\"\")","v":"2018"},"5245615",{"$f":"CONCATENATE(VLOOKUP(B1371,'School List'!$B$3:$H$291,6,FALSE),H1371)","v":"56151214"},{"$f":"CONCATENATE(VLOOKUP(B1371,'School List'!$B$3:$D$291,3,FALSE),H1371)","v":"Miami County - MACONAQUAH SCHOOL CORPORATION1214"},{"$f":"IF('Line 1 Source'!B1371<>\"\",'Line 1 Source'!B1371,\"\")","v":"52"},{"$f":"IF('Line 1 Source'!C1371<>\"\",'Line 1 Source'!C1371,\"\")","v":"4"},{"$f":"IF('Line 1 Source'!D1371<>\"\",'Line 1 Source'!D1371,\"\")","v":"5615"},{"$f":"IF('Line 1 Source'!E1371<>\"\",'Line 1 Source'!E1371,\"\")","v":"1214"},{"$f":"IF('Line 1 Source'!F1371<>\"\",'Line 1 Source'!F1371,\"\")","v":1545991}]
[{"$f":"IF('Line 1 Source'!A1372<>\"\",'Line 1 Source'!A1372,\"\")","v":"2018"},"5245615",{"$f":"CONCATENATE(VLOOKUP(B1372,'School List'!$B$3:$H$291,6,FALSE),H1372)","v":"56156301"},{"$f":"CONCATENATE(VLOOKUP(B1372,'School List'!$B$3:$D$291,3,FALSE),H1372)","v":"Miami County - MACONAQUAH SCHOOL CORPORATION6301"},{"$f":"IF('Line 1 Source'!B1372<>\"\",'Line 1 Source'!B1372,\"\")","v":"52"},{"$f":"IF('Line 1 Source'!C1372<>\"\",'Line 1 Source'!C1372,\"\")","v":"4"},{"$f":"IF('Line 1 Source'!D1372<>\"\",'Line 1 Source'!D1372,\"\")","v":"5615"},{"$f":"IF('Line 1 Source'!E1372<>\"\",'Line 1 Source'!E1372,\"\")","v":"6301"},{"$f":"IF('Line 1 Source'!F1372<>\"\",'Line 1 Source'!F1372,\"\")","v":963825}]
[{"$f":"IF('Line 1 Source'!A1373<>\"\",'Line 1 Source'!A1373,\"\")","v":"2018"},"5245615",{"$f":"CONCATENATE(VLOOKUP(B1373,'School List'!$B$3:$H$291,6,FALSE),H1373)","v":"56156302"},{"$f":"CONCATENATE(VLOOKUP(B1373,'School List'!$B$3:$D$291,3,FALSE),H1373)","v":"Miami County - MACONAQUAH SCHOOL CORPORATION6302"},{"$f":"IF('Line 1 Source'!B1373<>\"\",'Line 1 Source'!B1373,\"\")","v":"52"},{"$f":"IF('Line 1 Source'!C1373<>\"\",'Line 1 Source'!C1373,\"\")","v":"4"},{"$f":"IF('Line 1 Source'!D1373<>\"\",'Line 1 Source'!D1373,\"\")","v":"5615"},{"$f":"IF('Line 1 Source'!E1373<>\"\",'Line 1 Source'!E1373,\"\")","v":"6302"},{"$f":"IF('Line 1 Source'!F1373<>\"\",'Line 1 Source'!F1373,\"\")","v":354884}]
[{"$f":"IF('Line 1 Source'!A1374<>\"\",'Line 1 Source'!A1374,\"\")","v":"2018"},"5245620",{"$f":"CONCATENATE(VLOOKUP(B1374,'School List'!$B$3:$H$291,6,FALSE),H1374)","v":"56200061"},{"$f":"CONCATENATE(VLOOKUP(B1374,'School List'!$B$3:$D$291,3,FALSE),H1374)","v":"Miami County - NORTH MIAMI CONSOLIDATED SCHOOL CORP0061"},{"$f":"IF('Line 1 Source'!B1374<>\"\",'Line 1 Source'!B1374,\"\")","v":"52"},{"$f":"IF('Line 1 Source'!C1374<>\"\",'Line 1 Source'!C1374,\"\")","v":"4"},{"$f":"IF('Line 1 Source'!D1374<>\"\",'Line 1 Source'!D1374,\"\")","v":"5620"},{"$f":"IF('Line 1 Source'!E1374<>\"\",'Line 1 Source'!E1374,\"\")","v":"0061"},{"$f":"IF('Line 1 Source'!F1374<>\"\",'Line 1 Source'!F1374,\"\")","v":200000}]
[{"$f":"IF('Line 1 Source'!A1375<>\"\",'Line 1 Source'!A1375,\"\")","v":"2018"},"5245620",{"$f":"CONCATENATE(VLOOKUP(B1375,'School List'!$B$3:$H$291,6,FALSE),H1375)","v":"56200101"},{"$f":"CONCATENATE(VLOOKUP(B1375,'School List'!$B$3:$D$291,3,FALSE),H1375)","v":"Miami County - NORTH MIAMI CONSOLIDATED SCHOOL CORP0101"},{"$f":"IF('Line 1 Source'!B1375<>\"\",'Line 1 Source'!B1375,\"\")","v":"52"},{"$f":"IF('Line 1 Source'!C1375<>\"\",'Line 1 Source'!C1375,\"\")","v":"4"},{"$f":"IF('Line 1 Source'!D1375<>\"\",'Line 1 Source'!D1375,\"\")","v":"5620"},{"$f":"IF('Line 1 Source'!E1375<>\"\",'Line 1 Source'!E1375,\"\")","v":"0101"},{"$f":"IF('Line 1 Source'!F1375<>\"\",'Line 1 Source'!F1375,\"\")","v":6052212}]
[{"$f":"IF('Line 1 Source'!A1376<>\"\",'Line 1 Source'!A1376,\"\")","v":"2018"},"5245620",{"$f":"CONCATENATE(VLOOKUP(B1376,'School List'!$B$3:$H$291,6,FALSE),H1376)","v":"56200180"},{"$f":"CONCATENATE(VLOOKUP(B1376,'School List'!$B$3:$D$291,3,FALSE),H1376)","v":"Miami County - NORTH MIAMI CONSOLIDATED SCHOOL CORP0180"},{"$f":"IF('Line 1 Source'!B1376<>\"\",'Line 1 Source'!B1376,\"\")","v":"52"},{"$f":"IF('Line 1 Source'!C1376<>\"\",'Line 1 Source'!C1376,\"\")","v":"4"},{"$f":"IF('Line 1 Source'!D1376<>\"\",'Line 1 Source'!D1376,\"\")","v":"5620"},{"$f":"IF('Line 1 Source'!E1376<>\"\",'Line 1 Source'!E1376,\"\")","v":"0180"},{"$f":"IF('Line 1 Source'!F1376<>\"\",'Line 1 Source'!F1376,\"\")","v":578581}]
[{"$f":"IF('Line 1 Source'!A1377<>\"\",'Line 1 Source'!A1377,\"\")","v":"2018"},"5245620",{"$f":"CONCATENATE(VLOOKUP(B1377,'School List'!$B$3:$H$291,6,FALSE),H1377)","v":"56200186"},{"$f":"CONCATENATE(VLOOKUP(B1377,'School List'!$B$3:$D$291,3,FALSE),H1377)","v":"Miami County - NORTH MIAMI CONSOLIDATED SCHOOL CORP0186"},{"$f":"IF('Line 1 Source'!B1377<>\"\",'Line 1 Source'!B1377,\"\")","v":"52"},{"$f":"IF('Line 1 Source'!C1377<>\"\",'Line 1 Source'!C1377,\"\")","v":"4"},{"$f":"IF('Line 1 Source'!D1377<>\"\",'Line 1 Source'!D1377,\"\")","v":"5620"},{"$f":"IF('Line 1 Source'!E1377<>\"\",'Line 1 Source'!E1377,\"\")","v":"0186"},{"$f":"IF('Line 1 Source'!F1377<>\"\",'Line 1 Source'!F1377,\"\")","v":207414}]
[{"$f":"IF('Line 1 Source'!A1378<>\"\",'Line 1 Source'!A1378,\"\")","v":"2018"},"5245620",{"$f":"CONCATENATE(VLOOKUP(B1378,'School List'!$B$3:$H$291,6,FALSE),H1378)","v":"56201214"},{"$f":"CONCATENATE(VLOOKUP(B1378,'School List'!$B$3:$D$291,3,FALSE),H1378)","v":"Miami County - NORTH MIAMI CONSOLIDATED SCHOOL CORP1214"},{"$f":"IF('Line 1 Source'!B1378<>\"\",'Line 1 Source'!B1378,\"\")","v":"52"},{"$f":"IF('Line 1 Source'!C1378<>\"\",'Line 1 Source'!C1378,\"\")","v":"4"},{"$f":"IF('Line 1 Source'!D1378<>\"\",'Line 1 Source'!D1378,\"\")","v":"5620"},{"$f":"IF('Line 1 Source'!E1378<>\"\",'Line 1 Source'!E1378,\"\")","v":"1214"},{"$f":"IF('Line 1 Source'!F1378<>\"\",'Line 1 Source'!F1378,\"\")","v":837460}]
[{"$f":"IF('Line 1 Source'!A1379<>\"\",'Line 1 Source'!A1379,\"\")","v":"2018"},"5245620",{"$f":"CONCATENATE(VLOOKUP(B1379,'School List'!$B$3:$H$291,6,FALSE),H1379)","v":"56206301"},{"$f":"CONCATENATE(VLOOKUP(B1379,'School List'!$B$3:$D$291,3,FALSE),H1379)","v":"Miami County - NORTH MIAMI CONSOLIDATED SCHOOL CORP6301"},{"$f":"IF('Line 1 Source'!B1379<>\"\",'Line 1 Source'!B1379,\"\")","v":"52"},{"$f":"IF('Line 1 Source'!C1379<>\"\",'Line 1 Source'!C1379,\"\")","v":"4"},{"$f":"IF('Line 1 Source'!D1379<>\"\",'Line 1 Source'!D1379,\"\")","v":"5620"},{"$f":"IF('Line 1 Source'!E1379<>\"\",'Line 1 Source'!E1379,\"\")","v":"6301"},{"$f":"IF('Line 1 Source'!F1379<>\"\",'Line 1 Source'!F1379,\"\")","v":588305}]
[{"$f":"IF('Line 1 Source'!A1380<>\"\",'Line 1 Source'!A1380,\"\")","v":"2018"},"5245620",{"$f":"CONCATENATE(VLOOKUP(B1380,'School List'!$B$3:$H$291,6,FALSE),H1380)","v":"56206302"},{"$f":"CONCATENATE(VLOOKUP(B1380,'School List'!$B$3:$D$291,3,FALSE),H1380)","v":"Miami County - NORTH MIAMI CONSOLIDATED SCHOOL CORP6302"},{"$f":"IF('Line 1 Source'!B1380<>\"\",'Line 1 Source'!B1380,\"\")","v":"52"},{"$f":"IF('Line 1 Source'!C1380<>\"\",'Line 1 Source'!C1380,\"\")","v":"4"},{"$f":"IF('Line 1 Source'!D1380<>\"\",'Line 1 Source'!D1380,\"\")","v":"5620"},{"$f":"IF('Line 1 Source'!E1380<>\"\",'Line 1 Source'!E1380,\"\")","v":"6302"},{"$f":"IF('Line 1 Source'!F1380<>\"\",'Line 1 Source'!F1380,\"\")","v":112641}]
[{"$f":"IF('Line 1 Source'!A1381<>\"\",'Line 1 Source'!A1381,\"\")","v":"2018"},"5245625",{"$f":"CONCATENATE(VLOOKUP(B1381,'School List'!$B$3:$H$291,6,FALSE),H1381)","v":{"$error":"#N/A"}},{"$f":"CONCATENATE(VLOOKUP(B1381,'School List'!$B$3:$D$291,3,FALSE),H1381)","v":{"$error":"#N/A"}},{"$f":"IF('Line 1 Source'!B1381<>\"\",'Line 1 Source'!B1381,\"\")","v":"52"},{"$f":"IF('Line 1 Source'!C1381<>\"\",'Line 1 Source'!C1381,\"\")","v":"4"},{"$f":"IF('Line 1 Source'!D1381<>\"\",'Line 1 Source'!D1381,\"\")","v":"5625"},{"$f":"IF('Line 1 Source'!E1381<>\"\",'Line 1 Source'!E1381,\"\")","v":"0061"},{"$f":"IF('Line 1 Source'!F1381<>\"\",'Line 1 Source'!F1381,\"\")","v":0}]
[{"$f":"IF('Line 1 Source'!A1382<>\"\",'Line 1 Source'!A1382,\"\")","v":"2018"},"5245625",{"$f":"CONCATENATE(VLOOKUP(B1382,'School List'!$B$3:$H$291,6,FALSE),H1382)","v":{"$error":"#N/A"}},{"$f":"CONCATENATE(VLOOKUP(B1382,'School List'!$B$3:$D$291,3,FALSE),H1382)","v":{"$error":"#N/A"}},{"$f":"IF('Line 1 Source'!B1382<>\"\",'Line 1 Source'!B1382,\"\")","v":"52"},{"$f":"IF('Line 1 Source'!C1382<>\"\",'Line 1 Source'!C1382,\"\")","v":"4"},{"$f":"IF('Line 1 Source'!D1382<>\"\",'Line 1 Source'!D1382,\"\")","v":"5625"},{"$f":"IF('Line 1 Source'!E1382<>\"\",'Line 1 Source'!E1382,\"\")","v":"0101"},{"$f":"IF('Line 1 Source'!F1382<>\"\",'Line 1 Source'!F1382,\"\")","v":0}]
[{"$f":"IF('Line 1 Source'!A1383<>\"\",'Line 1 Source'!A1383,\"\")","v":"2018"},"5245625",{"$f":"CONCATENATE(VLOOKUP(B1383,'School List'!$B$3:$H$291,6,FALSE),H1383)","v":{"$error":"#N/A"}},{"$f":"CONCATENATE(VLOOKUP(B1383,'School List'!$B$3:$D$291,3,FALSE),H1383)","v":{"$error":"#N/A"}},{"$f":"IF('Line 1 Source'!B1383<>\"\",'Line 1 Source'!B1383,\"\")","v":"52"},{"$f":"IF('Line 1 Source'!C1383<>\"\",'Line 1 Source'!C1383,\"\")","v":"4"},{"$f":"IF('Line 1 Source'!D1383<>\"\",'Line 1 Source'!D1383,\"\")","v":"5625"},{"$f":"IF('Line 1 Source'!E1383<>\"\",'Line 1 Source'!E1383,\"\")","v":"0180"},{"$f":"IF('Line 1 Source'!F1383<>\"\",'Line 1 Source'!F1383,\"\")","v":0}]
[{"$f":"IF('Line 1 Source'!A1384<>\"\",'Line 1 Source'!A1384,\"\")","v":"2018"},"5245625",{"$f":"CONCATENATE(VLOOKUP(B1384,'School List'!$B$3:$H$291,6,FALSE),H1384)","v":{"$error":"#N/A"}},{"$f":"CONCATENATE(VLOOKUP(B1384,'School List'!$B$3:$D$291,3,FALSE),H1384)","v":{"$error":"#N/A"}},{"$f":"IF('Line 1 Source'!B1384<>\"\",'Line 1 Source'!B1384,\"\")","v":"52"},{"$f":"IF('Line 1 Source'!C1384<>\"\",'Line 1 Source'!C1384,\"\")","v":"4"},{"$f":"IF('Line 1 Source'!D1384<>\"\",'Line 1 Source'!D1384,\"\")","v":"5625"},{"$f":"IF('Line 1 Source'!E1384<>\"\",'Line 1 Source'!E1384,\"\")","v":"1214"},{"$f":"IF('Line 1 Source'!F1384<>\"\",'Line 1 Source'!F1384,\"\")","v":0}]
[{"$f":"IF('Line 1 Source'!A1385<>\"\",'Line 1 Source'!A1385,\"\")","v":"2018"},"5245625",{"$f":"CONCATENATE(VLOOKUP(B1385,'School List'!$B$3:$H$291,6,FALSE),H1385)","v":{"$error":"#N/A"}},{"$f":"CONCATENATE(VLOOKUP(B1385,'School List'!$B$3:$D$291,3,FALSE),H1385)","v":{"$error":"#N/A"}},{"$f":"IF('Line 1 Source'!B1385<>\"\",'Line 1 Source'!B1385,\"\")","v":"52"},{"$f":"IF('Line 1 Source'!C1385<>\"\",'Line 1 Source'!C1385,\"\")","v":"4"},{"$f":"IF('Line 1 Source'!D1385<>\"\",'Line 1 Source'!D1385,\"\")","v":"5625"},{"$f":"IF('Line 1 Source'!E1385<>\"\",'Line 1 Source'!E1385,\"\")","v":"6301"},{"$f":"IF('Line 1 Source'!F1385<>\"\",'Line 1 Source'!F1385,\"\")","v":0}]
[{"$f":"IF('Line 1 Source'!A1386<>\"\",'Line 1 Source'!A1386,\"\")","v":"2018"},"5245625",{"$f":"CONCATENATE(VLOOKUP(B1386,'School List'!$B$3:$H$291,6,FALSE),H1386)","v":{"$error":"#N/A"}},{"$f":"CONCATENATE(VLOOKUP(B1386,'School List'!$B$3:$D$291,3,FALSE),H1386)","v":{"$error":"#N/A"}},{"$f":"IF('Line 1 Source'!B1386<>\"\",'Line 1 Source'!B1386,\"\")","v":"52"},{"$f":"IF('Line 1 Source'!C1386<>\"\",'Line 1 Source'!C1386,\"\")","v":"4"},{"$f":"IF('Line 1 Source'!D1386<>\"\",'Line 1 Source'!D1386,\"\")","v":"5625"},{"$f":"IF('Line 1 Source'!E1386<>\"\",'Line 1 Source'!E1386,\"\")","v":"6302"},{"$f":"IF('Line 1 Source'!F1386<>\"\",'Line 1 Source'!F1386,\"\")","v":0}]
[{"$f":"IF('Line 1 Source'!A1387<>\"\",'Line 1 Source'!A1387,\"\")","v":"2018"},"5245635",{"$f":"CONCATENATE(VLOOKUP(B1387,'School List'!$B$3:$H$291,6,FALSE),H1387)","v":"56350061"},{"$f":"CONCATENATE(VLOOKUP(B1387,'School List'!$B$3:$D$291,3,FALSE),H1387)","v":"Miami County - PERU COMMUNITY SCHOOL CORPORATION0061"},{"$f":"IF('Line 1 Source'!B1387<>\"\",'Line 1 Source'!B1387,\"\")","v":"52"},{"$f":"IF('Line 1 Source'!C1387<>\"\",'Line 1 Source'!C1387,\"\")","v":"4"},{"$f":"IF('Line 1 Source'!D1387<>\"\",'Line 1 Source'!D1387,\"\")","v":"5635"},{"$f":"IF('Line 1 Source'!E1387<>\"\",'Line 1 Source'!E1387,\"\")","v":"0061"},{"$f":"IF('Line 1 Source'!F1387<>\"\",'Line 1 Source'!F1387,\"\")","v":100000}]
[{"$f":"IF('Line 1 Source'!A1388<>\"\",'Line 1 Source'!A1388,\"\")","v":"2018"},"5245635",{"$f":"CONCATENATE(VLOOKUP(B1388,'School List'!$B$3:$H$291,6,FALSE),H1388)","v":"56350101"},{"$f":"CONCATENATE(VLOOKUP(B1388,'School List'!$B$3:$D$291,3,FALSE),H1388)","v":"Miami County - PERU COMMUNITY SCHOOL CORPORATION0101"},{"$f":"IF('Line 1 Source'!B1388<>\"\",'Line 1 Source'!B1388,\"\")","v":"52"},{"$f":"IF('Line 1 Source'!C1388<>\"\",'Line 1 Source'!C1388,\"\")","v":"4"},{"$f":"IF('Line 1 Source'!D1388<>\"\",'Line 1 Source'!D1388,\"\")","v":"5635"},{"$f":"IF('Line 1 Source'!E1388<>\"\",'Line 1 Source'!E1388,\"\")","v":"0101"},{"$f":"IF('Line 1 Source'!F1388<>\"\",'Line 1 Source'!F1388,\"\")","v":14451541}]
[{"$f":"IF('Line 1 Source'!A1389<>\"\",'Line 1 Source'!A1389,\"\")","v":"2018"},"5245635",{"$f":"CONCATENATE(VLOOKUP(B1389,'School List'!$B$3:$H$291,6,FALSE),H1389)","v":"56350180"},{"$f":"CONCATENATE(VLOOKUP(B1389,'School List'!$B$3:$D$291,3,FALSE),H1389)","v":"Miami County - PERU COMMUNITY SCHOOL CORPORATION0180"},{"$f":"IF('Line 1 Source'!B1389<>\"\",'Line 1 Source'!B1389,\"\")","v":"52"},{"$f":"IF('Line 1 Source'!C1389<>\"\",'Line 1 Source'!C1389,\"\")","v":"4"},{"$f":"IF('Line 1 Source'!D1389<>\"\",'Line 1 Source'!D1389,\"\")","v":"5635"},{"$f":"IF('Line 1 Source'!E1389<>\"\",'Line 1 Source'!E1389,\"\")","v":"0180"},{"$f":"IF('Line 1 Source'!F1389<>\"\",'Line 1 Source'!F1389,\"\")","v":2867636}]
[{"$f":"IF('Line 1 Source'!A1390<>\"\",'Line 1 Source'!A1390,\"\")","v":"2018"},"5245635",{"$f":"CONCATENATE(VLOOKUP(B1390,'School List'!$B$3:$H$291,6,FALSE),H1390)","v":"56351214"},{"$f":"CONCATENATE(VLOOKUP(B1390,'School List'!$B$3:$D$291,3,FALSE),H1390)","v":"Miami County - PERU COMMUNITY SCHOOL CORPORATION1214"},{"$f":"IF('Line 1 Source'!B1390<>\"\",'Line 1 Source'!B1390,\"\")","v":"52"},{"$f":"IF('Line 1 Source'!C1390<>\"\",'Line 1 Source'!C1390,\"\")","v":"4"},{"$f":"IF('Line 1 Source'!D1390<>\"\",'Line 1 Source'!D1390,\"\")","v":"5635"},{"$f":"IF('Line 1 Source'!E1390<>\"\",'Line 1 Source'!E1390,\"\")","v":"1214"},{"$f":"IF('Line 1 Source'!F1390<>\"\",'Line 1 Source'!F1390,\"\")","v":1670643}]
[{"$f":"IF('Line 1 Source'!A1391<>\"\",'Line 1 Source'!A1391,\"\")","v":"2018"},"5245635",{"$f":"CONCATENATE(VLOOKUP(B1391,'School List'!$B$3:$H$291,6,FALSE),H1391)","v":"56356301"},{"$f":"CONCATENATE(VLOOKUP(B1391,'School List'!$B$3:$D$291,3,FALSE),H1391)","v":"Miami County - PERU COMMUNITY SCHOOL CORPORATION6301"},{"$f":"IF('Line 1 Source'!B1391<>\"\",'Line 1 Source'!B1391,\"\")","v":"52"},{"$f":"IF('Line 1 Source'!C1391<>\"\",'Line 1 Source'!C1391,\"\")","v":"4"},{"$f":"IF('Line 1 Source'!D1391<>\"\",'Line 1 Source'!D1391,\"\")","v":"5635"},{"$f":"IF('Line 1 Source'!E1391<>\"\",'Line 1 Source'!E1391,\"\")","v":"6301"},{"$f":"IF('Line 1 Source'!F1391<>\"\",'Line 1 Source'!F1391,\"\")","v":624559}]
[{"$f":"IF('Line 1 Source'!A1392<>\"\",'Line 1 Source'!A1392,\"\")","v":"2018"},"5245635",{"$f":"CONCATENATE(VLOOKUP(B1392,'School List'!$B$3:$H$291,6,FALSE),H1392)","v":"56356302"},{"$f":"CONCATENATE(VLOOKUP(B1392,'School List'!$B$3:$D$291,3,FALSE),H1392)","v":"Miami County - PERU COMMUNITY SCHOOL CORPORATION6302"},{"$f":"IF('Line 1 Source'!B1392<>\"\",'Line 1 Source'!B1392,\"\")","v":"52"},{"$f":"IF('Line 1 Source'!C1392<>\"\",'Line 1 Source'!C1392,\"\")","v":"4"},{"$f":"IF('Line 1 Source'!D1392<>\"\",'Line 1 Source'!D1392,\"\")","v":"5635"},{"$f":"IF('Line 1 Source'!E1392<>\"\",'Line 1 Source'!E1392,\"\")","v":"6302"},{"$f":"IF('Line 1 Source'!F1392<>\"\",'Line 1 Source'!F1392,\"\")","v":180707}]
[{"$f":"IF('Line 1 Source'!A1393<>\"\",'Line 1 Source'!A1393,\"\")","v":"2018"},"5345705",{"$f":"CONCATENATE(VLOOKUP(B1393,'School List'!$B$3:$H$291,6,FALSE),H1393)","v":"57050061"},{"$f":"CONCATENATE(VLOOKUP(B1393,'School List'!$B$3:$D$291,3,FALSE),H1393)","v":"Monroe County - RICHLAND-BEAN BLOSSOM COMM SCHOOL CORP0061"},{"$f":"IF('Line 1 Source'!B1393<>\"\",'Line 1 Source'!B1393,\"\")","v":"53"},{"$f":"IF('Line 1 Source'!C1393<>\"\",'Line 1 Source'!C1393,\"\")","v":"4"},{"$f":"IF('Line 1 Source'!D1393<>\"\",'Line 1 Source'!D1393,\"\")","v":"5705"},{"$f":"IF('Line 1 Source'!E1393<>\"\",'Line 1 Source'!E1393,\"\")","v":"0061"},{"$f":"IF('Line 1 Source'!F1393<>\"\",'Line 1 Source'!F1393,\"\")","v":0}]
[{"$f":"IF('Line 1 Source'!A1394<>\"\",'Line 1 Source'!A1394,\"\")","v":"2018"},"5345705",{"$f":"CONCATENATE(VLOOKUP(B1394,'School List'!$B$3:$H$291,6,FALSE),H1394)","v":"57050101"},{"$f":"CONCATENATE(VLOOKUP(B1394,'School List'!$B$3:$D$291,3,FALSE),H1394)","v":"Monroe County - RICHLAND-BEAN BLOSSOM COMM SCHOOL CORP0101"},{"$f":"IF('Line 1 Source'!B1394<>\"\",'Line 1 Source'!B1394,\"\")","v":"53"},{"$f":"IF('Line 1 Source'!C1394<>\"\",'Line 1 Source'!C1394,\"\")","v":"4"},{"$f":"IF('Line 1 Source'!D1394<>\"\",'Line 1 Source'!D1394,\"\")","v":"5705"},{"$f":"IF('Line 1 Source'!E1394<>\"\",'Line 1 Source'!E1394,\"\")","v":"0101"},{"$f":"IF('Line 1 Source'!F1394<>\"\",'Line 1 Source'!F1394,\"\")","v":17909475}]
[{"$f":"IF('Line 1 Source'!A1395<>\"\",'Line 1 Source'!A1395,\"\")","v":"2018"},"5345705",{"$f":"CONCATENATE(VLOOKUP(B1395,'School List'!$B$3:$H$291,6,FALSE),H1395)","v":"57050180"},{"$f":"CONCATENATE(VLOOKUP(B1395,'School List'!$B$3:$D$291,3,FALSE),H1395)","v":"Monroe County - RICHLAND-BEAN BLOSSOM COMM SCHOOL CORP0180"},{"$f":"IF('Line 1 Source'!B1395<>\"\",'Line 1 Source'!B1395,\"\")","v":"53"},{"$f":"IF('Line 1 Source'!C1395<>\"\",'Line 1 Source'!C1395,\"\")","v":"4"},{"$f":"IF('Line 1 Source'!D1395<>\"\",'Line 1 Source'!D1395,\"\")","v":"5705"},{"$f":"IF('Line 1 Source'!E1395<>\"\",'Line 1 Source'!E1395,\"\")","v":"0180"},{"$f":"IF('Line 1 Source'!F1395<>\"\",'Line 1 Source'!F1395,\"\")","v":4902839}]
[{"$f":"IF('Line 1 Source'!A1396<>\"\",'Line 1 Source'!A1396,\"\")","v":"2018"},"5345705",{"$f":"CONCATENATE(VLOOKUP(B1396,'School List'!$B$3:$H$291,6,FALSE),H1396)","v":"57050186"},{"$f":"CONCATENATE(VLOOKUP(B1396,'School List'!$B$3:$D$291,3,FALSE),H1396)","v":"Monroe County - RICHLAND-BEAN BLOSSOM COMM SCHOOL CORP0186"},{"$f":"IF('Line 1 Source'!B1396<>\"\",'Line 1 Source'!B1396,\"\")","v":"53"},{"$f":"IF('Line 1 Source'!C1396<>\"\",'Line 1 Source'!C1396,\"\")","v":"4"},{"$f":"IF('Line 1 Source'!D1396<>\"\",'Line 1 Source'!D1396,\"\")","v":"5705"},{"$f":"IF('Line 1 Source'!E1396<>\"\",'Line 1 Source'!E1396,\"\")","v":"0186"},{"$f":"IF('Line 1 Source'!F1396<>\"\",'Line 1 Source'!F1396,\"\")","v":243378}]
[{"$f":"IF('Line 1 Source'!A1397<>\"\",'Line 1 Source'!A1397,\"\")","v":"2018"},"5345705",{"$f":"CONCATENATE(VLOOKUP(B1397,'School List'!$B$3:$H$291,6,FALSE),H1397)","v":"57051214"},{"$f":"CONCATENATE(VLOOKUP(B1397,'School List'!$B$3:$D$291,3,FALSE),H1397)","v":"Monroe County - RICHLAND-BEAN BLOSSOM COMM SCHOOL CORP1214"},{"$f":"IF('Line 1 Source'!B1397<>\"\",'Line 1 Source'!B1397,\"\")","v":"53"},{"$f":"IF('Line 1 Source'!C1397<>\"\",'Line 1 Source'!C1397,\"\")","v":"4"},{"$f":"IF('Line 1 Source'!D1397<>\"\",'Line 1 Source'!D1397,\"\")","v":"5705"},{"$f":"IF('Line 1 Source'!E1397<>\"\",'Line 1 Source'!E1397,\"\")","v":"1214"},{"$f":"IF('Line 1 Source'!F1397<>\"\",'Line 1 Source'!F1397,\"\")","v":2204067}]
[{"$f":"IF('Line 1 Source'!A1398<>\"\",'Line 1 Source'!A1398,\"\")","v":"2018"},"5345705",{"$f":"CONCATENATE(VLOOKUP(B1398,'School List'!$B$3:$H$291,6,FALSE),H1398)","v":"57056301"},{"$f":"CONCATENATE(VLOOKUP(B1398,'School List'!$B$3:$D$291,3,FALSE),H1398)","v":"Monroe County - RICHLAND-BEAN BLOSSOM COMM SCHOOL CORP6301"},{"$f":"IF('Line 1 Source'!B1398<>\"\",'Line 1 Source'!B1398,\"\")","v":"53"},{"$f":"IF('Line 1 Source'!C1398<>\"\",'Line 1 Source'!C1398,\"\")","v":"4"},{"$f":"IF('Line 1 Source'!D1398<>\"\",'Line 1 Source'!D1398,\"\")","v":"5705"},{"$f":"IF('Line 1 Source'!E1398<>\"\",'Line 1 Source'!E1398,\"\")","v":"6301"},{"$f":"IF('Line 1 Source'!F1398<>\"\",'Line 1 Source'!F1398,\"\")","v":1276610}]
[{"$f":"IF('Line 1 Source'!A1399<>\"\",'Line 1 Source'!A1399,\"\")","v":"2018"},"5345705",{"$f":"CONCATENATE(VLOOKUP(B1399,'School List'!$B$3:$H$291,6,FALSE),H1399)","v":"57056302"},{"$f":"CONCATENATE(VLOOKUP(B1399,'School List'!$B$3:$D$291,3,FALSE),H1399)","v":"Monroe County - RICHLAND-BEAN BLOSSOM COMM SCHOOL CORP6302"},{"$f":"IF('Line 1 Source'!B1399<>\"\",'Line 1 Source'!B1399,\"\")","v":"53"},{"$f":"IF('Line 1 Source'!C1399<>\"\",'Line 1 Source'!C1399,\"\")","v":"4"},{"$f":"IF('Line 1 Source'!D1399<>\"\",'Line 1 Source'!D1399,\"\")","v":"5705"},{"$f":"IF('Line 1 Source'!E1399<>\"\",'Line 1 Source'!E1399,\"\")","v":"6302"},{"$f":"IF('Line 1 Source'!F1399<>\"\",'Line 1 Source'!F1399,\"\")","v":637083}]
[{"$f":"IF('Line 1 Source'!A1400<>\"\",'Line 1 Source'!A1400,\"\")","v":"2018"},"5345740",{"$f":"CONCATENATE(VLOOKUP(B1400,'School List'!$B$3:$H$291,6,FALSE),H1400)","v":"57400022"},{"$f":"CONCATENATE(VLOOKUP(B1400,'School List'!$B$3:$D$291,3,FALSE),H1400)","v":"Monroe County - MONROE COUNTY COMMUNITY SCHOOL CORP0022"},{"$f":"IF('Line 1 Source'!B1400<>\"\",'Line 1 Source'!B1400,\"\")","v":"53"},{"$f":"IF('Line 1 Source'!C1400<>\"\",'Line 1 Source'!C1400,\"\")","v":"4"},{"$f":"IF('Line 1 Source'!D1400<>\"\",'Line 1 Source'!D1400,\"\")","v":"5740"},{"$f":"IF('Line 1 Source'!E1400<>\"\",'Line 1 Source'!E1400,\"\")","v":"0022"},{"$f":"IF('Line 1 Source'!F1400<>\"\",'Line 1 Source'!F1400,\"\")","v":9457998}]
[{"$f":"IF('Line 1 Source'!A1401<>\"\",'Line 1 Source'!A1401,\"\")","v":"2018"},"5345740",{"$f":"CONCATENATE(VLOOKUP(B1401,'School List'!$B$3:$H$291,6,FALSE),H1401)","v":"57400101"},{"$f":"CONCATENATE(VLOOKUP(B1401,'School List'!$B$3:$D$291,3,FALSE),H1401)","v":"Monroe County - MONROE COUNTY COMMUNITY SCHOOL CORP0101"},{"$f":"IF('Line 1 Source'!B1401<>\"\",'Line 1 Source'!B1401,\"\")","v":"53"},{"$f":"IF('Line 1 Source'!C1401<>\"\",'Line 1 Source'!C1401,\"\")","v":"4"},{"$f":"IF('Line 1 Source'!D1401<>\"\",'Line 1 Source'!D1401,\"\")","v":"5740"},{"$f":"IF('Line 1 Source'!E1401<>\"\",'Line 1 Source'!E1401,\"\")","v":"0101"},{"$f":"IF('Line 1 Source'!F1401<>\"\",'Line 1 Source'!F1401,\"\")","v":78944157}]
[{"$f":"IF('Line 1 Source'!A1402<>\"\",'Line 1 Source'!A1402,\"\")","v":"2018"},"5345740",{"$f":"CONCATENATE(VLOOKUP(B1402,'School List'!$B$3:$H$291,6,FALSE),H1402)","v":"57400180"},{"$f":"CONCATENATE(VLOOKUP(B1402,'School List'!$B$3:$D$291,3,FALSE),H1402)","v":"Monroe County - MONROE COUNTY COMMUNITY SCHOOL CORP0180"},{"$f":"IF('Line 1 Source'!B1402<>\"\",'Line 1 Source'!B1402,\"\")","v":"53"},{"$f":"IF('Line 1 Source'!C1402<>\"\",'Line 1 Source'!C1402,\"\")","v":"4"},{"$f":"IF('Line 1 Source'!D1402<>\"\",'Line 1 Source'!D1402,\"\")","v":"5740"},{"$f":"IF('Line 1 Source'!E1402<>\"\",'Line 1 Source'!E1402,\"\")","v":"0180"},{"$f":"IF('Line 1 Source'!F1402<>\"\",'Line 1 Source'!F1402,\"\")","v":12619549}]
[{"$f":"IF('Line 1 Source'!A1403<>\"\",'Line 1 Source'!A1403,\"\")","v":"2018"},"5345740",{"$f":"CONCATENATE(VLOOKUP(B1403,'School List'!$B$3:$H$291,6,FALSE),H1403)","v":"57400186"},{"$f":"CONCATENATE(VLOOKUP(B1403,'School List'!$B$3:$D$291,3,FALSE),H1403)","v":"Monroe County - MONROE COUNTY COMMUNITY SCHOOL CORP0186"},{"$f":"IF('Line 1 Source'!B1403<>\"\",'Line 1 Source'!B1403,\"\")","v":"53"},{"$f":"IF('Line 1 Source'!C1403<>\"\",'Line 1 Source'!C1403,\"\")","v":"4"},{"$f":"IF('Line 1 Source'!D1403<>\"\",'Line 1 Source'!D1403,\"\")","v":"5740"},{"$f":"IF('Line 1 Source'!E1403<>\"\",'Line 1 Source'!E1403,\"\")","v":"0186"},{"$f":"IF('Line 1 Source'!F1403<>\"\",'Line 1 Source'!F1403,\"\")","v":1014122}]
[{"$f":"IF('Line 1 Source'!A1404<>\"\",'Line 1 Source'!A1404,\"\")","v":"2018"},"5345740",{"$f":"CONCATENATE(VLOOKUP(B1404,'School List'!$B$3:$H$291,6,FALSE),H1404)","v":"57401214"},{"$f":"CONCATENATE(VLOOKUP(B1404,'School List'!$B$3:$D$291,3,FALSE),H1404)","v":"Monroe County - MONROE COUNTY COMMUNITY SCHOOL CORP1214"},{"$f":"IF('Line 1 Source'!B1404<>\"\",'Line 1 Source'!B1404,\"\")","v":"53"},{"$f":"IF('Line 1 Source'!C1404<>\"\",'Line 1 Source'!C1404,\"\")","v":"4"},{"$f":"IF('Line 1 Source'!D1404<>\"\",'Line 1 Source'!D1404,\"\")","v":"5740"},{"$f":"IF('Line 1 Source'!E1404<>\"\",'Line 1 Source'!E1404,\"\")","v":"1214"},{"$f":"IF('Line 1 Source'!F1404<>\"\",'Line 1 Source'!F1404,\"\")","v":13566764}]
[{"$f":"IF('Line 1 Source'!A1405<>\"\",'Line 1 Source'!A1405,\"\")","v":"2018"},"5345740",{"$f":"CONCATENATE(VLOOKUP(B1405,'School List'!$B$3:$H$291,6,FALSE),H1405)","v":"57406301"},{"$f":"CONCATENATE(VLOOKUP(B1405,'School List'!$B$3:$D$291,3,FALSE),H1405)","v":"Monroe County - MONROE COUNTY COMMUNITY SCHOOL CORP6301"},{"$f":"IF('Line 1 Source'!B1405<>\"\",'Line 1 Source'!B1405,\"\")","v":"53"},{"$f":"IF('Line 1 Source'!C1405<>\"\",'Line 1 Source'!C1405,\"\")","v":"4"},{"$f":"IF('Line 1 Source'!D1405<>\"\",'Line 1 Source'!D1405,\"\")","v":"5740"},{"$f":"IF('Line 1 Source'!E1405<>\"\",'Line 1 Source'!E1405,\"\")","v":"6301"},{"$f":"IF('Line 1 Source'!F1405<>\"\",'Line 1 Source'!F1405,\"\")","v":6629836}]
[{"$f":"IF('Line 1 Source'!A1406<>\"\",'Line 1 Source'!A1406,\"\")","v":"2018"},"5345740",{"$f":"CONCATENATE(VLOOKUP(B1406,'School List'!$B$3:$H$291,6,FALSE),H1406)","v":"57406302"},{"$f":"CONCATENATE(VLOOKUP(B1406,'School List'!$B$3:$D$291,3,FALSE),H1406)","v":"Monroe County - MONROE COUNTY COMMUNITY SCHOOL CORP6302"},{"$f":"IF('Line 1 Source'!B1406<>\"\",'Line 1 Source'!B1406,\"\")","v":"53"},{"$f":"IF('Line 1 Source'!C1406<>\"\",'Line 1 Source'!C1406,\"\")","v":"4"},{"$f":"IF('Line 1 Source'!D1406<>\"\",'Line 1 Source'!D1406,\"\")","v":"5740"},{"$f":"IF('Line 1 Source'!E1406<>\"\",'Line 1 Source'!E1406,\"\")","v":"6302"},{"$f":"IF('Line 1 Source'!F1406<>\"\",'Line 1 Source'!F1406,\"\")","v":1452335}]
[{"$f":"IF('Line 1 Source'!A1407<>\"\",'Line 1 Source'!A1407,\"\")","v":"2018"},"5445835",{"$f":"CONCATENATE(VLOOKUP(B1407,'School List'!$B$3:$H$291,6,FALSE),H1407)","v":"58350061"},{"$f":"CONCATENATE(VLOOKUP(B1407,'School List'!$B$3:$D$291,3,FALSE),H1407)","v":"Montgomery County - NORTH MONTGOMERY COMMUNITY SCHOOL CORP0061"},{"$f":"IF('Line 1 Source'!B1407<>\"\",'Line 1 Source'!B1407,\"\")","v":"54"},{"$f":"IF('Line 1 Source'!C1407<>\"\",'Line 1 Source'!C1407,\"\")","v":"4"},{"$f":"IF('Line 1 Source'!D1407<>\"\",'Line 1 Source'!D1407,\"\")","v":"5835"},{"$f":"IF('Line 1 Source'!E1407<>\"\",'Line 1 Source'!E1407,\"\")","v":"0061"},{"$f":"IF('Line 1 Source'!F1407<>\"\",'Line 1 Source'!F1407,\"\")","v":942000}]
[{"$f":"IF('Line 1 Source'!A1408<>\"\",'Line 1 Source'!A1408,\"\")","v":"2018"},"5445835",{"$f":"CONCATENATE(VLOOKUP(B1408,'School List'!$B$3:$H$291,6,FALSE),H1408)","v":"58350101"},{"$f":"CONCATENATE(VLOOKUP(B1408,'School List'!$B$3:$D$291,3,FALSE),H1408)","v":"Montgomery County - NORTH MONTGOMERY COMMUNITY SCHOOL CORP0101"},{"$f":"IF('Line 1 Source'!B1408<>\"\",'Line 1 Source'!B1408,\"\")","v":"54"},{"$f":"IF('Line 1 Source'!C1408<>\"\",'Line 1 Source'!C1408,\"\")","v":"4"},{"$f":"IF('Line 1 Source'!D1408<>\"\",'Line 1 Source'!D1408,\"\")","v":"5835"},{"$f":"IF('Line 1 Source'!E1408<>\"\",'Line 1 Source'!E1408,\"\")","v":"0101"},{"$f":"IF('Line 1 Source'!F1408<>\"\",'Line 1 Source'!F1408,\"\")","v":12830200}]
[{"$f":"IF('Line 1 Source'!A1409<>\"\",'Line 1 Source'!A1409,\"\")","v":"2018"},"5445835",{"$f":"CONCATENATE(VLOOKUP(B1409,'School List'!$B$3:$H$291,6,FALSE),H1409)","v":"58350180"},{"$f":"CONCATENATE(VLOOKUP(B1409,'School List'!$B$3:$D$291,3,FALSE),H1409)","v":"Montgomery County - NORTH MONTGOMERY COMMUNITY SCHOOL CORP0180"},{"$f":"IF('Line 1 Source'!B1409<>\"\",'Line 1 Source'!B1409,\"\")","v":"54"},{"$f":"IF('Line 1 Source'!C1409<>\"\",'Line 1 Source'!C1409,\"\")","v":"4"},{"$f":"IF('Line 1 Source'!D1409<>\"\",'Line 1 Source'!D1409,\"\")","v":"5835"},{"$f":"IF('Line 1 Source'!E1409<>\"\",'Line 1 Source'!E1409,\"\")","v":"0180"},{"$f":"IF('Line 1 Source'!F1409<>\"\",'Line 1 Source'!F1409,\"\")","v":1872974}]
[{"$f":"IF('Line 1 Source'!A1410<>\"\",'Line 1 Source'!A1410,\"\")","v":"2018"},"5445835",{"$f":"CONCATENATE(VLOOKUP(B1410,'School List'!$B$3:$H$291,6,FALSE),H1410)","v":"58350186"},{"$f":"CONCATENATE(VLOOKUP(B1410,'School List'!$B$3:$D$291,3,FALSE),H1410)","v":"Montgomery County - NORTH MONTGOMERY COMMUNITY SCHOOL CORP0186"},{"$f":"IF('Line 1 Source'!B1410<>\"\",'Line 1 Source'!B1410,\"\")","v":"54"},{"$f":"IF('Line 1 Source'!C1410<>\"\",'Line 1 Source'!C1410,\"\")","v":"4"},{"$f":"IF('Line 1 Source'!D1410<>\"\",'Line 1 Source'!D1410,\"\")","v":"5835"},{"$f":"IF('Line 1 Source'!E1410<>\"\",'Line 1 Source'!E1410,\"\")","v":"0186"},{"$f":"IF('Line 1 Source'!F1410<>\"\",'Line 1 Source'!F1410,\"\")","v":276716}]
[{"$f":"IF('Line 1 Source'!A1411<>\"\",'Line 1 Source'!A1411,\"\")","v":"2018"},{"$f":"CONCATENATE(E1411,F1411,G1411)","v":"5445835"},{"$f":"CONCATENATE(VLOOKUP(B1411,'School List'!$B$3:$H$291,6,FALSE),H1411)","v":"58351214"},{"$f":"CONCATENATE(VLOOKUP(B1411,'School List'!$B$3:$D$291,3,FALSE),H1411)","v":"Montgomery County - NORTH MONTGOMERY COMMUNITY SCHOOL CORP1214"},{"$f":"IF('Line 1 Source'!B1411<>\"\",'Line 1 Source'!B1411,\"\")","v":"54"},{"$f":"IF('Line 1 Source'!C1411<>\"\",'Line 1 Source'!C1411,\"\")","v":"4"},{"$f":"IF('Line 1 Source'!D1411<>\"\",'Line 1 Source'!D1411,\"\")","v":"5835"},{"$f":"IF('Line 1 Source'!E1411<>\"\",'Line 1 Source'!E1411,\"\")","v":"1214"},{"$f":"IF('Line 1 Source'!F1411<>\"\",'Line 1 Source'!F1411,\"\")","v":2428151}]
[{"$f":"IF('Line 1 Source'!A1412<>\"\",'Line 1 Source'!A1412,\"\")","v":"2018"},"5445835",{"$f":"CONCATENATE(VLOOKUP(B1412,'School List'!$B$3:$H$291,6,FALSE),H1412)","v":"58356301"},{"$f":"CONCATENATE(VLOOKUP(B1412,'School List'!$B$3:$D$291,3,FALSE),H1412)","v":"Montgomery County - NORTH MONTGOMERY COMMUNITY SCHOOL CORP6301"},{"$f":"IF('Line 1 Source'!B1412<>\"\",'Line 1 Source'!B1412,\"\")","v":"54"},{"$f":"IF('Line 1 Source'!C1412<>\"\",'Line 1 Source'!C1412,\"\")","v":"4"},{"$f":"IF('Line 1 Source'!D1412<>\"\",'Line 1 Source'!D1412,\"\")","v":"5835"},{"$f":"IF('Line 1 Source'!E1412<>\"\",'Line 1 Source'!E1412,\"\")","v":"6301"},{"$f":"IF('Line 1 Source'!F1412<>\"\",'Line 1 Source'!F1412,\"\")","v":3143000}]
[{"$f":"IF('Line 1 Source'!A1413<>\"\",'Line 1 Source'!A1413,\"\")","v":"2018"},"5445835",{"$f":"CONCATENATE(VLOOKUP(B1413,'School List'!$B$3:$H$291,6,FALSE),H1413)","v":"58356302"},{"$f":"CONCATENATE(VLOOKUP(B1413,'School List'!$B$3:$D$291,3,FALSE),H1413)","v":"Montgomery County - NORTH MONTGOMERY COMMUNITY SCHOOL CORP6302"},{"$f":"IF('Line 1 Source'!B1413<>\"\",'Line 1 Source'!B1413,\"\")","v":"54"},{"$f":"IF('Line 1 Source'!C1413<>\"\",'Line 1 Source'!C1413,\"\")","v":"4"},{"$f":"IF('Line 1 Source'!D1413<>\"\",'Line 1 Source'!D1413,\"\")","v":"5835"},{"$f":"IF('Line 1 Source'!E1413<>\"\",'Line 1 Source'!E1413,\"\")","v":"6302"},{"$f":"IF('Line 1 Source'!F1413<>\"\",'Line 1 Source'!F1413,\"\")","v":333087}]
[{"$f":"IF('Line 1 Source'!A1414<>\"\",'Line 1 Source'!A1414,\"\")","v":"2018"},"5445845",{"$f":"CONCATENATE(VLOOKUP(B1414,'School List'!$B$3:$H$291,6,FALSE),H1414)","v":"58450061"},{"$f":"CONCATENATE(VLOOKUP(B1414,'School List'!$B$3:$D$291,3,FALSE),H1414)","v":"Montgomery County - SOUTH MONTGOMERY COMMUNITY SCHOOL CORP0061"},{"$f":"IF('Line 1 Source'!B1414<>\"\",'Line 1 Source'!B1414,\"\")","v":"54"},{"$f":"IF('Line 1 Source'!C1414<>\"\",'Line 1 Source'!C1414,\"\")","v":"4"},{"$f":"IF('Line 1 Source'!D1414<>\"\",'Line 1 Source'!D1414,\"\")","v":"5845"},{"$f":"IF('Line 1 Source'!E1414<>\"\",'Line 1 Source'!E1414,\"\")","v":"0061"},{"$f":"IF('Line 1 Source'!F1414<>\"\",'Line 1 Source'!F1414,\"\")","v":332029}]
[{"$f":"IF('Line 1 Source'!A1415<>\"\",'Line 1 Source'!A1415,\"\")","v":"2018"},"5445845",{"$f":"CONCATENATE(VLOOKUP(B1415,'School List'!$B$3:$H$291,6,FALSE),H1415)","v":"58450101"},{"$f":"CONCATENATE(VLOOKUP(B1415,'School List'!$B$3:$D$291,3,FALSE),H1415)","v":"Montgomery County - SOUTH MONTGOMERY COMMUNITY SCHOOL CORP0101"},{"$f":"IF('Line 1 Source'!B1415<>\"\",'Line 1 Source'!B1415,\"\")","v":"54"},{"$f":"IF('Line 1 Source'!C1415<>\"\",'Line 1 Source'!C1415,\"\")","v":"4"},{"$f":"IF('Line 1 Source'!D1415<>\"\",'Line 1 Source'!D1415,\"\")","v":"5845"},{"$f":"IF('Line 1 Source'!E1415<>\"\",'Line 1 Source'!E1415,\"\")","v":"0101"},{"$f":"IF('Line 1 Source'!F1415<>\"\",'Line 1 Source'!F1415,\"\")","v":11534000}]
[{"$f":"IF('Line 1 Source'!A1416<>\"\",'Line 1 Source'!A1416,\"\")","v":"2018"},"5445845",{"$f":"CONCATENATE(VLOOKUP(B1416,'School List'!$B$3:$H$291,6,FALSE),H1416)","v":"58450180"},{"$f":"CONCATENATE(VLOOKUP(B1416,'School List'!$B$3:$D$291,3,FALSE),H1416)","v":"Montgomery County - SOUTH MONTGOMERY COMMUNITY SCHOOL CORP0180"},{"$f":"IF('Line 1 Source'!B1416<>\"\",'Line 1 Source'!B1416,\"\")","v":"54"},{"$f":"IF('Line 1 Source'!C1416<>\"\",'Line 1 Source'!C1416,\"\")","v":"4"},{"$f":"IF('Line 1 Source'!D1416<>\"\",'Line 1 Source'!D1416,\"\")","v":"5845"},{"$f":"IF('Line 1 Source'!E1416<>\"\",'Line 1 Source'!E1416,\"\")","v":"0180"},{"$f":"IF('Line 1 Source'!F1416<>\"\",'Line 1 Source'!F1416,\"\")","v":4104412}]
[{"$f":"IF('Line 1 Source'!A1417<>\"\",'Line 1 Source'!A1417,\"\")","v":"2018"},"5445845",{"$f":"CONCATENATE(VLOOKUP(B1417,'School List'!$B$3:$H$291,6,FALSE),H1417)","v":"58450186"},{"$f":"CONCATENATE(VLOOKUP(B1417,'School List'!$B$3:$D$291,3,FALSE),H1417)","v":"Montgomery County - SOUTH MONTGOMERY COMMUNITY SCHOOL CORP0186"},{"$f":"IF('Line 1 Source'!B1417<>\"\",'Line 1 Source'!B1417,\"\")","v":"54"},{"$f":"IF('Line 1 Source'!C1417<>\"\",'Line 1 Source'!C1417,\"\")","v":"4"},{"$f":"IF('Line 1 Source'!D1417<>\"\",'Line 1 Source'!D1417,\"\")","v":"5845"},{"$f":"IF('Line 1 Source'!E1417<>\"\",'Line 1 Source'!E1417,\"\")","v":"0186"},{"$f":"IF('Line 1 Source'!F1417<>\"\",'Line 1 Source'!F1417,\"\")","v":294764}]
[{"$f":"IF('Line 1 Source'!A1418<>\"\",'Line 1 Source'!A1418,\"\")","v":"2018"},"5445845",{"$f":"CONCATENATE(VLOOKUP(B1418,'School List'!$B$3:$H$291,6,FALSE),H1418)","v":"58451214"},{"$f":"CONCATENATE(VLOOKUP(B1418,'School List'!$B$3:$D$291,3,FALSE),H1418)","v":"Montgomery County - SOUTH MONTGOMERY COMMUNITY SCHOOL CORP1214"},{"$f":"IF('Line 1 Source'!B1418<>\"\",'Line 1 Source'!B1418,\"\")","v":"54"},{"$f":"IF('Line 1 Source'!C1418<>\"\",'Line 1 Source'!C1418,\"\")","v":"4"},{"$f":"IF('Line 1 Source'!D1418<>\"\",'Line 1 Source'!D1418,\"\")","v":"5845"},{"$f":"IF('Line 1 Source'!E1418<>\"\",'Line 1 Source'!E1418,\"\")","v":"1214"},{"$f":"IF('Line 1 Source'!F1418<>\"\",'Line 1 Source'!F1418,\"\")","v":2824033}]
[{"$f":"IF('Line 1 Source'!A1419<>\"\",'Line 1 Source'!A1419,\"\")","v":"2018"},"5445845",{"$f":"CONCATENATE(VLOOKUP(B1419,'School List'!$B$3:$H$291,6,FALSE),H1419)","v":"58456301"},{"$f":"CONCATENATE(VLOOKUP(B1419,'School List'!$B$3:$D$291,3,FALSE),H1419)","v":"Montgomery County - SOUTH MONTGOMERY COMMUNITY SCHOOL CORP6301"},{"$f":"IF('Line 1 Source'!B1419<>\"\",'Line 1 Source'!B1419,\"\")","v":"54"},{"$f":"IF('Line 1 Source'!C1419<>\"\",'Line 1 Source'!C1419,\"\")","v":"4"},{"$f":"IF('Line 1 Source'!D1419<>\"\",'Line 1 Source'!D1419,\"\")","v":"5845"},{"$f":"IF('Line 1 Source'!E1419<>\"\",'Line 1 Source'!E1419,\"\")","v":"6301"},{"$f":"IF('Line 1 Source'!F1419<>\"\",'Line 1 Source'!F1419,\"\")","v":2000000}]
[{"$f":"IF('Line 1 Source'!A1420<>\"\",'Line 1 Source'!A1420,\"\")","v":"2018"},"5445845",{"$f":"CONCATENATE(VLOOKUP(B1420,'School List'!$B$3:$H$291,6,FALSE),H1420)","v":"58456302"},{"$f":"CONCATENATE(VLOOKUP(B1420,'School List'!$B$3:$D$291,3,FALSE),H1420)","v":"Montgomery County - SOUTH MONTGOMERY COMMUNITY SCHOOL CORP6302"},{"$f":"IF('Line 1 Source'!B1420<>\"\",'Line 1 Source'!B1420,\"\")","v":"54"},{"$f":"IF('Line 1 Source'!C1420<>\"\",'Line 1 Source'!C1420,\"\")","v":"4"},{"$f":"IF('Line 1 Source'!D1420<>\"\",'Line 1 Source'!D1420,\"\")","v":"5845"},{"$f":"IF('Line 1 Source'!E1420<>\"\",'Line 1 Source'!E1420,\"\")","v":"6302"},{"$f":"IF('Line 1 Source'!F1420<>\"\",'Line 1 Source'!F1420,\"\")","v":207989}]
[{"$f":"IF('Line 1 Source'!A1421<>\"\",'Line 1 Source'!A1421,\"\")","v":"2018"},"5445855",{"$f":"CONCATENATE(VLOOKUP(B1421,'School List'!$B$3:$H$291,6,FALSE),H1421)","v":"58550061"},{"$f":"CONCATENATE(VLOOKUP(B1421,'School List'!$B$3:$D$291,3,FALSE),H1421)","v":"Montgomery County - CRAWFORDSVILLE COMMUNITY SCHOOL CORP0061"},{"$f":"IF('Line 1 Source'!B1421<>\"\",'Line 1 Source'!B1421,\"\")","v":"54"},{"$f":"IF('Line 1 Source'!C1421<>\"\",'Line 1 Source'!C1421,\"\")","v":"4"},{"$f":"IF('Line 1 Source'!D1421<>\"\",'Line 1 Source'!D1421,\"\")","v":"5855"},{"$f":"IF('Line 1 Source'!E1421<>\"\",'Line 1 Source'!E1421,\"\")","v":"0061"},{"$f":"IF('Line 1 Source'!F1421<>\"\",'Line 1 Source'!F1421,\"\")","v":330}]
[{"$f":"IF('Line 1 Source'!A1422<>\"\",'Line 1 Source'!A1422,\"\")","v":"2018"},"5445855",{"$f":"CONCATENATE(VLOOKUP(B1422,'School List'!$B$3:$H$291,6,FALSE),H1422)","v":"58550101"},{"$f":"CONCATENATE(VLOOKUP(B1422,'School List'!$B$3:$D$291,3,FALSE),H1422)","v":"Montgomery County - CRAWFORDSVILLE COMMUNITY SCHOOL CORP0101"},{"$f":"IF('Line 1 Source'!B1422<>\"\",'Line 1 Source'!B1422,\"\")","v":"54"},{"$f":"IF('Line 1 Source'!C1422<>\"\",'Line 1 Source'!C1422,\"\")","v":"4"},{"$f":"IF('Line 1 Source'!D1422<>\"\",'Line 1 Source'!D1422,\"\")","v":"5855"},{"$f":"IF('Line 1 Source'!E1422<>\"\",'Line 1 Source'!E1422,\"\")","v":"0101"},{"$f":"IF('Line 1 Source'!F1422<>\"\",'Line 1 Source'!F1422,\"\")","v":18277706}]
[{"$f":"IF('Line 1 Source'!A1423<>\"\",'Line 1 Source'!A1423,\"\")","v":"2018"},"5445855",{"$f":"CONCATENATE(VLOOKUP(B1423,'School List'!$B$3:$H$291,6,FALSE),H1423)","v":"58550180"},{"$f":"CONCATENATE(VLOOKUP(B1423,'School List'!$B$3:$D$291,3,FALSE),H1423)","v":"Montgomery County - CRAWFORDSVILLE COMMUNITY SCHOOL CORP0180"},{"$f":"IF('Line 1 Source'!B1423<>\"\",'Line 1 Source'!B1423,\"\")","v":"54"},{"$f":"IF('Line 1 Source'!C1423<>\"\",'Line 1 Source'!C1423,\"\")","v":"4"},{"$f":"IF('Line 1 Source'!D1423<>\"\",'Line 1 Source'!D1423,\"\")","v":"5855"},{"$f":"IF('Line 1 Source'!E1423<>\"\",'Line 1 Source'!E1423,\"\")","v":"0180"},{"$f":"IF('Line 1 Source'!F1423<>\"\",'Line 1 Source'!F1423,\"\")","v":3129157}]
[{"$f":"IF('Line 1 Source'!A1424<>\"\",'Line 1 Source'!A1424,\"\")","v":"2018"},"5445855",{"$f":"CONCATENATE(VLOOKUP(B1424,'School List'!$B$3:$H$291,6,FALSE),H1424)","v":"58550186"},{"$f":"CONCATENATE(VLOOKUP(B1424,'School List'!$B$3:$D$291,3,FALSE),H1424)","v":"Montgomery County - CRAWFORDSVILLE COMMUNITY SCHOOL CORP0186"},{"$f":"IF('Line 1 Source'!B1424<>\"\",'Line 1 Source'!B1424,\"\")","v":"54"},{"$f":"IF('Line 1 Source'!C1424<>\"\",'Line 1 Source'!C1424,\"\")","v":"4"},{"$f":"IF('Line 1 Source'!D1424<>\"\",'Line 1 Source'!D1424,\"\")","v":"5855"},{"$f":"IF('Line 1 Source'!E1424<>\"\",'Line 1 Source'!E1424,\"\")","v":"0186"},{"$f":"IF('Line 1 Source'!F1424<>\"\",'Line 1 Source'!F1424,\"\")","v":419055}]
[{"$f":"IF('Line 1 Source'!A1425<>\"\",'Line 1 Source'!A1425,\"\")","v":"2018"},"5445855",{"$f":"CONCATENATE(VLOOKUP(B1425,'School List'!$B$3:$H$291,6,FALSE),H1425)","v":"58550287"},{"$f":"CONCATENATE(VLOOKUP(B1425,'School List'!$B$3:$D$291,3,FALSE),H1425)","v":"Montgomery County - CRAWFORDSVILLE COMMUNITY SCHOOL CORP0287"},{"$f":"IF('Line 1 Source'!B1425<>\"\",'Line 1 Source'!B1425,\"\")","v":"54"},{"$f":"IF('Line 1 Source'!C1425<>\"\",'Line 1 Source'!C1425,\"\")","v":"4"},{"$f":"IF('Line 1 Source'!D1425<>\"\",'Line 1 Source'!D1425,\"\")","v":"5855"},{"$f":"IF('Line 1 Source'!E1425<>\"\",'Line 1 Source'!E1425,\"\")","v":"0287"},{"$f":"IF('Line 1 Source'!F1425<>\"\",'Line 1 Source'!F1425,\"\")","v":1882000}]
[{"$f":"IF('Line 1 Source'!A1426<>\"\",'Line 1 Source'!A1426,\"\")","v":"2018"},"5445855",{"$f":"CONCATENATE(VLOOKUP(B1426,'School List'!$B$3:$H$291,6,FALSE),H1426)","v":"58551214"},{"$f":"CONCATENATE(VLOOKUP(B1426,'School List'!$B$3:$D$291,3,FALSE),H1426)","v":"Montgomery County - CRAWFORDSVILLE COMMUNITY SCHOOL CORP1214"},{"$f":"IF('Line 1 Source'!B1426<>\"\",'Line 1 Source'!B1426,\"\")","v":"54"},{"$f":"IF('Line 1 Source'!C1426<>\"\",'Line 1 Source'!C1426,\"\")","v":"4"},{"$f":"IF('Line 1 Source'!D1426<>\"\",'Line 1 Source'!D1426,\"\")","v":"5855"},{"$f":"IF('Line 1 Source'!E1426<>\"\",'Line 1 Source'!E1426,\"\")","v":"1214"},{"$f":"IF('Line 1 Source'!F1426<>\"\",'Line 1 Source'!F1426,\"\")","v":1139656}]
[{"$f":"IF('Line 1 Source'!A1427<>\"\",'Line 1 Source'!A1427,\"\")","v":"2018"},"5445855",{"$f":"CONCATENATE(VLOOKUP(B1427,'School List'!$B$3:$H$291,6,FALSE),H1427)","v":"58556301"},{"$f":"CONCATENATE(VLOOKUP(B1427,'School List'!$B$3:$D$291,3,FALSE),H1427)","v":"Montgomery County - CRAWFORDSVILLE COMMUNITY SCHOOL CORP6301"},{"$f":"IF('Line 1 Source'!B1427<>\"\",'Line 1 Source'!B1427,\"\")","v":"54"},{"$f":"IF('Line 1 Source'!C1427<>\"\",'Line 1 Source'!C1427,\"\")","v":"4"},{"$f":"IF('Line 1 Source'!D1427<>\"\",'Line 1 Source'!D1427,\"\")","v":"5855"},{"$f":"IF('Line 1 Source'!E1427<>\"\",'Line 1 Source'!E1427,\"\")","v":"6301"},{"$f":"IF('Line 1 Source'!F1427<>\"\",'Line 1 Source'!F1427,\"\")","v":1023073}]
[{"$f":"IF('Line 1 Source'!A1428<>\"\",'Line 1 Source'!A1428,\"\")","v":"2018"},"5445855",{"$f":"CONCATENATE(VLOOKUP(B1428,'School List'!$B$3:$H$291,6,FALSE),H1428)","v":"58556302"},{"$f":"CONCATENATE(VLOOKUP(B1428,'School List'!$B$3:$D$291,3,FALSE),H1428)","v":"Montgomery County - CRAWFORDSVILLE COMMUNITY SCHOOL CORP6302"},{"$f":"IF('Line 1 Source'!B1428<>\"\",'Line 1 Source'!B1428,\"\")","v":"54"},{"$f":"IF('Line 1 Source'!C1428<>\"\",'Line 1 Source'!C1428,\"\")","v":"4"},{"$f":"IF('Line 1 Source'!D1428<>\"\",'Line 1 Source'!D1428,\"\")","v":"5855"},{"$f":"IF('Line 1 Source'!E1428<>\"\",'Line 1 Source'!E1428,\"\")","v":"6302"},{"$f":"IF('Line 1 Source'!F1428<>\"\",'Line 1 Source'!F1428,\"\")","v":419326}]
[{"$f":"IF('Line 1 Source'!A1429<>\"\",'Line 1 Source'!A1429,\"\")","v":"2018"},"5544255",{"$f":"CONCATENATE(VLOOKUP(B1429,'School List'!$B$3:$H$291,6,FALSE),H1429)","v":{"$error":"#N/A"}},{"$f":"CONCATENATE(VLOOKUP(B1429,'School List'!$B$3:$D$291,3,FALSE),H1429)","v":{"$error":"#N/A"}},{"$f":"IF('Line 1 Source'!B1429<>\"\",'Line 1 Source'!B1429,\"\")","v":"55"},{"$f":"IF('Line 1 Source'!C1429<>\"\",'Line 1 Source'!C1429,\"\")","v":"4"},{"$f":"IF('Line 1 Source'!D1429<>\"\",'Line 1 Source'!D1429,\"\")","v":"4255"},{"$f":"IF('Line 1 Source'!E1429<>\"\",'Line 1 Source'!E1429,\"\")","v":"0061"},{"$f":"IF('Line 1 Source'!F1429<>\"\",'Line 1 Source'!F1429,\"\")","v":0}]
[{"$f":"IF('Line 1 Source'!A1430<>\"\",'Line 1 Source'!A1430,\"\")","v":"2018"},"5544255",{"$f":"CONCATENATE(VLOOKUP(B1430,'School List'!$B$3:$H$291,6,FALSE),H1430)","v":{"$error":"#N/A"}},{"$f":"CONCATENATE(VLOOKUP(B1430,'School List'!$B$3:$D$291,3,FALSE),H1430)","v":{"$error":"#N/A"}},{"$f":"IF('Line 1 Source'!B1430<>\"\",'Line 1 Source'!B1430,\"\")","v":"55"},{"$f":"IF('Line 1 Source'!C1430<>\"\",'Line 1 Source'!C1430,\"\")","v":"4"},{"$f":"IF('Line 1 Source'!D1430<>\"\",'Line 1 Source'!D1430,\"\")","v":"4255"},{"$f":"IF('Line 1 Source'!E1430<>\"\",'Line 1 Source'!E1430,\"\")","v":"0101"},{"$f":"IF('Line 1 Source'!F1430<>\"\",'Line 1 Source'!F1430,\"\")","v":0}]
[{"$f":"IF('Line 1 Source'!A1431<>\"\",'Line 1 Source'!A1431,\"\")","v":"2018"},"5544255",{"$f":"CONCATENATE(VLOOKUP(B1431,'School List'!$B$3:$H$291,6,FALSE),H1431)","v":{"$error":"#N/A"}},{"$f":"CONCATENATE(VLOOKUP(B1431,'School List'!$B$3:$D$291,3,FALSE),H1431)","v":{"$error":"#N/A"}},{"$f":"IF('Line 1 Source'!B1431<>\"\",'Line 1 Source'!B1431,\"\")","v":"55"},{"$f":"IF('Line 1 Source'!C1431<>\"\",'Line 1 Source'!C1431,\"\")","v":"4"},{"$f":"IF('Line 1 Source'!D1431<>\"\",'Line 1 Source'!D1431,\"\")","v":"4255"},{"$f":"IF('Line 1 Source'!E1431<>\"\",'Line 1 Source'!E1431,\"\")","v":"0180"},{"$f":"IF('Line 1 Source'!F1431<>\"\",'Line 1 Source'!F1431,\"\")","v":0}]
[{"$f":"IF('Line 1 Source'!A1432<>\"\",'Line 1 Source'!A1432,\"\")","v":"2018"},"5544255",{"$f":"CONCATENATE(VLOOKUP(B1432,'School List'!$B$3:$H$291,6,FALSE),H1432)","v":{"$error":"#N/A"}},{"$f":"CONCATENATE(VLOOKUP(B1432,'School List'!$B$3:$D$291,3,FALSE),H1432)","v":{"$error":"#N/A"}},{"$f":"IF('Line 1 Source'!B1432<>\"\",'Line 1 Source'!B1432,\"\")","v":"55"},{"$f":"IF('Line 1 Source'!C1432<>\"\",'Line 1 Source'!C1432,\"\")","v":"4"},{"$f":"IF('Line 1 Source'!D1432<>\"\",'Line 1 Source'!D1432,\"\")","v":"4255"},{"$f":"IF('Line 1 Source'!E1432<>\"\",'Line 1 Source'!E1432,\"\")","v":"0186"},{"$f":"IF('Line 1 Source'!F1432<>\"\",'Line 1 Source'!F1432,\"\")","v":0}]
[{"$f":"IF('Line 1 Source'!A1433<>\"\",'Line 1 Source'!A1433,\"\")","v":"2018"},"5544255",{"$f":"CONCATENATE(VLOOKUP(B1433,'School List'!$B$3:$H$291,6,FALSE),H1433)","v":{"$error":"#N/A"}},{"$f":"CONCATENATE(VLOOKUP(B1433,'School List'!$B$3:$D$291,3,FALSE),H1433)","v":{"$error":"#N/A"}},{"$f":"IF('Line 1 Source'!B1433<>\"\",'Line 1 Source'!B1433,\"\")","v":"55"},{"$f":"IF('Line 1 Source'!C1433<>\"\",'Line 1 Source'!C1433,\"\")","v":"4"},{"$f":"IF('Line 1 Source'!D1433<>\"\",'Line 1 Source'!D1433,\"\")","v":"4255"},{"$f":"IF('Line 1 Source'!E1433<>\"\",'Line 1 Source'!E1433,\"\")","v":"1214"},{"$f":"IF('Line 1 Source'!F1433<>\"\",'Line 1 Source'!F1433,\"\")","v":0}]
[{"$f":"IF('Line 1 Source'!A1434<>\"\",'Line 1 Source'!A1434,\"\")","v":"2018"},"5544255",{"$f":"CONCATENATE(VLOOKUP(B1434,'School List'!$B$3:$H$291,6,FALSE),H1434)","v":{"$error":"#N/A"}},{"$f":"CONCATENATE(VLOOKUP(B1434,'School List'!$B$3:$D$291,3,FALSE),H1434)","v":{"$error":"#N/A"}},{"$f":"IF('Line 1 Source'!B1434<>\"\",'Line 1 Source'!B1434,\"\")","v":"55"},{"$f":"IF('Line 1 Source'!C1434<>\"\",'Line 1 Source'!C1434,\"\")","v":"4"},{"$f":"IF('Line 1 Source'!D1434<>\"\",'Line 1 Source'!D1434,\"\")","v":"4255"},{"$f":"IF('Line 1 Source'!E1434<>\"\",'Line 1 Source'!E1434,\"\")","v":"6301"},{"$f":"IF('Line 1 Source'!F1434<>\"\",'Line 1 Source'!F1434,\"\")","v":0}]
[{"$f":"IF('Line 1 Source'!A1435<>\"\",'Line 1 Source'!A1435,\"\")","v":"2018"},"5544255",{"$f":"CONCATENATE(VLOOKUP(B1435,'School List'!$B$3:$H$291,6,FALSE),H1435)","v":{"$error":"#N/A"}},{"$f":"CONCATENATE(VLOOKUP(B1435,'School List'!$B$3:$D$291,3,FALSE),H1435)","v":{"$error":"#N/A"}},{"$f":"IF('Line 1 Source'!B1435<>\"\",'Line 1 Source'!B1435,\"\")","v":"55"},{"$f":"IF('Line 1 Source'!C1435<>\"\",'Line 1 Source'!C1435,\"\")","v":"4"},{"$f":"IF('Line 1 Source'!D1435<>\"\",'Line 1 Source'!D1435,\"\")","v":"4255"},{"$f":"IF('Line 1 Source'!E1435<>\"\",'Line 1 Source'!E1435,\"\")","v":"6302"},{"$f":"IF('Line 1 Source'!F1435<>\"\",'Line 1 Source'!F1435,\"\")","v":0}]
[{"$f":"IF('Line 1 Source'!A1436<>\"\",'Line 1 Source'!A1436,\"\")","v":"2018"},"5545900",{"$f":"CONCATENATE(VLOOKUP(B1436,'School List'!$B$3:$H$291,6,FALSE),H1436)","v":"59000061"},{"$f":"CONCATENATE(VLOOKUP(B1436,'School List'!$B$3:$D$291,3,FALSE),H1436)","v":"Morgan County - MONROE-GREGG SCHOOL CORPORATION0061"},{"$f":"IF('Line 1 Source'!B1436<>\"\",'Line 1 Source'!B1436,\"\")","v":"55"},{"$f":"IF('Line 1 Source'!C1436<>\"\",'Line 1 Source'!C1436,\"\")","v":"4"},{"$f":"IF('Line 1 Source'!D1436<>\"\",'Line 1 Source'!D1436,\"\")","v":"5900"},{"$f":"IF('Line 1 Source'!E1436<>\"\",'Line 1 Source'!E1436,\"\")","v":"0061"},{"$f":"IF('Line 1 Source'!F1436<>\"\",'Line 1 Source'!F1436,\"\")","v":250000}]
[{"$f":"IF('Line 1 Source'!A1437<>\"\",'Line 1 Source'!A1437,\"\")","v":"2018"},"5545900",{"$f":"CONCATENATE(VLOOKUP(B1437,'School List'!$B$3:$H$291,6,FALSE),H1437)","v":"59000101"},{"$f":"CONCATENATE(VLOOKUP(B1437,'School List'!$B$3:$D$291,3,FALSE),H1437)","v":"Morgan County - MONROE-GREGG SCHOOL CORPORATION0101"},{"$f":"IF('Line 1 Source'!B1437<>\"\",'Line 1 Source'!B1437,\"\")","v":"55"},{"$f":"IF('Line 1 Source'!C1437<>\"\",'Line 1 Source'!C1437,\"\")","v":"4"},{"$f":"IF('Line 1 Source'!D1437<>\"\",'Line 1 Source'!D1437,\"\")","v":"5900"},{"$f":"IF('Line 1 Source'!E1437<>\"\",'Line 1 Source'!E1437,\"\")","v":"0101"},{"$f":"IF('Line 1 Source'!F1437<>\"\",'Line 1 Source'!F1437,\"\")","v":12264458}]
[{"$f":"IF('Line 1 Source'!A1438<>\"\",'Line 1 Source'!A1438,\"\")","v":"2018"},"5545900",{"$f":"CONCATENATE(VLOOKUP(B1438,'School List'!$B$3:$H$291,6,FALSE),H1438)","v":"59000180"},{"$f":"CONCATENATE(VLOOKUP(B1438,'School List'!$B$3:$D$291,3,FALSE),H1438)","v":"Morgan County - MONROE-GREGG SCHOOL CORPORATION0180"},{"$f":"IF('Line 1 Source'!B1438<>\"\",'Line 1 Source'!B1438,\"\")","v":"55"},{"$f":"IF('Line 1 Source'!C1438<>\"\",'Line 1 Source'!C1438,\"\")","v":"4"},{"$f":"IF('Line 1 Source'!D1438<>\"\",'Line 1 Source'!D1438,\"\")","v":"5900"},{"$f":"IF('Line 1 Source'!E1438<>\"\",'Line 1 Source'!E1438,\"\")","v":"0180"},{"$f":"IF('Line 1 Source'!F1438<>\"\",'Line 1 Source'!F1438,\"\")","v":2283761}]
[{"$f":"IF('Line 1 Source'!A1439<>\"\",'Line 1 Source'!A1439,\"\")","v":"2018"},"5545900",{"$f":"CONCATENATE(VLOOKUP(B1439,'School List'!$B$3:$H$291,6,FALSE),H1439)","v":"59000186"},{"$f":"CONCATENATE(VLOOKUP(B1439,'School List'!$B$3:$D$291,3,FALSE),H1439)","v":"Morgan County - MONROE-GREGG SCHOOL CORPORATION0186"},{"$f":"IF('Line 1 Source'!B1439<>\"\",'Line 1 Source'!B1439,\"\")","v":"55"},{"$f":"IF('Line 1 Source'!C1439<>\"\",'Line 1 Source'!C1439,\"\")","v":"4"},{"$f":"IF('Line 1 Source'!D1439<>\"\",'Line 1 Source'!D1439,\"\")","v":"5900"},{"$f":"IF('Line 1 Source'!E1439<>\"\",'Line 1 Source'!E1439,\"\")","v":"0186"},{"$f":"IF('Line 1 Source'!F1439<>\"\",'Line 1 Source'!F1439,\"\")","v":145172}]
[{"$f":"IF('Line 1 Source'!A1440<>\"\",'Line 1 Source'!A1440,\"\")","v":"2018"},"5545900",{"$f":"CONCATENATE(VLOOKUP(B1440,'School List'!$B$3:$H$291,6,FALSE),H1440)","v":"59001214"},{"$f":"CONCATENATE(VLOOKUP(B1440,'School List'!$B$3:$D$291,3,FALSE),H1440)","v":"Morgan County - MONROE-GREGG SCHOOL CORPORATION1214"},{"$f":"IF('Line 1 Source'!B1440<>\"\",'Line 1 Source'!B1440,\"\")","v":"55"},{"$f":"IF('Line 1 Source'!C1440<>\"\",'Line 1 Source'!C1440,\"\")","v":"4"},{"$f":"IF('Line 1 Source'!D1440<>\"\",'Line 1 Source'!D1440,\"\")","v":"5900"},{"$f":"IF('Line 1 Source'!E1440<>\"\",'Line 1 Source'!E1440,\"\")","v":"1214"},{"$f":"IF('Line 1 Source'!F1440<>\"\",'Line 1 Source'!F1440,\"\")","v":1236558}]
[{"$f":"IF('Line 1 Source'!A1441<>\"\",'Line 1 Source'!A1441,\"\")","v":"2018"},"5545900",{"$f":"CONCATENATE(VLOOKUP(B1441,'School List'!$B$3:$H$291,6,FALSE),H1441)","v":"59006301"},{"$f":"CONCATENATE(VLOOKUP(B1441,'School List'!$B$3:$D$291,3,FALSE),H1441)","v":"Morgan County - MONROE-GREGG SCHOOL CORPORATION6301"},{"$f":"IF('Line 1 Source'!B1441<>\"\",'Line 1 Source'!B1441,\"\")","v":"55"},{"$f":"IF('Line 1 Source'!C1441<>\"\",'Line 1 Source'!C1441,\"\")","v":"4"},{"$f":"IF('Line 1 Source'!D1441<>\"\",'Line 1 Source'!D1441,\"\")","v":"5900"},{"$f":"IF('Line 1 Source'!E1441<>\"\",'Line 1 Source'!E1441,\"\")","v":"6301"},{"$f":"IF('Line 1 Source'!F1441<>\"\",'Line 1 Source'!F1441,\"\")","v":1178128}]
[{"$f":"IF('Line 1 Source'!A1442<>\"\",'Line 1 Source'!A1442,\"\")","v":"2018"},"5545900",{"$f":"CONCATENATE(VLOOKUP(B1442,'School List'!$B$3:$H$291,6,FALSE),H1442)","v":"59006302"},{"$f":"CONCATENATE(VLOOKUP(B1442,'School List'!$B$3:$D$291,3,FALSE),H1442)","v":"Morgan County - MONROE-GREGG SCHOOL CORPORATION6302"},{"$f":"IF('Line 1 Source'!B1442<>\"\",'Line 1 Source'!B1442,\"\")","v":"55"},{"$f":"IF('Line 1 Source'!C1442<>\"\",'Line 1 Source'!C1442,\"\")","v":"4"},{"$f":"IF('Line 1 Source'!D1442<>\"\",'Line 1 Source'!D1442,\"\")","v":"5900"},{"$f":"IF('Line 1 Source'!E1442<>\"\",'Line 1 Source'!E1442,\"\")","v":"6302"},{"$f":"IF('Line 1 Source'!F1442<>\"\",'Line 1 Source'!F1442,\"\")","v":426000}]
[{"$f":"IF('Line 1 Source'!A1443<>\"\",'Line 1 Source'!A1443,\"\")","v":"2018"},"5545910",{"$f":"CONCATENATE(VLOOKUP(B1443,'School List'!$B$3:$H$291,6,FALSE),H1443)","v":"59100022"},{"$f":"CONCATENATE(VLOOKUP(B1443,'School List'!$B$3:$D$291,3,FALSE),H1443)","v":"Morgan County - EMINENCE CONSOLIDATED SCHOOL CORPORATION0022"},{"$f":"IF('Line 1 Source'!B1443<>\"\",'Line 1 Source'!B1443,\"\")","v":"55"},{"$f":"IF('Line 1 Source'!C1443<>\"\",'Line 1 Source'!C1443,\"\")","v":"4"},{"$f":"IF('Line 1 Source'!D1443<>\"\",'Line 1 Source'!D1443,\"\")","v":"5910"},{"$f":"IF('Line 1 Source'!E1443<>\"\",'Line 1 Source'!E1443,\"\")","v":"0022"},{"$f":"IF('Line 1 Source'!F1443<>\"\",'Line 1 Source'!F1443,\"\")","v":800000}]
[{"$f":"IF('Line 1 Source'!A1444<>\"\",'Line 1 Source'!A1444,\"\")","v":"2018"},"5545910",{"$f":"CONCATENATE(VLOOKUP(B1444,'School List'!$B$3:$H$291,6,FALSE),H1444)","v":"59100101"},{"$f":"CONCATENATE(VLOOKUP(B1444,'School List'!$B$3:$D$291,3,FALSE),H1444)","v":"Morgan County - EMINENCE CONSOLIDATED SCHOOL CORPORATION0101"},{"$f":"IF('Line 1 Source'!B1444<>\"\",'Line 1 Source'!B1444,\"\")","v":"55"},{"$f":"IF('Line 1 Source'!C1444<>\"\",'Line 1 Source'!C1444,\"\")","v":"4"},{"$f":"IF('Line 1 Source'!D1444<>\"\",'Line 1 Source'!D1444,\"\")","v":"5910"},{"$f":"IF('Line 1 Source'!E1444<>\"\",'Line 1 Source'!E1444,\"\")","v":"0101"},{"$f":"IF('Line 1 Source'!F1444<>\"\",'Line 1 Source'!F1444,\"\")","v":2922253}]
[{"$f":"IF('Line 1 Source'!A1445<>\"\",'Line 1 Source'!A1445,\"\")","v":"2018"},"5545910",{"$f":"CONCATENATE(VLOOKUP(B1445,'School List'!$B$3:$H$291,6,FALSE),H1445)","v":"59100180"},{"$f":"CONCATENATE(VLOOKUP(B1445,'School List'!$B$3:$D$291,3,FALSE),H1445)","v":"Morgan County - EMINENCE CONSOLIDATED SCHOOL CORPORATION0180"},{"$f":"IF('Line 1 Source'!B1445<>\"\",'Line 1 Source'!B1445,\"\")","v":"55"},{"$f":"IF('Line 1 Source'!C1445<>\"\",'Line 1 Source'!C1445,\"\")","v":"4"},{"$f":"IF('Line 1 Source'!D1445<>\"\",'Line 1 Source'!D1445,\"\")","v":"5910"},{"$f":"IF('Line 1 Source'!E1445<>\"\",'Line 1 Source'!E1445,\"\")","v":"0180"},{"$f":"IF('Line 1 Source'!F1445<>\"\",'Line 1 Source'!F1445,\"\")","v":496000}]
[{"$f":"IF('Line 1 Source'!A1446<>\"\",'Line 1 Source'!A1446,\"\")","v":"2018"},"5545910",{"$f":"CONCATENATE(VLOOKUP(B1446,'School List'!$B$3:$H$291,6,FALSE),H1446)","v":"59101214"},{"$f":"CONCATENATE(VLOOKUP(B1446,'School List'!$B$3:$D$291,3,FALSE),H1446)","v":"Morgan County - EMINENCE CONSOLIDATED SCHOOL CORPORATION1214"},{"$f":"IF('Line 1 Source'!B1446<>\"\",'Line 1 Source'!B1446,\"\")","v":"55"},{"$f":"IF('Line 1 Source'!C1446<>\"\",'Line 1 Source'!C1446,\"\")","v":"4"},{"$f":"IF('Line 1 Source'!D1446<>\"\",'Line 1 Source'!D1446,\"\")","v":"5910"},{"$f":"IF('Line 1 Source'!E1446<>\"\",'Line 1 Source'!E1446,\"\")","v":"1214"},{"$f":"IF('Line 1 Source'!F1446<>\"\",'Line 1 Source'!F1446,\"\")","v":548567}]
[{"$f":"IF('Line 1 Source'!A1447<>\"\",'Line 1 Source'!A1447,\"\")","v":"2018"},"5545910",{"$f":"CONCATENATE(VLOOKUP(B1447,'School List'!$B$3:$H$291,6,FALSE),H1447)","v":"59106301"},{"$f":"CONCATENATE(VLOOKUP(B1447,'School List'!$B$3:$D$291,3,FALSE),H1447)","v":"Morgan County - EMINENCE CONSOLIDATED SCHOOL CORPORATION6301"},{"$f":"IF('Line 1 Source'!B1447<>\"\",'Line 1 Source'!B1447,\"\")","v":"55"},{"$f":"IF('Line 1 Source'!C1447<>\"\",'Line 1 Source'!C1447,\"\")","v":"4"},{"$f":"IF('Line 1 Source'!D1447<>\"\",'Line 1 Source'!D1447,\"\")","v":"5910"},{"$f":"IF('Line 1 Source'!E1447<>\"\",'Line 1 Source'!E1447,\"\")","v":"6301"},{"$f":"IF('Line 1 Source'!F1447<>\"\",'Line 1 Source'!F1447,\"\")","v":675700}]
[{"$f":"IF('Line 1 Source'!A1448<>\"\",'Line 1 Source'!A1448,\"\")","v":"2018"},"5545910",{"$f":"CONCATENATE(VLOOKUP(B1448,'School List'!$B$3:$H$291,6,FALSE),H1448)","v":"59106302"},{"$f":"CONCATENATE(VLOOKUP(B1448,'School List'!$B$3:$D$291,3,FALSE),H1448)","v":"Morgan County - EMINENCE CONSOLIDATED SCHOOL CORPORATION6302"},{"$f":"IF('Line 1 Source'!B1448<>\"\",'Line 1 Source'!B1448,\"\")","v":"55"},{"$f":"IF('Line 1 Source'!C1448<>\"\",'Line 1 Source'!C1448,\"\")","v":"4"},{"$f":"IF('Line 1 Source'!D1448<>\"\",'Line 1 Source'!D1448,\"\")","v":"5910"},{"$f":"IF('Line 1 Source'!E1448<>\"\",'Line 1 Source'!E1448,\"\")","v":"6302"},{"$f":"IF('Line 1 Source'!F1448<>\"\",'Line 1 Source'!F1448,\"\")","v":0}]
[{"$f":"IF('Line 1 Source'!A1449<>\"\",'Line 1 Source'!A1449,\"\")","v":"2018"},"5545925",{"$f":"CONCATENATE(VLOOKUP(B1449,'School List'!$B$3:$H$291,6,FALSE),H1449)","v":"59250061"},{"$f":"CONCATENATE(VLOOKUP(B1449,'School List'!$B$3:$D$291,3,FALSE),H1449)","v":"Morgan County - M.S.D. MARTINSVILLE SCHOOL CORPORATION0061"},{"$f":"IF('Line 1 Source'!B1449<>\"\",'Line 1 Source'!B1449,\"\")","v":"55"},{"$f":"IF('Line 1 Source'!C1449<>\"\",'Line 1 Source'!C1449,\"\")","v":"4"},{"$f":"IF('Line 1 Source'!D1449<>\"\",'Line 1 Source'!D1449,\"\")","v":"5925"},{"$f":"IF('Line 1 Source'!E1449<>\"\",'Line 1 Source'!E1449,\"\")","v":"0061"},{"$f":"IF('Line 1 Source'!F1449<>\"\",'Line 1 Source'!F1449,\"\")","v":0}]
[{"$f":"IF('Line 1 Source'!A1450<>\"\",'Line 1 Source'!A1450,\"\")","v":"2018"},"5545925",{"$f":"CONCATENATE(VLOOKUP(B1450,'School List'!$B$3:$H$291,6,FALSE),H1450)","v":"59250101"},{"$f":"CONCATENATE(VLOOKUP(B1450,'School List'!$B$3:$D$291,3,FALSE),H1450)","v":"Morgan County - M.S.D. MARTINSVILLE SCHOOL CORPORATION0101"},{"$f":"IF('Line 1 Source'!B1450<>\"\",'Line 1 Source'!B1450,\"\")","v":"55"},{"$f":"IF('Line 1 Source'!C1450<>\"\",'Line 1 Source'!C1450,\"\")","v":"4"},{"$f":"IF('Line 1 Source'!D1450<>\"\",'Line 1 Source'!D1450,\"\")","v":"5925"},{"$f":"IF('Line 1 Source'!E1450<>\"\",'Line 1 Source'!E1450,\"\")","v":"0101"},{"$f":"IF('Line 1 Source'!F1450<>\"\",'Line 1 Source'!F1450,\"\")","v":30172343}]
[{"$f":"IF('Line 1 Source'!A1451<>\"\",'Line 1 Source'!A1451,\"\")","v":"2018"},"5545925",{"$f":"CONCATENATE(VLOOKUP(B1451,'School List'!$B$3:$H$291,6,FALSE),H1451)","v":"59250180"},{"$f":"CONCATENATE(VLOOKUP(B1451,'School List'!$B$3:$D$291,3,FALSE),H1451)","v":"Morgan County - M.S.D. MARTINSVILLE SCHOOL CORPORATION0180"},{"$f":"IF('Line 1 Source'!B1451<>\"\",'Line 1 Source'!B1451,\"\")","v":"55"},{"$f":"IF('Line 1 Source'!C1451<>\"\",'Line 1 Source'!C1451,\"\")","v":"4"},{"$f":"IF('Line 1 Source'!D1451<>\"\",'Line 1 Source'!D1451,\"\")","v":"5925"},{"$f":"IF('Line 1 Source'!E1451<>\"\",'Line 1 Source'!E1451,\"\")","v":"0180"},{"$f":"IF('Line 1 Source'!F1451<>\"\",'Line 1 Source'!F1451,\"\")","v":2026718}]
[{"$f":"IF('Line 1 Source'!A1452<>\"\",'Line 1 Source'!A1452,\"\")","v":"2018"},"5545925",{"$f":"CONCATENATE(VLOOKUP(B1452,'School List'!$B$3:$H$291,6,FALSE),H1452)","v":"59251214"},{"$f":"CONCATENATE(VLOOKUP(B1452,'School List'!$B$3:$D$291,3,FALSE),H1452)","v":"Morgan County - M.S.D. MARTINSVILLE SCHOOL CORPORATION1214"},{"$f":"IF('Line 1 Source'!B1452<>\"\",'Line 1 Source'!B1452,\"\")","v":"55"},{"$f":"IF('Line 1 Source'!C1452<>\"\",'Line 1 Source'!C1452,\"\")","v":"4"},{"$f":"IF('Line 1 Source'!D1452<>\"\",'Line 1 Source'!D1452,\"\")","v":"5925"},{"$f":"IF('Line 1 Source'!E1452<>\"\",'Line 1 Source'!E1452,\"\")","v":"1214"},{"$f":"IF('Line 1 Source'!F1452<>\"\",'Line 1 Source'!F1452,\"\")","v":4203330}]
[{"$f":"IF('Line 1 Source'!A1453<>\"\",'Line 1 Source'!A1453,\"\")","v":"2018"},"5545925",{"$f":"CONCATENATE(VLOOKUP(B1453,'School List'!$B$3:$H$291,6,FALSE),H1453)","v":"59256301"},{"$f":"CONCATENATE(VLOOKUP(B1453,'School List'!$B$3:$D$291,3,FALSE),H1453)","v":"Morgan County - M.S.D. MARTINSVILLE SCHOOL CORPORATION6301"},{"$f":"IF('Line 1 Source'!B1453<>\"\",'Line 1 Source'!B1453,\"\")","v":"55"},{"$f":"IF('Line 1 Source'!C1453<>\"\",'Line 1 Source'!C1453,\"\")","v":"4"},{"$f":"IF('Line 1 Source'!D1453<>\"\",'Line 1 Source'!D1453,\"\")","v":"5925"},{"$f":"IF('Line 1 Source'!E1453<>\"\",'Line 1 Source'!E1453,\"\")","v":"6301"},{"$f":"IF('Line 1 Source'!F1453<>\"\",'Line 1 Source'!F1453,\"\")","v":4201407}]
[{"$f":"IF('Line 1 Source'!A1454<>\"\",'Line 1 Source'!A1454,\"\")","v":"2018"},"5545925",{"$f":"CONCATENATE(VLOOKUP(B1454,'School List'!$B$3:$H$291,6,FALSE),H1454)","v":"59256302"},{"$f":"CONCATENATE(VLOOKUP(B1454,'School List'!$B$3:$D$291,3,FALSE),H1454)","v":"Morgan County - M.S.D. MARTINSVILLE SCHOOL CORPORATION6302"},{"$f":"IF('Line 1 Source'!B1454<>\"\",'Line 1 Source'!B1454,\"\")","v":"55"},{"$f":"IF('Line 1 Source'!C1454<>\"\",'Line 1 Source'!C1454,\"\")","v":"4"},{"$f":"IF('Line 1 Source'!D1454<>\"\",'Line 1 Source'!D1454,\"\")","v":"5925"},{"$f":"IF('Line 1 Source'!E1454<>\"\",'Line 1 Source'!E1454,\"\")","v":"6302"},{"$f":"IF('Line 1 Source'!F1454<>\"\",'Line 1 Source'!F1454,\"\")","v":591800}]
[{"$f":"IF('Line 1 Source'!A1455<>\"\",'Line 1 Source'!A1455,\"\")","v":"2018"},"5545930",{"$f":"CONCATENATE(VLOOKUP(B1455,'School List'!$B$3:$H$291,6,FALSE),H1455)","v":"59300061"},{"$f":"CONCATENATE(VLOOKUP(B1455,'School List'!$B$3:$D$291,3,FALSE),H1455)","v":"Morgan County - MOORESVILLE CONSOLIDATED SCHOOL CORP0061"},{"$f":"IF('Line 1 Source'!B1455<>\"\",'Line 1 Source'!B1455,\"\")","v":"55"},{"$f":"IF('Line 1 Source'!C1455<>\"\",'Line 1 Source'!C1455,\"\")","v":"4"},{"$f":"IF('Line 1 Source'!D1455<>\"\",'Line 1 Source'!D1455,\"\")","v":"5930"},{"$f":"IF('Line 1 Source'!E1455<>\"\",'Line 1 Source'!E1455,\"\")","v":"0061"},{"$f":"IF('Line 1 Source'!F1455<>\"\",'Line 1 Source'!F1455,\"\")","v":3000000}]
[{"$f":"IF('Line 1 Source'!A1456<>\"\",'Line 1 Source'!A1456,\"\")","v":"2018"},"5545930",{"$f":"CONCATENATE(VLOOKUP(B1456,'School List'!$B$3:$H$291,6,FALSE),H1456)","v":"59300101"},{"$f":"CONCATENATE(VLOOKUP(B1456,'School List'!$B$3:$D$291,3,FALSE),H1456)","v":"Morgan County - MOORESVILLE CONSOLIDATED SCHOOL CORP0101"},{"$f":"IF('Line 1 Source'!B1456<>\"\",'Line 1 Source'!B1456,\"\")","v":"55"},{"$f":"IF('Line 1 Source'!C1456<>\"\",'Line 1 Source'!C1456,\"\")","v":"4"},{"$f":"IF('Line 1 Source'!D1456<>\"\",'Line 1 Source'!D1456,\"\")","v":"5930"},{"$f":"IF('Line 1 Source'!E1456<>\"\",'Line 1 Source'!E1456,\"\")","v":"0101"},{"$f":"IF('Line 1 Source'!F1456<>\"\",'Line 1 Source'!F1456,\"\")","v":30782765}]
[{"$f":"IF('Line 1 Source'!A1457<>\"\",'Line 1 Source'!A1457,\"\")","v":"2018"},"5545930",{"$f":"CONCATENATE(VLOOKUP(B1457,'School List'!$B$3:$H$291,6,FALSE),H1457)","v":"59300180"},{"$f":"CONCATENATE(VLOOKUP(B1457,'School List'!$B$3:$D$291,3,FALSE),H1457)","v":"Morgan County - MOORESVILLE CONSOLIDATED SCHOOL CORP0180"},{"$f":"IF('Line 1 Source'!B1457<>\"\",'Line 1 Source'!B1457,\"\")","v":"55"},{"$f":"IF('Line 1 Source'!C1457<>\"\",'Line 1 Source'!C1457,\"\")","v":"4"},{"$f":"IF('Line 1 Source'!D1457<>\"\",'Line 1 Source'!D1457,\"\")","v":"5930"},{"$f":"IF('Line 1 Source'!E1457<>\"\",'Line 1 Source'!E1457,\"\")","v":"0180"},{"$f":"IF('Line 1 Source'!F1457<>\"\",'Line 1 Source'!F1457,\"\")","v":4004915}]
[{"$f":"IF('Line 1 Source'!A1458<>\"\",'Line 1 Source'!A1458,\"\")","v":"2018"},"5545930",{"$f":"CONCATENATE(VLOOKUP(B1458,'School List'!$B$3:$H$291,6,FALSE),H1458)","v":"59300186"},{"$f":"CONCATENATE(VLOOKUP(B1458,'School List'!$B$3:$D$291,3,FALSE),H1458)","v":"Morgan County - MOORESVILLE CONSOLIDATED SCHOOL CORP0186"},{"$f":"IF('Line 1 Source'!B1458<>\"\",'Line 1 Source'!B1458,\"\")","v":"55"},{"$f":"IF('Line 1 Source'!C1458<>\"\",'Line 1 Source'!C1458,\"\")","v":"4"},{"$f":"IF('Line 1 Source'!D1458<>\"\",'Line 1 Source'!D1458,\"\")","v":"5930"},{"$f":"IF('Line 1 Source'!E1458<>\"\",'Line 1 Source'!E1458,\"\")","v":"0186"},{"$f":"IF('Line 1 Source'!F1458<>\"\",'Line 1 Source'!F1458,\"\")","v":375800}]
[{"$f":"IF('Line 1 Source'!A1459<>\"\",'Line 1 Source'!A1459,\"\")","v":"2018"},"5545930",{"$f":"CONCATENATE(VLOOKUP(B1459,'School List'!$B$3:$H$291,6,FALSE),H1459)","v":"59301214"},{"$f":"CONCATENATE(VLOOKUP(B1459,'School List'!$B$3:$D$291,3,FALSE),H1459)","v":"Morgan County - MOORESVILLE CONSOLIDATED SCHOOL CORP1214"},{"$f":"IF('Line 1 Source'!B1459<>\"\",'Line 1 Source'!B1459,\"\")","v":"55"},{"$f":"IF('Line 1 Source'!C1459<>\"\",'Line 1 Source'!C1459,\"\")","v":"4"},{"$f":"IF('Line 1 Source'!D1459<>\"\",'Line 1 Source'!D1459,\"\")","v":"5930"},{"$f":"IF('Line 1 Source'!E1459<>\"\",'Line 1 Source'!E1459,\"\")","v":"1214"},{"$f":"IF('Line 1 Source'!F1459<>\"\",'Line 1 Source'!F1459,\"\")","v":3750000}]
[{"$f":"IF('Line 1 Source'!A1460<>\"\",'Line 1 Source'!A1460,\"\")","v":"2018"},"5545930",{"$f":"CONCATENATE(VLOOKUP(B1460,'School List'!$B$3:$H$291,6,FALSE),H1460)","v":"59306301"},{"$f":"CONCATENATE(VLOOKUP(B1460,'School List'!$B$3:$D$291,3,FALSE),H1460)","v":"Morgan County - MOORESVILLE CONSOLIDATED SCHOOL CORP6301"},{"$f":"IF('Line 1 Source'!B1460<>\"\",'Line 1 Source'!B1460,\"\")","v":"55"},{"$f":"IF('Line 1 Source'!C1460<>\"\",'Line 1 Source'!C1460,\"\")","v":"4"},{"$f":"IF('Line 1 Source'!D1460<>\"\",'Line 1 Source'!D1460,\"\")","v":"5930"},{"$f":"IF('Line 1 Source'!E1460<>\"\",'Line 1 Source'!E1460,\"\")","v":"6301"},{"$f":"IF('Line 1 Source'!F1460<>\"\",'Line 1 Source'!F1460,\"\")","v":3008570}]
[{"$f":"IF('Line 1 Source'!A1461<>\"\",'Line 1 Source'!A1461,\"\")","v":"2018"},"5545930",{"$f":"CONCATENATE(VLOOKUP(B1461,'School List'!$B$3:$H$291,6,FALSE),H1461)","v":"59306302"},{"$f":"CONCATENATE(VLOOKUP(B1461,'School List'!$B$3:$D$291,3,FALSE),H1461)","v":"Morgan County - MOORESVILLE CONSOLIDATED SCHOOL CORP6302"},{"$f":"IF('Line 1 Source'!B1461<>\"\",'Line 1 Source'!B1461,\"\")","v":"55"},{"$f":"IF('Line 1 Source'!C1461<>\"\",'Line 1 Source'!C1461,\"\")","v":"4"},{"$f":"IF('Line 1 Source'!D1461<>\"\",'Line 1 Source'!D1461,\"\")","v":"5930"},{"$f":"IF('Line 1 Source'!E1461<>\"\",'Line 1 Source'!E1461,\"\")","v":"6302"},{"$f":"IF('Line 1 Source'!F1461<>\"\",'Line 1 Source'!F1461,\"\")","v":600000}]
[{"$f":"IF('Line 1 Source'!A1462<>\"\",'Line 1 Source'!A1462,\"\")","v":"2018"},"5645945",{"$f":"CONCATENATE(VLOOKUP(B1462,'School List'!$B$3:$H$291,6,FALSE),H1462)","v":"59450101"},{"$f":"CONCATENATE(VLOOKUP(B1462,'School List'!$B$3:$D$291,3,FALSE),H1462)","v":"Newton County - NORTH NEWTON SCHOOL CORPORATION0101"},{"$f":"IF('Line 1 Source'!B1462<>\"\",'Line 1 Source'!B1462,\"\")","v":"56"},{"$f":"IF('Line 1 Source'!C1462<>\"\",'Line 1 Source'!C1462,\"\")","v":"4"},{"$f":"IF('Line 1 Source'!D1462<>\"\",'Line 1 Source'!D1462,\"\")","v":"5945"},{"$f":"IF('Line 1 Source'!E1462<>\"\",'Line 1 Source'!E1462,\"\")","v":"0101"},{"$f":"IF('Line 1 Source'!F1462<>\"\",'Line 1 Source'!F1462,\"\")","v":9909499}]
[{"$f":"IF('Line 1 Source'!A1463<>\"\",'Line 1 Source'!A1463,\"\")","v":"2018"},"5645945",{"$f":"CONCATENATE(VLOOKUP(B1463,'School List'!$B$3:$H$291,6,FALSE),H1463)","v":"59450180"},{"$f":"CONCATENATE(VLOOKUP(B1463,'School List'!$B$3:$D$291,3,FALSE),H1463)","v":"Newton County - NORTH NEWTON SCHOOL CORPORATION0180"},{"$f":"IF('Line 1 Source'!B1463<>\"\",'Line 1 Source'!B1463,\"\")","v":"56"},{"$f":"IF('Line 1 Source'!C1463<>\"\",'Line 1 Source'!C1463,\"\")","v":"4"},{"$f":"IF('Line 1 Source'!D1463<>\"\",'Line 1 Source'!D1463,\"\")","v":"5945"},{"$f":"IF('Line 1 Source'!E1463<>\"\",'Line 1 Source'!E1463,\"\")","v":"0180"},{"$f":"IF('Line 1 Source'!F1463<>\"\",'Line 1 Source'!F1463,\"\")","v":2977268}]
[{"$f":"IF('Line 1 Source'!A1464<>\"\",'Line 1 Source'!A1464,\"\")","v":"2018"},"5645945",{"$f":"CONCATENATE(VLOOKUP(B1464,'School List'!$B$3:$H$291,6,FALSE),H1464)","v":"59450186"},{"$f":"CONCATENATE(VLOOKUP(B1464,'School List'!$B$3:$D$291,3,FALSE),H1464)","v":"Newton County - NORTH NEWTON SCHOOL CORPORATION0186"},{"$f":"IF('Line 1 Source'!B1464<>\"\",'Line 1 Source'!B1464,\"\")","v":"56"},{"$f":"IF('Line 1 Source'!C1464<>\"\",'Line 1 Source'!C1464,\"\")","v":"4"},{"$f":"IF('Line 1 Source'!D1464<>\"\",'Line 1 Source'!D1464,\"\")","v":"5945"},{"$f":"IF('Line 1 Source'!E1464<>\"\",'Line 1 Source'!E1464,\"\")","v":"0186"},{"$f":"IF('Line 1 Source'!F1464<>\"\",'Line 1 Source'!F1464,\"\")","v":281543}]
[{"$f":"IF('Line 1 Source'!A1465<>\"\",'Line 1 Source'!A1465,\"\")","v":"2018"},"5645945",{"$f":"CONCATENATE(VLOOKUP(B1465,'School List'!$B$3:$H$291,6,FALSE),H1465)","v":"59451214"},{"$f":"CONCATENATE(VLOOKUP(B1465,'School List'!$B$3:$D$291,3,FALSE),H1465)","v":"Newton County - NORTH NEWTON SCHOOL CORPORATION1214"},{"$f":"IF('Line 1 Source'!B1465<>\"\",'Line 1 Source'!B1465,\"\")","v":"56"},{"$f":"IF('Line 1 Source'!C1465<>\"\",'Line 1 Source'!C1465,\"\")","v":"4"},{"$f":"IF('Line 1 Source'!D1465<>\"\",'Line 1 Source'!D1465,\"\")","v":"5945"},{"$f":"IF('Line 1 Source'!E1465<>\"\",'Line 1 Source'!E1465,\"\")","v":"1214"},{"$f":"IF('Line 1 Source'!F1465<>\"\",'Line 1 Source'!F1465,\"\")","v":1128747}]
[{"$f":"IF('Line 1 Source'!A1466<>\"\",'Line 1 Source'!A1466,\"\")","v":"2018"},"5645945",{"$f":"CONCATENATE(VLOOKUP(B1466,'School List'!$B$3:$H$291,6,FALSE),H1466)","v":"59456301"},{"$f":"CONCATENATE(VLOOKUP(B1466,'School List'!$B$3:$D$291,3,FALSE),H1466)","v":"Newton County - NORTH NEWTON SCHOOL CORPORATION6301"},{"$f":"IF('Line 1 Source'!B1466<>\"\",'Line 1 Source'!B1466,\"\")","v":"56"},{"$f":"IF('Line 1 Source'!C1466<>\"\",'Line 1 Source'!C1466,\"\")","v":"4"},{"$f":"IF('Line 1 Source'!D1466<>\"\",'Line 1 Source'!D1466,\"\")","v":"5945"},{"$f":"IF('Line 1 Source'!E1466<>\"\",'Line 1 Source'!E1466,\"\")","v":"6301"},{"$f":"IF('Line 1 Source'!F1466<>\"\",'Line 1 Source'!F1466,\"\")","v":1449259}]
[{"$f":"IF('Line 1 Source'!A1467<>\"\",'Line 1 Source'!A1467,\"\")","v":"2018"},"5645945",{"$f":"CONCATENATE(VLOOKUP(B1467,'School List'!$B$3:$H$291,6,FALSE),H1467)","v":"59456302"},{"$f":"CONCATENATE(VLOOKUP(B1467,'School List'!$B$3:$D$291,3,FALSE),H1467)","v":"Newton County - NORTH NEWTON SCHOOL CORPORATION6302"},{"$f":"IF('Line 1 Source'!B1467<>\"\",'Line 1 Source'!B1467,\"\")","v":"56"},{"$f":"IF('Line 1 Source'!C1467<>\"\",'Line 1 Source'!C1467,\"\")","v":"4"},{"$f":"IF('Line 1 Source'!D1467<>\"\",'Line 1 Source'!D1467,\"\")","v":"5945"},{"$f":"IF('Line 1 Source'!E1467<>\"\",'Line 1 Source'!E1467,\"\")","v":"6302"},{"$f":"IF('Line 1 Source'!F1467<>\"\",'Line 1 Source'!F1467,\"\")","v":283077}]
[{"$f":"IF('Line 1 Source'!A1468<>\"\",'Line 1 Source'!A1468,\"\")","v":"2018"},"5645995",{"$f":"CONCATENATE(VLOOKUP(B1468,'School List'!$B$3:$H$291,6,FALSE),H1468)","v":"59950061"},{"$f":"CONCATENATE(VLOOKUP(B1468,'School List'!$B$3:$D$291,3,FALSE),H1468)","v":"Newton County - SOUTH NEWTON SCHOOL CORPORATION0061"},{"$f":"IF('Line 1 Source'!B1468<>\"\",'Line 1 Source'!B1468,\"\")","v":"56"},{"$f":"IF('Line 1 Source'!C1468<>\"\",'Line 1 Source'!C1468,\"\")","v":"4"},{"$f":"IF('Line 1 Source'!D1468<>\"\",'Line 1 Source'!D1468,\"\")","v":"5995"},{"$f":"IF('Line 1 Source'!E1468<>\"\",'Line 1 Source'!E1468,\"\")","v":"0061"},{"$f":"IF('Line 1 Source'!F1468<>\"\",'Line 1 Source'!F1468,\"\")","v":612942}]
[{"$f":"IF('Line 1 Source'!A1469<>\"\",'Line 1 Source'!A1469,\"\")","v":"2018"},"5645995",{"$f":"CONCATENATE(VLOOKUP(B1469,'School List'!$B$3:$H$291,6,FALSE),H1469)","v":"59950101"},{"$f":"CONCATENATE(VLOOKUP(B1469,'School List'!$B$3:$D$291,3,FALSE),H1469)","v":"Newton County - SOUTH NEWTON SCHOOL CORPORATION0101"},{"$f":"IF('Line 1 Source'!B1469<>\"\",'Line 1 Source'!B1469,\"\")","v":"56"},{"$f":"IF('Line 1 Source'!C1469<>\"\",'Line 1 Source'!C1469,\"\")","v":"4"},{"$f":"IF('Line 1 Source'!D1469<>\"\",'Line 1 Source'!D1469,\"\")","v":"5995"},{"$f":"IF('Line 1 Source'!E1469<>\"\",'Line 1 Source'!E1469,\"\")","v":"0101"},{"$f":"IF('Line 1 Source'!F1469<>\"\",'Line 1 Source'!F1469,\"\")","v":7163844}]
[{"$f":"IF('Line 1 Source'!A1470<>\"\",'Line 1 Source'!A1470,\"\")","v":"2018"},"5645995",{"$f":"CONCATENATE(VLOOKUP(B1470,'School List'!$B$3:$H$291,6,FALSE),H1470)","v":"59950180"},{"$f":"CONCATENATE(VLOOKUP(B1470,'School List'!$B$3:$D$291,3,FALSE),H1470)","v":"Newton County - SOUTH NEWTON SCHOOL CORPORATION0180"},{"$f":"IF('Line 1 Source'!B1470<>\"\",'Line 1 Source'!B1470,\"\")","v":"56"},{"$f":"IF('Line 1 Source'!C1470<>\"\",'Line 1 Source'!C1470,\"\")","v":"4"},{"$f":"IF('Line 1 Source'!D1470<>\"\",'Line 1 Source'!D1470,\"\")","v":"5995"},{"$f":"IF('Line 1 Source'!E1470<>\"\",'Line 1 Source'!E1470,\"\")","v":"0180"},{"$f":"IF('Line 1 Source'!F1470<>\"\",'Line 1 Source'!F1470,\"\")","v":801560}]
[{"$f":"IF('Line 1 Source'!A1471<>\"\",'Line 1 Source'!A1471,\"\")","v":"2018"},"5645995",{"$f":"CONCATENATE(VLOOKUP(B1471,'School List'!$B$3:$H$291,6,FALSE),H1471)","v":"59951214"},{"$f":"CONCATENATE(VLOOKUP(B1471,'School List'!$B$3:$D$291,3,FALSE),H1471)","v":"Newton County - SOUTH NEWTON SCHOOL CORPORATION1214"},{"$f":"IF('Line 1 Source'!B1471<>\"\",'Line 1 Source'!B1471,\"\")","v":"56"},{"$f":"IF('Line 1 Source'!C1471<>\"\",'Line 1 Source'!C1471,\"\")","v":"4"},{"$f":"IF('Line 1 Source'!D1471<>\"\",'Line 1 Source'!D1471,\"\")","v":"5995"},{"$f":"IF('Line 1 Source'!E1471<>\"\",'Line 1 Source'!E1471,\"\")","v":"1214"},{"$f":"IF('Line 1 Source'!F1471<>\"\",'Line 1 Source'!F1471,\"\")","v":1454701}]
[{"$f":"IF('Line 1 Source'!A1472<>\"\",'Line 1 Source'!A1472,\"\")","v":"2018"},"5645995",{"$f":"CONCATENATE(VLOOKUP(B1472,'School List'!$B$3:$H$291,6,FALSE),H1472)","v":"59956301"},{"$f":"CONCATENATE(VLOOKUP(B1472,'School List'!$B$3:$D$291,3,FALSE),H1472)","v":"Newton County - SOUTH NEWTON SCHOOL CORPORATION6301"},{"$f":"IF('Line 1 Source'!B1472<>\"\",'Line 1 Source'!B1472,\"\")","v":"56"},{"$f":"IF('Line 1 Source'!C1472<>\"\",'Line 1 Source'!C1472,\"\")","v":"4"},{"$f":"IF('Line 1 Source'!D1472<>\"\",'Line 1 Source'!D1472,\"\")","v":"5995"},{"$f":"IF('Line 1 Source'!E1472<>\"\",'Line 1 Source'!E1472,\"\")","v":"6301"},{"$f":"IF('Line 1 Source'!F1472<>\"\",'Line 1 Source'!F1472,\"\")","v":1246878}]
[{"$f":"IF('Line 1 Source'!A1473<>\"\",'Line 1 Source'!A1473,\"\")","v":"2018"},"5645995",{"$f":"CONCATENATE(VLOOKUP(B1473,'School List'!$B$3:$H$291,6,FALSE),H1473)","v":"59956302"},{"$f":"CONCATENATE(VLOOKUP(B1473,'School List'!$B$3:$D$291,3,FALSE),H1473)","v":"Newton County - SOUTH NEWTON SCHOOL CORPORATION6302"},{"$f":"IF('Line 1 Source'!B1473<>\"\",'Line 1 Source'!B1473,\"\")","v":"56"},{"$f":"IF('Line 1 Source'!C1473<>\"\",'Line 1 Source'!C1473,\"\")","v":"4"},{"$f":"IF('Line 1 Source'!D1473<>\"\",'Line 1 Source'!D1473,\"\")","v":"5995"},{"$f":"IF('Line 1 Source'!E1473<>\"\",'Line 1 Source'!E1473,\"\")","v":"6302"},{"$f":"IF('Line 1 Source'!F1473<>\"\",'Line 1 Source'!F1473,\"\")","v":340000}]
[{"$f":"IF('Line 1 Source'!A1474<>\"\",'Line 1 Source'!A1474,\"\")","v":"2018"},"5744535",{"$f":"CONCATENATE(VLOOKUP(B1474,'School List'!$B$3:$H$291,6,FALSE),H1474)","v":{"$error":"#N/A"}},{"$f":"CONCATENATE(VLOOKUP(B1474,'School List'!$B$3:$D$291,3,FALSE),H1474)","v":{"$error":"#N/A"}},{"$f":"IF('Line 1 Source'!B1474<>\"\",'Line 1 Source'!B1474,\"\")","v":"57"},{"$f":"IF('Line 1 Source'!C1474<>\"\",'Line 1 Source'!C1474,\"\")","v":"4"},{"$f":"IF('Line 1 Source'!D1474<>\"\",'Line 1 Source'!D1474,\"\")","v":"4535"},{"$f":"IF('Line 1 Source'!E1474<>\"\",'Line 1 Source'!E1474,\"\")","v":"0061"},{"$f":"IF('Line 1 Source'!F1474<>\"\",'Line 1 Source'!F1474,\"\")","v":0}]
[{"$f":"IF('Line 1 Source'!A1475<>\"\",'Line 1 Source'!A1475,\"\")","v":"2018"},{"$f":"CONCATENATE(E1475,F1475,G1475)","v":"5744535"},{"$f":"CONCATENATE(VLOOKUP(B1475,'School List'!$B$3:$H$291,6,FALSE),H1475)","v":{"$error":"#N/A"}},{"$f":"CONCATENATE(VLOOKUP(B1475,'School List'!$B$3:$D$291,3,FALSE),H1475)","v":{"$error":"#N/A"}},{"$f":"IF('Line 1 Source'!B1475<>\"\",'Line 1 Source'!B1475,\"\")","v":"57"},{"$f":"IF('Line 1 Source'!C1475<>\"\",'Line 1 Source'!C1475,\"\")","v":"4"},{"$f":"IF('Line 1 Source'!D1475<>\"\",'Line 1 Source'!D1475,\"\")","v":"4535"},{"$f":"IF('Line 1 Source'!E1475<>\"\",'Line 1 Source'!E1475,\"\")","v":"0101"},{"$f":"IF('Line 1 Source'!F1475<>\"\",'Line 1 Source'!F1475,\"\")","v":0}]
[{"$f":"IF('Line 1 Source'!A1476<>\"\",'Line 1 Source'!A1476,\"\")","v":"2018"},"5744535",{"$f":"CONCATENATE(VLOOKUP(B1476,'School List'!$B$3:$H$291,6,FALSE),H1476)","v":{"$error":"#N/A"}},{"$f":"CONCATENATE(VLOOKUP(B1476,'School List'!$B$3:$D$291,3,FALSE),H1476)","v":{"$error":"#N/A"}},{"$f":"IF('Line 1 Source'!B1476<>\"\",'Line 1 Source'!B1476,\"\")","v":"57"},{"$f":"IF('Line 1 Source'!C1476<>\"\",'Line 1 Source'!C1476,\"\")","v":"4"},{"$f":"IF('Line 1 Source'!D1476<>\"\",'Line 1 Source'!D1476,\"\")","v":"4535"},{"$f":"IF('Line 1 Source'!E1476<>\"\",'Line 1 Source'!E1476,\"\")","v":"0180"},{"$f":"IF('Line 1 Source'!F1476<>\"\",'Line 1 Source'!F1476,\"\")","v":0}]
[{"$f":"IF('Line 1 Source'!A1477<>\"\",'Line 1 Source'!A1477,\"\")","v":"2018"},"5744535",{"$f":"CONCATENATE(VLOOKUP(B1477,'School List'!$B$3:$H$291,6,FALSE),H1477)","v":{"$error":"#N/A"}},{"$f":"CONCATENATE(VLOOKUP(B1477,'School List'!$B$3:$D$291,3,FALSE),H1477)","v":{"$error":"#N/A"}},{"$f":"IF('Line 1 Source'!B1477<>\"\",'Line 1 Source'!B1477,\"\")","v":"57"},{"$f":"IF('Line 1 Source'!C1477<>\"\",'Line 1 Source'!C1477,\"\")","v":"4"},{"$f":"IF('Line 1 Source'!D1477<>\"\",'Line 1 Source'!D1477,\"\")","v":"4535"},{"$f":"IF('Line 1 Source'!E1477<>\"\",'Line 1 Source'!E1477,\"\")","v":"1214"},{"$f":"IF('Line 1 Source'!F1477<>\"\",'Line 1 Source'!F1477,\"\")","v":0}]
[{"$f":"IF('Line 1 Source'!A1478<>\"\",'Line 1 Source'!A1478,\"\")","v":"2018"},"5744535",{"$f":"CONCATENATE(VLOOKUP(B1478,'School List'!$B$3:$H$291,6,FALSE),H1478)","v":{"$error":"#N/A"}},{"$f":"CONCATENATE(VLOOKUP(B1478,'School List'!$B$3:$D$291,3,FALSE),H1478)","v":{"$error":"#N/A"}},{"$f":"IF('Line 1 Source'!B1478<>\"\",'Line 1 Source'!B1478,\"\")","v":"57"},{"$f":"IF('Line 1 Source'!C1478<>\"\",'Line 1 Source'!C1478,\"\")","v":"4"},{"$f":"IF('Line 1 Source'!D1478<>\"\",'Line 1 Source'!D1478,\"\")","v":"4535"},{"$f":"IF('Line 1 Source'!E1478<>\"\",'Line 1 Source'!E1478,\"\")","v":"6301"},{"$f":"IF('Line 1 Source'!F1478<>\"\",'Line 1 Source'!F1478,\"\")","v":0}]
[{"$f":"IF('Line 1 Source'!A1479<>\"\",'Line 1 Source'!A1479,\"\")","v":"2018"},"5744535",{"$f":"CONCATENATE(VLOOKUP(B1479,'School List'!$B$3:$H$291,6,FALSE),H1479)","v":{"$error":"#N/A"}},{"$f":"CONCATENATE(VLOOKUP(B1479,'School List'!$B$3:$D$291,3,FALSE),H1479)","v":{"$error":"#N/A"}},{"$f":"IF('Line 1 Source'!B1479<>\"\",'Line 1 Source'!B1479,\"\")","v":"57"},{"$f":"IF('Line 1 Source'!C1479<>\"\",'Line 1 Source'!C1479,\"\")","v":"4"},{"$f":"IF('Line 1 Source'!D1479<>\"\",'Line 1 Source'!D1479,\"\")","v":"4535"},{"$f":"IF('Line 1 Source'!E1479<>\"\",'Line 1 Source'!E1479,\"\")","v":"6302"},{"$f":"IF('Line 1 Source'!F1479<>\"\",'Line 1 Source'!F1479,\"\")","v":0}]
[{"$f":"IF('Line 1 Source'!A1480<>\"\",'Line 1 Source'!A1480,\"\")","v":"2018"},"5746055",{"$f":"CONCATENATE(VLOOKUP(B1480,'School List'!$B$3:$H$291,6,FALSE),H1480)","v":"60550101"},{"$f":"CONCATENATE(VLOOKUP(B1480,'School List'!$B$3:$D$291,3,FALSE),H1480)","v":"Noble County - CENTRAL NOBLE COMMUNITY SCHOOL CORP0101"},{"$f":"IF('Line 1 Source'!B1480<>\"\",'Line 1 Source'!B1480,\"\")","v":"57"},{"$f":"IF('Line 1 Source'!C1480<>\"\",'Line 1 Source'!C1480,\"\")","v":"4"},{"$f":"IF('Line 1 Source'!D1480<>\"\",'Line 1 Source'!D1480,\"\")","v":"6055"},{"$f":"IF('Line 1 Source'!E1480<>\"\",'Line 1 Source'!E1480,\"\")","v":"0101"},{"$f":"IF('Line 1 Source'!F1480<>\"\",'Line 1 Source'!F1480,\"\")","v":7942496}]
[{"$f":"IF('Line 1 Source'!A1481<>\"\",'Line 1 Source'!A1481,\"\")","v":"2018"},"5746055",{"$f":"CONCATENATE(VLOOKUP(B1481,'School List'!$B$3:$H$291,6,FALSE),H1481)","v":"60550180"},{"$f":"CONCATENATE(VLOOKUP(B1481,'School List'!$B$3:$D$291,3,FALSE),H1481)","v":"Noble County - CENTRAL NOBLE COMMUNITY SCHOOL CORP0180"},{"$f":"IF('Line 1 Source'!B1481<>\"\",'Line 1 Source'!B1481,\"\")","v":"57"},{"$f":"IF('Line 1 Source'!C1481<>\"\",'Line 1 Source'!C1481,\"\")","v":"4"},{"$f":"IF('Line 1 Source'!D1481<>\"\",'Line 1 Source'!D1481,\"\")","v":"6055"},{"$f":"IF('Line 1 Source'!E1481<>\"\",'Line 1 Source'!E1481,\"\")","v":"0180"},{"$f":"IF('Line 1 Source'!F1481<>\"\",'Line 1 Source'!F1481,\"\")","v":1406869}]
[{"$f":"IF('Line 1 Source'!A1482<>\"\",'Line 1 Source'!A1482,\"\")","v":"2018"},"5746055",{"$f":"CONCATENATE(VLOOKUP(B1482,'School List'!$B$3:$H$291,6,FALSE),H1482)","v":"60550186"},{"$f":"CONCATENATE(VLOOKUP(B1482,'School List'!$B$3:$D$291,3,FALSE),H1482)","v":"Noble County - CENTRAL NOBLE COMMUNITY SCHOOL CORP0186"},{"$f":"IF('Line 1 Source'!B1482<>\"\",'Line 1 Source'!B1482,\"\")","v":"57"},{"$f":"IF('Line 1 Source'!C1482<>\"\",'Line 1 Source'!C1482,\"\")","v":"4"},{"$f":"IF('Line 1 Source'!D1482<>\"\",'Line 1 Source'!D1482,\"\")","v":"6055"},{"$f":"IF('Line 1 Source'!E1482<>\"\",'Line 1 Source'!E1482,\"\")","v":"0186"},{"$f":"IF('Line 1 Source'!F1482<>\"\",'Line 1 Source'!F1482,\"\")","v":127892}]
[{"$f":"IF('Line 1 Source'!A1483<>\"\",'Line 1 Source'!A1483,\"\")","v":"2018"},"5746055",{"$f":"CONCATENATE(VLOOKUP(B1483,'School List'!$B$3:$H$291,6,FALSE),H1483)","v":"60551214"},{"$f":"CONCATENATE(VLOOKUP(B1483,'School List'!$B$3:$D$291,3,FALSE),H1483)","v":"Noble County - CENTRAL NOBLE COMMUNITY SCHOOL CORP1214"},{"$f":"IF('Line 1 Source'!B1483<>\"\",'Line 1 Source'!B1483,\"\")","v":"57"},{"$f":"IF('Line 1 Source'!C1483<>\"\",'Line 1 Source'!C1483,\"\")","v":"4"},{"$f":"IF('Line 1 Source'!D1483<>\"\",'Line 1 Source'!D1483,\"\")","v":"6055"},{"$f":"IF('Line 1 Source'!E1483<>\"\",'Line 1 Source'!E1483,\"\")","v":"1214"},{"$f":"IF('Line 1 Source'!F1483<>\"\",'Line 1 Source'!F1483,\"\")","v":1211320}]
[{"$f":"IF('Line 1 Source'!A1484<>\"\",'Line 1 Source'!A1484,\"\")","v":"2018"},"5746055",{"$f":"CONCATENATE(VLOOKUP(B1484,'School List'!$B$3:$H$291,6,FALSE),H1484)","v":"60556301"},{"$f":"CONCATENATE(VLOOKUP(B1484,'School List'!$B$3:$D$291,3,FALSE),H1484)","v":"Noble County - CENTRAL NOBLE COMMUNITY SCHOOL CORP6301"},{"$f":"IF('Line 1 Source'!B1484<>\"\",'Line 1 Source'!B1484,\"\")","v":"57"},{"$f":"IF('Line 1 Source'!C1484<>\"\",'Line 1 Source'!C1484,\"\")","v":"4"},{"$f":"IF('Line 1 Source'!D1484<>\"\",'Line 1 Source'!D1484,\"\")","v":"6055"},{"$f":"IF('Line 1 Source'!E1484<>\"\",'Line 1 Source'!E1484,\"\")","v":"6301"},{"$f":"IF('Line 1 Source'!F1484<>\"\",'Line 1 Source'!F1484,\"\")","v":1070909}]
[{"$f":"IF('Line 1 Source'!A1485<>\"\",'Line 1 Source'!A1485,\"\")","v":"2018"},"5746055",{"$f":"CONCATENATE(VLOOKUP(B1485,'School List'!$B$3:$H$291,6,FALSE),H1485)","v":"60556302"},{"$f":"CONCATENATE(VLOOKUP(B1485,'School List'!$B$3:$D$291,3,FALSE),H1485)","v":"Noble County - CENTRAL NOBLE COMMUNITY SCHOOL CORP6302"},{"$f":"IF('Line 1 Source'!B1485<>\"\",'Line 1 Source'!B1485,\"\")","v":"57"},{"$f":"IF('Line 1 Source'!C1485<>\"\",'Line 1 Source'!C1485,\"\")","v":"4"},{"$f":"IF('Line 1 Source'!D1485<>\"\",'Line 1 Source'!D1485,\"\")","v":"6055"},{"$f":"IF('Line 1 Source'!E1485<>\"\",'Line 1 Source'!E1485,\"\")","v":"6302"},{"$f":"IF('Line 1 Source'!F1485<>\"\",'Line 1 Source'!F1485,\"\")","v":232539}]
[{"$f":"IF('Line 1 Source'!A1486<>\"\",'Line 1 Source'!A1486,\"\")","v":"2018"},"5746060",{"$f":"CONCATENATE(VLOOKUP(B1486,'School List'!$B$3:$H$291,6,FALSE),H1486)","v":"60600061"},{"$f":"CONCATENATE(VLOOKUP(B1486,'School List'!$B$3:$D$291,3,FALSE),H1486)","v":"Noble County - EAST NOBLE SCHOOL CORPORATION0061"},{"$f":"IF('Line 1 Source'!B1486<>\"\",'Line 1 Source'!B1486,\"\")","v":"57"},{"$f":"IF('Line 1 Source'!C1486<>\"\",'Line 1 Source'!C1486,\"\")","v":"4"},{"$f":"IF('Line 1 Source'!D1486<>\"\",'Line 1 Source'!D1486,\"\")","v":"6060"},{"$f":"IF('Line 1 Source'!E1486<>\"\",'Line 1 Source'!E1486,\"\")","v":"0061"},{"$f":"IF('Line 1 Source'!F1486<>\"\",'Line 1 Source'!F1486,\"\")","v":650000}]
[{"$f":"IF('Line 1 Source'!A1487<>\"\",'Line 1 Source'!A1487,\"\")","v":"2018"},"5746060",{"$f":"CONCATENATE(VLOOKUP(B1487,'School List'!$B$3:$H$291,6,FALSE),H1487)","v":"60600101"},{"$f":"CONCATENATE(VLOOKUP(B1487,'School List'!$B$3:$D$291,3,FALSE),H1487)","v":"Noble County - EAST NOBLE SCHOOL CORPORATION0101"},{"$f":"IF('Line 1 Source'!B1487<>\"\",'Line 1 Source'!B1487,\"\")","v":"57"},{"$f":"IF('Line 1 Source'!C1487<>\"\",'Line 1 Source'!C1487,\"\")","v":"4"},{"$f":"IF('Line 1 Source'!D1487<>\"\",'Line 1 Source'!D1487,\"\")","v":"6060"},{"$f":"IF('Line 1 Source'!E1487<>\"\",'Line 1 Source'!E1487,\"\")","v":"0101"},{"$f":"IF('Line 1 Source'!F1487<>\"\",'Line 1 Source'!F1487,\"\")","v":24674805}]
[{"$f":"IF('Line 1 Source'!A1488<>\"\",'Line 1 Source'!A1488,\"\")","v":"2018"},"5746060",{"$f":"CONCATENATE(VLOOKUP(B1488,'School List'!$B$3:$H$291,6,FALSE),H1488)","v":"60600180"},{"$f":"CONCATENATE(VLOOKUP(B1488,'School List'!$B$3:$D$291,3,FALSE),H1488)","v":"Noble County - EAST NOBLE SCHOOL CORPORATION0180"},{"$f":"IF('Line 1 Source'!B1488<>\"\",'Line 1 Source'!B1488,\"\")","v":"57"},{"$f":"IF('Line 1 Source'!C1488<>\"\",'Line 1 Source'!C1488,\"\")","v":"4"},{"$f":"IF('Line 1 Source'!D1488<>\"\",'Line 1 Source'!D1488,\"\")","v":"6060"},{"$f":"IF('Line 1 Source'!E1488<>\"\",'Line 1 Source'!E1488,\"\")","v":"0180"},{"$f":"IF('Line 1 Source'!F1488<>\"\",'Line 1 Source'!F1488,\"\")","v":5078254}]
[{"$f":"IF('Line 1 Source'!A1489<>\"\",'Line 1 Source'!A1489,\"\")","v":"2018"},"5746060",{"$f":"CONCATENATE(VLOOKUP(B1489,'School List'!$B$3:$H$291,6,FALSE),H1489)","v":"60601214"},{"$f":"CONCATENATE(VLOOKUP(B1489,'School List'!$B$3:$D$291,3,FALSE),H1489)","v":"Noble County - EAST NOBLE SCHOOL CORPORATION1214"},{"$f":"IF('Line 1 Source'!B1489<>\"\",'Line 1 Source'!B1489,\"\")","v":"57"},{"$f":"IF('Line 1 Source'!C1489<>\"\",'Line 1 Source'!C1489,\"\")","v":"4"},{"$f":"IF('Line 1 Source'!D1489<>\"\",'Line 1 Source'!D1489,\"\")","v":"6060"},{"$f":"IF('Line 1 Source'!E1489<>\"\",'Line 1 Source'!E1489,\"\")","v":"1214"},{"$f":"IF('Line 1 Source'!F1489<>\"\",'Line 1 Source'!F1489,\"\")","v":3155610}]
[{"$f":"IF('Line 1 Source'!A1490<>\"\",'Line 1 Source'!A1490,\"\")","v":"2018"},"5746060",{"$f":"CONCATENATE(VLOOKUP(B1490,'School List'!$B$3:$H$291,6,FALSE),H1490)","v":"60606301"},{"$f":"CONCATENATE(VLOOKUP(B1490,'School List'!$B$3:$D$291,3,FALSE),H1490)","v":"Noble County - EAST NOBLE SCHOOL CORPORATION6301"},{"$f":"IF('Line 1 Source'!B1490<>\"\",'Line 1 Source'!B1490,\"\")","v":"57"},{"$f":"IF('Line 1 Source'!C1490<>\"\",'Line 1 Source'!C1490,\"\")","v":"4"},{"$f":"IF('Line 1 Source'!D1490<>\"\",'Line 1 Source'!D1490,\"\")","v":"6060"},{"$f":"IF('Line 1 Source'!E1490<>\"\",'Line 1 Source'!E1490,\"\")","v":"6301"},{"$f":"IF('Line 1 Source'!F1490<>\"\",'Line 1 Source'!F1490,\"\")","v":1900000}]
[{"$f":"IF('Line 1 Source'!A1491<>\"\",'Line 1 Source'!A1491,\"\")","v":"2018"},"5746060",{"$f":"CONCATENATE(VLOOKUP(B1491,'School List'!$B$3:$H$291,6,FALSE),H1491)","v":"60606302"},{"$f":"CONCATENATE(VLOOKUP(B1491,'School List'!$B$3:$D$291,3,FALSE),H1491)","v":"Noble County - EAST NOBLE SCHOOL CORPORATION6302"},{"$f":"IF('Line 1 Source'!B1491<>\"\",'Line 1 Source'!B1491,\"\")","v":"57"},{"$f":"IF('Line 1 Source'!C1491<>\"\",'Line 1 Source'!C1491,\"\")","v":"4"},{"$f":"IF('Line 1 Source'!D1491<>\"\",'Line 1 Source'!D1491,\"\")","v":"6060"},{"$f":"IF('Line 1 Source'!E1491<>\"\",'Line 1 Source'!E1491,\"\")","v":"6302"},{"$f":"IF('Line 1 Source'!F1491<>\"\",'Line 1 Source'!F1491,\"\")","v":570000}]
[{"$f":"IF('Line 1 Source'!A1492<>\"\",'Line 1 Source'!A1492,\"\")","v":"2018"},"5746065",{"$f":"CONCATENATE(VLOOKUP(B1492,'School List'!$B$3:$H$291,6,FALSE),H1492)","v":"60650061"},{"$f":"CONCATENATE(VLOOKUP(B1492,'School List'!$B$3:$D$291,3,FALSE),H1492)","v":"Noble County - WEST NOBLE SCHOOL CORPORATION0061"},{"$f":"IF('Line 1 Source'!B1492<>\"\",'Line 1 Source'!B1492,\"\")","v":"57"},{"$f":"IF('Line 1 Source'!C1492<>\"\",'Line 1 Source'!C1492,\"\")","v":"4"},{"$f":"IF('Line 1 Source'!D1492<>\"\",'Line 1 Source'!D1492,\"\")","v":"6065"},{"$f":"IF('Line 1 Source'!E1492<>\"\",'Line 1 Source'!E1492,\"\")","v":"0061"},{"$f":"IF('Line 1 Source'!F1492<>\"\",'Line 1 Source'!F1492,\"\")","v":375000}]
[{"$f":"IF('Line 1 Source'!A1493<>\"\",'Line 1 Source'!A1493,\"\")","v":"2018"},"5746065",{"$f":"CONCATENATE(VLOOKUP(B1493,'School List'!$B$3:$H$291,6,FALSE),H1493)","v":"60650101"},{"$f":"CONCATENATE(VLOOKUP(B1493,'School List'!$B$3:$D$291,3,FALSE),H1493)","v":"Noble County - WEST NOBLE SCHOOL CORPORATION0101"},{"$f":"IF('Line 1 Source'!B1493<>\"\",'Line 1 Source'!B1493,\"\")","v":"57"},{"$f":"IF('Line 1 Source'!C1493<>\"\",'Line 1 Source'!C1493,\"\")","v":"4"},{"$f":"IF('Line 1 Source'!D1493<>\"\",'Line 1 Source'!D1493,\"\")","v":"6065"},{"$f":"IF('Line 1 Source'!E1493<>\"\",'Line 1 Source'!E1493,\"\")","v":"0101"},{"$f":"IF('Line 1 Source'!F1493<>\"\",'Line 1 Source'!F1493,\"\")","v":17024116}]
[{"$f":"IF('Line 1 Source'!A1494<>\"\",'Line 1 Source'!A1494,\"\")","v":"2018"},"5746065",{"$f":"CONCATENATE(VLOOKUP(B1494,'School List'!$B$3:$H$291,6,FALSE),H1494)","v":"60650180"},{"$f":"CONCATENATE(VLOOKUP(B1494,'School List'!$B$3:$D$291,3,FALSE),H1494)","v":"Noble County - WEST NOBLE SCHOOL CORPORATION0180"},{"$f":"IF('Line 1 Source'!B1494<>\"\",'Line 1 Source'!B1494,\"\")","v":"57"},{"$f":"IF('Line 1 Source'!C1494<>\"\",'Line 1 Source'!C1494,\"\")","v":"4"},{"$f":"IF('Line 1 Source'!D1494<>\"\",'Line 1 Source'!D1494,\"\")","v":"6065"},{"$f":"IF('Line 1 Source'!E1494<>\"\",'Line 1 Source'!E1494,\"\")","v":"0180"},{"$f":"IF('Line 1 Source'!F1494<>\"\",'Line 1 Source'!F1494,\"\")","v":2045324}]
[{"$f":"IF('Line 1 Source'!A1495<>\"\",'Line 1 Source'!A1495,\"\")","v":"2018"},"5746065",{"$f":"CONCATENATE(VLOOKUP(B1495,'School List'!$B$3:$H$291,6,FALSE),H1495)","v":"60650186"},{"$f":"CONCATENATE(VLOOKUP(B1495,'School List'!$B$3:$D$291,3,FALSE),H1495)","v":"Noble County - WEST NOBLE SCHOOL CORPORATION0186"},{"$f":"IF('Line 1 Source'!B1495<>\"\",'Line 1 Source'!B1495,\"\")","v":"57"},{"$f":"IF('Line 1 Source'!C1495<>\"\",'Line 1 Source'!C1495,\"\")","v":"4"},{"$f":"IF('Line 1 Source'!D1495<>\"\",'Line 1 Source'!D1495,\"\")","v":"6065"},{"$f":"IF('Line 1 Source'!E1495<>\"\",'Line 1 Source'!E1495,\"\")","v":"0186"},{"$f":"IF('Line 1 Source'!F1495<>\"\",'Line 1 Source'!F1495,\"\")","v":390000}]
[{"$f":"IF('Line 1 Source'!A1496<>\"\",'Line 1 Source'!A1496,\"\")","v":"2018"},"5746065",{"$f":"CONCATENATE(VLOOKUP(B1496,'School List'!$B$3:$H$291,6,FALSE),H1496)","v":"60651214"},{"$f":"CONCATENATE(VLOOKUP(B1496,'School List'!$B$3:$D$291,3,FALSE),H1496)","v":"Noble County - WEST NOBLE SCHOOL CORPORATION1214"},{"$f":"IF('Line 1 Source'!B1496<>\"\",'Line 1 Source'!B1496,\"\")","v":"57"},{"$f":"IF('Line 1 Source'!C1496<>\"\",'Line 1 Source'!C1496,\"\")","v":"4"},{"$f":"IF('Line 1 Source'!D1496<>\"\",'Line 1 Source'!D1496,\"\")","v":"6065"},{"$f":"IF('Line 1 Source'!E1496<>\"\",'Line 1 Source'!E1496,\"\")","v":"1214"},{"$f":"IF('Line 1 Source'!F1496<>\"\",'Line 1 Source'!F1496,\"\")","v":1782458}]
[{"$f":"IF('Line 1 Source'!A1497<>\"\",'Line 1 Source'!A1497,\"\")","v":"2018"},"5746065",{"$f":"CONCATENATE(VLOOKUP(B1497,'School List'!$B$3:$H$291,6,FALSE),H1497)","v":"60656301"},{"$f":"CONCATENATE(VLOOKUP(B1497,'School List'!$B$3:$D$291,3,FALSE),H1497)","v":"Noble County - WEST NOBLE SCHOOL CORPORATION6301"},{"$f":"IF('Line 1 Source'!B1497<>\"\",'Line 1 Source'!B1497,\"\")","v":"57"},{"$f":"IF('Line 1 Source'!C1497<>\"\",'Line 1 Source'!C1497,\"\")","v":"4"},{"$f":"IF('Line 1 Source'!D1497<>\"\",'Line 1 Source'!D1497,\"\")","v":"6065"},{"$f":"IF('Line 1 Source'!E1497<>\"\",'Line 1 Source'!E1497,\"\")","v":"6301"},{"$f":"IF('Line 1 Source'!F1497<>\"\",'Line 1 Source'!F1497,\"\")","v":2430568}]
[{"$f":"IF('Line 1 Source'!A1498<>\"\",'Line 1 Source'!A1498,\"\")","v":"2018"},"5746065",{"$f":"CONCATENATE(VLOOKUP(B1498,'School List'!$B$3:$H$291,6,FALSE),H1498)","v":"60656302"},{"$f":"CONCATENATE(VLOOKUP(B1498,'School List'!$B$3:$D$291,3,FALSE),H1498)","v":"Noble County - WEST NOBLE SCHOOL CORPORATION6302"},{"$f":"IF('Line 1 Source'!B1498<>\"\",'Line 1 Source'!B1498,\"\")","v":"57"},{"$f":"IF('Line 1 Source'!C1498<>\"\",'Line 1 Source'!C1498,\"\")","v":"4"},{"$f":"IF('Line 1 Source'!D1498<>\"\",'Line 1 Source'!D1498,\"\")","v":"6065"},{"$f":"IF('Line 1 Source'!E1498<>\"\",'Line 1 Source'!E1498,\"\")","v":"6302"},{"$f":"IF('Line 1 Source'!F1498<>\"\",'Line 1 Source'!F1498,\"\")","v":527500}]
[{"$f":"IF('Line 1 Source'!A1499<>\"\",'Line 1 Source'!A1499,\"\")","v":"2018"},"5748625",{"$f":"CONCATENATE(VLOOKUP(B1499,'School List'!$B$3:$H$291,6,FALSE),H1499)","v":{"$error":"#N/A"}},{"$f":"CONCATENATE(VLOOKUP(B1499,'School List'!$B$3:$D$291,3,FALSE),H1499)","v":{"$error":"#N/A"}},{"$f":"IF('Line 1 Source'!B1499<>\"\",'Line 1 Source'!B1499,\"\")","v":"57"},{"$f":"IF('Line 1 Source'!C1499<>\"\",'Line 1 Source'!C1499,\"\")","v":"4"},{"$f":"IF('Line 1 Source'!D1499<>\"\",'Line 1 Source'!D1499,\"\")","v":"8625"},{"$f":"IF('Line 1 Source'!E1499<>\"\",'Line 1 Source'!E1499,\"\")","v":"0061"},{"$f":"IF('Line 1 Source'!F1499<>\"\",'Line 1 Source'!F1499,\"\")","v":0}]
[{"$f":"IF('Line 1 Source'!A1500<>\"\",'Line 1 Source'!A1500,\"\")","v":"2018"},"5748625",{"$f":"CONCATENATE(VLOOKUP(B1500,'School List'!$B$3:$H$291,6,FALSE),H1500)","v":{"$error":"#N/A"}},{"$f":"CONCATENATE(VLOOKUP(B1500,'School List'!$B$3:$D$291,3,FALSE),H1500)","v":{"$error":"#N/A"}},{"$f":"IF('Line 1 Source'!B1500<>\"\",'Line 1 Source'!B1500,\"\")","v":"57"},{"$f":"IF('Line 1 Source'!C1500<>\"\",'Line 1 Source'!C1500,\"\")","v":"4"},{"$f":"IF('Line 1 Source'!D1500<>\"\",'Line 1 Source'!D1500,\"\")","v":"8625"},{"$f":"IF('Line 1 Source'!E1500<>\"\",'Line 1 Source'!E1500,\"\")","v":"0101"},{"$f":"IF('Line 1 Source'!F1500<>\"\",'Line 1 Source'!F1500,\"\")","v":0}]
[{"$f":"IF('Line 1 Source'!A1501<>\"\",'Line 1 Source'!A1501,\"\")","v":"2018"},"5748625",{"$f":"CONCATENATE(VLOOKUP(B1501,'School List'!$B$3:$H$291,6,FALSE),H1501)","v":{"$error":"#N/A"}},{"$f":"CONCATENATE(VLOOKUP(B1501,'School List'!$B$3:$D$291,3,FALSE),H1501)","v":{"$error":"#N/A"}},{"$f":"IF('Line 1 Source'!B1501<>\"\",'Line 1 Source'!B1501,\"\")","v":"57"},{"$f":"IF('Line 1 Source'!C1501<>\"\",'Line 1 Source'!C1501,\"\")","v":"4"},{"$f":"IF('Line 1 Source'!D1501<>\"\",'Line 1 Source'!D1501,\"\")","v":"8625"},{"$f":"IF('Line 1 Source'!E1501<>\"\",'Line 1 Source'!E1501,\"\")","v":"0180"},{"$f":"IF('Line 1 Source'!F1501<>\"\",'Line 1 Source'!F1501,\"\")","v":0}]
[{"$f":"IF('Line 1 Source'!A1502<>\"\",'Line 1 Source'!A1502,\"\")","v":"2018"},"5748625",{"$f":"CONCATENATE(VLOOKUP(B1502,'School List'!$B$3:$H$291,6,FALSE),H1502)","v":{"$error":"#N/A"}},{"$f":"CONCATENATE(VLOOKUP(B1502,'School List'!$B$3:$D$291,3,FALSE),H1502)","v":{"$error":"#N/A"}},{"$f":"IF('Line 1 Source'!B1502<>\"\",'Line 1 Source'!B1502,\"\")","v":"57"},{"$f":"IF('Line 1 Source'!C1502<>\"\",'Line 1 Source'!C1502,\"\")","v":"4"},{"$f":"IF('Line 1 Source'!D1502<>\"\",'Line 1 Source'!D1502,\"\")","v":"8625"},{"$f":"IF('Line 1 Source'!E1502<>\"\",'Line 1 Source'!E1502,\"\")","v":"0186"},{"$f":"IF('Line 1 Source'!F1502<>\"\",'Line 1 Source'!F1502,\"\")","v":0}]
[{"$f":"IF('Line 1 Source'!A1503<>\"\",'Line 1 Source'!A1503,\"\")","v":"2018"},"5748625",{"$f":"CONCATENATE(VLOOKUP(B1503,'School List'!$B$3:$H$291,6,FALSE),H1503)","v":{"$error":"#N/A"}},{"$f":"CONCATENATE(VLOOKUP(B1503,'School List'!$B$3:$D$291,3,FALSE),H1503)","v":{"$error":"#N/A"}},{"$f":"IF('Line 1 Source'!B1503<>\"\",'Line 1 Source'!B1503,\"\")","v":"57"},{"$f":"IF('Line 1 Source'!C1503<>\"\",'Line 1 Source'!C1503,\"\")","v":"4"},{"$f":"IF('Line 1 Source'!D1503<>\"\",'Line 1 Source'!D1503,\"\")","v":"8625"},{"$f":"IF('Line 1 Source'!E1503<>\"\",'Line 1 Source'!E1503,\"\")","v":"1214"},{"$f":"IF('Line 1 Source'!F1503<>\"\",'Line 1 Source'!F1503,\"\")","v":0}]
[{"$f":"IF('Line 1 Source'!A1504<>\"\",'Line 1 Source'!A1504,\"\")","v":"2018"},"5748625",{"$f":"CONCATENATE(VLOOKUP(B1504,'School List'!$B$3:$H$291,6,FALSE),H1504)","v":{"$error":"#N/A"}},{"$f":"CONCATENATE(VLOOKUP(B1504,'School List'!$B$3:$D$291,3,FALSE),H1504)","v":{"$error":"#N/A"}},{"$f":"IF('Line 1 Source'!B1504<>\"\",'Line 1 Source'!B1504,\"\")","v":"57"},{"$f":"IF('Line 1 Source'!C1504<>\"\",'Line 1 Source'!C1504,\"\")","v":"4"},{"$f":"IF('Line 1 Source'!D1504<>\"\",'Line 1 Source'!D1504,\"\")","v":"8625"},{"$f":"IF('Line 1 Source'!E1504<>\"\",'Line 1 Source'!E1504,\"\")","v":"6301"},{"$f":"IF('Line 1 Source'!F1504<>\"\",'Line 1 Source'!F1504,\"\")","v":0}]
[{"$f":"IF('Line 1 Source'!A1505<>\"\",'Line 1 Source'!A1505,\"\")","v":"2018"},"5748625",{"$f":"CONCATENATE(VLOOKUP(B1505,'School List'!$B$3:$H$291,6,FALSE),H1505)","v":{"$error":"#N/A"}},{"$f":"CONCATENATE(VLOOKUP(B1505,'School List'!$B$3:$D$291,3,FALSE),H1505)","v":{"$error":"#N/A"}},{"$f":"IF('Line 1 Source'!B1505<>\"\",'Line 1 Source'!B1505,\"\")","v":"57"},{"$f":"IF('Line 1 Source'!C1505<>\"\",'Line 1 Source'!C1505,\"\")","v":"4"},{"$f":"IF('Line 1 Source'!D1505<>\"\",'Line 1 Source'!D1505,\"\")","v":"8625"},{"$f":"IF('Line 1 Source'!E1505<>\"\",'Line 1 Source'!E1505,\"\")","v":"6302"},{"$f":"IF('Line 1 Source'!F1505<>\"\",'Line 1 Source'!F1505,\"\")","v":0}]
[{"$f":"IF('Line 1 Source'!A1506<>\"\",'Line 1 Source'!A1506,\"\")","v":"2018"},"5846080",{"$f":"CONCATENATE(VLOOKUP(B1506,'School List'!$B$3:$H$291,6,FALSE),H1506)","v":"60800022"},{"$f":"CONCATENATE(VLOOKUP(B1506,'School List'!$B$3:$D$291,3,FALSE),H1506)","v":"Ohio County - RISING SUN-OHIO COUNTY COMM SCHOOL CORP0022"},{"$f":"IF('Line 1 Source'!B1506<>\"\",'Line 1 Source'!B1506,\"\")","v":"58"},{"$f":"IF('Line 1 Source'!C1506<>\"\",'Line 1 Source'!C1506,\"\")","v":"4"},{"$f":"IF('Line 1 Source'!D1506<>\"\",'Line 1 Source'!D1506,\"\")","v":"6080"},{"$f":"IF('Line 1 Source'!E1506<>\"\",'Line 1 Source'!E1506,\"\")","v":"0022"},{"$f":"IF('Line 1 Source'!F1506<>\"\",'Line 1 Source'!F1506,\"\")","v":585519}]
[{"$f":"IF('Line 1 Source'!A1507<>\"\",'Line 1 Source'!A1507,\"\")","v":"2018"},"5846080",{"$f":"CONCATENATE(VLOOKUP(B1507,'School List'!$B$3:$H$291,6,FALSE),H1507)","v":"60800061"},{"$f":"CONCATENATE(VLOOKUP(B1507,'School List'!$B$3:$D$291,3,FALSE),H1507)","v":"Ohio County - RISING SUN-OHIO COUNTY COMM SCHOOL CORP0061"},{"$f":"IF('Line 1 Source'!B1507<>\"\",'Line 1 Source'!B1507,\"\")","v":"58"},{"$f":"IF('Line 1 Source'!C1507<>\"\",'Line 1 Source'!C1507,\"\")","v":"4"},{"$f":"IF('Line 1 Source'!D1507<>\"\",'Line 1 Source'!D1507,\"\")","v":"6080"},{"$f":"IF('Line 1 Source'!E1507<>\"\",'Line 1 Source'!E1507,\"\")","v":"0061"},{"$f":"IF('Line 1 Source'!F1507<>\"\",'Line 1 Source'!F1507,\"\")","v":212000}]
[{"$f":"IF('Line 1 Source'!A1508<>\"\",'Line 1 Source'!A1508,\"\")","v":"2018"},"5846080",{"$f":"CONCATENATE(VLOOKUP(B1508,'School List'!$B$3:$H$291,6,FALSE),H1508)","v":"60800101"},{"$f":"CONCATENATE(VLOOKUP(B1508,'School List'!$B$3:$D$291,3,FALSE),H1508)","v":"Ohio County - RISING SUN-OHIO COUNTY COMM SCHOOL CORP0101"},{"$f":"IF('Line 1 Source'!B1508<>\"\",'Line 1 Source'!B1508,\"\")","v":"58"},{"$f":"IF('Line 1 Source'!C1508<>\"\",'Line 1 Source'!C1508,\"\")","v":"4"},{"$f":"IF('Line 1 Source'!D1508<>\"\",'Line 1 Source'!D1508,\"\")","v":"6080"},{"$f":"IF('Line 1 Source'!E1508<>\"\",'Line 1 Source'!E1508,\"\")","v":"0101"},{"$f":"IF('Line 1 Source'!F1508<>\"\",'Line 1 Source'!F1508,\"\")","v":5849900}]
[{"$f":"IF('Line 1 Source'!A1509<>\"\",'Line 1 Source'!A1509,\"\")","v":"2018"},"5846080",{"$f":"CONCATENATE(VLOOKUP(B1509,'School List'!$B$3:$H$291,6,FALSE),H1509)","v":"60800180"},{"$f":"CONCATENATE(VLOOKUP(B1509,'School List'!$B$3:$D$291,3,FALSE),H1509)","v":"Ohio County - RISING SUN-OHIO COUNTY COMM SCHOOL CORP0180"},{"$f":"IF('Line 1 Source'!B1509<>\"\",'Line 1 Source'!B1509,\"\")","v":"58"},{"$f":"IF('Line 1 Source'!C1509<>\"\",'Line 1 Source'!C1509,\"\")","v":"4"},{"$f":"IF('Line 1 Source'!D1509<>\"\",'Line 1 Source'!D1509,\"\")","v":"6080"},{"$f":"IF('Line 1 Source'!E1509<>\"\",'Line 1 Source'!E1509,\"\")","v":"0180"},{"$f":"IF('Line 1 Source'!F1509<>\"\",'Line 1 Source'!F1509,\"\")","v":622500}]
[{"$f":"IF('Line 1 Source'!A1510<>\"\",'Line 1 Source'!A1510,\"\")","v":"2018"},"5846080",{"$f":"CONCATENATE(VLOOKUP(B1510,'School List'!$B$3:$H$291,6,FALSE),H1510)","v":"60801214"},{"$f":"CONCATENATE(VLOOKUP(B1510,'School List'!$B$3:$D$291,3,FALSE),H1510)","v":"Ohio County - RISING SUN-OHIO COUNTY COMM SCHOOL CORP1214"},{"$f":"IF('Line 1 Source'!B1510<>\"\",'Line 1 Source'!B1510,\"\")","v":"58"},{"$f":"IF('Line 1 Source'!C1510<>\"\",'Line 1 Source'!C1510,\"\")","v":"4"},{"$f":"IF('Line 1 Source'!D1510<>\"\",'Line 1 Source'!D1510,\"\")","v":"6080"},{"$f":"IF('Line 1 Source'!E1510<>\"\",'Line 1 Source'!E1510,\"\")","v":"1214"},{"$f":"IF('Line 1 Source'!F1510<>\"\",'Line 1 Source'!F1510,\"\")","v":912391}]
[{"$f":"IF('Line 1 Source'!A1511<>\"\",'Line 1 Source'!A1511,\"\")","v":"2018"},"5846080",{"$f":"CONCATENATE(VLOOKUP(B1511,'School List'!$B$3:$H$291,6,FALSE),H1511)","v":"60806301"},{"$f":"CONCATENATE(VLOOKUP(B1511,'School List'!$B$3:$D$291,3,FALSE),H1511)","v":"Ohio County - RISING SUN-OHIO COUNTY COMM SCHOOL CORP6301"},{"$f":"IF('Line 1 Source'!B1511<>\"\",'Line 1 Source'!B1511,\"\")","v":"58"},{"$f":"IF('Line 1 Source'!C1511<>\"\",'Line 1 Source'!C1511,\"\")","v":"4"},{"$f":"IF('Line 1 Source'!D1511<>\"\",'Line 1 Source'!D1511,\"\")","v":"6080"},{"$f":"IF('Line 1 Source'!E1511<>\"\",'Line 1 Source'!E1511,\"\")","v":"6301"},{"$f":"IF('Line 1 Source'!F1511<>\"\",'Line 1 Source'!F1511,\"\")","v":465700}]
[{"$f":"IF('Line 1 Source'!A1512<>\"\",'Line 1 Source'!A1512,\"\")","v":"2018"},"5846080",{"$f":"CONCATENATE(VLOOKUP(B1512,'School List'!$B$3:$H$291,6,FALSE),H1512)","v":"60806302"},{"$f":"CONCATENATE(VLOOKUP(B1512,'School List'!$B$3:$D$291,3,FALSE),H1512)","v":"Ohio County - RISING SUN-OHIO COUNTY COMM SCHOOL CORP6302"},{"$f":"IF('Line 1 Source'!B1512<>\"\",'Line 1 Source'!B1512,\"\")","v":"58"},{"$f":"IF('Line 1 Source'!C1512<>\"\",'Line 1 Source'!C1512,\"\")","v":"4"},{"$f":"IF('Line 1 Source'!D1512<>\"\",'Line 1 Source'!D1512,\"\")","v":"6080"},{"$f":"IF('Line 1 Source'!E1512<>\"\",'Line 1 Source'!E1512,\"\")","v":"6302"},{"$f":"IF('Line 1 Source'!F1512<>\"\",'Line 1 Source'!F1512,\"\")","v":150000}]
[{"$f":"IF('Line 1 Source'!A1513<>\"\",'Line 1 Source'!A1513,\"\")","v":"2018"},"5946145",{"$f":"CONCATENATE(VLOOKUP(B1513,'School List'!$B$3:$H$291,6,FALSE),H1513)","v":"61450061"},{"$f":"CONCATENATE(VLOOKUP(B1513,'School List'!$B$3:$D$291,3,FALSE),H1513)","v":"Orange County - ORLEANS COMMUNITY SCHOOL CORPORATION0061"},{"$f":"IF('Line 1 Source'!B1513<>\"\",'Line 1 Source'!B1513,\"\")","v":"59"},{"$f":"IF('Line 1 Source'!C1513<>\"\",'Line 1 Source'!C1513,\"\")","v":"4"},{"$f":"IF('Line 1 Source'!D1513<>\"\",'Line 1 Source'!D1513,\"\")","v":"6145"},{"$f":"IF('Line 1 Source'!E1513<>\"\",'Line 1 Source'!E1513,\"\")","v":"0061"},{"$f":"IF('Line 1 Source'!F1513<>\"\",'Line 1 Source'!F1513,\"\")","v":175000}]
[{"$f":"IF('Line 1 Source'!A1514<>\"\",'Line 1 Source'!A1514,\"\")","v":"2018"},"5946145",{"$f":"CONCATENATE(VLOOKUP(B1514,'School List'!$B$3:$H$291,6,FALSE),H1514)","v":"61450101"},{"$f":"CONCATENATE(VLOOKUP(B1514,'School List'!$B$3:$D$291,3,FALSE),H1514)","v":"Orange County - ORLEANS COMMUNITY SCHOOL CORPORATION0101"},{"$f":"IF('Line 1 Source'!B1514<>\"\",'Line 1 Source'!B1514,\"\")","v":"59"},{"$f":"IF('Line 1 Source'!C1514<>\"\",'Line 1 Source'!C1514,\"\")","v":"4"},{"$f":"IF('Line 1 Source'!D1514<>\"\",'Line 1 Source'!D1514,\"\")","v":"6145"},{"$f":"IF('Line 1 Source'!E1514<>\"\",'Line 1 Source'!E1514,\"\")","v":"0101"},{"$f":"IF('Line 1 Source'!F1514<>\"\",'Line 1 Source'!F1514,\"\")","v":6179620}]
[{"$f":"IF('Line 1 Source'!A1515<>\"\",'Line 1 Source'!A1515,\"\")","v":"2018"},"5946145",{"$f":"CONCATENATE(VLOOKUP(B1515,'School List'!$B$3:$H$291,6,FALSE),H1515)","v":"61450180"},{"$f":"CONCATENATE(VLOOKUP(B1515,'School List'!$B$3:$D$291,3,FALSE),H1515)","v":"Orange County - ORLEANS COMMUNITY SCHOOL CORPORATION0180"},{"$f":"IF('Line 1 Source'!B1515<>\"\",'Line 1 Source'!B1515,\"\")","v":"59"},{"$f":"IF('Line 1 Source'!C1515<>\"\",'Line 1 Source'!C1515,\"\")","v":"4"},{"$f":"IF('Line 1 Source'!D1515<>\"\",'Line 1 Source'!D1515,\"\")","v":"6145"},{"$f":"IF('Line 1 Source'!E1515<>\"\",'Line 1 Source'!E1515,\"\")","v":"0180"},{"$f":"IF('Line 1 Source'!F1515<>\"\",'Line 1 Source'!F1515,\"\")","v":1146735}]
[{"$f":"IF('Line 1 Source'!A1516<>\"\",'Line 1 Source'!A1516,\"\")","v":"2018"},"5946145",{"$f":"CONCATENATE(VLOOKUP(B1516,'School List'!$B$3:$H$291,6,FALSE),H1516)","v":"61450186"},{"$f":"CONCATENATE(VLOOKUP(B1516,'School List'!$B$3:$D$291,3,FALSE),H1516)","v":"Orange County - ORLEANS COMMUNITY SCHOOL CORPORATION0186"},{"$f":"IF('Line 1 Source'!B1516<>\"\",'Line 1 Source'!B1516,\"\")","v":"59"},{"$f":"IF('Line 1 Source'!C1516<>\"\",'Line 1 Source'!C1516,\"\")","v":"4"},{"$f":"IF('Line 1 Source'!D1516<>\"\",'Line 1 Source'!D1516,\"\")","v":"6145"},{"$f":"IF('Line 1 Source'!E1516<>\"\",'Line 1 Source'!E1516,\"\")","v":"0186"},{"$f":"IF('Line 1 Source'!F1516<>\"\",'Line 1 Source'!F1516,\"\")","v":300878}]
[{"$f":"IF('Line 1 Source'!A1517<>\"\",'Line 1 Source'!A1517,\"\")","v":"2018"},"5946145",{"$f":"CONCATENATE(VLOOKUP(B1517,'School List'!$B$3:$H$291,6,FALSE),H1517)","v":"61451214"},{"$f":"CONCATENATE(VLOOKUP(B1517,'School List'!$B$3:$D$291,3,FALSE),H1517)","v":"Orange County - ORLEANS COMMUNITY SCHOOL CORPORATION1214"},{"$f":"IF('Line 1 Source'!B1517<>\"\",'Line 1 Source'!B1517,\"\")","v":"59"},{"$f":"IF('Line 1 Source'!C1517<>\"\",'Line 1 Source'!C1517,\"\")","v":"4"},{"$f":"IF('Line 1 Source'!D1517<>\"\",'Line 1 Source'!D1517,\"\")","v":"6145"},{"$f":"IF('Line 1 Source'!E1517<>\"\",'Line 1 Source'!E1517,\"\")","v":"1214"},{"$f":"IF('Line 1 Source'!F1517<>\"\",'Line 1 Source'!F1517,\"\")","v":704967}]
[{"$f":"IF('Line 1 Source'!A1518<>\"\",'Line 1 Source'!A1518,\"\")","v":"2018"},"5946145",{"$f":"CONCATENATE(VLOOKUP(B1518,'School List'!$B$3:$H$291,6,FALSE),H1518)","v":"61456301"},{"$f":"CONCATENATE(VLOOKUP(B1518,'School List'!$B$3:$D$291,3,FALSE),H1518)","v":"Orange County - ORLEANS COMMUNITY SCHOOL CORPORATION6301"},{"$f":"IF('Line 1 Source'!B1518<>\"\",'Line 1 Source'!B1518,\"\")","v":"59"},{"$f":"IF('Line 1 Source'!C1518<>\"\",'Line 1 Source'!C1518,\"\")","v":"4"},{"$f":"IF('Line 1 Source'!D1518<>\"\",'Line 1 Source'!D1518,\"\")","v":"6145"},{"$f":"IF('Line 1 Source'!E1518<>\"\",'Line 1 Source'!E1518,\"\")","v":"6301"},{"$f":"IF('Line 1 Source'!F1518<>\"\",'Line 1 Source'!F1518,\"\")","v":467547}]
[{"$f":"IF('Line 1 Source'!A1519<>\"\",'Line 1 Source'!A1519,\"\")","v":"2018"},"5946145",{"$f":"CONCATENATE(VLOOKUP(B1519,'School List'!$B$3:$H$291,6,FALSE),H1519)","v":"61456302"},{"$f":"CONCATENATE(VLOOKUP(B1519,'School List'!$B$3:$D$291,3,FALSE),H1519)","v":"Orange County - ORLEANS COMMUNITY SCHOOL CORPORATION6302"},{"$f":"IF('Line 1 Source'!B1519<>\"\",'Line 1 Source'!B1519,\"\")","v":"59"},{"$f":"IF('Line 1 Source'!C1519<>\"\",'Line 1 Source'!C1519,\"\")","v":"4"},{"$f":"IF('Line 1 Source'!D1519<>\"\",'Line 1 Source'!D1519,\"\")","v":"6145"},{"$f":"IF('Line 1 Source'!E1519<>\"\",'Line 1 Source'!E1519,\"\")","v":"6302"},{"$f":"IF('Line 1 Source'!F1519<>\"\",'Line 1 Source'!F1519,\"\")","v":63321}]
[{"$f":"IF('Line 1 Source'!A1520<>\"\",'Line 1 Source'!A1520,\"\")","v":"2018"},"5946155",{"$f":"CONCATENATE(VLOOKUP(B1520,'School List'!$B$3:$H$291,6,FALSE),H1520)","v":"61550061"},{"$f":"CONCATENATE(VLOOKUP(B1520,'School List'!$B$3:$D$291,3,FALSE),H1520)","v":"Orange County - PAOLI COMMUNITY SCHOOL CORPORATION0061"},{"$f":"IF('Line 1 Source'!B1520<>\"\",'Line 1 Source'!B1520,\"\")","v":"59"},{"$f":"IF('Line 1 Source'!C1520<>\"\",'Line 1 Source'!C1520,\"\")","v":"4"},{"$f":"IF('Line 1 Source'!D1520<>\"\",'Line 1 Source'!D1520,\"\")","v":"6155"},{"$f":"IF('Line 1 Source'!E1520<>\"\",'Line 1 Source'!E1520,\"\")","v":"0061"},{"$f":"IF('Line 1 Source'!F1520<>\"\",'Line 1 Source'!F1520,\"\")","v":551512}]
[{"$f":"IF('Line 1 Source'!A1521<>\"\",'Line 1 Source'!A1521,\"\")","v":"2018"},"5946155",{"$f":"CONCATENATE(VLOOKUP(B1521,'School List'!$B$3:$H$291,6,FALSE),H1521)","v":"61550101"},{"$f":"CONCATENATE(VLOOKUP(B1521,'School List'!$B$3:$D$291,3,FALSE),H1521)","v":"Orange County - PAOLI COMMUNITY SCHOOL CORPORATION0101"},{"$f":"IF('Line 1 Source'!B1521<>\"\",'Line 1 Source'!B1521,\"\")","v":"59"},{"$f":"IF('Line 1 Source'!C1521<>\"\",'Line 1 Source'!C1521,\"\")","v":"4"},{"$f":"IF('Line 1 Source'!D1521<>\"\",'Line 1 Source'!D1521,\"\")","v":"6155"},{"$f":"IF('Line 1 Source'!E1521<>\"\",'Line 1 Source'!E1521,\"\")","v":"0101"},{"$f":"IF('Line 1 Source'!F1521<>\"\",'Line 1 Source'!F1521,\"\")","v":11486909}]
[{"$f":"IF('Line 1 Source'!A1522<>\"\",'Line 1 Source'!A1522,\"\")","v":"2018"},"5946155",{"$f":"CONCATENATE(VLOOKUP(B1522,'School List'!$B$3:$H$291,6,FALSE),H1522)","v":"61550180"},{"$f":"CONCATENATE(VLOOKUP(B1522,'School List'!$B$3:$D$291,3,FALSE),H1522)","v":"Orange County - PAOLI COMMUNITY SCHOOL CORPORATION0180"},{"$f":"IF('Line 1 Source'!B1522<>\"\",'Line 1 Source'!B1522,\"\")","v":"59"},{"$f":"IF('Line 1 Source'!C1522<>\"\",'Line 1 Source'!C1522,\"\")","v":"4"},{"$f":"IF('Line 1 Source'!D1522<>\"\",'Line 1 Source'!D1522,\"\")","v":"6155"},{"$f":"IF('Line 1 Source'!E1522<>\"\",'Line 1 Source'!E1522,\"\")","v":"0180"},{"$f":"IF('Line 1 Source'!F1522<>\"\",'Line 1 Source'!F1522,\"\")","v":1402553}]
[{"$f":"IF('Line 1 Source'!A1523<>\"\",'Line 1 Source'!A1523,\"\")","v":"2018"},"5946155",{"$f":"CONCATENATE(VLOOKUP(B1523,'School List'!$B$3:$H$291,6,FALSE),H1523)","v":"61551214"},{"$f":"CONCATENATE(VLOOKUP(B1523,'School List'!$B$3:$D$291,3,FALSE),H1523)","v":"Orange County - PAOLI COMMUNITY SCHOOL CORPORATION1214"},{"$f":"IF('Line 1 Source'!B1523<>\"\",'Line 1 Source'!B1523,\"\")","v":"59"},{"$f":"IF('Line 1 Source'!C1523<>\"\",'Line 1 Source'!C1523,\"\")","v":"4"},{"$f":"IF('Line 1 Source'!D1523<>\"\",'Line 1 Source'!D1523,\"\")","v":"6155"},{"$f":"IF('Line 1 Source'!E1523<>\"\",'Line 1 Source'!E1523,\"\")","v":"1214"},{"$f":"IF('Line 1 Source'!F1523<>\"\",'Line 1 Source'!F1523,\"\")","v":953433}]
[{"$f":"IF('Line 1 Source'!A1524<>\"\",'Line 1 Source'!A1524,\"\")","v":"2018"},"5946155",{"$f":"CONCATENATE(VLOOKUP(B1524,'School List'!$B$3:$H$291,6,FALSE),H1524)","v":"61556301"},{"$f":"CONCATENATE(VLOOKUP(B1524,'School List'!$B$3:$D$291,3,FALSE),H1524)","v":"Orange County - PAOLI COMMUNITY SCHOOL CORPORATION6301"},{"$f":"IF('Line 1 Source'!B1524<>\"\",'Line 1 Source'!B1524,\"\")","v":"59"},{"$f":"IF('Line 1 Source'!C1524<>\"\",'Line 1 Source'!C1524,\"\")","v":"4"},{"$f":"IF('Line 1 Source'!D1524<>\"\",'Line 1 Source'!D1524,\"\")","v":"6155"},{"$f":"IF('Line 1 Source'!E1524<>\"\",'Line 1 Source'!E1524,\"\")","v":"6301"},{"$f":"IF('Line 1 Source'!F1524<>\"\",'Line 1 Source'!F1524,\"\")","v":834707}]
[{"$f":"IF('Line 1 Source'!A1525<>\"\",'Line 1 Source'!A1525,\"\")","v":"2018"},"5946155",{"$f":"CONCATENATE(VLOOKUP(B1525,'School List'!$B$3:$H$291,6,FALSE),H1525)","v":"61556302"},{"$f":"CONCATENATE(VLOOKUP(B1525,'School List'!$B$3:$D$291,3,FALSE),H1525)","v":"Orange County - PAOLI COMMUNITY SCHOOL CORPORATION6302"},{"$f":"IF('Line 1 Source'!B1525<>\"\",'Line 1 Source'!B1525,\"\")","v":"59"},{"$f":"IF('Line 1 Source'!C1525<>\"\",'Line 1 Source'!C1525,\"\")","v":"4"},{"$f":"IF('Line 1 Source'!D1525<>\"\",'Line 1 Source'!D1525,\"\")","v":"6155"},{"$f":"IF('Line 1 Source'!E1525<>\"\",'Line 1 Source'!E1525,\"\")","v":"6302"},{"$f":"IF('Line 1 Source'!F1525<>\"\",'Line 1 Source'!F1525,\"\")","v":212778}]
[{"$f":"IF('Line 1 Source'!A1526<>\"\",'Line 1 Source'!A1526,\"\")","v":"2018"},"5946160",{"$f":"CONCATENATE(VLOOKUP(B1526,'School List'!$B$3:$H$291,6,FALSE),H1526)","v":"61600061"},{"$f":"CONCATENATE(VLOOKUP(B1526,'School List'!$B$3:$D$291,3,FALSE),H1526)","v":"Orange County - SPRINGS VALLEY COMMUNITY SCHOOL CORP0061"},{"$f":"IF('Line 1 Source'!B1526<>\"\",'Line 1 Source'!B1526,\"\")","v":"59"},{"$f":"IF('Line 1 Source'!C1526<>\"\",'Line 1 Source'!C1526,\"\")","v":"4"},{"$f":"IF('Line 1 Source'!D1526<>\"\",'Line 1 Source'!D1526,\"\")","v":"6160"},{"$f":"IF('Line 1 Source'!E1526<>\"\",'Line 1 Source'!E1526,\"\")","v":"0061"},{"$f":"IF('Line 1 Source'!F1526<>\"\",'Line 1 Source'!F1526,\"\")","v":691015}]
[{"$f":"IF('Line 1 Source'!A1527<>\"\",'Line 1 Source'!A1527,\"\")","v":"2018"},"5946160",{"$f":"CONCATENATE(VLOOKUP(B1527,'School List'!$B$3:$H$291,6,FALSE),H1527)","v":"61600101"},{"$f":"CONCATENATE(VLOOKUP(B1527,'School List'!$B$3:$D$291,3,FALSE),H1527)","v":"Orange County - SPRINGS VALLEY COMMUNITY SCHOOL CORP0101"},{"$f":"IF('Line 1 Source'!B1527<>\"\",'Line 1 Source'!B1527,\"\")","v":"59"},{"$f":"IF('Line 1 Source'!C1527<>\"\",'Line 1 Source'!C1527,\"\")","v":"4"},{"$f":"IF('Line 1 Source'!D1527<>\"\",'Line 1 Source'!D1527,\"\")","v":"6160"},{"$f":"IF('Line 1 Source'!E1527<>\"\",'Line 1 Source'!E1527,\"\")","v":"0101"},{"$f":"IF('Line 1 Source'!F1527<>\"\",'Line 1 Source'!F1527,\"\")","v":5750000}]
[{"$f":"IF('Line 1 Source'!A1528<>\"\",'Line 1 Source'!A1528,\"\")","v":"2018"},"5946160",{"$f":"CONCATENATE(VLOOKUP(B1528,'School List'!$B$3:$H$291,6,FALSE),H1528)","v":"61600180"},{"$f":"CONCATENATE(VLOOKUP(B1528,'School List'!$B$3:$D$291,3,FALSE),H1528)","v":"Orange County - SPRINGS VALLEY COMMUNITY SCHOOL CORP0180"},{"$f":"IF('Line 1 Source'!B1528<>\"\",'Line 1 Source'!B1528,\"\")","v":"59"},{"$f":"IF('Line 1 Source'!C1528<>\"\",'Line 1 Source'!C1528,\"\")","v":"4"},{"$f":"IF('Line 1 Source'!D1528<>\"\",'Line 1 Source'!D1528,\"\")","v":"6160"},{"$f":"IF('Line 1 Source'!E1528<>\"\",'Line 1 Source'!E1528,\"\")","v":"0180"},{"$f":"IF('Line 1 Source'!F1528<>\"\",'Line 1 Source'!F1528,\"\")","v":767000}]
[{"$f":"IF('Line 1 Source'!A1529<>\"\",'Line 1 Source'!A1529,\"\")","v":"2018"},"5946160",{"$f":"CONCATENATE(VLOOKUP(B1529,'School List'!$B$3:$H$291,6,FALSE),H1529)","v":"61600186"},{"$f":"CONCATENATE(VLOOKUP(B1529,'School List'!$B$3:$D$291,3,FALSE),H1529)","v":"Orange County - SPRINGS VALLEY COMMUNITY SCHOOL CORP0186"},{"$f":"IF('Line 1 Source'!B1529<>\"\",'Line 1 Source'!B1529,\"\")","v":"59"},{"$f":"IF('Line 1 Source'!C1529<>\"\",'Line 1 Source'!C1529,\"\")","v":"4"},{"$f":"IF('Line 1 Source'!D1529<>\"\",'Line 1 Source'!D1529,\"\")","v":"6160"},{"$f":"IF('Line 1 Source'!E1529<>\"\",'Line 1 Source'!E1529,\"\")","v":"0186"},{"$f":"IF('Line 1 Source'!F1529<>\"\",'Line 1 Source'!F1529,\"\")","v":115250}]
[{"$f":"IF('Line 1 Source'!A1530<>\"\",'Line 1 Source'!A1530,\"\")","v":"2018"},"5946160",{"$f":"CONCATENATE(VLOOKUP(B1530,'School List'!$B$3:$H$291,6,FALSE),H1530)","v":"61601214"},{"$f":"CONCATENATE(VLOOKUP(B1530,'School List'!$B$3:$D$291,3,FALSE),H1530)","v":"Orange County - SPRINGS VALLEY COMMUNITY SCHOOL CORP1214"},{"$f":"IF('Line 1 Source'!B1530<>\"\",'Line 1 Source'!B1530,\"\")","v":"59"},{"$f":"IF('Line 1 Source'!C1530<>\"\",'Line 1 Source'!C1530,\"\")","v":"4"},{"$f":"IF('Line 1 Source'!D1530<>\"\",'Line 1 Source'!D1530,\"\")","v":"6160"},{"$f":"IF('Line 1 Source'!E1530<>\"\",'Line 1 Source'!E1530,\"\")","v":"1214"},{"$f":"IF('Line 1 Source'!F1530<>\"\",'Line 1 Source'!F1530,\"\")","v":957057}]
[{"$f":"IF('Line 1 Source'!A1531<>\"\",'Line 1 Source'!A1531,\"\")","v":"2018"},"5946160",{"$f":"CONCATENATE(VLOOKUP(B1531,'School List'!$B$3:$H$291,6,FALSE),H1531)","v":"61606301"},{"$f":"CONCATENATE(VLOOKUP(B1531,'School List'!$B$3:$D$291,3,FALSE),H1531)","v":"Orange County - SPRINGS VALLEY COMMUNITY SCHOOL CORP6301"},{"$f":"IF('Line 1 Source'!B1531<>\"\",'Line 1 Source'!B1531,\"\")","v":"59"},{"$f":"IF('Line 1 Source'!C1531<>\"\",'Line 1 Source'!C1531,\"\")","v":"4"},{"$f":"IF('Line 1 Source'!D1531<>\"\",'Line 1 Source'!D1531,\"\")","v":"6160"},{"$f":"IF('Line 1 Source'!E1531<>\"\",'Line 1 Source'!E1531,\"\")","v":"6301"},{"$f":"IF('Line 1 Source'!F1531<>\"\",'Line 1 Source'!F1531,\"\")","v":741386}]
[{"$f":"IF('Line 1 Source'!A1532<>\"\",'Line 1 Source'!A1532,\"\")","v":"2018"},"5946160",{"$f":"CONCATENATE(VLOOKUP(B1532,'School List'!$B$3:$H$291,6,FALSE),H1532)","v":"61606302"},{"$f":"CONCATENATE(VLOOKUP(B1532,'School List'!$B$3:$D$291,3,FALSE),H1532)","v":"Orange County - SPRINGS VALLEY COMMUNITY SCHOOL CORP6302"},{"$f":"IF('Line 1 Source'!B1532<>\"\",'Line 1 Source'!B1532,\"\")","v":"59"},{"$f":"IF('Line 1 Source'!C1532<>\"\",'Line 1 Source'!C1532,\"\")","v":"4"},{"$f":"IF('Line 1 Source'!D1532<>\"\",'Line 1 Source'!D1532,\"\")","v":"6160"},{"$f":"IF('Line 1 Source'!E1532<>\"\",'Line 1 Source'!E1532,\"\")","v":"6302"},{"$f":"IF('Line 1 Source'!F1532<>\"\",'Line 1 Source'!F1532,\"\")","v":55000}]
[{"$f":"IF('Line 1 Source'!A1533<>\"\",'Line 1 Source'!A1533,\"\")","v":"2018"},"6046195",{"$f":"CONCATENATE(VLOOKUP(B1533,'School List'!$B$3:$H$291,6,FALSE),H1533)","v":"61950061"},{"$f":"CONCATENATE(VLOOKUP(B1533,'School List'!$B$3:$D$291,3,FALSE),H1533)","v":"Owen County - SPENCER-OWEN COMMUNITY SCHOOL CORP0061"},{"$f":"IF('Line 1 Source'!B1533<>\"\",'Line 1 Source'!B1533,\"\")","v":"60"},{"$f":"IF('Line 1 Source'!C1533<>\"\",'Line 1 Source'!C1533,\"\")","v":"4"},{"$f":"IF('Line 1 Source'!D1533<>\"\",'Line 1 Source'!D1533,\"\")","v":"6195"},{"$f":"IF('Line 1 Source'!E1533<>\"\",'Line 1 Source'!E1533,\"\")","v":"0061"},{"$f":"IF('Line 1 Source'!F1533<>\"\",'Line 1 Source'!F1533,\"\")","v":1000000}]
[{"$f":"IF('Line 1 Source'!A1534<>\"\",'Line 1 Source'!A1534,\"\")","v":"2018"},"6046195",{"$f":"CONCATENATE(VLOOKUP(B1534,'School List'!$B$3:$H$291,6,FALSE),H1534)","v":"61950101"},{"$f":"CONCATENATE(VLOOKUP(B1534,'School List'!$B$3:$D$291,3,FALSE),H1534)","v":"Owen County - SPENCER-OWEN COMMUNITY SCHOOL CORP0101"},{"$f":"IF('Line 1 Source'!B1534<>\"\",'Line 1 Source'!B1534,\"\")","v":"60"},{"$f":"IF('Line 1 Source'!C1534<>\"\",'Line 1 Source'!C1534,\"\")","v":"4"},{"$f":"IF('Line 1 Source'!D1534<>\"\",'Line 1 Source'!D1534,\"\")","v":"6195"},{"$f":"IF('Line 1 Source'!E1534<>\"\",'Line 1 Source'!E1534,\"\")","v":"0101"},{"$f":"IF('Line 1 Source'!F1534<>\"\",'Line 1 Source'!F1534,\"\")","v":18667460}]
[{"$f":"IF('Line 1 Source'!A1535<>\"\",'Line 1 Source'!A1535,\"\")","v":"2018"},"6046195",{"$f":"CONCATENATE(VLOOKUP(B1535,'School List'!$B$3:$H$291,6,FALSE),H1535)","v":"61950180"},{"$f":"CONCATENATE(VLOOKUP(B1535,'School List'!$B$3:$D$291,3,FALSE),H1535)","v":"Owen County - SPENCER-OWEN COMMUNITY SCHOOL CORP0180"},{"$f":"IF('Line 1 Source'!B1535<>\"\",'Line 1 Source'!B1535,\"\")","v":"60"},{"$f":"IF('Line 1 Source'!C1535<>\"\",'Line 1 Source'!C1535,\"\")","v":"4"},{"$f":"IF('Line 1 Source'!D1535<>\"\",'Line 1 Source'!D1535,\"\")","v":"6195"},{"$f":"IF('Line 1 Source'!E1535<>\"\",'Line 1 Source'!E1535,\"\")","v":"0180"},{"$f":"IF('Line 1 Source'!F1535<>\"\",'Line 1 Source'!F1535,\"\")","v":3831441}]
[{"$f":"IF('Line 1 Source'!A1536<>\"\",'Line 1 Source'!A1536,\"\")","v":"2018"},"6046195",{"$f":"CONCATENATE(VLOOKUP(B1536,'School List'!$B$3:$H$291,6,FALSE),H1536)","v":"61950186"},{"$f":"CONCATENATE(VLOOKUP(B1536,'School List'!$B$3:$D$291,3,FALSE),H1536)","v":"Owen County - SPENCER-OWEN COMMUNITY SCHOOL CORP0186"},{"$f":"IF('Line 1 Source'!B1536<>\"\",'Line 1 Source'!B1536,\"\")","v":"60"},{"$f":"IF('Line 1 Source'!C1536<>\"\",'Line 1 Source'!C1536,\"\")","v":"4"},{"$f":"IF('Line 1 Source'!D1536<>\"\",'Line 1 Source'!D1536,\"\")","v":"6195"},{"$f":"IF('Line 1 Source'!E1536<>\"\",'Line 1 Source'!E1536,\"\")","v":"0186"},{"$f":"IF('Line 1 Source'!F1536<>\"\",'Line 1 Source'!F1536,\"\")","v":227277}]
[{"$f":"IF('Line 1 Source'!A1537<>\"\",'Line 1 Source'!A1537,\"\")","v":"2018"},"6046195",{"$f":"CONCATENATE(VLOOKUP(B1537,'School List'!$B$3:$H$291,6,FALSE),H1537)","v":"61951214"},{"$f":"CONCATENATE(VLOOKUP(B1537,'School List'!$B$3:$D$291,3,FALSE),H1537)","v":"Owen County - SPENCER-OWEN COMMUNITY SCHOOL CORP1214"},{"$f":"IF('Line 1 Source'!B1537<>\"\",'Line 1 Source'!B1537,\"\")","v":"60"},{"$f":"IF('Line 1 Source'!C1537<>\"\",'Line 1 Source'!C1537,\"\")","v":"4"},{"$f":"IF('Line 1 Source'!D1537<>\"\",'Line 1 Source'!D1537,\"\")","v":"6195"},{"$f":"IF('Line 1 Source'!E1537<>\"\",'Line 1 Source'!E1537,\"\")","v":"1214"},{"$f":"IF('Line 1 Source'!F1537<>\"\",'Line 1 Source'!F1537,\"\")","v":2213158}]
[{"$f":"IF('Line 1 Source'!A1538<>\"\",'Line 1 Source'!A1538,\"\")","v":"2018"},"6046195",{"$f":"CONCATENATE(VLOOKUP(B1538,'School List'!$B$3:$H$291,6,FALSE),H1538)","v":"61956301"},{"$f":"CONCATENATE(VLOOKUP(B1538,'School List'!$B$3:$D$291,3,FALSE),H1538)","v":"Owen County - SPENCER-OWEN COMMUNITY SCHOOL CORP6301"},{"$f":"IF('Line 1 Source'!B1538<>\"\",'Line 1 Source'!B1538,\"\")","v":"60"},{"$f":"IF('Line 1 Source'!C1538<>\"\",'Line 1 Source'!C1538,\"\")","v":"4"},{"$f":"IF('Line 1 Source'!D1538<>\"\",'Line 1 Source'!D1538,\"\")","v":"6195"},{"$f":"IF('Line 1 Source'!E1538<>\"\",'Line 1 Source'!E1538,\"\")","v":"6301"},{"$f":"IF('Line 1 Source'!F1538<>\"\",'Line 1 Source'!F1538,\"\")","v":3243425}]
[{"$f":"IF('Line 1 Source'!A1539<>\"\",'Line 1 Source'!A1539,\"\")","v":"2018"},{"$f":"CONCATENATE(E1539,F1539,G1539)","v":"6046195"},{"$f":"CONCATENATE(VLOOKUP(B1539,'School List'!$B$3:$H$291,6,FALSE),H1539)","v":"61956302"},{"$f":"CONCATENATE(VLOOKUP(B1539,'School List'!$B$3:$D$291,3,FALSE),H1539)","v":"Owen County - SPENCER-OWEN COMMUNITY SCHOOL CORP6302"},{"$f":"IF('Line 1 Source'!B1539<>\"\",'Line 1 Source'!B1539,\"\")","v":"60"},{"$f":"IF('Line 1 Source'!C1539<>\"\",'Line 1 Source'!C1539,\"\")","v":"4"},{"$f":"IF('Line 1 Source'!D1539<>\"\",'Line 1 Source'!D1539,\"\")","v":"6195"},{"$f":"IF('Line 1 Source'!E1539<>\"\",'Line 1 Source'!E1539,\"\")","v":"6302"},{"$f":"IF('Line 1 Source'!F1539<>\"\",'Line 1 Source'!F1539,\"\")","v":0}]
[{"$f":"IF('Line 1 Source'!A1540<>\"\",'Line 1 Source'!A1540,\"\")","v":"2018"},"6046750",{"$f":"CONCATENATE(VLOOKUP(B1540,'School List'!$B$3:$H$291,6,FALSE),H1540)","v":{"$error":"#N/A"}},{"$f":"CONCATENATE(VLOOKUP(B1540,'School List'!$B$3:$D$291,3,FALSE),H1540)","v":{"$error":"#N/A"}},{"$f":"IF('Line 1 Source'!B1540<>\"\",'Line 1 Source'!B1540,\"\")","v":"60"},{"$f":"IF('Line 1 Source'!C1540<>\"\",'Line 1 Source'!C1540,\"\")","v":"4"},{"$f":"IF('Line 1 Source'!D1540<>\"\",'Line 1 Source'!D1540,\"\")","v":"6750"},{"$f":"IF('Line 1 Source'!E1540<>\"\",'Line 1 Source'!E1540,\"\")","v":"0061"},{"$f":"IF('Line 1 Source'!F1540<>\"\",'Line 1 Source'!F1540,\"\")","v":0}]
[{"$f":"IF('Line 1 Source'!A1541<>\"\",'Line 1 Source'!A1541,\"\")","v":"2018"},"6046750",{"$f":"CONCATENATE(VLOOKUP(B1541,'School List'!$B$3:$H$291,6,FALSE),H1541)","v":{"$error":"#N/A"}},{"$f":"CONCATENATE(VLOOKUP(B1541,'School List'!$B$3:$D$291,3,FALSE),H1541)","v":{"$error":"#N/A"}},{"$f":"IF('Line 1 Source'!B1541<>\"\",'Line 1 Source'!B1541,\"\")","v":"60"},{"$f":"IF('Line 1 Source'!C1541<>\"\",'Line 1 Source'!C1541,\"\")","v":"4"},{"$f":"IF('Line 1 Source'!D1541<>\"\",'Line 1 Source'!D1541,\"\")","v":"6750"},{"$f":"IF('Line 1 Source'!E1541<>\"\",'Line 1 Source'!E1541,\"\")","v":"0101"},{"$f":"IF('Line 1 Source'!F1541<>\"\",'Line 1 Source'!F1541,\"\")","v":0}]
[{"$f":"IF('Line 1 Source'!A1542<>\"\",'Line 1 Source'!A1542,\"\")","v":"2018"},"6046750",{"$f":"CONCATENATE(VLOOKUP(B1542,'School List'!$B$3:$H$291,6,FALSE),H1542)","v":{"$error":"#N/A"}},{"$f":"CONCATENATE(VLOOKUP(B1542,'School List'!$B$3:$D$291,3,FALSE),H1542)","v":{"$error":"#N/A"}},{"$f":"IF('Line 1 Source'!B1542<>\"\",'Line 1 Source'!B1542,\"\")","v":"60"},{"$f":"IF('Line 1 Source'!C1542<>\"\",'Line 1 Source'!C1542,\"\")","v":"4"},{"$f":"IF('Line 1 Source'!D1542<>\"\",'Line 1 Source'!D1542,\"\")","v":"6750"},{"$f":"IF('Line 1 Source'!E1542<>\"\",'Line 1 Source'!E1542,\"\")","v":"0180"},{"$f":"IF('Line 1 Source'!F1542<>\"\",'Line 1 Source'!F1542,\"\")","v":0}]
[{"$f":"IF('Line 1 Source'!A1543<>\"\",'Line 1 Source'!A1543,\"\")","v":"2018"},"6046750",{"$f":"CONCATENATE(VLOOKUP(B1543,'School List'!$B$3:$H$291,6,FALSE),H1543)","v":{"$error":"#N/A"}},{"$f":"CONCATENATE(VLOOKUP(B1543,'School List'!$B$3:$D$291,3,FALSE),H1543)","v":{"$error":"#N/A"}},{"$f":"IF('Line 1 Source'!B1543<>\"\",'Line 1 Source'!B1543,\"\")","v":"60"},{"$f":"IF('Line 1 Source'!C1543<>\"\",'Line 1 Source'!C1543,\"\")","v":"4"},{"$f":"IF('Line 1 Source'!D1543<>\"\",'Line 1 Source'!D1543,\"\")","v":"6750"},{"$f":"IF('Line 1 Source'!E1543<>\"\",'Line 1 Source'!E1543,\"\")","v":"0186"},{"$f":"IF('Line 1 Source'!F1543<>\"\",'Line 1 Source'!F1543,\"\")","v":0}]
[{"$f":"IF('Line 1 Source'!A1544<>\"\",'Line 1 Source'!A1544,\"\")","v":"2018"},"6046750",{"$f":"CONCATENATE(VLOOKUP(B1544,'School List'!$B$3:$H$291,6,FALSE),H1544)","v":{"$error":"#N/A"}},{"$f":"CONCATENATE(VLOOKUP(B1544,'School List'!$B$3:$D$291,3,FALSE),H1544)","v":{"$error":"#N/A"}},{"$f":"IF('Line 1 Source'!B1544<>\"\",'Line 1 Source'!B1544,\"\")","v":"60"},{"$f":"IF('Line 1 Source'!C1544<>\"\",'Line 1 Source'!C1544,\"\")","v":"4"},{"$f":"IF('Line 1 Source'!D1544<>\"\",'Line 1 Source'!D1544,\"\")","v":"6750"},{"$f":"IF('Line 1 Source'!E1544<>\"\",'Line 1 Source'!E1544,\"\")","v":"1214"},{"$f":"IF('Line 1 Source'!F1544<>\"\",'Line 1 Source'!F1544,\"\")","v":0}]
[{"$f":"IF('Line 1 Source'!A1545<>\"\",'Line 1 Source'!A1545,\"\")","v":"2018"},"6046750",{"$f":"CONCATENATE(VLOOKUP(B1545,'School List'!$B$3:$H$291,6,FALSE),H1545)","v":{"$error":"#N/A"}},{"$f":"CONCATENATE(VLOOKUP(B1545,'School List'!$B$3:$D$291,3,FALSE),H1545)","v":{"$error":"#N/A"}},{"$f":"IF('Line 1 Source'!B1545<>\"\",'Line 1 Source'!B1545,\"\")","v":"60"},{"$f":"IF('Line 1 Source'!C1545<>\"\",'Line 1 Source'!C1545,\"\")","v":"4"},{"$f":"IF('Line 1 Source'!D1545<>\"\",'Line 1 Source'!D1545,\"\")","v":"6750"},{"$f":"IF('Line 1 Source'!E1545<>\"\",'Line 1 Source'!E1545,\"\")","v":"6301"},{"$f":"IF('Line 1 Source'!F1545<>\"\",'Line 1 Source'!F1545,\"\")","v":0}]
[{"$f":"IF('Line 1 Source'!A1546<>\"\",'Line 1 Source'!A1546,\"\")","v":"2018"},"6046750",{"$f":"CONCATENATE(VLOOKUP(B1546,'School List'!$B$3:$H$291,6,FALSE),H1546)","v":{"$error":"#N/A"}},{"$f":"CONCATENATE(VLOOKUP(B1546,'School List'!$B$3:$D$291,3,FALSE),H1546)","v":{"$error":"#N/A"}},{"$f":"IF('Line 1 Source'!B1546<>\"\",'Line 1 Source'!B1546,\"\")","v":"60"},{"$f":"IF('Line 1 Source'!C1546<>\"\",'Line 1 Source'!C1546,\"\")","v":"4"},{"$f":"IF('Line 1 Source'!D1546<>\"\",'Line 1 Source'!D1546,\"\")","v":"6750"},{"$f":"IF('Line 1 Source'!E1546<>\"\",'Line 1 Source'!E1546,\"\")","v":"6302"},{"$f":"IF('Line 1 Source'!F1546<>\"\",'Line 1 Source'!F1546,\"\")","v":0}]
[{"$f":"IF('Line 1 Source'!A1547<>\"\",'Line 1 Source'!A1547,\"\")","v":"2018"},"6141125",{"$f":"CONCATENATE(VLOOKUP(B1547,'School List'!$B$3:$H$291,6,FALSE),H1547)","v":{"$error":"#N/A"}},{"$f":"CONCATENATE(VLOOKUP(B1547,'School List'!$B$3:$D$291,3,FALSE),H1547)","v":{"$error":"#N/A"}},{"$f":"IF('Line 1 Source'!B1547<>\"\",'Line 1 Source'!B1547,\"\")","v":"61"},{"$f":"IF('Line 1 Source'!C1547<>\"\",'Line 1 Source'!C1547,\"\")","v":"4"},{"$f":"IF('Line 1 Source'!D1547<>\"\",'Line 1 Source'!D1547,\"\")","v":"1125"},{"$f":"IF('Line 1 Source'!E1547<>\"\",'Line 1 Source'!E1547,\"\")","v":"0101"},{"$f":"IF('Line 1 Source'!F1547<>\"\",'Line 1 Source'!F1547,\"\")","v":0}]
[{"$f":"IF('Line 1 Source'!A1548<>\"\",'Line 1 Source'!A1548,\"\")","v":"2018"},"6141125",{"$f":"CONCATENATE(VLOOKUP(B1548,'School List'!$B$3:$H$291,6,FALSE),H1548)","v":{"$error":"#N/A"}},{"$f":"CONCATENATE(VLOOKUP(B1548,'School List'!$B$3:$D$291,3,FALSE),H1548)","v":{"$error":"#N/A"}},{"$f":"IF('Line 1 Source'!B1548<>\"\",'Line 1 Source'!B1548,\"\")","v":"61"},{"$f":"IF('Line 1 Source'!C1548<>\"\",'Line 1 Source'!C1548,\"\")","v":"4"},{"$f":"IF('Line 1 Source'!D1548<>\"\",'Line 1 Source'!D1548,\"\")","v":"1125"},{"$f":"IF('Line 1 Source'!E1548<>\"\",'Line 1 Source'!E1548,\"\")","v":"0180"},{"$f":"IF('Line 1 Source'!F1548<>\"\",'Line 1 Source'!F1548,\"\")","v":0}]
[{"$f":"IF('Line 1 Source'!A1549<>\"\",'Line 1 Source'!A1549,\"\")","v":"2018"},"6141125",{"$f":"CONCATENATE(VLOOKUP(B1549,'School List'!$B$3:$H$291,6,FALSE),H1549)","v":{"$error":"#N/A"}},{"$f":"CONCATENATE(VLOOKUP(B1549,'School List'!$B$3:$D$291,3,FALSE),H1549)","v":{"$error":"#N/A"}},{"$f":"IF('Line 1 Source'!B1549<>\"\",'Line 1 Source'!B1549,\"\")","v":"61"},{"$f":"IF('Line 1 Source'!C1549<>\"\",'Line 1 Source'!C1549,\"\")","v":"4"},{"$f":"IF('Line 1 Source'!D1549<>\"\",'Line 1 Source'!D1549,\"\")","v":"1125"},{"$f":"IF('Line 1 Source'!E1549<>\"\",'Line 1 Source'!E1549,\"\")","v":"1214"},{"$f":"IF('Line 1 Source'!F1549<>\"\",'Line 1 Source'!F1549,\"\")","v":0}]
[{"$f":"IF('Line 1 Source'!A1550<>\"\",'Line 1 Source'!A1550,\"\")","v":"2018"},"6141125",{"$f":"CONCATENATE(VLOOKUP(B1550,'School List'!$B$3:$H$291,6,FALSE),H1550)","v":{"$error":"#N/A"}},{"$f":"CONCATENATE(VLOOKUP(B1550,'School List'!$B$3:$D$291,3,FALSE),H1550)","v":{"$error":"#N/A"}},{"$f":"IF('Line 1 Source'!B1550<>\"\",'Line 1 Source'!B1550,\"\")","v":"61"},{"$f":"IF('Line 1 Source'!C1550<>\"\",'Line 1 Source'!C1550,\"\")","v":"4"},{"$f":"IF('Line 1 Source'!D1550<>\"\",'Line 1 Source'!D1550,\"\")","v":"1125"},{"$f":"IF('Line 1 Source'!E1550<>\"\",'Line 1 Source'!E1550,\"\")","v":"6301"},{"$f":"IF('Line 1 Source'!F1550<>\"\",'Line 1 Source'!F1550,\"\")","v":0}]
[{"$f":"IF('Line 1 Source'!A1551<>\"\",'Line 1 Source'!A1551,\"\")","v":"2018"},"6141125",{"$f":"CONCATENATE(VLOOKUP(B1551,'School List'!$B$3:$H$291,6,FALSE),H1551)","v":{"$error":"#N/A"}},{"$f":"CONCATENATE(VLOOKUP(B1551,'School List'!$B$3:$D$291,3,FALSE),H1551)","v":{"$error":"#N/A"}},{"$f":"IF('Line 1 Source'!B1551<>\"\",'Line 1 Source'!B1551,\"\")","v":"61"},{"$f":"IF('Line 1 Source'!C1551<>\"\",'Line 1 Source'!C1551,\"\")","v":"4"},{"$f":"IF('Line 1 Source'!D1551<>\"\",'Line 1 Source'!D1551,\"\")","v":"1125"},{"$f":"IF('Line 1 Source'!E1551<>\"\",'Line 1 Source'!E1551,\"\")","v":"6302"},{"$f":"IF('Line 1 Source'!F1551<>\"\",'Line 1 Source'!F1551,\"\")","v":0}]
[{"$f":"IF('Line 1 Source'!A1552<>\"\",'Line 1 Source'!A1552,\"\")","v":"2018"},"6146260",{"$f":"CONCATENATE(VLOOKUP(B1552,'School List'!$B$3:$H$291,6,FALSE),H1552)","v":"62600101"},{"$f":"CONCATENATE(VLOOKUP(B1552,'School List'!$B$3:$D$291,3,FALSE),H1552)","v":"Parke County - SOUTHWEST PARKE COMMUNITY SCHOOL CORP0101"},{"$f":"IF('Line 1 Source'!B1552<>\"\",'Line 1 Source'!B1552,\"\")","v":"61"},{"$f":"IF('Line 1 Source'!C1552<>\"\",'Line 1 Source'!C1552,\"\")","v":"4"},{"$f":"IF('Line 1 Source'!D1552<>\"\",'Line 1 Source'!D1552,\"\")","v":"6260"},{"$f":"IF('Line 1 Source'!E1552<>\"\",'Line 1 Source'!E1552,\"\")","v":"0101"},{"$f":"IF('Line 1 Source'!F1552<>\"\",'Line 1 Source'!F1552,\"\")","v":8070035}]
[{"$f":"IF('Line 1 Source'!A1553<>\"\",'Line 1 Source'!A1553,\"\")","v":"2018"},"6146260",{"$f":"CONCATENATE(VLOOKUP(B1553,'School List'!$B$3:$H$291,6,FALSE),H1553)","v":"62600180"},{"$f":"CONCATENATE(VLOOKUP(B1553,'School List'!$B$3:$D$291,3,FALSE),H1553)","v":"Parke County - SOUTHWEST PARKE COMMUNITY SCHOOL CORP0180"},{"$f":"IF('Line 1 Source'!B1553<>\"\",'Line 1 Source'!B1553,\"\")","v":"61"},{"$f":"IF('Line 1 Source'!C1553<>\"\",'Line 1 Source'!C1553,\"\")","v":"4"},{"$f":"IF('Line 1 Source'!D1553<>\"\",'Line 1 Source'!D1553,\"\")","v":"6260"},{"$f":"IF('Line 1 Source'!E1553<>\"\",'Line 1 Source'!E1553,\"\")","v":"0180"},{"$f":"IF('Line 1 Source'!F1553<>\"\",'Line 1 Source'!F1553,\"\")","v":1065970}]
[{"$f":"IF('Line 1 Source'!A1554<>\"\",'Line 1 Source'!A1554,\"\")","v":"2018"},"6146260",{"$f":"CONCATENATE(VLOOKUP(B1554,'School List'!$B$3:$H$291,6,FALSE),H1554)","v":"62601214"},{"$f":"CONCATENATE(VLOOKUP(B1554,'School List'!$B$3:$D$291,3,FALSE),H1554)","v":"Parke County - SOUTHWEST PARKE COMMUNITY SCHOOL CORP1214"},{"$f":"IF('Line 1 Source'!B1554<>\"\",'Line 1 Source'!B1554,\"\")","v":"61"},{"$f":"IF('Line 1 Source'!C1554<>\"\",'Line 1 Source'!C1554,\"\")","v":"4"},{"$f":"IF('Line 1 Source'!D1554<>\"\",'Line 1 Source'!D1554,\"\")","v":"6260"},{"$f":"IF('Line 1 Source'!E1554<>\"\",'Line 1 Source'!E1554,\"\")","v":"1214"},{"$f":"IF('Line 1 Source'!F1554<>\"\",'Line 1 Source'!F1554,\"\")","v":664043}]
[{"$f":"IF('Line 1 Source'!A1555<>\"\",'Line 1 Source'!A1555,\"\")","v":"2018"},"6146260",{"$f":"CONCATENATE(VLOOKUP(B1555,'School List'!$B$3:$H$291,6,FALSE),H1555)","v":"62606301"},{"$f":"CONCATENATE(VLOOKUP(B1555,'School List'!$B$3:$D$291,3,FALSE),H1555)","v":"Parke County - SOUTHWEST PARKE COMMUNITY SCHOOL CORP6301"},{"$f":"IF('Line 1 Source'!B1555<>\"\",'Line 1 Source'!B1555,\"\")","v":"61"},{"$f":"IF('Line 1 Source'!C1555<>\"\",'Line 1 Source'!C1555,\"\")","v":"4"},{"$f":"IF('Line 1 Source'!D1555<>\"\",'Line 1 Source'!D1555,\"\")","v":"6260"},{"$f":"IF('Line 1 Source'!E1555<>\"\",'Line 1 Source'!E1555,\"\")","v":"6301"},{"$f":"IF('Line 1 Source'!F1555<>\"\",'Line 1 Source'!F1555,\"\")","v":650000}]
[{"$f":"IF('Line 1 Source'!A1556<>\"\",'Line 1 Source'!A1556,\"\")","v":"2018"},"6146260",{"$f":"CONCATENATE(VLOOKUP(B1556,'School List'!$B$3:$H$291,6,FALSE),H1556)","v":"62606302"},{"$f":"CONCATENATE(VLOOKUP(B1556,'School List'!$B$3:$D$291,3,FALSE),H1556)","v":"Parke County - SOUTHWEST PARKE COMMUNITY SCHOOL CORP6302"},{"$f":"IF('Line 1 Source'!B1556<>\"\",'Line 1 Source'!B1556,\"\")","v":"61"},{"$f":"IF('Line 1 Source'!C1556<>\"\",'Line 1 Source'!C1556,\"\")","v":"4"},{"$f":"IF('Line 1 Source'!D1556<>\"\",'Line 1 Source'!D1556,\"\")","v":"6260"},{"$f":"IF('Line 1 Source'!E1556<>\"\",'Line 1 Source'!E1556,\"\")","v":"6302"},{"$f":"IF('Line 1 Source'!F1556<>\"\",'Line 1 Source'!F1556,\"\")","v":264256}]
[{"$f":"IF('Line 1 Source'!A1557<>\"\",'Line 1 Source'!A1557,\"\")","v":"2018"},"6146375",{"$f":"CONCATENATE(VLOOKUP(B1557,'School List'!$B$3:$H$291,6,FALSE),H1557)","v":"63750061"},{"$f":"CONCATENATE(VLOOKUP(B1557,'School List'!$B$3:$D$291,3,FALSE),H1557)","v":"Parke County - NORTH CENTRAL PARKE COMM SCHOOL CORP0061"},{"$f":"IF('Line 1 Source'!B1557<>\"\",'Line 1 Source'!B1557,\"\")","v":"61"},{"$f":"IF('Line 1 Source'!C1557<>\"\",'Line 1 Source'!C1557,\"\")","v":"4"},{"$f":"IF('Line 1 Source'!D1557<>\"\",'Line 1 Source'!D1557,\"\")","v":"6375"},{"$f":"IF('Line 1 Source'!E1557<>\"\",'Line 1 Source'!E1557,\"\")","v":"0061"},{"$f":"IF('Line 1 Source'!F1557<>\"\",'Line 1 Source'!F1557,\"\")","v":100000}]
[{"$f":"IF('Line 1 Source'!A1558<>\"\",'Line 1 Source'!A1558,\"\")","v":"2018"},"6146375",{"$f":"CONCATENATE(VLOOKUP(B1558,'School List'!$B$3:$H$291,6,FALSE),H1558)","v":"63750101"},{"$f":"CONCATENATE(VLOOKUP(B1558,'School List'!$B$3:$D$291,3,FALSE),H1558)","v":"Parke County - NORTH CENTRAL PARKE COMM SCHOOL CORP0101"},{"$f":"IF('Line 1 Source'!B1558<>\"\",'Line 1 Source'!B1558,\"\")","v":"61"},{"$f":"IF('Line 1 Source'!C1558<>\"\",'Line 1 Source'!C1558,\"\")","v":"4"},{"$f":"IF('Line 1 Source'!D1558<>\"\",'Line 1 Source'!D1558,\"\")","v":"6375"},{"$f":"IF('Line 1 Source'!E1558<>\"\",'Line 1 Source'!E1558,\"\")","v":"0101"},{"$f":"IF('Line 1 Source'!F1558<>\"\",'Line 1 Source'!F1558,\"\")","v":9215961}]
[{"$f":"IF('Line 1 Source'!A1559<>\"\",'Line 1 Source'!A1559,\"\")","v":"2018"},"6146375",{"$f":"CONCATENATE(VLOOKUP(B1559,'School List'!$B$3:$H$291,6,FALSE),H1559)","v":"63750180"},{"$f":"CONCATENATE(VLOOKUP(B1559,'School List'!$B$3:$D$291,3,FALSE),H1559)","v":"Parke County - NORTH CENTRAL PARKE COMM SCHOOL CORP0180"},{"$f":"IF('Line 1 Source'!B1559<>\"\",'Line 1 Source'!B1559,\"\")","v":"61"},{"$f":"IF('Line 1 Source'!C1559<>\"\",'Line 1 Source'!C1559,\"\")","v":"4"},{"$f":"IF('Line 1 Source'!D1559<>\"\",'Line 1 Source'!D1559,\"\")","v":"6375"},{"$f":"IF('Line 1 Source'!E1559<>\"\",'Line 1 Source'!E1559,\"\")","v":"0180"},{"$f":"IF('Line 1 Source'!F1559<>\"\",'Line 1 Source'!F1559,\"\")","v":34057}]
[{"$f":"IF('Line 1 Source'!A1560<>\"\",'Line 1 Source'!A1560,\"\")","v":"2018"},"6146375",{"$f":"CONCATENATE(VLOOKUP(B1560,'School List'!$B$3:$H$291,6,FALSE),H1560)","v":"63750181"},{"$f":"CONCATENATE(VLOOKUP(B1560,'School List'!$B$3:$D$291,3,FALSE),H1560)","v":"Parke County - NORTH CENTRAL PARKE COMM SCHOOL CORP0181"},{"$f":"IF('Line 1 Source'!B1560<>\"\",'Line 1 Source'!B1560,\"\")","v":"61"},{"$f":"IF('Line 1 Source'!C1560<>\"\",'Line 1 Source'!C1560,\"\")","v":"4"},{"$f":"IF('Line 1 Source'!D1560<>\"\",'Line 1 Source'!D1560,\"\")","v":"6375"},{"$f":"IF('Line 1 Source'!E1560<>\"\",'Line 1 Source'!E1560,\"\")","v":"0181"},{"$f":"IF('Line 1 Source'!F1560<>\"\",'Line 1 Source'!F1560,\"\")","v":1187500}]
[{"$f":"IF('Line 1 Source'!A1561<>\"\",'Line 1 Source'!A1561,\"\")","v":"2018"},"6146375",{"$f":"CONCATENATE(VLOOKUP(B1561,'School List'!$B$3:$H$291,6,FALSE),H1561)","v":"63750182"},{"$f":"CONCATENATE(VLOOKUP(B1561,'School List'!$B$3:$D$291,3,FALSE),H1561)","v":"Parke County - NORTH CENTRAL PARKE COMM SCHOOL CORP0182"},{"$f":"IF('Line 1 Source'!B1561<>\"\",'Line 1 Source'!B1561,\"\")","v":"61"},{"$f":"IF('Line 1 Source'!C1561<>\"\",'Line 1 Source'!C1561,\"\")","v":"4"},{"$f":"IF('Line 1 Source'!D1561<>\"\",'Line 1 Source'!D1561,\"\")","v":"6375"},{"$f":"IF('Line 1 Source'!E1561<>\"\",'Line 1 Source'!E1561,\"\")","v":"0182"},{"$f":"IF('Line 1 Source'!F1561<>\"\",'Line 1 Source'!F1561,\"\")","v":388000}]
[{"$f":"IF('Line 1 Source'!A1562<>\"\",'Line 1 Source'!A1562,\"\")","v":"2018"},"6146375",{"$f":"CONCATENATE(VLOOKUP(B1562,'School List'!$B$3:$H$291,6,FALSE),H1562)","v":"63751214"},{"$f":"CONCATENATE(VLOOKUP(B1562,'School List'!$B$3:$D$291,3,FALSE),H1562)","v":"Parke County - NORTH CENTRAL PARKE COMM SCHOOL CORP1214"},{"$f":"IF('Line 1 Source'!B1562<>\"\",'Line 1 Source'!B1562,\"\")","v":"61"},{"$f":"IF('Line 1 Source'!C1562<>\"\",'Line 1 Source'!C1562,\"\")","v":"4"},{"$f":"IF('Line 1 Source'!D1562<>\"\",'Line 1 Source'!D1562,\"\")","v":"6375"},{"$f":"IF('Line 1 Source'!E1562<>\"\",'Line 1 Source'!E1562,\"\")","v":"1214"},{"$f":"IF('Line 1 Source'!F1562<>\"\",'Line 1 Source'!F1562,\"\")","v":3704968}]
[{"$f":"IF('Line 1 Source'!A1563<>\"\",'Line 1 Source'!A1563,\"\")","v":"2018"},"6146375",{"$f":"CONCATENATE(VLOOKUP(B1563,'School List'!$B$3:$H$291,6,FALSE),H1563)","v":"63756301"},{"$f":"CONCATENATE(VLOOKUP(B1563,'School List'!$B$3:$D$291,3,FALSE),H1563)","v":"Parke County - NORTH CENTRAL PARKE COMM SCHOOL CORP6301"},{"$f":"IF('Line 1 Source'!B1563<>\"\",'Line 1 Source'!B1563,\"\")","v":"61"},{"$f":"IF('Line 1 Source'!C1563<>\"\",'Line 1 Source'!C1563,\"\")","v":"4"},{"$f":"IF('Line 1 Source'!D1563<>\"\",'Line 1 Source'!D1563,\"\")","v":"6375"},{"$f":"IF('Line 1 Source'!E1563<>\"\",'Line 1 Source'!E1563,\"\")","v":"6301"},{"$f":"IF('Line 1 Source'!F1563<>\"\",'Line 1 Source'!F1563,\"\")","v":1086750}]
[{"$f":"IF('Line 1 Source'!A1564<>\"\",'Line 1 Source'!A1564,\"\")","v":"2018"},"6146375",{"$f":"CONCATENATE(VLOOKUP(B1564,'School List'!$B$3:$H$291,6,FALSE),H1564)","v":"63756302"},{"$f":"CONCATENATE(VLOOKUP(B1564,'School List'!$B$3:$D$291,3,FALSE),H1564)","v":"Parke County - NORTH CENTRAL PARKE COMM SCHOOL CORP6302"},{"$f":"IF('Line 1 Source'!B1564<>\"\",'Line 1 Source'!B1564,\"\")","v":"61"},{"$f":"IF('Line 1 Source'!C1564<>\"\",'Line 1 Source'!C1564,\"\")","v":"4"},{"$f":"IF('Line 1 Source'!D1564<>\"\",'Line 1 Source'!D1564,\"\")","v":"6375"},{"$f":"IF('Line 1 Source'!E1564<>\"\",'Line 1 Source'!E1564,\"\")","v":"6302"},{"$f":"IF('Line 1 Source'!F1564<>\"\",'Line 1 Source'!F1564,\"\")","v":138560}]
[{"$f":"IF('Line 1 Source'!A1565<>\"\",'Line 1 Source'!A1565,\"\")","v":"2018"},"6246325",{"$f":"CONCATENATE(VLOOKUP(B1565,'School List'!$B$3:$H$291,6,FALSE),H1565)","v":"63250061"},{"$f":"CONCATENATE(VLOOKUP(B1565,'School List'!$B$3:$D$291,3,FALSE),H1565)","v":"Perry County - PERRY CENTRAL COMMUNITY SCHOOL CORP0061"},{"$f":"IF('Line 1 Source'!B1565<>\"\",'Line 1 Source'!B1565,\"\")","v":"62"},{"$f":"IF('Line 1 Source'!C1565<>\"\",'Line 1 Source'!C1565,\"\")","v":"4"},{"$f":"IF('Line 1 Source'!D1565<>\"\",'Line 1 Source'!D1565,\"\")","v":"6325"},{"$f":"IF('Line 1 Source'!E1565<>\"\",'Line 1 Source'!E1565,\"\")","v":"0061"},{"$f":"IF('Line 1 Source'!F1565<>\"\",'Line 1 Source'!F1565,\"\")","v":450000}]
[{"$f":"IF('Line 1 Source'!A1566<>\"\",'Line 1 Source'!A1566,\"\")","v":"2018"},"6246325",{"$f":"CONCATENATE(VLOOKUP(B1566,'School List'!$B$3:$H$291,6,FALSE),H1566)","v":"63250101"},{"$f":"CONCATENATE(VLOOKUP(B1566,'School List'!$B$3:$D$291,3,FALSE),H1566)","v":"Perry County - PERRY CENTRAL COMMUNITY SCHOOL CORP0101"},{"$f":"IF('Line 1 Source'!B1566<>\"\",'Line 1 Source'!B1566,\"\")","v":"62"},{"$f":"IF('Line 1 Source'!C1566<>\"\",'Line 1 Source'!C1566,\"\")","v":"4"},{"$f":"IF('Line 1 Source'!D1566<>\"\",'Line 1 Source'!D1566,\"\")","v":"6325"},{"$f":"IF('Line 1 Source'!E1566<>\"\",'Line 1 Source'!E1566,\"\")","v":"0101"},{"$f":"IF('Line 1 Source'!F1566<>\"\",'Line 1 Source'!F1566,\"\")","v":8700000}]
[{"$f":"IF('Line 1 Source'!A1567<>\"\",'Line 1 Source'!A1567,\"\")","v":"2018"},"6246325",{"$f":"CONCATENATE(VLOOKUP(B1567,'School List'!$B$3:$H$291,6,FALSE),H1567)","v":"63250180"},{"$f":"CONCATENATE(VLOOKUP(B1567,'School List'!$B$3:$D$291,3,FALSE),H1567)","v":"Perry County - PERRY CENTRAL COMMUNITY SCHOOL CORP0180"},{"$f":"IF('Line 1 Source'!B1567<>\"\",'Line 1 Source'!B1567,\"\")","v":"62"},{"$f":"IF('Line 1 Source'!C1567<>\"\",'Line 1 Source'!C1567,\"\")","v":"4"},{"$f":"IF('Line 1 Source'!D1567<>\"\",'Line 1 Source'!D1567,\"\")","v":"6325"},{"$f":"IF('Line 1 Source'!E1567<>\"\",'Line 1 Source'!E1567,\"\")","v":"0180"},{"$f":"IF('Line 1 Source'!F1567<>\"\",'Line 1 Source'!F1567,\"\")","v":523607}]
[{"$f":"IF('Line 1 Source'!A1568<>\"\",'Line 1 Source'!A1568,\"\")","v":"2018"},"6246325",{"$f":"CONCATENATE(VLOOKUP(B1568,'School List'!$B$3:$H$291,6,FALSE),H1568)","v":"63250186"},{"$f":"CONCATENATE(VLOOKUP(B1568,'School List'!$B$3:$D$291,3,FALSE),H1568)","v":"Perry County - PERRY CENTRAL COMMUNITY SCHOOL CORP0186"},{"$f":"IF('Line 1 Source'!B1568<>\"\",'Line 1 Source'!B1568,\"\")","v":"62"},{"$f":"IF('Line 1 Source'!C1568<>\"\",'Line 1 Source'!C1568,\"\")","v":"4"},{"$f":"IF('Line 1 Source'!D1568<>\"\",'Line 1 Source'!D1568,\"\")","v":"6325"},{"$f":"IF('Line 1 Source'!E1568<>\"\",'Line 1 Source'!E1568,\"\")","v":"0186"},{"$f":"IF('Line 1 Source'!F1568<>\"\",'Line 1 Source'!F1568,\"\")","v":204779}]
[{"$f":"IF('Line 1 Source'!A1569<>\"\",'Line 1 Source'!A1569,\"\")","v":"2018"},"6246325",{"$f":"CONCATENATE(VLOOKUP(B1569,'School List'!$B$3:$H$291,6,FALSE),H1569)","v":"63251214"},{"$f":"CONCATENATE(VLOOKUP(B1569,'School List'!$B$3:$D$291,3,FALSE),H1569)","v":"Perry County - PERRY CENTRAL COMMUNITY SCHOOL CORP1214"},{"$f":"IF('Line 1 Source'!B1569<>\"\",'Line 1 Source'!B1569,\"\")","v":"62"},{"$f":"IF('Line 1 Source'!C1569<>\"\",'Line 1 Source'!C1569,\"\")","v":"4"},{"$f":"IF('Line 1 Source'!D1569<>\"\",'Line 1 Source'!D1569,\"\")","v":"6325"},{"$f":"IF('Line 1 Source'!E1569<>\"\",'Line 1 Source'!E1569,\"\")","v":"1214"},{"$f":"IF('Line 1 Source'!F1569<>\"\",'Line 1 Source'!F1569,\"\")","v":719456}]
[{"$f":"IF('Line 1 Source'!A1570<>\"\",'Line 1 Source'!A1570,\"\")","v":"2018"},"6246325",{"$f":"CONCATENATE(VLOOKUP(B1570,'School List'!$B$3:$H$291,6,FALSE),H1570)","v":"63256301"},{"$f":"CONCATENATE(VLOOKUP(B1570,'School List'!$B$3:$D$291,3,FALSE),H1570)","v":"Perry County - PERRY CENTRAL COMMUNITY SCHOOL CORP6301"},{"$f":"IF('Line 1 Source'!B1570<>\"\",'Line 1 Source'!B1570,\"\")","v":"62"},{"$f":"IF('Line 1 Source'!C1570<>\"\",'Line 1 Source'!C1570,\"\")","v":"4"},{"$f":"IF('Line 1 Source'!D1570<>\"\",'Line 1 Source'!D1570,\"\")","v":"6325"},{"$f":"IF('Line 1 Source'!E1570<>\"\",'Line 1 Source'!E1570,\"\")","v":"6301"},{"$f":"IF('Line 1 Source'!F1570<>\"\",'Line 1 Source'!F1570,\"\")","v":990000}]
[{"$f":"IF('Line 1 Source'!A1571<>\"\",'Line 1 Source'!A1571,\"\")","v":"2018"},"6246325",{"$f":"CONCATENATE(VLOOKUP(B1571,'School List'!$B$3:$H$291,6,FALSE),H1571)","v":"63256302"},{"$f":"CONCATENATE(VLOOKUP(B1571,'School List'!$B$3:$D$291,3,FALSE),H1571)","v":"Perry County - PERRY CENTRAL COMMUNITY SCHOOL CORP6302"},{"$f":"IF('Line 1 Source'!B1571<>\"\",'Line 1 Source'!B1571,\"\")","v":"62"},{"$f":"IF('Line 1 Source'!C1571<>\"\",'Line 1 Source'!C1571,\"\")","v":"4"},{"$f":"IF('Line 1 Source'!D1571<>\"\",'Line 1 Source'!D1571,\"\")","v":"6325"},{"$f":"IF('Line 1 Source'!E1571<>\"\",'Line 1 Source'!E1571,\"\")","v":"6302"},{"$f":"IF('Line 1 Source'!F1571<>\"\",'Line 1 Source'!F1571,\"\")","v":51018}]
[{"$f":"IF('Line 1 Source'!A1572<>\"\",'Line 1 Source'!A1572,\"\")","v":"2018"},"6246340",{"$f":"CONCATENATE(VLOOKUP(B1572,'School List'!$B$3:$H$291,6,FALSE),H1572)","v":"63400101"},{"$f":"CONCATENATE(VLOOKUP(B1572,'School List'!$B$3:$D$291,3,FALSE),H1572)","v":"Perry County - CANNELTON CITY SCHOOL CORPORATION0101"},{"$f":"IF('Line 1 Source'!B1572<>\"\",'Line 1 Source'!B1572,\"\")","v":"62"},{"$f":"IF('Line 1 Source'!C1572<>\"\",'Line 1 Source'!C1572,\"\")","v":"4"},{"$f":"IF('Line 1 Source'!D1572<>\"\",'Line 1 Source'!D1572,\"\")","v":"6340"},{"$f":"IF('Line 1 Source'!E1572<>\"\",'Line 1 Source'!E1572,\"\")","v":"0101"},{"$f":"IF('Line 1 Source'!F1572<>\"\",'Line 1 Source'!F1572,\"\")","v":2100000}]
[{"$f":"IF('Line 1 Source'!A1573<>\"\",'Line 1 Source'!A1573,\"\")","v":"2018"},"6246340",{"$f":"CONCATENATE(VLOOKUP(B1573,'School List'!$B$3:$H$291,6,FALSE),H1573)","v":"63400180"},{"$f":"CONCATENATE(VLOOKUP(B1573,'School List'!$B$3:$D$291,3,FALSE),H1573)","v":"Perry County - CANNELTON CITY SCHOOL CORPORATION0180"},{"$f":"IF('Line 1 Source'!B1573<>\"\",'Line 1 Source'!B1573,\"\")","v":"62"},{"$f":"IF('Line 1 Source'!C1573<>\"\",'Line 1 Source'!C1573,\"\")","v":"4"},{"$f":"IF('Line 1 Source'!D1573<>\"\",'Line 1 Source'!D1573,\"\")","v":"6340"},{"$f":"IF('Line 1 Source'!E1573<>\"\",'Line 1 Source'!E1573,\"\")","v":"0180"},{"$f":"IF('Line 1 Source'!F1573<>\"\",'Line 1 Source'!F1573,\"\")","v":222500}]
[{"$f":"IF('Line 1 Source'!A1574<>\"\",'Line 1 Source'!A1574,\"\")","v":"2018"},"6246340",{"$f":"CONCATENATE(VLOOKUP(B1574,'School List'!$B$3:$H$291,6,FALSE),H1574)","v":"63401214"},{"$f":"CONCATENATE(VLOOKUP(B1574,'School List'!$B$3:$D$291,3,FALSE),H1574)","v":"Perry County - CANNELTON CITY SCHOOL CORPORATION1214"},{"$f":"IF('Line 1 Source'!B1574<>\"\",'Line 1 Source'!B1574,\"\")","v":"62"},{"$f":"IF('Line 1 Source'!C1574<>\"\",'Line 1 Source'!C1574,\"\")","v":"4"},{"$f":"IF('Line 1 Source'!D1574<>\"\",'Line 1 Source'!D1574,\"\")","v":"6340"},{"$f":"IF('Line 1 Source'!E1574<>\"\",'Line 1 Source'!E1574,\"\")","v":"1214"},{"$f":"IF('Line 1 Source'!F1574<>\"\",'Line 1 Source'!F1574,\"\")","v":90500}]
[{"$f":"IF('Line 1 Source'!A1575<>\"\",'Line 1 Source'!A1575,\"\")","v":"2018"},"6246340",{"$f":"CONCATENATE(VLOOKUP(B1575,'School List'!$B$3:$H$291,6,FALSE),H1575)","v":"63406301"},{"$f":"CONCATENATE(VLOOKUP(B1575,'School List'!$B$3:$D$291,3,FALSE),H1575)","v":"Perry County - CANNELTON CITY SCHOOL CORPORATION6301"},{"$f":"IF('Line 1 Source'!B1575<>\"\",'Line 1 Source'!B1575,\"\")","v":"62"},{"$f":"IF('Line 1 Source'!C1575<>\"\",'Line 1 Source'!C1575,\"\")","v":"4"},{"$f":"IF('Line 1 Source'!D1575<>\"\",'Line 1 Source'!D1575,\"\")","v":"6340"},{"$f":"IF('Line 1 Source'!E1575<>\"\",'Line 1 Source'!E1575,\"\")","v":"6301"},{"$f":"IF('Line 1 Source'!F1575<>\"\",'Line 1 Source'!F1575,\"\")","v":33839}]
[{"$f":"IF('Line 1 Source'!A1576<>\"\",'Line 1 Source'!A1576,\"\")","v":"2018"},"6246340",{"$f":"CONCATENATE(VLOOKUP(B1576,'School List'!$B$3:$H$291,6,FALSE),H1576)","v":"63406302"},{"$f":"CONCATENATE(VLOOKUP(B1576,'School List'!$B$3:$D$291,3,FALSE),H1576)","v":"Perry County - CANNELTON CITY SCHOOL CORPORATION6302"},{"$f":"IF('Line 1 Source'!B1576<>\"\",'Line 1 Source'!B1576,\"\")","v":"62"},{"$f":"IF('Line 1 Source'!C1576<>\"\",'Line 1 Source'!C1576,\"\")","v":"4"},{"$f":"IF('Line 1 Source'!D1576<>\"\",'Line 1 Source'!D1576,\"\")","v":"6340"},{"$f":"IF('Line 1 Source'!E1576<>\"\",'Line 1 Source'!E1576,\"\")","v":"6302"},{"$f":"IF('Line 1 Source'!F1576<>\"\",'Line 1 Source'!F1576,\"\")","v":0}]
[{"$f":"IF('Line 1 Source'!A1577<>\"\",'Line 1 Source'!A1577,\"\")","v":"2018"},"6246350",{"$f":"CONCATENATE(VLOOKUP(B1577,'School List'!$B$3:$H$291,6,FALSE),H1577)","v":"63500061"},{"$f":"CONCATENATE(VLOOKUP(B1577,'School List'!$B$3:$D$291,3,FALSE),H1577)","v":"Perry County - TELL CITY-TROY TOWNSHIP SCHOOL CORP0061"},{"$f":"IF('Line 1 Source'!B1577<>\"\",'Line 1 Source'!B1577,\"\")","v":"62"},{"$f":"IF('Line 1 Source'!C1577<>\"\",'Line 1 Source'!C1577,\"\")","v":"4"},{"$f":"IF('Line 1 Source'!D1577<>\"\",'Line 1 Source'!D1577,\"\")","v":"6350"},{"$f":"IF('Line 1 Source'!E1577<>\"\",'Line 1 Source'!E1577,\"\")","v":"0061"},{"$f":"IF('Line 1 Source'!F1577<>\"\",'Line 1 Source'!F1577,\"\")","v":450000}]
[{"$f":"IF('Line 1 Source'!A1578<>\"\",'Line 1 Source'!A1578,\"\")","v":"2018"},"6246350",{"$f":"CONCATENATE(VLOOKUP(B1578,'School List'!$B$3:$H$291,6,FALSE),H1578)","v":"63500101"},{"$f":"CONCATENATE(VLOOKUP(B1578,'School List'!$B$3:$D$291,3,FALSE),H1578)","v":"Perry County - TELL CITY-TROY TOWNSHIP SCHOOL CORP0101"},{"$f":"IF('Line 1 Source'!B1578<>\"\",'Line 1 Source'!B1578,\"\")","v":"62"},{"$f":"IF('Line 1 Source'!C1578<>\"\",'Line 1 Source'!C1578,\"\")","v":"4"},{"$f":"IF('Line 1 Source'!D1578<>\"\",'Line 1 Source'!D1578,\"\")","v":"6350"},{"$f":"IF('Line 1 Source'!E1578<>\"\",'Line 1 Source'!E1578,\"\")","v":"0101"},{"$f":"IF('Line 1 Source'!F1578<>\"\",'Line 1 Source'!F1578,\"\")","v":10731000}]
[{"$f":"IF('Line 1 Source'!A1579<>\"\",'Line 1 Source'!A1579,\"\")","v":"2018"},"6246350",{"$f":"CONCATENATE(VLOOKUP(B1579,'School List'!$B$3:$H$291,6,FALSE),H1579)","v":"63500180"},{"$f":"CONCATENATE(VLOOKUP(B1579,'School List'!$B$3:$D$291,3,FALSE),H1579)","v":"Perry County - TELL CITY-TROY TOWNSHIP SCHOOL CORP0180"},{"$f":"IF('Line 1 Source'!B1579<>\"\",'Line 1 Source'!B1579,\"\")","v":"62"},{"$f":"IF('Line 1 Source'!C1579<>\"\",'Line 1 Source'!C1579,\"\")","v":"4"},{"$f":"IF('Line 1 Source'!D1579<>\"\",'Line 1 Source'!D1579,\"\")","v":"6350"},{"$f":"IF('Line 1 Source'!E1579<>\"\",'Line 1 Source'!E1579,\"\")","v":"0180"},{"$f":"IF('Line 1 Source'!F1579<>\"\",'Line 1 Source'!F1579,\"\")","v":2769906}]
[{"$f":"IF('Line 1 Source'!A1580<>\"\",'Line 1 Source'!A1580,\"\")","v":"2018"},"6246350",{"$f":"CONCATENATE(VLOOKUP(B1580,'School List'!$B$3:$H$291,6,FALSE),H1580)","v":"63500186"},{"$f":"CONCATENATE(VLOOKUP(B1580,'School List'!$B$3:$D$291,3,FALSE),H1580)","v":"Perry County - TELL CITY-TROY TOWNSHIP SCHOOL CORP0186"},{"$f":"IF('Line 1 Source'!B1580<>\"\",'Line 1 Source'!B1580,\"\")","v":"62"},{"$f":"IF('Line 1 Source'!C1580<>\"\",'Line 1 Source'!C1580,\"\")","v":"4"},{"$f":"IF('Line 1 Source'!D1580<>\"\",'Line 1 Source'!D1580,\"\")","v":"6350"},{"$f":"IF('Line 1 Source'!E1580<>\"\",'Line 1 Source'!E1580,\"\")","v":"0186"},{"$f":"IF('Line 1 Source'!F1580<>\"\",'Line 1 Source'!F1580,\"\")","v":418110}]
[{"$f":"IF('Line 1 Source'!A1581<>\"\",'Line 1 Source'!A1581,\"\")","v":"2018"},"6246350",{"$f":"CONCATENATE(VLOOKUP(B1581,'School List'!$B$3:$H$291,6,FALSE),H1581)","v":"63501214"},{"$f":"CONCATENATE(VLOOKUP(B1581,'School List'!$B$3:$D$291,3,FALSE),H1581)","v":"Perry County - TELL CITY-TROY TOWNSHIP SCHOOL CORP1214"},{"$f":"IF('Line 1 Source'!B1581<>\"\",'Line 1 Source'!B1581,\"\")","v":"62"},{"$f":"IF('Line 1 Source'!C1581<>\"\",'Line 1 Source'!C1581,\"\")","v":"4"},{"$f":"IF('Line 1 Source'!D1581<>\"\",'Line 1 Source'!D1581,\"\")","v":"6350"},{"$f":"IF('Line 1 Source'!E1581<>\"\",'Line 1 Source'!E1581,\"\")","v":"1214"},{"$f":"IF('Line 1 Source'!F1581<>\"\",'Line 1 Source'!F1581,\"\")","v":1505863}]
[{"$f":"IF('Line 1 Source'!A1582<>\"\",'Line 1 Source'!A1582,\"\")","v":"2018"},"6246350",{"$f":"CONCATENATE(VLOOKUP(B1582,'School List'!$B$3:$H$291,6,FALSE),H1582)","v":"63506301"},{"$f":"CONCATENATE(VLOOKUP(B1582,'School List'!$B$3:$D$291,3,FALSE),H1582)","v":"Perry County - TELL CITY-TROY TOWNSHIP SCHOOL CORP6301"},{"$f":"IF('Line 1 Source'!B1582<>\"\",'Line 1 Source'!B1582,\"\")","v":"62"},{"$f":"IF('Line 1 Source'!C1582<>\"\",'Line 1 Source'!C1582,\"\")","v":"4"},{"$f":"IF('Line 1 Source'!D1582<>\"\",'Line 1 Source'!D1582,\"\")","v":"6350"},{"$f":"IF('Line 1 Source'!E1582<>\"\",'Line 1 Source'!E1582,\"\")","v":"6301"},{"$f":"IF('Line 1 Source'!F1582<>\"\",'Line 1 Source'!F1582,\"\")","v":620000}]
[{"$f":"IF('Line 1 Source'!A1583<>\"\",'Line 1 Source'!A1583,\"\")","v":"2018"},"6246350",{"$f":"CONCATENATE(VLOOKUP(B1583,'School List'!$B$3:$H$291,6,FALSE),H1583)","v":"63506302"},{"$f":"CONCATENATE(VLOOKUP(B1583,'School List'!$B$3:$D$291,3,FALSE),H1583)","v":"Perry County - TELL CITY-TROY TOWNSHIP SCHOOL CORP6302"},{"$f":"IF('Line 1 Source'!B1583<>\"\",'Line 1 Source'!B1583,\"\")","v":"62"},{"$f":"IF('Line 1 Source'!C1583<>\"\",'Line 1 Source'!C1583,\"\")","v":"4"},{"$f":"IF('Line 1 Source'!D1583<>\"\",'Line 1 Source'!D1583,\"\")","v":"6350"},{"$f":"IF('Line 1 Source'!E1583<>\"\",'Line 1 Source'!E1583,\"\")","v":"6302"},{"$f":"IF('Line 1 Source'!F1583<>\"\",'Line 1 Source'!F1583,\"\")","v":65127}]
[{"$f":"IF('Line 1 Source'!A1584<>\"\",'Line 1 Source'!A1584,\"\")","v":"2018"},"6346445",{"$f":"CONCATENATE(VLOOKUP(B1584,'School List'!$B$3:$H$291,6,FALSE),H1584)","v":"64450061"},{"$f":"CONCATENATE(VLOOKUP(B1584,'School List'!$B$3:$D$291,3,FALSE),H1584)","v":"Pike County - PIKE COUNTY SCHOOL CORPORATION0061"},{"$f":"IF('Line 1 Source'!B1584<>\"\",'Line 1 Source'!B1584,\"\")","v":"63"},{"$f":"IF('Line 1 Source'!C1584<>\"\",'Line 1 Source'!C1584,\"\")","v":"4"},{"$f":"IF('Line 1 Source'!D1584<>\"\",'Line 1 Source'!D1584,\"\")","v":"6445"},{"$f":"IF('Line 1 Source'!E1584<>\"\",'Line 1 Source'!E1584,\"\")","v":"0061"},{"$f":"IF('Line 1 Source'!F1584<>\"\",'Line 1 Source'!F1584,\"\")","v":0}]
[{"$f":"IF('Line 1 Source'!A1585<>\"\",'Line 1 Source'!A1585,\"\")","v":"2018"},"6346445",{"$f":"CONCATENATE(VLOOKUP(B1585,'School List'!$B$3:$H$291,6,FALSE),H1585)","v":"64450101"},{"$f":"CONCATENATE(VLOOKUP(B1585,'School List'!$B$3:$D$291,3,FALSE),H1585)","v":"Pike County - PIKE COUNTY SCHOOL CORPORATION0101"},{"$f":"IF('Line 1 Source'!B1585<>\"\",'Line 1 Source'!B1585,\"\")","v":"63"},{"$f":"IF('Line 1 Source'!C1585<>\"\",'Line 1 Source'!C1585,\"\")","v":"4"},{"$f":"IF('Line 1 Source'!D1585<>\"\",'Line 1 Source'!D1585,\"\")","v":"6445"},{"$f":"IF('Line 1 Source'!E1585<>\"\",'Line 1 Source'!E1585,\"\")","v":"0101"},{"$f":"IF('Line 1 Source'!F1585<>\"\",'Line 1 Source'!F1585,\"\")","v":12349856}]
[{"$f":"IF('Line 1 Source'!A1586<>\"\",'Line 1 Source'!A1586,\"\")","v":"2018"},"6346445",{"$f":"CONCATENATE(VLOOKUP(B1586,'School List'!$B$3:$H$291,6,FALSE),H1586)","v":"64450180"},{"$f":"CONCATENATE(VLOOKUP(B1586,'School List'!$B$3:$D$291,3,FALSE),H1586)","v":"Pike County - PIKE COUNTY SCHOOL CORPORATION0180"},{"$f":"IF('Line 1 Source'!B1586<>\"\",'Line 1 Source'!B1586,\"\")","v":"63"},{"$f":"IF('Line 1 Source'!C1586<>\"\",'Line 1 Source'!C1586,\"\")","v":"4"},{"$f":"IF('Line 1 Source'!D1586<>\"\",'Line 1 Source'!D1586,\"\")","v":"6445"},{"$f":"IF('Line 1 Source'!E1586<>\"\",'Line 1 Source'!E1586,\"\")","v":"0180"},{"$f":"IF('Line 1 Source'!F1586<>\"\",'Line 1 Source'!F1586,\"\")","v":1586500}]
[{"$f":"IF('Line 1 Source'!A1587<>\"\",'Line 1 Source'!A1587,\"\")","v":"2018"},"6346445",{"$f":"CONCATENATE(VLOOKUP(B1587,'School List'!$B$3:$H$291,6,FALSE),H1587)","v":"64450186"},{"$f":"CONCATENATE(VLOOKUP(B1587,'School List'!$B$3:$D$291,3,FALSE),H1587)","v":"Pike County - PIKE COUNTY SCHOOL CORPORATION0186"},{"$f":"IF('Line 1 Source'!B1587<>\"\",'Line 1 Source'!B1587,\"\")","v":"63"},{"$f":"IF('Line 1 Source'!C1587<>\"\",'Line 1 Source'!C1587,\"\")","v":"4"},{"$f":"IF('Line 1 Source'!D1587<>\"\",'Line 1 Source'!D1587,\"\")","v":"6445"},{"$f":"IF('Line 1 Source'!E1587<>\"\",'Line 1 Source'!E1587,\"\")","v":"0186"},{"$f":"IF('Line 1 Source'!F1587<>\"\",'Line 1 Source'!F1587,\"\")","v":568045}]
[{"$f":"IF('Line 1 Source'!A1588<>\"\",'Line 1 Source'!A1588,\"\")","v":"2018"},"6346445",{"$f":"CONCATENATE(VLOOKUP(B1588,'School List'!$B$3:$H$291,6,FALSE),H1588)","v":"64451214"},{"$f":"CONCATENATE(VLOOKUP(B1588,'School List'!$B$3:$D$291,3,FALSE),H1588)","v":"Pike County - PIKE COUNTY SCHOOL CORPORATION1214"},{"$f":"IF('Line 1 Source'!B1588<>\"\",'Line 1 Source'!B1588,\"\")","v":"63"},{"$f":"IF('Line 1 Source'!C1588<>\"\",'Line 1 Source'!C1588,\"\")","v":"4"},{"$f":"IF('Line 1 Source'!D1588<>\"\",'Line 1 Source'!D1588,\"\")","v":"6445"},{"$f":"IF('Line 1 Source'!E1588<>\"\",'Line 1 Source'!E1588,\"\")","v":"1214"},{"$f":"IF('Line 1 Source'!F1588<>\"\",'Line 1 Source'!F1588,\"\")","v":2303821}]
[{"$f":"IF('Line 1 Source'!A1589<>\"\",'Line 1 Source'!A1589,\"\")","v":"2018"},"6346445",{"$f":"CONCATENATE(VLOOKUP(B1589,'School List'!$B$3:$H$291,6,FALSE),H1589)","v":"64456301"},{"$f":"CONCATENATE(VLOOKUP(B1589,'School List'!$B$3:$D$291,3,FALSE),H1589)","v":"Pike County - PIKE COUNTY SCHOOL CORPORATION6301"},{"$f":"IF('Line 1 Source'!B1589<>\"\",'Line 1 Source'!B1589,\"\")","v":"63"},{"$f":"IF('Line 1 Source'!C1589<>\"\",'Line 1 Source'!C1589,\"\")","v":"4"},{"$f":"IF('Line 1 Source'!D1589<>\"\",'Line 1 Source'!D1589,\"\")","v":"6445"},{"$f":"IF('Line 1 Source'!E1589<>\"\",'Line 1 Source'!E1589,\"\")","v":"6301"},{"$f":"IF('Line 1 Source'!F1589<>\"\",'Line 1 Source'!F1589,\"\")","v":3494135}]
[{"$f":"IF('Line 1 Source'!A1590<>\"\",'Line 1 Source'!A1590,\"\")","v":"2018"},"6346445",{"$f":"CONCATENATE(VLOOKUP(B1590,'School List'!$B$3:$H$291,6,FALSE),H1590)","v":"64456302"},{"$f":"CONCATENATE(VLOOKUP(B1590,'School List'!$B$3:$D$291,3,FALSE),H1590)","v":"Pike County - PIKE COUNTY SCHOOL CORPORATION6302"},{"$f":"IF('Line 1 Source'!B1590<>\"\",'Line 1 Source'!B1590,\"\")","v":"63"},{"$f":"IF('Line 1 Source'!C1590<>\"\",'Line 1 Source'!C1590,\"\")","v":"4"},{"$f":"IF('Line 1 Source'!D1590<>\"\",'Line 1 Source'!D1590,\"\")","v":"6445"},{"$f":"IF('Line 1 Source'!E1590<>\"\",'Line 1 Source'!E1590,\"\")","v":"6302"},{"$f":"IF('Line 1 Source'!F1590<>\"\",'Line 1 Source'!F1590,\"\")","v":245305}]
[{"$f":"IF('Line 1 Source'!A1591<>\"\",'Line 1 Source'!A1591,\"\")","v":"2018"},"6444925",{"$f":"CONCATENATE(VLOOKUP(B1591,'School List'!$B$3:$H$291,6,FALSE),H1591)","v":{"$error":"#N/A"}},{"$f":"CONCATENATE(VLOOKUP(B1591,'School List'!$B$3:$D$291,3,FALSE),H1591)","v":{"$error":"#N/A"}},{"$f":"IF('Line 1 Source'!B1591<>\"\",'Line 1 Source'!B1591,\"\")","v":"64"},{"$f":"IF('Line 1 Source'!C1591<>\"\",'Line 1 Source'!C1591,\"\")","v":"4"},{"$f":"IF('Line 1 Source'!D1591<>\"\",'Line 1 Source'!D1591,\"\")","v":"4925"},{"$f":"IF('Line 1 Source'!E1591<>\"\",'Line 1 Source'!E1591,\"\")","v":"0101"},{"$f":"IF('Line 1 Source'!F1591<>\"\",'Line 1 Source'!F1591,\"\")","v":0}]
[{"$f":"IF('Line 1 Source'!A1592<>\"\",'Line 1 Source'!A1592,\"\")","v":"2018"},"6444925",{"$f":"CONCATENATE(VLOOKUP(B1592,'School List'!$B$3:$H$291,6,FALSE),H1592)","v":{"$error":"#N/A"}},{"$f":"CONCATENATE(VLOOKUP(B1592,'School List'!$B$3:$D$291,3,FALSE),H1592)","v":{"$error":"#N/A"}},{"$f":"IF('Line 1 Source'!B1592<>\"\",'Line 1 Source'!B1592,\"\")","v":"64"},{"$f":"IF('Line 1 Source'!C1592<>\"\",'Line 1 Source'!C1592,\"\")","v":"4"},{"$f":"IF('Line 1 Source'!D1592<>\"\",'Line 1 Source'!D1592,\"\")","v":"4925"},{"$f":"IF('Line 1 Source'!E1592<>\"\",'Line 1 Source'!E1592,\"\")","v":"0180"},{"$f":"IF('Line 1 Source'!F1592<>\"\",'Line 1 Source'!F1592,\"\")","v":0}]
[{"$f":"IF('Line 1 Source'!A1593<>\"\",'Line 1 Source'!A1593,\"\")","v":"2018"},"6444925",{"$f":"CONCATENATE(VLOOKUP(B1593,'School List'!$B$3:$H$291,6,FALSE),H1593)","v":{"$error":"#N/A"}},{"$f":"CONCATENATE(VLOOKUP(B1593,'School List'!$B$3:$D$291,3,FALSE),H1593)","v":{"$error":"#N/A"}},{"$f":"IF('Line 1 Source'!B1593<>\"\",'Line 1 Source'!B1593,\"\")","v":"64"},{"$f":"IF('Line 1 Source'!C1593<>\"\",'Line 1 Source'!C1593,\"\")","v":"4"},{"$f":"IF('Line 1 Source'!D1593<>\"\",'Line 1 Source'!D1593,\"\")","v":"4925"},{"$f":"IF('Line 1 Source'!E1593<>\"\",'Line 1 Source'!E1593,\"\")","v":"0186"},{"$f":"IF('Line 1 Source'!F1593<>\"\",'Line 1 Source'!F1593,\"\")","v":0}]
[{"$f":"IF('Line 1 Source'!A1594<>\"\",'Line 1 Source'!A1594,\"\")","v":"2018"},"6444925",{"$f":"CONCATENATE(VLOOKUP(B1594,'School List'!$B$3:$H$291,6,FALSE),H1594)","v":{"$error":"#N/A"}},{"$f":"CONCATENATE(VLOOKUP(B1594,'School List'!$B$3:$D$291,3,FALSE),H1594)","v":{"$error":"#N/A"}},{"$f":"IF('Line 1 Source'!B1594<>\"\",'Line 1 Source'!B1594,\"\")","v":"64"},{"$f":"IF('Line 1 Source'!C1594<>\"\",'Line 1 Source'!C1594,\"\")","v":"4"},{"$f":"IF('Line 1 Source'!D1594<>\"\",'Line 1 Source'!D1594,\"\")","v":"4925"},{"$f":"IF('Line 1 Source'!E1594<>\"\",'Line 1 Source'!E1594,\"\")","v":"1214"},{"$f":"IF('Line 1 Source'!F1594<>\"\",'Line 1 Source'!F1594,\"\")","v":0}]
[{"$f":"IF('Line 1 Source'!A1595<>\"\",'Line 1 Source'!A1595,\"\")","v":"2018"},"6444925",{"$f":"CONCATENATE(VLOOKUP(B1595,'School List'!$B$3:$H$291,6,FALSE),H1595)","v":{"$error":"#N/A"}},{"$f":"CONCATENATE(VLOOKUP(B1595,'School List'!$B$3:$D$291,3,FALSE),H1595)","v":{"$error":"#N/A"}},{"$f":"IF('Line 1 Source'!B1595<>\"\",'Line 1 Source'!B1595,\"\")","v":"64"},{"$f":"IF('Line 1 Source'!C1595<>\"\",'Line 1 Source'!C1595,\"\")","v":"4"},{"$f":"IF('Line 1 Source'!D1595<>\"\",'Line 1 Source'!D1595,\"\")","v":"4925"},{"$f":"IF('Line 1 Source'!E1595<>\"\",'Line 1 Source'!E1595,\"\")","v":"6301"},{"$f":"IF('Line 1 Source'!F1595<>\"\",'Line 1 Source'!F1595,\"\")","v":0}]
[{"$f":"IF('Line 1 Source'!A1596<>\"\",'Line 1 Source'!A1596,\"\")","v":"2018"},"6444925",{"$f":"CONCATENATE(VLOOKUP(B1596,'School List'!$B$3:$H$291,6,FALSE),H1596)","v":{"$error":"#N/A"}},{"$f":"CONCATENATE(VLOOKUP(B1596,'School List'!$B$3:$D$291,3,FALSE),H1596)","v":{"$error":"#N/A"}},{"$f":"IF('Line 1 Source'!B1596<>\"\",'Line 1 Source'!B1596,\"\")","v":"64"},{"$f":"IF('Line 1 Source'!C1596<>\"\",'Line 1 Source'!C1596,\"\")","v":"4"},{"$f":"IF('Line 1 Source'!D1596<>\"\",'Line 1 Source'!D1596,\"\")","v":"4925"},{"$f":"IF('Line 1 Source'!E1596<>\"\",'Line 1 Source'!E1596,\"\")","v":"6302"},{"$f":"IF('Line 1 Source'!F1596<>\"\",'Line 1 Source'!F1596,\"\")","v":0}]
[{"$f":"IF('Line 1 Source'!A1597<>\"\",'Line 1 Source'!A1597,\"\")","v":"2018"},"6446460",{"$f":"CONCATENATE(VLOOKUP(B1597,'School List'!$B$3:$H$291,6,FALSE),H1597)","v":"64600022"},{"$f":"CONCATENATE(VLOOKUP(B1597,'School List'!$B$3:$D$291,3,FALSE),H1597)","v":"Porter County - BOONE TOWNSHIP SCHOOL CORPORATION0022"},{"$f":"IF('Line 1 Source'!B1597<>\"\",'Line 1 Source'!B1597,\"\")","v":"64"},{"$f":"IF('Line 1 Source'!C1597<>\"\",'Line 1 Source'!C1597,\"\")","v":"4"},{"$f":"IF('Line 1 Source'!D1597<>\"\",'Line 1 Source'!D1597,\"\")","v":"6460"},{"$f":"IF('Line 1 Source'!E1597<>\"\",'Line 1 Source'!E1597,\"\")","v":"0022"},{"$f":"IF('Line 1 Source'!F1597<>\"\",'Line 1 Source'!F1597,\"\")","v":560000}]
[{"$f":"IF('Line 1 Source'!A1598<>\"\",'Line 1 Source'!A1598,\"\")","v":"2018"},"6446460",{"$f":"CONCATENATE(VLOOKUP(B1598,'School List'!$B$3:$H$291,6,FALSE),H1598)","v":"64600101"},{"$f":"CONCATENATE(VLOOKUP(B1598,'School List'!$B$3:$D$291,3,FALSE),H1598)","v":"Porter County - BOONE TOWNSHIP SCHOOL CORPORATION0101"},{"$f":"IF('Line 1 Source'!B1598<>\"\",'Line 1 Source'!B1598,\"\")","v":"64"},{"$f":"IF('Line 1 Source'!C1598<>\"\",'Line 1 Source'!C1598,\"\")","v":"4"},{"$f":"IF('Line 1 Source'!D1598<>\"\",'Line 1 Source'!D1598,\"\")","v":"6460"},{"$f":"IF('Line 1 Source'!E1598<>\"\",'Line 1 Source'!E1598,\"\")","v":"0101"},{"$f":"IF('Line 1 Source'!F1598<>\"\",'Line 1 Source'!F1598,\"\")","v":7603944}]
[{"$f":"IF('Line 1 Source'!A1599<>\"\",'Line 1 Source'!A1599,\"\")","v":"2018"},"6446460",{"$f":"CONCATENATE(VLOOKUP(B1599,'School List'!$B$3:$H$291,6,FALSE),H1599)","v":"64600180"},{"$f":"CONCATENATE(VLOOKUP(B1599,'School List'!$B$3:$D$291,3,FALSE),H1599)","v":"Porter County - BOONE TOWNSHIP SCHOOL CORPORATION0180"},{"$f":"IF('Line 1 Source'!B1599<>\"\",'Line 1 Source'!B1599,\"\")","v":"64"},{"$f":"IF('Line 1 Source'!C1599<>\"\",'Line 1 Source'!C1599,\"\")","v":"4"},{"$f":"IF('Line 1 Source'!D1599<>\"\",'Line 1 Source'!D1599,\"\")","v":"6460"},{"$f":"IF('Line 1 Source'!E1599<>\"\",'Line 1 Source'!E1599,\"\")","v":"0180"},{"$f":"IF('Line 1 Source'!F1599<>\"\",'Line 1 Source'!F1599,\"\")","v":2611202}]
[{"$f":"IF('Line 1 Source'!A1600<>\"\",'Line 1 Source'!A1600,\"\")","v":"2018"},"6446460",{"$f":"CONCATENATE(VLOOKUP(B1600,'School List'!$B$3:$H$291,6,FALSE),H1600)","v":"64600186"},{"$f":"CONCATENATE(VLOOKUP(B1600,'School List'!$B$3:$D$291,3,FALSE),H1600)","v":"Porter County - BOONE TOWNSHIP SCHOOL CORPORATION0186"},{"$f":"IF('Line 1 Source'!B1600<>\"\",'Line 1 Source'!B1600,\"\")","v":"64"},{"$f":"IF('Line 1 Source'!C1600<>\"\",'Line 1 Source'!C1600,\"\")","v":"4"},{"$f":"IF('Line 1 Source'!D1600<>\"\",'Line 1 Source'!D1600,\"\")","v":"6460"},{"$f":"IF('Line 1 Source'!E1600<>\"\",'Line 1 Source'!E1600,\"\")","v":"0186"},{"$f":"IF('Line 1 Source'!F1600<>\"\",'Line 1 Source'!F1600,\"\")","v":126506}]
[{"$f":"IF('Line 1 Source'!A1601<>\"\",'Line 1 Source'!A1601,\"\")","v":"2018"},"6446460",{"$f":"CONCATENATE(VLOOKUP(B1601,'School List'!$B$3:$H$291,6,FALSE),H1601)","v":"64601214"},{"$f":"CONCATENATE(VLOOKUP(B1601,'School List'!$B$3:$D$291,3,FALSE),H1601)","v":"Porter County - BOONE TOWNSHIP SCHOOL CORPORATION1214"},{"$f":"IF('Line 1 Source'!B1601<>\"\",'Line 1 Source'!B1601,\"\")","v":"64"},{"$f":"IF('Line 1 Source'!C1601<>\"\",'Line 1 Source'!C1601,\"\")","v":"4"},{"$f":"IF('Line 1 Source'!D1601<>\"\",'Line 1 Source'!D1601,\"\")","v":"6460"},{"$f":"IF('Line 1 Source'!E1601<>\"\",'Line 1 Source'!E1601,\"\")","v":"1214"},{"$f":"IF('Line 1 Source'!F1601<>\"\",'Line 1 Source'!F1601,\"\")","v":615145}]
[{"$f":"IF('Line 1 Source'!A1602<>\"\",'Line 1 Source'!A1602,\"\")","v":"2018"},"6446460",{"$f":"CONCATENATE(VLOOKUP(B1602,'School List'!$B$3:$H$291,6,FALSE),H1602)","v":"64606301"},{"$f":"CONCATENATE(VLOOKUP(B1602,'School List'!$B$3:$D$291,3,FALSE),H1602)","v":"Porter County - BOONE TOWNSHIP SCHOOL CORPORATION6301"},{"$f":"IF('Line 1 Source'!B1602<>\"\",'Line 1 Source'!B1602,\"\")","v":"64"},{"$f":"IF('Line 1 Source'!C1602<>\"\",'Line 1 Source'!C1602,\"\")","v":"4"},{"$f":"IF('Line 1 Source'!D1602<>\"\",'Line 1 Source'!D1602,\"\")","v":"6460"},{"$f":"IF('Line 1 Source'!E1602<>\"\",'Line 1 Source'!E1602,\"\")","v":"6301"},{"$f":"IF('Line 1 Source'!F1602<>\"\",'Line 1 Source'!F1602,\"\")","v":554953}]
[{"$f":"IF('Line 1 Source'!A1603<>\"\",'Line 1 Source'!A1603,\"\")","v":"2018"},{"$f":"CONCATENATE(E1603,F1603,G1603)","v":"6446460"},{"$f":"CONCATENATE(VLOOKUP(B1603,'School List'!$B$3:$H$291,6,FALSE),H1603)","v":"64606302"},{"$f":"CONCATENATE(VLOOKUP(B1603,'School List'!$B$3:$D$291,3,FALSE),H1603)","v":"Porter County - BOONE TOWNSHIP SCHOOL CORPORATION6302"},{"$f":"IF('Line 1 Source'!B1603<>\"\",'Line 1 Source'!B1603,\"\")","v":"64"},{"$f":"IF('Line 1 Source'!C1603<>\"\",'Line 1 Source'!C1603,\"\")","v":"4"},{"$f":"IF('Line 1 Source'!D1603<>\"\",'Line 1 Source'!D1603,\"\")","v":"6460"},{"$f":"IF('Line 1 Source'!E1603<>\"\",'Line 1 Source'!E1603,\"\")","v":"6302"},{"$f":"IF('Line 1 Source'!F1603<>\"\",'Line 1 Source'!F1603,\"\")","v":58075}]
[{"$f":"IF('Line 1 Source'!A1604<>\"\",'Line 1 Source'!A1604,\"\")","v":"2018"},"6446470",{"$f":"CONCATENATE(VLOOKUP(B1604,'School List'!$B$3:$H$291,6,FALSE),H1604)","v":"64700022"},{"$f":"CONCATENATE(VLOOKUP(B1604,'School List'!$B$3:$D$291,3,FALSE),H1604)","v":"Porter County - DUNELAND SCHOOL CORPORATION0022"},{"$f":"IF('Line 1 Source'!B1604<>\"\",'Line 1 Source'!B1604,\"\")","v":"64"},{"$f":"IF('Line 1 Source'!C1604<>\"\",'Line 1 Source'!C1604,\"\")","v":"4"},{"$f":"IF('Line 1 Source'!D1604<>\"\",'Line 1 Source'!D1604,\"\")","v":"6470"},{"$f":"IF('Line 1 Source'!E1604<>\"\",'Line 1 Source'!E1604,\"\")","v":"0022"},{"$f":"IF('Line 1 Source'!F1604<>\"\",'Line 1 Source'!F1604,\"\")","v":7100000}]
[{"$f":"IF('Line 1 Source'!A1605<>\"\",'Line 1 Source'!A1605,\"\")","v":"2018"},"6446470",{"$f":"CONCATENATE(VLOOKUP(B1605,'School List'!$B$3:$H$291,6,FALSE),H1605)","v":"64700101"},{"$f":"CONCATENATE(VLOOKUP(B1605,'School List'!$B$3:$D$291,3,FALSE),H1605)","v":"Porter County - DUNELAND SCHOOL CORPORATION0101"},{"$f":"IF('Line 1 Source'!B1605<>\"\",'Line 1 Source'!B1605,\"\")","v":"64"},{"$f":"IF('Line 1 Source'!C1605<>\"\",'Line 1 Source'!C1605,\"\")","v":"4"},{"$f":"IF('Line 1 Source'!D1605<>\"\",'Line 1 Source'!D1605,\"\")","v":"6470"},{"$f":"IF('Line 1 Source'!E1605<>\"\",'Line 1 Source'!E1605,\"\")","v":"0101"},{"$f":"IF('Line 1 Source'!F1605<>\"\",'Line 1 Source'!F1605,\"\")","v":38500000}]
[{"$f":"IF('Line 1 Source'!A1606<>\"\",'Line 1 Source'!A1606,\"\")","v":"2018"},"6446470",{"$f":"CONCATENATE(VLOOKUP(B1606,'School List'!$B$3:$H$291,6,FALSE),H1606)","v":"64700180"},{"$f":"CONCATENATE(VLOOKUP(B1606,'School List'!$B$3:$D$291,3,FALSE),H1606)","v":"Porter County - DUNELAND SCHOOL CORPORATION0180"},{"$f":"IF('Line 1 Source'!B1606<>\"\",'Line 1 Source'!B1606,\"\")","v":"64"},{"$f":"IF('Line 1 Source'!C1606<>\"\",'Line 1 Source'!C1606,\"\")","v":"4"},{"$f":"IF('Line 1 Source'!D1606<>\"\",'Line 1 Source'!D1606,\"\")","v":"6470"},{"$f":"IF('Line 1 Source'!E1606<>\"\",'Line 1 Source'!E1606,\"\")","v":"0180"},{"$f":"IF('Line 1 Source'!F1606<>\"\",'Line 1 Source'!F1606,\"\")","v":7837000}]
[{"$f":"IF('Line 1 Source'!A1607<>\"\",'Line 1 Source'!A1607,\"\")","v":"2018"},"6446470",{"$f":"CONCATENATE(VLOOKUP(B1607,'School List'!$B$3:$H$291,6,FALSE),H1607)","v":"64700186"},{"$f":"CONCATENATE(VLOOKUP(B1607,'School List'!$B$3:$D$291,3,FALSE),H1607)","v":"Porter County - DUNELAND SCHOOL CORPORATION0186"},{"$f":"IF('Line 1 Source'!B1607<>\"\",'Line 1 Source'!B1607,\"\")","v":"64"},{"$f":"IF('Line 1 Source'!C1607<>\"\",'Line 1 Source'!C1607,\"\")","v":"4"},{"$f":"IF('Line 1 Source'!D1607<>\"\",'Line 1 Source'!D1607,\"\")","v":"6470"},{"$f":"IF('Line 1 Source'!E1607<>\"\",'Line 1 Source'!E1607,\"\")","v":"0186"},{"$f":"IF('Line 1 Source'!F1607<>\"\",'Line 1 Source'!F1607,\"\")","v":742167}]
[{"$f":"IF('Line 1 Source'!A1608<>\"\",'Line 1 Source'!A1608,\"\")","v":"2018"},"6446470",{"$f":"CONCATENATE(VLOOKUP(B1608,'School List'!$B$3:$H$291,6,FALSE),H1608)","v":"64701214"},{"$f":"CONCATENATE(VLOOKUP(B1608,'School List'!$B$3:$D$291,3,FALSE),H1608)","v":"Porter County - DUNELAND SCHOOL CORPORATION1214"},{"$f":"IF('Line 1 Source'!B1608<>\"\",'Line 1 Source'!B1608,\"\")","v":"64"},{"$f":"IF('Line 1 Source'!C1608<>\"\",'Line 1 Source'!C1608,\"\")","v":"4"},{"$f":"IF('Line 1 Source'!D1608<>\"\",'Line 1 Source'!D1608,\"\")","v":"6470"},{"$f":"IF('Line 1 Source'!E1608<>\"\",'Line 1 Source'!E1608,\"\")","v":"1214"},{"$f":"IF('Line 1 Source'!F1608<>\"\",'Line 1 Source'!F1608,\"\")","v":9500000}]
[{"$f":"IF('Line 1 Source'!A1609<>\"\",'Line 1 Source'!A1609,\"\")","v":"2018"},"6446470",{"$f":"CONCATENATE(VLOOKUP(B1609,'School List'!$B$3:$H$291,6,FALSE),H1609)","v":"64706301"},{"$f":"CONCATENATE(VLOOKUP(B1609,'School List'!$B$3:$D$291,3,FALSE),H1609)","v":"Porter County - DUNELAND SCHOOL CORPORATION6301"},{"$f":"IF('Line 1 Source'!B1609<>\"\",'Line 1 Source'!B1609,\"\")","v":"64"},{"$f":"IF('Line 1 Source'!C1609<>\"\",'Line 1 Source'!C1609,\"\")","v":"4"},{"$f":"IF('Line 1 Source'!D1609<>\"\",'Line 1 Source'!D1609,\"\")","v":"6470"},{"$f":"IF('Line 1 Source'!E1609<>\"\",'Line 1 Source'!E1609,\"\")","v":"6301"},{"$f":"IF('Line 1 Source'!F1609<>\"\",'Line 1 Source'!F1609,\"\")","v":4250000}]
[{"$f":"IF('Line 1 Source'!A1610<>\"\",'Line 1 Source'!A1610,\"\")","v":"2018"},"6446470",{"$f":"CONCATENATE(VLOOKUP(B1610,'School List'!$B$3:$H$291,6,FALSE),H1610)","v":"64706302"},{"$f":"CONCATENATE(VLOOKUP(B1610,'School List'!$B$3:$D$291,3,FALSE),H1610)","v":"Porter County - DUNELAND SCHOOL CORPORATION6302"},{"$f":"IF('Line 1 Source'!B1610<>\"\",'Line 1 Source'!B1610,\"\")","v":"64"},{"$f":"IF('Line 1 Source'!C1610<>\"\",'Line 1 Source'!C1610,\"\")","v":"4"},{"$f":"IF('Line 1 Source'!D1610<>\"\",'Line 1 Source'!D1610,\"\")","v":"6470"},{"$f":"IF('Line 1 Source'!E1610<>\"\",'Line 1 Source'!E1610,\"\")","v":"6302"},{"$f":"IF('Line 1 Source'!F1610<>\"\",'Line 1 Source'!F1610,\"\")","v":826130}]
[{"$f":"IF('Line 1 Source'!A1611<>\"\",'Line 1 Source'!A1611,\"\")","v":"2018"},"6446510",{"$f":"CONCATENATE(VLOOKUP(B1611,'School List'!$B$3:$H$291,6,FALSE),H1611)","v":"65100061"},{"$f":"CONCATENATE(VLOOKUP(B1611,'School List'!$B$3:$D$291,3,FALSE),H1611)","v":"Porter County - EAST PORTER COUNTY SCHOOL CORPORATION0061"},{"$f":"IF('Line 1 Source'!B1611<>\"\",'Line 1 Source'!B1611,\"\")","v":"64"},{"$f":"IF('Line 1 Source'!C1611<>\"\",'Line 1 Source'!C1611,\"\")","v":"4"},{"$f":"IF('Line 1 Source'!D1611<>\"\",'Line 1 Source'!D1611,\"\")","v":"6510"},{"$f":"IF('Line 1 Source'!E1611<>\"\",'Line 1 Source'!E1611,\"\")","v":"0061"},{"$f":"IF('Line 1 Source'!F1611<>\"\",'Line 1 Source'!F1611,\"\")","v":800000}]
[{"$f":"IF('Line 1 Source'!A1612<>\"\",'Line 1 Source'!A1612,\"\")","v":"2018"},"6446510",{"$f":"CONCATENATE(VLOOKUP(B1612,'School List'!$B$3:$H$291,6,FALSE),H1612)","v":"65100101"},{"$f":"CONCATENATE(VLOOKUP(B1612,'School List'!$B$3:$D$291,3,FALSE),H1612)","v":"Porter County - EAST PORTER COUNTY SCHOOL CORPORATION0101"},{"$f":"IF('Line 1 Source'!B1612<>\"\",'Line 1 Source'!B1612,\"\")","v":"64"},{"$f":"IF('Line 1 Source'!C1612<>\"\",'Line 1 Source'!C1612,\"\")","v":"4"},{"$f":"IF('Line 1 Source'!D1612<>\"\",'Line 1 Source'!D1612,\"\")","v":"6510"},{"$f":"IF('Line 1 Source'!E1612<>\"\",'Line 1 Source'!E1612,\"\")","v":"0101"},{"$f":"IF('Line 1 Source'!F1612<>\"\",'Line 1 Source'!F1612,\"\")","v":16500000}]
[{"$f":"IF('Line 1 Source'!A1613<>\"\",'Line 1 Source'!A1613,\"\")","v":"2018"},"6446510",{"$f":"CONCATENATE(VLOOKUP(B1613,'School List'!$B$3:$H$291,6,FALSE),H1613)","v":"65100180"},{"$f":"CONCATENATE(VLOOKUP(B1613,'School List'!$B$3:$D$291,3,FALSE),H1613)","v":"Porter County - EAST PORTER COUNTY SCHOOL CORPORATION0180"},{"$f":"IF('Line 1 Source'!B1613<>\"\",'Line 1 Source'!B1613,\"\")","v":"64"},{"$f":"IF('Line 1 Source'!C1613<>\"\",'Line 1 Source'!C1613,\"\")","v":"4"},{"$f":"IF('Line 1 Source'!D1613<>\"\",'Line 1 Source'!D1613,\"\")","v":"6510"},{"$f":"IF('Line 1 Source'!E1613<>\"\",'Line 1 Source'!E1613,\"\")","v":"0180"},{"$f":"IF('Line 1 Source'!F1613<>\"\",'Line 1 Source'!F1613,\"\")","v":6277736}]
[{"$f":"IF('Line 1 Source'!A1614<>\"\",'Line 1 Source'!A1614,\"\")","v":"2018"},"6446510",{"$f":"CONCATENATE(VLOOKUP(B1614,'School List'!$B$3:$H$291,6,FALSE),H1614)","v":"65100186"},{"$f":"CONCATENATE(VLOOKUP(B1614,'School List'!$B$3:$D$291,3,FALSE),H1614)","v":"Porter County - EAST PORTER COUNTY SCHOOL CORPORATION0186"},{"$f":"IF('Line 1 Source'!B1614<>\"\",'Line 1 Source'!B1614,\"\")","v":"64"},{"$f":"IF('Line 1 Source'!C1614<>\"\",'Line 1 Source'!C1614,\"\")","v":"4"},{"$f":"IF('Line 1 Source'!D1614<>\"\",'Line 1 Source'!D1614,\"\")","v":"6510"},{"$f":"IF('Line 1 Source'!E1614<>\"\",'Line 1 Source'!E1614,\"\")","v":"0186"},{"$f":"IF('Line 1 Source'!F1614<>\"\",'Line 1 Source'!F1614,\"\")","v":282986}]
[{"$f":"IF('Line 1 Source'!A1615<>\"\",'Line 1 Source'!A1615,\"\")","v":"2018"},"6446510",{"$f":"CONCATENATE(VLOOKUP(B1615,'School List'!$B$3:$H$291,6,FALSE),H1615)","v":"65101214"},{"$f":"CONCATENATE(VLOOKUP(B1615,'School List'!$B$3:$D$291,3,FALSE),H1615)","v":"Porter County - EAST PORTER COUNTY SCHOOL CORPORATION1214"},{"$f":"IF('Line 1 Source'!B1615<>\"\",'Line 1 Source'!B1615,\"\")","v":"64"},{"$f":"IF('Line 1 Source'!C1615<>\"\",'Line 1 Source'!C1615,\"\")","v":"4"},{"$f":"IF('Line 1 Source'!D1615<>\"\",'Line 1 Source'!D1615,\"\")","v":"6510"},{"$f":"IF('Line 1 Source'!E1615<>\"\",'Line 1 Source'!E1615,\"\")","v":"1214"},{"$f":"IF('Line 1 Source'!F1615<>\"\",'Line 1 Source'!F1615,\"\")","v":2371781}]
[{"$f":"IF('Line 1 Source'!A1616<>\"\",'Line 1 Source'!A1616,\"\")","v":"2018"},"6446510",{"$f":"CONCATENATE(VLOOKUP(B1616,'School List'!$B$3:$H$291,6,FALSE),H1616)","v":"65106301"},{"$f":"CONCATENATE(VLOOKUP(B1616,'School List'!$B$3:$D$291,3,FALSE),H1616)","v":"Porter County - EAST PORTER COUNTY SCHOOL CORPORATION6301"},{"$f":"IF('Line 1 Source'!B1616<>\"\",'Line 1 Source'!B1616,\"\")","v":"64"},{"$f":"IF('Line 1 Source'!C1616<>\"\",'Line 1 Source'!C1616,\"\")","v":"4"},{"$f":"IF('Line 1 Source'!D1616<>\"\",'Line 1 Source'!D1616,\"\")","v":"6510"},{"$f":"IF('Line 1 Source'!E1616<>\"\",'Line 1 Source'!E1616,\"\")","v":"6301"},{"$f":"IF('Line 1 Source'!F1616<>\"\",'Line 1 Source'!F1616,\"\")","v":1307892}]
[{"$f":"IF('Line 1 Source'!A1617<>\"\",'Line 1 Source'!A1617,\"\")","v":"2018"},"6446510",{"$f":"CONCATENATE(VLOOKUP(B1617,'School List'!$B$3:$H$291,6,FALSE),H1617)","v":"65106302"},{"$f":"CONCATENATE(VLOOKUP(B1617,'School List'!$B$3:$D$291,3,FALSE),H1617)","v":"Porter County - EAST PORTER COUNTY SCHOOL CORPORATION6302"},{"$f":"IF('Line 1 Source'!B1617<>\"\",'Line 1 Source'!B1617,\"\")","v":"64"},{"$f":"IF('Line 1 Source'!C1617<>\"\",'Line 1 Source'!C1617,\"\")","v":"4"},{"$f":"IF('Line 1 Source'!D1617<>\"\",'Line 1 Source'!D1617,\"\")","v":"6510"},{"$f":"IF('Line 1 Source'!E1617<>\"\",'Line 1 Source'!E1617,\"\")","v":"6302"},{"$f":"IF('Line 1 Source'!F1617<>\"\",'Line 1 Source'!F1617,\"\")","v":500532}]
[{"$f":"IF('Line 1 Source'!A1618<>\"\",'Line 1 Source'!A1618,\"\")","v":"2018"},"6446520",{"$f":"CONCATENATE(VLOOKUP(B1618,'School List'!$B$3:$H$291,6,FALSE),H1618)","v":"65200101"},{"$f":"CONCATENATE(VLOOKUP(B1618,'School List'!$B$3:$D$291,3,FALSE),H1618)","v":"Porter County - PORTER TOWNSHIP SCHOOL CORPORATION0101"},{"$f":"IF('Line 1 Source'!B1618<>\"\",'Line 1 Source'!B1618,\"\")","v":"64"},{"$f":"IF('Line 1 Source'!C1618<>\"\",'Line 1 Source'!C1618,\"\")","v":"4"},{"$f":"IF('Line 1 Source'!D1618<>\"\",'Line 1 Source'!D1618,\"\")","v":"6520"},{"$f":"IF('Line 1 Source'!E1618<>\"\",'Line 1 Source'!E1618,\"\")","v":"0101"},{"$f":"IF('Line 1 Source'!F1618<>\"\",'Line 1 Source'!F1618,\"\")","v":9789042}]
[{"$f":"IF('Line 1 Source'!A1619<>\"\",'Line 1 Source'!A1619,\"\")","v":"2018"},"6446520",{"$f":"CONCATENATE(VLOOKUP(B1619,'School List'!$B$3:$H$291,6,FALSE),H1619)","v":"65200180"},{"$f":"CONCATENATE(VLOOKUP(B1619,'School List'!$B$3:$D$291,3,FALSE),H1619)","v":"Porter County - PORTER TOWNSHIP SCHOOL CORPORATION0180"},{"$f":"IF('Line 1 Source'!B1619<>\"\",'Line 1 Source'!B1619,\"\")","v":"64"},{"$f":"IF('Line 1 Source'!C1619<>\"\",'Line 1 Source'!C1619,\"\")","v":"4"},{"$f":"IF('Line 1 Source'!D1619<>\"\",'Line 1 Source'!D1619,\"\")","v":"6520"},{"$f":"IF('Line 1 Source'!E1619<>\"\",'Line 1 Source'!E1619,\"\")","v":"0180"},{"$f":"IF('Line 1 Source'!F1619<>\"\",'Line 1 Source'!F1619,\"\")","v":2748191}]
[{"$f":"IF('Line 1 Source'!A1620<>\"\",'Line 1 Source'!A1620,\"\")","v":"2018"},"6446520",{"$f":"CONCATENATE(VLOOKUP(B1620,'School List'!$B$3:$H$291,6,FALSE),H1620)","v":"65200186"},{"$f":"CONCATENATE(VLOOKUP(B1620,'School List'!$B$3:$D$291,3,FALSE),H1620)","v":"Porter County - PORTER TOWNSHIP SCHOOL CORPORATION0186"},{"$f":"IF('Line 1 Source'!B1620<>\"\",'Line 1 Source'!B1620,\"\")","v":"64"},{"$f":"IF('Line 1 Source'!C1620<>\"\",'Line 1 Source'!C1620,\"\")","v":"4"},{"$f":"IF('Line 1 Source'!D1620<>\"\",'Line 1 Source'!D1620,\"\")","v":"6520"},{"$f":"IF('Line 1 Source'!E1620<>\"\",'Line 1 Source'!E1620,\"\")","v":"0186"},{"$f":"IF('Line 1 Source'!F1620<>\"\",'Line 1 Source'!F1620,\"\")","v":128135}]
[{"$f":"IF('Line 1 Source'!A1621<>\"\",'Line 1 Source'!A1621,\"\")","v":"2018"},"6446520",{"$f":"CONCATENATE(VLOOKUP(B1621,'School List'!$B$3:$H$291,6,FALSE),H1621)","v":"65201214"},{"$f":"CONCATENATE(VLOOKUP(B1621,'School List'!$B$3:$D$291,3,FALSE),H1621)","v":"Porter County - PORTER TOWNSHIP SCHOOL CORPORATION1214"},{"$f":"IF('Line 1 Source'!B1621<>\"\",'Line 1 Source'!B1621,\"\")","v":"64"},{"$f":"IF('Line 1 Source'!C1621<>\"\",'Line 1 Source'!C1621,\"\")","v":"4"},{"$f":"IF('Line 1 Source'!D1621<>\"\",'Line 1 Source'!D1621,\"\")","v":"6520"},{"$f":"IF('Line 1 Source'!E1621<>\"\",'Line 1 Source'!E1621,\"\")","v":"1214"},{"$f":"IF('Line 1 Source'!F1621<>\"\",'Line 1 Source'!F1621,\"\")","v":1471005}]
[{"$f":"IF('Line 1 Source'!A1622<>\"\",'Line 1 Source'!A1622,\"\")","v":"2018"},"6446520",{"$f":"CONCATENATE(VLOOKUP(B1622,'School List'!$B$3:$H$291,6,FALSE),H1622)","v":"65206301"},{"$f":"CONCATENATE(VLOOKUP(B1622,'School List'!$B$3:$D$291,3,FALSE),H1622)","v":"Porter County - PORTER TOWNSHIP SCHOOL CORPORATION6301"},{"$f":"IF('Line 1 Source'!B1622<>\"\",'Line 1 Source'!B1622,\"\")","v":"64"},{"$f":"IF('Line 1 Source'!C1622<>\"\",'Line 1 Source'!C1622,\"\")","v":"4"},{"$f":"IF('Line 1 Source'!D1622<>\"\",'Line 1 Source'!D1622,\"\")","v":"6520"},{"$f":"IF('Line 1 Source'!E1622<>\"\",'Line 1 Source'!E1622,\"\")","v":"6301"},{"$f":"IF('Line 1 Source'!F1622<>\"\",'Line 1 Source'!F1622,\"\")","v":1515184}]
[{"$f":"IF('Line 1 Source'!A1623<>\"\",'Line 1 Source'!A1623,\"\")","v":"2018"},"6446520",{"$f":"CONCATENATE(VLOOKUP(B1623,'School List'!$B$3:$H$291,6,FALSE),H1623)","v":"65206302"},{"$f":"CONCATENATE(VLOOKUP(B1623,'School List'!$B$3:$D$291,3,FALSE),H1623)","v":"Porter County - PORTER TOWNSHIP SCHOOL CORPORATION6302"},{"$f":"IF('Line 1 Source'!B1623<>\"\",'Line 1 Source'!B1623,\"\")","v":"64"},{"$f":"IF('Line 1 Source'!C1623<>\"\",'Line 1 Source'!C1623,\"\")","v":"4"},{"$f":"IF('Line 1 Source'!D1623<>\"\",'Line 1 Source'!D1623,\"\")","v":"6520"},{"$f":"IF('Line 1 Source'!E1623<>\"\",'Line 1 Source'!E1623,\"\")","v":"6302"},{"$f":"IF('Line 1 Source'!F1623<>\"\",'Line 1 Source'!F1623,\"\")","v":75509}]
[{"$f":"IF('Line 1 Source'!A1624<>\"\",'Line 1 Source'!A1624,\"\")","v":"2018"},"6446530",{"$f":"CONCATENATE(VLOOKUP(B1624,'School List'!$B$3:$H$291,6,FALSE),H1624)","v":"65300022"},{"$f":"CONCATENATE(VLOOKUP(B1624,'School List'!$B$3:$D$291,3,FALSE),H1624)","v":"Porter County - UNION TOWNSHIP SCHOOL CORPORATION0022"},{"$f":"IF('Line 1 Source'!B1624<>\"\",'Line 1 Source'!B1624,\"\")","v":"64"},{"$f":"IF('Line 1 Source'!C1624<>\"\",'Line 1 Source'!C1624,\"\")","v":"4"},{"$f":"IF('Line 1 Source'!D1624<>\"\",'Line 1 Source'!D1624,\"\")","v":"6530"},{"$f":"IF('Line 1 Source'!E1624<>\"\",'Line 1 Source'!E1624,\"\")","v":"0022"},{"$f":"IF('Line 1 Source'!F1624<>\"\",'Line 1 Source'!F1624,\"\")","v":1329180}]
[{"$f":"IF('Line 1 Source'!A1625<>\"\",'Line 1 Source'!A1625,\"\")","v":"2018"},"6446530",{"$f":"CONCATENATE(VLOOKUP(B1625,'School List'!$B$3:$H$291,6,FALSE),H1625)","v":"65300101"},{"$f":"CONCATENATE(VLOOKUP(B1625,'School List'!$B$3:$D$291,3,FALSE),H1625)","v":"Porter County - UNION TOWNSHIP SCHOOL CORPORATION0101"},{"$f":"IF('Line 1 Source'!B1625<>\"\",'Line 1 Source'!B1625,\"\")","v":"64"},{"$f":"IF('Line 1 Source'!C1625<>\"\",'Line 1 Source'!C1625,\"\")","v":"4"},{"$f":"IF('Line 1 Source'!D1625<>\"\",'Line 1 Source'!D1625,\"\")","v":"6530"},{"$f":"IF('Line 1 Source'!E1625<>\"\",'Line 1 Source'!E1625,\"\")","v":"0101"},{"$f":"IF('Line 1 Source'!F1625<>\"\",'Line 1 Source'!F1625,\"\")","v":10131000}]
[{"$f":"IF('Line 1 Source'!A1626<>\"\",'Line 1 Source'!A1626,\"\")","v":"2018"},"6446530",{"$f":"CONCATENATE(VLOOKUP(B1626,'School List'!$B$3:$H$291,6,FALSE),H1626)","v":"65300180"},{"$f":"CONCATENATE(VLOOKUP(B1626,'School List'!$B$3:$D$291,3,FALSE),H1626)","v":"Porter County - UNION TOWNSHIP SCHOOL CORPORATION0180"},{"$f":"IF('Line 1 Source'!B1626<>\"\",'Line 1 Source'!B1626,\"\")","v":"64"},{"$f":"IF('Line 1 Source'!C1626<>\"\",'Line 1 Source'!C1626,\"\")","v":"4"},{"$f":"IF('Line 1 Source'!D1626<>\"\",'Line 1 Source'!D1626,\"\")","v":"6530"},{"$f":"IF('Line 1 Source'!E1626<>\"\",'Line 1 Source'!E1626,\"\")","v":"0180"},{"$f":"IF('Line 1 Source'!F1626<>\"\",'Line 1 Source'!F1626,\"\")","v":2385622}]
[{"$f":"IF('Line 1 Source'!A1627<>\"\",'Line 1 Source'!A1627,\"\")","v":"2018"},"6446530",{"$f":"CONCATENATE(VLOOKUP(B1627,'School List'!$B$3:$H$291,6,FALSE),H1627)","v":"65300186"},{"$f":"CONCATENATE(VLOOKUP(B1627,'School List'!$B$3:$D$291,3,FALSE),H1627)","v":"Porter County - UNION TOWNSHIP SCHOOL CORPORATION0186"},{"$f":"IF('Line 1 Source'!B1627<>\"\",'Line 1 Source'!B1627,\"\")","v":"64"},{"$f":"IF('Line 1 Source'!C1627<>\"\",'Line 1 Source'!C1627,\"\")","v":"4"},{"$f":"IF('Line 1 Source'!D1627<>\"\",'Line 1 Source'!D1627,\"\")","v":"6530"},{"$f":"IF('Line 1 Source'!E1627<>\"\",'Line 1 Source'!E1627,\"\")","v":"0186"},{"$f":"IF('Line 1 Source'!F1627<>\"\",'Line 1 Source'!F1627,\"\")","v":93686}]
[{"$f":"IF('Line 1 Source'!A1628<>\"\",'Line 1 Source'!A1628,\"\")","v":"2018"},"6446530",{"$f":"CONCATENATE(VLOOKUP(B1628,'School List'!$B$3:$H$291,6,FALSE),H1628)","v":"65301214"},{"$f":"CONCATENATE(VLOOKUP(B1628,'School List'!$B$3:$D$291,3,FALSE),H1628)","v":"Porter County - UNION TOWNSHIP SCHOOL CORPORATION1214"},{"$f":"IF('Line 1 Source'!B1628<>\"\",'Line 1 Source'!B1628,\"\")","v":"64"},{"$f":"IF('Line 1 Source'!C1628<>\"\",'Line 1 Source'!C1628,\"\")","v":"4"},{"$f":"IF('Line 1 Source'!D1628<>\"\",'Line 1 Source'!D1628,\"\")","v":"6530"},{"$f":"IF('Line 1 Source'!E1628<>\"\",'Line 1 Source'!E1628,\"\")","v":"1214"},{"$f":"IF('Line 1 Source'!F1628<>\"\",'Line 1 Source'!F1628,\"\")","v":1437575}]
[{"$f":"IF('Line 1 Source'!A1629<>\"\",'Line 1 Source'!A1629,\"\")","v":"2018"},"6446530",{"$f":"CONCATENATE(VLOOKUP(B1629,'School List'!$B$3:$H$291,6,FALSE),H1629)","v":"65306301"},{"$f":"CONCATENATE(VLOOKUP(B1629,'School List'!$B$3:$D$291,3,FALSE),H1629)","v":"Porter County - UNION TOWNSHIP SCHOOL CORPORATION6301"},{"$f":"IF('Line 1 Source'!B1629<>\"\",'Line 1 Source'!B1629,\"\")","v":"64"},{"$f":"IF('Line 1 Source'!C1629<>\"\",'Line 1 Source'!C1629,\"\")","v":"4"},{"$f":"IF('Line 1 Source'!D1629<>\"\",'Line 1 Source'!D1629,\"\")","v":"6530"},{"$f":"IF('Line 1 Source'!E1629<>\"\",'Line 1 Source'!E1629,\"\")","v":"6301"},{"$f":"IF('Line 1 Source'!F1629<>\"\",'Line 1 Source'!F1629,\"\")","v":1509909}]
[{"$f":"IF('Line 1 Source'!A1630<>\"\",'Line 1 Source'!A1630,\"\")","v":"2018"},"6446530",{"$f":"CONCATENATE(VLOOKUP(B1630,'School List'!$B$3:$H$291,6,FALSE),H1630)","v":"65306302"},{"$f":"CONCATENATE(VLOOKUP(B1630,'School List'!$B$3:$D$291,3,FALSE),H1630)","v":"Porter County - UNION TOWNSHIP SCHOOL CORPORATION6302"},{"$f":"IF('Line 1 Source'!B1630<>\"\",'Line 1 Source'!B1630,\"\")","v":"64"},{"$f":"IF('Line 1 Source'!C1630<>\"\",'Line 1 Source'!C1630,\"\")","v":"4"},{"$f":"IF('Line 1 Source'!D1630<>\"\",'Line 1 Source'!D1630,\"\")","v":"6530"},{"$f":"IF('Line 1 Source'!E1630<>\"\",'Line 1 Source'!E1630,\"\")","v":"6302"},{"$f":"IF('Line 1 Source'!F1630<>\"\",'Line 1 Source'!F1630,\"\")","v":357810}]
[{"$f":"IF('Line 1 Source'!A1631<>\"\",'Line 1 Source'!A1631,\"\")","v":"2018"},"6446550",{"$f":"CONCATENATE(VLOOKUP(B1631,'School List'!$B$3:$H$291,6,FALSE),H1631)","v":"65500061"},{"$f":"CONCATENATE(VLOOKUP(B1631,'School List'!$B$3:$D$291,3,FALSE),H1631)","v":"Porter County - PORTAGE TOWNSHIP SCHOOL CORPORATION0061"},{"$f":"IF('Line 1 Source'!B1631<>\"\",'Line 1 Source'!B1631,\"\")","v":"64"},{"$f":"IF('Line 1 Source'!C1631<>\"\",'Line 1 Source'!C1631,\"\")","v":"4"},{"$f":"IF('Line 1 Source'!D1631<>\"\",'Line 1 Source'!D1631,\"\")","v":"6550"},{"$f":"IF('Line 1 Source'!E1631<>\"\",'Line 1 Source'!E1631,\"\")","v":"0061"},{"$f":"IF('Line 1 Source'!F1631<>\"\",'Line 1 Source'!F1631,\"\")","v":4000000}]
[{"$f":"IF('Line 1 Source'!A1632<>\"\",'Line 1 Source'!A1632,\"\")","v":"2018"},"6446550",{"$f":"CONCATENATE(VLOOKUP(B1632,'School List'!$B$3:$H$291,6,FALSE),H1632)","v":"65500101"},{"$f":"CONCATENATE(VLOOKUP(B1632,'School List'!$B$3:$D$291,3,FALSE),H1632)","v":"Porter County - PORTAGE TOWNSHIP SCHOOL CORPORATION0101"},{"$f":"IF('Line 1 Source'!B1632<>\"\",'Line 1 Source'!B1632,\"\")","v":"64"},{"$f":"IF('Line 1 Source'!C1632<>\"\",'Line 1 Source'!C1632,\"\")","v":"4"},{"$f":"IF('Line 1 Source'!D1632<>\"\",'Line 1 Source'!D1632,\"\")","v":"6550"},{"$f":"IF('Line 1 Source'!E1632<>\"\",'Line 1 Source'!E1632,\"\")","v":"0101"},{"$f":"IF('Line 1 Source'!F1632<>\"\",'Line 1 Source'!F1632,\"\")","v":58689823}]
[{"$f":"IF('Line 1 Source'!A1633<>\"\",'Line 1 Source'!A1633,\"\")","v":"2018"},"6446550",{"$f":"CONCATENATE(VLOOKUP(B1633,'School List'!$B$3:$H$291,6,FALSE),H1633)","v":"65500180"},{"$f":"CONCATENATE(VLOOKUP(B1633,'School List'!$B$3:$D$291,3,FALSE),H1633)","v":"Porter County - PORTAGE TOWNSHIP SCHOOL CORPORATION0180"},{"$f":"IF('Line 1 Source'!B1633<>\"\",'Line 1 Source'!B1633,\"\")","v":"64"},{"$f":"IF('Line 1 Source'!C1633<>\"\",'Line 1 Source'!C1633,\"\")","v":"4"},{"$f":"IF('Line 1 Source'!D1633<>\"\",'Line 1 Source'!D1633,\"\")","v":"6550"},{"$f":"IF('Line 1 Source'!E1633<>\"\",'Line 1 Source'!E1633,\"\")","v":"0180"},{"$f":"IF('Line 1 Source'!F1633<>\"\",'Line 1 Source'!F1633,\"\")","v":6099521}]
[{"$f":"IF('Line 1 Source'!A1634<>\"\",'Line 1 Source'!A1634,\"\")","v":"2018"},"6446550",{"$f":"CONCATENATE(VLOOKUP(B1634,'School List'!$B$3:$H$291,6,FALSE),H1634)","v":"65500186"},{"$f":"CONCATENATE(VLOOKUP(B1634,'School List'!$B$3:$D$291,3,FALSE),H1634)","v":"Porter County - PORTAGE TOWNSHIP SCHOOL CORPORATION0186"},{"$f":"IF('Line 1 Source'!B1634<>\"\",'Line 1 Source'!B1634,\"\")","v":"64"},{"$f":"IF('Line 1 Source'!C1634<>\"\",'Line 1 Source'!C1634,\"\")","v":"4"},{"$f":"IF('Line 1 Source'!D1634<>\"\",'Line 1 Source'!D1634,\"\")","v":"6550"},{"$f":"IF('Line 1 Source'!E1634<>\"\",'Line 1 Source'!E1634,\"\")","v":"0186"},{"$f":"IF('Line 1 Source'!F1634<>\"\",'Line 1 Source'!F1634,\"\")","v":662878}]
[{"$f":"IF('Line 1 Source'!A1635<>\"\",'Line 1 Source'!A1635,\"\")","v":"2018"},"6446550",{"$f":"CONCATENATE(VLOOKUP(B1635,'School List'!$B$3:$H$291,6,FALSE),H1635)","v":"65501214"},{"$f":"CONCATENATE(VLOOKUP(B1635,'School List'!$B$3:$D$291,3,FALSE),H1635)","v":"Porter County - PORTAGE TOWNSHIP SCHOOL CORPORATION1214"},{"$f":"IF('Line 1 Source'!B1635<>\"\",'Line 1 Source'!B1635,\"\")","v":"64"},{"$f":"IF('Line 1 Source'!C1635<>\"\",'Line 1 Source'!C1635,\"\")","v":"4"},{"$f":"IF('Line 1 Source'!D1635<>\"\",'Line 1 Source'!D1635,\"\")","v":"6550"},{"$f":"IF('Line 1 Source'!E1635<>\"\",'Line 1 Source'!E1635,\"\")","v":"1214"},{"$f":"IF('Line 1 Source'!F1635<>\"\",'Line 1 Source'!F1635,\"\")","v":5552647}]
[{"$f":"IF('Line 1 Source'!A1636<>\"\",'Line 1 Source'!A1636,\"\")","v":"2018"},"6446550",{"$f":"CONCATENATE(VLOOKUP(B1636,'School List'!$B$3:$H$291,6,FALSE),H1636)","v":"65506301"},{"$f":"CONCATENATE(VLOOKUP(B1636,'School List'!$B$3:$D$291,3,FALSE),H1636)","v":"Porter County - PORTAGE TOWNSHIP SCHOOL CORPORATION6301"},{"$f":"IF('Line 1 Source'!B1636<>\"\",'Line 1 Source'!B1636,\"\")","v":"64"},{"$f":"IF('Line 1 Source'!C1636<>\"\",'Line 1 Source'!C1636,\"\")","v":"4"},{"$f":"IF('Line 1 Source'!D1636<>\"\",'Line 1 Source'!D1636,\"\")","v":"6550"},{"$f":"IF('Line 1 Source'!E1636<>\"\",'Line 1 Source'!E1636,\"\")","v":"6301"},{"$f":"IF('Line 1 Source'!F1636<>\"\",'Line 1 Source'!F1636,\"\")","v":5737392}]
[{"$f":"IF('Line 1 Source'!A1637<>\"\",'Line 1 Source'!A1637,\"\")","v":"2018"},"6446550",{"$f":"CONCATENATE(VLOOKUP(B1637,'School List'!$B$3:$H$291,6,FALSE),H1637)","v":"65506302"},{"$f":"CONCATENATE(VLOOKUP(B1637,'School List'!$B$3:$D$291,3,FALSE),H1637)","v":"Porter County - PORTAGE TOWNSHIP SCHOOL CORPORATION6302"},{"$f":"IF('Line 1 Source'!B1637<>\"\",'Line 1 Source'!B1637,\"\")","v":"64"},{"$f":"IF('Line 1 Source'!C1637<>\"\",'Line 1 Source'!C1637,\"\")","v":"4"},{"$f":"IF('Line 1 Source'!D1637<>\"\",'Line 1 Source'!D1637,\"\")","v":"6550"},{"$f":"IF('Line 1 Source'!E1637<>\"\",'Line 1 Source'!E1637,\"\")","v":"6302"},{"$f":"IF('Line 1 Source'!F1637<>\"\",'Line 1 Source'!F1637,\"\")","v":1204773}]
[{"$f":"IF('Line 1 Source'!A1638<>\"\",'Line 1 Source'!A1638,\"\")","v":"2018"},"6446560",{"$f":"CONCATENATE(VLOOKUP(B1638,'School List'!$B$3:$H$291,6,FALSE),H1638)","v":"65600022"},{"$f":"CONCATENATE(VLOOKUP(B1638,'School List'!$B$3:$D$291,3,FALSE),H1638)","v":"Porter County - VALPARAISO COMMUNITY SCHOOL CORPORATION0022"},{"$f":"IF('Line 1 Source'!B1638<>\"\",'Line 1 Source'!B1638,\"\")","v":"64"},{"$f":"IF('Line 1 Source'!C1638<>\"\",'Line 1 Source'!C1638,\"\")","v":"4"},{"$f":"IF('Line 1 Source'!D1638<>\"\",'Line 1 Source'!D1638,\"\")","v":"6560"},{"$f":"IF('Line 1 Source'!E1638<>\"\",'Line 1 Source'!E1638,\"\")","v":"0022"},{"$f":"IF('Line 1 Source'!F1638<>\"\",'Line 1 Source'!F1638,\"\")","v":4813852}]
[{"$f":"IF('Line 1 Source'!A1639<>\"\",'Line 1 Source'!A1639,\"\")","v":"2018"},"6446560",{"$f":"CONCATENATE(VLOOKUP(B1639,'School List'!$B$3:$H$291,6,FALSE),H1639)","v":"65600101"},{"$f":"CONCATENATE(VLOOKUP(B1639,'School List'!$B$3:$D$291,3,FALSE),H1639)","v":"Porter County - VALPARAISO COMMUNITY SCHOOL CORPORATION0101"},{"$f":"IF('Line 1 Source'!B1639<>\"\",'Line 1 Source'!B1639,\"\")","v":"64"},{"$f":"IF('Line 1 Source'!C1639<>\"\",'Line 1 Source'!C1639,\"\")","v":"4"},{"$f":"IF('Line 1 Source'!D1639<>\"\",'Line 1 Source'!D1639,\"\")","v":"6560"},{"$f":"IF('Line 1 Source'!E1639<>\"\",'Line 1 Source'!E1639,\"\")","v":"0101"},{"$f":"IF('Line 1 Source'!F1639<>\"\",'Line 1 Source'!F1639,\"\")","v":41853384}]
[{"$f":"IF('Line 1 Source'!A1640<>\"\",'Line 1 Source'!A1640,\"\")","v":"2018"},"6446560",{"$f":"CONCATENATE(VLOOKUP(B1640,'School List'!$B$3:$H$291,6,FALSE),H1640)","v":"65600180"},{"$f":"CONCATENATE(VLOOKUP(B1640,'School List'!$B$3:$D$291,3,FALSE),H1640)","v":"Porter County - VALPARAISO COMMUNITY SCHOOL CORPORATION0180"},{"$f":"IF('Line 1 Source'!B1640<>\"\",'Line 1 Source'!B1640,\"\")","v":"64"},{"$f":"IF('Line 1 Source'!C1640<>\"\",'Line 1 Source'!C1640,\"\")","v":"4"},{"$f":"IF('Line 1 Source'!D1640<>\"\",'Line 1 Source'!D1640,\"\")","v":"6560"},{"$f":"IF('Line 1 Source'!E1640<>\"\",'Line 1 Source'!E1640,\"\")","v":"0180"},{"$f":"IF('Line 1 Source'!F1640<>\"\",'Line 1 Source'!F1640,\"\")","v":4440068}]
[{"$f":"IF('Line 1 Source'!A1641<>\"\",'Line 1 Source'!A1641,\"\")","v":"2018"},"6446560",{"$f":"CONCATENATE(VLOOKUP(B1641,'School List'!$B$3:$H$291,6,FALSE),H1641)","v":"65600186"},{"$f":"CONCATENATE(VLOOKUP(B1641,'School List'!$B$3:$D$291,3,FALSE),H1641)","v":"Porter County - VALPARAISO COMMUNITY SCHOOL CORPORATION0186"},{"$f":"IF('Line 1 Source'!B1641<>\"\",'Line 1 Source'!B1641,\"\")","v":"64"},{"$f":"IF('Line 1 Source'!C1641<>\"\",'Line 1 Source'!C1641,\"\")","v":"4"},{"$f":"IF('Line 1 Source'!D1641<>\"\",'Line 1 Source'!D1641,\"\")","v":"6560"},{"$f":"IF('Line 1 Source'!E1641<>\"\",'Line 1 Source'!E1641,\"\")","v":"0186"},{"$f":"IF('Line 1 Source'!F1641<>\"\",'Line 1 Source'!F1641,\"\")","v":1601780}]
[{"$f":"IF('Line 1 Source'!A1642<>\"\",'Line 1 Source'!A1642,\"\")","v":"2018"},"6446560",{"$f":"CONCATENATE(VLOOKUP(B1642,'School List'!$B$3:$H$291,6,FALSE),H1642)","v":"65600287"},{"$f":"CONCATENATE(VLOOKUP(B1642,'School List'!$B$3:$D$291,3,FALSE),H1642)","v":"Porter County - VALPARAISO COMMUNITY SCHOOL CORPORATION0287"},{"$f":"IF('Line 1 Source'!B1642<>\"\",'Line 1 Source'!B1642,\"\")","v":"64"},{"$f":"IF('Line 1 Source'!C1642<>\"\",'Line 1 Source'!C1642,\"\")","v":"4"},{"$f":"IF('Line 1 Source'!D1642<>\"\",'Line 1 Source'!D1642,\"\")","v":"6560"},{"$f":"IF('Line 1 Source'!E1642<>\"\",'Line 1 Source'!E1642,\"\")","v":"0287"},{"$f":"IF('Line 1 Source'!F1642<>\"\",'Line 1 Source'!F1642,\"\")","v":11368002}]
[{"$f":"IF('Line 1 Source'!A1643<>\"\",'Line 1 Source'!A1643,\"\")","v":"2018"},"6446560",{"$f":"CONCATENATE(VLOOKUP(B1643,'School List'!$B$3:$H$291,6,FALSE),H1643)","v":"65601214"},{"$f":"CONCATENATE(VLOOKUP(B1643,'School List'!$B$3:$D$291,3,FALSE),H1643)","v":"Porter County - VALPARAISO COMMUNITY SCHOOL CORPORATION1214"},{"$f":"IF('Line 1 Source'!B1643<>\"\",'Line 1 Source'!B1643,\"\")","v":"64"},{"$f":"IF('Line 1 Source'!C1643<>\"\",'Line 1 Source'!C1643,\"\")","v":"4"},{"$f":"IF('Line 1 Source'!D1643<>\"\",'Line 1 Source'!D1643,\"\")","v":"6560"},{"$f":"IF('Line 1 Source'!E1643<>\"\",'Line 1 Source'!E1643,\"\")","v":"1214"},{"$f":"IF('Line 1 Source'!F1643<>\"\",'Line 1 Source'!F1643,\"\")","v":5275664}]
[{"$f":"IF('Line 1 Source'!A1644<>\"\",'Line 1 Source'!A1644,\"\")","v":"2018"},"6446560",{"$f":"CONCATENATE(VLOOKUP(B1644,'School List'!$B$3:$H$291,6,FALSE),H1644)","v":"65606301"},{"$f":"CONCATENATE(VLOOKUP(B1644,'School List'!$B$3:$D$291,3,FALSE),H1644)","v":"Porter County - VALPARAISO COMMUNITY SCHOOL CORPORATION6301"},{"$f":"IF('Line 1 Source'!B1644<>\"\",'Line 1 Source'!B1644,\"\")","v":"64"},{"$f":"IF('Line 1 Source'!C1644<>\"\",'Line 1 Source'!C1644,\"\")","v":"4"},{"$f":"IF('Line 1 Source'!D1644<>\"\",'Line 1 Source'!D1644,\"\")","v":"6560"},{"$f":"IF('Line 1 Source'!E1644<>\"\",'Line 1 Source'!E1644,\"\")","v":"6301"},{"$f":"IF('Line 1 Source'!F1644<>\"\",'Line 1 Source'!F1644,\"\")","v":4411852}]
[{"$f":"IF('Line 1 Source'!A1645<>\"\",'Line 1 Source'!A1645,\"\")","v":"2018"},"6446560",{"$f":"CONCATENATE(VLOOKUP(B1645,'School List'!$B$3:$H$291,6,FALSE),H1645)","v":"65606302"},{"$f":"CONCATENATE(VLOOKUP(B1645,'School List'!$B$3:$D$291,3,FALSE),H1645)","v":"Porter County - VALPARAISO COMMUNITY SCHOOL CORPORATION6302"},{"$f":"IF('Line 1 Source'!B1645<>\"\",'Line 1 Source'!B1645,\"\")","v":"64"},{"$f":"IF('Line 1 Source'!C1645<>\"\",'Line 1 Source'!C1645,\"\")","v":"4"},{"$f":"IF('Line 1 Source'!D1645<>\"\",'Line 1 Source'!D1645,\"\")","v":"6560"},{"$f":"IF('Line 1 Source'!E1645<>\"\",'Line 1 Source'!E1645,\"\")","v":"6302"},{"$f":"IF('Line 1 Source'!F1645<>\"\",'Line 1 Source'!F1645,\"\")","v":973244}]
[{"$f":"IF('Line 1 Source'!A1646<>\"\",'Line 1 Source'!A1646,\"\")","v":"2018"},"6546590",{"$f":"CONCATENATE(VLOOKUP(B1646,'School List'!$B$3:$H$291,6,FALSE),H1646)","v":"65900061"},{"$f":"CONCATENATE(VLOOKUP(B1646,'School List'!$B$3:$D$291,3,FALSE),H1646)","v":"Posey County - M.S.D. MOUNT VERNON SCHOOL CORPORATION0061"},{"$f":"IF('Line 1 Source'!B1646<>\"\",'Line 1 Source'!B1646,\"\")","v":"65"},{"$f":"IF('Line 1 Source'!C1646<>\"\",'Line 1 Source'!C1646,\"\")","v":"4"},{"$f":"IF('Line 1 Source'!D1646<>\"\",'Line 1 Source'!D1646,\"\")","v":"6590"},{"$f":"IF('Line 1 Source'!E1646<>\"\",'Line 1 Source'!E1646,\"\")","v":"0061"},{"$f":"IF('Line 1 Source'!F1646<>\"\",'Line 1 Source'!F1646,\"\")","v":775000}]
[{"$f":"IF('Line 1 Source'!A1647<>\"\",'Line 1 Source'!A1647,\"\")","v":"2018"},"6546590",{"$f":"CONCATENATE(VLOOKUP(B1647,'School List'!$B$3:$H$291,6,FALSE),H1647)","v":"65900101"},{"$f":"CONCATENATE(VLOOKUP(B1647,'School List'!$B$3:$D$291,3,FALSE),H1647)","v":"Posey County - M.S.D. MOUNT VERNON SCHOOL CORPORATION0101"},{"$f":"IF('Line 1 Source'!B1647<>\"\",'Line 1 Source'!B1647,\"\")","v":"65"},{"$f":"IF('Line 1 Source'!C1647<>\"\",'Line 1 Source'!C1647,\"\")","v":"4"},{"$f":"IF('Line 1 Source'!D1647<>\"\",'Line 1 Source'!D1647,\"\")","v":"6590"},{"$f":"IF('Line 1 Source'!E1647<>\"\",'Line 1 Source'!E1647,\"\")","v":"0101"},{"$f":"IF('Line 1 Source'!F1647<>\"\",'Line 1 Source'!F1647,\"\")","v":14509594}]
[{"$f":"IF('Line 1 Source'!A1648<>\"\",'Line 1 Source'!A1648,\"\")","v":"2018"},"6546590",{"$f":"CONCATENATE(VLOOKUP(B1648,'School List'!$B$3:$H$291,6,FALSE),H1648)","v":"65900180"},{"$f":"CONCATENATE(VLOOKUP(B1648,'School List'!$B$3:$D$291,3,FALSE),H1648)","v":"Posey County - M.S.D. MOUNT VERNON SCHOOL CORPORATION0180"},{"$f":"IF('Line 1 Source'!B1648<>\"\",'Line 1 Source'!B1648,\"\")","v":"65"},{"$f":"IF('Line 1 Source'!C1648<>\"\",'Line 1 Source'!C1648,\"\")","v":"4"},{"$f":"IF('Line 1 Source'!D1648<>\"\",'Line 1 Source'!D1648,\"\")","v":"6590"},{"$f":"IF('Line 1 Source'!E1648<>\"\",'Line 1 Source'!E1648,\"\")","v":"0180"},{"$f":"IF('Line 1 Source'!F1648<>\"\",'Line 1 Source'!F1648,\"\")","v":3400321}]
[{"$f":"IF('Line 1 Source'!A1649<>\"\",'Line 1 Source'!A1649,\"\")","v":"2018"},"6546590",{"$f":"CONCATENATE(VLOOKUP(B1649,'School List'!$B$3:$H$291,6,FALSE),H1649)","v":"65901214"},{"$f":"CONCATENATE(VLOOKUP(B1649,'School List'!$B$3:$D$291,3,FALSE),H1649)","v":"Posey County - M.S.D. MOUNT VERNON SCHOOL CORPORATION1214"},{"$f":"IF('Line 1 Source'!B1649<>\"\",'Line 1 Source'!B1649,\"\")","v":"65"},{"$f":"IF('Line 1 Source'!C1649<>\"\",'Line 1 Source'!C1649,\"\")","v":"4"},{"$f":"IF('Line 1 Source'!D1649<>\"\",'Line 1 Source'!D1649,\"\")","v":"6590"},{"$f":"IF('Line 1 Source'!E1649<>\"\",'Line 1 Source'!E1649,\"\")","v":"1214"},{"$f":"IF('Line 1 Source'!F1649<>\"\",'Line 1 Source'!F1649,\"\")","v":6663472}]
[{"$f":"IF('Line 1 Source'!A1650<>\"\",'Line 1 Source'!A1650,\"\")","v":"2018"},"6546590",{"$f":"CONCATENATE(VLOOKUP(B1650,'School List'!$B$3:$H$291,6,FALSE),H1650)","v":"65906301"},{"$f":"CONCATENATE(VLOOKUP(B1650,'School List'!$B$3:$D$291,3,FALSE),H1650)","v":"Posey County - M.S.D. MOUNT VERNON SCHOOL CORPORATION6301"},{"$f":"IF('Line 1 Source'!B1650<>\"\",'Line 1 Source'!B1650,\"\")","v":"65"},{"$f":"IF('Line 1 Source'!C1650<>\"\",'Line 1 Source'!C1650,\"\")","v":"4"},{"$f":"IF('Line 1 Source'!D1650<>\"\",'Line 1 Source'!D1650,\"\")","v":"6590"},{"$f":"IF('Line 1 Source'!E1650<>\"\",'Line 1 Source'!E1650,\"\")","v":"6301"},{"$f":"IF('Line 1 Source'!F1650<>\"\",'Line 1 Source'!F1650,\"\")","v":2243507}]
[{"$f":"IF('Line 1 Source'!A1651<>\"\",'Line 1 Source'!A1651,\"\")","v":"2018"},"6546590",{"$f":"CONCATENATE(VLOOKUP(B1651,'School List'!$B$3:$H$291,6,FALSE),H1651)","v":"65906302"},{"$f":"CONCATENATE(VLOOKUP(B1651,'School List'!$B$3:$D$291,3,FALSE),H1651)","v":"Posey County - M.S.D. MOUNT VERNON SCHOOL CORPORATION6302"},{"$f":"IF('Line 1 Source'!B1651<>\"\",'Line 1 Source'!B1651,\"\")","v":"65"},{"$f":"IF('Line 1 Source'!C1651<>\"\",'Line 1 Source'!C1651,\"\")","v":"4"},{"$f":"IF('Line 1 Source'!D1651<>\"\",'Line 1 Source'!D1651,\"\")","v":"6590"},{"$f":"IF('Line 1 Source'!E1651<>\"\",'Line 1 Source'!E1651,\"\")","v":"6302"},{"$f":"IF('Line 1 Source'!F1651<>\"\",'Line 1 Source'!F1651,\"\")","v":305433}]
[{"$f":"IF('Line 1 Source'!A1652<>\"\",'Line 1 Source'!A1652,\"\")","v":"2018"},"6546600",{"$f":"CONCATENATE(VLOOKUP(B1652,'School List'!$B$3:$H$291,6,FALSE),H1652)","v":"66000061"},{"$f":"CONCATENATE(VLOOKUP(B1652,'School List'!$B$3:$D$291,3,FALSE),H1652)","v":"Posey County - M.S.D. NORTH POSEY COUNTY SCHOOL CORP0061"},{"$f":"IF('Line 1 Source'!B1652<>\"\",'Line 1 Source'!B1652,\"\")","v":"65"},{"$f":"IF('Line 1 Source'!C1652<>\"\",'Line 1 Source'!C1652,\"\")","v":"4"},{"$f":"IF('Line 1 Source'!D1652<>\"\",'Line 1 Source'!D1652,\"\")","v":"6600"},{"$f":"IF('Line 1 Source'!E1652<>\"\",'Line 1 Source'!E1652,\"\")","v":"0061"},{"$f":"IF('Line 1 Source'!F1652<>\"\",'Line 1 Source'!F1652,\"\")","v":750000}]
[{"$f":"IF('Line 1 Source'!A1653<>\"\",'Line 1 Source'!A1653,\"\")","v":"2018"},"6546600",{"$f":"CONCATENATE(VLOOKUP(B1653,'School List'!$B$3:$H$291,6,FALSE),H1653)","v":"66000101"},{"$f":"CONCATENATE(VLOOKUP(B1653,'School List'!$B$3:$D$291,3,FALSE),H1653)","v":"Posey County - M.S.D. NORTH POSEY COUNTY SCHOOL CORP0101"},{"$f":"IF('Line 1 Source'!B1653<>\"\",'Line 1 Source'!B1653,\"\")","v":"65"},{"$f":"IF('Line 1 Source'!C1653<>\"\",'Line 1 Source'!C1653,\"\")","v":"4"},{"$f":"IF('Line 1 Source'!D1653<>\"\",'Line 1 Source'!D1653,\"\")","v":"6600"},{"$f":"IF('Line 1 Source'!E1653<>\"\",'Line 1 Source'!E1653,\"\")","v":"0101"},{"$f":"IF('Line 1 Source'!F1653<>\"\",'Line 1 Source'!F1653,\"\")","v":9904061}]
[{"$f":"IF('Line 1 Source'!A1654<>\"\",'Line 1 Source'!A1654,\"\")","v":"2018"},"6546600",{"$f":"CONCATENATE(VLOOKUP(B1654,'School List'!$B$3:$H$291,6,FALSE),H1654)","v":"66000180"},{"$f":"CONCATENATE(VLOOKUP(B1654,'School List'!$B$3:$D$291,3,FALSE),H1654)","v":"Posey County - M.S.D. NORTH POSEY COUNTY SCHOOL CORP0180"},{"$f":"IF('Line 1 Source'!B1654<>\"\",'Line 1 Source'!B1654,\"\")","v":"65"},{"$f":"IF('Line 1 Source'!C1654<>\"\",'Line 1 Source'!C1654,\"\")","v":"4"},{"$f":"IF('Line 1 Source'!D1654<>\"\",'Line 1 Source'!D1654,\"\")","v":"6600"},{"$f":"IF('Line 1 Source'!E1654<>\"\",'Line 1 Source'!E1654,\"\")","v":"0180"},{"$f":"IF('Line 1 Source'!F1654<>\"\",'Line 1 Source'!F1654,\"\")","v":494000}]
[{"$f":"IF('Line 1 Source'!A1655<>\"\",'Line 1 Source'!A1655,\"\")","v":"2018"},"6546600",{"$f":"CONCATENATE(VLOOKUP(B1655,'School List'!$B$3:$H$291,6,FALSE),H1655)","v":"66000181"},{"$f":"CONCATENATE(VLOOKUP(B1655,'School List'!$B$3:$D$291,3,FALSE),H1655)","v":"Posey County - M.S.D. NORTH POSEY COUNTY SCHOOL CORP0181"},{"$f":"IF('Line 1 Source'!B1655<>\"\",'Line 1 Source'!B1655,\"\")","v":"65"},{"$f":"IF('Line 1 Source'!C1655<>\"\",'Line 1 Source'!C1655,\"\")","v":"4"},{"$f":"IF('Line 1 Source'!D1655<>\"\",'Line 1 Source'!D1655,\"\")","v":"6600"},{"$f":"IF('Line 1 Source'!E1655<>\"\",'Line 1 Source'!E1655,\"\")","v":"0181"},{"$f":"IF('Line 1 Source'!F1655<>\"\",'Line 1 Source'!F1655,\"\")","v":461676}]
[{"$f":"IF('Line 1 Source'!A1656<>\"\",'Line 1 Source'!A1656,\"\")","v":"2018"},"6546600",{"$f":"CONCATENATE(VLOOKUP(B1656,'School List'!$B$3:$H$291,6,FALSE),H1656)","v":"66000186"},{"$f":"CONCATENATE(VLOOKUP(B1656,'School List'!$B$3:$D$291,3,FALSE),H1656)","v":"Posey County - M.S.D. NORTH POSEY COUNTY SCHOOL CORP0186"},{"$f":"IF('Line 1 Source'!B1656<>\"\",'Line 1 Source'!B1656,\"\")","v":"65"},{"$f":"IF('Line 1 Source'!C1656<>\"\",'Line 1 Source'!C1656,\"\")","v":"4"},{"$f":"IF('Line 1 Source'!D1656<>\"\",'Line 1 Source'!D1656,\"\")","v":"6600"},{"$f":"IF('Line 1 Source'!E1656<>\"\",'Line 1 Source'!E1656,\"\")","v":"0186"},{"$f":"IF('Line 1 Source'!F1656<>\"\",'Line 1 Source'!F1656,\"\")","v":315770}]
[{"$f":"IF('Line 1 Source'!A1657<>\"\",'Line 1 Source'!A1657,\"\")","v":"2018"},"6546600",{"$f":"CONCATENATE(VLOOKUP(B1657,'School List'!$B$3:$H$291,6,FALSE),H1657)","v":"66001214"},{"$f":"CONCATENATE(VLOOKUP(B1657,'School List'!$B$3:$D$291,3,FALSE),H1657)","v":"Posey County - M.S.D. NORTH POSEY COUNTY SCHOOL CORP1214"},{"$f":"IF('Line 1 Source'!B1657<>\"\",'Line 1 Source'!B1657,\"\")","v":"65"},{"$f":"IF('Line 1 Source'!C1657<>\"\",'Line 1 Source'!C1657,\"\")","v":"4"},{"$f":"IF('Line 1 Source'!D1657<>\"\",'Line 1 Source'!D1657,\"\")","v":"6600"},{"$f":"IF('Line 1 Source'!E1657<>\"\",'Line 1 Source'!E1657,\"\")","v":"1214"},{"$f":"IF('Line 1 Source'!F1657<>\"\",'Line 1 Source'!F1657,\"\")","v":1855928}]
[{"$f":"IF('Line 1 Source'!A1658<>\"\",'Line 1 Source'!A1658,\"\")","v":"2018"},"6546600",{"$f":"CONCATENATE(VLOOKUP(B1658,'School List'!$B$3:$H$291,6,FALSE),H1658)","v":"66006301"},{"$f":"CONCATENATE(VLOOKUP(B1658,'School List'!$B$3:$D$291,3,FALSE),H1658)","v":"Posey County - M.S.D. NORTH POSEY COUNTY SCHOOL CORP6301"},{"$f":"IF('Line 1 Source'!B1658<>\"\",'Line 1 Source'!B1658,\"\")","v":"65"},{"$f":"IF('Line 1 Source'!C1658<>\"\",'Line 1 Source'!C1658,\"\")","v":"4"},{"$f":"IF('Line 1 Source'!D1658<>\"\",'Line 1 Source'!D1658,\"\")","v":"6600"},{"$f":"IF('Line 1 Source'!E1658<>\"\",'Line 1 Source'!E1658,\"\")","v":"6301"},{"$f":"IF('Line 1 Source'!F1658<>\"\",'Line 1 Source'!F1658,\"\")","v":1185123}]
[{"$f":"IF('Line 1 Source'!A1659<>\"\",'Line 1 Source'!A1659,\"\")","v":"2018"},"6546600",{"$f":"CONCATENATE(VLOOKUP(B1659,'School List'!$B$3:$H$291,6,FALSE),H1659)","v":"66006302"},{"$f":"CONCATENATE(VLOOKUP(B1659,'School List'!$B$3:$D$291,3,FALSE),H1659)","v":"Posey County - M.S.D. NORTH POSEY COUNTY SCHOOL CORP6302"},{"$f":"IF('Line 1 Source'!B1659<>\"\",'Line 1 Source'!B1659,\"\")","v":"65"},{"$f":"IF('Line 1 Source'!C1659<>\"\",'Line 1 Source'!C1659,\"\")","v":"4"},{"$f":"IF('Line 1 Source'!D1659<>\"\",'Line 1 Source'!D1659,\"\")","v":"6600"},{"$f":"IF('Line 1 Source'!E1659<>\"\",'Line 1 Source'!E1659,\"\")","v":"6302"},{"$f":"IF('Line 1 Source'!F1659<>\"\",'Line 1 Source'!F1659,\"\")","v":21492}]
[{"$f":"IF('Line 1 Source'!A1660<>\"\",'Line 1 Source'!A1660,\"\")","v":"2018"},"6645455",{"$f":"CONCATENATE(VLOOKUP(B1660,'School List'!$B$3:$H$291,6,FALSE),H1660)","v":{"$error":"#N/A"}},{"$f":"CONCATENATE(VLOOKUP(B1660,'School List'!$B$3:$D$291,3,FALSE),H1660)","v":{"$error":"#N/A"}},{"$f":"IF('Line 1 Source'!B1660<>\"\",'Line 1 Source'!B1660,\"\")","v":"66"},{"$f":"IF('Line 1 Source'!C1660<>\"\",'Line 1 Source'!C1660,\"\")","v":"4"},{"$f":"IF('Line 1 Source'!D1660<>\"\",'Line 1 Source'!D1660,\"\")","v":"5455"},{"$f":"IF('Line 1 Source'!E1660<>\"\",'Line 1 Source'!E1660,\"\")","v":"0061"},{"$f":"IF('Line 1 Source'!F1660<>\"\",'Line 1 Source'!F1660,\"\")","v":0}]
[{"$f":"IF('Line 1 Source'!A1661<>\"\",'Line 1 Source'!A1661,\"\")","v":"2018"},"6645455",{"$f":"CONCATENATE(VLOOKUP(B1661,'School List'!$B$3:$H$291,6,FALSE),H1661)","v":{"$error":"#N/A"}},{"$f":"CONCATENATE(VLOOKUP(B1661,'School List'!$B$3:$D$291,3,FALSE),H1661)","v":{"$error":"#N/A"}},{"$f":"IF('Line 1 Source'!B1661<>\"\",'Line 1 Source'!B1661,\"\")","v":"66"},{"$f":"IF('Line 1 Source'!C1661<>\"\",'Line 1 Source'!C1661,\"\")","v":"4"},{"$f":"IF('Line 1 Source'!D1661<>\"\",'Line 1 Source'!D1661,\"\")","v":"5455"},{"$f":"IF('Line 1 Source'!E1661<>\"\",'Line 1 Source'!E1661,\"\")","v":"0101"},{"$f":"IF('Line 1 Source'!F1661<>\"\",'Line 1 Source'!F1661,\"\")","v":0}]
[{"$f":"IF('Line 1 Source'!A1662<>\"\",'Line 1 Source'!A1662,\"\")","v":"2018"},"6645455",{"$f":"CONCATENATE(VLOOKUP(B1662,'School List'!$B$3:$H$291,6,FALSE),H1662)","v":{"$error":"#N/A"}},{"$f":"CONCATENATE(VLOOKUP(B1662,'School List'!$B$3:$D$291,3,FALSE),H1662)","v":{"$error":"#N/A"}},{"$f":"IF('Line 1 Source'!B1662<>\"\",'Line 1 Source'!B1662,\"\")","v":"66"},{"$f":"IF('Line 1 Source'!C1662<>\"\",'Line 1 Source'!C1662,\"\")","v":"4"},{"$f":"IF('Line 1 Source'!D1662<>\"\",'Line 1 Source'!D1662,\"\")","v":"5455"},{"$f":"IF('Line 1 Source'!E1662<>\"\",'Line 1 Source'!E1662,\"\")","v":"0180"},{"$f":"IF('Line 1 Source'!F1662<>\"\",'Line 1 Source'!F1662,\"\")","v":0}]
[{"$f":"IF('Line 1 Source'!A1663<>\"\",'Line 1 Source'!A1663,\"\")","v":"2018"},"6645455",{"$f":"CONCATENATE(VLOOKUP(B1663,'School List'!$B$3:$H$291,6,FALSE),H1663)","v":{"$error":"#N/A"}},{"$f":"CONCATENATE(VLOOKUP(B1663,'School List'!$B$3:$D$291,3,FALSE),H1663)","v":{"$error":"#N/A"}},{"$f":"IF('Line 1 Source'!B1663<>\"\",'Line 1 Source'!B1663,\"\")","v":"66"},{"$f":"IF('Line 1 Source'!C1663<>\"\",'Line 1 Source'!C1663,\"\")","v":"4"},{"$f":"IF('Line 1 Source'!D1663<>\"\",'Line 1 Source'!D1663,\"\")","v":"5455"},{"$f":"IF('Line 1 Source'!E1663<>\"\",'Line 1 Source'!E1663,\"\")","v":"0186"},{"$f":"IF('Line 1 Source'!F1663<>\"\",'Line 1 Source'!F1663,\"\")","v":0}]
[{"$f":"IF('Line 1 Source'!A1664<>\"\",'Line 1 Source'!A1664,\"\")","v":"2018"},"6645455",{"$f":"CONCATENATE(VLOOKUP(B1664,'School List'!$B$3:$H$291,6,FALSE),H1664)","v":{"$error":"#N/A"}},{"$f":"CONCATENATE(VLOOKUP(B1664,'School List'!$B$3:$D$291,3,FALSE),H1664)","v":{"$error":"#N/A"}},{"$f":"IF('Line 1 Source'!B1664<>\"\",'Line 1 Source'!B1664,\"\")","v":"66"},{"$f":"IF('Line 1 Source'!C1664<>\"\",'Line 1 Source'!C1664,\"\")","v":"4"},{"$f":"IF('Line 1 Source'!D1664<>\"\",'Line 1 Source'!D1664,\"\")","v":"5455"},{"$f":"IF('Line 1 Source'!E1664<>\"\",'Line 1 Source'!E1664,\"\")","v":"1214"},{"$f":"IF('Line 1 Source'!F1664<>\"\",'Line 1 Source'!F1664,\"\")","v":0}]
[{"$f":"IF('Line 1 Source'!A1665<>\"\",'Line 1 Source'!A1665,\"\")","v":"2018"},"6645455",{"$f":"CONCATENATE(VLOOKUP(B1665,'School List'!$B$3:$H$291,6,FALSE),H1665)","v":{"$error":"#N/A"}},{"$f":"CONCATENATE(VLOOKUP(B1665,'School List'!$B$3:$D$291,3,FALSE),H1665)","v":{"$error":"#N/A"}},{"$f":"IF('Line 1 Source'!B1665<>\"\",'Line 1 Source'!B1665,\"\")","v":"66"},{"$f":"IF('Line 1 Source'!C1665<>\"\",'Line 1 Source'!C1665,\"\")","v":"4"},{"$f":"IF('Line 1 Source'!D1665<>\"\",'Line 1 Source'!D1665,\"\")","v":"5455"},{"$f":"IF('Line 1 Source'!E1665<>\"\",'Line 1 Source'!E1665,\"\")","v":"6301"},{"$f":"IF('Line 1 Source'!F1665<>\"\",'Line 1 Source'!F1665,\"\")","v":0}]
[{"$f":"IF('Line 1 Source'!A1666<>\"\",'Line 1 Source'!A1666,\"\")","v":"2018"},"6645455",{"$f":"CONCATENATE(VLOOKUP(B1666,'School List'!$B$3:$H$291,6,FALSE),H1666)","v":{"$error":"#N/A"}},{"$f":"CONCATENATE(VLOOKUP(B1666,'School List'!$B$3:$D$291,3,FALSE),H1666)","v":{"$error":"#N/A"}},{"$f":"IF('Line 1 Source'!B1666<>\"\",'Line 1 Source'!B1666,\"\")","v":"66"},{"$f":"IF('Line 1 Source'!C1666<>\"\",'Line 1 Source'!C1666,\"\")","v":"4"},{"$f":"IF('Line 1 Source'!D1666<>\"\",'Line 1 Source'!D1666,\"\")","v":"5455"},{"$f":"IF('Line 1 Source'!E1666<>\"\",'Line 1 Source'!E1666,\"\")","v":"6302"},{"$f":"IF('Line 1 Source'!F1666<>\"\",'Line 1 Source'!F1666,\"\")","v":0}]
[{"$f":"IF('Line 1 Source'!A1667<>\"\",'Line 1 Source'!A1667,\"\")","v":"2018"},{"$f":"CONCATENATE(E1667,F1667,G1667)","v":"6646620"},{"$f":"CONCATENATE(VLOOKUP(B1667,'School List'!$B$3:$H$291,6,FALSE),H1667)","v":"66200061"},{"$f":"CONCATENATE(VLOOKUP(B1667,'School List'!$B$3:$D$291,3,FALSE),H1667)","v":"Pulaski County - EASTERN PULASKI COMMUNITY SCHOOL CORP0061"},{"$f":"IF('Line 1 Source'!B1667<>\"\",'Line 1 Source'!B1667,\"\")","v":"66"},{"$f":"IF('Line 1 Source'!C1667<>\"\",'Line 1 Source'!C1667,\"\")","v":"4"},{"$f":"IF('Line 1 Source'!D1667<>\"\",'Line 1 Source'!D1667,\"\")","v":"6620"},{"$f":"IF('Line 1 Source'!E1667<>\"\",'Line 1 Source'!E1667,\"\")","v":"0061"},{"$f":"IF('Line 1 Source'!F1667<>\"\",'Line 1 Source'!F1667,\"\")","v":1000000}]
[{"$f":"IF('Line 1 Source'!A1668<>\"\",'Line 1 Source'!A1668,\"\")","v":"2018"},"6646620",{"$f":"CONCATENATE(VLOOKUP(B1668,'School List'!$B$3:$H$291,6,FALSE),H1668)","v":"66200101"},{"$f":"CONCATENATE(VLOOKUP(B1668,'School List'!$B$3:$D$291,3,FALSE),H1668)","v":"Pulaski County - EASTERN PULASKI COMMUNITY SCHOOL CORP0101"},{"$f":"IF('Line 1 Source'!B1668<>\"\",'Line 1 Source'!B1668,\"\")","v":"66"},{"$f":"IF('Line 1 Source'!C1668<>\"\",'Line 1 Source'!C1668,\"\")","v":"4"},{"$f":"IF('Line 1 Source'!D1668<>\"\",'Line 1 Source'!D1668,\"\")","v":"6620"},{"$f":"IF('Line 1 Source'!E1668<>\"\",'Line 1 Source'!E1668,\"\")","v":"0101"},{"$f":"IF('Line 1 Source'!F1668<>\"\",'Line 1 Source'!F1668,\"\")","v":8792236}]
[{"$f":"IF('Line 1 Source'!A1669<>\"\",'Line 1 Source'!A1669,\"\")","v":"2018"},"6646620",{"$f":"CONCATENATE(VLOOKUP(B1669,'School List'!$B$3:$H$291,6,FALSE),H1669)","v":"66200180"},{"$f":"CONCATENATE(VLOOKUP(B1669,'School List'!$B$3:$D$291,3,FALSE),H1669)","v":"Pulaski County - EASTERN PULASKI COMMUNITY SCHOOL CORP0180"},{"$f":"IF('Line 1 Source'!B1669<>\"\",'Line 1 Source'!B1669,\"\")","v":"66"},{"$f":"IF('Line 1 Source'!C1669<>\"\",'Line 1 Source'!C1669,\"\")","v":"4"},{"$f":"IF('Line 1 Source'!D1669<>\"\",'Line 1 Source'!D1669,\"\")","v":"6620"},{"$f":"IF('Line 1 Source'!E1669<>\"\",'Line 1 Source'!E1669,\"\")","v":"0180"},{"$f":"IF('Line 1 Source'!F1669<>\"\",'Line 1 Source'!F1669,\"\")","v":1158424}]
[{"$f":"IF('Line 1 Source'!A1670<>\"\",'Line 1 Source'!A1670,\"\")","v":"2018"},"6646620",{"$f":"CONCATENATE(VLOOKUP(B1670,'School List'!$B$3:$H$291,6,FALSE),H1670)","v":"66200186"},{"$f":"CONCATENATE(VLOOKUP(B1670,'School List'!$B$3:$D$291,3,FALSE),H1670)","v":"Pulaski County - EASTERN PULASKI COMMUNITY SCHOOL CORP0186"},{"$f":"IF('Line 1 Source'!B1670<>\"\",'Line 1 Source'!B1670,\"\")","v":"66"},{"$f":"IF('Line 1 Source'!C1670<>\"\",'Line 1 Source'!C1670,\"\")","v":"4"},{"$f":"IF('Line 1 Source'!D1670<>\"\",'Line 1 Source'!D1670,\"\")","v":"6620"},{"$f":"IF('Line 1 Source'!E1670<>\"\",'Line 1 Source'!E1670,\"\")","v":"0186"},{"$f":"IF('Line 1 Source'!F1670<>\"\",'Line 1 Source'!F1670,\"\")","v":275268}]
[{"$f":"IF('Line 1 Source'!A1671<>\"\",'Line 1 Source'!A1671,\"\")","v":"2018"},"6646620",{"$f":"CONCATENATE(VLOOKUP(B1671,'School List'!$B$3:$H$291,6,FALSE),H1671)","v":"66201214"},{"$f":"CONCATENATE(VLOOKUP(B1671,'School List'!$B$3:$D$291,3,FALSE),H1671)","v":"Pulaski County - EASTERN PULASKI COMMUNITY SCHOOL CORP1214"},{"$f":"IF('Line 1 Source'!B1671<>\"\",'Line 1 Source'!B1671,\"\")","v":"66"},{"$f":"IF('Line 1 Source'!C1671<>\"\",'Line 1 Source'!C1671,\"\")","v":"4"},{"$f":"IF('Line 1 Source'!D1671<>\"\",'Line 1 Source'!D1671,\"\")","v":"6620"},{"$f":"IF('Line 1 Source'!E1671<>\"\",'Line 1 Source'!E1671,\"\")","v":"1214"},{"$f":"IF('Line 1 Source'!F1671<>\"\",'Line 1 Source'!F1671,\"\")","v":1971294}]
[{"$f":"IF('Line 1 Source'!A1672<>\"\",'Line 1 Source'!A1672,\"\")","v":"2018"},"6646620",{"$f":"CONCATENATE(VLOOKUP(B1672,'School List'!$B$3:$H$291,6,FALSE),H1672)","v":"66206301"},{"$f":"CONCATENATE(VLOOKUP(B1672,'School List'!$B$3:$D$291,3,FALSE),H1672)","v":"Pulaski County - EASTERN PULASKI COMMUNITY SCHOOL CORP6301"},{"$f":"IF('Line 1 Source'!B1672<>\"\",'Line 1 Source'!B1672,\"\")","v":"66"},{"$f":"IF('Line 1 Source'!C1672<>\"\",'Line 1 Source'!C1672,\"\")","v":"4"},{"$f":"IF('Line 1 Source'!D1672<>\"\",'Line 1 Source'!D1672,\"\")","v":"6620"},{"$f":"IF('Line 1 Source'!E1672<>\"\",'Line 1 Source'!E1672,\"\")","v":"6301"},{"$f":"IF('Line 1 Source'!F1672<>\"\",'Line 1 Source'!F1672,\"\")","v":1155350}]
[{"$f":"IF('Line 1 Source'!A1673<>\"\",'Line 1 Source'!A1673,\"\")","v":"2018"},"6646620",{"$f":"CONCATENATE(VLOOKUP(B1673,'School List'!$B$3:$H$291,6,FALSE),H1673)","v":"66206302"},{"$f":"CONCATENATE(VLOOKUP(B1673,'School List'!$B$3:$D$291,3,FALSE),H1673)","v":"Pulaski County - EASTERN PULASKI COMMUNITY SCHOOL CORP6302"},{"$f":"IF('Line 1 Source'!B1673<>\"\",'Line 1 Source'!B1673,\"\")","v":"66"},{"$f":"IF('Line 1 Source'!C1673<>\"\",'Line 1 Source'!C1673,\"\")","v":"4"},{"$f":"IF('Line 1 Source'!D1673<>\"\",'Line 1 Source'!D1673,\"\")","v":"6620"},{"$f":"IF('Line 1 Source'!E1673<>\"\",'Line 1 Source'!E1673,\"\")","v":"6302"},{"$f":"IF('Line 1 Source'!F1673<>\"\",'Line 1 Source'!F1673,\"\")","v":270000}]
[{"$f":"IF('Line 1 Source'!A1674<>\"\",'Line 1 Source'!A1674,\"\")","v":"2018"},"6646630",{"$f":"CONCATENATE(VLOOKUP(B1674,'School List'!$B$3:$H$291,6,FALSE),H1674)","v":"66300061"},{"$f":"CONCATENATE(VLOOKUP(B1674,'School List'!$B$3:$D$291,3,FALSE),H1674)","v":"Pulaski County - WEST CENTRAL SCHOOL CORPORATION0061"},{"$f":"IF('Line 1 Source'!B1674<>\"\",'Line 1 Source'!B1674,\"\")","v":"66"},{"$f":"IF('Line 1 Source'!C1674<>\"\",'Line 1 Source'!C1674,\"\")","v":"4"},{"$f":"IF('Line 1 Source'!D1674<>\"\",'Line 1 Source'!D1674,\"\")","v":"6630"},{"$f":"IF('Line 1 Source'!E1674<>\"\",'Line 1 Source'!E1674,\"\")","v":"0061"},{"$f":"IF('Line 1 Source'!F1674<>\"\",'Line 1 Source'!F1674,\"\")","v":700000}]
[{"$f":"IF('Line 1 Source'!A1675<>\"\",'Line 1 Source'!A1675,\"\")","v":"2018"},"6646630",{"$f":"CONCATENATE(VLOOKUP(B1675,'School List'!$B$3:$H$291,6,FALSE),H1675)","v":"66300101"},{"$f":"CONCATENATE(VLOOKUP(B1675,'School List'!$B$3:$D$291,3,FALSE),H1675)","v":"Pulaski County - WEST CENTRAL SCHOOL CORPORATION0101"},{"$f":"IF('Line 1 Source'!B1675<>\"\",'Line 1 Source'!B1675,\"\")","v":"66"},{"$f":"IF('Line 1 Source'!C1675<>\"\",'Line 1 Source'!C1675,\"\")","v":"4"},{"$f":"IF('Line 1 Source'!D1675<>\"\",'Line 1 Source'!D1675,\"\")","v":"6630"},{"$f":"IF('Line 1 Source'!E1675<>\"\",'Line 1 Source'!E1675,\"\")","v":"0101"},{"$f":"IF('Line 1 Source'!F1675<>\"\",'Line 1 Source'!F1675,\"\")","v":6170696}]
[{"$f":"IF('Line 1 Source'!A1676<>\"\",'Line 1 Source'!A1676,\"\")","v":"2018"},"6646630",{"$f":"CONCATENATE(VLOOKUP(B1676,'School List'!$B$3:$H$291,6,FALSE),H1676)","v":"66300180"},{"$f":"CONCATENATE(VLOOKUP(B1676,'School List'!$B$3:$D$291,3,FALSE),H1676)","v":"Pulaski County - WEST CENTRAL SCHOOL CORPORATION0180"},{"$f":"IF('Line 1 Source'!B1676<>\"\",'Line 1 Source'!B1676,\"\")","v":"66"},{"$f":"IF('Line 1 Source'!C1676<>\"\",'Line 1 Source'!C1676,\"\")","v":"4"},{"$f":"IF('Line 1 Source'!D1676<>\"\",'Line 1 Source'!D1676,\"\")","v":"6630"},{"$f":"IF('Line 1 Source'!E1676<>\"\",'Line 1 Source'!E1676,\"\")","v":"0180"},{"$f":"IF('Line 1 Source'!F1676<>\"\",'Line 1 Source'!F1676,\"\")","v":805185}]
[{"$f":"IF('Line 1 Source'!A1677<>\"\",'Line 1 Source'!A1677,\"\")","v":"2018"},"6646630",{"$f":"CONCATENATE(VLOOKUP(B1677,'School List'!$B$3:$H$291,6,FALSE),H1677)","v":"66301214"},{"$f":"CONCATENATE(VLOOKUP(B1677,'School List'!$B$3:$D$291,3,FALSE),H1677)","v":"Pulaski County - WEST CENTRAL SCHOOL CORPORATION1214"},{"$f":"IF('Line 1 Source'!B1677<>\"\",'Line 1 Source'!B1677,\"\")","v":"66"},{"$f":"IF('Line 1 Source'!C1677<>\"\",'Line 1 Source'!C1677,\"\")","v":"4"},{"$f":"IF('Line 1 Source'!D1677<>\"\",'Line 1 Source'!D1677,\"\")","v":"6630"},{"$f":"IF('Line 1 Source'!E1677<>\"\",'Line 1 Source'!E1677,\"\")","v":"1214"},{"$f":"IF('Line 1 Source'!F1677<>\"\",'Line 1 Source'!F1677,\"\")","v":1172467}]
[{"$f":"IF('Line 1 Source'!A1678<>\"\",'Line 1 Source'!A1678,\"\")","v":"2018"},"6646630",{"$f":"CONCATENATE(VLOOKUP(B1678,'School List'!$B$3:$H$291,6,FALSE),H1678)","v":"66306301"},{"$f":"CONCATENATE(VLOOKUP(B1678,'School List'!$B$3:$D$291,3,FALSE),H1678)","v":"Pulaski County - WEST CENTRAL SCHOOL CORPORATION6301"},{"$f":"IF('Line 1 Source'!B1678<>\"\",'Line 1 Source'!B1678,\"\")","v":"66"},{"$f":"IF('Line 1 Source'!C1678<>\"\",'Line 1 Source'!C1678,\"\")","v":"4"},{"$f":"IF('Line 1 Source'!D1678<>\"\",'Line 1 Source'!D1678,\"\")","v":"6630"},{"$f":"IF('Line 1 Source'!E1678<>\"\",'Line 1 Source'!E1678,\"\")","v":"6301"},{"$f":"IF('Line 1 Source'!F1678<>\"\",'Line 1 Source'!F1678,\"\")","v":599000}]
[{"$f":"IF('Line 1 Source'!A1679<>\"\",'Line 1 Source'!A1679,\"\")","v":"2018"},"6646630",{"$f":"CONCATENATE(VLOOKUP(B1679,'School List'!$B$3:$H$291,6,FALSE),H1679)","v":"66306302"},{"$f":"CONCATENATE(VLOOKUP(B1679,'School List'!$B$3:$D$291,3,FALSE),H1679)","v":"Pulaski County - WEST CENTRAL SCHOOL CORPORATION6302"},{"$f":"IF('Line 1 Source'!B1679<>\"\",'Line 1 Source'!B1679,\"\")","v":"66"},{"$f":"IF('Line 1 Source'!C1679<>\"\",'Line 1 Source'!C1679,\"\")","v":"4"},{"$f":"IF('Line 1 Source'!D1679<>\"\",'Line 1 Source'!D1679,\"\")","v":"6630"},{"$f":"IF('Line 1 Source'!E1679<>\"\",'Line 1 Source'!E1679,\"\")","v":"6302"},{"$f":"IF('Line 1 Source'!F1679<>\"\",'Line 1 Source'!F1679,\"\")","v":200000}]
[{"$f":"IF('Line 1 Source'!A1680<>\"\",'Line 1 Source'!A1680,\"\")","v":"2018"},"6647515",{"$f":"CONCATENATE(VLOOKUP(B1680,'School List'!$B$3:$H$291,6,FALSE),H1680)","v":{"$error":"#N/A"}},{"$f":"CONCATENATE(VLOOKUP(B1680,'School List'!$B$3:$D$291,3,FALSE),H1680)","v":{"$error":"#N/A"}},{"$f":"IF('Line 1 Source'!B1680<>\"\",'Line 1 Source'!B1680,\"\")","v":"66"},{"$f":"IF('Line 1 Source'!C1680<>\"\",'Line 1 Source'!C1680,\"\")","v":"4"},{"$f":"IF('Line 1 Source'!D1680<>\"\",'Line 1 Source'!D1680,\"\")","v":"7515"},{"$f":"IF('Line 1 Source'!E1680<>\"\",'Line 1 Source'!E1680,\"\")","v":"0061"},{"$f":"IF('Line 1 Source'!F1680<>\"\",'Line 1 Source'!F1680,\"\")","v":0}]
[{"$f":"IF('Line 1 Source'!A1681<>\"\",'Line 1 Source'!A1681,\"\")","v":"2018"},"6647515",{"$f":"CONCATENATE(VLOOKUP(B1681,'School List'!$B$3:$H$291,6,FALSE),H1681)","v":{"$error":"#N/A"}},{"$f":"CONCATENATE(VLOOKUP(B1681,'School List'!$B$3:$D$291,3,FALSE),H1681)","v":{"$error":"#N/A"}},{"$f":"IF('Line 1 Source'!B1681<>\"\",'Line 1 Source'!B1681,\"\")","v":"66"},{"$f":"IF('Line 1 Source'!C1681<>\"\",'Line 1 Source'!C1681,\"\")","v":"4"},{"$f":"IF('Line 1 Source'!D1681<>\"\",'Line 1 Source'!D1681,\"\")","v":"7515"},{"$f":"IF('Line 1 Source'!E1681<>\"\",'Line 1 Source'!E1681,\"\")","v":"0101"},{"$f":"IF('Line 1 Source'!F1681<>\"\",'Line 1 Source'!F1681,\"\")","v":0}]
[{"$f":"IF('Line 1 Source'!A1682<>\"\",'Line 1 Source'!A1682,\"\")","v":"2018"},"6647515",{"$f":"CONCATENATE(VLOOKUP(B1682,'School List'!$B$3:$H$291,6,FALSE),H1682)","v":{"$error":"#N/A"}},{"$f":"CONCATENATE(VLOOKUP(B1682,'School List'!$B$3:$D$291,3,FALSE),H1682)","v":{"$error":"#N/A"}},{"$f":"IF('Line 1 Source'!B1682<>\"\",'Line 1 Source'!B1682,\"\")","v":"66"},{"$f":"IF('Line 1 Source'!C1682<>\"\",'Line 1 Source'!C1682,\"\")","v":"4"},{"$f":"IF('Line 1 Source'!D1682<>\"\",'Line 1 Source'!D1682,\"\")","v":"7515"},{"$f":"IF('Line 1 Source'!E1682<>\"\",'Line 1 Source'!E1682,\"\")","v":"0180"},{"$f":"IF('Line 1 Source'!F1682<>\"\",'Line 1 Source'!F1682,\"\")","v":0}]
[{"$f":"IF('Line 1 Source'!A1683<>\"\",'Line 1 Source'!A1683,\"\")","v":"2018"},"6647515",{"$f":"CONCATENATE(VLOOKUP(B1683,'School List'!$B$3:$H$291,6,FALSE),H1683)","v":{"$error":"#N/A"}},{"$f":"CONCATENATE(VLOOKUP(B1683,'School List'!$B$3:$D$291,3,FALSE),H1683)","v":{"$error":"#N/A"}},{"$f":"IF('Line 1 Source'!B1683<>\"\",'Line 1 Source'!B1683,\"\")","v":"66"},{"$f":"IF('Line 1 Source'!C1683<>\"\",'Line 1 Source'!C1683,\"\")","v":"4"},{"$f":"IF('Line 1 Source'!D1683<>\"\",'Line 1 Source'!D1683,\"\")","v":"7515"},{"$f":"IF('Line 1 Source'!E1683<>\"\",'Line 1 Source'!E1683,\"\")","v":"0186"},{"$f":"IF('Line 1 Source'!F1683<>\"\",'Line 1 Source'!F1683,\"\")","v":0}]
[{"$f":"IF('Line 1 Source'!A1684<>\"\",'Line 1 Source'!A1684,\"\")","v":"2018"},"6647515",{"$f":"CONCATENATE(VLOOKUP(B1684,'School List'!$B$3:$H$291,6,FALSE),H1684)","v":{"$error":"#N/A"}},{"$f":"CONCATENATE(VLOOKUP(B1684,'School List'!$B$3:$D$291,3,FALSE),H1684)","v":{"$error":"#N/A"}},{"$f":"IF('Line 1 Source'!B1684<>\"\",'Line 1 Source'!B1684,\"\")","v":"66"},{"$f":"IF('Line 1 Source'!C1684<>\"\",'Line 1 Source'!C1684,\"\")","v":"4"},{"$f":"IF('Line 1 Source'!D1684<>\"\",'Line 1 Source'!D1684,\"\")","v":"7515"},{"$f":"IF('Line 1 Source'!E1684<>\"\",'Line 1 Source'!E1684,\"\")","v":"1214"},{"$f":"IF('Line 1 Source'!F1684<>\"\",'Line 1 Source'!F1684,\"\")","v":0}]
[{"$f":"IF('Line 1 Source'!A1685<>\"\",'Line 1 Source'!A1685,\"\")","v":"2018"},"6647515",{"$f":"CONCATENATE(VLOOKUP(B1685,'School List'!$B$3:$H$291,6,FALSE),H1685)","v":{"$error":"#N/A"}},{"$f":"CONCATENATE(VLOOKUP(B1685,'School List'!$B$3:$D$291,3,FALSE),H1685)","v":{"$error":"#N/A"}},{"$f":"IF('Line 1 Source'!B1685<>\"\",'Line 1 Source'!B1685,\"\")","v":"66"},{"$f":"IF('Line 1 Source'!C1685<>\"\",'Line 1 Source'!C1685,\"\")","v":"4"},{"$f":"IF('Line 1 Source'!D1685<>\"\",'Line 1 Source'!D1685,\"\")","v":"7515"},{"$f":"IF('Line 1 Source'!E1685<>\"\",'Line 1 Source'!E1685,\"\")","v":"6301"},{"$f":"IF('Line 1 Source'!F1685<>\"\",'Line 1 Source'!F1685,\"\")","v":0}]
[{"$f":"IF('Line 1 Source'!A1686<>\"\",'Line 1 Source'!A1686,\"\")","v":"2018"},"6647515",{"$f":"CONCATENATE(VLOOKUP(B1686,'School List'!$B$3:$H$291,6,FALSE),H1686)","v":{"$error":"#N/A"}},{"$f":"CONCATENATE(VLOOKUP(B1686,'School List'!$B$3:$D$291,3,FALSE),H1686)","v":{"$error":"#N/A"}},{"$f":"IF('Line 1 Source'!B1686<>\"\",'Line 1 Source'!B1686,\"\")","v":"66"},{"$f":"IF('Line 1 Source'!C1686<>\"\",'Line 1 Source'!C1686,\"\")","v":"4"},{"$f":"IF('Line 1 Source'!D1686<>\"\",'Line 1 Source'!D1686,\"\")","v":"7515"},{"$f":"IF('Line 1 Source'!E1686<>\"\",'Line 1 Source'!E1686,\"\")","v":"6302"},{"$f":"IF('Line 1 Source'!F1686<>\"\",'Line 1 Source'!F1686,\"\")","v":0}]
[{"$f":"IF('Line 1 Source'!A1687<>\"\",'Line 1 Source'!A1687,\"\")","v":"2018"},"6746705",{"$f":"CONCATENATE(VLOOKUP(B1687,'School List'!$B$3:$H$291,6,FALSE),H1687)","v":"67050101"},{"$f":"CONCATENATE(VLOOKUP(B1687,'School List'!$B$3:$D$291,3,FALSE),H1687)","v":"Putnam County - SOUTH PUTNAM COMMUNITY SCHOOL CORP0101"},{"$f":"IF('Line 1 Source'!B1687<>\"\",'Line 1 Source'!B1687,\"\")","v":"67"},{"$f":"IF('Line 1 Source'!C1687<>\"\",'Line 1 Source'!C1687,\"\")","v":"4"},{"$f":"IF('Line 1 Source'!D1687<>\"\",'Line 1 Source'!D1687,\"\")","v":"6705"},{"$f":"IF('Line 1 Source'!E1687<>\"\",'Line 1 Source'!E1687,\"\")","v":"0101"},{"$f":"IF('Line 1 Source'!F1687<>\"\",'Line 1 Source'!F1687,\"\")","v":8446467}]
[{"$f":"IF('Line 1 Source'!A1688<>\"\",'Line 1 Source'!A1688,\"\")","v":"2018"},"6746705",{"$f":"CONCATENATE(VLOOKUP(B1688,'School List'!$B$3:$H$291,6,FALSE),H1688)","v":"67050180"},{"$f":"CONCATENATE(VLOOKUP(B1688,'School List'!$B$3:$D$291,3,FALSE),H1688)","v":"Putnam County - SOUTH PUTNAM COMMUNITY SCHOOL CORP0180"},{"$f":"IF('Line 1 Source'!B1688<>\"\",'Line 1 Source'!B1688,\"\")","v":"67"},{"$f":"IF('Line 1 Source'!C1688<>\"\",'Line 1 Source'!C1688,\"\")","v":"4"},{"$f":"IF('Line 1 Source'!D1688<>\"\",'Line 1 Source'!D1688,\"\")","v":"6705"},{"$f":"IF('Line 1 Source'!E1688<>\"\",'Line 1 Source'!E1688,\"\")","v":"0180"},{"$f":"IF('Line 1 Source'!F1688<>\"\",'Line 1 Source'!F1688,\"\")","v":2391404}]
[{"$f":"IF('Line 1 Source'!A1689<>\"\",'Line 1 Source'!A1689,\"\")","v":"2018"},"6746705",{"$f":"CONCATENATE(VLOOKUP(B1689,'School List'!$B$3:$H$291,6,FALSE),H1689)","v":"67050186"},{"$f":"CONCATENATE(VLOOKUP(B1689,'School List'!$B$3:$D$291,3,FALSE),H1689)","v":"Putnam County - SOUTH PUTNAM COMMUNITY SCHOOL CORP0186"},{"$f":"IF('Line 1 Source'!B1689<>\"\",'Line 1 Source'!B1689,\"\")","v":"67"},{"$f":"IF('Line 1 Source'!C1689<>\"\",'Line 1 Source'!C1689,\"\")","v":"4"},{"$f":"IF('Line 1 Source'!D1689<>\"\",'Line 1 Source'!D1689,\"\")","v":"6705"},{"$f":"IF('Line 1 Source'!E1689<>\"\",'Line 1 Source'!E1689,\"\")","v":"0186"},{"$f":"IF('Line 1 Source'!F1689<>\"\",'Line 1 Source'!F1689,\"\")","v":238973}]
[{"$f":"IF('Line 1 Source'!A1690<>\"\",'Line 1 Source'!A1690,\"\")","v":"2018"},"6746705",{"$f":"CONCATENATE(VLOOKUP(B1690,'School List'!$B$3:$H$291,6,FALSE),H1690)","v":"67051214"},{"$f":"CONCATENATE(VLOOKUP(B1690,'School List'!$B$3:$D$291,3,FALSE),H1690)","v":"Putnam County - SOUTH PUTNAM COMMUNITY SCHOOL CORP1214"},{"$f":"IF('Line 1 Source'!B1690<>\"\",'Line 1 Source'!B1690,\"\")","v":"67"},{"$f":"IF('Line 1 Source'!C1690<>\"\",'Line 1 Source'!C1690,\"\")","v":"4"},{"$f":"IF('Line 1 Source'!D1690<>\"\",'Line 1 Source'!D1690,\"\")","v":"6705"},{"$f":"IF('Line 1 Source'!E1690<>\"\",'Line 1 Source'!E1690,\"\")","v":"1214"},{"$f":"IF('Line 1 Source'!F1690<>\"\",'Line 1 Source'!F1690,\"\")","v":1040794}]
[{"$f":"IF('Line 1 Source'!A1691<>\"\",'Line 1 Source'!A1691,\"\")","v":"2018"},"6746705",{"$f":"CONCATENATE(VLOOKUP(B1691,'School List'!$B$3:$H$291,6,FALSE),H1691)","v":"67056301"},{"$f":"CONCATENATE(VLOOKUP(B1691,'School List'!$B$3:$D$291,3,FALSE),H1691)","v":"Putnam County - SOUTH PUTNAM COMMUNITY SCHOOL CORP6301"},{"$f":"IF('Line 1 Source'!B1691<>\"\",'Line 1 Source'!B1691,\"\")","v":"67"},{"$f":"IF('Line 1 Source'!C1691<>\"\",'Line 1 Source'!C1691,\"\")","v":"4"},{"$f":"IF('Line 1 Source'!D1691<>\"\",'Line 1 Source'!D1691,\"\")","v":"6705"},{"$f":"IF('Line 1 Source'!E1691<>\"\",'Line 1 Source'!E1691,\"\")","v":"6301"},{"$f":"IF('Line 1 Source'!F1691<>\"\",'Line 1 Source'!F1691,\"\")","v":868042}]
[{"$f":"IF('Line 1 Source'!A1692<>\"\",'Line 1 Source'!A1692,\"\")","v":"2018"},"6746705",{"$f":"CONCATENATE(VLOOKUP(B1692,'School List'!$B$3:$H$291,6,FALSE),H1692)","v":"67056302"},{"$f":"CONCATENATE(VLOOKUP(B1692,'School List'!$B$3:$D$291,3,FALSE),H1692)","v":"Putnam County - SOUTH PUTNAM COMMUNITY SCHOOL CORP6302"},{"$f":"IF('Line 1 Source'!B1692<>\"\",'Line 1 Source'!B1692,\"\")","v":"67"},{"$f":"IF('Line 1 Source'!C1692<>\"\",'Line 1 Source'!C1692,\"\")","v":"4"},{"$f":"IF('Line 1 Source'!D1692<>\"\",'Line 1 Source'!D1692,\"\")","v":"6705"},{"$f":"IF('Line 1 Source'!E1692<>\"\",'Line 1 Source'!E1692,\"\")","v":"6302"},{"$f":"IF('Line 1 Source'!F1692<>\"\",'Line 1 Source'!F1692,\"\")","v":272277}]
[{"$f":"IF('Line 1 Source'!A1693<>\"\",'Line 1 Source'!A1693,\"\")","v":"2018"},"6746715",{"$f":"CONCATENATE(VLOOKUP(B1693,'School List'!$B$3:$H$291,6,FALSE),H1693)","v":"67150061"},{"$f":"CONCATENATE(VLOOKUP(B1693,'School List'!$B$3:$D$291,3,FALSE),H1693)","v":"Putnam County - NORTH PUTNAM COMMUNITY SCHOOL CORP0061"},{"$f":"IF('Line 1 Source'!B1693<>\"\",'Line 1 Source'!B1693,\"\")","v":"67"},{"$f":"IF('Line 1 Source'!C1693<>\"\",'Line 1 Source'!C1693,\"\")","v":"4"},{"$f":"IF('Line 1 Source'!D1693<>\"\",'Line 1 Source'!D1693,\"\")","v":"6715"},{"$f":"IF('Line 1 Source'!E1693<>\"\",'Line 1 Source'!E1693,\"\")","v":"0061"},{"$f":"IF('Line 1 Source'!F1693<>\"\",'Line 1 Source'!F1693,\"\")","v":700000}]
[{"$f":"IF('Line 1 Source'!A1694<>\"\",'Line 1 Source'!A1694,\"\")","v":"2018"},"6746715",{"$f":"CONCATENATE(VLOOKUP(B1694,'School List'!$B$3:$H$291,6,FALSE),H1694)","v":"67150101"},{"$f":"CONCATENATE(VLOOKUP(B1694,'School List'!$B$3:$D$291,3,FALSE),H1694)","v":"Putnam County - NORTH PUTNAM COMMUNITY SCHOOL CORP0101"},{"$f":"IF('Line 1 Source'!B1694<>\"\",'Line 1 Source'!B1694,\"\")","v":"67"},{"$f":"IF('Line 1 Source'!C1694<>\"\",'Line 1 Source'!C1694,\"\")","v":"4"},{"$f":"IF('Line 1 Source'!D1694<>\"\",'Line 1 Source'!D1694,\"\")","v":"6715"},{"$f":"IF('Line 1 Source'!E1694<>\"\",'Line 1 Source'!E1694,\"\")","v":"0101"},{"$f":"IF('Line 1 Source'!F1694<>\"\",'Line 1 Source'!F1694,\"\")","v":11625500}]
[{"$f":"IF('Line 1 Source'!A1695<>\"\",'Line 1 Source'!A1695,\"\")","v":"2018"},"6746715",{"$f":"CONCATENATE(VLOOKUP(B1695,'School List'!$B$3:$H$291,6,FALSE),H1695)","v":"67150180"},{"$f":"CONCATENATE(VLOOKUP(B1695,'School List'!$B$3:$D$291,3,FALSE),H1695)","v":"Putnam County - NORTH PUTNAM COMMUNITY SCHOOL CORP0180"},{"$f":"IF('Line 1 Source'!B1695<>\"\",'Line 1 Source'!B1695,\"\")","v":"67"},{"$f":"IF('Line 1 Source'!C1695<>\"\",'Line 1 Source'!C1695,\"\")","v":"4"},{"$f":"IF('Line 1 Source'!D1695<>\"\",'Line 1 Source'!D1695,\"\")","v":"6715"},{"$f":"IF('Line 1 Source'!E1695<>\"\",'Line 1 Source'!E1695,\"\")","v":"0180"},{"$f":"IF('Line 1 Source'!F1695<>\"\",'Line 1 Source'!F1695,\"\")","v":1316397}]
[{"$f":"IF('Line 1 Source'!A1696<>\"\",'Line 1 Source'!A1696,\"\")","v":"2018"},"6746715",{"$f":"CONCATENATE(VLOOKUP(B1696,'School List'!$B$3:$H$291,6,FALSE),H1696)","v":"67150186"},{"$f":"CONCATENATE(VLOOKUP(B1696,'School List'!$B$3:$D$291,3,FALSE),H1696)","v":"Putnam County - NORTH PUTNAM COMMUNITY SCHOOL CORP0186"},{"$f":"IF('Line 1 Source'!B1696<>\"\",'Line 1 Source'!B1696,\"\")","v":"67"},{"$f":"IF('Line 1 Source'!C1696<>\"\",'Line 1 Source'!C1696,\"\")","v":"4"},{"$f":"IF('Line 1 Source'!D1696<>\"\",'Line 1 Source'!D1696,\"\")","v":"6715"},{"$f":"IF('Line 1 Source'!E1696<>\"\",'Line 1 Source'!E1696,\"\")","v":"0186"},{"$f":"IF('Line 1 Source'!F1696<>\"\",'Line 1 Source'!F1696,\"\")","v":231319}]
[{"$f":"IF('Line 1 Source'!A1697<>\"\",'Line 1 Source'!A1697,\"\")","v":"2018"},"6746715",{"$f":"CONCATENATE(VLOOKUP(B1697,'School List'!$B$3:$H$291,6,FALSE),H1697)","v":"67151214"},{"$f":"CONCATENATE(VLOOKUP(B1697,'School List'!$B$3:$D$291,3,FALSE),H1697)","v":"Putnam County - NORTH PUTNAM COMMUNITY SCHOOL CORP1214"},{"$f":"IF('Line 1 Source'!B1697<>\"\",'Line 1 Source'!B1697,\"\")","v":"67"},{"$f":"IF('Line 1 Source'!C1697<>\"\",'Line 1 Source'!C1697,\"\")","v":"4"},{"$f":"IF('Line 1 Source'!D1697<>\"\",'Line 1 Source'!D1697,\"\")","v":"6715"},{"$f":"IF('Line 1 Source'!E1697<>\"\",'Line 1 Source'!E1697,\"\")","v":"1214"},{"$f":"IF('Line 1 Source'!F1697<>\"\",'Line 1 Source'!F1697,\"\")","v":1830415}]
[{"$f":"IF('Line 1 Source'!A1698<>\"\",'Line 1 Source'!A1698,\"\")","v":"2018"},"6746715",{"$f":"CONCATENATE(VLOOKUP(B1698,'School List'!$B$3:$H$291,6,FALSE),H1698)","v":"67156301"},{"$f":"CONCATENATE(VLOOKUP(B1698,'School List'!$B$3:$D$291,3,FALSE),H1698)","v":"Putnam County - NORTH PUTNAM COMMUNITY SCHOOL CORP6301"},{"$f":"IF('Line 1 Source'!B1698<>\"\",'Line 1 Source'!B1698,\"\")","v":"67"},{"$f":"IF('Line 1 Source'!C1698<>\"\",'Line 1 Source'!C1698,\"\")","v":"4"},{"$f":"IF('Line 1 Source'!D1698<>\"\",'Line 1 Source'!D1698,\"\")","v":"6715"},{"$f":"IF('Line 1 Source'!E1698<>\"\",'Line 1 Source'!E1698,\"\")","v":"6301"},{"$f":"IF('Line 1 Source'!F1698<>\"\",'Line 1 Source'!F1698,\"\")","v":1631000}]
[{"$f":"IF('Line 1 Source'!A1699<>\"\",'Line 1 Source'!A1699,\"\")","v":"2018"},"6746715",{"$f":"CONCATENATE(VLOOKUP(B1699,'School List'!$B$3:$H$291,6,FALSE),H1699)","v":"67156302"},{"$f":"CONCATENATE(VLOOKUP(B1699,'School List'!$B$3:$D$291,3,FALSE),H1699)","v":"Putnam County - NORTH PUTNAM COMMUNITY SCHOOL CORP6302"},{"$f":"IF('Line 1 Source'!B1699<>\"\",'Line 1 Source'!B1699,\"\")","v":"67"},{"$f":"IF('Line 1 Source'!C1699<>\"\",'Line 1 Source'!C1699,\"\")","v":"4"},{"$f":"IF('Line 1 Source'!D1699<>\"\",'Line 1 Source'!D1699,\"\")","v":"6715"},{"$f":"IF('Line 1 Source'!E1699<>\"\",'Line 1 Source'!E1699,\"\")","v":"6302"},{"$f":"IF('Line 1 Source'!F1699<>\"\",'Line 1 Source'!F1699,\"\")","v":380000}]
[{"$f":"IF('Line 1 Source'!A1700<>\"\",'Line 1 Source'!A1700,\"\")","v":"2018"},"6746750",{"$f":"CONCATENATE(VLOOKUP(B1700,'School List'!$B$3:$H$291,6,FALSE),H1700)","v":"67500061"},{"$f":"CONCATENATE(VLOOKUP(B1700,'School List'!$B$3:$D$291,3,FALSE),H1700)","v":"Putnam County - CLOVERDALE COMMUNITY SCHOOL CORPORATION0061"},{"$f":"IF('Line 1 Source'!B1700<>\"\",'Line 1 Source'!B1700,\"\")","v":"67"},{"$f":"IF('Line 1 Source'!C1700<>\"\",'Line 1 Source'!C1700,\"\")","v":"4"},{"$f":"IF('Line 1 Source'!D1700<>\"\",'Line 1 Source'!D1700,\"\")","v":"6750"},{"$f":"IF('Line 1 Source'!E1700<>\"\",'Line 1 Source'!E1700,\"\")","v":"0061"},{"$f":"IF('Line 1 Source'!F1700<>\"\",'Line 1 Source'!F1700,\"\")","v":1000000}]
[{"$f":"IF('Line 1 Source'!A1701<>\"\",'Line 1 Source'!A1701,\"\")","v":"2018"},"6746750",{"$f":"CONCATENATE(VLOOKUP(B1701,'School List'!$B$3:$H$291,6,FALSE),H1701)","v":"67500101"},{"$f":"CONCATENATE(VLOOKUP(B1701,'School List'!$B$3:$D$291,3,FALSE),H1701)","v":"Putnam County - CLOVERDALE COMMUNITY SCHOOL CORPORATION0101"},{"$f":"IF('Line 1 Source'!B1701<>\"\",'Line 1 Source'!B1701,\"\")","v":"67"},{"$f":"IF('Line 1 Source'!C1701<>\"\",'Line 1 Source'!C1701,\"\")","v":"4"},{"$f":"IF('Line 1 Source'!D1701<>\"\",'Line 1 Source'!D1701,\"\")","v":"6750"},{"$f":"IF('Line 1 Source'!E1701<>\"\",'Line 1 Source'!E1701,\"\")","v":"0101"},{"$f":"IF('Line 1 Source'!F1701<>\"\",'Line 1 Source'!F1701,\"\")","v":8313521}]
[{"$f":"IF('Line 1 Source'!A1702<>\"\",'Line 1 Source'!A1702,\"\")","v":"2018"},"6746750",{"$f":"CONCATENATE(VLOOKUP(B1702,'School List'!$B$3:$H$291,6,FALSE),H1702)","v":"67500180"},{"$f":"CONCATENATE(VLOOKUP(B1702,'School List'!$B$3:$D$291,3,FALSE),H1702)","v":"Putnam County - CLOVERDALE COMMUNITY SCHOOL CORPORATION0180"},{"$f":"IF('Line 1 Source'!B1702<>\"\",'Line 1 Source'!B1702,\"\")","v":"67"},{"$f":"IF('Line 1 Source'!C1702<>\"\",'Line 1 Source'!C1702,\"\")","v":"4"},{"$f":"IF('Line 1 Source'!D1702<>\"\",'Line 1 Source'!D1702,\"\")","v":"6750"},{"$f":"IF('Line 1 Source'!E1702<>\"\",'Line 1 Source'!E1702,\"\")","v":"0180"},{"$f":"IF('Line 1 Source'!F1702<>\"\",'Line 1 Source'!F1702,\"\")","v":1872415}]
[{"$f":"IF('Line 1 Source'!A1703<>\"\",'Line 1 Source'!A1703,\"\")","v":"2018"},"6746750",{"$f":"CONCATENATE(VLOOKUP(B1703,'School List'!$B$3:$H$291,6,FALSE),H1703)","v":"67500186"},{"$f":"CONCATENATE(VLOOKUP(B1703,'School List'!$B$3:$D$291,3,FALSE),H1703)","v":"Putnam County - CLOVERDALE COMMUNITY SCHOOL CORPORATION0186"},{"$f":"IF('Line 1 Source'!B1703<>\"\",'Line 1 Source'!B1703,\"\")","v":"67"},{"$f":"IF('Line 1 Source'!C1703<>\"\",'Line 1 Source'!C1703,\"\")","v":"4"},{"$f":"IF('Line 1 Source'!D1703<>\"\",'Line 1 Source'!D1703,\"\")","v":"6750"},{"$f":"IF('Line 1 Source'!E1703<>\"\",'Line 1 Source'!E1703,\"\")","v":"0186"},{"$f":"IF('Line 1 Source'!F1703<>\"\",'Line 1 Source'!F1703,\"\")","v":169673}]
[{"$f":"IF('Line 1 Source'!A1704<>\"\",'Line 1 Source'!A1704,\"\")","v":"2018"},"6746750",{"$f":"CONCATENATE(VLOOKUP(B1704,'School List'!$B$3:$H$291,6,FALSE),H1704)","v":"67501214"},{"$f":"CONCATENATE(VLOOKUP(B1704,'School List'!$B$3:$D$291,3,FALSE),H1704)","v":"Putnam County - CLOVERDALE COMMUNITY SCHOOL CORPORATION1214"},{"$f":"IF('Line 1 Source'!B1704<>\"\",'Line 1 Source'!B1704,\"\")","v":"67"},{"$f":"IF('Line 1 Source'!C1704<>\"\",'Line 1 Source'!C1704,\"\")","v":"4"},{"$f":"IF('Line 1 Source'!D1704<>\"\",'Line 1 Source'!D1704,\"\")","v":"6750"},{"$f":"IF('Line 1 Source'!E1704<>\"\",'Line 1 Source'!E1704,\"\")","v":"1214"},{"$f":"IF('Line 1 Source'!F1704<>\"\",'Line 1 Source'!F1704,\"\")","v":1091140}]
[{"$f":"IF('Line 1 Source'!A1705<>\"\",'Line 1 Source'!A1705,\"\")","v":"2018"},"6746750",{"$f":"CONCATENATE(VLOOKUP(B1705,'School List'!$B$3:$H$291,6,FALSE),H1705)","v":"67506301"},{"$f":"CONCATENATE(VLOOKUP(B1705,'School List'!$B$3:$D$291,3,FALSE),H1705)","v":"Putnam County - CLOVERDALE COMMUNITY SCHOOL CORPORATION6301"},{"$f":"IF('Line 1 Source'!B1705<>\"\",'Line 1 Source'!B1705,\"\")","v":"67"},{"$f":"IF('Line 1 Source'!C1705<>\"\",'Line 1 Source'!C1705,\"\")","v":"4"},{"$f":"IF('Line 1 Source'!D1705<>\"\",'Line 1 Source'!D1705,\"\")","v":"6750"},{"$f":"IF('Line 1 Source'!E1705<>\"\",'Line 1 Source'!E1705,\"\")","v":"6301"},{"$f":"IF('Line 1 Source'!F1705<>\"\",'Line 1 Source'!F1705,\"\")","v":1139862}]
[{"$f":"IF('Line 1 Source'!A1706<>\"\",'Line 1 Source'!A1706,\"\")","v":"2018"},"6746750",{"$f":"CONCATENATE(VLOOKUP(B1706,'School List'!$B$3:$H$291,6,FALSE),H1706)","v":"67506302"},{"$f":"CONCATENATE(VLOOKUP(B1706,'School List'!$B$3:$D$291,3,FALSE),H1706)","v":"Putnam County - CLOVERDALE COMMUNITY SCHOOL CORPORATION6302"},{"$f":"IF('Line 1 Source'!B1706<>\"\",'Line 1 Source'!B1706,\"\")","v":"67"},{"$f":"IF('Line 1 Source'!C1706<>\"\",'Line 1 Source'!C1706,\"\")","v":"4"},{"$f":"IF('Line 1 Source'!D1706<>\"\",'Line 1 Source'!D1706,\"\")","v":"6750"},{"$f":"IF('Line 1 Source'!E1706<>\"\",'Line 1 Source'!E1706,\"\")","v":"6302"},{"$f":"IF('Line 1 Source'!F1706<>\"\",'Line 1 Source'!F1706,\"\")","v":125000}]
[{"$f":"IF('Line 1 Source'!A1707<>\"\",'Line 1 Source'!A1707,\"\")","v":"2018"},"6746755",{"$f":"CONCATENATE(VLOOKUP(B1707,'School List'!$B$3:$H$291,6,FALSE),H1707)","v":"67550061"},{"$f":"CONCATENATE(VLOOKUP(B1707,'School List'!$B$3:$D$291,3,FALSE),H1707)","v":"Putnam County - GREENCASTLE COMMUNITY SCHOOL CORPORATION0061"},{"$f":"IF('Line 1 Source'!B1707<>\"\",'Line 1 Source'!B1707,\"\")","v":"67"},{"$f":"IF('Line 1 Source'!C1707<>\"\",'Line 1 Source'!C1707,\"\")","v":"4"},{"$f":"IF('Line 1 Source'!D1707<>\"\",'Line 1 Source'!D1707,\"\")","v":"6755"},{"$f":"IF('Line 1 Source'!E1707<>\"\",'Line 1 Source'!E1707,\"\")","v":"0061"},{"$f":"IF('Line 1 Source'!F1707<>\"\",'Line 1 Source'!F1707,\"\")","v":1000000}]
[{"$f":"IF('Line 1 Source'!A1708<>\"\",'Line 1 Source'!A1708,\"\")","v":"2018"},"6746755",{"$f":"CONCATENATE(VLOOKUP(B1708,'School List'!$B$3:$H$291,6,FALSE),H1708)","v":"67550101"},{"$f":"CONCATENATE(VLOOKUP(B1708,'School List'!$B$3:$D$291,3,FALSE),H1708)","v":"Putnam County - GREENCASTLE COMMUNITY SCHOOL CORPORATION0101"},{"$f":"IF('Line 1 Source'!B1708<>\"\",'Line 1 Source'!B1708,\"\")","v":"67"},{"$f":"IF('Line 1 Source'!C1708<>\"\",'Line 1 Source'!C1708,\"\")","v":"4"},{"$f":"IF('Line 1 Source'!D1708<>\"\",'Line 1 Source'!D1708,\"\")","v":"6755"},{"$f":"IF('Line 1 Source'!E1708<>\"\",'Line 1 Source'!E1708,\"\")","v":"0101"},{"$f":"IF('Line 1 Source'!F1708<>\"\",'Line 1 Source'!F1708,\"\")","v":13172000}]
[{"$f":"IF('Line 1 Source'!A1709<>\"\",'Line 1 Source'!A1709,\"\")","v":"2018"},"6746755",{"$f":"CONCATENATE(VLOOKUP(B1709,'School List'!$B$3:$H$291,6,FALSE),H1709)","v":"67550180"},{"$f":"CONCATENATE(VLOOKUP(B1709,'School List'!$B$3:$D$291,3,FALSE),H1709)","v":"Putnam County - GREENCASTLE COMMUNITY SCHOOL CORPORATION0180"},{"$f":"IF('Line 1 Source'!B1709<>\"\",'Line 1 Source'!B1709,\"\")","v":"67"},{"$f":"IF('Line 1 Source'!C1709<>\"\",'Line 1 Source'!C1709,\"\")","v":"4"},{"$f":"IF('Line 1 Source'!D1709<>\"\",'Line 1 Source'!D1709,\"\")","v":"6755"},{"$f":"IF('Line 1 Source'!E1709<>\"\",'Line 1 Source'!E1709,\"\")","v":"0180"},{"$f":"IF('Line 1 Source'!F1709<>\"\",'Line 1 Source'!F1709,\"\")","v":3469918}]
[{"$f":"IF('Line 1 Source'!A1710<>\"\",'Line 1 Source'!A1710,\"\")","v":"2018"},"6746755",{"$f":"CONCATENATE(VLOOKUP(B1710,'School List'!$B$3:$H$291,6,FALSE),H1710)","v":"67550186"},{"$f":"CONCATENATE(VLOOKUP(B1710,'School List'!$B$3:$D$291,3,FALSE),H1710)","v":"Putnam County - GREENCASTLE COMMUNITY SCHOOL CORPORATION0186"},{"$f":"IF('Line 1 Source'!B1710<>\"\",'Line 1 Source'!B1710,\"\")","v":"67"},{"$f":"IF('Line 1 Source'!C1710<>\"\",'Line 1 Source'!C1710,\"\")","v":"4"},{"$f":"IF('Line 1 Source'!D1710<>\"\",'Line 1 Source'!D1710,\"\")","v":"6755"},{"$f":"IF('Line 1 Source'!E1710<>\"\",'Line 1 Source'!E1710,\"\")","v":"0186"},{"$f":"IF('Line 1 Source'!F1710<>\"\",'Line 1 Source'!F1710,\"\")","v":244373}]
[{"$f":"IF('Line 1 Source'!A1711<>\"\",'Line 1 Source'!A1711,\"\")","v":"2018"},"6746755",{"$f":"CONCATENATE(VLOOKUP(B1711,'School List'!$B$3:$H$291,6,FALSE),H1711)","v":"67551214"},{"$f":"CONCATENATE(VLOOKUP(B1711,'School List'!$B$3:$D$291,3,FALSE),H1711)","v":"Putnam County - GREENCASTLE COMMUNITY SCHOOL CORPORATION1214"},{"$f":"IF('Line 1 Source'!B1711<>\"\",'Line 1 Source'!B1711,\"\")","v":"67"},{"$f":"IF('Line 1 Source'!C1711<>\"\",'Line 1 Source'!C1711,\"\")","v":"4"},{"$f":"IF('Line 1 Source'!D1711<>\"\",'Line 1 Source'!D1711,\"\")","v":"6755"},{"$f":"IF('Line 1 Source'!E1711<>\"\",'Line 1 Source'!E1711,\"\")","v":"1214"},{"$f":"IF('Line 1 Source'!F1711<>\"\",'Line 1 Source'!F1711,\"\")","v":1982605}]
[{"$f":"IF('Line 1 Source'!A1712<>\"\",'Line 1 Source'!A1712,\"\")","v":"2018"},"6746755",{"$f":"CONCATENATE(VLOOKUP(B1712,'School List'!$B$3:$H$291,6,FALSE),H1712)","v":"67556301"},{"$f":"CONCATENATE(VLOOKUP(B1712,'School List'!$B$3:$D$291,3,FALSE),H1712)","v":"Putnam County - GREENCASTLE COMMUNITY SCHOOL CORPORATION6301"},{"$f":"IF('Line 1 Source'!B1712<>\"\",'Line 1 Source'!B1712,\"\")","v":"67"},{"$f":"IF('Line 1 Source'!C1712<>\"\",'Line 1 Source'!C1712,\"\")","v":"4"},{"$f":"IF('Line 1 Source'!D1712<>\"\",'Line 1 Source'!D1712,\"\")","v":"6755"},{"$f":"IF('Line 1 Source'!E1712<>\"\",'Line 1 Source'!E1712,\"\")","v":"6301"},{"$f":"IF('Line 1 Source'!F1712<>\"\",'Line 1 Source'!F1712,\"\")","v":1126007}]
[{"$f":"IF('Line 1 Source'!A1713<>\"\",'Line 1 Source'!A1713,\"\")","v":"2018"},"6746755",{"$f":"CONCATENATE(VLOOKUP(B1713,'School List'!$B$3:$H$291,6,FALSE),H1713)","v":"67556302"},{"$f":"CONCATENATE(VLOOKUP(B1713,'School List'!$B$3:$D$291,3,FALSE),H1713)","v":"Putnam County - GREENCASTLE COMMUNITY SCHOOL CORPORATION6302"},{"$f":"IF('Line 1 Source'!B1713<>\"\",'Line 1 Source'!B1713,\"\")","v":"67"},{"$f":"IF('Line 1 Source'!C1713<>\"\",'Line 1 Source'!C1713,\"\")","v":"4"},{"$f":"IF('Line 1 Source'!D1713<>\"\",'Line 1 Source'!D1713,\"\")","v":"6755"},{"$f":"IF('Line 1 Source'!E1713<>\"\",'Line 1 Source'!E1713,\"\")","v":"6302"},{"$f":"IF('Line 1 Source'!F1713<>\"\",'Line 1 Source'!F1713,\"\")","v":326798}]
[{"$f":"IF('Line 1 Source'!A1714<>\"\",'Line 1 Source'!A1714,\"\")","v":"2018"},"6846795",{"$f":"CONCATENATE(VLOOKUP(B1714,'School List'!$B$3:$H$291,6,FALSE),H1714)","v":"67950061"},{"$f":"CONCATENATE(VLOOKUP(B1714,'School List'!$B$3:$D$291,3,FALSE),H1714)","v":"Randolph County - UNION SCHOOL CORPORATION0061"},{"$f":"IF('Line 1 Source'!B1714<>\"\",'Line 1 Source'!B1714,\"\")","v":"68"},{"$f":"IF('Line 1 Source'!C1714<>\"\",'Line 1 Source'!C1714,\"\")","v":"4"},{"$f":"IF('Line 1 Source'!D1714<>\"\",'Line 1 Source'!D1714,\"\")","v":"6795"},{"$f":"IF('Line 1 Source'!E1714<>\"\",'Line 1 Source'!E1714,\"\")","v":"0061"},{"$f":"IF('Line 1 Source'!F1714<>\"\",'Line 1 Source'!F1714,\"\")","v":280168}]
[{"$f":"IF('Line 1 Source'!A1715<>\"\",'Line 1 Source'!A1715,\"\")","v":"2018"},"6846795",{"$f":"CONCATENATE(VLOOKUP(B1715,'School List'!$B$3:$H$291,6,FALSE),H1715)","v":"67950101"},{"$f":"CONCATENATE(VLOOKUP(B1715,'School List'!$B$3:$D$291,3,FALSE),H1715)","v":"Randolph County - UNION SCHOOL CORPORATION0101"},{"$f":"IF('Line 1 Source'!B1715<>\"\",'Line 1 Source'!B1715,\"\")","v":"68"},{"$f":"IF('Line 1 Source'!C1715<>\"\",'Line 1 Source'!C1715,\"\")","v":"4"},{"$f":"IF('Line 1 Source'!D1715<>\"\",'Line 1 Source'!D1715,\"\")","v":"6795"},{"$f":"IF('Line 1 Source'!E1715<>\"\",'Line 1 Source'!E1715,\"\")","v":"0101"},{"$f":"IF('Line 1 Source'!F1715<>\"\",'Line 1 Source'!F1715,\"\")","v":3918626}]
[{"$f":"IF('Line 1 Source'!A1716<>\"\",'Line 1 Source'!A1716,\"\")","v":"2018"},"6846795",{"$f":"CONCATENATE(VLOOKUP(B1716,'School List'!$B$3:$H$291,6,FALSE),H1716)","v":"67950180"},{"$f":"CONCATENATE(VLOOKUP(B1716,'School List'!$B$3:$D$291,3,FALSE),H1716)","v":"Randolph County - UNION SCHOOL CORPORATION0180"},{"$f":"IF('Line 1 Source'!B1716<>\"\",'Line 1 Source'!B1716,\"\")","v":"68"},{"$f":"IF('Line 1 Source'!C1716<>\"\",'Line 1 Source'!C1716,\"\")","v":"4"},{"$f":"IF('Line 1 Source'!D1716<>\"\",'Line 1 Source'!D1716,\"\")","v":"6795"},{"$f":"IF('Line 1 Source'!E1716<>\"\",'Line 1 Source'!E1716,\"\")","v":"0180"},{"$f":"IF('Line 1 Source'!F1716<>\"\",'Line 1 Source'!F1716,\"\")","v":381411}]
[{"$f":"IF('Line 1 Source'!A1717<>\"\",'Line 1 Source'!A1717,\"\")","v":"2018"},"6846795",{"$f":"CONCATENATE(VLOOKUP(B1717,'School List'!$B$3:$H$291,6,FALSE),H1717)","v":"67950186"},{"$f":"CONCATENATE(VLOOKUP(B1717,'School List'!$B$3:$D$291,3,FALSE),H1717)","v":"Randolph County - UNION SCHOOL CORPORATION0186"},{"$f":"IF('Line 1 Source'!B1717<>\"\",'Line 1 Source'!B1717,\"\")","v":"68"},{"$f":"IF('Line 1 Source'!C1717<>\"\",'Line 1 Source'!C1717,\"\")","v":"4"},{"$f":"IF('Line 1 Source'!D1717<>\"\",'Line 1 Source'!D1717,\"\")","v":"6795"},{"$f":"IF('Line 1 Source'!E1717<>\"\",'Line 1 Source'!E1717,\"\")","v":"0186"},{"$f":"IF('Line 1 Source'!F1717<>\"\",'Line 1 Source'!F1717,\"\")","v":132305}]
[{"$f":"IF('Line 1 Source'!A1718<>\"\",'Line 1 Source'!A1718,\"\")","v":"2018"},"6846795",{"$f":"CONCATENATE(VLOOKUP(B1718,'School List'!$B$3:$H$291,6,FALSE),H1718)","v":"67951214"},{"$f":"CONCATENATE(VLOOKUP(B1718,'School List'!$B$3:$D$291,3,FALSE),H1718)","v":"Randolph County - UNION SCHOOL CORPORATION1214"},{"$f":"IF('Line 1 Source'!B1718<>\"\",'Line 1 Source'!B1718,\"\")","v":"68"},{"$f":"IF('Line 1 Source'!C1718<>\"\",'Line 1 Source'!C1718,\"\")","v":"4"},{"$f":"IF('Line 1 Source'!D1718<>\"\",'Line 1 Source'!D1718,\"\")","v":"6795"},{"$f":"IF('Line 1 Source'!E1718<>\"\",'Line 1 Source'!E1718,\"\")","v":"1214"},{"$f":"IF('Line 1 Source'!F1718<>\"\",'Line 1 Source'!F1718,\"\")","v":341103}]
[{"$f":"IF('Line 1 Source'!A1719<>\"\",'Line 1 Source'!A1719,\"\")","v":"2018"},"6846795",{"$f":"CONCATENATE(VLOOKUP(B1719,'School List'!$B$3:$H$291,6,FALSE),H1719)","v":"67956301"},{"$f":"CONCATENATE(VLOOKUP(B1719,'School List'!$B$3:$D$291,3,FALSE),H1719)","v":"Randolph County - UNION SCHOOL CORPORATION6301"},{"$f":"IF('Line 1 Source'!B1719<>\"\",'Line 1 Source'!B1719,\"\")","v":"68"},{"$f":"IF('Line 1 Source'!C1719<>\"\",'Line 1 Source'!C1719,\"\")","v":"4"},{"$f":"IF('Line 1 Source'!D1719<>\"\",'Line 1 Source'!D1719,\"\")","v":"6795"},{"$f":"IF('Line 1 Source'!E1719<>\"\",'Line 1 Source'!E1719,\"\")","v":"6301"},{"$f":"IF('Line 1 Source'!F1719<>\"\",'Line 1 Source'!F1719,\"\")","v":422800}]
[{"$f":"IF('Line 1 Source'!A1720<>\"\",'Line 1 Source'!A1720,\"\")","v":"2018"},"6846795",{"$f":"CONCATENATE(VLOOKUP(B1720,'School List'!$B$3:$H$291,6,FALSE),H1720)","v":"67956302"},{"$f":"CONCATENATE(VLOOKUP(B1720,'School List'!$B$3:$D$291,3,FALSE),H1720)","v":"Randolph County - UNION SCHOOL CORPORATION6302"},{"$f":"IF('Line 1 Source'!B1720<>\"\",'Line 1 Source'!B1720,\"\")","v":"68"},{"$f":"IF('Line 1 Source'!C1720<>\"\",'Line 1 Source'!C1720,\"\")","v":"4"},{"$f":"IF('Line 1 Source'!D1720<>\"\",'Line 1 Source'!D1720,\"\")","v":"6795"},{"$f":"IF('Line 1 Source'!E1720<>\"\",'Line 1 Source'!E1720,\"\")","v":"6302"},{"$f":"IF('Line 1 Source'!F1720<>\"\",'Line 1 Source'!F1720,\"\")","v":178000}]
[{"$f":"IF('Line 1 Source'!A1721<>\"\",'Line 1 Source'!A1721,\"\")","v":"2018"},"6846805",{"$f":"CONCATENATE(VLOOKUP(B1721,'School List'!$B$3:$H$291,6,FALSE),H1721)","v":"68050061"},{"$f":"CONCATENATE(VLOOKUP(B1721,'School List'!$B$3:$D$291,3,FALSE),H1721)","v":"Randolph County - RANDOLPH SOUTHERN SCHOOL CORPORATION0061"},{"$f":"IF('Line 1 Source'!B1721<>\"\",'Line 1 Source'!B1721,\"\")","v":"68"},{"$f":"IF('Line 1 Source'!C1721<>\"\",'Line 1 Source'!C1721,\"\")","v":"4"},{"$f":"IF('Line 1 Source'!D1721<>\"\",'Line 1 Source'!D1721,\"\")","v":"6805"},{"$f":"IF('Line 1 Source'!E1721<>\"\",'Line 1 Source'!E1721,\"\")","v":"0061"},{"$f":"IF('Line 1 Source'!F1721<>\"\",'Line 1 Source'!F1721,\"\")","v":300000}]
[{"$f":"IF('Line 1 Source'!A1722<>\"\",'Line 1 Source'!A1722,\"\")","v":"2018"},"6846805",{"$f":"CONCATENATE(VLOOKUP(B1722,'School List'!$B$3:$H$291,6,FALSE),H1722)","v":"68050101"},{"$f":"CONCATENATE(VLOOKUP(B1722,'School List'!$B$3:$D$291,3,FALSE),H1722)","v":"Randolph County - RANDOLPH SOUTHERN SCHOOL CORPORATION0101"},{"$f":"IF('Line 1 Source'!B1722<>\"\",'Line 1 Source'!B1722,\"\")","v":"68"},{"$f":"IF('Line 1 Source'!C1722<>\"\",'Line 1 Source'!C1722,\"\")","v":"4"},{"$f":"IF('Line 1 Source'!D1722<>\"\",'Line 1 Source'!D1722,\"\")","v":"6805"},{"$f":"IF('Line 1 Source'!E1722<>\"\",'Line 1 Source'!E1722,\"\")","v":"0101"},{"$f":"IF('Line 1 Source'!F1722<>\"\",'Line 1 Source'!F1722,\"\")","v":3537162}]
[{"$f":"IF('Line 1 Source'!A1723<>\"\",'Line 1 Source'!A1723,\"\")","v":"2018"},"6846805",{"$f":"CONCATENATE(VLOOKUP(B1723,'School List'!$B$3:$H$291,6,FALSE),H1723)","v":"68050180"},{"$f":"CONCATENATE(VLOOKUP(B1723,'School List'!$B$3:$D$291,3,FALSE),H1723)","v":"Randolph County - RANDOLPH SOUTHERN SCHOOL CORPORATION0180"},{"$f":"IF('Line 1 Source'!B1723<>\"\",'Line 1 Source'!B1723,\"\")","v":"68"},{"$f":"IF('Line 1 Source'!C1723<>\"\",'Line 1 Source'!C1723,\"\")","v":"4"},{"$f":"IF('Line 1 Source'!D1723<>\"\",'Line 1 Source'!D1723,\"\")","v":"6805"},{"$f":"IF('Line 1 Source'!E1723<>\"\",'Line 1 Source'!E1723,\"\")","v":"0180"},{"$f":"IF('Line 1 Source'!F1723<>\"\",'Line 1 Source'!F1723,\"\")","v":566215}]
[{"$f":"IF('Line 1 Source'!A1724<>\"\",'Line 1 Source'!A1724,\"\")","v":"2018"},"6846805",{"$f":"CONCATENATE(VLOOKUP(B1724,'School List'!$B$3:$H$291,6,FALSE),H1724)","v":"68051214"},{"$f":"CONCATENATE(VLOOKUP(B1724,'School List'!$B$3:$D$291,3,FALSE),H1724)","v":"Randolph County - RANDOLPH SOUTHERN SCHOOL CORPORATION1214"},{"$f":"IF('Line 1 Source'!B1724<>\"\",'Line 1 Source'!B1724,\"\")","v":"68"},{"$f":"IF('Line 1 Source'!C1724<>\"\",'Line 1 Source'!C1724,\"\")","v":"4"},{"$f":"IF('Line 1 Source'!D1724<>\"\",'Line 1 Source'!D1724,\"\")","v":"6805"},{"$f":"IF('Line 1 Source'!E1724<>\"\",'Line 1 Source'!E1724,\"\")","v":"1214"},{"$f":"IF('Line 1 Source'!F1724<>\"\",'Line 1 Source'!F1724,\"\")","v":559577}]
[{"$f":"IF('Line 1 Source'!A1725<>\"\",'Line 1 Source'!A1725,\"\")","v":"2018"},"6846805",{"$f":"CONCATENATE(VLOOKUP(B1725,'School List'!$B$3:$H$291,6,FALSE),H1725)","v":"68056301"},{"$f":"CONCATENATE(VLOOKUP(B1725,'School List'!$B$3:$D$291,3,FALSE),H1725)","v":"Randolph County - RANDOLPH SOUTHERN SCHOOL CORPORATION6301"},{"$f":"IF('Line 1 Source'!B1725<>\"\",'Line 1 Source'!B1725,\"\")","v":"68"},{"$f":"IF('Line 1 Source'!C1725<>\"\",'Line 1 Source'!C1725,\"\")","v":"4"},{"$f":"IF('Line 1 Source'!D1725<>\"\",'Line 1 Source'!D1725,\"\")","v":"6805"},{"$f":"IF('Line 1 Source'!E1725<>\"\",'Line 1 Source'!E1725,\"\")","v":"6301"},{"$f":"IF('Line 1 Source'!F1725<>\"\",'Line 1 Source'!F1725,\"\")","v":410106}]
[{"$f":"IF('Line 1 Source'!A1726<>\"\",'Line 1 Source'!A1726,\"\")","v":"2018"},"6846805",{"$f":"CONCATENATE(VLOOKUP(B1726,'School List'!$B$3:$H$291,6,FALSE),H1726)","v":"68056302"},{"$f":"CONCATENATE(VLOOKUP(B1726,'School List'!$B$3:$D$291,3,FALSE),H1726)","v":"Randolph County - RANDOLPH SOUTHERN SCHOOL CORPORATION6302"},{"$f":"IF('Line 1 Source'!B1726<>\"\",'Line 1 Source'!B1726,\"\")","v":"68"},{"$f":"IF('Line 1 Source'!C1726<>\"\",'Line 1 Source'!C1726,\"\")","v":"4"},{"$f":"IF('Line 1 Source'!D1726<>\"\",'Line 1 Source'!D1726,\"\")","v":"6805"},{"$f":"IF('Line 1 Source'!E1726<>\"\",'Line 1 Source'!E1726,\"\")","v":"6302"},{"$f":"IF('Line 1 Source'!F1726<>\"\",'Line 1 Source'!F1726,\"\")","v":140000}]
[{"$f":"IF('Line 1 Source'!A1727<>\"\",'Line 1 Source'!A1727,\"\")","v":"2018"},"6846820",{"$f":"CONCATENATE(VLOOKUP(B1727,'School List'!$B$3:$H$291,6,FALSE),H1727)","v":"68200101"},{"$f":"CONCATENATE(VLOOKUP(B1727,'School List'!$B$3:$D$291,3,FALSE),H1727)","v":"Randolph County - MONROE CENTRAL SCHOOL CORPORATION0101"},{"$f":"IF('Line 1 Source'!B1727<>\"\",'Line 1 Source'!B1727,\"\")","v":"68"},{"$f":"IF('Line 1 Source'!C1727<>\"\",'Line 1 Source'!C1727,\"\")","v":"4"},{"$f":"IF('Line 1 Source'!D1727<>\"\",'Line 1 Source'!D1727,\"\")","v":"6820"},{"$f":"IF('Line 1 Source'!E1727<>\"\",'Line 1 Source'!E1727,\"\")","v":"0101"},{"$f":"IF('Line 1 Source'!F1727<>\"\",'Line 1 Source'!F1727,\"\")","v":7274080}]
[{"$f":"IF('Line 1 Source'!A1728<>\"\",'Line 1 Source'!A1728,\"\")","v":"2018"},"6846820",{"$f":"CONCATENATE(VLOOKUP(B1728,'School List'!$B$3:$H$291,6,FALSE),H1728)","v":"68200180"},{"$f":"CONCATENATE(VLOOKUP(B1728,'School List'!$B$3:$D$291,3,FALSE),H1728)","v":"Randolph County - MONROE CENTRAL SCHOOL CORPORATION0180"},{"$f":"IF('Line 1 Source'!B1728<>\"\",'Line 1 Source'!B1728,\"\")","v":"68"},{"$f":"IF('Line 1 Source'!C1728<>\"\",'Line 1 Source'!C1728,\"\")","v":"4"},{"$f":"IF('Line 1 Source'!D1728<>\"\",'Line 1 Source'!D1728,\"\")","v":"6820"},{"$f":"IF('Line 1 Source'!E1728<>\"\",'Line 1 Source'!E1728,\"\")","v":"0180"},{"$f":"IF('Line 1 Source'!F1728<>\"\",'Line 1 Source'!F1728,\"\")","v":967438}]
[{"$f":"IF('Line 1 Source'!A1729<>\"\",'Line 1 Source'!A1729,\"\")","v":"2018"},"6846820",{"$f":"CONCATENATE(VLOOKUP(B1729,'School List'!$B$3:$H$291,6,FALSE),H1729)","v":"68200186"},{"$f":"CONCATENATE(VLOOKUP(B1729,'School List'!$B$3:$D$291,3,FALSE),H1729)","v":"Randolph County - MONROE CENTRAL SCHOOL CORPORATION0186"},{"$f":"IF('Line 1 Source'!B1729<>\"\",'Line 1 Source'!B1729,\"\")","v":"68"},{"$f":"IF('Line 1 Source'!C1729<>\"\",'Line 1 Source'!C1729,\"\")","v":"4"},{"$f":"IF('Line 1 Source'!D1729<>\"\",'Line 1 Source'!D1729,\"\")","v":"6820"},{"$f":"IF('Line 1 Source'!E1729<>\"\",'Line 1 Source'!E1729,\"\")","v":"0186"},{"$f":"IF('Line 1 Source'!F1729<>\"\",'Line 1 Source'!F1729,\"\")","v":143911}]
[{"$f":"IF('Line 1 Source'!A1730<>\"\",'Line 1 Source'!A1730,\"\")","v":"2018"},"6846820",{"$f":"CONCATENATE(VLOOKUP(B1730,'School List'!$B$3:$H$291,6,FALSE),H1730)","v":"68201214"},{"$f":"CONCATENATE(VLOOKUP(B1730,'School List'!$B$3:$D$291,3,FALSE),H1730)","v":"Randolph County - MONROE CENTRAL SCHOOL CORPORATION1214"},{"$f":"IF('Line 1 Source'!B1730<>\"\",'Line 1 Source'!B1730,\"\")","v":"68"},{"$f":"IF('Line 1 Source'!C1730<>\"\",'Line 1 Source'!C1730,\"\")","v":"4"},{"$f":"IF('Line 1 Source'!D1730<>\"\",'Line 1 Source'!D1730,\"\")","v":"6820"},{"$f":"IF('Line 1 Source'!E1730<>\"\",'Line 1 Source'!E1730,\"\")","v":"1214"},{"$f":"IF('Line 1 Source'!F1730<>\"\",'Line 1 Source'!F1730,\"\")","v":667943}]
[{"$f":"IF('Line 1 Source'!A1731<>\"\",'Line 1 Source'!A1731,\"\")","v":"2018"},{"$f":"CONCATENATE(E1731,F1731,G1731)","v":"6846820"},{"$f":"CONCATENATE(VLOOKUP(B1731,'School List'!$B$3:$H$291,6,FALSE),H1731)","v":"68206301"},{"$f":"CONCATENATE(VLOOKUP(B1731,'School List'!$B$3:$D$291,3,FALSE),H1731)","v":"Randolph County - MONROE CENTRAL SCHOOL CORPORATION6301"},{"$f":"IF('Line 1 Source'!B1731<>\"\",'Line 1 Source'!B1731,\"\")","v":"68"},{"$f":"IF('Line 1 Source'!C1731<>\"\",'Line 1 Source'!C1731,\"\")","v":"4"},{"$f":"IF('Line 1 Source'!D1731<>\"\",'Line 1 Source'!D1731,\"\")","v":"6820"},{"$f":"IF('Line 1 Source'!E1731<>\"\",'Line 1 Source'!E1731,\"\")","v":"6301"},{"$f":"IF('Line 1 Source'!F1731<>\"\",'Line 1 Source'!F1731,\"\")","v":837122}]
[{"$f":"IF('Line 1 Source'!A1732<>\"\",'Line 1 Source'!A1732,\"\")","v":"2018"},"6846820",{"$f":"CONCATENATE(VLOOKUP(B1732,'School List'!$B$3:$H$291,6,FALSE),H1732)","v":"68206302"},{"$f":"CONCATENATE(VLOOKUP(B1732,'School List'!$B$3:$D$291,3,FALSE),H1732)","v":"Randolph County - MONROE CENTRAL SCHOOL CORPORATION6302"},{"$f":"IF('Line 1 Source'!B1732<>\"\",'Line 1 Source'!B1732,\"\")","v":"68"},{"$f":"IF('Line 1 Source'!C1732<>\"\",'Line 1 Source'!C1732,\"\")","v":"4"},{"$f":"IF('Line 1 Source'!D1732<>\"\",'Line 1 Source'!D1732,\"\")","v":"6820"},{"$f":"IF('Line 1 Source'!E1732<>\"\",'Line 1 Source'!E1732,\"\")","v":"6302"},{"$f":"IF('Line 1 Source'!F1732<>\"\",'Line 1 Source'!F1732,\"\")","v":188086}]
[{"$f":"IF('Line 1 Source'!A1733<>\"\",'Line 1 Source'!A1733,\"\")","v":"2018"},"6846825",{"$f":"CONCATENATE(VLOOKUP(B1733,'School List'!$B$3:$H$291,6,FALSE),H1733)","v":"68250101"},{"$f":"CONCATENATE(VLOOKUP(B1733,'School List'!$B$3:$D$291,3,FALSE),H1733)","v":"Randolph County - RANDOLPH CENTRAL SCHOOL CORPORATION0101"},{"$f":"IF('Line 1 Source'!B1733<>\"\",'Line 1 Source'!B1733,\"\")","v":"68"},{"$f":"IF('Line 1 Source'!C1733<>\"\",'Line 1 Source'!C1733,\"\")","v":"4"},{"$f":"IF('Line 1 Source'!D1733<>\"\",'Line 1 Source'!D1733,\"\")","v":"6825"},{"$f":"IF('Line 1 Source'!E1733<>\"\",'Line 1 Source'!E1733,\"\")","v":"0101"},{"$f":"IF('Line 1 Source'!F1733<>\"\",'Line 1 Source'!F1733,\"\")","v":10458140}]
[{"$f":"IF('Line 1 Source'!A1734<>\"\",'Line 1 Source'!A1734,\"\")","v":"2018"},"6846825",{"$f":"CONCATENATE(VLOOKUP(B1734,'School List'!$B$3:$H$291,6,FALSE),H1734)","v":"68250180"},{"$f":"CONCATENATE(VLOOKUP(B1734,'School List'!$B$3:$D$291,3,FALSE),H1734)","v":"Randolph County - RANDOLPH CENTRAL SCHOOL CORPORATION0180"},{"$f":"IF('Line 1 Source'!B1734<>\"\",'Line 1 Source'!B1734,\"\")","v":"68"},{"$f":"IF('Line 1 Source'!C1734<>\"\",'Line 1 Source'!C1734,\"\")","v":"4"},{"$f":"IF('Line 1 Source'!D1734<>\"\",'Line 1 Source'!D1734,\"\")","v":"6825"},{"$f":"IF('Line 1 Source'!E1734<>\"\",'Line 1 Source'!E1734,\"\")","v":"0180"},{"$f":"IF('Line 1 Source'!F1734<>\"\",'Line 1 Source'!F1734,\"\")","v":1315300}]
[{"$f":"IF('Line 1 Source'!A1735<>\"\",'Line 1 Source'!A1735,\"\")","v":"2018"},"6846825",{"$f":"CONCATENATE(VLOOKUP(B1735,'School List'!$B$3:$H$291,6,FALSE),H1735)","v":"68250186"},{"$f":"CONCATENATE(VLOOKUP(B1735,'School List'!$B$3:$D$291,3,FALSE),H1735)","v":"Randolph County - RANDOLPH CENTRAL SCHOOL CORPORATION0186"},{"$f":"IF('Line 1 Source'!B1735<>\"\",'Line 1 Source'!B1735,\"\")","v":"68"},{"$f":"IF('Line 1 Source'!C1735<>\"\",'Line 1 Source'!C1735,\"\")","v":"4"},{"$f":"IF('Line 1 Source'!D1735<>\"\",'Line 1 Source'!D1735,\"\")","v":"6825"},{"$f":"IF('Line 1 Source'!E1735<>\"\",'Line 1 Source'!E1735,\"\")","v":"0186"},{"$f":"IF('Line 1 Source'!F1735<>\"\",'Line 1 Source'!F1735,\"\")","v":266439}]
[{"$f":"IF('Line 1 Source'!A1736<>\"\",'Line 1 Source'!A1736,\"\")","v":"2018"},"6846825",{"$f":"CONCATENATE(VLOOKUP(B1736,'School List'!$B$3:$H$291,6,FALSE),H1736)","v":"68251214"},{"$f":"CONCATENATE(VLOOKUP(B1736,'School List'!$B$3:$D$291,3,FALSE),H1736)","v":"Randolph County - RANDOLPH CENTRAL SCHOOL CORPORATION1214"},{"$f":"IF('Line 1 Source'!B1736<>\"\",'Line 1 Source'!B1736,\"\")","v":"68"},{"$f":"IF('Line 1 Source'!C1736<>\"\",'Line 1 Source'!C1736,\"\")","v":"4"},{"$f":"IF('Line 1 Source'!D1736<>\"\",'Line 1 Source'!D1736,\"\")","v":"6825"},{"$f":"IF('Line 1 Source'!E1736<>\"\",'Line 1 Source'!E1736,\"\")","v":"1214"},{"$f":"IF('Line 1 Source'!F1736<>\"\",'Line 1 Source'!F1736,\"\")","v":1349197}]
[{"$f":"IF('Line 1 Source'!A1737<>\"\",'Line 1 Source'!A1737,\"\")","v":"2018"},"6846825",{"$f":"CONCATENATE(VLOOKUP(B1737,'School List'!$B$3:$H$291,6,FALSE),H1737)","v":"68256301"},{"$f":"CONCATENATE(VLOOKUP(B1737,'School List'!$B$3:$D$291,3,FALSE),H1737)","v":"Randolph County - RANDOLPH CENTRAL SCHOOL CORPORATION6301"},{"$f":"IF('Line 1 Source'!B1737<>\"\",'Line 1 Source'!B1737,\"\")","v":"68"},{"$f":"IF('Line 1 Source'!C1737<>\"\",'Line 1 Source'!C1737,\"\")","v":"4"},{"$f":"IF('Line 1 Source'!D1737<>\"\",'Line 1 Source'!D1737,\"\")","v":"6825"},{"$f":"IF('Line 1 Source'!E1737<>\"\",'Line 1 Source'!E1737,\"\")","v":"6301"},{"$f":"IF('Line 1 Source'!F1737<>\"\",'Line 1 Source'!F1737,\"\")","v":916382}]
[{"$f":"IF('Line 1 Source'!A1738<>\"\",'Line 1 Source'!A1738,\"\")","v":"2018"},"6846825",{"$f":"CONCATENATE(VLOOKUP(B1738,'School List'!$B$3:$H$291,6,FALSE),H1738)","v":"68256302"},{"$f":"CONCATENATE(VLOOKUP(B1738,'School List'!$B$3:$D$291,3,FALSE),H1738)","v":"Randolph County - RANDOLPH CENTRAL SCHOOL CORPORATION6302"},{"$f":"IF('Line 1 Source'!B1738<>\"\",'Line 1 Source'!B1738,\"\")","v":"68"},{"$f":"IF('Line 1 Source'!C1738<>\"\",'Line 1 Source'!C1738,\"\")","v":"4"},{"$f":"IF('Line 1 Source'!D1738<>\"\",'Line 1 Source'!D1738,\"\")","v":"6825"},{"$f":"IF('Line 1 Source'!E1738<>\"\",'Line 1 Source'!E1738,\"\")","v":"6302"},{"$f":"IF('Line 1 Source'!F1738<>\"\",'Line 1 Source'!F1738,\"\")","v":230000}]
[{"$f":"IF('Line 1 Source'!A1739<>\"\",'Line 1 Source'!A1739,\"\")","v":"2018"},"6846835",{"$f":"CONCATENATE(VLOOKUP(B1739,'School List'!$B$3:$H$291,6,FALSE),H1739)","v":"68350061"},{"$f":"CONCATENATE(VLOOKUP(B1739,'School List'!$B$3:$D$291,3,FALSE),H1739)","v":"Randolph County - RANDOLPH EASTERN SCHOOL CORPORATION0061"},{"$f":"IF('Line 1 Source'!B1739<>\"\",'Line 1 Source'!B1739,\"\")","v":"68"},{"$f":"IF('Line 1 Source'!C1739<>\"\",'Line 1 Source'!C1739,\"\")","v":"4"},{"$f":"IF('Line 1 Source'!D1739<>\"\",'Line 1 Source'!D1739,\"\")","v":"6835"},{"$f":"IF('Line 1 Source'!E1739<>\"\",'Line 1 Source'!E1739,\"\")","v":"0061"},{"$f":"IF('Line 1 Source'!F1739<>\"\",'Line 1 Source'!F1739,\"\")","v":704000}]
[{"$f":"IF('Line 1 Source'!A1740<>\"\",'Line 1 Source'!A1740,\"\")","v":"2018"},"6846835",{"$f":"CONCATENATE(VLOOKUP(B1740,'School List'!$B$3:$H$291,6,FALSE),H1740)","v":"68350101"},{"$f":"CONCATENATE(VLOOKUP(B1740,'School List'!$B$3:$D$291,3,FALSE),H1740)","v":"Randolph County - RANDOLPH EASTERN SCHOOL CORPORATION0101"},{"$f":"IF('Line 1 Source'!B1740<>\"\",'Line 1 Source'!B1740,\"\")","v":"68"},{"$f":"IF('Line 1 Source'!C1740<>\"\",'Line 1 Source'!C1740,\"\")","v":"4"},{"$f":"IF('Line 1 Source'!D1740<>\"\",'Line 1 Source'!D1740,\"\")","v":"6835"},{"$f":"IF('Line 1 Source'!E1740<>\"\",'Line 1 Source'!E1740,\"\")","v":"0101"},{"$f":"IF('Line 1 Source'!F1740<>\"\",'Line 1 Source'!F1740,\"\")","v":6328449}]
[{"$f":"IF('Line 1 Source'!A1741<>\"\",'Line 1 Source'!A1741,\"\")","v":"2018"},"6846835",{"$f":"CONCATENATE(VLOOKUP(B1741,'School List'!$B$3:$H$291,6,FALSE),H1741)","v":"68350180"},{"$f":"CONCATENATE(VLOOKUP(B1741,'School List'!$B$3:$D$291,3,FALSE),H1741)","v":"Randolph County - RANDOLPH EASTERN SCHOOL CORPORATION0180"},{"$f":"IF('Line 1 Source'!B1741<>\"\",'Line 1 Source'!B1741,\"\")","v":"68"},{"$f":"IF('Line 1 Source'!C1741<>\"\",'Line 1 Source'!C1741,\"\")","v":"4"},{"$f":"IF('Line 1 Source'!D1741<>\"\",'Line 1 Source'!D1741,\"\")","v":"6835"},{"$f":"IF('Line 1 Source'!E1741<>\"\",'Line 1 Source'!E1741,\"\")","v":"0180"},{"$f":"IF('Line 1 Source'!F1741<>\"\",'Line 1 Source'!F1741,\"\")","v":831951}]
[{"$f":"IF('Line 1 Source'!A1742<>\"\",'Line 1 Source'!A1742,\"\")","v":"2018"},"6846835",{"$f":"CONCATENATE(VLOOKUP(B1742,'School List'!$B$3:$H$291,6,FALSE),H1742)","v":"68351214"},{"$f":"CONCATENATE(VLOOKUP(B1742,'School List'!$B$3:$D$291,3,FALSE),H1742)","v":"Randolph County - RANDOLPH EASTERN SCHOOL CORPORATION1214"},{"$f":"IF('Line 1 Source'!B1742<>\"\",'Line 1 Source'!B1742,\"\")","v":"68"},{"$f":"IF('Line 1 Source'!C1742<>\"\",'Line 1 Source'!C1742,\"\")","v":"4"},{"$f":"IF('Line 1 Source'!D1742<>\"\",'Line 1 Source'!D1742,\"\")","v":"6835"},{"$f":"IF('Line 1 Source'!E1742<>\"\",'Line 1 Source'!E1742,\"\")","v":"1214"},{"$f":"IF('Line 1 Source'!F1742<>\"\",'Line 1 Source'!F1742,\"\")","v":1012858}]
[{"$f":"IF('Line 1 Source'!A1743<>\"\",'Line 1 Source'!A1743,\"\")","v":"2018"},"6846835",{"$f":"CONCATENATE(VLOOKUP(B1743,'School List'!$B$3:$H$291,6,FALSE),H1743)","v":"68356301"},{"$f":"CONCATENATE(VLOOKUP(B1743,'School List'!$B$3:$D$291,3,FALSE),H1743)","v":"Randolph County - RANDOLPH EASTERN SCHOOL CORPORATION6301"},{"$f":"IF('Line 1 Source'!B1743<>\"\",'Line 1 Source'!B1743,\"\")","v":"68"},{"$f":"IF('Line 1 Source'!C1743<>\"\",'Line 1 Source'!C1743,\"\")","v":"4"},{"$f":"IF('Line 1 Source'!D1743<>\"\",'Line 1 Source'!D1743,\"\")","v":"6835"},{"$f":"IF('Line 1 Source'!E1743<>\"\",'Line 1 Source'!E1743,\"\")","v":"6301"},{"$f":"IF('Line 1 Source'!F1743<>\"\",'Line 1 Source'!F1743,\"\")","v":541442}]
[{"$f":"IF('Line 1 Source'!A1744<>\"\",'Line 1 Source'!A1744,\"\")","v":"2018"},"6846835",{"$f":"CONCATENATE(VLOOKUP(B1744,'School List'!$B$3:$H$291,6,FALSE),H1744)","v":"68356302"},{"$f":"CONCATENATE(VLOOKUP(B1744,'School List'!$B$3:$D$291,3,FALSE),H1744)","v":"Randolph County - RANDOLPH EASTERN SCHOOL CORPORATION6302"},{"$f":"IF('Line 1 Source'!B1744<>\"\",'Line 1 Source'!B1744,\"\")","v":"68"},{"$f":"IF('Line 1 Source'!C1744<>\"\",'Line 1 Source'!C1744,\"\")","v":"4"},{"$f":"IF('Line 1 Source'!D1744<>\"\",'Line 1 Source'!D1744,\"\")","v":"6835"},{"$f":"IF('Line 1 Source'!E1744<>\"\",'Line 1 Source'!E1744,\"\")","v":"6302"},{"$f":"IF('Line 1 Source'!F1744<>\"\",'Line 1 Source'!F1744,\"\")","v":110000}]
[{"$f":"IF('Line 1 Source'!A1745<>\"\",'Line 1 Source'!A1745,\"\")","v":"2018"},"6941560",{"$f":"CONCATENATE(VLOOKUP(B1745,'School List'!$B$3:$H$291,6,FALSE),H1745)","v":{"$error":"#N/A"}},{"$f":"CONCATENATE(VLOOKUP(B1745,'School List'!$B$3:$D$291,3,FALSE),H1745)","v":{"$error":"#N/A"}},{"$f":"IF('Line 1 Source'!B1745<>\"\",'Line 1 Source'!B1745,\"\")","v":"69"},{"$f":"IF('Line 1 Source'!C1745<>\"\",'Line 1 Source'!C1745,\"\")","v":"4"},{"$f":"IF('Line 1 Source'!D1745<>\"\",'Line 1 Source'!D1745,\"\")","v":"1560"},{"$f":"IF('Line 1 Source'!E1745<>\"\",'Line 1 Source'!E1745,\"\")","v":"0061"},{"$f":"IF('Line 1 Source'!F1745<>\"\",'Line 1 Source'!F1745,\"\")","v":0}]
[{"$f":"IF('Line 1 Source'!A1746<>\"\",'Line 1 Source'!A1746,\"\")","v":"2018"},"6941560",{"$f":"CONCATENATE(VLOOKUP(B1746,'School List'!$B$3:$H$291,6,FALSE),H1746)","v":{"$error":"#N/A"}},{"$f":"CONCATENATE(VLOOKUP(B1746,'School List'!$B$3:$D$291,3,FALSE),H1746)","v":{"$error":"#N/A"}},{"$f":"IF('Line 1 Source'!B1746<>\"\",'Line 1 Source'!B1746,\"\")","v":"69"},{"$f":"IF('Line 1 Source'!C1746<>\"\",'Line 1 Source'!C1746,\"\")","v":"4"},{"$f":"IF('Line 1 Source'!D1746<>\"\",'Line 1 Source'!D1746,\"\")","v":"1560"},{"$f":"IF('Line 1 Source'!E1746<>\"\",'Line 1 Source'!E1746,\"\")","v":"0101"},{"$f":"IF('Line 1 Source'!F1746<>\"\",'Line 1 Source'!F1746,\"\")","v":0}]
[{"$f":"IF('Line 1 Source'!A1747<>\"\",'Line 1 Source'!A1747,\"\")","v":"2018"},"6941560",{"$f":"CONCATENATE(VLOOKUP(B1747,'School List'!$B$3:$H$291,6,FALSE),H1747)","v":{"$error":"#N/A"}},{"$f":"CONCATENATE(VLOOKUP(B1747,'School List'!$B$3:$D$291,3,FALSE),H1747)","v":{"$error":"#N/A"}},{"$f":"IF('Line 1 Source'!B1747<>\"\",'Line 1 Source'!B1747,\"\")","v":"69"},{"$f":"IF('Line 1 Source'!C1747<>\"\",'Line 1 Source'!C1747,\"\")","v":"4"},{"$f":"IF('Line 1 Source'!D1747<>\"\",'Line 1 Source'!D1747,\"\")","v":"1560"},{"$f":"IF('Line 1 Source'!E1747<>\"\",'Line 1 Source'!E1747,\"\")","v":"0180"},{"$f":"IF('Line 1 Source'!F1747<>\"\",'Line 1 Source'!F1747,\"\")","v":0}]
[{"$f":"IF('Line 1 Source'!A1748<>\"\",'Line 1 Source'!A1748,\"\")","v":"2018"},"6941560",{"$f":"CONCATENATE(VLOOKUP(B1748,'School List'!$B$3:$H$291,6,FALSE),H1748)","v":{"$error":"#N/A"}},{"$f":"CONCATENATE(VLOOKUP(B1748,'School List'!$B$3:$D$291,3,FALSE),H1748)","v":{"$error":"#N/A"}},{"$f":"IF('Line 1 Source'!B1748<>\"\",'Line 1 Source'!B1748,\"\")","v":"69"},{"$f":"IF('Line 1 Source'!C1748<>\"\",'Line 1 Source'!C1748,\"\")","v":"4"},{"$f":"IF('Line 1 Source'!D1748<>\"\",'Line 1 Source'!D1748,\"\")","v":"1560"},{"$f":"IF('Line 1 Source'!E1748<>\"\",'Line 1 Source'!E1748,\"\")","v":"0186"},{"$f":"IF('Line 1 Source'!F1748<>\"\",'Line 1 Source'!F1748,\"\")","v":0}]
[{"$f":"IF('Line 1 Source'!A1749<>\"\",'Line 1 Source'!A1749,\"\")","v":"2018"},"6941560",{"$f":"CONCATENATE(VLOOKUP(B1749,'School List'!$B$3:$H$291,6,FALSE),H1749)","v":{"$error":"#N/A"}},{"$f":"CONCATENATE(VLOOKUP(B1749,'School List'!$B$3:$D$291,3,FALSE),H1749)","v":{"$error":"#N/A"}},{"$f":"IF('Line 1 Source'!B1749<>\"\",'Line 1 Source'!B1749,\"\")","v":"69"},{"$f":"IF('Line 1 Source'!C1749<>\"\",'Line 1 Source'!C1749,\"\")","v":"4"},{"$f":"IF('Line 1 Source'!D1749<>\"\",'Line 1 Source'!D1749,\"\")","v":"1560"},{"$f":"IF('Line 1 Source'!E1749<>\"\",'Line 1 Source'!E1749,\"\")","v":"1214"},{"$f":"IF('Line 1 Source'!F1749<>\"\",'Line 1 Source'!F1749,\"\")","v":0}]
[{"$f":"IF('Line 1 Source'!A1750<>\"\",'Line 1 Source'!A1750,\"\")","v":"2018"},"6941560",{"$f":"CONCATENATE(VLOOKUP(B1750,'School List'!$B$3:$H$291,6,FALSE),H1750)","v":{"$error":"#N/A"}},{"$f":"CONCATENATE(VLOOKUP(B1750,'School List'!$B$3:$D$291,3,FALSE),H1750)","v":{"$error":"#N/A"}},{"$f":"IF('Line 1 Source'!B1750<>\"\",'Line 1 Source'!B1750,\"\")","v":"69"},{"$f":"IF('Line 1 Source'!C1750<>\"\",'Line 1 Source'!C1750,\"\")","v":"4"},{"$f":"IF('Line 1 Source'!D1750<>\"\",'Line 1 Source'!D1750,\"\")","v":"1560"},{"$f":"IF('Line 1 Source'!E1750<>\"\",'Line 1 Source'!E1750,\"\")","v":"6301"},{"$f":"IF('Line 1 Source'!F1750<>\"\",'Line 1 Source'!F1750,\"\")","v":0}]
[{"$f":"IF('Line 1 Source'!A1751<>\"\",'Line 1 Source'!A1751,\"\")","v":"2018"},"6941560",{"$f":"CONCATENATE(VLOOKUP(B1751,'School List'!$B$3:$H$291,6,FALSE),H1751)","v":{"$error":"#N/A"}},{"$f":"CONCATENATE(VLOOKUP(B1751,'School List'!$B$3:$D$291,3,FALSE),H1751)","v":{"$error":"#N/A"}},{"$f":"IF('Line 1 Source'!B1751<>\"\",'Line 1 Source'!B1751,\"\")","v":"69"},{"$f":"IF('Line 1 Source'!C1751<>\"\",'Line 1 Source'!C1751,\"\")","v":"4"},{"$f":"IF('Line 1 Source'!D1751<>\"\",'Line 1 Source'!D1751,\"\")","v":"1560"},{"$f":"IF('Line 1 Source'!E1751<>\"\",'Line 1 Source'!E1751,\"\")","v":"6302"},{"$f":"IF('Line 1 Source'!F1751<>\"\",'Line 1 Source'!F1751,\"\")","v":0}]
[{"$f":"IF('Line 1 Source'!A1752<>\"\",'Line 1 Source'!A1752,\"\")","v":"2018"},"6946865",{"$f":"CONCATENATE(VLOOKUP(B1752,'School List'!$B$3:$H$291,6,FALSE),H1752)","v":"68650061"},{"$f":"CONCATENATE(VLOOKUP(B1752,'School List'!$B$3:$D$291,3,FALSE),H1752)","v":"Ripley County - SOUTH RIPLEY COMMUNITY SCHOOL CORP0061"},{"$f":"IF('Line 1 Source'!B1752<>\"\",'Line 1 Source'!B1752,\"\")","v":"69"},{"$f":"IF('Line 1 Source'!C1752<>\"\",'Line 1 Source'!C1752,\"\")","v":"4"},{"$f":"IF('Line 1 Source'!D1752<>\"\",'Line 1 Source'!D1752,\"\")","v":"6865"},{"$f":"IF('Line 1 Source'!E1752<>\"\",'Line 1 Source'!E1752,\"\")","v":"0061"},{"$f":"IF('Line 1 Source'!F1752<>\"\",'Line 1 Source'!F1752,\"\")","v":225000}]
[{"$f":"IF('Line 1 Source'!A1753<>\"\",'Line 1 Source'!A1753,\"\")","v":"2018"},"6946865",{"$f":"CONCATENATE(VLOOKUP(B1753,'School List'!$B$3:$H$291,6,FALSE),H1753)","v":"68650101"},{"$f":"CONCATENATE(VLOOKUP(B1753,'School List'!$B$3:$D$291,3,FALSE),H1753)","v":"Ripley County - SOUTH RIPLEY COMMUNITY SCHOOL CORP0101"},{"$f":"IF('Line 1 Source'!B1753<>\"\",'Line 1 Source'!B1753,\"\")","v":"69"},{"$f":"IF('Line 1 Source'!C1753<>\"\",'Line 1 Source'!C1753,\"\")","v":"4"},{"$f":"IF('Line 1 Source'!D1753<>\"\",'Line 1 Source'!D1753,\"\")","v":"6865"},{"$f":"IF('Line 1 Source'!E1753<>\"\",'Line 1 Source'!E1753,\"\")","v":"0101"},{"$f":"IF('Line 1 Source'!F1753<>\"\",'Line 1 Source'!F1753,\"\")","v":10184747}]
[{"$f":"IF('Line 1 Source'!A1754<>\"\",'Line 1 Source'!A1754,\"\")","v":"2018"},"6946865",{"$f":"CONCATENATE(VLOOKUP(B1754,'School List'!$B$3:$H$291,6,FALSE),H1754)","v":"68650180"},{"$f":"CONCATENATE(VLOOKUP(B1754,'School List'!$B$3:$D$291,3,FALSE),H1754)","v":"Ripley County - SOUTH RIPLEY COMMUNITY SCHOOL CORP0180"},{"$f":"IF('Line 1 Source'!B1754<>\"\",'Line 1 Source'!B1754,\"\")","v":"69"},{"$f":"IF('Line 1 Source'!C1754<>\"\",'Line 1 Source'!C1754,\"\")","v":"4"},{"$f":"IF('Line 1 Source'!D1754<>\"\",'Line 1 Source'!D1754,\"\")","v":"6865"},{"$f":"IF('Line 1 Source'!E1754<>\"\",'Line 1 Source'!E1754,\"\")","v":"0180"},{"$f":"IF('Line 1 Source'!F1754<>\"\",'Line 1 Source'!F1754,\"\")","v":1570091}]
[{"$f":"IF('Line 1 Source'!A1755<>\"\",'Line 1 Source'!A1755,\"\")","v":"2018"},"6946865",{"$f":"CONCATENATE(VLOOKUP(B1755,'School List'!$B$3:$H$291,6,FALSE),H1755)","v":"68651214"},{"$f":"CONCATENATE(VLOOKUP(B1755,'School List'!$B$3:$D$291,3,FALSE),H1755)","v":"Ripley County - SOUTH RIPLEY COMMUNITY SCHOOL CORP1214"},{"$f":"IF('Line 1 Source'!B1755<>\"\",'Line 1 Source'!B1755,\"\")","v":"69"},{"$f":"IF('Line 1 Source'!C1755<>\"\",'Line 1 Source'!C1755,\"\")","v":"4"},{"$f":"IF('Line 1 Source'!D1755<>\"\",'Line 1 Source'!D1755,\"\")","v":"6865"},{"$f":"IF('Line 1 Source'!E1755<>\"\",'Line 1 Source'!E1755,\"\")","v":"1214"},{"$f":"IF('Line 1 Source'!F1755<>\"\",'Line 1 Source'!F1755,\"\")","v":1043402}]
[{"$f":"IF('Line 1 Source'!A1756<>\"\",'Line 1 Source'!A1756,\"\")","v":"2018"},"6946865",{"$f":"CONCATENATE(VLOOKUP(B1756,'School List'!$B$3:$H$291,6,FALSE),H1756)","v":"68656301"},{"$f":"CONCATENATE(VLOOKUP(B1756,'School List'!$B$3:$D$291,3,FALSE),H1756)","v":"Ripley County - SOUTH RIPLEY COMMUNITY SCHOOL CORP6301"},{"$f":"IF('Line 1 Source'!B1756<>\"\",'Line 1 Source'!B1756,\"\")","v":"69"},{"$f":"IF('Line 1 Source'!C1756<>\"\",'Line 1 Source'!C1756,\"\")","v":"4"},{"$f":"IF('Line 1 Source'!D1756<>\"\",'Line 1 Source'!D1756,\"\")","v":"6865"},{"$f":"IF('Line 1 Source'!E1756<>\"\",'Line 1 Source'!E1756,\"\")","v":"6301"},{"$f":"IF('Line 1 Source'!F1756<>\"\",'Line 1 Source'!F1756,\"\")","v":1334932}]
[{"$f":"IF('Line 1 Source'!A1757<>\"\",'Line 1 Source'!A1757,\"\")","v":"2018"},"6946865",{"$f":"CONCATENATE(VLOOKUP(B1757,'School List'!$B$3:$H$291,6,FALSE),H1757)","v":"68656302"},{"$f":"CONCATENATE(VLOOKUP(B1757,'School List'!$B$3:$D$291,3,FALSE),H1757)","v":"Ripley County - SOUTH RIPLEY COMMUNITY SCHOOL CORP6302"},{"$f":"IF('Line 1 Source'!B1757<>\"\",'Line 1 Source'!B1757,\"\")","v":"69"},{"$f":"IF('Line 1 Source'!C1757<>\"\",'Line 1 Source'!C1757,\"\")","v":"4"},{"$f":"IF('Line 1 Source'!D1757<>\"\",'Line 1 Source'!D1757,\"\")","v":"6865"},{"$f":"IF('Line 1 Source'!E1757<>\"\",'Line 1 Source'!E1757,\"\")","v":"6302"},{"$f":"IF('Line 1 Source'!F1757<>\"\",'Line 1 Source'!F1757,\"\")","v":512000}]
[{"$f":"IF('Line 1 Source'!A1758<>\"\",'Line 1 Source'!A1758,\"\")","v":"2018"},"6946895",{"$f":"CONCATENATE(VLOOKUP(B1758,'School List'!$B$3:$H$291,6,FALSE),H1758)","v":"68950061"},{"$f":"CONCATENATE(VLOOKUP(B1758,'School List'!$B$3:$D$291,3,FALSE),H1758)","v":"Ripley County - BATESVILLE COMMUNITY SCHOOL CORPORATION0061"},{"$f":"IF('Line 1 Source'!B1758<>\"\",'Line 1 Source'!B1758,\"\")","v":"69"},{"$f":"IF('Line 1 Source'!C1758<>\"\",'Line 1 Source'!C1758,\"\")","v":"4"},{"$f":"IF('Line 1 Source'!D1758<>\"\",'Line 1 Source'!D1758,\"\")","v":"6895"},{"$f":"IF('Line 1 Source'!E1758<>\"\",'Line 1 Source'!E1758,\"\")","v":"0061"},{"$f":"IF('Line 1 Source'!F1758<>\"\",'Line 1 Source'!F1758,\"\")","v":150000}]
[{"$f":"IF('Line 1 Source'!A1759<>\"\",'Line 1 Source'!A1759,\"\")","v":"2018"},"6946895",{"$f":"CONCATENATE(VLOOKUP(B1759,'School List'!$B$3:$H$291,6,FALSE),H1759)","v":"68950101"},{"$f":"CONCATENATE(VLOOKUP(B1759,'School List'!$B$3:$D$291,3,FALSE),H1759)","v":"Ripley County - BATESVILLE COMMUNITY SCHOOL CORPORATION0101"},{"$f":"IF('Line 1 Source'!B1759<>\"\",'Line 1 Source'!B1759,\"\")","v":"69"},{"$f":"IF('Line 1 Source'!C1759<>\"\",'Line 1 Source'!C1759,\"\")","v":"4"},{"$f":"IF('Line 1 Source'!D1759<>\"\",'Line 1 Source'!D1759,\"\")","v":"6895"},{"$f":"IF('Line 1 Source'!E1759<>\"\",'Line 1 Source'!E1759,\"\")","v":"0101"},{"$f":"IF('Line 1 Source'!F1759<>\"\",'Line 1 Source'!F1759,\"\")","v":14500000}]
[{"$f":"IF('Line 1 Source'!A1760<>\"\",'Line 1 Source'!A1760,\"\")","v":"2018"},"6946895",{"$f":"CONCATENATE(VLOOKUP(B1760,'School List'!$B$3:$H$291,6,FALSE),H1760)","v":"68950180"},{"$f":"CONCATENATE(VLOOKUP(B1760,'School List'!$B$3:$D$291,3,FALSE),H1760)","v":"Ripley County - BATESVILLE COMMUNITY SCHOOL CORPORATION0180"},{"$f":"IF('Line 1 Source'!B1760<>\"\",'Line 1 Source'!B1760,\"\")","v":"69"},{"$f":"IF('Line 1 Source'!C1760<>\"\",'Line 1 Source'!C1760,\"\")","v":"4"},{"$f":"IF('Line 1 Source'!D1760<>\"\",'Line 1 Source'!D1760,\"\")","v":"6895"},{"$f":"IF('Line 1 Source'!E1760<>\"\",'Line 1 Source'!E1760,\"\")","v":"0180"},{"$f":"IF('Line 1 Source'!F1760<>\"\",'Line 1 Source'!F1760,\"\")","v":2580000}]
[{"$f":"IF('Line 1 Source'!A1761<>\"\",'Line 1 Source'!A1761,\"\")","v":"2018"},"6946895",{"$f":"CONCATENATE(VLOOKUP(B1761,'School List'!$B$3:$H$291,6,FALSE),H1761)","v":"68951214"},{"$f":"CONCATENATE(VLOOKUP(B1761,'School List'!$B$3:$D$291,3,FALSE),H1761)","v":"Ripley County - BATESVILLE COMMUNITY SCHOOL CORPORATION1214"},{"$f":"IF('Line 1 Source'!B1761<>\"\",'Line 1 Source'!B1761,\"\")","v":"69"},{"$f":"IF('Line 1 Source'!C1761<>\"\",'Line 1 Source'!C1761,\"\")","v":"4"},{"$f":"IF('Line 1 Source'!D1761<>\"\",'Line 1 Source'!D1761,\"\")","v":"6895"},{"$f":"IF('Line 1 Source'!E1761<>\"\",'Line 1 Source'!E1761,\"\")","v":"1214"},{"$f":"IF('Line 1 Source'!F1761<>\"\",'Line 1 Source'!F1761,\"\")","v":3110000}]
[{"$f":"IF('Line 1 Source'!A1762<>\"\",'Line 1 Source'!A1762,\"\")","v":"2018"},"6946895",{"$f":"CONCATENATE(VLOOKUP(B1762,'School List'!$B$3:$H$291,6,FALSE),H1762)","v":"68956301"},{"$f":"CONCATENATE(VLOOKUP(B1762,'School List'!$B$3:$D$291,3,FALSE),H1762)","v":"Ripley County - BATESVILLE COMMUNITY SCHOOL CORPORATION6301"},{"$f":"IF('Line 1 Source'!B1762<>\"\",'Line 1 Source'!B1762,\"\")","v":"69"},{"$f":"IF('Line 1 Source'!C1762<>\"\",'Line 1 Source'!C1762,\"\")","v":"4"},{"$f":"IF('Line 1 Source'!D1762<>\"\",'Line 1 Source'!D1762,\"\")","v":"6895"},{"$f":"IF('Line 1 Source'!E1762<>\"\",'Line 1 Source'!E1762,\"\")","v":"6301"},{"$f":"IF('Line 1 Source'!F1762<>\"\",'Line 1 Source'!F1762,\"\")","v":1740000}]
[{"$f":"IF('Line 1 Source'!A1763<>\"\",'Line 1 Source'!A1763,\"\")","v":"2018"},"6946895",{"$f":"CONCATENATE(VLOOKUP(B1763,'School List'!$B$3:$H$291,6,FALSE),H1763)","v":"68956302"},{"$f":"CONCATENATE(VLOOKUP(B1763,'School List'!$B$3:$D$291,3,FALSE),H1763)","v":"Ripley County - BATESVILLE COMMUNITY SCHOOL CORPORATION6302"},{"$f":"IF('Line 1 Source'!B1763<>\"\",'Line 1 Source'!B1763,\"\")","v":"69"},{"$f":"IF('Line 1 Source'!C1763<>\"\",'Line 1 Source'!C1763,\"\")","v":"4"},{"$f":"IF('Line 1 Source'!D1763<>\"\",'Line 1 Source'!D1763,\"\")","v":"6895"},{"$f":"IF('Line 1 Source'!E1763<>\"\",'Line 1 Source'!E1763,\"\")","v":"6302"},{"$f":"IF('Line 1 Source'!F1763<>\"\",'Line 1 Source'!F1763,\"\")","v":240000}]
[{"$f":"IF('Line 1 Source'!A1764<>\"\",'Line 1 Source'!A1764,\"\")","v":"2018"},"6946900",{"$f":"CONCATENATE(VLOOKUP(B1764,'School List'!$B$3:$H$291,6,FALSE),H1764)","v":"69000061"},{"$f":"CONCATENATE(VLOOKUP(B1764,'School List'!$B$3:$D$291,3,FALSE),H1764)","v":"Ripley County - JAC-CEN-DEL COMMUNITY SCHOOL CORPORATION0061"},{"$f":"IF('Line 1 Source'!B1764<>\"\",'Line 1 Source'!B1764,\"\")","v":"69"},{"$f":"IF('Line 1 Source'!C1764<>\"\",'Line 1 Source'!C1764,\"\")","v":"4"},{"$f":"IF('Line 1 Source'!D1764<>\"\",'Line 1 Source'!D1764,\"\")","v":"6900"},{"$f":"IF('Line 1 Source'!E1764<>\"\",'Line 1 Source'!E1764,\"\")","v":"0061"},{"$f":"IF('Line 1 Source'!F1764<>\"\",'Line 1 Source'!F1764,\"\")","v":250000}]
[{"$f":"IF('Line 1 Source'!A1765<>\"\",'Line 1 Source'!A1765,\"\")","v":"2018"},"6946900",{"$f":"CONCATENATE(VLOOKUP(B1765,'School List'!$B$3:$H$291,6,FALSE),H1765)","v":"69000101"},{"$f":"CONCATENATE(VLOOKUP(B1765,'School List'!$B$3:$D$291,3,FALSE),H1765)","v":"Ripley County - JAC-CEN-DEL COMMUNITY SCHOOL CORPORATION0101"},{"$f":"IF('Line 1 Source'!B1765<>\"\",'Line 1 Source'!B1765,\"\")","v":"69"},{"$f":"IF('Line 1 Source'!C1765<>\"\",'Line 1 Source'!C1765,\"\")","v":"4"},{"$f":"IF('Line 1 Source'!D1765<>\"\",'Line 1 Source'!D1765,\"\")","v":"6900"},{"$f":"IF('Line 1 Source'!E1765<>\"\",'Line 1 Source'!E1765,\"\")","v":"0101"},{"$f":"IF('Line 1 Source'!F1765<>\"\",'Line 1 Source'!F1765,\"\")","v":7035235}]
[{"$f":"IF('Line 1 Source'!A1766<>\"\",'Line 1 Source'!A1766,\"\")","v":"2018"},"6946900",{"$f":"CONCATENATE(VLOOKUP(B1766,'School List'!$B$3:$H$291,6,FALSE),H1766)","v":"69000180"},{"$f":"CONCATENATE(VLOOKUP(B1766,'School List'!$B$3:$D$291,3,FALSE),H1766)","v":"Ripley County - JAC-CEN-DEL COMMUNITY SCHOOL CORPORATION0180"},{"$f":"IF('Line 1 Source'!B1766<>\"\",'Line 1 Source'!B1766,\"\")","v":"69"},{"$f":"IF('Line 1 Source'!C1766<>\"\",'Line 1 Source'!C1766,\"\")","v":"4"},{"$f":"IF('Line 1 Source'!D1766<>\"\",'Line 1 Source'!D1766,\"\")","v":"6900"},{"$f":"IF('Line 1 Source'!E1766<>\"\",'Line 1 Source'!E1766,\"\")","v":"0180"},{"$f":"IF('Line 1 Source'!F1766<>\"\",'Line 1 Source'!F1766,\"\")","v":728710}]
[{"$f":"IF('Line 1 Source'!A1767<>\"\",'Line 1 Source'!A1767,\"\")","v":"2018"},"6946900",{"$f":"CONCATENATE(VLOOKUP(B1767,'School List'!$B$3:$H$291,6,FALSE),H1767)","v":"69001214"},{"$f":"CONCATENATE(VLOOKUP(B1767,'School List'!$B$3:$D$291,3,FALSE),H1767)","v":"Ripley County - JAC-CEN-DEL COMMUNITY SCHOOL CORPORATION1214"},{"$f":"IF('Line 1 Source'!B1767<>\"\",'Line 1 Source'!B1767,\"\")","v":"69"},{"$f":"IF('Line 1 Source'!C1767<>\"\",'Line 1 Source'!C1767,\"\")","v":"4"},{"$f":"IF('Line 1 Source'!D1767<>\"\",'Line 1 Source'!D1767,\"\")","v":"6900"},{"$f":"IF('Line 1 Source'!E1767<>\"\",'Line 1 Source'!E1767,\"\")","v":"1214"},{"$f":"IF('Line 1 Source'!F1767<>\"\",'Line 1 Source'!F1767,\"\")","v":1002991}]
[{"$f":"IF('Line 1 Source'!A1768<>\"\",'Line 1 Source'!A1768,\"\")","v":"2018"},"6946900",{"$f":"CONCATENATE(VLOOKUP(B1768,'School List'!$B$3:$H$291,6,FALSE),H1768)","v":"69006301"},{"$f":"CONCATENATE(VLOOKUP(B1768,'School List'!$B$3:$D$291,3,FALSE),H1768)","v":"Ripley County - JAC-CEN-DEL COMMUNITY SCHOOL CORPORATION6301"},{"$f":"IF('Line 1 Source'!B1768<>\"\",'Line 1 Source'!B1768,\"\")","v":"69"},{"$f":"IF('Line 1 Source'!C1768<>\"\",'Line 1 Source'!C1768,\"\")","v":"4"},{"$f":"IF('Line 1 Source'!D1768<>\"\",'Line 1 Source'!D1768,\"\")","v":"6900"},{"$f":"IF('Line 1 Source'!E1768<>\"\",'Line 1 Source'!E1768,\"\")","v":"6301"},{"$f":"IF('Line 1 Source'!F1768<>\"\",'Line 1 Source'!F1768,\"\")","v":553176}]
[{"$f":"IF('Line 1 Source'!A1769<>\"\",'Line 1 Source'!A1769,\"\")","v":"2018"},"6946900",{"$f":"CONCATENATE(VLOOKUP(B1769,'School List'!$B$3:$H$291,6,FALSE),H1769)","v":"69006302"},{"$f":"CONCATENATE(VLOOKUP(B1769,'School List'!$B$3:$D$291,3,FALSE),H1769)","v":"Ripley County - JAC-CEN-DEL COMMUNITY SCHOOL CORPORATION6302"},{"$f":"IF('Line 1 Source'!B1769<>\"\",'Line 1 Source'!B1769,\"\")","v":"69"},{"$f":"IF('Line 1 Source'!C1769<>\"\",'Line 1 Source'!C1769,\"\")","v":"4"},{"$f":"IF('Line 1 Source'!D1769<>\"\",'Line 1 Source'!D1769,\"\")","v":"6900"},{"$f":"IF('Line 1 Source'!E1769<>\"\",'Line 1 Source'!E1769,\"\")","v":"6302"},{"$f":"IF('Line 1 Source'!F1769<>\"\",'Line 1 Source'!F1769,\"\")","v":172000}]
[{"$f":"IF('Line 1 Source'!A1770<>\"\",'Line 1 Source'!A1770,\"\")","v":"2018"},"6946910",{"$f":"CONCATENATE(VLOOKUP(B1770,'School List'!$B$3:$H$291,6,FALSE),H1770)","v":"69100061"},{"$f":"CONCATENATE(VLOOKUP(B1770,'School List'!$B$3:$D$291,3,FALSE),H1770)","v":"Ripley County - MILAN COMMUNITY SCHOOL CORPORATION0061"},{"$f":"IF('Line 1 Source'!B1770<>\"\",'Line 1 Source'!B1770,\"\")","v":"69"},{"$f":"IF('Line 1 Source'!C1770<>\"\",'Line 1 Source'!C1770,\"\")","v":"4"},{"$f":"IF('Line 1 Source'!D1770<>\"\",'Line 1 Source'!D1770,\"\")","v":"6910"},{"$f":"IF('Line 1 Source'!E1770<>\"\",'Line 1 Source'!E1770,\"\")","v":"0061"},{"$f":"IF('Line 1 Source'!F1770<>\"\",'Line 1 Source'!F1770,\"\")","v":297014}]
[{"$f":"IF('Line 1 Source'!A1771<>\"\",'Line 1 Source'!A1771,\"\")","v":"2018"},"6946910",{"$f":"CONCATENATE(VLOOKUP(B1771,'School List'!$B$3:$H$291,6,FALSE),H1771)","v":"69100101"},{"$f":"CONCATENATE(VLOOKUP(B1771,'School List'!$B$3:$D$291,3,FALSE),H1771)","v":"Ripley County - MILAN COMMUNITY SCHOOL CORPORATION0101"},{"$f":"IF('Line 1 Source'!B1771<>\"\",'Line 1 Source'!B1771,\"\")","v":"69"},{"$f":"IF('Line 1 Source'!C1771<>\"\",'Line 1 Source'!C1771,\"\")","v":"4"},{"$f":"IF('Line 1 Source'!D1771<>\"\",'Line 1 Source'!D1771,\"\")","v":"6910"},{"$f":"IF('Line 1 Source'!E1771<>\"\",'Line 1 Source'!E1771,\"\")","v":"0101"},{"$f":"IF('Line 1 Source'!F1771<>\"\",'Line 1 Source'!F1771,\"\")","v":8000000}]
[{"$f":"IF('Line 1 Source'!A1772<>\"\",'Line 1 Source'!A1772,\"\")","v":"2018"},"6946910",{"$f":"CONCATENATE(VLOOKUP(B1772,'School List'!$B$3:$H$291,6,FALSE),H1772)","v":"69100180"},{"$f":"CONCATENATE(VLOOKUP(B1772,'School List'!$B$3:$D$291,3,FALSE),H1772)","v":"Ripley County - MILAN COMMUNITY SCHOOL CORPORATION0180"},{"$f":"IF('Line 1 Source'!B1772<>\"\",'Line 1 Source'!B1772,\"\")","v":"69"},{"$f":"IF('Line 1 Source'!C1772<>\"\",'Line 1 Source'!C1772,\"\")","v":"4"},{"$f":"IF('Line 1 Source'!D1772<>\"\",'Line 1 Source'!D1772,\"\")","v":"6910"},{"$f":"IF('Line 1 Source'!E1772<>\"\",'Line 1 Source'!E1772,\"\")","v":"0180"},{"$f":"IF('Line 1 Source'!F1772<>\"\",'Line 1 Source'!F1772,\"\")","v":1083723}]
[{"$f":"IF('Line 1 Source'!A1773<>\"\",'Line 1 Source'!A1773,\"\")","v":"2018"},"6946910",{"$f":"CONCATENATE(VLOOKUP(B1773,'School List'!$B$3:$H$291,6,FALSE),H1773)","v":"69101214"},{"$f":"CONCATENATE(VLOOKUP(B1773,'School List'!$B$3:$D$291,3,FALSE),H1773)","v":"Ripley County - MILAN COMMUNITY SCHOOL CORPORATION1214"},{"$f":"IF('Line 1 Source'!B1773<>\"\",'Line 1 Source'!B1773,\"\")","v":"69"},{"$f":"IF('Line 1 Source'!C1773<>\"\",'Line 1 Source'!C1773,\"\")","v":"4"},{"$f":"IF('Line 1 Source'!D1773<>\"\",'Line 1 Source'!D1773,\"\")","v":"6910"},{"$f":"IF('Line 1 Source'!E1773<>\"\",'Line 1 Source'!E1773,\"\")","v":"1214"},{"$f":"IF('Line 1 Source'!F1773<>\"\",'Line 1 Source'!F1773,\"\")","v":777440}]
[{"$f":"IF('Line 1 Source'!A1774<>\"\",'Line 1 Source'!A1774,\"\")","v":"2018"},"6946910",{"$f":"CONCATENATE(VLOOKUP(B1774,'School List'!$B$3:$H$291,6,FALSE),H1774)","v":"69106301"},{"$f":"CONCATENATE(VLOOKUP(B1774,'School List'!$B$3:$D$291,3,FALSE),H1774)","v":"Ripley County - MILAN COMMUNITY SCHOOL CORPORATION6301"},{"$f":"IF('Line 1 Source'!B1774<>\"\",'Line 1 Source'!B1774,\"\")","v":"69"},{"$f":"IF('Line 1 Source'!C1774<>\"\",'Line 1 Source'!C1774,\"\")","v":"4"},{"$f":"IF('Line 1 Source'!D1774<>\"\",'Line 1 Source'!D1774,\"\")","v":"6910"},{"$f":"IF('Line 1 Source'!E1774<>\"\",'Line 1 Source'!E1774,\"\")","v":"6301"},{"$f":"IF('Line 1 Source'!F1774<>\"\",'Line 1 Source'!F1774,\"\")","v":1300000}]
[{"$f":"IF('Line 1 Source'!A1775<>\"\",'Line 1 Source'!A1775,\"\")","v":"2018"},"6946910",{"$f":"CONCATENATE(VLOOKUP(B1775,'School List'!$B$3:$H$291,6,FALSE),H1775)","v":"69106302"},{"$f":"CONCATENATE(VLOOKUP(B1775,'School List'!$B$3:$D$291,3,FALSE),H1775)","v":"Ripley County - MILAN COMMUNITY SCHOOL CORPORATION6302"},{"$f":"IF('Line 1 Source'!B1775<>\"\",'Line 1 Source'!B1775,\"\")","v":"69"},{"$f":"IF('Line 1 Source'!C1775<>\"\",'Line 1 Source'!C1775,\"\")","v":"4"},{"$f":"IF('Line 1 Source'!D1775<>\"\",'Line 1 Source'!D1775,\"\")","v":"6910"},{"$f":"IF('Line 1 Source'!E1775<>\"\",'Line 1 Source'!E1775,\"\")","v":"6302"},{"$f":"IF('Line 1 Source'!F1775<>\"\",'Line 1 Source'!F1775,\"\")","v":0}]
[{"$f":"IF('Line 1 Source'!A1776<>\"\",'Line 1 Source'!A1776,\"\")","v":"2018"},"7043455",{"$f":"CONCATENATE(VLOOKUP(B1776,'School List'!$B$3:$H$291,6,FALSE),H1776)","v":{"$error":"#N/A"}},{"$f":"CONCATENATE(VLOOKUP(B1776,'School List'!$B$3:$D$291,3,FALSE),H1776)","v":{"$error":"#N/A"}},{"$f":"IF('Line 1 Source'!B1776<>\"\",'Line 1 Source'!B1776,\"\")","v":"70"},{"$f":"IF('Line 1 Source'!C1776<>\"\",'Line 1 Source'!C1776,\"\")","v":"4"},{"$f":"IF('Line 1 Source'!D1776<>\"\",'Line 1 Source'!D1776,\"\")","v":"3455"},{"$f":"IF('Line 1 Source'!E1776<>\"\",'Line 1 Source'!E1776,\"\")","v":"0101"},{"$f":"IF('Line 1 Source'!F1776<>\"\",'Line 1 Source'!F1776,\"\")","v":0}]
[{"$f":"IF('Line 1 Source'!A1777<>\"\",'Line 1 Source'!A1777,\"\")","v":"2018"},"7043455",{"$f":"CONCATENATE(VLOOKUP(B1777,'School List'!$B$3:$H$291,6,FALSE),H1777)","v":{"$error":"#N/A"}},{"$f":"CONCATENATE(VLOOKUP(B1777,'School List'!$B$3:$D$291,3,FALSE),H1777)","v":{"$error":"#N/A"}},{"$f":"IF('Line 1 Source'!B1777<>\"\",'Line 1 Source'!B1777,\"\")","v":"70"},{"$f":"IF('Line 1 Source'!C1777<>\"\",'Line 1 Source'!C1777,\"\")","v":"4"},{"$f":"IF('Line 1 Source'!D1777<>\"\",'Line 1 Source'!D1777,\"\")","v":"3455"},{"$f":"IF('Line 1 Source'!E1777<>\"\",'Line 1 Source'!E1777,\"\")","v":"0180"},{"$f":"IF('Line 1 Source'!F1777<>\"\",'Line 1 Source'!F1777,\"\")","v":0}]
[{"$f":"IF('Line 1 Source'!A1778<>\"\",'Line 1 Source'!A1778,\"\")","v":"2018"},"7043455",{"$f":"CONCATENATE(VLOOKUP(B1778,'School List'!$B$3:$H$291,6,FALSE),H1778)","v":{"$error":"#N/A"}},{"$f":"CONCATENATE(VLOOKUP(B1778,'School List'!$B$3:$D$291,3,FALSE),H1778)","v":{"$error":"#N/A"}},{"$f":"IF('Line 1 Source'!B1778<>\"\",'Line 1 Source'!B1778,\"\")","v":"70"},{"$f":"IF('Line 1 Source'!C1778<>\"\",'Line 1 Source'!C1778,\"\")","v":"4"},{"$f":"IF('Line 1 Source'!D1778<>\"\",'Line 1 Source'!D1778,\"\")","v":"3455"},{"$f":"IF('Line 1 Source'!E1778<>\"\",'Line 1 Source'!E1778,\"\")","v":"1214"},{"$f":"IF('Line 1 Source'!F1778<>\"\",'Line 1 Source'!F1778,\"\")","v":0}]
[{"$f":"IF('Line 1 Source'!A1779<>\"\",'Line 1 Source'!A1779,\"\")","v":"2018"},"7043455",{"$f":"CONCATENATE(VLOOKUP(B1779,'School List'!$B$3:$H$291,6,FALSE),H1779)","v":{"$error":"#N/A"}},{"$f":"CONCATENATE(VLOOKUP(B1779,'School List'!$B$3:$D$291,3,FALSE),H1779)","v":{"$error":"#N/A"}},{"$f":"IF('Line 1 Source'!B1779<>\"\",'Line 1 Source'!B1779,\"\")","v":"70"},{"$f":"IF('Line 1 Source'!C1779<>\"\",'Line 1 Source'!C1779,\"\")","v":"4"},{"$f":"IF('Line 1 Source'!D1779<>\"\",'Line 1 Source'!D1779,\"\")","v":"3455"},{"$f":"IF('Line 1 Source'!E1779<>\"\",'Line 1 Source'!E1779,\"\")","v":"6301"},{"$f":"IF('Line 1 Source'!F1779<>\"\",'Line 1 Source'!F1779,\"\")","v":0}]
[{"$f":"IF('Line 1 Source'!A1780<>\"\",'Line 1 Source'!A1780,\"\")","v":"2018"},"7043455",{"$f":"CONCATENATE(VLOOKUP(B1780,'School List'!$B$3:$H$291,6,FALSE),H1780)","v":{"$error":"#N/A"}},{"$f":"CONCATENATE(VLOOKUP(B1780,'School List'!$B$3:$D$291,3,FALSE),H1780)","v":{"$error":"#N/A"}},{"$f":"IF('Line 1 Source'!B1780<>\"\",'Line 1 Source'!B1780,\"\")","v":"70"},{"$f":"IF('Line 1 Source'!C1780<>\"\",'Line 1 Source'!C1780,\"\")","v":"4"},{"$f":"IF('Line 1 Source'!D1780<>\"\",'Line 1 Source'!D1780,\"\")","v":"3455"},{"$f":"IF('Line 1 Source'!E1780<>\"\",'Line 1 Source'!E1780,\"\")","v":"6302"},{"$f":"IF('Line 1 Source'!F1780<>\"\",'Line 1 Source'!F1780,\"\")","v":0}]
[{"$f":"IF('Line 1 Source'!A1781<>\"\",'Line 1 Source'!A1781,\"\")","v":"2018"},"7046995",{"$f":"CONCATENATE(VLOOKUP(B1781,'School List'!$B$3:$H$291,6,FALSE),H1781)","v":"69950061"},{"$f":"CONCATENATE(VLOOKUP(B1781,'School List'!$B$3:$D$291,3,FALSE),H1781)","v":"Rush County - RUSH COUNTY SCHOOL CORPORATION0061"},{"$f":"IF('Line 1 Source'!B1781<>\"\",'Line 1 Source'!B1781,\"\")","v":"70"},{"$f":"IF('Line 1 Source'!C1781<>\"\",'Line 1 Source'!C1781,\"\")","v":"4"},{"$f":"IF('Line 1 Source'!D1781<>\"\",'Line 1 Source'!D1781,\"\")","v":"6995"},{"$f":"IF('Line 1 Source'!E1781<>\"\",'Line 1 Source'!E1781,\"\")","v":"0061"},{"$f":"IF('Line 1 Source'!F1781<>\"\",'Line 1 Source'!F1781,\"\")","v":500000}]
[{"$f":"IF('Line 1 Source'!A1782<>\"\",'Line 1 Source'!A1782,\"\")","v":"2018"},"7046995",{"$f":"CONCATENATE(VLOOKUP(B1782,'School List'!$B$3:$H$291,6,FALSE),H1782)","v":"69950101"},{"$f":"CONCATENATE(VLOOKUP(B1782,'School List'!$B$3:$D$291,3,FALSE),H1782)","v":"Rush County - RUSH COUNTY SCHOOL CORPORATION0101"},{"$f":"IF('Line 1 Source'!B1782<>\"\",'Line 1 Source'!B1782,\"\")","v":"70"},{"$f":"IF('Line 1 Source'!C1782<>\"\",'Line 1 Source'!C1782,\"\")","v":"4"},{"$f":"IF('Line 1 Source'!D1782<>\"\",'Line 1 Source'!D1782,\"\")","v":"6995"},{"$f":"IF('Line 1 Source'!E1782<>\"\",'Line 1 Source'!E1782,\"\")","v":"0101"},{"$f":"IF('Line 1 Source'!F1782<>\"\",'Line 1 Source'!F1782,\"\")","v":15059246}]
[{"$f":"IF('Line 1 Source'!A1783<>\"\",'Line 1 Source'!A1783,\"\")","v":"2018"},"7046995",{"$f":"CONCATENATE(VLOOKUP(B1783,'School List'!$B$3:$H$291,6,FALSE),H1783)","v":"69950180"},{"$f":"CONCATENATE(VLOOKUP(B1783,'School List'!$B$3:$D$291,3,FALSE),H1783)","v":"Rush County - RUSH COUNTY SCHOOL CORPORATION0180"},{"$f":"IF('Line 1 Source'!B1783<>\"\",'Line 1 Source'!B1783,\"\")","v":"70"},{"$f":"IF('Line 1 Source'!C1783<>\"\",'Line 1 Source'!C1783,\"\")","v":"4"},{"$f":"IF('Line 1 Source'!D1783<>\"\",'Line 1 Source'!D1783,\"\")","v":"6995"},{"$f":"IF('Line 1 Source'!E1783<>\"\",'Line 1 Source'!E1783,\"\")","v":"0180"},{"$f":"IF('Line 1 Source'!F1783<>\"\",'Line 1 Source'!F1783,\"\")","v":2165000}]
[{"$f":"IF('Line 1 Source'!A1784<>\"\",'Line 1 Source'!A1784,\"\")","v":"2018"},"7046995",{"$f":"CONCATENATE(VLOOKUP(B1784,'School List'!$B$3:$H$291,6,FALSE),H1784)","v":"69951214"},{"$f":"CONCATENATE(VLOOKUP(B1784,'School List'!$B$3:$D$291,3,FALSE),H1784)","v":"Rush County - RUSH COUNTY SCHOOL CORPORATION1214"},{"$f":"IF('Line 1 Source'!B1784<>\"\",'Line 1 Source'!B1784,\"\")","v":"70"},{"$f":"IF('Line 1 Source'!C1784<>\"\",'Line 1 Source'!C1784,\"\")","v":"4"},{"$f":"IF('Line 1 Source'!D1784<>\"\",'Line 1 Source'!D1784,\"\")","v":"6995"},{"$f":"IF('Line 1 Source'!E1784<>\"\",'Line 1 Source'!E1784,\"\")","v":"1214"},{"$f":"IF('Line 1 Source'!F1784<>\"\",'Line 1 Source'!F1784,\"\")","v":2868914}]
[{"$f":"IF('Line 1 Source'!A1785<>\"\",'Line 1 Source'!A1785,\"\")","v":"2018"},"7046995",{"$f":"CONCATENATE(VLOOKUP(B1785,'School List'!$B$3:$H$291,6,FALSE),H1785)","v":"69956301"},{"$f":"CONCATENATE(VLOOKUP(B1785,'School List'!$B$3:$D$291,3,FALSE),H1785)","v":"Rush County - RUSH COUNTY SCHOOL CORPORATION6301"},{"$f":"IF('Line 1 Source'!B1785<>\"\",'Line 1 Source'!B1785,\"\")","v":"70"},{"$f":"IF('Line 1 Source'!C1785<>\"\",'Line 1 Source'!C1785,\"\")","v":"4"},{"$f":"IF('Line 1 Source'!D1785<>\"\",'Line 1 Source'!D1785,\"\")","v":"6995"},{"$f":"IF('Line 1 Source'!E1785<>\"\",'Line 1 Source'!E1785,\"\")","v":"6301"},{"$f":"IF('Line 1 Source'!F1785<>\"\",'Line 1 Source'!F1785,\"\")","v":2625400}]
[{"$f":"IF('Line 1 Source'!A1786<>\"\",'Line 1 Source'!A1786,\"\")","v":"2018"},"7046995",{"$f":"CONCATENATE(VLOOKUP(B1786,'School List'!$B$3:$H$291,6,FALSE),H1786)","v":"69956302"},{"$f":"CONCATENATE(VLOOKUP(B1786,'School List'!$B$3:$D$291,3,FALSE),H1786)","v":"Rush County - RUSH COUNTY SCHOOL CORPORATION6302"},{"$f":"IF('Line 1 Source'!B1786<>\"\",'Line 1 Source'!B1786,\"\")","v":"70"},{"$f":"IF('Line 1 Source'!C1786<>\"\",'Line 1 Source'!C1786,\"\")","v":"4"},{"$f":"IF('Line 1 Source'!D1786<>\"\",'Line 1 Source'!D1786,\"\")","v":"6995"},{"$f":"IF('Line 1 Source'!E1786<>\"\",'Line 1 Source'!E1786,\"\")","v":"6302"},{"$f":"IF('Line 1 Source'!F1786<>\"\",'Line 1 Source'!F1786,\"\")","v":496882}]
[{"$f":"IF('Line 1 Source'!A1787<>\"\",'Line 1 Source'!A1787,\"\")","v":"2018"},"7144805",{"$f":"CONCATENATE(VLOOKUP(B1787,'School List'!$B$3:$H$291,6,FALSE),H1787)","v":{"$error":"#N/A"}},{"$f":"CONCATENATE(VLOOKUP(B1787,'School List'!$B$3:$D$291,3,FALSE),H1787)","v":{"$error":"#N/A"}},{"$f":"IF('Line 1 Source'!B1787<>\"\",'Line 1 Source'!B1787,\"\")","v":"71"},{"$f":"IF('Line 1 Source'!C1787<>\"\",'Line 1 Source'!C1787,\"\")","v":"4"},{"$f":"IF('Line 1 Source'!D1787<>\"\",'Line 1 Source'!D1787,\"\")","v":"4805"},{"$f":"IF('Line 1 Source'!E1787<>\"\",'Line 1 Source'!E1787,\"\")","v":"0061"},{"$f":"IF('Line 1 Source'!F1787<>\"\",'Line 1 Source'!F1787,\"\")","v":0}]
[{"$f":"IF('Line 1 Source'!A1788<>\"\",'Line 1 Source'!A1788,\"\")","v":"2018"},"7144805",{"$f":"CONCATENATE(VLOOKUP(B1788,'School List'!$B$3:$H$291,6,FALSE),H1788)","v":{"$error":"#N/A"}},{"$f":"CONCATENATE(VLOOKUP(B1788,'School List'!$B$3:$D$291,3,FALSE),H1788)","v":{"$error":"#N/A"}},{"$f":"IF('Line 1 Source'!B1788<>\"\",'Line 1 Source'!B1788,\"\")","v":"71"},{"$f":"IF('Line 1 Source'!C1788<>\"\",'Line 1 Source'!C1788,\"\")","v":"4"},{"$f":"IF('Line 1 Source'!D1788<>\"\",'Line 1 Source'!D1788,\"\")","v":"4805"},{"$f":"IF('Line 1 Source'!E1788<>\"\",'Line 1 Source'!E1788,\"\")","v":"0101"},{"$f":"IF('Line 1 Source'!F1788<>\"\",'Line 1 Source'!F1788,\"\")","v":0}]
[{"$f":"IF('Line 1 Source'!A1789<>\"\",'Line 1 Source'!A1789,\"\")","v":"2018"},"7144805",{"$f":"CONCATENATE(VLOOKUP(B1789,'School List'!$B$3:$H$291,6,FALSE),H1789)","v":{"$error":"#N/A"}},{"$f":"CONCATENATE(VLOOKUP(B1789,'School List'!$B$3:$D$291,3,FALSE),H1789)","v":{"$error":"#N/A"}},{"$f":"IF('Line 1 Source'!B1789<>\"\",'Line 1 Source'!B1789,\"\")","v":"71"},{"$f":"IF('Line 1 Source'!C1789<>\"\",'Line 1 Source'!C1789,\"\")","v":"4"},{"$f":"IF('Line 1 Source'!D1789<>\"\",'Line 1 Source'!D1789,\"\")","v":"4805"},{"$f":"IF('Line 1 Source'!E1789<>\"\",'Line 1 Source'!E1789,\"\")","v":"0180"},{"$f":"IF('Line 1 Source'!F1789<>\"\",'Line 1 Source'!F1789,\"\")","v":0}]
[{"$f":"IF('Line 1 Source'!A1790<>\"\",'Line 1 Source'!A1790,\"\")","v":"2018"},"7144805",{"$f":"CONCATENATE(VLOOKUP(B1790,'School List'!$B$3:$H$291,6,FALSE),H1790)","v":{"$error":"#N/A"}},{"$f":"CONCATENATE(VLOOKUP(B1790,'School List'!$B$3:$D$291,3,FALSE),H1790)","v":{"$error":"#N/A"}},{"$f":"IF('Line 1 Source'!B1790<>\"\",'Line 1 Source'!B1790,\"\")","v":"71"},{"$f":"IF('Line 1 Source'!C1790<>\"\",'Line 1 Source'!C1790,\"\")","v":"4"},{"$f":"IF('Line 1 Source'!D1790<>\"\",'Line 1 Source'!D1790,\"\")","v":"4805"},{"$f":"IF('Line 1 Source'!E1790<>\"\",'Line 1 Source'!E1790,\"\")","v":"0188"},{"$f":"IF('Line 1 Source'!F1790<>\"\",'Line 1 Source'!F1790,\"\")","v":0}]
[{"$f":"IF('Line 1 Source'!A1791<>\"\",'Line 1 Source'!A1791,\"\")","v":"2018"},"7144805",{"$f":"CONCATENATE(VLOOKUP(B1791,'School List'!$B$3:$H$291,6,FALSE),H1791)","v":{"$error":"#N/A"}},{"$f":"CONCATENATE(VLOOKUP(B1791,'School List'!$B$3:$D$291,3,FALSE),H1791)","v":{"$error":"#N/A"}},{"$f":"IF('Line 1 Source'!B1791<>\"\",'Line 1 Source'!B1791,\"\")","v":"71"},{"$f":"IF('Line 1 Source'!C1791<>\"\",'Line 1 Source'!C1791,\"\")","v":"4"},{"$f":"IF('Line 1 Source'!D1791<>\"\",'Line 1 Source'!D1791,\"\")","v":"4805"},{"$f":"IF('Line 1 Source'!E1791<>\"\",'Line 1 Source'!E1791,\"\")","v":"0189"},{"$f":"IF('Line 1 Source'!F1791<>\"\",'Line 1 Source'!F1791,\"\")","v":0}]
[{"$f":"IF('Line 1 Source'!A1792<>\"\",'Line 1 Source'!A1792,\"\")","v":"2018"},"7144805",{"$f":"CONCATENATE(VLOOKUP(B1792,'School List'!$B$3:$H$291,6,FALSE),H1792)","v":{"$error":"#N/A"}},{"$f":"CONCATENATE(VLOOKUP(B1792,'School List'!$B$3:$D$291,3,FALSE),H1792)","v":{"$error":"#N/A"}},{"$f":"IF('Line 1 Source'!B1792<>\"\",'Line 1 Source'!B1792,\"\")","v":"71"},{"$f":"IF('Line 1 Source'!C1792<>\"\",'Line 1 Source'!C1792,\"\")","v":"4"},{"$f":"IF('Line 1 Source'!D1792<>\"\",'Line 1 Source'!D1792,\"\")","v":"4805"},{"$f":"IF('Line 1 Source'!E1792<>\"\",'Line 1 Source'!E1792,\"\")","v":"0287"},{"$f":"IF('Line 1 Source'!F1792<>\"\",'Line 1 Source'!F1792,\"\")","v":0}]
[{"$f":"IF('Line 1 Source'!A1793<>\"\",'Line 1 Source'!A1793,\"\")","v":"2018"},"7144805",{"$f":"CONCATENATE(VLOOKUP(B1793,'School List'!$B$3:$H$291,6,FALSE),H1793)","v":{"$error":"#N/A"}},{"$f":"CONCATENATE(VLOOKUP(B1793,'School List'!$B$3:$D$291,3,FALSE),H1793)","v":{"$error":"#N/A"}},{"$f":"IF('Line 1 Source'!B1793<>\"\",'Line 1 Source'!B1793,\"\")","v":"71"},{"$f":"IF('Line 1 Source'!C1793<>\"\",'Line 1 Source'!C1793,\"\")","v":"4"},{"$f":"IF('Line 1 Source'!D1793<>\"\",'Line 1 Source'!D1793,\"\")","v":"4805"},{"$f":"IF('Line 1 Source'!E1793<>\"\",'Line 1 Source'!E1793,\"\")","v":"1214"},{"$f":"IF('Line 1 Source'!F1793<>\"\",'Line 1 Source'!F1793,\"\")","v":0}]
[{"$f":"IF('Line 1 Source'!A1794<>\"\",'Line 1 Source'!A1794,\"\")","v":"2018"},"7144805",{"$f":"CONCATENATE(VLOOKUP(B1794,'School List'!$B$3:$H$291,6,FALSE),H1794)","v":{"$error":"#N/A"}},{"$f":"CONCATENATE(VLOOKUP(B1794,'School List'!$B$3:$D$291,3,FALSE),H1794)","v":{"$error":"#N/A"}},{"$f":"IF('Line 1 Source'!B1794<>\"\",'Line 1 Source'!B1794,\"\")","v":"71"},{"$f":"IF('Line 1 Source'!C1794<>\"\",'Line 1 Source'!C1794,\"\")","v":"4"},{"$f":"IF('Line 1 Source'!D1794<>\"\",'Line 1 Source'!D1794,\"\")","v":"4805"},{"$f":"IF('Line 1 Source'!E1794<>\"\",'Line 1 Source'!E1794,\"\")","v":"6301"},{"$f":"IF('Line 1 Source'!F1794<>\"\",'Line 1 Source'!F1794,\"\")","v":0}]
[{"$f":"IF('Line 1 Source'!A1795<>\"\",'Line 1 Source'!A1795,\"\")","v":"2018"},{"$f":"CONCATENATE(E1795,F1795,G1795)","v":"7144805"},{"$f":"CONCATENATE(VLOOKUP(B1795,'School List'!$B$3:$H$291,6,FALSE),H1795)","v":{"$error":"#N/A"}},{"$f":"CONCATENATE(VLOOKUP(B1795,'School List'!$B$3:$D$291,3,FALSE),H1795)","v":{"$error":"#N/A"}},{"$f":"IF('Line 1 Source'!B1795<>\"\",'Line 1 Source'!B1795,\"\")","v":"71"},{"$f":"IF('Line 1 Source'!C1795<>\"\",'Line 1 Source'!C1795,\"\")","v":"4"},{"$f":"IF('Line 1 Source'!D1795<>\"\",'Line 1 Source'!D1795,\"\")","v":"4805"},{"$f":"IF('Line 1 Source'!E1795<>\"\",'Line 1 Source'!E1795,\"\")","v":"6302"},{"$f":"IF('Line 1 Source'!F1795<>\"\",'Line 1 Source'!F1795,\"\")","v":0}]
[{"$f":"IF('Line 1 Source'!A1796<>\"\",'Line 1 Source'!A1796,\"\")","v":"2018"},"7147150",{"$f":"CONCATENATE(VLOOKUP(B1796,'School List'!$B$3:$H$291,6,FALSE),H1796)","v":"71500061"},{"$f":"CONCATENATE(VLOOKUP(B1796,'School List'!$B$3:$D$291,3,FALSE),H1796)","v":"St. Joseph County - JOHN GLENN SCHOOL CORPORATION0061"},{"$f":"IF('Line 1 Source'!B1796<>\"\",'Line 1 Source'!B1796,\"\")","v":"71"},{"$f":"IF('Line 1 Source'!C1796<>\"\",'Line 1 Source'!C1796,\"\")","v":"4"},{"$f":"IF('Line 1 Source'!D1796<>\"\",'Line 1 Source'!D1796,\"\")","v":"7150"},{"$f":"IF('Line 1 Source'!E1796<>\"\",'Line 1 Source'!E1796,\"\")","v":"0061"},{"$f":"IF('Line 1 Source'!F1796<>\"\",'Line 1 Source'!F1796,\"\")","v":200000}]
[{"$f":"IF('Line 1 Source'!A1797<>\"\",'Line 1 Source'!A1797,\"\")","v":"2018"},"7147150",{"$f":"CONCATENATE(VLOOKUP(B1797,'School List'!$B$3:$H$291,6,FALSE),H1797)","v":"71500101"},{"$f":"CONCATENATE(VLOOKUP(B1797,'School List'!$B$3:$D$291,3,FALSE),H1797)","v":"St. Joseph County - JOHN GLENN SCHOOL CORPORATION0101"},{"$f":"IF('Line 1 Source'!B1797<>\"\",'Line 1 Source'!B1797,\"\")","v":"71"},{"$f":"IF('Line 1 Source'!C1797<>\"\",'Line 1 Source'!C1797,\"\")","v":"4"},{"$f":"IF('Line 1 Source'!D1797<>\"\",'Line 1 Source'!D1797,\"\")","v":"7150"},{"$f":"IF('Line 1 Source'!E1797<>\"\",'Line 1 Source'!E1797,\"\")","v":"0101"},{"$f":"IF('Line 1 Source'!F1797<>\"\",'Line 1 Source'!F1797,\"\")","v":12693585}]
[{"$f":"IF('Line 1 Source'!A1798<>\"\",'Line 1 Source'!A1798,\"\")","v":"2018"},"7147150",{"$f":"CONCATENATE(VLOOKUP(B1798,'School List'!$B$3:$H$291,6,FALSE),H1798)","v":"71500180"},{"$f":"CONCATENATE(VLOOKUP(B1798,'School List'!$B$3:$D$291,3,FALSE),H1798)","v":"St. Joseph County - JOHN GLENN SCHOOL CORPORATION0180"},{"$f":"IF('Line 1 Source'!B1798<>\"\",'Line 1 Source'!B1798,\"\")","v":"71"},{"$f":"IF('Line 1 Source'!C1798<>\"\",'Line 1 Source'!C1798,\"\")","v":"4"},{"$f":"IF('Line 1 Source'!D1798<>\"\",'Line 1 Source'!D1798,\"\")","v":"7150"},{"$f":"IF('Line 1 Source'!E1798<>\"\",'Line 1 Source'!E1798,\"\")","v":"0180"},{"$f":"IF('Line 1 Source'!F1798<>\"\",'Line 1 Source'!F1798,\"\")","v":467270}]
[{"$f":"IF('Line 1 Source'!A1799<>\"\",'Line 1 Source'!A1799,\"\")","v":"2018"},"7147150",{"$f":"CONCATENATE(VLOOKUP(B1799,'School List'!$B$3:$H$291,6,FALSE),H1799)","v":"71500188"},{"$f":"CONCATENATE(VLOOKUP(B1799,'School List'!$B$3:$D$291,3,FALSE),H1799)","v":"St. Joseph County - JOHN GLENN SCHOOL CORPORATION0188"},{"$f":"IF('Line 1 Source'!B1799<>\"\",'Line 1 Source'!B1799,\"\")","v":"71"},{"$f":"IF('Line 1 Source'!C1799<>\"\",'Line 1 Source'!C1799,\"\")","v":"4"},{"$f":"IF('Line 1 Source'!D1799<>\"\",'Line 1 Source'!D1799,\"\")","v":"7150"},{"$f":"IF('Line 1 Source'!E1799<>\"\",'Line 1 Source'!E1799,\"\")","v":"0188"},{"$f":"IF('Line 1 Source'!F1799<>\"\",'Line 1 Source'!F1799,\"\")","v":1636000}]
[{"$f":"IF('Line 1 Source'!A1800<>\"\",'Line 1 Source'!A1800,\"\")","v":"2018"},"7147150",{"$f":"CONCATENATE(VLOOKUP(B1800,'School List'!$B$3:$H$291,6,FALSE),H1800)","v":"71500189"},{"$f":"CONCATENATE(VLOOKUP(B1800,'School List'!$B$3:$D$291,3,FALSE),H1800)","v":"St. Joseph County - JOHN GLENN SCHOOL CORPORATION0189"},{"$f":"IF('Line 1 Source'!B1800<>\"\",'Line 1 Source'!B1800,\"\")","v":"71"},{"$f":"IF('Line 1 Source'!C1800<>\"\",'Line 1 Source'!C1800,\"\")","v":"4"},{"$f":"IF('Line 1 Source'!D1800<>\"\",'Line 1 Source'!D1800,\"\")","v":"7150"},{"$f":"IF('Line 1 Source'!E1800<>\"\",'Line 1 Source'!E1800,\"\")","v":"0189"},{"$f":"IF('Line 1 Source'!F1800<>\"\",'Line 1 Source'!F1800,\"\")","v":102102}]
[{"$f":"IF('Line 1 Source'!A1801<>\"\",'Line 1 Source'!A1801,\"\")","v":"2018"},"7147150",{"$f":"CONCATENATE(VLOOKUP(B1801,'School List'!$B$3:$H$291,6,FALSE),H1801)","v":"71501214"},{"$f":"CONCATENATE(VLOOKUP(B1801,'School List'!$B$3:$D$291,3,FALSE),H1801)","v":"St. Joseph County - JOHN GLENN SCHOOL CORPORATION1214"},{"$f":"IF('Line 1 Source'!B1801<>\"\",'Line 1 Source'!B1801,\"\")","v":"71"},{"$f":"IF('Line 1 Source'!C1801<>\"\",'Line 1 Source'!C1801,\"\")","v":"4"},{"$f":"IF('Line 1 Source'!D1801<>\"\",'Line 1 Source'!D1801,\"\")","v":"7150"},{"$f":"IF('Line 1 Source'!E1801<>\"\",'Line 1 Source'!E1801,\"\")","v":"1214"},{"$f":"IF('Line 1 Source'!F1801<>\"\",'Line 1 Source'!F1801,\"\")","v":1344165}]
[{"$f":"IF('Line 1 Source'!A1802<>\"\",'Line 1 Source'!A1802,\"\")","v":"2018"},"7147150",{"$f":"CONCATENATE(VLOOKUP(B1802,'School List'!$B$3:$H$291,6,FALSE),H1802)","v":"71506301"},{"$f":"CONCATENATE(VLOOKUP(B1802,'School List'!$B$3:$D$291,3,FALSE),H1802)","v":"St. Joseph County - JOHN GLENN SCHOOL CORPORATION6301"},{"$f":"IF('Line 1 Source'!B1802<>\"\",'Line 1 Source'!B1802,\"\")","v":"71"},{"$f":"IF('Line 1 Source'!C1802<>\"\",'Line 1 Source'!C1802,\"\")","v":"4"},{"$f":"IF('Line 1 Source'!D1802<>\"\",'Line 1 Source'!D1802,\"\")","v":"7150"},{"$f":"IF('Line 1 Source'!E1802<>\"\",'Line 1 Source'!E1802,\"\")","v":"6301"},{"$f":"IF('Line 1 Source'!F1802<>\"\",'Line 1 Source'!F1802,\"\")","v":936750}]
[{"$f":"IF('Line 1 Source'!A1803<>\"\",'Line 1 Source'!A1803,\"\")","v":"2018"},"7147150",{"$f":"CONCATENATE(VLOOKUP(B1803,'School List'!$B$3:$H$291,6,FALSE),H1803)","v":"71506302"},{"$f":"CONCATENATE(VLOOKUP(B1803,'School List'!$B$3:$D$291,3,FALSE),H1803)","v":"St. Joseph County - JOHN GLENN SCHOOL CORPORATION6302"},{"$f":"IF('Line 1 Source'!B1803<>\"\",'Line 1 Source'!B1803,\"\")","v":"71"},{"$f":"IF('Line 1 Source'!C1803<>\"\",'Line 1 Source'!C1803,\"\")","v":"4"},{"$f":"IF('Line 1 Source'!D1803<>\"\",'Line 1 Source'!D1803,\"\")","v":"7150"},{"$f":"IF('Line 1 Source'!E1803<>\"\",'Line 1 Source'!E1803,\"\")","v":"6302"},{"$f":"IF('Line 1 Source'!F1803<>\"\",'Line 1 Source'!F1803,\"\")","v":297492}]
[{"$f":"IF('Line 1 Source'!A1804<>\"\",'Line 1 Source'!A1804,\"\")","v":"2018"},"7147175",{"$f":"CONCATENATE(VLOOKUP(B1804,'School List'!$B$3:$H$291,6,FALSE),H1804)","v":"71750061"},{"$f":"CONCATENATE(VLOOKUP(B1804,'School List'!$B$3:$D$291,3,FALSE),H1804)","v":"St. Joseph County - PENN-HARRIS-MADISON-SCHOOL CORPORATION0061"},{"$f":"IF('Line 1 Source'!B1804<>\"\",'Line 1 Source'!B1804,\"\")","v":"71"},{"$f":"IF('Line 1 Source'!C1804<>\"\",'Line 1 Source'!C1804,\"\")","v":"4"},{"$f":"IF('Line 1 Source'!D1804<>\"\",'Line 1 Source'!D1804,\"\")","v":"7175"},{"$f":"IF('Line 1 Source'!E1804<>\"\",'Line 1 Source'!E1804,\"\")","v":"0061"},{"$f":"IF('Line 1 Source'!F1804<>\"\",'Line 1 Source'!F1804,\"\")","v":200000}]
[{"$f":"IF('Line 1 Source'!A1805<>\"\",'Line 1 Source'!A1805,\"\")","v":"2018"},"7147175",{"$f":"CONCATENATE(VLOOKUP(B1805,'School List'!$B$3:$H$291,6,FALSE),H1805)","v":"71750101"},{"$f":"CONCATENATE(VLOOKUP(B1805,'School List'!$B$3:$D$291,3,FALSE),H1805)","v":"St. Joseph County - PENN-HARRIS-MADISON-SCHOOL CORPORATION0101"},{"$f":"IF('Line 1 Source'!B1805<>\"\",'Line 1 Source'!B1805,\"\")","v":"71"},{"$f":"IF('Line 1 Source'!C1805<>\"\",'Line 1 Source'!C1805,\"\")","v":"4"},{"$f":"IF('Line 1 Source'!D1805<>\"\",'Line 1 Source'!D1805,\"\")","v":"7175"},{"$f":"IF('Line 1 Source'!E1805<>\"\",'Line 1 Source'!E1805,\"\")","v":"0101"},{"$f":"IF('Line 1 Source'!F1805<>\"\",'Line 1 Source'!F1805,\"\")","v":73065649}]
[{"$f":"IF('Line 1 Source'!A1806<>\"\",'Line 1 Source'!A1806,\"\")","v":"2018"},"7147175",{"$f":"CONCATENATE(VLOOKUP(B1806,'School List'!$B$3:$H$291,6,FALSE),H1806)","v":"71750180"},{"$f":"CONCATENATE(VLOOKUP(B1806,'School List'!$B$3:$D$291,3,FALSE),H1806)","v":"St. Joseph County - PENN-HARRIS-MADISON-SCHOOL CORPORATION0180"},{"$f":"IF('Line 1 Source'!B1806<>\"\",'Line 1 Source'!B1806,\"\")","v":"71"},{"$f":"IF('Line 1 Source'!C1806<>\"\",'Line 1 Source'!C1806,\"\")","v":"4"},{"$f":"IF('Line 1 Source'!D1806<>\"\",'Line 1 Source'!D1806,\"\")","v":"7175"},{"$f":"IF('Line 1 Source'!E1806<>\"\",'Line 1 Source'!E1806,\"\")","v":"0180"},{"$f":"IF('Line 1 Source'!F1806<>\"\",'Line 1 Source'!F1806,\"\")","v":7450280}]
[{"$f":"IF('Line 1 Source'!A1807<>\"\",'Line 1 Source'!A1807,\"\")","v":"2018"},"7147175",{"$f":"CONCATENATE(VLOOKUP(B1807,'School List'!$B$3:$H$291,6,FALSE),H1807)","v":"71750188"},{"$f":"CONCATENATE(VLOOKUP(B1807,'School List'!$B$3:$D$291,3,FALSE),H1807)","v":"St. Joseph County - PENN-HARRIS-MADISON-SCHOOL CORPORATION0188"},{"$f":"IF('Line 1 Source'!B1807<>\"\",'Line 1 Source'!B1807,\"\")","v":"71"},{"$f":"IF('Line 1 Source'!C1807<>\"\",'Line 1 Source'!C1807,\"\")","v":"4"},{"$f":"IF('Line 1 Source'!D1807<>\"\",'Line 1 Source'!D1807,\"\")","v":"7175"},{"$f":"IF('Line 1 Source'!E1807<>\"\",'Line 1 Source'!E1807,\"\")","v":"0188"},{"$f":"IF('Line 1 Source'!F1807<>\"\",'Line 1 Source'!F1807,\"\")","v":778000}]
[{"$f":"IF('Line 1 Source'!A1808<>\"\",'Line 1 Source'!A1808,\"\")","v":"2018"},"7147175",{"$f":"CONCATENATE(VLOOKUP(B1808,'School List'!$B$3:$H$291,6,FALSE),H1808)","v":"71750189"},{"$f":"CONCATENATE(VLOOKUP(B1808,'School List'!$B$3:$D$291,3,FALSE),H1808)","v":"St. Joseph County - PENN-HARRIS-MADISON-SCHOOL CORPORATION0189"},{"$f":"IF('Line 1 Source'!B1808<>\"\",'Line 1 Source'!B1808,\"\")","v":"71"},{"$f":"IF('Line 1 Source'!C1808<>\"\",'Line 1 Source'!C1808,\"\")","v":"4"},{"$f":"IF('Line 1 Source'!D1808<>\"\",'Line 1 Source'!D1808,\"\")","v":"7175"},{"$f":"IF('Line 1 Source'!E1808<>\"\",'Line 1 Source'!E1808,\"\")","v":"0189"},{"$f":"IF('Line 1 Source'!F1808<>\"\",'Line 1 Source'!F1808,\"\")","v":803437}]
[{"$f":"IF('Line 1 Source'!A1809<>\"\",'Line 1 Source'!A1809,\"\")","v":"2018"},"7147175",{"$f":"CONCATENATE(VLOOKUP(B1809,'School List'!$B$3:$H$291,6,FALSE),H1809)","v":"71750608"},{"$f":"CONCATENATE(VLOOKUP(B1809,'School List'!$B$3:$D$291,3,FALSE),H1809)","v":"St. Joseph County - PENN-HARRIS-MADISON-SCHOOL CORPORATION0608"},{"$f":"IF('Line 1 Source'!B1809<>\"\",'Line 1 Source'!B1809,\"\")","v":"71"},{"$f":"IF('Line 1 Source'!C1809<>\"\",'Line 1 Source'!C1809,\"\")","v":"4"},{"$f":"IF('Line 1 Source'!D1809<>\"\",'Line 1 Source'!D1809,\"\")","v":"7175"},{"$f":"IF('Line 1 Source'!E1809<>\"\",'Line 1 Source'!E1809,\"\")","v":"0608"},{"$f":"IF('Line 1 Source'!F1809<>\"\",'Line 1 Source'!F1809,\"\")","v":144133}]
[{"$f":"IF('Line 1 Source'!A1810<>\"\",'Line 1 Source'!A1810,\"\")","v":"2018"},"7147175",{"$f":"CONCATENATE(VLOOKUP(B1810,'School List'!$B$3:$H$291,6,FALSE),H1810)","v":"71751214"},{"$f":"CONCATENATE(VLOOKUP(B1810,'School List'!$B$3:$D$291,3,FALSE),H1810)","v":"St. Joseph County - PENN-HARRIS-MADISON-SCHOOL CORPORATION1214"},{"$f":"IF('Line 1 Source'!B1810<>\"\",'Line 1 Source'!B1810,\"\")","v":"71"},{"$f":"IF('Line 1 Source'!C1810<>\"\",'Line 1 Source'!C1810,\"\")","v":"4"},{"$f":"IF('Line 1 Source'!D1810<>\"\",'Line 1 Source'!D1810,\"\")","v":"7175"},{"$f":"IF('Line 1 Source'!E1810<>\"\",'Line 1 Source'!E1810,\"\")","v":"1214"},{"$f":"IF('Line 1 Source'!F1810<>\"\",'Line 1 Source'!F1810,\"\")","v":7589016}]
[{"$f":"IF('Line 1 Source'!A1811<>\"\",'Line 1 Source'!A1811,\"\")","v":"2018"},"7147175",{"$f":"CONCATENATE(VLOOKUP(B1811,'School List'!$B$3:$H$291,6,FALSE),H1811)","v":"71752016"},{"$f":"CONCATENATE(VLOOKUP(B1811,'School List'!$B$3:$D$291,3,FALSE),H1811)","v":"St. Joseph County - PENN-HARRIS-MADISON-SCHOOL CORPORATION2016"},{"$f":"IF('Line 1 Source'!B1811<>\"\",'Line 1 Source'!B1811,\"\")","v":"71"},{"$f":"IF('Line 1 Source'!C1811<>\"\",'Line 1 Source'!C1811,\"\")","v":"4"},{"$f":"IF('Line 1 Source'!D1811<>\"\",'Line 1 Source'!D1811,\"\")","v":"7175"},{"$f":"IF('Line 1 Source'!E1811<>\"\",'Line 1 Source'!E1811,\"\")","v":"2016"},{"$f":"IF('Line 1 Source'!F1811<>\"\",'Line 1 Source'!F1811,\"\")","v":146036}]
[{"$f":"IF('Line 1 Source'!A1812<>\"\",'Line 1 Source'!A1812,\"\")","v":"2018"},"7147175",{"$f":"CONCATENATE(VLOOKUP(B1812,'School List'!$B$3:$H$291,6,FALSE),H1812)","v":"71756301"},{"$f":"CONCATENATE(VLOOKUP(B1812,'School List'!$B$3:$D$291,3,FALSE),H1812)","v":"St. Joseph County - PENN-HARRIS-MADISON-SCHOOL CORPORATION6301"},{"$f":"IF('Line 1 Source'!B1812<>\"\",'Line 1 Source'!B1812,\"\")","v":"71"},{"$f":"IF('Line 1 Source'!C1812<>\"\",'Line 1 Source'!C1812,\"\")","v":"4"},{"$f":"IF('Line 1 Source'!D1812<>\"\",'Line 1 Source'!D1812,\"\")","v":"7175"},{"$f":"IF('Line 1 Source'!E1812<>\"\",'Line 1 Source'!E1812,\"\")","v":"6301"},{"$f":"IF('Line 1 Source'!F1812<>\"\",'Line 1 Source'!F1812,\"\")","v":6332348}]
[{"$f":"IF('Line 1 Source'!A1813<>\"\",'Line 1 Source'!A1813,\"\")","v":"2018"},"7147175",{"$f":"CONCATENATE(VLOOKUP(B1813,'School List'!$B$3:$H$291,6,FALSE),H1813)","v":"71756302"},{"$f":"CONCATENATE(VLOOKUP(B1813,'School List'!$B$3:$D$291,3,FALSE),H1813)","v":"St. Joseph County - PENN-HARRIS-MADISON-SCHOOL CORPORATION6302"},{"$f":"IF('Line 1 Source'!B1813<>\"\",'Line 1 Source'!B1813,\"\")","v":"71"},{"$f":"IF('Line 1 Source'!C1813<>\"\",'Line 1 Source'!C1813,\"\")","v":"4"},{"$f":"IF('Line 1 Source'!D1813<>\"\",'Line 1 Source'!D1813,\"\")","v":"7175"},{"$f":"IF('Line 1 Source'!E1813<>\"\",'Line 1 Source'!E1813,\"\")","v":"6302"},{"$f":"IF('Line 1 Source'!F1813<>\"\",'Line 1 Source'!F1813,\"\")","v":637421}]
[{"$f":"IF('Line 1 Source'!A1814<>\"\",'Line 1 Source'!A1814,\"\")","v":"2018"},"7147200",{"$f":"CONCATENATE(VLOOKUP(B1814,'School List'!$B$3:$H$291,6,FALSE),H1814)","v":"72000022"},{"$f":"CONCATENATE(VLOOKUP(B1814,'School List'!$B$3:$D$291,3,FALSE),H1814)","v":"St. Joseph County - MISHAWAKA CITY SCHOOL CORPORATION0022"},{"$f":"IF('Line 1 Source'!B1814<>\"\",'Line 1 Source'!B1814,\"\")","v":"71"},{"$f":"IF('Line 1 Source'!C1814<>\"\",'Line 1 Source'!C1814,\"\")","v":"4"},{"$f":"IF('Line 1 Source'!D1814<>\"\",'Line 1 Source'!D1814,\"\")","v":"7200"},{"$f":"IF('Line 1 Source'!E1814<>\"\",'Line 1 Source'!E1814,\"\")","v":"0022"},{"$f":"IF('Line 1 Source'!F1814<>\"\",'Line 1 Source'!F1814,\"\")","v":1641676}]
[{"$f":"IF('Line 1 Source'!A1815<>\"\",'Line 1 Source'!A1815,\"\")","v":"2018"},"7147200",{"$f":"CONCATENATE(VLOOKUP(B1815,'School List'!$B$3:$H$291,6,FALSE),H1815)","v":"72000101"},{"$f":"CONCATENATE(VLOOKUP(B1815,'School List'!$B$3:$D$291,3,FALSE),H1815)","v":"St. Joseph County - MISHAWAKA CITY SCHOOL CORPORATION0101"},{"$f":"IF('Line 1 Source'!B1815<>\"\",'Line 1 Source'!B1815,\"\")","v":"71"},{"$f":"IF('Line 1 Source'!C1815<>\"\",'Line 1 Source'!C1815,\"\")","v":"4"},{"$f":"IF('Line 1 Source'!D1815<>\"\",'Line 1 Source'!D1815,\"\")","v":"7200"},{"$f":"IF('Line 1 Source'!E1815<>\"\",'Line 1 Source'!E1815,\"\")","v":"0101"},{"$f":"IF('Line 1 Source'!F1815<>\"\",'Line 1 Source'!F1815,\"\")","v":39154666}]
[{"$f":"IF('Line 1 Source'!A1816<>\"\",'Line 1 Source'!A1816,\"\")","v":"2018"},"7147200",{"$f":"CONCATENATE(VLOOKUP(B1816,'School List'!$B$3:$H$291,6,FALSE),H1816)","v":"72000180"},{"$f":"CONCATENATE(VLOOKUP(B1816,'School List'!$B$3:$D$291,3,FALSE),H1816)","v":"St. Joseph County - MISHAWAKA CITY SCHOOL CORPORATION0180"},{"$f":"IF('Line 1 Source'!B1816<>\"\",'Line 1 Source'!B1816,\"\")","v":"71"},{"$f":"IF('Line 1 Source'!C1816<>\"\",'Line 1 Source'!C1816,\"\")","v":"4"},{"$f":"IF('Line 1 Source'!D1816<>\"\",'Line 1 Source'!D1816,\"\")","v":"7200"},{"$f":"IF('Line 1 Source'!E1816<>\"\",'Line 1 Source'!E1816,\"\")","v":"0180"},{"$f":"IF('Line 1 Source'!F1816<>\"\",'Line 1 Source'!F1816,\"\")","v":624108}]
[{"$f":"IF('Line 1 Source'!A1817<>\"\",'Line 1 Source'!A1817,\"\")","v":"2018"},"7147200",{"$f":"CONCATENATE(VLOOKUP(B1817,'School List'!$B$3:$H$291,6,FALSE),H1817)","v":"72000188"},{"$f":"CONCATENATE(VLOOKUP(B1817,'School List'!$B$3:$D$291,3,FALSE),H1817)","v":"St. Joseph County - MISHAWAKA CITY SCHOOL CORPORATION0188"},{"$f":"IF('Line 1 Source'!B1817<>\"\",'Line 1 Source'!B1817,\"\")","v":"71"},{"$f":"IF('Line 1 Source'!C1817<>\"\",'Line 1 Source'!C1817,\"\")","v":"4"},{"$f":"IF('Line 1 Source'!D1817<>\"\",'Line 1 Source'!D1817,\"\")","v":"7200"},{"$f":"IF('Line 1 Source'!E1817<>\"\",'Line 1 Source'!E1817,\"\")","v":"0188"},{"$f":"IF('Line 1 Source'!F1817<>\"\",'Line 1 Source'!F1817,\"\")","v":5676749}]
[{"$f":"IF('Line 1 Source'!A1818<>\"\",'Line 1 Source'!A1818,\"\")","v":"2018"},"7147200",{"$f":"CONCATENATE(VLOOKUP(B1818,'School List'!$B$3:$H$291,6,FALSE),H1818)","v":"72000287"},{"$f":"CONCATENATE(VLOOKUP(B1818,'School List'!$B$3:$D$291,3,FALSE),H1818)","v":"St. Joseph County - MISHAWAKA CITY SCHOOL CORPORATION0287"},{"$f":"IF('Line 1 Source'!B1818<>\"\",'Line 1 Source'!B1818,\"\")","v":"71"},{"$f":"IF('Line 1 Source'!C1818<>\"\",'Line 1 Source'!C1818,\"\")","v":"4"},{"$f":"IF('Line 1 Source'!D1818<>\"\",'Line 1 Source'!D1818,\"\")","v":"7200"},{"$f":"IF('Line 1 Source'!E1818<>\"\",'Line 1 Source'!E1818,\"\")","v":"0287"},{"$f":"IF('Line 1 Source'!F1818<>\"\",'Line 1 Source'!F1818,\"\")","v":587000}]
[{"$f":"IF('Line 1 Source'!A1819<>\"\",'Line 1 Source'!A1819,\"\")","v":"2018"},"7147200",{"$f":"CONCATENATE(VLOOKUP(B1819,'School List'!$B$3:$H$291,6,FALSE),H1819)","v":"72000608"},{"$f":"CONCATENATE(VLOOKUP(B1819,'School List'!$B$3:$D$291,3,FALSE),H1819)","v":"St. Joseph County - MISHAWAKA CITY SCHOOL CORPORATION0608"},{"$f":"IF('Line 1 Source'!B1819<>\"\",'Line 1 Source'!B1819,\"\")","v":"71"},{"$f":"IF('Line 1 Source'!C1819<>\"\",'Line 1 Source'!C1819,\"\")","v":"4"},{"$f":"IF('Line 1 Source'!D1819<>\"\",'Line 1 Source'!D1819,\"\")","v":"7200"},{"$f":"IF('Line 1 Source'!E1819<>\"\",'Line 1 Source'!E1819,\"\")","v":"0608"},{"$f":"IF('Line 1 Source'!F1819<>\"\",'Line 1 Source'!F1819,\"\")","v":62350}]
[{"$f":"IF('Line 1 Source'!A1820<>\"\",'Line 1 Source'!A1820,\"\")","v":"2018"},"7147200",{"$f":"CONCATENATE(VLOOKUP(B1820,'School List'!$B$3:$H$291,6,FALSE),H1820)","v":"72001214"},{"$f":"CONCATENATE(VLOOKUP(B1820,'School List'!$B$3:$D$291,3,FALSE),H1820)","v":"St. Joseph County - MISHAWAKA CITY SCHOOL CORPORATION1214"},{"$f":"IF('Line 1 Source'!B1820<>\"\",'Line 1 Source'!B1820,\"\")","v":"71"},{"$f":"IF('Line 1 Source'!C1820<>\"\",'Line 1 Source'!C1820,\"\")","v":"4"},{"$f":"IF('Line 1 Source'!D1820<>\"\",'Line 1 Source'!D1820,\"\")","v":"7200"},{"$f":"IF('Line 1 Source'!E1820<>\"\",'Line 1 Source'!E1820,\"\")","v":"1214"},{"$f":"IF('Line 1 Source'!F1820<>\"\",'Line 1 Source'!F1820,\"\")","v":2271212}]
[{"$f":"IF('Line 1 Source'!A1821<>\"\",'Line 1 Source'!A1821,\"\")","v":"2018"},"7147200",{"$f":"CONCATENATE(VLOOKUP(B1821,'School List'!$B$3:$H$291,6,FALSE),H1821)","v":"72006301"},{"$f":"CONCATENATE(VLOOKUP(B1821,'School List'!$B$3:$D$291,3,FALSE),H1821)","v":"St. Joseph County - MISHAWAKA CITY SCHOOL CORPORATION6301"},{"$f":"IF('Line 1 Source'!B1821<>\"\",'Line 1 Source'!B1821,\"\")","v":"71"},{"$f":"IF('Line 1 Source'!C1821<>\"\",'Line 1 Source'!C1821,\"\")","v":"4"},{"$f":"IF('Line 1 Source'!D1821<>\"\",'Line 1 Source'!D1821,\"\")","v":"7200"},{"$f":"IF('Line 1 Source'!E1821<>\"\",'Line 1 Source'!E1821,\"\")","v":"6301"},{"$f":"IF('Line 1 Source'!F1821<>\"\",'Line 1 Source'!F1821,\"\")","v":830290}]
[{"$f":"IF('Line 1 Source'!A1822<>\"\",'Line 1 Source'!A1822,\"\")","v":"2018"},"7147200",{"$f":"CONCATENATE(VLOOKUP(B1822,'School List'!$B$3:$H$291,6,FALSE),H1822)","v":"72006302"},{"$f":"CONCATENATE(VLOOKUP(B1822,'School List'!$B$3:$D$291,3,FALSE),H1822)","v":"St. Joseph County - MISHAWAKA CITY SCHOOL CORPORATION6302"},{"$f":"IF('Line 1 Source'!B1822<>\"\",'Line 1 Source'!B1822,\"\")","v":"71"},{"$f":"IF('Line 1 Source'!C1822<>\"\",'Line 1 Source'!C1822,\"\")","v":"4"},{"$f":"IF('Line 1 Source'!D1822<>\"\",'Line 1 Source'!D1822,\"\")","v":"7200"},{"$f":"IF('Line 1 Source'!E1822<>\"\",'Line 1 Source'!E1822,\"\")","v":"6302"},{"$f":"IF('Line 1 Source'!F1822<>\"\",'Line 1 Source'!F1822,\"\")","v":124127}]
[{"$f":"IF('Line 1 Source'!A1823<>\"\",'Line 1 Source'!A1823,\"\")","v":"2018"},"7147205",{"$f":"CONCATENATE(VLOOKUP(B1823,'School List'!$B$3:$H$291,6,FALSE),H1823)","v":"72050101"},{"$f":"CONCATENATE(VLOOKUP(B1823,'School List'!$B$3:$D$291,3,FALSE),H1823)","v":"St. Joseph County - SOUTH BEND COMMUNITY SCHOOL CORPORATION0101"},{"$f":"IF('Line 1 Source'!B1823<>\"\",'Line 1 Source'!B1823,\"\")","v":"71"},{"$f":"IF('Line 1 Source'!C1823<>\"\",'Line 1 Source'!C1823,\"\")","v":"4"},{"$f":"IF('Line 1 Source'!D1823<>\"\",'Line 1 Source'!D1823,\"\")","v":"7205"},{"$f":"IF('Line 1 Source'!E1823<>\"\",'Line 1 Source'!E1823,\"\")","v":"0101"},{"$f":"IF('Line 1 Source'!F1823<>\"\",'Line 1 Source'!F1823,\"\")","v":129490603}]
[{"$f":"IF('Line 1 Source'!A1824<>\"\",'Line 1 Source'!A1824,\"\")","v":"2018"},"7147205",{"$f":"CONCATENATE(VLOOKUP(B1824,'School List'!$B$3:$H$291,6,FALSE),H1824)","v":"72050180"},{"$f":"CONCATENATE(VLOOKUP(B1824,'School List'!$B$3:$D$291,3,FALSE),H1824)","v":"St. Joseph County - SOUTH BEND COMMUNITY SCHOOL CORPORATION0180"},{"$f":"IF('Line 1 Source'!B1824<>\"\",'Line 1 Source'!B1824,\"\")","v":"71"},{"$f":"IF('Line 1 Source'!C1824<>\"\",'Line 1 Source'!C1824,\"\")","v":"4"},{"$f":"IF('Line 1 Source'!D1824<>\"\",'Line 1 Source'!D1824,\"\")","v":"7205"},{"$f":"IF('Line 1 Source'!E1824<>\"\",'Line 1 Source'!E1824,\"\")","v":"0180"},{"$f":"IF('Line 1 Source'!F1824<>\"\",'Line 1 Source'!F1824,\"\")","v":1215065}]
[{"$f":"IF('Line 1 Source'!A1825<>\"\",'Line 1 Source'!A1825,\"\")","v":"2018"},"7147205",{"$f":"CONCATENATE(VLOOKUP(B1825,'School List'!$B$3:$H$291,6,FALSE),H1825)","v":"72050188"},{"$f":"CONCATENATE(VLOOKUP(B1825,'School List'!$B$3:$D$291,3,FALSE),H1825)","v":"St. Joseph County - SOUTH BEND COMMUNITY SCHOOL CORPORATION0188"},{"$f":"IF('Line 1 Source'!B1825<>\"\",'Line 1 Source'!B1825,\"\")","v":"71"},{"$f":"IF('Line 1 Source'!C1825<>\"\",'Line 1 Source'!C1825,\"\")","v":"4"},{"$f":"IF('Line 1 Source'!D1825<>\"\",'Line 1 Source'!D1825,\"\")","v":"7205"},{"$f":"IF('Line 1 Source'!E1825<>\"\",'Line 1 Source'!E1825,\"\")","v":"0188"},{"$f":"IF('Line 1 Source'!F1825<>\"\",'Line 1 Source'!F1825,\"\")","v":17976788}]
[{"$f":"IF('Line 1 Source'!A1826<>\"\",'Line 1 Source'!A1826,\"\")","v":"2018"},"7147205",{"$f":"CONCATENATE(VLOOKUP(B1826,'School List'!$B$3:$H$291,6,FALSE),H1826)","v":"72050189"},{"$f":"CONCATENATE(VLOOKUP(B1826,'School List'!$B$3:$D$291,3,FALSE),H1826)","v":"St. Joseph County - SOUTH BEND COMMUNITY SCHOOL CORPORATION0189"},{"$f":"IF('Line 1 Source'!B1826<>\"\",'Line 1 Source'!B1826,\"\")","v":"71"},{"$f":"IF('Line 1 Source'!C1826<>\"\",'Line 1 Source'!C1826,\"\")","v":"4"},{"$f":"IF('Line 1 Source'!D1826<>\"\",'Line 1 Source'!D1826,\"\")","v":"7205"},{"$f":"IF('Line 1 Source'!E1826<>\"\",'Line 1 Source'!E1826,\"\")","v":"0189"},{"$f":"IF('Line 1 Source'!F1826<>\"\",'Line 1 Source'!F1826,\"\")","v":3008563}]
[{"$f":"IF('Line 1 Source'!A1827<>\"\",'Line 1 Source'!A1827,\"\")","v":"2018"},"7147205",{"$f":"CONCATENATE(VLOOKUP(B1827,'School List'!$B$3:$H$291,6,FALSE),H1827)","v":"72050608"},{"$f":"CONCATENATE(VLOOKUP(B1827,'School List'!$B$3:$D$291,3,FALSE),H1827)","v":"St. Joseph County - SOUTH BEND COMMUNITY SCHOOL CORPORATION0608"},{"$f":"IF('Line 1 Source'!B1827<>\"\",'Line 1 Source'!B1827,\"\")","v":"71"},{"$f":"IF('Line 1 Source'!C1827<>\"\",'Line 1 Source'!C1827,\"\")","v":"4"},{"$f":"IF('Line 1 Source'!D1827<>\"\",'Line 1 Source'!D1827,\"\")","v":"7205"},{"$f":"IF('Line 1 Source'!E1827<>\"\",'Line 1 Source'!E1827,\"\")","v":"0608"},{"$f":"IF('Line 1 Source'!F1827<>\"\",'Line 1 Source'!F1827,\"\")","v":177873}]
[{"$f":"IF('Line 1 Source'!A1828<>\"\",'Line 1 Source'!A1828,\"\")","v":"2018"},"7147205",{"$f":"CONCATENATE(VLOOKUP(B1828,'School List'!$B$3:$H$291,6,FALSE),H1828)","v":"72051214"},{"$f":"CONCATENATE(VLOOKUP(B1828,'School List'!$B$3:$D$291,3,FALSE),H1828)","v":"St. Joseph County - SOUTH BEND COMMUNITY SCHOOL CORPORATION1214"},{"$f":"IF('Line 1 Source'!B1828<>\"\",'Line 1 Source'!B1828,\"\")","v":"71"},{"$f":"IF('Line 1 Source'!C1828<>\"\",'Line 1 Source'!C1828,\"\")","v":"4"},{"$f":"IF('Line 1 Source'!D1828<>\"\",'Line 1 Source'!D1828,\"\")","v":"7205"},{"$f":"IF('Line 1 Source'!E1828<>\"\",'Line 1 Source'!E1828,\"\")","v":"1214"},{"$f":"IF('Line 1 Source'!F1828<>\"\",'Line 1 Source'!F1828,\"\")","v":15551758}]
[{"$f":"IF('Line 1 Source'!A1829<>\"\",'Line 1 Source'!A1829,\"\")","v":"2018"},"7147205",{"$f":"CONCATENATE(VLOOKUP(B1829,'School List'!$B$3:$H$291,6,FALSE),H1829)","v":"72052016"},{"$f":"CONCATENATE(VLOOKUP(B1829,'School List'!$B$3:$D$291,3,FALSE),H1829)","v":"St. Joseph County - SOUTH BEND COMMUNITY SCHOOL CORPORATION2016"},{"$f":"IF('Line 1 Source'!B1829<>\"\",'Line 1 Source'!B1829,\"\")","v":"71"},{"$f":"IF('Line 1 Source'!C1829<>\"\",'Line 1 Source'!C1829,\"\")","v":"4"},{"$f":"IF('Line 1 Source'!D1829<>\"\",'Line 1 Source'!D1829,\"\")","v":"7205"},{"$f":"IF('Line 1 Source'!E1829<>\"\",'Line 1 Source'!E1829,\"\")","v":"2016"},{"$f":"IF('Line 1 Source'!F1829<>\"\",'Line 1 Source'!F1829,\"\")","v":177873}]
[{"$f":"IF('Line 1 Source'!A1830<>\"\",'Line 1 Source'!A1830,\"\")","v":"2018"},"7147205",{"$f":"CONCATENATE(VLOOKUP(B1830,'School List'!$B$3:$H$291,6,FALSE),H1830)","v":"72056301"},{"$f":"CONCATENATE(VLOOKUP(B1830,'School List'!$B$3:$D$291,3,FALSE),H1830)","v":"St. Joseph County - SOUTH BEND COMMUNITY SCHOOL CORPORATION6301"},{"$f":"IF('Line 1 Source'!B1830<>\"\",'Line 1 Source'!B1830,\"\")","v":"71"},{"$f":"IF('Line 1 Source'!C1830<>\"\",'Line 1 Source'!C1830,\"\")","v":"4"},{"$f":"IF('Line 1 Source'!D1830<>\"\",'Line 1 Source'!D1830,\"\")","v":"7205"},{"$f":"IF('Line 1 Source'!E1830<>\"\",'Line 1 Source'!E1830,\"\")","v":"6301"},{"$f":"IF('Line 1 Source'!F1830<>\"\",'Line 1 Source'!F1830,\"\")","v":14617777}]
[{"$f":"IF('Line 1 Source'!A1831<>\"\",'Line 1 Source'!A1831,\"\")","v":"2018"},"7147205",{"$f":"CONCATENATE(VLOOKUP(B1831,'School List'!$B$3:$H$291,6,FALSE),H1831)","v":"72056302"},{"$f":"CONCATENATE(VLOOKUP(B1831,'School List'!$B$3:$D$291,3,FALSE),H1831)","v":"St. Joseph County - SOUTH BEND COMMUNITY SCHOOL CORPORATION6302"},{"$f":"IF('Line 1 Source'!B1831<>\"\",'Line 1 Source'!B1831,\"\")","v":"71"},{"$f":"IF('Line 1 Source'!C1831<>\"\",'Line 1 Source'!C1831,\"\")","v":"4"},{"$f":"IF('Line 1 Source'!D1831<>\"\",'Line 1 Source'!D1831,\"\")","v":"7205"},{"$f":"IF('Line 1 Source'!E1831<>\"\",'Line 1 Source'!E1831,\"\")","v":"6302"},{"$f":"IF('Line 1 Source'!F1831<>\"\",'Line 1 Source'!F1831,\"\")","v":938654}]
[{"$f":"IF('Line 1 Source'!A1832<>\"\",'Line 1 Source'!A1832,\"\")","v":"2018"},"7147215",{"$f":"CONCATENATE(VLOOKUP(B1832,'School List'!$B$3:$H$291,6,FALSE),H1832)","v":{"$error":"#N/A"}},{"$f":"CONCATENATE(VLOOKUP(B1832,'School List'!$B$3:$D$291,3,FALSE),H1832)","v":{"$error":"#N/A"}},{"$f":"IF('Line 1 Source'!B1832<>\"\",'Line 1 Source'!B1832,\"\")","v":"71"},{"$f":"IF('Line 1 Source'!C1832<>\"\",'Line 1 Source'!C1832,\"\")","v":"4"},{"$f":"IF('Line 1 Source'!D1832<>\"\",'Line 1 Source'!D1832,\"\")","v":"7215"},{"$f":"IF('Line 1 Source'!E1832<>\"\",'Line 1 Source'!E1832,\"\")","v":"0061"},{"$f":"IF('Line 1 Source'!F1832<>\"\",'Line 1 Source'!F1832,\"\")","v":0}]
[{"$f":"IF('Line 1 Source'!A1833<>\"\",'Line 1 Source'!A1833,\"\")","v":"2018"},"7147215",{"$f":"CONCATENATE(VLOOKUP(B1833,'School List'!$B$3:$H$291,6,FALSE),H1833)","v":{"$error":"#N/A"}},{"$f":"CONCATENATE(VLOOKUP(B1833,'School List'!$B$3:$D$291,3,FALSE),H1833)","v":{"$error":"#N/A"}},{"$f":"IF('Line 1 Source'!B1833<>\"\",'Line 1 Source'!B1833,\"\")","v":"71"},{"$f":"IF('Line 1 Source'!C1833<>\"\",'Line 1 Source'!C1833,\"\")","v":"4"},{"$f":"IF('Line 1 Source'!D1833<>\"\",'Line 1 Source'!D1833,\"\")","v":"7215"},{"$f":"IF('Line 1 Source'!E1833<>\"\",'Line 1 Source'!E1833,\"\")","v":"0101"},{"$f":"IF('Line 1 Source'!F1833<>\"\",'Line 1 Source'!F1833,\"\")","v":0}]
[{"$f":"IF('Line 1 Source'!A1834<>\"\",'Line 1 Source'!A1834,\"\")","v":"2018"},"7147215",{"$f":"CONCATENATE(VLOOKUP(B1834,'School List'!$B$3:$H$291,6,FALSE),H1834)","v":{"$error":"#N/A"}},{"$f":"CONCATENATE(VLOOKUP(B1834,'School List'!$B$3:$D$291,3,FALSE),H1834)","v":{"$error":"#N/A"}},{"$f":"IF('Line 1 Source'!B1834<>\"\",'Line 1 Source'!B1834,\"\")","v":"71"},{"$f":"IF('Line 1 Source'!C1834<>\"\",'Line 1 Source'!C1834,\"\")","v":"4"},{"$f":"IF('Line 1 Source'!D1834<>\"\",'Line 1 Source'!D1834,\"\")","v":"7215"},{"$f":"IF('Line 1 Source'!E1834<>\"\",'Line 1 Source'!E1834,\"\")","v":"0180"},{"$f":"IF('Line 1 Source'!F1834<>\"\",'Line 1 Source'!F1834,\"\")","v":0}]
[{"$f":"IF('Line 1 Source'!A1835<>\"\",'Line 1 Source'!A1835,\"\")","v":"2018"},"7147215",{"$f":"CONCATENATE(VLOOKUP(B1835,'School List'!$B$3:$H$291,6,FALSE),H1835)","v":{"$error":"#N/A"}},{"$f":"CONCATENATE(VLOOKUP(B1835,'School List'!$B$3:$D$291,3,FALSE),H1835)","v":{"$error":"#N/A"}},{"$f":"IF('Line 1 Source'!B1835<>\"\",'Line 1 Source'!B1835,\"\")","v":"71"},{"$f":"IF('Line 1 Source'!C1835<>\"\",'Line 1 Source'!C1835,\"\")","v":"4"},{"$f":"IF('Line 1 Source'!D1835<>\"\",'Line 1 Source'!D1835,\"\")","v":"7215"},{"$f":"IF('Line 1 Source'!E1835<>\"\",'Line 1 Source'!E1835,\"\")","v":"1214"},{"$f":"IF('Line 1 Source'!F1835<>\"\",'Line 1 Source'!F1835,\"\")","v":0}]
[{"$f":"IF('Line 1 Source'!A1836<>\"\",'Line 1 Source'!A1836,\"\")","v":"2018"},"7147215",{"$f":"CONCATENATE(VLOOKUP(B1836,'School List'!$B$3:$H$291,6,FALSE),H1836)","v":{"$error":"#N/A"}},{"$f":"CONCATENATE(VLOOKUP(B1836,'School List'!$B$3:$D$291,3,FALSE),H1836)","v":{"$error":"#N/A"}},{"$f":"IF('Line 1 Source'!B1836<>\"\",'Line 1 Source'!B1836,\"\")","v":"71"},{"$f":"IF('Line 1 Source'!C1836<>\"\",'Line 1 Source'!C1836,\"\")","v":"4"},{"$f":"IF('Line 1 Source'!D1836<>\"\",'Line 1 Source'!D1836,\"\")","v":"7215"},{"$f":"IF('Line 1 Source'!E1836<>\"\",'Line 1 Source'!E1836,\"\")","v":"6301"},{"$f":"IF('Line 1 Source'!F1836<>\"\",'Line 1 Source'!F1836,\"\")","v":0}]
[{"$f":"IF('Line 1 Source'!A1837<>\"\",'Line 1 Source'!A1837,\"\")","v":"2018"},"7147215",{"$f":"CONCATENATE(VLOOKUP(B1837,'School List'!$B$3:$H$291,6,FALSE),H1837)","v":{"$error":"#N/A"}},{"$f":"CONCATENATE(VLOOKUP(B1837,'School List'!$B$3:$D$291,3,FALSE),H1837)","v":{"$error":"#N/A"}},{"$f":"IF('Line 1 Source'!B1837<>\"\",'Line 1 Source'!B1837,\"\")","v":"71"},{"$f":"IF('Line 1 Source'!C1837<>\"\",'Line 1 Source'!C1837,\"\")","v":"4"},{"$f":"IF('Line 1 Source'!D1837<>\"\",'Line 1 Source'!D1837,\"\")","v":"7215"},{"$f":"IF('Line 1 Source'!E1837<>\"\",'Line 1 Source'!E1837,\"\")","v":"6302"},{"$f":"IF('Line 1 Source'!F1837<>\"\",'Line 1 Source'!F1837,\"\")","v":0}]
[{"$f":"IF('Line 1 Source'!A1838<>\"\",'Line 1 Source'!A1838,\"\")","v":"2018"},"7247230",{"$f":"CONCATENATE(VLOOKUP(B1838,'School List'!$B$3:$H$291,6,FALSE),H1838)","v":"72300101"},{"$f":"CONCATENATE(VLOOKUP(B1838,'School List'!$B$3:$D$291,3,FALSE),H1838)","v":"Scott County - SCOTT COUNTY DISTRICT NO. 1 SCHOOL CORP0101"},{"$f":"IF('Line 1 Source'!B1838<>\"\",'Line 1 Source'!B1838,\"\")","v":"72"},{"$f":"IF('Line 1 Source'!C1838<>\"\",'Line 1 Source'!C1838,\"\")","v":"4"},{"$f":"IF('Line 1 Source'!D1838<>\"\",'Line 1 Source'!D1838,\"\")","v":"7230"},{"$f":"IF('Line 1 Source'!E1838<>\"\",'Line 1 Source'!E1838,\"\")","v":"0101"},{"$f":"IF('Line 1 Source'!F1838<>\"\",'Line 1 Source'!F1838,\"\")","v":9262000}]
[{"$f":"IF('Line 1 Source'!A1839<>\"\",'Line 1 Source'!A1839,\"\")","v":"2018"},"7247230",{"$f":"CONCATENATE(VLOOKUP(B1839,'School List'!$B$3:$H$291,6,FALSE),H1839)","v":"72300180"},{"$f":"CONCATENATE(VLOOKUP(B1839,'School List'!$B$3:$D$291,3,FALSE),H1839)","v":"Scott County - SCOTT COUNTY DISTRICT NO. 1 SCHOOL CORP0180"},{"$f":"IF('Line 1 Source'!B1839<>\"\",'Line 1 Source'!B1839,\"\")","v":"72"},{"$f":"IF('Line 1 Source'!C1839<>\"\",'Line 1 Source'!C1839,\"\")","v":"4"},{"$f":"IF('Line 1 Source'!D1839<>\"\",'Line 1 Source'!D1839,\"\")","v":"7230"},{"$f":"IF('Line 1 Source'!E1839<>\"\",'Line 1 Source'!E1839,\"\")","v":"0180"},{"$f":"IF('Line 1 Source'!F1839<>\"\",'Line 1 Source'!F1839,\"\")","v":1253951}]
[{"$f":"IF('Line 1 Source'!A1840<>\"\",'Line 1 Source'!A1840,\"\")","v":"2018"},"7247230",{"$f":"CONCATENATE(VLOOKUP(B1840,'School List'!$B$3:$H$291,6,FALSE),H1840)","v":"72300186"},{"$f":"CONCATENATE(VLOOKUP(B1840,'School List'!$B$3:$D$291,3,FALSE),H1840)","v":"Scott County - SCOTT COUNTY DISTRICT NO. 1 SCHOOL CORP0186"},{"$f":"IF('Line 1 Source'!B1840<>\"\",'Line 1 Source'!B1840,\"\")","v":"72"},{"$f":"IF('Line 1 Source'!C1840<>\"\",'Line 1 Source'!C1840,\"\")","v":"4"},{"$f":"IF('Line 1 Source'!D1840<>\"\",'Line 1 Source'!D1840,\"\")","v":"7230"},{"$f":"IF('Line 1 Source'!E1840<>\"\",'Line 1 Source'!E1840,\"\")","v":"0186"},{"$f":"IF('Line 1 Source'!F1840<>\"\",'Line 1 Source'!F1840,\"\")","v":146165}]
[{"$f":"IF('Line 1 Source'!A1841<>\"\",'Line 1 Source'!A1841,\"\")","v":"2018"},"7247230",{"$f":"CONCATENATE(VLOOKUP(B1841,'School List'!$B$3:$H$291,6,FALSE),H1841)","v":"72301214"},{"$f":"CONCATENATE(VLOOKUP(B1841,'School List'!$B$3:$D$291,3,FALSE),H1841)","v":"Scott County - SCOTT COUNTY DISTRICT NO. 1 SCHOOL CORP1214"},{"$f":"IF('Line 1 Source'!B1841<>\"\",'Line 1 Source'!B1841,\"\")","v":"72"},{"$f":"IF('Line 1 Source'!C1841<>\"\",'Line 1 Source'!C1841,\"\")","v":"4"},{"$f":"IF('Line 1 Source'!D1841<>\"\",'Line 1 Source'!D1841,\"\")","v":"7230"},{"$f":"IF('Line 1 Source'!E1841<>\"\",'Line 1 Source'!E1841,\"\")","v":"1214"},{"$f":"IF('Line 1 Source'!F1841<>\"\",'Line 1 Source'!F1841,\"\")","v":701686}]
[{"$f":"IF('Line 1 Source'!A1842<>\"\",'Line 1 Source'!A1842,\"\")","v":"2018"},"7247230",{"$f":"CONCATENATE(VLOOKUP(B1842,'School List'!$B$3:$H$291,6,FALSE),H1842)","v":"72306301"},{"$f":"CONCATENATE(VLOOKUP(B1842,'School List'!$B$3:$D$291,3,FALSE),H1842)","v":"Scott County - SCOTT COUNTY DISTRICT NO. 1 SCHOOL CORP6301"},{"$f":"IF('Line 1 Source'!B1842<>\"\",'Line 1 Source'!B1842,\"\")","v":"72"},{"$f":"IF('Line 1 Source'!C1842<>\"\",'Line 1 Source'!C1842,\"\")","v":"4"},{"$f":"IF('Line 1 Source'!D1842<>\"\",'Line 1 Source'!D1842,\"\")","v":"7230"},{"$f":"IF('Line 1 Source'!E1842<>\"\",'Line 1 Source'!E1842,\"\")","v":"6301"},{"$f":"IF('Line 1 Source'!F1842<>\"\",'Line 1 Source'!F1842,\"\")","v":283017}]
[{"$f":"IF('Line 1 Source'!A1843<>\"\",'Line 1 Source'!A1843,\"\")","v":"2018"},"7247230",{"$f":"CONCATENATE(VLOOKUP(B1843,'School List'!$B$3:$H$291,6,FALSE),H1843)","v":"72306302"},{"$f":"CONCATENATE(VLOOKUP(B1843,'School List'!$B$3:$D$291,3,FALSE),H1843)","v":"Scott County - SCOTT COUNTY DISTRICT NO. 1 SCHOOL CORP6302"},{"$f":"IF('Line 1 Source'!B1843<>\"\",'Line 1 Source'!B1843,\"\")","v":"72"},{"$f":"IF('Line 1 Source'!C1843<>\"\",'Line 1 Source'!C1843,\"\")","v":"4"},{"$f":"IF('Line 1 Source'!D1843<>\"\",'Line 1 Source'!D1843,\"\")","v":"7230"},{"$f":"IF('Line 1 Source'!E1843<>\"\",'Line 1 Source'!E1843,\"\")","v":"6302"},{"$f":"IF('Line 1 Source'!F1843<>\"\",'Line 1 Source'!F1843,\"\")","v":8200}]
[{"$f":"IF('Line 1 Source'!A1844<>\"\",'Line 1 Source'!A1844,\"\")","v":"2018"},"7247255",{"$f":"CONCATENATE(VLOOKUP(B1844,'School List'!$B$3:$H$291,6,FALSE),H1844)","v":"72550101"},{"$f":"CONCATENATE(VLOOKUP(B1844,'School List'!$B$3:$D$291,3,FALSE),H1844)","v":"Scott County - SCOTT COUNTY DISTRICT NO. 2 SCHOOL CORP0101"},{"$f":"IF('Line 1 Source'!B1844<>\"\",'Line 1 Source'!B1844,\"\")","v":"72"},{"$f":"IF('Line 1 Source'!C1844<>\"\",'Line 1 Source'!C1844,\"\")","v":"4"},{"$f":"IF('Line 1 Source'!D1844<>\"\",'Line 1 Source'!D1844,\"\")","v":"7255"},{"$f":"IF('Line 1 Source'!E1844<>\"\",'Line 1 Source'!E1844,\"\")","v":"0101"},{"$f":"IF('Line 1 Source'!F1844<>\"\",'Line 1 Source'!F1844,\"\")","v":19311296}]
[{"$f":"IF('Line 1 Source'!A1845<>\"\",'Line 1 Source'!A1845,\"\")","v":"2018"},"7247255",{"$f":"CONCATENATE(VLOOKUP(B1845,'School List'!$B$3:$H$291,6,FALSE),H1845)","v":"72550180"},{"$f":"CONCATENATE(VLOOKUP(B1845,'School List'!$B$3:$D$291,3,FALSE),H1845)","v":"Scott County - SCOTT COUNTY DISTRICT NO. 2 SCHOOL CORP0180"},{"$f":"IF('Line 1 Source'!B1845<>\"\",'Line 1 Source'!B1845,\"\")","v":"72"},{"$f":"IF('Line 1 Source'!C1845<>\"\",'Line 1 Source'!C1845,\"\")","v":"4"},{"$f":"IF('Line 1 Source'!D1845<>\"\",'Line 1 Source'!D1845,\"\")","v":"7255"},{"$f":"IF('Line 1 Source'!E1845<>\"\",'Line 1 Source'!E1845,\"\")","v":"0180"},{"$f":"IF('Line 1 Source'!F1845<>\"\",'Line 1 Source'!F1845,\"\")","v":2907294}]
[{"$f":"IF('Line 1 Source'!A1846<>\"\",'Line 1 Source'!A1846,\"\")","v":"2018"},"7247255",{"$f":"CONCATENATE(VLOOKUP(B1846,'School List'!$B$3:$H$291,6,FALSE),H1846)","v":"72551214"},{"$f":"CONCATENATE(VLOOKUP(B1846,'School List'!$B$3:$D$291,3,FALSE),H1846)","v":"Scott County - SCOTT COUNTY DISTRICT NO. 2 SCHOOL CORP1214"},{"$f":"IF('Line 1 Source'!B1846<>\"\",'Line 1 Source'!B1846,\"\")","v":"72"},{"$f":"IF('Line 1 Source'!C1846<>\"\",'Line 1 Source'!C1846,\"\")","v":"4"},{"$f":"IF('Line 1 Source'!D1846<>\"\",'Line 1 Source'!D1846,\"\")","v":"7255"},{"$f":"IF('Line 1 Source'!E1846<>\"\",'Line 1 Source'!E1846,\"\")","v":"1214"},{"$f":"IF('Line 1 Source'!F1846<>\"\",'Line 1 Source'!F1846,\"\")","v":2312493}]
[{"$f":"IF('Line 1 Source'!A1847<>\"\",'Line 1 Source'!A1847,\"\")","v":"2018"},"7247255",{"$f":"CONCATENATE(VLOOKUP(B1847,'School List'!$B$3:$H$291,6,FALSE),H1847)","v":"72556301"},{"$f":"CONCATENATE(VLOOKUP(B1847,'School List'!$B$3:$D$291,3,FALSE),H1847)","v":"Scott County - SCOTT COUNTY DISTRICT NO. 2 SCHOOL CORP6301"},{"$f":"IF('Line 1 Source'!B1847<>\"\",'Line 1 Source'!B1847,\"\")","v":"72"},{"$f":"IF('Line 1 Source'!C1847<>\"\",'Line 1 Source'!C1847,\"\")","v":"4"},{"$f":"IF('Line 1 Source'!D1847<>\"\",'Line 1 Source'!D1847,\"\")","v":"7255"},{"$f":"IF('Line 1 Source'!E1847<>\"\",'Line 1 Source'!E1847,\"\")","v":"6301"},{"$f":"IF('Line 1 Source'!F1847<>\"\",'Line 1 Source'!F1847,\"\")","v":1848576}]
[{"$f":"IF('Line 1 Source'!A1848<>\"\",'Line 1 Source'!A1848,\"\")","v":"2018"},"7247255",{"$f":"CONCATENATE(VLOOKUP(B1848,'School List'!$B$3:$H$291,6,FALSE),H1848)","v":"72556302"},{"$f":"CONCATENATE(VLOOKUP(B1848,'School List'!$B$3:$D$291,3,FALSE),H1848)","v":"Scott County - SCOTT COUNTY DISTRICT NO. 2 SCHOOL CORP6302"},{"$f":"IF('Line 1 Source'!B1848<>\"\",'Line 1 Source'!B1848,\"\")","v":"72"},{"$f":"IF('Line 1 Source'!C1848<>\"\",'Line 1 Source'!C1848,\"\")","v":"4"},{"$f":"IF('Line 1 Source'!D1848<>\"\",'Line 1 Source'!D1848,\"\")","v":"7255"},{"$f":"IF('Line 1 Source'!E1848<>\"\",'Line 1 Source'!E1848,\"\")","v":"6302"},{"$f":"IF('Line 1 Source'!F1848<>\"\",'Line 1 Source'!F1848,\"\")","v":462710}]
[{"$f":"IF('Line 1 Source'!A1849<>\"\",'Line 1 Source'!A1849,\"\")","v":"2018"},"7341655",{"$f":"CONCATENATE(VLOOKUP(B1849,'School List'!$B$3:$H$291,6,FALSE),H1849)","v":{"$error":"#N/A"}},{"$f":"CONCATENATE(VLOOKUP(B1849,'School List'!$B$3:$D$291,3,FALSE),H1849)","v":{"$error":"#N/A"}},{"$f":"IF('Line 1 Source'!B1849<>\"\",'Line 1 Source'!B1849,\"\")","v":"73"},{"$f":"IF('Line 1 Source'!C1849<>\"\",'Line 1 Source'!C1849,\"\")","v":"4"},{"$f":"IF('Line 1 Source'!D1849<>\"\",'Line 1 Source'!D1849,\"\")","v":"1655"},{"$f":"IF('Line 1 Source'!E1849<>\"\",'Line 1 Source'!E1849,\"\")","v":"0061"},{"$f":"IF('Line 1 Source'!F1849<>\"\",'Line 1 Source'!F1849,\"\")","v":0}]
[{"$f":"IF('Line 1 Source'!A1850<>\"\",'Line 1 Source'!A1850,\"\")","v":"2018"},"7341655",{"$f":"CONCATENATE(VLOOKUP(B1850,'School List'!$B$3:$H$291,6,FALSE),H1850)","v":{"$error":"#N/A"}},{"$f":"CONCATENATE(VLOOKUP(B1850,'School List'!$B$3:$D$291,3,FALSE),H1850)","v":{"$error":"#N/A"}},{"$f":"IF('Line 1 Source'!B1850<>\"\",'Line 1 Source'!B1850,\"\")","v":"73"},{"$f":"IF('Line 1 Source'!C1850<>\"\",'Line 1 Source'!C1850,\"\")","v":"4"},{"$f":"IF('Line 1 Source'!D1850<>\"\",'Line 1 Source'!D1850,\"\")","v":"1655"},{"$f":"IF('Line 1 Source'!E1850<>\"\",'Line 1 Source'!E1850,\"\")","v":"0101"},{"$f":"IF('Line 1 Source'!F1850<>\"\",'Line 1 Source'!F1850,\"\")","v":0}]
[{"$f":"IF('Line 1 Source'!A1851<>\"\",'Line 1 Source'!A1851,\"\")","v":"2018"},"7341655",{"$f":"CONCATENATE(VLOOKUP(B1851,'School List'!$B$3:$H$291,6,FALSE),H1851)","v":{"$error":"#N/A"}},{"$f":"CONCATENATE(VLOOKUP(B1851,'School List'!$B$3:$D$291,3,FALSE),H1851)","v":{"$error":"#N/A"}},{"$f":"IF('Line 1 Source'!B1851<>\"\",'Line 1 Source'!B1851,\"\")","v":"73"},{"$f":"IF('Line 1 Source'!C1851<>\"\",'Line 1 Source'!C1851,\"\")","v":"4"},{"$f":"IF('Line 1 Source'!D1851<>\"\",'Line 1 Source'!D1851,\"\")","v":"1655"},{"$f":"IF('Line 1 Source'!E1851<>\"\",'Line 1 Source'!E1851,\"\")","v":"0180"},{"$f":"IF('Line 1 Source'!F1851<>\"\",'Line 1 Source'!F1851,\"\")","v":0}]
[{"$f":"IF('Line 1 Source'!A1852<>\"\",'Line 1 Source'!A1852,\"\")","v":"2018"},"7341655",{"$f":"CONCATENATE(VLOOKUP(B1852,'School List'!$B$3:$H$291,6,FALSE),H1852)","v":{"$error":"#N/A"}},{"$f":"CONCATENATE(VLOOKUP(B1852,'School List'!$B$3:$D$291,3,FALSE),H1852)","v":{"$error":"#N/A"}},{"$f":"IF('Line 1 Source'!B1852<>\"\",'Line 1 Source'!B1852,\"\")","v":"73"},{"$f":"IF('Line 1 Source'!C1852<>\"\",'Line 1 Source'!C1852,\"\")","v":"4"},{"$f":"IF('Line 1 Source'!D1852<>\"\",'Line 1 Source'!D1852,\"\")","v":"1655"},{"$f":"IF('Line 1 Source'!E1852<>\"\",'Line 1 Source'!E1852,\"\")","v":"0186"},{"$f":"IF('Line 1 Source'!F1852<>\"\",'Line 1 Source'!F1852,\"\")","v":0}]
[{"$f":"IF('Line 1 Source'!A1853<>\"\",'Line 1 Source'!A1853,\"\")","v":"2018"},"7341655",{"$f":"CONCATENATE(VLOOKUP(B1853,'School List'!$B$3:$H$291,6,FALSE),H1853)","v":{"$error":"#N/A"}},{"$f":"CONCATENATE(VLOOKUP(B1853,'School List'!$B$3:$D$291,3,FALSE),H1853)","v":{"$error":"#N/A"}},{"$f":"IF('Line 1 Source'!B1853<>\"\",'Line 1 Source'!B1853,\"\")","v":"73"},{"$f":"IF('Line 1 Source'!C1853<>\"\",'Line 1 Source'!C1853,\"\")","v":"4"},{"$f":"IF('Line 1 Source'!D1853<>\"\",'Line 1 Source'!D1853,\"\")","v":"1655"},{"$f":"IF('Line 1 Source'!E1853<>\"\",'Line 1 Source'!E1853,\"\")","v":"1214"},{"$f":"IF('Line 1 Source'!F1853<>\"\",'Line 1 Source'!F1853,\"\")","v":0}]
[{"$f":"IF('Line 1 Source'!A1854<>\"\",'Line 1 Source'!A1854,\"\")","v":"2018"},"7341655",{"$f":"CONCATENATE(VLOOKUP(B1854,'School List'!$B$3:$H$291,6,FALSE),H1854)","v":{"$error":"#N/A"}},{"$f":"CONCATENATE(VLOOKUP(B1854,'School List'!$B$3:$D$291,3,FALSE),H1854)","v":{"$error":"#N/A"}},{"$f":"IF('Line 1 Source'!B1854<>\"\",'Line 1 Source'!B1854,\"\")","v":"73"},{"$f":"IF('Line 1 Source'!C1854<>\"\",'Line 1 Source'!C1854,\"\")","v":"4"},{"$f":"IF('Line 1 Source'!D1854<>\"\",'Line 1 Source'!D1854,\"\")","v":"1655"},{"$f":"IF('Line 1 Source'!E1854<>\"\",'Line 1 Source'!E1854,\"\")","v":"6301"},{"$f":"IF('Line 1 Source'!F1854<>\"\",'Line 1 Source'!F1854,\"\")","v":0}]
[{"$f":"IF('Line 1 Source'!A1855<>\"\",'Line 1 Source'!A1855,\"\")","v":"2018"},"7341655",{"$f":"CONCATENATE(VLOOKUP(B1855,'School List'!$B$3:$H$291,6,FALSE),H1855)","v":{"$error":"#N/A"}},{"$f":"CONCATENATE(VLOOKUP(B1855,'School List'!$B$3:$D$291,3,FALSE),H1855)","v":{"$error":"#N/A"}},{"$f":"IF('Line 1 Source'!B1855<>\"\",'Line 1 Source'!B1855,\"\")","v":"73"},{"$f":"IF('Line 1 Source'!C1855<>\"\",'Line 1 Source'!C1855,\"\")","v":"4"},{"$f":"IF('Line 1 Source'!D1855<>\"\",'Line 1 Source'!D1855,\"\")","v":"1655"},{"$f":"IF('Line 1 Source'!E1855<>\"\",'Line 1 Source'!E1855,\"\")","v":"6302"},{"$f":"IF('Line 1 Source'!F1855<>\"\",'Line 1 Source'!F1855,\"\")","v":0}]
[{"$f":"IF('Line 1 Source'!A1856<>\"\",'Line 1 Source'!A1856,\"\")","v":"2018"},"7347285",{"$f":"CONCATENATE(VLOOKUP(B1856,'School List'!$B$3:$H$291,6,FALSE),H1856)","v":"72850061"},{"$f":"CONCATENATE(VLOOKUP(B1856,'School List'!$B$3:$D$291,3,FALSE),H1856)","v":"Shelby County - SHELBY EASTERN SCHOOL CORPORATION0061"},{"$f":"IF('Line 1 Source'!B1856<>\"\",'Line 1 Source'!B1856,\"\")","v":"73"},{"$f":"IF('Line 1 Source'!C1856<>\"\",'Line 1 Source'!C1856,\"\")","v":"4"},{"$f":"IF('Line 1 Source'!D1856<>\"\",'Line 1 Source'!D1856,\"\")","v":"7285"},{"$f":"IF('Line 1 Source'!E1856<>\"\",'Line 1 Source'!E1856,\"\")","v":"0061"},{"$f":"IF('Line 1 Source'!F1856<>\"\",'Line 1 Source'!F1856,\"\")","v":300000}]
[{"$f":"IF('Line 1 Source'!A1857<>\"\",'Line 1 Source'!A1857,\"\")","v":"2018"},"7347285",{"$f":"CONCATENATE(VLOOKUP(B1857,'School List'!$B$3:$H$291,6,FALSE),H1857)","v":"72850101"},{"$f":"CONCATENATE(VLOOKUP(B1857,'School List'!$B$3:$D$291,3,FALSE),H1857)","v":"Shelby County - SHELBY EASTERN SCHOOL CORPORATION0101"},{"$f":"IF('Line 1 Source'!B1857<>\"\",'Line 1 Source'!B1857,\"\")","v":"73"},{"$f":"IF('Line 1 Source'!C1857<>\"\",'Line 1 Source'!C1857,\"\")","v":"4"},{"$f":"IF('Line 1 Source'!D1857<>\"\",'Line 1 Source'!D1857,\"\")","v":"7285"},{"$f":"IF('Line 1 Source'!E1857<>\"\",'Line 1 Source'!E1857,\"\")","v":"0101"},{"$f":"IF('Line 1 Source'!F1857<>\"\",'Line 1 Source'!F1857,\"\")","v":8700225}]
[{"$f":"IF('Line 1 Source'!A1858<>\"\",'Line 1 Source'!A1858,\"\")","v":"2018"},"7347285",{"$f":"CONCATENATE(VLOOKUP(B1858,'School List'!$B$3:$H$291,6,FALSE),H1858)","v":"72850180"},{"$f":"CONCATENATE(VLOOKUP(B1858,'School List'!$B$3:$D$291,3,FALSE),H1858)","v":"Shelby County - SHELBY EASTERN SCHOOL CORPORATION0180"},{"$f":"IF('Line 1 Source'!B1858<>\"\",'Line 1 Source'!B1858,\"\")","v":"73"},{"$f":"IF('Line 1 Source'!C1858<>\"\",'Line 1 Source'!C1858,\"\")","v":"4"},{"$f":"IF('Line 1 Source'!D1858<>\"\",'Line 1 Source'!D1858,\"\")","v":"7285"},{"$f":"IF('Line 1 Source'!E1858<>\"\",'Line 1 Source'!E1858,\"\")","v":"0180"},{"$f":"IF('Line 1 Source'!F1858<>\"\",'Line 1 Source'!F1858,\"\")","v":2851217}]
[{"$f":"IF('Line 1 Source'!A1859<>\"\",'Line 1 Source'!A1859,\"\")","v":"2018"},{"$f":"CONCATENATE(E1859,F1859,G1859)","v":"7347285"},{"$f":"CONCATENATE(VLOOKUP(B1859,'School List'!$B$3:$H$291,6,FALSE),H1859)","v":"72850186"},{"$f":"CONCATENATE(VLOOKUP(B1859,'School List'!$B$3:$D$291,3,FALSE),H1859)","v":"Shelby County - SHELBY EASTERN SCHOOL CORPORATION0186"},{"$f":"IF('Line 1 Source'!B1859<>\"\",'Line 1 Source'!B1859,\"\")","v":"73"},{"$f":"IF('Line 1 Source'!C1859<>\"\",'Line 1 Source'!C1859,\"\")","v":"4"},{"$f":"IF('Line 1 Source'!D1859<>\"\",'Line 1 Source'!D1859,\"\")","v":"7285"},{"$f":"IF('Line 1 Source'!E1859<>\"\",'Line 1 Source'!E1859,\"\")","v":"0186"},{"$f":"IF('Line 1 Source'!F1859<>\"\",'Line 1 Source'!F1859,\"\")","v":284496}]
[{"$f":"IF('Line 1 Source'!A1860<>\"\",'Line 1 Source'!A1860,\"\")","v":"2018"},"7347285",{"$f":"CONCATENATE(VLOOKUP(B1860,'School List'!$B$3:$H$291,6,FALSE),H1860)","v":"72851214"},{"$f":"CONCATENATE(VLOOKUP(B1860,'School List'!$B$3:$D$291,3,FALSE),H1860)","v":"Shelby County - SHELBY EASTERN SCHOOL CORPORATION1214"},{"$f":"IF('Line 1 Source'!B1860<>\"\",'Line 1 Source'!B1860,\"\")","v":"73"},{"$f":"IF('Line 1 Source'!C1860<>\"\",'Line 1 Source'!C1860,\"\")","v":"4"},{"$f":"IF('Line 1 Source'!D1860<>\"\",'Line 1 Source'!D1860,\"\")","v":"7285"},{"$f":"IF('Line 1 Source'!E1860<>\"\",'Line 1 Source'!E1860,\"\")","v":"1214"},{"$f":"IF('Line 1 Source'!F1860<>\"\",'Line 1 Source'!F1860,\"\")","v":1745432}]
[{"$f":"IF('Line 1 Source'!A1861<>\"\",'Line 1 Source'!A1861,\"\")","v":"2018"},"7347285",{"$f":"CONCATENATE(VLOOKUP(B1861,'School List'!$B$3:$H$291,6,FALSE),H1861)","v":"72856301"},{"$f":"CONCATENATE(VLOOKUP(B1861,'School List'!$B$3:$D$291,3,FALSE),H1861)","v":"Shelby County - SHELBY EASTERN SCHOOL CORPORATION6301"},{"$f":"IF('Line 1 Source'!B1861<>\"\",'Line 1 Source'!B1861,\"\")","v":"73"},{"$f":"IF('Line 1 Source'!C1861<>\"\",'Line 1 Source'!C1861,\"\")","v":"4"},{"$f":"IF('Line 1 Source'!D1861<>\"\",'Line 1 Source'!D1861,\"\")","v":"7285"},{"$f":"IF('Line 1 Source'!E1861<>\"\",'Line 1 Source'!E1861,\"\")","v":"6301"},{"$f":"IF('Line 1 Source'!F1861<>\"\",'Line 1 Source'!F1861,\"\")","v":1513524}]
[{"$f":"IF('Line 1 Source'!A1862<>\"\",'Line 1 Source'!A1862,\"\")","v":"2018"},"7347285",{"$f":"CONCATENATE(VLOOKUP(B1862,'School List'!$B$3:$H$291,6,FALSE),H1862)","v":"72856302"},{"$f":"CONCATENATE(VLOOKUP(B1862,'School List'!$B$3:$D$291,3,FALSE),H1862)","v":"Shelby County - SHELBY EASTERN SCHOOL CORPORATION6302"},{"$f":"IF('Line 1 Source'!B1862<>\"\",'Line 1 Source'!B1862,\"\")","v":"73"},{"$f":"IF('Line 1 Source'!C1862<>\"\",'Line 1 Source'!C1862,\"\")","v":"4"},{"$f":"IF('Line 1 Source'!D1862<>\"\",'Line 1 Source'!D1862,\"\")","v":"7285"},{"$f":"IF('Line 1 Source'!E1862<>\"\",'Line 1 Source'!E1862,\"\")","v":"6302"},{"$f":"IF('Line 1 Source'!F1862<>\"\",'Line 1 Source'!F1862,\"\")","v":144300}]
[{"$f":"IF('Line 1 Source'!A1863<>\"\",'Line 1 Source'!A1863,\"\")","v":"2018"},"7347350",{"$f":"CONCATENATE(VLOOKUP(B1863,'School List'!$B$3:$H$291,6,FALSE),H1863)","v":"73500101"},{"$f":"CONCATENATE(VLOOKUP(B1863,'School List'!$B$3:$D$291,3,FALSE),H1863)","v":"Shelby County - NORTHWESTERN CONSOLIDATED SCHOOL CORP0101"},{"$f":"IF('Line 1 Source'!B1863<>\"\",'Line 1 Source'!B1863,\"\")","v":"73"},{"$f":"IF('Line 1 Source'!C1863<>\"\",'Line 1 Source'!C1863,\"\")","v":"4"},{"$f":"IF('Line 1 Source'!D1863<>\"\",'Line 1 Source'!D1863,\"\")","v":"7350"},{"$f":"IF('Line 1 Source'!E1863<>\"\",'Line 1 Source'!E1863,\"\")","v":"0101"},{"$f":"IF('Line 1 Source'!F1863<>\"\",'Line 1 Source'!F1863,\"\")","v":9767679}]
[{"$f":"IF('Line 1 Source'!A1864<>\"\",'Line 1 Source'!A1864,\"\")","v":"2018"},"7347350",{"$f":"CONCATENATE(VLOOKUP(B1864,'School List'!$B$3:$H$291,6,FALSE),H1864)","v":"73500180"},{"$f":"CONCATENATE(VLOOKUP(B1864,'School List'!$B$3:$D$291,3,FALSE),H1864)","v":"Shelby County - NORTHWESTERN CONSOLIDATED SCHOOL CORP0180"},{"$f":"IF('Line 1 Source'!B1864<>\"\",'Line 1 Source'!B1864,\"\")","v":"73"},{"$f":"IF('Line 1 Source'!C1864<>\"\",'Line 1 Source'!C1864,\"\")","v":"4"},{"$f":"IF('Line 1 Source'!D1864<>\"\",'Line 1 Source'!D1864,\"\")","v":"7350"},{"$f":"IF('Line 1 Source'!E1864<>\"\",'Line 1 Source'!E1864,\"\")","v":"0180"},{"$f":"IF('Line 1 Source'!F1864<>\"\",'Line 1 Source'!F1864,\"\")","v":1993683}]
[{"$f":"IF('Line 1 Source'!A1865<>\"\",'Line 1 Source'!A1865,\"\")","v":"2018"},"7347350",{"$f":"CONCATENATE(VLOOKUP(B1865,'School List'!$B$3:$H$291,6,FALSE),H1865)","v":"73500186"},{"$f":"CONCATENATE(VLOOKUP(B1865,'School List'!$B$3:$D$291,3,FALSE),H1865)","v":"Shelby County - NORTHWESTERN CONSOLIDATED SCHOOL CORP0186"},{"$f":"IF('Line 1 Source'!B1865<>\"\",'Line 1 Source'!B1865,\"\")","v":"73"},{"$f":"IF('Line 1 Source'!C1865<>\"\",'Line 1 Source'!C1865,\"\")","v":"4"},{"$f":"IF('Line 1 Source'!D1865<>\"\",'Line 1 Source'!D1865,\"\")","v":"7350"},{"$f":"IF('Line 1 Source'!E1865<>\"\",'Line 1 Source'!E1865,\"\")","v":"0186"},{"$f":"IF('Line 1 Source'!F1865<>\"\",'Line 1 Source'!F1865,\"\")","v":117912}]
[{"$f":"IF('Line 1 Source'!A1866<>\"\",'Line 1 Source'!A1866,\"\")","v":"2018"},"7347350",{"$f":"CONCATENATE(VLOOKUP(B1866,'School List'!$B$3:$H$291,6,FALSE),H1866)","v":"73501214"},{"$f":"CONCATENATE(VLOOKUP(B1866,'School List'!$B$3:$D$291,3,FALSE),H1866)","v":"Shelby County - NORTHWESTERN CONSOLIDATED SCHOOL CORP1214"},{"$f":"IF('Line 1 Source'!B1866<>\"\",'Line 1 Source'!B1866,\"\")","v":"73"},{"$f":"IF('Line 1 Source'!C1866<>\"\",'Line 1 Source'!C1866,\"\")","v":"4"},{"$f":"IF('Line 1 Source'!D1866<>\"\",'Line 1 Source'!D1866,\"\")","v":"7350"},{"$f":"IF('Line 1 Source'!E1866<>\"\",'Line 1 Source'!E1866,\"\")","v":"1214"},{"$f":"IF('Line 1 Source'!F1866<>\"\",'Line 1 Source'!F1866,\"\")","v":1641126}]
[{"$f":"IF('Line 1 Source'!A1867<>\"\",'Line 1 Source'!A1867,\"\")","v":"2018"},"7347350",{"$f":"CONCATENATE(VLOOKUP(B1867,'School List'!$B$3:$H$291,6,FALSE),H1867)","v":"73506301"},{"$f":"CONCATENATE(VLOOKUP(B1867,'School List'!$B$3:$D$291,3,FALSE),H1867)","v":"Shelby County - NORTHWESTERN CONSOLIDATED SCHOOL CORP6301"},{"$f":"IF('Line 1 Source'!B1867<>\"\",'Line 1 Source'!B1867,\"\")","v":"73"},{"$f":"IF('Line 1 Source'!C1867<>\"\",'Line 1 Source'!C1867,\"\")","v":"4"},{"$f":"IF('Line 1 Source'!D1867<>\"\",'Line 1 Source'!D1867,\"\")","v":"7350"},{"$f":"IF('Line 1 Source'!E1867<>\"\",'Line 1 Source'!E1867,\"\")","v":"6301"},{"$f":"IF('Line 1 Source'!F1867<>\"\",'Line 1 Source'!F1867,\"\")","v":1078399}]
[{"$f":"IF('Line 1 Source'!A1868<>\"\",'Line 1 Source'!A1868,\"\")","v":"2018"},"7347350",{"$f":"CONCATENATE(VLOOKUP(B1868,'School List'!$B$3:$H$291,6,FALSE),H1868)","v":"73506302"},{"$f":"CONCATENATE(VLOOKUP(B1868,'School List'!$B$3:$D$291,3,FALSE),H1868)","v":"Shelby County - NORTHWESTERN CONSOLIDATED SCHOOL CORP6302"},{"$f":"IF('Line 1 Source'!B1868<>\"\",'Line 1 Source'!B1868,\"\")","v":"73"},{"$f":"IF('Line 1 Source'!C1868<>\"\",'Line 1 Source'!C1868,\"\")","v":"4"},{"$f":"IF('Line 1 Source'!D1868<>\"\",'Line 1 Source'!D1868,\"\")","v":"7350"},{"$f":"IF('Line 1 Source'!E1868<>\"\",'Line 1 Source'!E1868,\"\")","v":"6302"},{"$f":"IF('Line 1 Source'!F1868<>\"\",'Line 1 Source'!F1868,\"\")","v":296423}]
[{"$f":"IF('Line 1 Source'!A1869<>\"\",'Line 1 Source'!A1869,\"\")","v":"2018"},"7347360",{"$f":"CONCATENATE(VLOOKUP(B1869,'School List'!$B$3:$H$291,6,FALSE),H1869)","v":"73600061"},{"$f":"CONCATENATE(VLOOKUP(B1869,'School List'!$B$3:$D$291,3,FALSE),H1869)","v":"Shelby County - SOUTHWESTERN CONSOLIDATED SHELBY COUNTY0061"},{"$f":"IF('Line 1 Source'!B1869<>\"\",'Line 1 Source'!B1869,\"\")","v":"73"},{"$f":"IF('Line 1 Source'!C1869<>\"\",'Line 1 Source'!C1869,\"\")","v":"4"},{"$f":"IF('Line 1 Source'!D1869<>\"\",'Line 1 Source'!D1869,\"\")","v":"7360"},{"$f":"IF('Line 1 Source'!E1869<>\"\",'Line 1 Source'!E1869,\"\")","v":"0061"},{"$f":"IF('Line 1 Source'!F1869<>\"\",'Line 1 Source'!F1869,\"\")","v":400000}]
[{"$f":"IF('Line 1 Source'!A1870<>\"\",'Line 1 Source'!A1870,\"\")","v":"2018"},"7347360",{"$f":"CONCATENATE(VLOOKUP(B1870,'School List'!$B$3:$H$291,6,FALSE),H1870)","v":"73600101"},{"$f":"CONCATENATE(VLOOKUP(B1870,'School List'!$B$3:$D$291,3,FALSE),H1870)","v":"Shelby County - SOUTHWESTERN CONSOLIDATED SHELBY COUNTY0101"},{"$f":"IF('Line 1 Source'!B1870<>\"\",'Line 1 Source'!B1870,\"\")","v":"73"},{"$f":"IF('Line 1 Source'!C1870<>\"\",'Line 1 Source'!C1870,\"\")","v":"4"},{"$f":"IF('Line 1 Source'!D1870<>\"\",'Line 1 Source'!D1870,\"\")","v":"7360"},{"$f":"IF('Line 1 Source'!E1870<>\"\",'Line 1 Source'!E1870,\"\")","v":"0101"},{"$f":"IF('Line 1 Source'!F1870<>\"\",'Line 1 Source'!F1870,\"\")","v":4603734}]
[{"$f":"IF('Line 1 Source'!A1871<>\"\",'Line 1 Source'!A1871,\"\")","v":"2018"},"7347360",{"$f":"CONCATENATE(VLOOKUP(B1871,'School List'!$B$3:$H$291,6,FALSE),H1871)","v":"73600180"},{"$f":"CONCATENATE(VLOOKUP(B1871,'School List'!$B$3:$D$291,3,FALSE),H1871)","v":"Shelby County - SOUTHWESTERN CONSOLIDATED SHELBY COUNTY0180"},{"$f":"IF('Line 1 Source'!B1871<>\"\",'Line 1 Source'!B1871,\"\")","v":"73"},{"$f":"IF('Line 1 Source'!C1871<>\"\",'Line 1 Source'!C1871,\"\")","v":"4"},{"$f":"IF('Line 1 Source'!D1871<>\"\",'Line 1 Source'!D1871,\"\")","v":"7360"},{"$f":"IF('Line 1 Source'!E1871<>\"\",'Line 1 Source'!E1871,\"\")","v":"0180"},{"$f":"IF('Line 1 Source'!F1871<>\"\",'Line 1 Source'!F1871,\"\")","v":774000}]
[{"$f":"IF('Line 1 Source'!A1872<>\"\",'Line 1 Source'!A1872,\"\")","v":"2018"},"7347360",{"$f":"CONCATENATE(VLOOKUP(B1872,'School List'!$B$3:$H$291,6,FALSE),H1872)","v":"73600186"},{"$f":"CONCATENATE(VLOOKUP(B1872,'School List'!$B$3:$D$291,3,FALSE),H1872)","v":"Shelby County - SOUTHWESTERN CONSOLIDATED SHELBY COUNTY0186"},{"$f":"IF('Line 1 Source'!B1872<>\"\",'Line 1 Source'!B1872,\"\")","v":"73"},{"$f":"IF('Line 1 Source'!C1872<>\"\",'Line 1 Source'!C1872,\"\")","v":"4"},{"$f":"IF('Line 1 Source'!D1872<>\"\",'Line 1 Source'!D1872,\"\")","v":"7360"},{"$f":"IF('Line 1 Source'!E1872<>\"\",'Line 1 Source'!E1872,\"\")","v":"0186"},{"$f":"IF('Line 1 Source'!F1872<>\"\",'Line 1 Source'!F1872,\"\")","v":0}]
[{"$f":"IF('Line 1 Source'!A1873<>\"\",'Line 1 Source'!A1873,\"\")","v":"2018"},"7347360",{"$f":"CONCATENATE(VLOOKUP(B1873,'School List'!$B$3:$H$291,6,FALSE),H1873)","v":"73601214"},{"$f":"CONCATENATE(VLOOKUP(B1873,'School List'!$B$3:$D$291,3,FALSE),H1873)","v":"Shelby County - SOUTHWESTERN CONSOLIDATED SHELBY COUNTY1214"},{"$f":"IF('Line 1 Source'!B1873<>\"\",'Line 1 Source'!B1873,\"\")","v":"73"},{"$f":"IF('Line 1 Source'!C1873<>\"\",'Line 1 Source'!C1873,\"\")","v":"4"},{"$f":"IF('Line 1 Source'!D1873<>\"\",'Line 1 Source'!D1873,\"\")","v":"7360"},{"$f":"IF('Line 1 Source'!E1873<>\"\",'Line 1 Source'!E1873,\"\")","v":"1214"},{"$f":"IF('Line 1 Source'!F1873<>\"\",'Line 1 Source'!F1873,\"\")","v":1469160}]
[{"$f":"IF('Line 1 Source'!A1874<>\"\",'Line 1 Source'!A1874,\"\")","v":"2018"},"7347360",{"$f":"CONCATENATE(VLOOKUP(B1874,'School List'!$B$3:$H$291,6,FALSE),H1874)","v":"73606301"},{"$f":"CONCATENATE(VLOOKUP(B1874,'School List'!$B$3:$D$291,3,FALSE),H1874)","v":"Shelby County - SOUTHWESTERN CONSOLIDATED SHELBY COUNTY6301"},{"$f":"IF('Line 1 Source'!B1874<>\"\",'Line 1 Source'!B1874,\"\")","v":"73"},{"$f":"IF('Line 1 Source'!C1874<>\"\",'Line 1 Source'!C1874,\"\")","v":"4"},{"$f":"IF('Line 1 Source'!D1874<>\"\",'Line 1 Source'!D1874,\"\")","v":"7360"},{"$f":"IF('Line 1 Source'!E1874<>\"\",'Line 1 Source'!E1874,\"\")","v":"6301"},{"$f":"IF('Line 1 Source'!F1874<>\"\",'Line 1 Source'!F1874,\"\")","v":956657}]
[{"$f":"IF('Line 1 Source'!A1875<>\"\",'Line 1 Source'!A1875,\"\")","v":"2018"},"7347360",{"$f":"CONCATENATE(VLOOKUP(B1875,'School List'!$B$3:$H$291,6,FALSE),H1875)","v":"73606302"},{"$f":"CONCATENATE(VLOOKUP(B1875,'School List'!$B$3:$D$291,3,FALSE),H1875)","v":"Shelby County - SOUTHWESTERN CONSOLIDATED SHELBY COUNTY6302"},{"$f":"IF('Line 1 Source'!B1875<>\"\",'Line 1 Source'!B1875,\"\")","v":"73"},{"$f":"IF('Line 1 Source'!C1875<>\"\",'Line 1 Source'!C1875,\"\")","v":"4"},{"$f":"IF('Line 1 Source'!D1875<>\"\",'Line 1 Source'!D1875,\"\")","v":"7360"},{"$f":"IF('Line 1 Source'!E1875<>\"\",'Line 1 Source'!E1875,\"\")","v":"6302"},{"$f":"IF('Line 1 Source'!F1875<>\"\",'Line 1 Source'!F1875,\"\")","v":248986}]
[{"$f":"IF('Line 1 Source'!A1876<>\"\",'Line 1 Source'!A1876,\"\")","v":"2018"},"7347365",{"$f":"CONCATENATE(VLOOKUP(B1876,'School List'!$B$3:$H$291,6,FALSE),H1876)","v":"73650061"},{"$f":"CONCATENATE(VLOOKUP(B1876,'School List'!$B$3:$D$291,3,FALSE),H1876)","v":"Shelby County - SHELBYVILLE CENTRAL SCHOOL CORPORATION0061"},{"$f":"IF('Line 1 Source'!B1876<>\"\",'Line 1 Source'!B1876,\"\")","v":"73"},{"$f":"IF('Line 1 Source'!C1876<>\"\",'Line 1 Source'!C1876,\"\")","v":"4"},{"$f":"IF('Line 1 Source'!D1876<>\"\",'Line 1 Source'!D1876,\"\")","v":"7365"},{"$f":"IF('Line 1 Source'!E1876<>\"\",'Line 1 Source'!E1876,\"\")","v":"0061"},{"$f":"IF('Line 1 Source'!F1876<>\"\",'Line 1 Source'!F1876,\"\")","v":475000}]
[{"$f":"IF('Line 1 Source'!A1877<>\"\",'Line 1 Source'!A1877,\"\")","v":"2018"},"7347365",{"$f":"CONCATENATE(VLOOKUP(B1877,'School List'!$B$3:$H$291,6,FALSE),H1877)","v":"73650101"},{"$f":"CONCATENATE(VLOOKUP(B1877,'School List'!$B$3:$D$291,3,FALSE),H1877)","v":"Shelby County - SHELBYVILLE CENTRAL SCHOOL CORPORATION0101"},{"$f":"IF('Line 1 Source'!B1877<>\"\",'Line 1 Source'!B1877,\"\")","v":"73"},{"$f":"IF('Line 1 Source'!C1877<>\"\",'Line 1 Source'!C1877,\"\")","v":"4"},{"$f":"IF('Line 1 Source'!D1877<>\"\",'Line 1 Source'!D1877,\"\")","v":"7365"},{"$f":"IF('Line 1 Source'!E1877<>\"\",'Line 1 Source'!E1877,\"\")","v":"0101"},{"$f":"IF('Line 1 Source'!F1877<>\"\",'Line 1 Source'!F1877,\"\")","v":27621439}]
[{"$f":"IF('Line 1 Source'!A1878<>\"\",'Line 1 Source'!A1878,\"\")","v":"2018"},"7347365",{"$f":"CONCATENATE(VLOOKUP(B1878,'School List'!$B$3:$H$291,6,FALSE),H1878)","v":"73650180"},{"$f":"CONCATENATE(VLOOKUP(B1878,'School List'!$B$3:$D$291,3,FALSE),H1878)","v":"Shelby County - SHELBYVILLE CENTRAL SCHOOL CORPORATION0180"},{"$f":"IF('Line 1 Source'!B1878<>\"\",'Line 1 Source'!B1878,\"\")","v":"73"},{"$f":"IF('Line 1 Source'!C1878<>\"\",'Line 1 Source'!C1878,\"\")","v":"4"},{"$f":"IF('Line 1 Source'!D1878<>\"\",'Line 1 Source'!D1878,\"\")","v":"7365"},{"$f":"IF('Line 1 Source'!E1878<>\"\",'Line 1 Source'!E1878,\"\")","v":"0180"},{"$f":"IF('Line 1 Source'!F1878<>\"\",'Line 1 Source'!F1878,\"\")","v":5993968}]
[{"$f":"IF('Line 1 Source'!A1879<>\"\",'Line 1 Source'!A1879,\"\")","v":"2018"},"7347365",{"$f":"CONCATENATE(VLOOKUP(B1879,'School List'!$B$3:$H$291,6,FALSE),H1879)","v":"73651214"},{"$f":"CONCATENATE(VLOOKUP(B1879,'School List'!$B$3:$D$291,3,FALSE),H1879)","v":"Shelby County - SHELBYVILLE CENTRAL SCHOOL CORPORATION1214"},{"$f":"IF('Line 1 Source'!B1879<>\"\",'Line 1 Source'!B1879,\"\")","v":"73"},{"$f":"IF('Line 1 Source'!C1879<>\"\",'Line 1 Source'!C1879,\"\")","v":"4"},{"$f":"IF('Line 1 Source'!D1879<>\"\",'Line 1 Source'!D1879,\"\")","v":"7365"},{"$f":"IF('Line 1 Source'!E1879<>\"\",'Line 1 Source'!E1879,\"\")","v":"1214"},{"$f":"IF('Line 1 Source'!F1879<>\"\",'Line 1 Source'!F1879,\"\")","v":2625314}]
[{"$f":"IF('Line 1 Source'!A1880<>\"\",'Line 1 Source'!A1880,\"\")","v":"2018"},"7347365",{"$f":"CONCATENATE(VLOOKUP(B1880,'School List'!$B$3:$H$291,6,FALSE),H1880)","v":"73656301"},{"$f":"CONCATENATE(VLOOKUP(B1880,'School List'!$B$3:$D$291,3,FALSE),H1880)","v":"Shelby County - SHELBYVILLE CENTRAL SCHOOL CORPORATION6301"},{"$f":"IF('Line 1 Source'!B1880<>\"\",'Line 1 Source'!B1880,\"\")","v":"73"},{"$f":"IF('Line 1 Source'!C1880<>\"\",'Line 1 Source'!C1880,\"\")","v":"4"},{"$f":"IF('Line 1 Source'!D1880<>\"\",'Line 1 Source'!D1880,\"\")","v":"7365"},{"$f":"IF('Line 1 Source'!E1880<>\"\",'Line 1 Source'!E1880,\"\")","v":"6301"},{"$f":"IF('Line 1 Source'!F1880<>\"\",'Line 1 Source'!F1880,\"\")","v":2413387}]
[{"$f":"IF('Line 1 Source'!A1881<>\"\",'Line 1 Source'!A1881,\"\")","v":"2018"},"7347365",{"$f":"CONCATENATE(VLOOKUP(B1881,'School List'!$B$3:$H$291,6,FALSE),H1881)","v":"73656302"},{"$f":"CONCATENATE(VLOOKUP(B1881,'School List'!$B$3:$D$291,3,FALSE),H1881)","v":"Shelby County - SHELBYVILLE CENTRAL SCHOOL CORPORATION6302"},{"$f":"IF('Line 1 Source'!B1881<>\"\",'Line 1 Source'!B1881,\"\")","v":"73"},{"$f":"IF('Line 1 Source'!C1881<>\"\",'Line 1 Source'!C1881,\"\")","v":"4"},{"$f":"IF('Line 1 Source'!D1881<>\"\",'Line 1 Source'!D1881,\"\")","v":"7365"},{"$f":"IF('Line 1 Source'!E1881<>\"\",'Line 1 Source'!E1881,\"\")","v":"6302"},{"$f":"IF('Line 1 Source'!F1881<>\"\",'Line 1 Source'!F1881,\"\")","v":478200}]
[{"$f":"IF('Line 1 Source'!A1882<>\"\",'Line 1 Source'!A1882,\"\")","v":"2018"},"7447385",{"$f":"CONCATENATE(VLOOKUP(B1882,'School List'!$B$3:$H$291,6,FALSE),H1882)","v":"73850061"},{"$f":"CONCATENATE(VLOOKUP(B1882,'School List'!$B$3:$D$291,3,FALSE),H1882)","v":"Spencer County - NORTH SPENCER COUNTY SCHOOL CORPORATION0061"},{"$f":"IF('Line 1 Source'!B1882<>\"\",'Line 1 Source'!B1882,\"\")","v":"74"},{"$f":"IF('Line 1 Source'!C1882<>\"\",'Line 1 Source'!C1882,\"\")","v":"4"},{"$f":"IF('Line 1 Source'!D1882<>\"\",'Line 1 Source'!D1882,\"\")","v":"7385"},{"$f":"IF('Line 1 Source'!E1882<>\"\",'Line 1 Source'!E1882,\"\")","v":"0061"},{"$f":"IF('Line 1 Source'!F1882<>\"\",'Line 1 Source'!F1882,\"\")","v":1000000}]
[{"$f":"IF('Line 1 Source'!A1883<>\"\",'Line 1 Source'!A1883,\"\")","v":"2018"},"7447385",{"$f":"CONCATENATE(VLOOKUP(B1883,'School List'!$B$3:$H$291,6,FALSE),H1883)","v":"73850101"},{"$f":"CONCATENATE(VLOOKUP(B1883,'School List'!$B$3:$D$291,3,FALSE),H1883)","v":"Spencer County - NORTH SPENCER COUNTY SCHOOL CORPORATION0101"},{"$f":"IF('Line 1 Source'!B1883<>\"\",'Line 1 Source'!B1883,\"\")","v":"74"},{"$f":"IF('Line 1 Source'!C1883<>\"\",'Line 1 Source'!C1883,\"\")","v":"4"},{"$f":"IF('Line 1 Source'!D1883<>\"\",'Line 1 Source'!D1883,\"\")","v":"7385"},{"$f":"IF('Line 1 Source'!E1883<>\"\",'Line 1 Source'!E1883,\"\")","v":"0101"},{"$f":"IF('Line 1 Source'!F1883<>\"\",'Line 1 Source'!F1883,\"\")","v":13586197}]
[{"$f":"IF('Line 1 Source'!A1884<>\"\",'Line 1 Source'!A1884,\"\")","v":"2018"},"7447385",{"$f":"CONCATENATE(VLOOKUP(B1884,'School List'!$B$3:$H$291,6,FALSE),H1884)","v":"73850180"},{"$f":"CONCATENATE(VLOOKUP(B1884,'School List'!$B$3:$D$291,3,FALSE),H1884)","v":"Spencer County - NORTH SPENCER COUNTY SCHOOL CORPORATION0180"},{"$f":"IF('Line 1 Source'!B1884<>\"\",'Line 1 Source'!B1884,\"\")","v":"74"},{"$f":"IF('Line 1 Source'!C1884<>\"\",'Line 1 Source'!C1884,\"\")","v":"4"},{"$f":"IF('Line 1 Source'!D1884<>\"\",'Line 1 Source'!D1884,\"\")","v":"7385"},{"$f":"IF('Line 1 Source'!E1884<>\"\",'Line 1 Source'!E1884,\"\")","v":"0180"},{"$f":"IF('Line 1 Source'!F1884<>\"\",'Line 1 Source'!F1884,\"\")","v":2775813}]
[{"$f":"IF('Line 1 Source'!A1885<>\"\",'Line 1 Source'!A1885,\"\")","v":"2018"},"7447385",{"$f":"CONCATENATE(VLOOKUP(B1885,'School List'!$B$3:$H$291,6,FALSE),H1885)","v":"73850186"},{"$f":"CONCATENATE(VLOOKUP(B1885,'School List'!$B$3:$D$291,3,FALSE),H1885)","v":"Spencer County - NORTH SPENCER COUNTY SCHOOL CORPORATION0186"},{"$f":"IF('Line 1 Source'!B1885<>\"\",'Line 1 Source'!B1885,\"\")","v":"74"},{"$f":"IF('Line 1 Source'!C1885<>\"\",'Line 1 Source'!C1885,\"\")","v":"4"},{"$f":"IF('Line 1 Source'!D1885<>\"\",'Line 1 Source'!D1885,\"\")","v":"7385"},{"$f":"IF('Line 1 Source'!E1885<>\"\",'Line 1 Source'!E1885,\"\")","v":"0186"},{"$f":"IF('Line 1 Source'!F1885<>\"\",'Line 1 Source'!F1885,\"\")","v":291077}]
[{"$f":"IF('Line 1 Source'!A1886<>\"\",'Line 1 Source'!A1886,\"\")","v":"2018"},"7447385",{"$f":"CONCATENATE(VLOOKUP(B1886,'School List'!$B$3:$H$291,6,FALSE),H1886)","v":"73851214"},{"$f":"CONCATENATE(VLOOKUP(B1886,'School List'!$B$3:$D$291,3,FALSE),H1886)","v":"Spencer County - NORTH SPENCER COUNTY SCHOOL CORPORATION1214"},{"$f":"IF('Line 1 Source'!B1886<>\"\",'Line 1 Source'!B1886,\"\")","v":"74"},{"$f":"IF('Line 1 Source'!C1886<>\"\",'Line 1 Source'!C1886,\"\")","v":"4"},{"$f":"IF('Line 1 Source'!D1886<>\"\",'Line 1 Source'!D1886,\"\")","v":"7385"},{"$f":"IF('Line 1 Source'!E1886<>\"\",'Line 1 Source'!E1886,\"\")","v":"1214"},{"$f":"IF('Line 1 Source'!F1886<>\"\",'Line 1 Source'!F1886,\"\")","v":3087651}]
[{"$f":"IF('Line 1 Source'!A1887<>\"\",'Line 1 Source'!A1887,\"\")","v":"2018"},"7447385",{"$f":"CONCATENATE(VLOOKUP(B1887,'School List'!$B$3:$H$291,6,FALSE),H1887)","v":"73856301"},{"$f":"CONCATENATE(VLOOKUP(B1887,'School List'!$B$3:$D$291,3,FALSE),H1887)","v":"Spencer County - NORTH SPENCER COUNTY SCHOOL CORPORATION6301"},{"$f":"IF('Line 1 Source'!B1887<>\"\",'Line 1 Source'!B1887,\"\")","v":"74"},{"$f":"IF('Line 1 Source'!C1887<>\"\",'Line 1 Source'!C1887,\"\")","v":"4"},{"$f":"IF('Line 1 Source'!D1887<>\"\",'Line 1 Source'!D1887,\"\")","v":"7385"},{"$f":"IF('Line 1 Source'!E1887<>\"\",'Line 1 Source'!E1887,\"\")","v":"6301"},{"$f":"IF('Line 1 Source'!F1887<>\"\",'Line 1 Source'!F1887,\"\")","v":2178400}]
[{"$f":"IF('Line 1 Source'!A1888<>\"\",'Line 1 Source'!A1888,\"\")","v":"2018"},"7447385",{"$f":"CONCATENATE(VLOOKUP(B1888,'School List'!$B$3:$H$291,6,FALSE),H1888)","v":"73856302"},{"$f":"CONCATENATE(VLOOKUP(B1888,'School List'!$B$3:$D$291,3,FALSE),H1888)","v":"Spencer County - NORTH SPENCER COUNTY SCHOOL CORPORATION6302"},{"$f":"IF('Line 1 Source'!B1888<>\"\",'Line 1 Source'!B1888,\"\")","v":"74"},{"$f":"IF('Line 1 Source'!C1888<>\"\",'Line 1 Source'!C1888,\"\")","v":"4"},{"$f":"IF('Line 1 Source'!D1888<>\"\",'Line 1 Source'!D1888,\"\")","v":"7385"},{"$f":"IF('Line 1 Source'!E1888<>\"\",'Line 1 Source'!E1888,\"\")","v":"6302"},{"$f":"IF('Line 1 Source'!F1888<>\"\",'Line 1 Source'!F1888,\"\")","v":329500}]
[{"$f":"IF('Line 1 Source'!A1889<>\"\",'Line 1 Source'!A1889,\"\")","v":"2018"},"7447445",{"$f":"CONCATENATE(VLOOKUP(B1889,'School List'!$B$3:$H$291,6,FALSE),H1889)","v":"74450061"},{"$f":"CONCATENATE(VLOOKUP(B1889,'School List'!$B$3:$D$291,3,FALSE),H1889)","v":"Spencer County - SOUTH SPENCER COUNTY SCHOOL CORPORATION0061"},{"$f":"IF('Line 1 Source'!B1889<>\"\",'Line 1 Source'!B1889,\"\")","v":"74"},{"$f":"IF('Line 1 Source'!C1889<>\"\",'Line 1 Source'!C1889,\"\")","v":"4"},{"$f":"IF('Line 1 Source'!D1889<>\"\",'Line 1 Source'!D1889,\"\")","v":"7445"},{"$f":"IF('Line 1 Source'!E1889<>\"\",'Line 1 Source'!E1889,\"\")","v":"0061"},{"$f":"IF('Line 1 Source'!F1889<>\"\",'Line 1 Source'!F1889,\"\")","v":520000}]
[{"$f":"IF('Line 1 Source'!A1890<>\"\",'Line 1 Source'!A1890,\"\")","v":"2018"},"7447445",{"$f":"CONCATENATE(VLOOKUP(B1890,'School List'!$B$3:$H$291,6,FALSE),H1890)","v":"74450101"},{"$f":"CONCATENATE(VLOOKUP(B1890,'School List'!$B$3:$D$291,3,FALSE),H1890)","v":"Spencer County - SOUTH SPENCER COUNTY SCHOOL CORPORATION0101"},{"$f":"IF('Line 1 Source'!B1890<>\"\",'Line 1 Source'!B1890,\"\")","v":"74"},{"$f":"IF('Line 1 Source'!C1890<>\"\",'Line 1 Source'!C1890,\"\")","v":"4"},{"$f":"IF('Line 1 Source'!D1890<>\"\",'Line 1 Source'!D1890,\"\")","v":"7445"},{"$f":"IF('Line 1 Source'!E1890<>\"\",'Line 1 Source'!E1890,\"\")","v":"0101"},{"$f":"IF('Line 1 Source'!F1890<>\"\",'Line 1 Source'!F1890,\"\")","v":8725300}]
[{"$f":"IF('Line 1 Source'!A1891<>\"\",'Line 1 Source'!A1891,\"\")","v":"2018"},"7447445",{"$f":"CONCATENATE(VLOOKUP(B1891,'School List'!$B$3:$H$291,6,FALSE),H1891)","v":"74450180"},{"$f":"CONCATENATE(VLOOKUP(B1891,'School List'!$B$3:$D$291,3,FALSE),H1891)","v":"Spencer County - SOUTH SPENCER COUNTY SCHOOL CORPORATION0180"},{"$f":"IF('Line 1 Source'!B1891<>\"\",'Line 1 Source'!B1891,\"\")","v":"74"},{"$f":"IF('Line 1 Source'!C1891<>\"\",'Line 1 Source'!C1891,\"\")","v":"4"},{"$f":"IF('Line 1 Source'!D1891<>\"\",'Line 1 Source'!D1891,\"\")","v":"7445"},{"$f":"IF('Line 1 Source'!E1891<>\"\",'Line 1 Source'!E1891,\"\")","v":"0180"},{"$f":"IF('Line 1 Source'!F1891<>\"\",'Line 1 Source'!F1891,\"\")","v":1461650}]
[{"$f":"IF('Line 1 Source'!A1892<>\"\",'Line 1 Source'!A1892,\"\")","v":"2018"},"7447445",{"$f":"CONCATENATE(VLOOKUP(B1892,'School List'!$B$3:$H$291,6,FALSE),H1892)","v":"74451214"},{"$f":"CONCATENATE(VLOOKUP(B1892,'School List'!$B$3:$D$291,3,FALSE),H1892)","v":"Spencer County - SOUTH SPENCER COUNTY SCHOOL CORPORATION1214"},{"$f":"IF('Line 1 Source'!B1892<>\"\",'Line 1 Source'!B1892,\"\")","v":"74"},{"$f":"IF('Line 1 Source'!C1892<>\"\",'Line 1 Source'!C1892,\"\")","v":"4"},{"$f":"IF('Line 1 Source'!D1892<>\"\",'Line 1 Source'!D1892,\"\")","v":"7445"},{"$f":"IF('Line 1 Source'!E1892<>\"\",'Line 1 Source'!E1892,\"\")","v":"1214"},{"$f":"IF('Line 1 Source'!F1892<>\"\",'Line 1 Source'!F1892,\"\")","v":5465300}]
[{"$f":"IF('Line 1 Source'!A1893<>\"\",'Line 1 Source'!A1893,\"\")","v":"2018"},"7447445",{"$f":"CONCATENATE(VLOOKUP(B1893,'School List'!$B$3:$H$291,6,FALSE),H1893)","v":"74456301"},{"$f":"CONCATENATE(VLOOKUP(B1893,'School List'!$B$3:$D$291,3,FALSE),H1893)","v":"Spencer County - SOUTH SPENCER COUNTY SCHOOL CORPORATION6301"},{"$f":"IF('Line 1 Source'!B1893<>\"\",'Line 1 Source'!B1893,\"\")","v":"74"},{"$f":"IF('Line 1 Source'!C1893<>\"\",'Line 1 Source'!C1893,\"\")","v":"4"},{"$f":"IF('Line 1 Source'!D1893<>\"\",'Line 1 Source'!D1893,\"\")","v":"7445"},{"$f":"IF('Line 1 Source'!E1893<>\"\",'Line 1 Source'!E1893,\"\")","v":"6301"},{"$f":"IF('Line 1 Source'!F1893<>\"\",'Line 1 Source'!F1893,\"\")","v":1894000}]
[{"$f":"IF('Line 1 Source'!A1894<>\"\",'Line 1 Source'!A1894,\"\")","v":"2018"},"7447445",{"$f":"CONCATENATE(VLOOKUP(B1894,'School List'!$B$3:$H$291,6,FALSE),H1894)","v":"74456302"},{"$f":"CONCATENATE(VLOOKUP(B1894,'School List'!$B$3:$D$291,3,FALSE),H1894)","v":"Spencer County - SOUTH SPENCER COUNTY SCHOOL CORPORATION6302"},{"$f":"IF('Line 1 Source'!B1894<>\"\",'Line 1 Source'!B1894,\"\")","v":"74"},{"$f":"IF('Line 1 Source'!C1894<>\"\",'Line 1 Source'!C1894,\"\")","v":"4"},{"$f":"IF('Line 1 Source'!D1894<>\"\",'Line 1 Source'!D1894,\"\")","v":"7445"},{"$f":"IF('Line 1 Source'!E1894<>\"\",'Line 1 Source'!E1894,\"\")","v":"6302"},{"$f":"IF('Line 1 Source'!F1894<>\"\",'Line 1 Source'!F1894,\"\")","v":250000}]
[{"$f":"IF('Line 1 Source'!A1895<>\"\",'Line 1 Source'!A1895,\"\")","v":"2018"},"7545455",{"$f":"CONCATENATE(VLOOKUP(B1895,'School List'!$B$3:$H$291,6,FALSE),H1895)","v":{"$error":"#N/A"}},{"$f":"CONCATENATE(VLOOKUP(B1895,'School List'!$B$3:$D$291,3,FALSE),H1895)","v":{"$error":"#N/A"}},{"$f":"IF('Line 1 Source'!B1895<>\"\",'Line 1 Source'!B1895,\"\")","v":"75"},{"$f":"IF('Line 1 Source'!C1895<>\"\",'Line 1 Source'!C1895,\"\")","v":"4"},{"$f":"IF('Line 1 Source'!D1895<>\"\",'Line 1 Source'!D1895,\"\")","v":"5455"},{"$f":"IF('Line 1 Source'!E1895<>\"\",'Line 1 Source'!E1895,\"\")","v":"0061"},{"$f":"IF('Line 1 Source'!F1895<>\"\",'Line 1 Source'!F1895,\"\")","v":0}]
[{"$f":"IF('Line 1 Source'!A1896<>\"\",'Line 1 Source'!A1896,\"\")","v":"2018"},"7545455",{"$f":"CONCATENATE(VLOOKUP(B1896,'School List'!$B$3:$H$291,6,FALSE),H1896)","v":{"$error":"#N/A"}},{"$f":"CONCATENATE(VLOOKUP(B1896,'School List'!$B$3:$D$291,3,FALSE),H1896)","v":{"$error":"#N/A"}},{"$f":"IF('Line 1 Source'!B1896<>\"\",'Line 1 Source'!B1896,\"\")","v":"75"},{"$f":"IF('Line 1 Source'!C1896<>\"\",'Line 1 Source'!C1896,\"\")","v":"4"},{"$f":"IF('Line 1 Source'!D1896<>\"\",'Line 1 Source'!D1896,\"\")","v":"5455"},{"$f":"IF('Line 1 Source'!E1896<>\"\",'Line 1 Source'!E1896,\"\")","v":"0101"},{"$f":"IF('Line 1 Source'!F1896<>\"\",'Line 1 Source'!F1896,\"\")","v":0}]
[{"$f":"IF('Line 1 Source'!A1897<>\"\",'Line 1 Source'!A1897,\"\")","v":"2018"},"7545455",{"$f":"CONCATENATE(VLOOKUP(B1897,'School List'!$B$3:$H$291,6,FALSE),H1897)","v":{"$error":"#N/A"}},{"$f":"CONCATENATE(VLOOKUP(B1897,'School List'!$B$3:$D$291,3,FALSE),H1897)","v":{"$error":"#N/A"}},{"$f":"IF('Line 1 Source'!B1897<>\"\",'Line 1 Source'!B1897,\"\")","v":"75"},{"$f":"IF('Line 1 Source'!C1897<>\"\",'Line 1 Source'!C1897,\"\")","v":"4"},{"$f":"IF('Line 1 Source'!D1897<>\"\",'Line 1 Source'!D1897,\"\")","v":"5455"},{"$f":"IF('Line 1 Source'!E1897<>\"\",'Line 1 Source'!E1897,\"\")","v":"0180"},{"$f":"IF('Line 1 Source'!F1897<>\"\",'Line 1 Source'!F1897,\"\")","v":0}]
[{"$f":"IF('Line 1 Source'!A1898<>\"\",'Line 1 Source'!A1898,\"\")","v":"2018"},"7545455",{"$f":"CONCATENATE(VLOOKUP(B1898,'School List'!$B$3:$H$291,6,FALSE),H1898)","v":{"$error":"#N/A"}},{"$f":"CONCATENATE(VLOOKUP(B1898,'School List'!$B$3:$D$291,3,FALSE),H1898)","v":{"$error":"#N/A"}},{"$f":"IF('Line 1 Source'!B1898<>\"\",'Line 1 Source'!B1898,\"\")","v":"75"},{"$f":"IF('Line 1 Source'!C1898<>\"\",'Line 1 Source'!C1898,\"\")","v":"4"},{"$f":"IF('Line 1 Source'!D1898<>\"\",'Line 1 Source'!D1898,\"\")","v":"5455"},{"$f":"IF('Line 1 Source'!E1898<>\"\",'Line 1 Source'!E1898,\"\")","v":"0186"},{"$f":"IF('Line 1 Source'!F1898<>\"\",'Line 1 Source'!F1898,\"\")","v":0}]
[{"$f":"IF('Line 1 Source'!A1899<>\"\",'Line 1 Source'!A1899,\"\")","v":"2018"},"7545455",{"$f":"CONCATENATE(VLOOKUP(B1899,'School List'!$B$3:$H$291,6,FALSE),H1899)","v":{"$error":"#N/A"}},{"$f":"CONCATENATE(VLOOKUP(B1899,'School List'!$B$3:$D$291,3,FALSE),H1899)","v":{"$error":"#N/A"}},{"$f":"IF('Line 1 Source'!B1899<>\"\",'Line 1 Source'!B1899,\"\")","v":"75"},{"$f":"IF('Line 1 Source'!C1899<>\"\",'Line 1 Source'!C1899,\"\")","v":"4"},{"$f":"IF('Line 1 Source'!D1899<>\"\",'Line 1 Source'!D1899,\"\")","v":"5455"},{"$f":"IF('Line 1 Source'!E1899<>\"\",'Line 1 Source'!E1899,\"\")","v":"1214"},{"$f":"IF('Line 1 Source'!F1899<>\"\",'Line 1 Source'!F1899,\"\")","v":0}]
[{"$f":"IF('Line 1 Source'!A1900<>\"\",'Line 1 Source'!A1900,\"\")","v":"2018"},"7545455",{"$f":"CONCATENATE(VLOOKUP(B1900,'School List'!$B$3:$H$291,6,FALSE),H1900)","v":{"$error":"#N/A"}},{"$f":"CONCATENATE(VLOOKUP(B1900,'School List'!$B$3:$D$291,3,FALSE),H1900)","v":{"$error":"#N/A"}},{"$f":"IF('Line 1 Source'!B1900<>\"\",'Line 1 Source'!B1900,\"\")","v":"75"},{"$f":"IF('Line 1 Source'!C1900<>\"\",'Line 1 Source'!C1900,\"\")","v":"4"},{"$f":"IF('Line 1 Source'!D1900<>\"\",'Line 1 Source'!D1900,\"\")","v":"5455"},{"$f":"IF('Line 1 Source'!E1900<>\"\",'Line 1 Source'!E1900,\"\")","v":"6301"},{"$f":"IF('Line 1 Source'!F1900<>\"\",'Line 1 Source'!F1900,\"\")","v":0}]
[{"$f":"IF('Line 1 Source'!A1901<>\"\",'Line 1 Source'!A1901,\"\")","v":"2018"},"7545455",{"$f":"CONCATENATE(VLOOKUP(B1901,'School List'!$B$3:$H$291,6,FALSE),H1901)","v":{"$error":"#N/A"}},{"$f":"CONCATENATE(VLOOKUP(B1901,'School List'!$B$3:$D$291,3,FALSE),H1901)","v":{"$error":"#N/A"}},{"$f":"IF('Line 1 Source'!B1901<>\"\",'Line 1 Source'!B1901,\"\")","v":"75"},{"$f":"IF('Line 1 Source'!C1901<>\"\",'Line 1 Source'!C1901,\"\")","v":"4"},{"$f":"IF('Line 1 Source'!D1901<>\"\",'Line 1 Source'!D1901,\"\")","v":"5455"},{"$f":"IF('Line 1 Source'!E1901<>\"\",'Line 1 Source'!E1901,\"\")","v":"6302"},{"$f":"IF('Line 1 Source'!F1901<>\"\",'Line 1 Source'!F1901,\"\")","v":0}]
[{"$f":"IF('Line 1 Source'!A1902<>\"\",'Line 1 Source'!A1902,\"\")","v":"2018"},"7547495",{"$f":"CONCATENATE(VLOOKUP(B1902,'School List'!$B$3:$H$291,6,FALSE),H1902)","v":"74950022"},{"$f":"CONCATENATE(VLOOKUP(B1902,'School List'!$B$3:$D$291,3,FALSE),H1902)","v":"Starke County - OREGON-DAVIS SCHOOL CORPORATION0022"},{"$f":"IF('Line 1 Source'!B1902<>\"\",'Line 1 Source'!B1902,\"\")","v":"75"},{"$f":"IF('Line 1 Source'!C1902<>\"\",'Line 1 Source'!C1902,\"\")","v":"4"},{"$f":"IF('Line 1 Source'!D1902<>\"\",'Line 1 Source'!D1902,\"\")","v":"7495"},{"$f":"IF('Line 1 Source'!E1902<>\"\",'Line 1 Source'!E1902,\"\")","v":"0022"},{"$f":"IF('Line 1 Source'!F1902<>\"\",'Line 1 Source'!F1902,\"\")","v":512013}]
[{"$f":"IF('Line 1 Source'!A1903<>\"\",'Line 1 Source'!A1903,\"\")","v":"2018"},"7547495",{"$f":"CONCATENATE(VLOOKUP(B1903,'School List'!$B$3:$H$291,6,FALSE),H1903)","v":"74950061"},{"$f":"CONCATENATE(VLOOKUP(B1903,'School List'!$B$3:$D$291,3,FALSE),H1903)","v":"Starke County - OREGON-DAVIS SCHOOL CORPORATION0061"},{"$f":"IF('Line 1 Source'!B1903<>\"\",'Line 1 Source'!B1903,\"\")","v":"75"},{"$f":"IF('Line 1 Source'!C1903<>\"\",'Line 1 Source'!C1903,\"\")","v":"4"},{"$f":"IF('Line 1 Source'!D1903<>\"\",'Line 1 Source'!D1903,\"\")","v":"7495"},{"$f":"IF('Line 1 Source'!E1903<>\"\",'Line 1 Source'!E1903,\"\")","v":"0061"},{"$f":"IF('Line 1 Source'!F1903<>\"\",'Line 1 Source'!F1903,\"\")","v":200000}]
[{"$f":"IF('Line 1 Source'!A1904<>\"\",'Line 1 Source'!A1904,\"\")","v":"2018"},"7547495",{"$f":"CONCATENATE(VLOOKUP(B1904,'School List'!$B$3:$H$291,6,FALSE),H1904)","v":"74950101"},{"$f":"CONCATENATE(VLOOKUP(B1904,'School List'!$B$3:$D$291,3,FALSE),H1904)","v":"Starke County - OREGON-DAVIS SCHOOL CORPORATION0101"},{"$f":"IF('Line 1 Source'!B1904<>\"\",'Line 1 Source'!B1904,\"\")","v":"75"},{"$f":"IF('Line 1 Source'!C1904<>\"\",'Line 1 Source'!C1904,\"\")","v":"4"},{"$f":"IF('Line 1 Source'!D1904<>\"\",'Line 1 Source'!D1904,\"\")","v":"7495"},{"$f":"IF('Line 1 Source'!E1904<>\"\",'Line 1 Source'!E1904,\"\")","v":"0101"},{"$f":"IF('Line 1 Source'!F1904<>\"\",'Line 1 Source'!F1904,\"\")","v":3933241}]
[{"$f":"IF('Line 1 Source'!A1905<>\"\",'Line 1 Source'!A1905,\"\")","v":"2018"},"7547495",{"$f":"CONCATENATE(VLOOKUP(B1905,'School List'!$B$3:$H$291,6,FALSE),H1905)","v":"74950180"},{"$f":"CONCATENATE(VLOOKUP(B1905,'School List'!$B$3:$D$291,3,FALSE),H1905)","v":"Starke County - OREGON-DAVIS SCHOOL CORPORATION0180"},{"$f":"IF('Line 1 Source'!B1905<>\"\",'Line 1 Source'!B1905,\"\")","v":"75"},{"$f":"IF('Line 1 Source'!C1905<>\"\",'Line 1 Source'!C1905,\"\")","v":"4"},{"$f":"IF('Line 1 Source'!D1905<>\"\",'Line 1 Source'!D1905,\"\")","v":"7495"},{"$f":"IF('Line 1 Source'!E1905<>\"\",'Line 1 Source'!E1905,\"\")","v":"0180"},{"$f":"IF('Line 1 Source'!F1905<>\"\",'Line 1 Source'!F1905,\"\")","v":1026265}]
[{"$f":"IF('Line 1 Source'!A1906<>\"\",'Line 1 Source'!A1906,\"\")","v":"2018"},"7547495",{"$f":"CONCATENATE(VLOOKUP(B1906,'School List'!$B$3:$H$291,6,FALSE),H1906)","v":"74951214"},{"$f":"CONCATENATE(VLOOKUP(B1906,'School List'!$B$3:$D$291,3,FALSE),H1906)","v":"Starke County - OREGON-DAVIS SCHOOL CORPORATION1214"},{"$f":"IF('Line 1 Source'!B1906<>\"\",'Line 1 Source'!B1906,\"\")","v":"75"},{"$f":"IF('Line 1 Source'!C1906<>\"\",'Line 1 Source'!C1906,\"\")","v":"4"},{"$f":"IF('Line 1 Source'!D1906<>\"\",'Line 1 Source'!D1906,\"\")","v":"7495"},{"$f":"IF('Line 1 Source'!E1906<>\"\",'Line 1 Source'!E1906,\"\")","v":"1214"},{"$f":"IF('Line 1 Source'!F1906<>\"\",'Line 1 Source'!F1906,\"\")","v":675000}]
[{"$f":"IF('Line 1 Source'!A1907<>\"\",'Line 1 Source'!A1907,\"\")","v":"2018"},"7547495",{"$f":"CONCATENATE(VLOOKUP(B1907,'School List'!$B$3:$H$291,6,FALSE),H1907)","v":"74956301"},{"$f":"CONCATENATE(VLOOKUP(B1907,'School List'!$B$3:$D$291,3,FALSE),H1907)","v":"Starke County - OREGON-DAVIS SCHOOL CORPORATION6301"},{"$f":"IF('Line 1 Source'!B1907<>\"\",'Line 1 Source'!B1907,\"\")","v":"75"},{"$f":"IF('Line 1 Source'!C1907<>\"\",'Line 1 Source'!C1907,\"\")","v":"4"},{"$f":"IF('Line 1 Source'!D1907<>\"\",'Line 1 Source'!D1907,\"\")","v":"7495"},{"$f":"IF('Line 1 Source'!E1907<>\"\",'Line 1 Source'!E1907,\"\")","v":"6301"},{"$f":"IF('Line 1 Source'!F1907<>\"\",'Line 1 Source'!F1907,\"\")","v":646448}]
[{"$f":"IF('Line 1 Source'!A1908<>\"\",'Line 1 Source'!A1908,\"\")","v":"2018"},"7547495",{"$f":"CONCATENATE(VLOOKUP(B1908,'School List'!$B$3:$H$291,6,FALSE),H1908)","v":"74956302"},{"$f":"CONCATENATE(VLOOKUP(B1908,'School List'!$B$3:$D$291,3,FALSE),H1908)","v":"Starke County - OREGON-DAVIS SCHOOL CORPORATION6302"},{"$f":"IF('Line 1 Source'!B1908<>\"\",'Line 1 Source'!B1908,\"\")","v":"75"},{"$f":"IF('Line 1 Source'!C1908<>\"\",'Line 1 Source'!C1908,\"\")","v":"4"},{"$f":"IF('Line 1 Source'!D1908<>\"\",'Line 1 Source'!D1908,\"\")","v":"7495"},{"$f":"IF('Line 1 Source'!E1908<>\"\",'Line 1 Source'!E1908,\"\")","v":"6302"},{"$f":"IF('Line 1 Source'!F1908<>\"\",'Line 1 Source'!F1908,\"\")","v":168543}]
[{"$f":"IF('Line 1 Source'!A1909<>\"\",'Line 1 Source'!A1909,\"\")","v":"2018"},"7547515",{"$f":"CONCATENATE(VLOOKUP(B1909,'School List'!$B$3:$H$291,6,FALSE),H1909)","v":"75150061"},{"$f":"CONCATENATE(VLOOKUP(B1909,'School List'!$B$3:$D$291,3,FALSE),H1909)","v":"Starke County - NORTH JUDSON-SAN PIERRE SCHOOL CORP0061"},{"$f":"IF('Line 1 Source'!B1909<>\"\",'Line 1 Source'!B1909,\"\")","v":"75"},{"$f":"IF('Line 1 Source'!C1909<>\"\",'Line 1 Source'!C1909,\"\")","v":"4"},{"$f":"IF('Line 1 Source'!D1909<>\"\",'Line 1 Source'!D1909,\"\")","v":"7515"},{"$f":"IF('Line 1 Source'!E1909<>\"\",'Line 1 Source'!E1909,\"\")","v":"0061"},{"$f":"IF('Line 1 Source'!F1909<>\"\",'Line 1 Source'!F1909,\"\")","v":415329}]
[{"$f":"IF('Line 1 Source'!A1910<>\"\",'Line 1 Source'!A1910,\"\")","v":"2018"},"7547515",{"$f":"CONCATENATE(VLOOKUP(B1910,'School List'!$B$3:$H$291,6,FALSE),H1910)","v":"75150101"},{"$f":"CONCATENATE(VLOOKUP(B1910,'School List'!$B$3:$D$291,3,FALSE),H1910)","v":"Starke County - NORTH JUDSON-SAN PIERRE SCHOOL CORP0101"},{"$f":"IF('Line 1 Source'!B1910<>\"\",'Line 1 Source'!B1910,\"\")","v":"75"},{"$f":"IF('Line 1 Source'!C1910<>\"\",'Line 1 Source'!C1910,\"\")","v":"4"},{"$f":"IF('Line 1 Source'!D1910<>\"\",'Line 1 Source'!D1910,\"\")","v":"7515"},{"$f":"IF('Line 1 Source'!E1910<>\"\",'Line 1 Source'!E1910,\"\")","v":"0101"},{"$f":"IF('Line 1 Source'!F1910<>\"\",'Line 1 Source'!F1910,\"\")","v":7846130}]
[{"$f":"IF('Line 1 Source'!A1911<>\"\",'Line 1 Source'!A1911,\"\")","v":"2018"},"7547515",{"$f":"CONCATENATE(VLOOKUP(B1911,'School List'!$B$3:$H$291,6,FALSE),H1911)","v":"75150180"},{"$f":"CONCATENATE(VLOOKUP(B1911,'School List'!$B$3:$D$291,3,FALSE),H1911)","v":"Starke County - NORTH JUDSON-SAN PIERRE SCHOOL CORP0180"},{"$f":"IF('Line 1 Source'!B1911<>\"\",'Line 1 Source'!B1911,\"\")","v":"75"},{"$f":"IF('Line 1 Source'!C1911<>\"\",'Line 1 Source'!C1911,\"\")","v":"4"},{"$f":"IF('Line 1 Source'!D1911<>\"\",'Line 1 Source'!D1911,\"\")","v":"7515"},{"$f":"IF('Line 1 Source'!E1911<>\"\",'Line 1 Source'!E1911,\"\")","v":"0180"},{"$f":"IF('Line 1 Source'!F1911<>\"\",'Line 1 Source'!F1911,\"\")","v":1365271}]
[{"$f":"IF('Line 1 Source'!A1912<>\"\",'Line 1 Source'!A1912,\"\")","v":"2018"},"7547515",{"$f":"CONCATENATE(VLOOKUP(B1912,'School List'!$B$3:$H$291,6,FALSE),H1912)","v":"75150186"},{"$f":"CONCATENATE(VLOOKUP(B1912,'School List'!$B$3:$D$291,3,FALSE),H1912)","v":"Starke County - NORTH JUDSON-SAN PIERRE SCHOOL CORP0186"},{"$f":"IF('Line 1 Source'!B1912<>\"\",'Line 1 Source'!B1912,\"\")","v":"75"},{"$f":"IF('Line 1 Source'!C1912<>\"\",'Line 1 Source'!C1912,\"\")","v":"4"},{"$f":"IF('Line 1 Source'!D1912<>\"\",'Line 1 Source'!D1912,\"\")","v":"7515"},{"$f":"IF('Line 1 Source'!E1912<>\"\",'Line 1 Source'!E1912,\"\")","v":"0186"},{"$f":"IF('Line 1 Source'!F1912<>\"\",'Line 1 Source'!F1912,\"\")","v":66776}]
[{"$f":"IF('Line 1 Source'!A1913<>\"\",'Line 1 Source'!A1913,\"\")","v":"2018"},"7547515",{"$f":"CONCATENATE(VLOOKUP(B1913,'School List'!$B$3:$H$291,6,FALSE),H1913)","v":"75151214"},{"$f":"CONCATENATE(VLOOKUP(B1913,'School List'!$B$3:$D$291,3,FALSE),H1913)","v":"Starke County - NORTH JUDSON-SAN PIERRE SCHOOL CORP1214"},{"$f":"IF('Line 1 Source'!B1913<>\"\",'Line 1 Source'!B1913,\"\")","v":"75"},{"$f":"IF('Line 1 Source'!C1913<>\"\",'Line 1 Source'!C1913,\"\")","v":"4"},{"$f":"IF('Line 1 Source'!D1913<>\"\",'Line 1 Source'!D1913,\"\")","v":"7515"},{"$f":"IF('Line 1 Source'!E1913<>\"\",'Line 1 Source'!E1913,\"\")","v":"1214"},{"$f":"IF('Line 1 Source'!F1913<>\"\",'Line 1 Source'!F1913,\"\")","v":1033658}]
[{"$f":"IF('Line 1 Source'!A1914<>\"\",'Line 1 Source'!A1914,\"\")","v":"2018"},"7547515",{"$f":"CONCATENATE(VLOOKUP(B1914,'School List'!$B$3:$H$291,6,FALSE),H1914)","v":"75156301"},{"$f":"CONCATENATE(VLOOKUP(B1914,'School List'!$B$3:$D$291,3,FALSE),H1914)","v":"Starke County - NORTH JUDSON-SAN PIERRE SCHOOL CORP6301"},{"$f":"IF('Line 1 Source'!B1914<>\"\",'Line 1 Source'!B1914,\"\")","v":"75"},{"$f":"IF('Line 1 Source'!C1914<>\"\",'Line 1 Source'!C1914,\"\")","v":"4"},{"$f":"IF('Line 1 Source'!D1914<>\"\",'Line 1 Source'!D1914,\"\")","v":"7515"},{"$f":"IF('Line 1 Source'!E1914<>\"\",'Line 1 Source'!E1914,\"\")","v":"6301"},{"$f":"IF('Line 1 Source'!F1914<>\"\",'Line 1 Source'!F1914,\"\")","v":1280887}]
[{"$f":"IF('Line 1 Source'!A1915<>\"\",'Line 1 Source'!A1915,\"\")","v":"2018"},"7547515",{"$f":"CONCATENATE(VLOOKUP(B1915,'School List'!$B$3:$H$291,6,FALSE),H1915)","v":"75156302"},{"$f":"CONCATENATE(VLOOKUP(B1915,'School List'!$B$3:$D$291,3,FALSE),H1915)","v":"Starke County - NORTH JUDSON-SAN PIERRE SCHOOL CORP6302"},{"$f":"IF('Line 1 Source'!B1915<>\"\",'Line 1 Source'!B1915,\"\")","v":"75"},{"$f":"IF('Line 1 Source'!C1915<>\"\",'Line 1 Source'!C1915,\"\")","v":"4"},{"$f":"IF('Line 1 Source'!D1915<>\"\",'Line 1 Source'!D1915,\"\")","v":"7515"},{"$f":"IF('Line 1 Source'!E1915<>\"\",'Line 1 Source'!E1915,\"\")","v":"6302"},{"$f":"IF('Line 1 Source'!F1915<>\"\",'Line 1 Source'!F1915,\"\")","v":300000}]
[{"$f":"IF('Line 1 Source'!A1916<>\"\",'Line 1 Source'!A1916,\"\")","v":"2018"},"7547525",{"$f":"CONCATENATE(VLOOKUP(B1916,'School List'!$B$3:$H$291,6,FALSE),H1916)","v":"75250061"},{"$f":"CONCATENATE(VLOOKUP(B1916,'School List'!$B$3:$D$291,3,FALSE),H1916)","v":"Starke County - KNOX COMMUNITY SCHOOL CORPORATION0061"},{"$f":"IF('Line 1 Source'!B1916<>\"\",'Line 1 Source'!B1916,\"\")","v":"75"},{"$f":"IF('Line 1 Source'!C1916<>\"\",'Line 1 Source'!C1916,\"\")","v":"4"},{"$f":"IF('Line 1 Source'!D1916<>\"\",'Line 1 Source'!D1916,\"\")","v":"7525"},{"$f":"IF('Line 1 Source'!E1916<>\"\",'Line 1 Source'!E1916,\"\")","v":"0061"},{"$f":"IF('Line 1 Source'!F1916<>\"\",'Line 1 Source'!F1916,\"\")","v":1078000}]
[{"$f":"IF('Line 1 Source'!A1917<>\"\",'Line 1 Source'!A1917,\"\")","v":"2018"},"7547525",{"$f":"CONCATENATE(VLOOKUP(B1917,'School List'!$B$3:$H$291,6,FALSE),H1917)","v":"75250101"},{"$f":"CONCATENATE(VLOOKUP(B1917,'School List'!$B$3:$D$291,3,FALSE),H1917)","v":"Starke County - KNOX COMMUNITY SCHOOL CORPORATION0101"},{"$f":"IF('Line 1 Source'!B1917<>\"\",'Line 1 Source'!B1917,\"\")","v":"75"},{"$f":"IF('Line 1 Source'!C1917<>\"\",'Line 1 Source'!C1917,\"\")","v":"4"},{"$f":"IF('Line 1 Source'!D1917<>\"\",'Line 1 Source'!D1917,\"\")","v":"7525"},{"$f":"IF('Line 1 Source'!E1917<>\"\",'Line 1 Source'!E1917,\"\")","v":"0101"},{"$f":"IF('Line 1 Source'!F1917<>\"\",'Line 1 Source'!F1917,\"\")","v":12760379}]
[{"$f":"IF('Line 1 Source'!A1918<>\"\",'Line 1 Source'!A1918,\"\")","v":"2018"},"7547525",{"$f":"CONCATENATE(VLOOKUP(B1918,'School List'!$B$3:$H$291,6,FALSE),H1918)","v":"75250180"},{"$f":"CONCATENATE(VLOOKUP(B1918,'School List'!$B$3:$D$291,3,FALSE),H1918)","v":"Starke County - KNOX COMMUNITY SCHOOL CORPORATION0180"},{"$f":"IF('Line 1 Source'!B1918<>\"\",'Line 1 Source'!B1918,\"\")","v":"75"},{"$f":"IF('Line 1 Source'!C1918<>\"\",'Line 1 Source'!C1918,\"\")","v":"4"},{"$f":"IF('Line 1 Source'!D1918<>\"\",'Line 1 Source'!D1918,\"\")","v":"7525"},{"$f":"IF('Line 1 Source'!E1918<>\"\",'Line 1 Source'!E1918,\"\")","v":"0180"},{"$f":"IF('Line 1 Source'!F1918<>\"\",'Line 1 Source'!F1918,\"\")","v":3242577}]
[{"$f":"IF('Line 1 Source'!A1919<>\"\",'Line 1 Source'!A1919,\"\")","v":"2018"},"7547525",{"$f":"CONCATENATE(VLOOKUP(B1919,'School List'!$B$3:$H$291,6,FALSE),H1919)","v":"75250186"},{"$f":"CONCATENATE(VLOOKUP(B1919,'School List'!$B$3:$D$291,3,FALSE),H1919)","v":"Starke County - KNOX COMMUNITY SCHOOL CORPORATION0186"},{"$f":"IF('Line 1 Source'!B1919<>\"\",'Line 1 Source'!B1919,\"\")","v":"75"},{"$f":"IF('Line 1 Source'!C1919<>\"\",'Line 1 Source'!C1919,\"\")","v":"4"},{"$f":"IF('Line 1 Source'!D1919<>\"\",'Line 1 Source'!D1919,\"\")","v":"7525"},{"$f":"IF('Line 1 Source'!E1919<>\"\",'Line 1 Source'!E1919,\"\")","v":"0186"},{"$f":"IF('Line 1 Source'!F1919<>\"\",'Line 1 Source'!F1919,\"\")","v":305514}]
[{"$f":"IF('Line 1 Source'!A1920<>\"\",'Line 1 Source'!A1920,\"\")","v":"2018"},"7547525",{"$f":"CONCATENATE(VLOOKUP(B1920,'School List'!$B$3:$H$291,6,FALSE),H1920)","v":"75251214"},{"$f":"CONCATENATE(VLOOKUP(B1920,'School List'!$B$3:$D$291,3,FALSE),H1920)","v":"Starke County - KNOX COMMUNITY SCHOOL CORPORATION1214"},{"$f":"IF('Line 1 Source'!B1920<>\"\",'Line 1 Source'!B1920,\"\")","v":"75"},{"$f":"IF('Line 1 Source'!C1920<>\"\",'Line 1 Source'!C1920,\"\")","v":"4"},{"$f":"IF('Line 1 Source'!D1920<>\"\",'Line 1 Source'!D1920,\"\")","v":"7525"},{"$f":"IF('Line 1 Source'!E1920<>\"\",'Line 1 Source'!E1920,\"\")","v":"1214"},{"$f":"IF('Line 1 Source'!F1920<>\"\",'Line 1 Source'!F1920,\"\")","v":1195097}]
[{"$f":"IF('Line 1 Source'!A1921<>\"\",'Line 1 Source'!A1921,\"\")","v":"2018"},"7547525",{"$f":"CONCATENATE(VLOOKUP(B1921,'School List'!$B$3:$H$291,6,FALSE),H1921)","v":"75256301"},{"$f":"CONCATENATE(VLOOKUP(B1921,'School List'!$B$3:$D$291,3,FALSE),H1921)","v":"Starke County - KNOX COMMUNITY SCHOOL CORPORATION6301"},{"$f":"IF('Line 1 Source'!B1921<>\"\",'Line 1 Source'!B1921,\"\")","v":"75"},{"$f":"IF('Line 1 Source'!C1921<>\"\",'Line 1 Source'!C1921,\"\")","v":"4"},{"$f":"IF('Line 1 Source'!D1921<>\"\",'Line 1 Source'!D1921,\"\")","v":"7525"},{"$f":"IF('Line 1 Source'!E1921<>\"\",'Line 1 Source'!E1921,\"\")","v":"6301"},{"$f":"IF('Line 1 Source'!F1921<>\"\",'Line 1 Source'!F1921,\"\")","v":1046550}]
[{"$f":"IF('Line 1 Source'!A1922<>\"\",'Line 1 Source'!A1922,\"\")","v":"2018"},"7547525",{"$f":"CONCATENATE(VLOOKUP(B1922,'School List'!$B$3:$H$291,6,FALSE),H1922)","v":"75256302"},{"$f":"CONCATENATE(VLOOKUP(B1922,'School List'!$B$3:$D$291,3,FALSE),H1922)","v":"Starke County - KNOX COMMUNITY SCHOOL CORPORATION6302"},{"$f":"IF('Line 1 Source'!B1922<>\"\",'Line 1 Source'!B1922,\"\")","v":"75"},{"$f":"IF('Line 1 Source'!C1922<>\"\",'Line 1 Source'!C1922,\"\")","v":"4"},{"$f":"IF('Line 1 Source'!D1922<>\"\",'Line 1 Source'!D1922,\"\")","v":"7525"},{"$f":"IF('Line 1 Source'!E1922<>\"\",'Line 1 Source'!E1922,\"\")","v":"6302"},{"$f":"IF('Line 1 Source'!F1922<>\"\",'Line 1 Source'!F1922,\"\")","v":325000}]
[{"$f":"IF('Line 1 Source'!A1923<>\"\",'Line 1 Source'!A1923,\"\")","v":"2018"},{"$f":"CONCATENATE(E1923,F1923,G1923)","v":"7641835"},{"$f":"CONCATENATE(VLOOKUP(B1923,'School List'!$B$3:$H$291,6,FALSE),H1923)","v":{"$error":"#N/A"}},{"$f":"CONCATENATE(VLOOKUP(B1923,'School List'!$B$3:$D$291,3,FALSE),H1923)","v":{"$error":"#N/A"}},{"$f":"IF('Line 1 Source'!B1923<>\"\",'Line 1 Source'!B1923,\"\")","v":"76"},{"$f":"IF('Line 1 Source'!C1923<>\"\",'Line 1 Source'!C1923,\"\")","v":"4"},{"$f":"IF('Line 1 Source'!D1923<>\"\",'Line 1 Source'!D1923,\"\")","v":"1835"},{"$f":"IF('Line 1 Source'!E1923<>\"\",'Line 1 Source'!E1923,\"\")","v":"0061"},{"$f":"IF('Line 1 Source'!F1923<>\"\",'Line 1 Source'!F1923,\"\")","v":0}]
[{"$f":"IF('Line 1 Source'!A1924<>\"\",'Line 1 Source'!A1924,\"\")","v":"2018"},"7641835",{"$f":"CONCATENATE(VLOOKUP(B1924,'School List'!$B$3:$H$291,6,FALSE),H1924)","v":{"$error":"#N/A"}},{"$f":"CONCATENATE(VLOOKUP(B1924,'School List'!$B$3:$D$291,3,FALSE),H1924)","v":{"$error":"#N/A"}},{"$f":"IF('Line 1 Source'!B1924<>\"\",'Line 1 Source'!B1924,\"\")","v":"76"},{"$f":"IF('Line 1 Source'!C1924<>\"\",'Line 1 Source'!C1924,\"\")","v":"4"},{"$f":"IF('Line 1 Source'!D1924<>\"\",'Line 1 Source'!D1924,\"\")","v":"1835"},{"$f":"IF('Line 1 Source'!E1924<>\"\",'Line 1 Source'!E1924,\"\")","v":"0101"},{"$f":"IF('Line 1 Source'!F1924<>\"\",'Line 1 Source'!F1924,\"\")","v":0}]
[{"$f":"IF('Line 1 Source'!A1925<>\"\",'Line 1 Source'!A1925,\"\")","v":"2018"},"7641835",{"$f":"CONCATENATE(VLOOKUP(B1925,'School List'!$B$3:$H$291,6,FALSE),H1925)","v":{"$error":"#N/A"}},{"$f":"CONCATENATE(VLOOKUP(B1925,'School List'!$B$3:$D$291,3,FALSE),H1925)","v":{"$error":"#N/A"}},{"$f":"IF('Line 1 Source'!B1925<>\"\",'Line 1 Source'!B1925,\"\")","v":"76"},{"$f":"IF('Line 1 Source'!C1925<>\"\",'Line 1 Source'!C1925,\"\")","v":"4"},{"$f":"IF('Line 1 Source'!D1925<>\"\",'Line 1 Source'!D1925,\"\")","v":"1835"},{"$f":"IF('Line 1 Source'!E1925<>\"\",'Line 1 Source'!E1925,\"\")","v":"0180"},{"$f":"IF('Line 1 Source'!F1925<>\"\",'Line 1 Source'!F1925,\"\")","v":0}]
[{"$f":"IF('Line 1 Source'!A1926<>\"\",'Line 1 Source'!A1926,\"\")","v":"2018"},"7641835",{"$f":"CONCATENATE(VLOOKUP(B1926,'School List'!$B$3:$H$291,6,FALSE),H1926)","v":{"$error":"#N/A"}},{"$f":"CONCATENATE(VLOOKUP(B1926,'School List'!$B$3:$D$291,3,FALSE),H1926)","v":{"$error":"#N/A"}},{"$f":"IF('Line 1 Source'!B1926<>\"\",'Line 1 Source'!B1926,\"\")","v":"76"},{"$f":"IF('Line 1 Source'!C1926<>\"\",'Line 1 Source'!C1926,\"\")","v":"4"},{"$f":"IF('Line 1 Source'!D1926<>\"\",'Line 1 Source'!D1926,\"\")","v":"1835"},{"$f":"IF('Line 1 Source'!E1926<>\"\",'Line 1 Source'!E1926,\"\")","v":"1214"},{"$f":"IF('Line 1 Source'!F1926<>\"\",'Line 1 Source'!F1926,\"\")","v":0}]
[{"$f":"IF('Line 1 Source'!A1927<>\"\",'Line 1 Source'!A1927,\"\")","v":"2018"},"7641835",{"$f":"CONCATENATE(VLOOKUP(B1927,'School List'!$B$3:$H$291,6,FALSE),H1927)","v":{"$error":"#N/A"}},{"$f":"CONCATENATE(VLOOKUP(B1927,'School List'!$B$3:$D$291,3,FALSE),H1927)","v":{"$error":"#N/A"}},{"$f":"IF('Line 1 Source'!B1927<>\"\",'Line 1 Source'!B1927,\"\")","v":"76"},{"$f":"IF('Line 1 Source'!C1927<>\"\",'Line 1 Source'!C1927,\"\")","v":"4"},{"$f":"IF('Line 1 Source'!D1927<>\"\",'Line 1 Source'!D1927,\"\")","v":"1835"},{"$f":"IF('Line 1 Source'!E1927<>\"\",'Line 1 Source'!E1927,\"\")","v":"6301"},{"$f":"IF('Line 1 Source'!F1927<>\"\",'Line 1 Source'!F1927,\"\")","v":0}]
[{"$f":"IF('Line 1 Source'!A1928<>\"\",'Line 1 Source'!A1928,\"\")","v":"2018"},"7641835",{"$f":"CONCATENATE(VLOOKUP(B1928,'School List'!$B$3:$H$291,6,FALSE),H1928)","v":{"$error":"#N/A"}},{"$f":"CONCATENATE(VLOOKUP(B1928,'School List'!$B$3:$D$291,3,FALSE),H1928)","v":{"$error":"#N/A"}},{"$f":"IF('Line 1 Source'!B1928<>\"\",'Line 1 Source'!B1928,\"\")","v":"76"},{"$f":"IF('Line 1 Source'!C1928<>\"\",'Line 1 Source'!C1928,\"\")","v":"4"},{"$f":"IF('Line 1 Source'!D1928<>\"\",'Line 1 Source'!D1928,\"\")","v":"1835"},{"$f":"IF('Line 1 Source'!E1928<>\"\",'Line 1 Source'!E1928,\"\")","v":"6302"},{"$f":"IF('Line 1 Source'!F1928<>\"\",'Line 1 Source'!F1928,\"\")","v":0}]
[{"$f":"IF('Line 1 Source'!A1929<>\"\",'Line 1 Source'!A1929,\"\")","v":"2018"},"7644515",{"$f":"CONCATENATE(VLOOKUP(B1929,'School List'!$B$3:$H$291,6,FALSE),H1929)","v":"45150061"},{"$f":"CONCATENATE(VLOOKUP(B1929,'School List'!$B$3:$D$291,3,FALSE),H1929)","v":"Steuben County - PRAIRIE HEIGHTS COMMUNITY SCHOOL CORP0061"},{"$f":"IF('Line 1 Source'!B1929<>\"\",'Line 1 Source'!B1929,\"\")","v":"76"},{"$f":"IF('Line 1 Source'!C1929<>\"\",'Line 1 Source'!C1929,\"\")","v":"4"},{"$f":"IF('Line 1 Source'!D1929<>\"\",'Line 1 Source'!D1929,\"\")","v":"4515"},{"$f":"IF('Line 1 Source'!E1929<>\"\",'Line 1 Source'!E1929,\"\")","v":"0061"},{"$f":"IF('Line 1 Source'!F1929<>\"\",'Line 1 Source'!F1929,\"\")","v":775000}]
[{"$f":"IF('Line 1 Source'!A1930<>\"\",'Line 1 Source'!A1930,\"\")","v":"2018"},"7644515",{"$f":"CONCATENATE(VLOOKUP(B1930,'School List'!$B$3:$H$291,6,FALSE),H1930)","v":"45150101"},{"$f":"CONCATENATE(VLOOKUP(B1930,'School List'!$B$3:$D$291,3,FALSE),H1930)","v":"Steuben County - PRAIRIE HEIGHTS COMMUNITY SCHOOL CORP0101"},{"$f":"IF('Line 1 Source'!B1930<>\"\",'Line 1 Source'!B1930,\"\")","v":"76"},{"$f":"IF('Line 1 Source'!C1930<>\"\",'Line 1 Source'!C1930,\"\")","v":"4"},{"$f":"IF('Line 1 Source'!D1930<>\"\",'Line 1 Source'!D1930,\"\")","v":"4515"},{"$f":"IF('Line 1 Source'!E1930<>\"\",'Line 1 Source'!E1930,\"\")","v":"0101"},{"$f":"IF('Line 1 Source'!F1930<>\"\",'Line 1 Source'!F1930,\"\")","v":8442700}]
[{"$f":"IF('Line 1 Source'!A1931<>\"\",'Line 1 Source'!A1931,\"\")","v":"2018"},"7644515",{"$f":"CONCATENATE(VLOOKUP(B1931,'School List'!$B$3:$H$291,6,FALSE),H1931)","v":"45150180"},{"$f":"CONCATENATE(VLOOKUP(B1931,'School List'!$B$3:$D$291,3,FALSE),H1931)","v":"Steuben County - PRAIRIE HEIGHTS COMMUNITY SCHOOL CORP0180"},{"$f":"IF('Line 1 Source'!B1931<>\"\",'Line 1 Source'!B1931,\"\")","v":"76"},{"$f":"IF('Line 1 Source'!C1931<>\"\",'Line 1 Source'!C1931,\"\")","v":"4"},{"$f":"IF('Line 1 Source'!D1931<>\"\",'Line 1 Source'!D1931,\"\")","v":"4515"},{"$f":"IF('Line 1 Source'!E1931<>\"\",'Line 1 Source'!E1931,\"\")","v":"0180"},{"$f":"IF('Line 1 Source'!F1931<>\"\",'Line 1 Source'!F1931,\"\")","v":864744}]
[{"$f":"IF('Line 1 Source'!A1932<>\"\",'Line 1 Source'!A1932,\"\")","v":"2018"},"7644515",{"$f":"CONCATENATE(VLOOKUP(B1932,'School List'!$B$3:$H$291,6,FALSE),H1932)","v":"45151214"},{"$f":"CONCATENATE(VLOOKUP(B1932,'School List'!$B$3:$D$291,3,FALSE),H1932)","v":"Steuben County - PRAIRIE HEIGHTS COMMUNITY SCHOOL CORP1214"},{"$f":"IF('Line 1 Source'!B1932<>\"\",'Line 1 Source'!B1932,\"\")","v":"76"},{"$f":"IF('Line 1 Source'!C1932<>\"\",'Line 1 Source'!C1932,\"\")","v":"4"},{"$f":"IF('Line 1 Source'!D1932<>\"\",'Line 1 Source'!D1932,\"\")","v":"4515"},{"$f":"IF('Line 1 Source'!E1932<>\"\",'Line 1 Source'!E1932,\"\")","v":"1214"},{"$f":"IF('Line 1 Source'!F1932<>\"\",'Line 1 Source'!F1932,\"\")","v":2178712}]
[{"$f":"IF('Line 1 Source'!A1933<>\"\",'Line 1 Source'!A1933,\"\")","v":"2018"},"7644515",{"$f":"CONCATENATE(VLOOKUP(B1933,'School List'!$B$3:$H$291,6,FALSE),H1933)","v":"45156301"},{"$f":"CONCATENATE(VLOOKUP(B1933,'School List'!$B$3:$D$291,3,FALSE),H1933)","v":"Steuben County - PRAIRIE HEIGHTS COMMUNITY SCHOOL CORP6301"},{"$f":"IF('Line 1 Source'!B1933<>\"\",'Line 1 Source'!B1933,\"\")","v":"76"},{"$f":"IF('Line 1 Source'!C1933<>\"\",'Line 1 Source'!C1933,\"\")","v":"4"},{"$f":"IF('Line 1 Source'!D1933<>\"\",'Line 1 Source'!D1933,\"\")","v":"4515"},{"$f":"IF('Line 1 Source'!E1933<>\"\",'Line 1 Source'!E1933,\"\")","v":"6301"},{"$f":"IF('Line 1 Source'!F1933<>\"\",'Line 1 Source'!F1933,\"\")","v":2276620}]
[{"$f":"IF('Line 1 Source'!A1934<>\"\",'Line 1 Source'!A1934,\"\")","v":"2018"},"7644515",{"$f":"CONCATENATE(VLOOKUP(B1934,'School List'!$B$3:$H$291,6,FALSE),H1934)","v":"45156302"},{"$f":"CONCATENATE(VLOOKUP(B1934,'School List'!$B$3:$D$291,3,FALSE),H1934)","v":"Steuben County - PRAIRIE HEIGHTS COMMUNITY SCHOOL CORP6302"},{"$f":"IF('Line 1 Source'!B1934<>\"\",'Line 1 Source'!B1934,\"\")","v":"76"},{"$f":"IF('Line 1 Source'!C1934<>\"\",'Line 1 Source'!C1934,\"\")","v":"4"},{"$f":"IF('Line 1 Source'!D1934<>\"\",'Line 1 Source'!D1934,\"\")","v":"4515"},{"$f":"IF('Line 1 Source'!E1934<>\"\",'Line 1 Source'!E1934,\"\")","v":"6302"},{"$f":"IF('Line 1 Source'!F1934<>\"\",'Line 1 Source'!F1934,\"\")","v":357250}]
[{"$f":"IF('Line 1 Source'!A1935<>\"\",'Line 1 Source'!A1935,\"\")","v":"2018"},"7647605",{"$f":"CONCATENATE(VLOOKUP(B1935,'School List'!$B$3:$H$291,6,FALSE),H1935)","v":"76050022"},{"$f":"CONCATENATE(VLOOKUP(B1935,'School List'!$B$3:$D$291,3,FALSE),H1935)","v":"Steuben County - FREMONT COMMUNITY SCHOOL CORPORATION0022"},{"$f":"IF('Line 1 Source'!B1935<>\"\",'Line 1 Source'!B1935,\"\")","v":"76"},{"$f":"IF('Line 1 Source'!C1935<>\"\",'Line 1 Source'!C1935,\"\")","v":"4"},{"$f":"IF('Line 1 Source'!D1935<>\"\",'Line 1 Source'!D1935,\"\")","v":"7605"},{"$f":"IF('Line 1 Source'!E1935<>\"\",'Line 1 Source'!E1935,\"\")","v":"0022"},{"$f":"IF('Line 1 Source'!F1935<>\"\",'Line 1 Source'!F1935,\"\")","v":1964000}]
[{"$f":"IF('Line 1 Source'!A1936<>\"\",'Line 1 Source'!A1936,\"\")","v":"2018"},"7647605",{"$f":"CONCATENATE(VLOOKUP(B1936,'School List'!$B$3:$H$291,6,FALSE),H1936)","v":"76050061"},{"$f":"CONCATENATE(VLOOKUP(B1936,'School List'!$B$3:$D$291,3,FALSE),H1936)","v":"Steuben County - FREMONT COMMUNITY SCHOOL CORPORATION0061"},{"$f":"IF('Line 1 Source'!B1936<>\"\",'Line 1 Source'!B1936,\"\")","v":"76"},{"$f":"IF('Line 1 Source'!C1936<>\"\",'Line 1 Source'!C1936,\"\")","v":"4"},{"$f":"IF('Line 1 Source'!D1936<>\"\",'Line 1 Source'!D1936,\"\")","v":"7605"},{"$f":"IF('Line 1 Source'!E1936<>\"\",'Line 1 Source'!E1936,\"\")","v":"0061"},{"$f":"IF('Line 1 Source'!F1936<>\"\",'Line 1 Source'!F1936,\"\")","v":372000}]
[{"$f":"IF('Line 1 Source'!A1937<>\"\",'Line 1 Source'!A1937,\"\")","v":"2018"},"7647605",{"$f":"CONCATENATE(VLOOKUP(B1937,'School List'!$B$3:$H$291,6,FALSE),H1937)","v":"76050101"},{"$f":"CONCATENATE(VLOOKUP(B1937,'School List'!$B$3:$D$291,3,FALSE),H1937)","v":"Steuben County - FREMONT COMMUNITY SCHOOL CORPORATION0101"},{"$f":"IF('Line 1 Source'!B1937<>\"\",'Line 1 Source'!B1937,\"\")","v":"76"},{"$f":"IF('Line 1 Source'!C1937<>\"\",'Line 1 Source'!C1937,\"\")","v":"4"},{"$f":"IF('Line 1 Source'!D1937<>\"\",'Line 1 Source'!D1937,\"\")","v":"7605"},{"$f":"IF('Line 1 Source'!E1937<>\"\",'Line 1 Source'!E1937,\"\")","v":"0101"},{"$f":"IF('Line 1 Source'!F1937<>\"\",'Line 1 Source'!F1937,\"\")","v":6231000}]
[{"$f":"IF('Line 1 Source'!A1938<>\"\",'Line 1 Source'!A1938,\"\")","v":"2018"},"7647605",{"$f":"CONCATENATE(VLOOKUP(B1938,'School List'!$B$3:$H$291,6,FALSE),H1938)","v":"76050180"},{"$f":"CONCATENATE(VLOOKUP(B1938,'School List'!$B$3:$D$291,3,FALSE),H1938)","v":"Steuben County - FREMONT COMMUNITY SCHOOL CORPORATION0180"},{"$f":"IF('Line 1 Source'!B1938<>\"\",'Line 1 Source'!B1938,\"\")","v":"76"},{"$f":"IF('Line 1 Source'!C1938<>\"\",'Line 1 Source'!C1938,\"\")","v":"4"},{"$f":"IF('Line 1 Source'!D1938<>\"\",'Line 1 Source'!D1938,\"\")","v":"7605"},{"$f":"IF('Line 1 Source'!E1938<>\"\",'Line 1 Source'!E1938,\"\")","v":"0180"},{"$f":"IF('Line 1 Source'!F1938<>\"\",'Line 1 Source'!F1938,\"\")","v":1609717}]
[{"$f":"IF('Line 1 Source'!A1939<>\"\",'Line 1 Source'!A1939,\"\")","v":"2018"},"7647605",{"$f":"CONCATENATE(VLOOKUP(B1939,'School List'!$B$3:$H$291,6,FALSE),H1939)","v":"76050186"},{"$f":"CONCATENATE(VLOOKUP(B1939,'School List'!$B$3:$D$291,3,FALSE),H1939)","v":"Steuben County - FREMONT COMMUNITY SCHOOL CORPORATION0186"},{"$f":"IF('Line 1 Source'!B1939<>\"\",'Line 1 Source'!B1939,\"\")","v":"76"},{"$f":"IF('Line 1 Source'!C1939<>\"\",'Line 1 Source'!C1939,\"\")","v":"4"},{"$f":"IF('Line 1 Source'!D1939<>\"\",'Line 1 Source'!D1939,\"\")","v":"7605"},{"$f":"IF('Line 1 Source'!E1939<>\"\",'Line 1 Source'!E1939,\"\")","v":"0186"},{"$f":"IF('Line 1 Source'!F1939<>\"\",'Line 1 Source'!F1939,\"\")","v":184725}]
[{"$f":"IF('Line 1 Source'!A1940<>\"\",'Line 1 Source'!A1940,\"\")","v":"2018"},"7647605",{"$f":"CONCATENATE(VLOOKUP(B1940,'School List'!$B$3:$H$291,6,FALSE),H1940)","v":"76051214"},{"$f":"CONCATENATE(VLOOKUP(B1940,'School List'!$B$3:$D$291,3,FALSE),H1940)","v":"Steuben County - FREMONT COMMUNITY SCHOOL CORPORATION1214"},{"$f":"IF('Line 1 Source'!B1940<>\"\",'Line 1 Source'!B1940,\"\")","v":"76"},{"$f":"IF('Line 1 Source'!C1940<>\"\",'Line 1 Source'!C1940,\"\")","v":"4"},{"$f":"IF('Line 1 Source'!D1940<>\"\",'Line 1 Source'!D1940,\"\")","v":"7605"},{"$f":"IF('Line 1 Source'!E1940<>\"\",'Line 1 Source'!E1940,\"\")","v":"1214"},{"$f":"IF('Line 1 Source'!F1940<>\"\",'Line 1 Source'!F1940,\"\")","v":2250000}]
[{"$f":"IF('Line 1 Source'!A1941<>\"\",'Line 1 Source'!A1941,\"\")","v":"2018"},"7647605",{"$f":"CONCATENATE(VLOOKUP(B1941,'School List'!$B$3:$H$291,6,FALSE),H1941)","v":"76056301"},{"$f":"CONCATENATE(VLOOKUP(B1941,'School List'!$B$3:$D$291,3,FALSE),H1941)","v":"Steuben County - FREMONT COMMUNITY SCHOOL CORPORATION6301"},{"$f":"IF('Line 1 Source'!B1941<>\"\",'Line 1 Source'!B1941,\"\")","v":"76"},{"$f":"IF('Line 1 Source'!C1941<>\"\",'Line 1 Source'!C1941,\"\")","v":"4"},{"$f":"IF('Line 1 Source'!D1941<>\"\",'Line 1 Source'!D1941,\"\")","v":"7605"},{"$f":"IF('Line 1 Source'!E1941<>\"\",'Line 1 Source'!E1941,\"\")","v":"6301"},{"$f":"IF('Line 1 Source'!F1941<>\"\",'Line 1 Source'!F1941,\"\")","v":1290000}]
[{"$f":"IF('Line 1 Source'!A1942<>\"\",'Line 1 Source'!A1942,\"\")","v":"2018"},"7647605",{"$f":"CONCATENATE(VLOOKUP(B1942,'School List'!$B$3:$H$291,6,FALSE),H1942)","v":"76056302"},{"$f":"CONCATENATE(VLOOKUP(B1942,'School List'!$B$3:$D$291,3,FALSE),H1942)","v":"Steuben County - FREMONT COMMUNITY SCHOOL CORPORATION6302"},{"$f":"IF('Line 1 Source'!B1942<>\"\",'Line 1 Source'!B1942,\"\")","v":"76"},{"$f":"IF('Line 1 Source'!C1942<>\"\",'Line 1 Source'!C1942,\"\")","v":"4"},{"$f":"IF('Line 1 Source'!D1942<>\"\",'Line 1 Source'!D1942,\"\")","v":"7605"},{"$f":"IF('Line 1 Source'!E1942<>\"\",'Line 1 Source'!E1942,\"\")","v":"6302"},{"$f":"IF('Line 1 Source'!F1942<>\"\",'Line 1 Source'!F1942,\"\")","v":248000}]
[{"$f":"IF('Line 1 Source'!A1943<>\"\",'Line 1 Source'!A1943,\"\")","v":"2018"},"7647610",{"$f":"CONCATENATE(VLOOKUP(B1943,'School List'!$B$3:$H$291,6,FALSE),H1943)","v":"76100022"},{"$f":"CONCATENATE(VLOOKUP(B1943,'School List'!$B$3:$D$291,3,FALSE),H1943)","v":"Steuben County - HAMILTON COMMUNITY SCHOOL CORPORATION0022"},{"$f":"IF('Line 1 Source'!B1943<>\"\",'Line 1 Source'!B1943,\"\")","v":"76"},{"$f":"IF('Line 1 Source'!C1943<>\"\",'Line 1 Source'!C1943,\"\")","v":"4"},{"$f":"IF('Line 1 Source'!D1943<>\"\",'Line 1 Source'!D1943,\"\")","v":"7610"},{"$f":"IF('Line 1 Source'!E1943<>\"\",'Line 1 Source'!E1943,\"\")","v":"0022"},{"$f":"IF('Line 1 Source'!F1943<>\"\",'Line 1 Source'!F1943,\"\")","v":2100707}]
[{"$f":"IF('Line 1 Source'!A1944<>\"\",'Line 1 Source'!A1944,\"\")","v":"2018"},"7647610",{"$f":"CONCATENATE(VLOOKUP(B1944,'School List'!$B$3:$H$291,6,FALSE),H1944)","v":"76100061"},{"$f":"CONCATENATE(VLOOKUP(B1944,'School List'!$B$3:$D$291,3,FALSE),H1944)","v":"Steuben County - HAMILTON COMMUNITY SCHOOL CORPORATION0061"},{"$f":"IF('Line 1 Source'!B1944<>\"\",'Line 1 Source'!B1944,\"\")","v":"76"},{"$f":"IF('Line 1 Source'!C1944<>\"\",'Line 1 Source'!C1944,\"\")","v":"4"},{"$f":"IF('Line 1 Source'!D1944<>\"\",'Line 1 Source'!D1944,\"\")","v":"7610"},{"$f":"IF('Line 1 Source'!E1944<>\"\",'Line 1 Source'!E1944,\"\")","v":"0061"},{"$f":"IF('Line 1 Source'!F1944<>\"\",'Line 1 Source'!F1944,\"\")","v":750000}]
[{"$f":"IF('Line 1 Source'!A1945<>\"\",'Line 1 Source'!A1945,\"\")","v":"2018"},"7647610",{"$f":"CONCATENATE(VLOOKUP(B1945,'School List'!$B$3:$H$291,6,FALSE),H1945)","v":"76100101"},{"$f":"CONCATENATE(VLOOKUP(B1945,'School List'!$B$3:$D$291,3,FALSE),H1945)","v":"Steuben County - HAMILTON COMMUNITY SCHOOL CORPORATION0101"},{"$f":"IF('Line 1 Source'!B1945<>\"\",'Line 1 Source'!B1945,\"\")","v":"76"},{"$f":"IF('Line 1 Source'!C1945<>\"\",'Line 1 Source'!C1945,\"\")","v":"4"},{"$f":"IF('Line 1 Source'!D1945<>\"\",'Line 1 Source'!D1945,\"\")","v":"7610"},{"$f":"IF('Line 1 Source'!E1945<>\"\",'Line 1 Source'!E1945,\"\")","v":"0101"},{"$f":"IF('Line 1 Source'!F1945<>\"\",'Line 1 Source'!F1945,\"\")","v":2362293}]
[{"$f":"IF('Line 1 Source'!A1946<>\"\",'Line 1 Source'!A1946,\"\")","v":"2018"},"7647610",{"$f":"CONCATENATE(VLOOKUP(B1946,'School List'!$B$3:$H$291,6,FALSE),H1946)","v":"76100180"},{"$f":"CONCATENATE(VLOOKUP(B1946,'School List'!$B$3:$D$291,3,FALSE),H1946)","v":"Steuben County - HAMILTON COMMUNITY SCHOOL CORPORATION0180"},{"$f":"IF('Line 1 Source'!B1946<>\"\",'Line 1 Source'!B1946,\"\")","v":"76"},{"$f":"IF('Line 1 Source'!C1946<>\"\",'Line 1 Source'!C1946,\"\")","v":"4"},{"$f":"IF('Line 1 Source'!D1946<>\"\",'Line 1 Source'!D1946,\"\")","v":"7610"},{"$f":"IF('Line 1 Source'!E1946<>\"\",'Line 1 Source'!E1946,\"\")","v":"0180"},{"$f":"IF('Line 1 Source'!F1946<>\"\",'Line 1 Source'!F1946,\"\")","v":283575}]
[{"$f":"IF('Line 1 Source'!A1947<>\"\",'Line 1 Source'!A1947,\"\")","v":"2018"},"7647610",{"$f":"CONCATENATE(VLOOKUP(B1947,'School List'!$B$3:$H$291,6,FALSE),H1947)","v":"76101214"},{"$f":"CONCATENATE(VLOOKUP(B1947,'School List'!$B$3:$D$291,3,FALSE),H1947)","v":"Steuben County - HAMILTON COMMUNITY SCHOOL CORPORATION1214"},{"$f":"IF('Line 1 Source'!B1947<>\"\",'Line 1 Source'!B1947,\"\")","v":"76"},{"$f":"IF('Line 1 Source'!C1947<>\"\",'Line 1 Source'!C1947,\"\")","v":"4"},{"$f":"IF('Line 1 Source'!D1947<>\"\",'Line 1 Source'!D1947,\"\")","v":"7610"},{"$f":"IF('Line 1 Source'!E1947<>\"\",'Line 1 Source'!E1947,\"\")","v":"1214"},{"$f":"IF('Line 1 Source'!F1947<>\"\",'Line 1 Source'!F1947,\"\")","v":1005118}]
[{"$f":"IF('Line 1 Source'!A1948<>\"\",'Line 1 Source'!A1948,\"\")","v":"2018"},"7647610",{"$f":"CONCATENATE(VLOOKUP(B1948,'School List'!$B$3:$H$291,6,FALSE),H1948)","v":"76106301"},{"$f":"CONCATENATE(VLOOKUP(B1948,'School List'!$B$3:$D$291,3,FALSE),H1948)","v":"Steuben County - HAMILTON COMMUNITY SCHOOL CORPORATION6301"},{"$f":"IF('Line 1 Source'!B1948<>\"\",'Line 1 Source'!B1948,\"\")","v":"76"},{"$f":"IF('Line 1 Source'!C1948<>\"\",'Line 1 Source'!C1948,\"\")","v":"4"},{"$f":"IF('Line 1 Source'!D1948<>\"\",'Line 1 Source'!D1948,\"\")","v":"7610"},{"$f":"IF('Line 1 Source'!E1948<>\"\",'Line 1 Source'!E1948,\"\")","v":"6301"},{"$f":"IF('Line 1 Source'!F1948<>\"\",'Line 1 Source'!F1948,\"\")","v":908900}]
[{"$f":"IF('Line 1 Source'!A1949<>\"\",'Line 1 Source'!A1949,\"\")","v":"2018"},"7647610",{"$f":"CONCATENATE(VLOOKUP(B1949,'School List'!$B$3:$H$291,6,FALSE),H1949)","v":"76106302"},{"$f":"CONCATENATE(VLOOKUP(B1949,'School List'!$B$3:$D$291,3,FALSE),H1949)","v":"Steuben County - HAMILTON COMMUNITY SCHOOL CORPORATION6302"},{"$f":"IF('Line 1 Source'!B1949<>\"\",'Line 1 Source'!B1949,\"\")","v":"76"},{"$f":"IF('Line 1 Source'!C1949<>\"\",'Line 1 Source'!C1949,\"\")","v":"4"},{"$f":"IF('Line 1 Source'!D1949<>\"\",'Line 1 Source'!D1949,\"\")","v":"7610"},{"$f":"IF('Line 1 Source'!E1949<>\"\",'Line 1 Source'!E1949,\"\")","v":"6302"},{"$f":"IF('Line 1 Source'!F1949<>\"\",'Line 1 Source'!F1949,\"\")","v":135500}]
[{"$f":"IF('Line 1 Source'!A1950<>\"\",'Line 1 Source'!A1950,\"\")","v":"2018"},"7647615",{"$f":"CONCATENATE(VLOOKUP(B1950,'School List'!$B$3:$H$291,6,FALSE),H1950)","v":"76150061"},{"$f":"CONCATENATE(VLOOKUP(B1950,'School List'!$B$3:$D$291,3,FALSE),H1950)","v":"Steuben County - M.S.D. STEUBEN COUNTY SCHOOL CORPORATION0061"},{"$f":"IF('Line 1 Source'!B1950<>\"\",'Line 1 Source'!B1950,\"\")","v":"76"},{"$f":"IF('Line 1 Source'!C1950<>\"\",'Line 1 Source'!C1950,\"\")","v":"4"},{"$f":"IF('Line 1 Source'!D1950<>\"\",'Line 1 Source'!D1950,\"\")","v":"7615"},{"$f":"IF('Line 1 Source'!E1950<>\"\",'Line 1 Source'!E1950,\"\")","v":"0061"},{"$f":"IF('Line 1 Source'!F1950<>\"\",'Line 1 Source'!F1950,\"\")","v":1325000}]
[{"$f":"IF('Line 1 Source'!A1951<>\"\",'Line 1 Source'!A1951,\"\")","v":"2018"},"7647615",{"$f":"CONCATENATE(VLOOKUP(B1951,'School List'!$B$3:$H$291,6,FALSE),H1951)","v":"76150101"},{"$f":"CONCATENATE(VLOOKUP(B1951,'School List'!$B$3:$D$291,3,FALSE),H1951)","v":"Steuben County - M.S.D. STEUBEN COUNTY SCHOOL CORPORATION0101"},{"$f":"IF('Line 1 Source'!B1951<>\"\",'Line 1 Source'!B1951,\"\")","v":"76"},{"$f":"IF('Line 1 Source'!C1951<>\"\",'Line 1 Source'!C1951,\"\")","v":"4"},{"$f":"IF('Line 1 Source'!D1951<>\"\",'Line 1 Source'!D1951,\"\")","v":"7615"},{"$f":"IF('Line 1 Source'!E1951<>\"\",'Line 1 Source'!E1951,\"\")","v":"0101"},{"$f":"IF('Line 1 Source'!F1951<>\"\",'Line 1 Source'!F1951,\"\")","v":19541400}]
[{"$f":"IF('Line 1 Source'!A1952<>\"\",'Line 1 Source'!A1952,\"\")","v":"2018"},"7647615",{"$f":"CONCATENATE(VLOOKUP(B1952,'School List'!$B$3:$H$291,6,FALSE),H1952)","v":"76150180"},{"$f":"CONCATENATE(VLOOKUP(B1952,'School List'!$B$3:$D$291,3,FALSE),H1952)","v":"Steuben County - M.S.D. STEUBEN COUNTY SCHOOL CORPORATION0180"},{"$f":"IF('Line 1 Source'!B1952<>\"\",'Line 1 Source'!B1952,\"\")","v":"76"},{"$f":"IF('Line 1 Source'!C1952<>\"\",'Line 1 Source'!C1952,\"\")","v":"4"},{"$f":"IF('Line 1 Source'!D1952<>\"\",'Line 1 Source'!D1952,\"\")","v":"7615"},{"$f":"IF('Line 1 Source'!E1952<>\"\",'Line 1 Source'!E1952,\"\")","v":"0180"},{"$f":"IF('Line 1 Source'!F1952<>\"\",'Line 1 Source'!F1952,\"\")","v":3256918}]
[{"$f":"IF('Line 1 Source'!A1953<>\"\",'Line 1 Source'!A1953,\"\")","v":"2018"},"7647615",{"$f":"CONCATENATE(VLOOKUP(B1953,'School List'!$B$3:$H$291,6,FALSE),H1953)","v":"76150186"},{"$f":"CONCATENATE(VLOOKUP(B1953,'School List'!$B$3:$D$291,3,FALSE),H1953)","v":"Steuben County - M.S.D. STEUBEN COUNTY SCHOOL CORPORATION0186"},{"$f":"IF('Line 1 Source'!B1953<>\"\",'Line 1 Source'!B1953,\"\")","v":"76"},{"$f":"IF('Line 1 Source'!C1953<>\"\",'Line 1 Source'!C1953,\"\")","v":"4"},{"$f":"IF('Line 1 Source'!D1953<>\"\",'Line 1 Source'!D1953,\"\")","v":"7615"},{"$f":"IF('Line 1 Source'!E1953<>\"\",'Line 1 Source'!E1953,\"\")","v":"0186"},{"$f":"IF('Line 1 Source'!F1953<>\"\",'Line 1 Source'!F1953,\"\")","v":386606}]
[{"$f":"IF('Line 1 Source'!A1954<>\"\",'Line 1 Source'!A1954,\"\")","v":"2018"},"7647615",{"$f":"CONCATENATE(VLOOKUP(B1954,'School List'!$B$3:$H$291,6,FALSE),H1954)","v":"76151214"},{"$f":"CONCATENATE(VLOOKUP(B1954,'School List'!$B$3:$D$291,3,FALSE),H1954)","v":"Steuben County - M.S.D. STEUBEN COUNTY SCHOOL CORPORATION1214"},{"$f":"IF('Line 1 Source'!B1954<>\"\",'Line 1 Source'!B1954,\"\")","v":"76"},{"$f":"IF('Line 1 Source'!C1954<>\"\",'Line 1 Source'!C1954,\"\")","v":"4"},{"$f":"IF('Line 1 Source'!D1954<>\"\",'Line 1 Source'!D1954,\"\")","v":"7615"},{"$f":"IF('Line 1 Source'!E1954<>\"\",'Line 1 Source'!E1954,\"\")","v":"1214"},{"$f":"IF('Line 1 Source'!F1954<>\"\",'Line 1 Source'!F1954,\"\")","v":3372677}]
[{"$f":"IF('Line 1 Source'!A1955<>\"\",'Line 1 Source'!A1955,\"\")","v":"2018"},"7647615",{"$f":"CONCATENATE(VLOOKUP(B1955,'School List'!$B$3:$H$291,6,FALSE),H1955)","v":"76156301"},{"$f":"CONCATENATE(VLOOKUP(B1955,'School List'!$B$3:$D$291,3,FALSE),H1955)","v":"Steuben County - M.S.D. STEUBEN COUNTY SCHOOL CORPORATION6301"},{"$f":"IF('Line 1 Source'!B1955<>\"\",'Line 1 Source'!B1955,\"\")","v":"76"},{"$f":"IF('Line 1 Source'!C1955<>\"\",'Line 1 Source'!C1955,\"\")","v":"4"},{"$f":"IF('Line 1 Source'!D1955<>\"\",'Line 1 Source'!D1955,\"\")","v":"7615"},{"$f":"IF('Line 1 Source'!E1955<>\"\",'Line 1 Source'!E1955,\"\")","v":"6301"},{"$f":"IF('Line 1 Source'!F1955<>\"\",'Line 1 Source'!F1955,\"\")","v":1997000}]
[{"$f":"IF('Line 1 Source'!A1956<>\"\",'Line 1 Source'!A1956,\"\")","v":"2018"},"7647615",{"$f":"CONCATENATE(VLOOKUP(B1956,'School List'!$B$3:$H$291,6,FALSE),H1956)","v":"76156302"},{"$f":"CONCATENATE(VLOOKUP(B1956,'School List'!$B$3:$D$291,3,FALSE),H1956)","v":"Steuben County - M.S.D. STEUBEN COUNTY SCHOOL CORPORATION6302"},{"$f":"IF('Line 1 Source'!B1956<>\"\",'Line 1 Source'!B1956,\"\")","v":"76"},{"$f":"IF('Line 1 Source'!C1956<>\"\",'Line 1 Source'!C1956,\"\")","v":"4"},{"$f":"IF('Line 1 Source'!D1956<>\"\",'Line 1 Source'!D1956,\"\")","v":"7615"},{"$f":"IF('Line 1 Source'!E1956<>\"\",'Line 1 Source'!E1956,\"\")","v":"6302"},{"$f":"IF('Line 1 Source'!F1956<>\"\",'Line 1 Source'!F1956,\"\")","v":427250}]
[{"$f":"IF('Line 1 Source'!A1957<>\"\",'Line 1 Source'!A1957,\"\")","v":"2018"},"7747645",{"$f":"CONCATENATE(VLOOKUP(B1957,'School List'!$B$3:$H$291,6,FALSE),H1957)","v":"76450061"},{"$f":"CONCATENATE(VLOOKUP(B1957,'School List'!$B$3:$D$291,3,FALSE),H1957)","v":"Sullivan County - NORTHEAST SCHOOL CORPORATION0061"},{"$f":"IF('Line 1 Source'!B1957<>\"\",'Line 1 Source'!B1957,\"\")","v":"77"},{"$f":"IF('Line 1 Source'!C1957<>\"\",'Line 1 Source'!C1957,\"\")","v":"4"},{"$f":"IF('Line 1 Source'!D1957<>\"\",'Line 1 Source'!D1957,\"\")","v":"7645"},{"$f":"IF('Line 1 Source'!E1957<>\"\",'Line 1 Source'!E1957,\"\")","v":"0061"},{"$f":"IF('Line 1 Source'!F1957<>\"\",'Line 1 Source'!F1957,\"\")","v":500000}]
[{"$f":"IF('Line 1 Source'!A1958<>\"\",'Line 1 Source'!A1958,\"\")","v":"2018"},"7747645",{"$f":"CONCATENATE(VLOOKUP(B1958,'School List'!$B$3:$H$291,6,FALSE),H1958)","v":"76450101"},{"$f":"CONCATENATE(VLOOKUP(B1958,'School List'!$B$3:$D$291,3,FALSE),H1958)","v":"Sullivan County - NORTHEAST SCHOOL CORPORATION0101"},{"$f":"IF('Line 1 Source'!B1958<>\"\",'Line 1 Source'!B1958,\"\")","v":"77"},{"$f":"IF('Line 1 Source'!C1958<>\"\",'Line 1 Source'!C1958,\"\")","v":"4"},{"$f":"IF('Line 1 Source'!D1958<>\"\",'Line 1 Source'!D1958,\"\")","v":"7645"},{"$f":"IF('Line 1 Source'!E1958<>\"\",'Line 1 Source'!E1958,\"\")","v":"0101"},{"$f":"IF('Line 1 Source'!F1958<>\"\",'Line 1 Source'!F1958,\"\")","v":6329921}]
[{"$f":"IF('Line 1 Source'!A1959<>\"\",'Line 1 Source'!A1959,\"\")","v":"2018"},"7747645",{"$f":"CONCATENATE(VLOOKUP(B1959,'School List'!$B$3:$H$291,6,FALSE),H1959)","v":"76450180"},{"$f":"CONCATENATE(VLOOKUP(B1959,'School List'!$B$3:$D$291,3,FALSE),H1959)","v":"Sullivan County - NORTHEAST SCHOOL CORPORATION0180"},{"$f":"IF('Line 1 Source'!B1959<>\"\",'Line 1 Source'!B1959,\"\")","v":"77"},{"$f":"IF('Line 1 Source'!C1959<>\"\",'Line 1 Source'!C1959,\"\")","v":"4"},{"$f":"IF('Line 1 Source'!D1959<>\"\",'Line 1 Source'!D1959,\"\")","v":"7645"},{"$f":"IF('Line 1 Source'!E1959<>\"\",'Line 1 Source'!E1959,\"\")","v":"0180"},{"$f":"IF('Line 1 Source'!F1959<>\"\",'Line 1 Source'!F1959,\"\")","v":1226270}]
[{"$f":"IF('Line 1 Source'!A1960<>\"\",'Line 1 Source'!A1960,\"\")","v":"2018"},"7747645",{"$f":"CONCATENATE(VLOOKUP(B1960,'School List'!$B$3:$H$291,6,FALSE),H1960)","v":"76450186"},{"$f":"CONCATENATE(VLOOKUP(B1960,'School List'!$B$3:$D$291,3,FALSE),H1960)","v":"Sullivan County - NORTHEAST SCHOOL CORPORATION0186"},{"$f":"IF('Line 1 Source'!B1960<>\"\",'Line 1 Source'!B1960,\"\")","v":"77"},{"$f":"IF('Line 1 Source'!C1960<>\"\",'Line 1 Source'!C1960,\"\")","v":"4"},{"$f":"IF('Line 1 Source'!D1960<>\"\",'Line 1 Source'!D1960,\"\")","v":"7645"},{"$f":"IF('Line 1 Source'!E1960<>\"\",'Line 1 Source'!E1960,\"\")","v":"0186"},{"$f":"IF('Line 1 Source'!F1960<>\"\",'Line 1 Source'!F1960,\"\")","v":344216}]
[{"$f":"IF('Line 1 Source'!A1961<>\"\",'Line 1 Source'!A1961,\"\")","v":"2018"},"7747645",{"$f":"CONCATENATE(VLOOKUP(B1961,'School List'!$B$3:$H$291,6,FALSE),H1961)","v":"76451214"},{"$f":"CONCATENATE(VLOOKUP(B1961,'School List'!$B$3:$D$291,3,FALSE),H1961)","v":"Sullivan County - NORTHEAST SCHOOL CORPORATION1214"},{"$f":"IF('Line 1 Source'!B1961<>\"\",'Line 1 Source'!B1961,\"\")","v":"77"},{"$f":"IF('Line 1 Source'!C1961<>\"\",'Line 1 Source'!C1961,\"\")","v":"4"},{"$f":"IF('Line 1 Source'!D1961<>\"\",'Line 1 Source'!D1961,\"\")","v":"7645"},{"$f":"IF('Line 1 Source'!E1961<>\"\",'Line 1 Source'!E1961,\"\")","v":"1214"},{"$f":"IF('Line 1 Source'!F1961<>\"\",'Line 1 Source'!F1961,\"\")","v":1140668}]
[{"$f":"IF('Line 1 Source'!A1962<>\"\",'Line 1 Source'!A1962,\"\")","v":"2018"},"7747645",{"$f":"CONCATENATE(VLOOKUP(B1962,'School List'!$B$3:$H$291,6,FALSE),H1962)","v":"76456301"},{"$f":"CONCATENATE(VLOOKUP(B1962,'School List'!$B$3:$D$291,3,FALSE),H1962)","v":"Sullivan County - NORTHEAST SCHOOL CORPORATION6301"},{"$f":"IF('Line 1 Source'!B1962<>\"\",'Line 1 Source'!B1962,\"\")","v":"77"},{"$f":"IF('Line 1 Source'!C1962<>\"\",'Line 1 Source'!C1962,\"\")","v":"4"},{"$f":"IF('Line 1 Source'!D1962<>\"\",'Line 1 Source'!D1962,\"\")","v":"7645"},{"$f":"IF('Line 1 Source'!E1962<>\"\",'Line 1 Source'!E1962,\"\")","v":"6301"},{"$f":"IF('Line 1 Source'!F1962<>\"\",'Line 1 Source'!F1962,\"\")","v":1160387}]
[{"$f":"IF('Line 1 Source'!A1963<>\"\",'Line 1 Source'!A1963,\"\")","v":"2018"},"7747645",{"$f":"CONCATENATE(VLOOKUP(B1963,'School List'!$B$3:$H$291,6,FALSE),H1963)","v":"76456302"},{"$f":"CONCATENATE(VLOOKUP(B1963,'School List'!$B$3:$D$291,3,FALSE),H1963)","v":"Sullivan County - NORTHEAST SCHOOL CORPORATION6302"},{"$f":"IF('Line 1 Source'!B1963<>\"\",'Line 1 Source'!B1963,\"\")","v":"77"},{"$f":"IF('Line 1 Source'!C1963<>\"\",'Line 1 Source'!C1963,\"\")","v":"4"},{"$f":"IF('Line 1 Source'!D1963<>\"\",'Line 1 Source'!D1963,\"\")","v":"7645"},{"$f":"IF('Line 1 Source'!E1963<>\"\",'Line 1 Source'!E1963,\"\")","v":"6302"},{"$f":"IF('Line 1 Source'!F1963<>\"\",'Line 1 Source'!F1963,\"\")","v":1801}]
[{"$f":"IF('Line 1 Source'!A1964<>\"\",'Line 1 Source'!A1964,\"\")","v":"2018"},"7747715",{"$f":"CONCATENATE(VLOOKUP(B1964,'School List'!$B$3:$H$291,6,FALSE),H1964)","v":"77150061"},{"$f":"CONCATENATE(VLOOKUP(B1964,'School List'!$B$3:$D$291,3,FALSE),H1964)","v":"Sullivan County - SOUTHWEST SCHOOL CORPORATION0061"},{"$f":"IF('Line 1 Source'!B1964<>\"\",'Line 1 Source'!B1964,\"\")","v":"77"},{"$f":"IF('Line 1 Source'!C1964<>\"\",'Line 1 Source'!C1964,\"\")","v":"4"},{"$f":"IF('Line 1 Source'!D1964<>\"\",'Line 1 Source'!D1964,\"\")","v":"7715"},{"$f":"IF('Line 1 Source'!E1964<>\"\",'Line 1 Source'!E1964,\"\")","v":"0061"},{"$f":"IF('Line 1 Source'!F1964<>\"\",'Line 1 Source'!F1964,\"\")","v":1000000}]
[{"$f":"IF('Line 1 Source'!A1965<>\"\",'Line 1 Source'!A1965,\"\")","v":"2018"},"7747715",{"$f":"CONCATENATE(VLOOKUP(B1965,'School List'!$B$3:$H$291,6,FALSE),H1965)","v":"77150101"},{"$f":"CONCATENATE(VLOOKUP(B1965,'School List'!$B$3:$D$291,3,FALSE),H1965)","v":"Sullivan County - SOUTHWEST SCHOOL CORPORATION0101"},{"$f":"IF('Line 1 Source'!B1965<>\"\",'Line 1 Source'!B1965,\"\")","v":"77"},{"$f":"IF('Line 1 Source'!C1965<>\"\",'Line 1 Source'!C1965,\"\")","v":"4"},{"$f":"IF('Line 1 Source'!D1965<>\"\",'Line 1 Source'!D1965,\"\")","v":"7715"},{"$f":"IF('Line 1 Source'!E1965<>\"\",'Line 1 Source'!E1965,\"\")","v":"0101"},{"$f":"IF('Line 1 Source'!F1965<>\"\",'Line 1 Source'!F1965,\"\")","v":11773000}]
[{"$f":"IF('Line 1 Source'!A1966<>\"\",'Line 1 Source'!A1966,\"\")","v":"2018"},"7747715",{"$f":"CONCATENATE(VLOOKUP(B1966,'School List'!$B$3:$H$291,6,FALSE),H1966)","v":"77150180"},{"$f":"CONCATENATE(VLOOKUP(B1966,'School List'!$B$3:$D$291,3,FALSE),H1966)","v":"Sullivan County - SOUTHWEST SCHOOL CORPORATION0180"},{"$f":"IF('Line 1 Source'!B1966<>\"\",'Line 1 Source'!B1966,\"\")","v":"77"},{"$f":"IF('Line 1 Source'!C1966<>\"\",'Line 1 Source'!C1966,\"\")","v":"4"},{"$f":"IF('Line 1 Source'!D1966<>\"\",'Line 1 Source'!D1966,\"\")","v":"7715"},{"$f":"IF('Line 1 Source'!E1966<>\"\",'Line 1 Source'!E1966,\"\")","v":"0180"},{"$f":"IF('Line 1 Source'!F1966<>\"\",'Line 1 Source'!F1966,\"\")","v":2525911}]
[{"$f":"IF('Line 1 Source'!A1967<>\"\",'Line 1 Source'!A1967,\"\")","v":"2018"},"7747715",{"$f":"CONCATENATE(VLOOKUP(B1967,'School List'!$B$3:$H$291,6,FALSE),H1967)","v":"77150186"},{"$f":"CONCATENATE(VLOOKUP(B1967,'School List'!$B$3:$D$291,3,FALSE),H1967)","v":"Sullivan County - SOUTHWEST SCHOOL CORPORATION0186"},{"$f":"IF('Line 1 Source'!B1967<>\"\",'Line 1 Source'!B1967,\"\")","v":"77"},{"$f":"IF('Line 1 Source'!C1967<>\"\",'Line 1 Source'!C1967,\"\")","v":"4"},{"$f":"IF('Line 1 Source'!D1967<>\"\",'Line 1 Source'!D1967,\"\")","v":"7715"},{"$f":"IF('Line 1 Source'!E1967<>\"\",'Line 1 Source'!E1967,\"\")","v":"0186"},{"$f":"IF('Line 1 Source'!F1967<>\"\",'Line 1 Source'!F1967,\"\")","v":640837}]
[{"$f":"IF('Line 1 Source'!A1968<>\"\",'Line 1 Source'!A1968,\"\")","v":"2018"},"7747715",{"$f":"CONCATENATE(VLOOKUP(B1968,'School List'!$B$3:$H$291,6,FALSE),H1968)","v":"77151214"},{"$f":"CONCATENATE(VLOOKUP(B1968,'School List'!$B$3:$D$291,3,FALSE),H1968)","v":"Sullivan County - SOUTHWEST SCHOOL CORPORATION1214"},{"$f":"IF('Line 1 Source'!B1968<>\"\",'Line 1 Source'!B1968,\"\")","v":"77"},{"$f":"IF('Line 1 Source'!C1968<>\"\",'Line 1 Source'!C1968,\"\")","v":"4"},{"$f":"IF('Line 1 Source'!D1968<>\"\",'Line 1 Source'!D1968,\"\")","v":"7715"},{"$f":"IF('Line 1 Source'!E1968<>\"\",'Line 1 Source'!E1968,\"\")","v":"1214"},{"$f":"IF('Line 1 Source'!F1968<>\"\",'Line 1 Source'!F1968,\"\")","v":2284930}]
[{"$f":"IF('Line 1 Source'!A1969<>\"\",'Line 1 Source'!A1969,\"\")","v":"2018"},"7747715",{"$f":"CONCATENATE(VLOOKUP(B1969,'School List'!$B$3:$H$291,6,FALSE),H1969)","v":"77156301"},{"$f":"CONCATENATE(VLOOKUP(B1969,'School List'!$B$3:$D$291,3,FALSE),H1969)","v":"Sullivan County - SOUTHWEST SCHOOL CORPORATION6301"},{"$f":"IF('Line 1 Source'!B1969<>\"\",'Line 1 Source'!B1969,\"\")","v":"77"},{"$f":"IF('Line 1 Source'!C1969<>\"\",'Line 1 Source'!C1969,\"\")","v":"4"},{"$f":"IF('Line 1 Source'!D1969<>\"\",'Line 1 Source'!D1969,\"\")","v":"7715"},{"$f":"IF('Line 1 Source'!E1969<>\"\",'Line 1 Source'!E1969,\"\")","v":"6301"},{"$f":"IF('Line 1 Source'!F1969<>\"\",'Line 1 Source'!F1969,\"\")","v":1818016}]
[{"$f":"IF('Line 1 Source'!A1970<>\"\",'Line 1 Source'!A1970,\"\")","v":"2018"},"7747715",{"$f":"CONCATENATE(VLOOKUP(B1970,'School List'!$B$3:$H$291,6,FALSE),H1970)","v":"77156302"},{"$f":"CONCATENATE(VLOOKUP(B1970,'School List'!$B$3:$D$291,3,FALSE),H1970)","v":"Sullivan County - SOUTHWEST SCHOOL CORPORATION6302"},{"$f":"IF('Line 1 Source'!B1970<>\"\",'Line 1 Source'!B1970,\"\")","v":"77"},{"$f":"IF('Line 1 Source'!C1970<>\"\",'Line 1 Source'!C1970,\"\")","v":"4"},{"$f":"IF('Line 1 Source'!D1970<>\"\",'Line 1 Source'!D1970,\"\")","v":"7715"},{"$f":"IF('Line 1 Source'!E1970<>\"\",'Line 1 Source'!E1970,\"\")","v":"6302"},{"$f":"IF('Line 1 Source'!F1970<>\"\",'Line 1 Source'!F1970,\"\")","v":0}]
[{"$f":"IF('Line 1 Source'!A1971<>\"\",'Line 1 Source'!A1971,\"\")","v":"2018"},"7847775",{"$f":"CONCATENATE(VLOOKUP(B1971,'School List'!$B$3:$H$291,6,FALSE),H1971)","v":"77750101"},{"$f":"CONCATENATE(VLOOKUP(B1971,'School List'!$B$3:$D$291,3,FALSE),H1971)","v":"Switzerland County - SWITZERLAND COUNTY SCHOOL CORPORATION0101"},{"$f":"IF('Line 1 Source'!B1971<>\"\",'Line 1 Source'!B1971,\"\")","v":"78"},{"$f":"IF('Line 1 Source'!C1971<>\"\",'Line 1 Source'!C1971,\"\")","v":"4"},{"$f":"IF('Line 1 Source'!D1971<>\"\",'Line 1 Source'!D1971,\"\")","v":"7775"},{"$f":"IF('Line 1 Source'!E1971<>\"\",'Line 1 Source'!E1971,\"\")","v":"0101"},{"$f":"IF('Line 1 Source'!F1971<>\"\",'Line 1 Source'!F1971,\"\")","v":10800000}]
[{"$f":"IF('Line 1 Source'!A1972<>\"\",'Line 1 Source'!A1972,\"\")","v":"2018"},"7847775",{"$f":"CONCATENATE(VLOOKUP(B1972,'School List'!$B$3:$H$291,6,FALSE),H1972)","v":"77750180"},{"$f":"CONCATENATE(VLOOKUP(B1972,'School List'!$B$3:$D$291,3,FALSE),H1972)","v":"Switzerland County - SWITZERLAND COUNTY SCHOOL CORPORATION0180"},{"$f":"IF('Line 1 Source'!B1972<>\"\",'Line 1 Source'!B1972,\"\")","v":"78"},{"$f":"IF('Line 1 Source'!C1972<>\"\",'Line 1 Source'!C1972,\"\")","v":"4"},{"$f":"IF('Line 1 Source'!D1972<>\"\",'Line 1 Source'!D1972,\"\")","v":"7775"},{"$f":"IF('Line 1 Source'!E1972<>\"\",'Line 1 Source'!E1972,\"\")","v":"0180"},{"$f":"IF('Line 1 Source'!F1972<>\"\",'Line 1 Source'!F1972,\"\")","v":661058}]
[{"$f":"IF('Line 1 Source'!A1973<>\"\",'Line 1 Source'!A1973,\"\")","v":"2018"},"7847775",{"$f":"CONCATENATE(VLOOKUP(B1973,'School List'!$B$3:$H$291,6,FALSE),H1973)","v":"77751214"},{"$f":"CONCATENATE(VLOOKUP(B1973,'School List'!$B$3:$D$291,3,FALSE),H1973)","v":"Switzerland County - SWITZERLAND COUNTY SCHOOL CORPORATION1214"},{"$f":"IF('Line 1 Source'!B1973<>\"\",'Line 1 Source'!B1973,\"\")","v":"78"},{"$f":"IF('Line 1 Source'!C1973<>\"\",'Line 1 Source'!C1973,\"\")","v":"4"},{"$f":"IF('Line 1 Source'!D1973<>\"\",'Line 1 Source'!D1973,\"\")","v":"7775"},{"$f":"IF('Line 1 Source'!E1973<>\"\",'Line 1 Source'!E1973,\"\")","v":"1214"},{"$f":"IF('Line 1 Source'!F1973<>\"\",'Line 1 Source'!F1973,\"\")","v":1864242}]
[{"$f":"IF('Line 1 Source'!A1974<>\"\",'Line 1 Source'!A1974,\"\")","v":"2018"},"7847775",{"$f":"CONCATENATE(VLOOKUP(B1974,'School List'!$B$3:$H$291,6,FALSE),H1974)","v":"77756301"},{"$f":"CONCATENATE(VLOOKUP(B1974,'School List'!$B$3:$D$291,3,FALSE),H1974)","v":"Switzerland County - SWITZERLAND COUNTY SCHOOL CORPORATION6301"},{"$f":"IF('Line 1 Source'!B1974<>\"\",'Line 1 Source'!B1974,\"\")","v":"78"},{"$f":"IF('Line 1 Source'!C1974<>\"\",'Line 1 Source'!C1974,\"\")","v":"4"},{"$f":"IF('Line 1 Source'!D1974<>\"\",'Line 1 Source'!D1974,\"\")","v":"7775"},{"$f":"IF('Line 1 Source'!E1974<>\"\",'Line 1 Source'!E1974,\"\")","v":"6301"},{"$f":"IF('Line 1 Source'!F1974<>\"\",'Line 1 Source'!F1974,\"\")","v":1693139}]
[{"$f":"IF('Line 1 Source'!A1975<>\"\",'Line 1 Source'!A1975,\"\")","v":"2018"},"7847775",{"$f":"CONCATENATE(VLOOKUP(B1975,'School List'!$B$3:$H$291,6,FALSE),H1975)","v":"77756302"},{"$f":"CONCATENATE(VLOOKUP(B1975,'School List'!$B$3:$D$291,3,FALSE),H1975)","v":"Switzerland County - SWITZERLAND COUNTY SCHOOL CORPORATION6302"},{"$f":"IF('Line 1 Source'!B1975<>\"\",'Line 1 Source'!B1975,\"\")","v":"78"},{"$f":"IF('Line 1 Source'!C1975<>\"\",'Line 1 Source'!C1975,\"\")","v":"4"},{"$f":"IF('Line 1 Source'!D1975<>\"\",'Line 1 Source'!D1975,\"\")","v":"7775"},{"$f":"IF('Line 1 Source'!E1975<>\"\",'Line 1 Source'!E1975,\"\")","v":"6302"},{"$f":"IF('Line 1 Source'!F1975<>\"\",'Line 1 Source'!F1975,\"\")","v":481289}]
[{"$f":"IF('Line 1 Source'!A1976<>\"\",'Line 1 Source'!A1976,\"\")","v":"2018"},"7940395",{"$f":"CONCATENATE(VLOOKUP(B1976,'School List'!$B$3:$H$291,6,FALSE),H1976)","v":{"$error":"#N/A"}},{"$f":"CONCATENATE(VLOOKUP(B1976,'School List'!$B$3:$D$291,3,FALSE),H1976)","v":{"$error":"#N/A"}},{"$f":"IF('Line 1 Source'!B1976<>\"\",'Line 1 Source'!B1976,\"\")","v":"79"},{"$f":"IF('Line 1 Source'!C1976<>\"\",'Line 1 Source'!C1976,\"\")","v":"4"},{"$f":"IF('Line 1 Source'!D1976<>\"\",'Line 1 Source'!D1976,\"\")","v":"0395"},{"$f":"IF('Line 1 Source'!E1976<>\"\",'Line 1 Source'!E1976,\"\")","v":"0061"},{"$f":"IF('Line 1 Source'!F1976<>\"\",'Line 1 Source'!F1976,\"\")","v":0}]
[{"$f":"IF('Line 1 Source'!A1977<>\"\",'Line 1 Source'!A1977,\"\")","v":"2018"},"7940395",{"$f":"CONCATENATE(VLOOKUP(B1977,'School List'!$B$3:$H$291,6,FALSE),H1977)","v":{"$error":"#N/A"}},{"$f":"CONCATENATE(VLOOKUP(B1977,'School List'!$B$3:$D$291,3,FALSE),H1977)","v":{"$error":"#N/A"}},{"$f":"IF('Line 1 Source'!B1977<>\"\",'Line 1 Source'!B1977,\"\")","v":"79"},{"$f":"IF('Line 1 Source'!C1977<>\"\",'Line 1 Source'!C1977,\"\")","v":"4"},{"$f":"IF('Line 1 Source'!D1977<>\"\",'Line 1 Source'!D1977,\"\")","v":"0395"},{"$f":"IF('Line 1 Source'!E1977<>\"\",'Line 1 Source'!E1977,\"\")","v":"0101"},{"$f":"IF('Line 1 Source'!F1977<>\"\",'Line 1 Source'!F1977,\"\")","v":0}]
[{"$f":"IF('Line 1 Source'!A1978<>\"\",'Line 1 Source'!A1978,\"\")","v":"2018"},"7940395",{"$f":"CONCATENATE(VLOOKUP(B1978,'School List'!$B$3:$H$291,6,FALSE),H1978)","v":{"$error":"#N/A"}},{"$f":"CONCATENATE(VLOOKUP(B1978,'School List'!$B$3:$D$291,3,FALSE),H1978)","v":{"$error":"#N/A"}},{"$f":"IF('Line 1 Source'!B1978<>\"\",'Line 1 Source'!B1978,\"\")","v":"79"},{"$f":"IF('Line 1 Source'!C1978<>\"\",'Line 1 Source'!C1978,\"\")","v":"4"},{"$f":"IF('Line 1 Source'!D1978<>\"\",'Line 1 Source'!D1978,\"\")","v":"0395"},{"$f":"IF('Line 1 Source'!E1978<>\"\",'Line 1 Source'!E1978,\"\")","v":"0180"},{"$f":"IF('Line 1 Source'!F1978<>\"\",'Line 1 Source'!F1978,\"\")","v":0}]
[{"$f":"IF('Line 1 Source'!A1979<>\"\",'Line 1 Source'!A1979,\"\")","v":"2018"},"7940395",{"$f":"CONCATENATE(VLOOKUP(B1979,'School List'!$B$3:$H$291,6,FALSE),H1979)","v":{"$error":"#N/A"}},{"$f":"CONCATENATE(VLOOKUP(B1979,'School List'!$B$3:$D$291,3,FALSE),H1979)","v":{"$error":"#N/A"}},{"$f":"IF('Line 1 Source'!B1979<>\"\",'Line 1 Source'!B1979,\"\")","v":"79"},{"$f":"IF('Line 1 Source'!C1979<>\"\",'Line 1 Source'!C1979,\"\")","v":"4"},{"$f":"IF('Line 1 Source'!D1979<>\"\",'Line 1 Source'!D1979,\"\")","v":"0395"},{"$f":"IF('Line 1 Source'!E1979<>\"\",'Line 1 Source'!E1979,\"\")","v":"0186"},{"$f":"IF('Line 1 Source'!F1979<>\"\",'Line 1 Source'!F1979,\"\")","v":0}]
[{"$f":"IF('Line 1 Source'!A1980<>\"\",'Line 1 Source'!A1980,\"\")","v":"2018"},"7940395",{"$f":"CONCATENATE(VLOOKUP(B1980,'School List'!$B$3:$H$291,6,FALSE),H1980)","v":{"$error":"#N/A"}},{"$f":"CONCATENATE(VLOOKUP(B1980,'School List'!$B$3:$D$291,3,FALSE),H1980)","v":{"$error":"#N/A"}},{"$f":"IF('Line 1 Source'!B1980<>\"\",'Line 1 Source'!B1980,\"\")","v":"79"},{"$f":"IF('Line 1 Source'!C1980<>\"\",'Line 1 Source'!C1980,\"\")","v":"4"},{"$f":"IF('Line 1 Source'!D1980<>\"\",'Line 1 Source'!D1980,\"\")","v":"0395"},{"$f":"IF('Line 1 Source'!E1980<>\"\",'Line 1 Source'!E1980,\"\")","v":"1214"},{"$f":"IF('Line 1 Source'!F1980<>\"\",'Line 1 Source'!F1980,\"\")","v":0}]
[{"$f":"IF('Line 1 Source'!A1981<>\"\",'Line 1 Source'!A1981,\"\")","v":"2018"},"7940395",{"$f":"CONCATENATE(VLOOKUP(B1981,'School List'!$B$3:$H$291,6,FALSE),H1981)","v":{"$error":"#N/A"}},{"$f":"CONCATENATE(VLOOKUP(B1981,'School List'!$B$3:$D$291,3,FALSE),H1981)","v":{"$error":"#N/A"}},{"$f":"IF('Line 1 Source'!B1981<>\"\",'Line 1 Source'!B1981,\"\")","v":"79"},{"$f":"IF('Line 1 Source'!C1981<>\"\",'Line 1 Source'!C1981,\"\")","v":"4"},{"$f":"IF('Line 1 Source'!D1981<>\"\",'Line 1 Source'!D1981,\"\")","v":"0395"},{"$f":"IF('Line 1 Source'!E1981<>\"\",'Line 1 Source'!E1981,\"\")","v":"6301"},{"$f":"IF('Line 1 Source'!F1981<>\"\",'Line 1 Source'!F1981,\"\")","v":0}]
[{"$f":"IF('Line 1 Source'!A1982<>\"\",'Line 1 Source'!A1982,\"\")","v":"2018"},"7940395",{"$f":"CONCATENATE(VLOOKUP(B1982,'School List'!$B$3:$H$291,6,FALSE),H1982)","v":{"$error":"#N/A"}},{"$f":"CONCATENATE(VLOOKUP(B1982,'School List'!$B$3:$D$291,3,FALSE),H1982)","v":{"$error":"#N/A"}},{"$f":"IF('Line 1 Source'!B1982<>\"\",'Line 1 Source'!B1982,\"\")","v":"79"},{"$f":"IF('Line 1 Source'!C1982<>\"\",'Line 1 Source'!C1982,\"\")","v":"4"},{"$f":"IF('Line 1 Source'!D1982<>\"\",'Line 1 Source'!D1982,\"\")","v":"0395"},{"$f":"IF('Line 1 Source'!E1982<>\"\",'Line 1 Source'!E1982,\"\")","v":"6302"},{"$f":"IF('Line 1 Source'!F1982<>\"\",'Line 1 Source'!F1982,\"\")","v":0}]
[{"$f":"IF('Line 1 Source'!A1983<>\"\",'Line 1 Source'!A1983,\"\")","v":"2018"},"7947855",{"$f":"CONCATENATE(VLOOKUP(B1983,'School List'!$B$3:$H$291,6,FALSE),H1983)","v":"78550061"},{"$f":"CONCATENATE(VLOOKUP(B1983,'School List'!$B$3:$D$291,3,FALSE),H1983)","v":"Tippecanoe County - LAFAYETTE SCHOOL CORPORATION0061"},{"$f":"IF('Line 1 Source'!B1983<>\"\",'Line 1 Source'!B1983,\"\")","v":"79"},{"$f":"IF('Line 1 Source'!C1983<>\"\",'Line 1 Source'!C1983,\"\")","v":"4"},{"$f":"IF('Line 1 Source'!D1983<>\"\",'Line 1 Source'!D1983,\"\")","v":"7855"},{"$f":"IF('Line 1 Source'!E1983<>\"\",'Line 1 Source'!E1983,\"\")","v":"0061"},{"$f":"IF('Line 1 Source'!F1983<>\"\",'Line 1 Source'!F1983,\"\")","v":300000}]
[{"$f":"IF('Line 1 Source'!A1984<>\"\",'Line 1 Source'!A1984,\"\")","v":"2018"},"7947855",{"$f":"CONCATENATE(VLOOKUP(B1984,'School List'!$B$3:$H$291,6,FALSE),H1984)","v":"78550101"},{"$f":"CONCATENATE(VLOOKUP(B1984,'School List'!$B$3:$D$291,3,FALSE),H1984)","v":"Tippecanoe County - LAFAYETTE SCHOOL CORPORATION0101"},{"$f":"IF('Line 1 Source'!B1984<>\"\",'Line 1 Source'!B1984,\"\")","v":"79"},{"$f":"IF('Line 1 Source'!C1984<>\"\",'Line 1 Source'!C1984,\"\")","v":"4"},{"$f":"IF('Line 1 Source'!D1984<>\"\",'Line 1 Source'!D1984,\"\")","v":"7855"},{"$f":"IF('Line 1 Source'!E1984<>\"\",'Line 1 Source'!E1984,\"\")","v":"0101"},{"$f":"IF('Line 1 Source'!F1984<>\"\",'Line 1 Source'!F1984,\"\")","v":54229880}]
[{"$f":"IF('Line 1 Source'!A1985<>\"\",'Line 1 Source'!A1985,\"\")","v":"2018"},"7947855",{"$f":"CONCATENATE(VLOOKUP(B1985,'School List'!$B$3:$H$291,6,FALSE),H1985)","v":"78550180"},{"$f":"CONCATENATE(VLOOKUP(B1985,'School List'!$B$3:$D$291,3,FALSE),H1985)","v":"Tippecanoe County - LAFAYETTE SCHOOL CORPORATION0180"},{"$f":"IF('Line 1 Source'!B1985<>\"\",'Line 1 Source'!B1985,\"\")","v":"79"},{"$f":"IF('Line 1 Source'!C1985<>\"\",'Line 1 Source'!C1985,\"\")","v":"4"},{"$f":"IF('Line 1 Source'!D1985<>\"\",'Line 1 Source'!D1985,\"\")","v":"7855"},{"$f":"IF('Line 1 Source'!E1985<>\"\",'Line 1 Source'!E1985,\"\")","v":"0180"},{"$f":"IF('Line 1 Source'!F1985<>\"\",'Line 1 Source'!F1985,\"\")","v":11114287}]
[{"$f":"IF('Line 1 Source'!A1986<>\"\",'Line 1 Source'!A1986,\"\")","v":"2018"},"7947855",{"$f":"CONCATENATE(VLOOKUP(B1986,'School List'!$B$3:$H$291,6,FALSE),H1986)","v":"78551214"},{"$f":"CONCATENATE(VLOOKUP(B1986,'School List'!$B$3:$D$291,3,FALSE),H1986)","v":"Tippecanoe County - LAFAYETTE SCHOOL CORPORATION1214"},{"$f":"IF('Line 1 Source'!B1986<>\"\",'Line 1 Source'!B1986,\"\")","v":"79"},{"$f":"IF('Line 1 Source'!C1986<>\"\",'Line 1 Source'!C1986,\"\")","v":"4"},{"$f":"IF('Line 1 Source'!D1986<>\"\",'Line 1 Source'!D1986,\"\")","v":"7855"},{"$f":"IF('Line 1 Source'!E1986<>\"\",'Line 1 Source'!E1986,\"\")","v":"1214"},{"$f":"IF('Line 1 Source'!F1986<>\"\",'Line 1 Source'!F1986,\"\")","v":6574825}]
[{"$f":"IF('Line 1 Source'!A1987<>\"\",'Line 1 Source'!A1987,\"\")","v":"2018"},{"$f":"CONCATENATE(E1987,F1987,G1987)","v":"7947855"},{"$f":"CONCATENATE(VLOOKUP(B1987,'School List'!$B$3:$H$291,6,FALSE),H1987)","v":"78556301"},{"$f":"CONCATENATE(VLOOKUP(B1987,'School List'!$B$3:$D$291,3,FALSE),H1987)","v":"Tippecanoe County - LAFAYETTE SCHOOL CORPORATION6301"},{"$f":"IF('Line 1 Source'!B1987<>\"\",'Line 1 Source'!B1987,\"\")","v":"79"},{"$f":"IF('Line 1 Source'!C1987<>\"\",'Line 1 Source'!C1987,\"\")","v":"4"},{"$f":"IF('Line 1 Source'!D1987<>\"\",'Line 1 Source'!D1987,\"\")","v":"7855"},{"$f":"IF('Line 1 Source'!E1987<>\"\",'Line 1 Source'!E1987,\"\")","v":"6301"},{"$f":"IF('Line 1 Source'!F1987<>\"\",'Line 1 Source'!F1987,\"\")","v":3872115}]
[{"$f":"IF('Line 1 Source'!A1988<>\"\",'Line 1 Source'!A1988,\"\")","v":"2018"},"7947855",{"$f":"CONCATENATE(VLOOKUP(B1988,'School List'!$B$3:$H$291,6,FALSE),H1988)","v":"78556302"},{"$f":"CONCATENATE(VLOOKUP(B1988,'School List'!$B$3:$D$291,3,FALSE),H1988)","v":"Tippecanoe County - LAFAYETTE SCHOOL CORPORATION6302"},{"$f":"IF('Line 1 Source'!B1988<>\"\",'Line 1 Source'!B1988,\"\")","v":"79"},{"$f":"IF('Line 1 Source'!C1988<>\"\",'Line 1 Source'!C1988,\"\")","v":"4"},{"$f":"IF('Line 1 Source'!D1988<>\"\",'Line 1 Source'!D1988,\"\")","v":"7855"},{"$f":"IF('Line 1 Source'!E1988<>\"\",'Line 1 Source'!E1988,\"\")","v":"6302"},{"$f":"IF('Line 1 Source'!F1988<>\"\",'Line 1 Source'!F1988,\"\")","v":1280000}]
[{"$f":"IF('Line 1 Source'!A1989<>\"\",'Line 1 Source'!A1989,\"\")","v":"2018"},"7947865",{"$f":"CONCATENATE(VLOOKUP(B1989,'School List'!$B$3:$H$291,6,FALSE),H1989)","v":"78650061"},{"$f":"CONCATENATE(VLOOKUP(B1989,'School List'!$B$3:$D$291,3,FALSE),H1989)","v":"Tippecanoe County - TIPPECANOE SCHOOL CORPORATION0061"},{"$f":"IF('Line 1 Source'!B1989<>\"\",'Line 1 Source'!B1989,\"\")","v":"79"},{"$f":"IF('Line 1 Source'!C1989<>\"\",'Line 1 Source'!C1989,\"\")","v":"4"},{"$f":"IF('Line 1 Source'!D1989<>\"\",'Line 1 Source'!D1989,\"\")","v":"7865"},{"$f":"IF('Line 1 Source'!E1989<>\"\",'Line 1 Source'!E1989,\"\")","v":"0061"},{"$f":"IF('Line 1 Source'!F1989<>\"\",'Line 1 Source'!F1989,\"\")","v":2000000}]
[{"$f":"IF('Line 1 Source'!A1990<>\"\",'Line 1 Source'!A1990,\"\")","v":"2018"},"7947865",{"$f":"CONCATENATE(VLOOKUP(B1990,'School List'!$B$3:$H$291,6,FALSE),H1990)","v":"78650101"},{"$f":"CONCATENATE(VLOOKUP(B1990,'School List'!$B$3:$D$291,3,FALSE),H1990)","v":"Tippecanoe County - TIPPECANOE SCHOOL CORPORATION0101"},{"$f":"IF('Line 1 Source'!B1990<>\"\",'Line 1 Source'!B1990,\"\")","v":"79"},{"$f":"IF('Line 1 Source'!C1990<>\"\",'Line 1 Source'!C1990,\"\")","v":"4"},{"$f":"IF('Line 1 Source'!D1990<>\"\",'Line 1 Source'!D1990,\"\")","v":"7865"},{"$f":"IF('Line 1 Source'!E1990<>\"\",'Line 1 Source'!E1990,\"\")","v":"0101"},{"$f":"IF('Line 1 Source'!F1990<>\"\",'Line 1 Source'!F1990,\"\")","v":93959434}]
[{"$f":"IF('Line 1 Source'!A1991<>\"\",'Line 1 Source'!A1991,\"\")","v":"2018"},"7947865",{"$f":"CONCATENATE(VLOOKUP(B1991,'School List'!$B$3:$H$291,6,FALSE),H1991)","v":"78650180"},{"$f":"CONCATENATE(VLOOKUP(B1991,'School List'!$B$3:$D$291,3,FALSE),H1991)","v":"Tippecanoe County - TIPPECANOE SCHOOL CORPORATION0180"},{"$f":"IF('Line 1 Source'!B1991<>\"\",'Line 1 Source'!B1991,\"\")","v":"79"},{"$f":"IF('Line 1 Source'!C1991<>\"\",'Line 1 Source'!C1991,\"\")","v":"4"},{"$f":"IF('Line 1 Source'!D1991<>\"\",'Line 1 Source'!D1991,\"\")","v":"7865"},{"$f":"IF('Line 1 Source'!E1991<>\"\",'Line 1 Source'!E1991,\"\")","v":"0180"},{"$f":"IF('Line 1 Source'!F1991<>\"\",'Line 1 Source'!F1991,\"\")","v":20399653}]
[{"$f":"IF('Line 1 Source'!A1992<>\"\",'Line 1 Source'!A1992,\"\")","v":"2018"},"7947865",{"$f":"CONCATENATE(VLOOKUP(B1992,'School List'!$B$3:$H$291,6,FALSE),H1992)","v":"78651214"},{"$f":"CONCATENATE(VLOOKUP(B1992,'School List'!$B$3:$D$291,3,FALSE),H1992)","v":"Tippecanoe County - TIPPECANOE SCHOOL CORPORATION1214"},{"$f":"IF('Line 1 Source'!B1992<>\"\",'Line 1 Source'!B1992,\"\")","v":"79"},{"$f":"IF('Line 1 Source'!C1992<>\"\",'Line 1 Source'!C1992,\"\")","v":"4"},{"$f":"IF('Line 1 Source'!D1992<>\"\",'Line 1 Source'!D1992,\"\")","v":"7865"},{"$f":"IF('Line 1 Source'!E1992<>\"\",'Line 1 Source'!E1992,\"\")","v":"1214"},{"$f":"IF('Line 1 Source'!F1992<>\"\",'Line 1 Source'!F1992,\"\")","v":12441723}]
[{"$f":"IF('Line 1 Source'!A1993<>\"\",'Line 1 Source'!A1993,\"\")","v":"2018"},"7947865",{"$f":"CONCATENATE(VLOOKUP(B1993,'School List'!$B$3:$H$291,6,FALSE),H1993)","v":"78656301"},{"$f":"CONCATENATE(VLOOKUP(B1993,'School List'!$B$3:$D$291,3,FALSE),H1993)","v":"Tippecanoe County - TIPPECANOE SCHOOL CORPORATION6301"},{"$f":"IF('Line 1 Source'!B1993<>\"\",'Line 1 Source'!B1993,\"\")","v":"79"},{"$f":"IF('Line 1 Source'!C1993<>\"\",'Line 1 Source'!C1993,\"\")","v":"4"},{"$f":"IF('Line 1 Source'!D1993<>\"\",'Line 1 Source'!D1993,\"\")","v":"7865"},{"$f":"IF('Line 1 Source'!E1993<>\"\",'Line 1 Source'!E1993,\"\")","v":"6301"},{"$f":"IF('Line 1 Source'!F1993<>\"\",'Line 1 Source'!F1993,\"\")","v":7155429}]
[{"$f":"IF('Line 1 Source'!A1994<>\"\",'Line 1 Source'!A1994,\"\")","v":"2018"},"7947865",{"$f":"CONCATENATE(VLOOKUP(B1994,'School List'!$B$3:$H$291,6,FALSE),H1994)","v":"78656302"},{"$f":"CONCATENATE(VLOOKUP(B1994,'School List'!$B$3:$D$291,3,FALSE),H1994)","v":"Tippecanoe County - TIPPECANOE SCHOOL CORPORATION6302"},{"$f":"IF('Line 1 Source'!B1994<>\"\",'Line 1 Source'!B1994,\"\")","v":"79"},{"$f":"IF('Line 1 Source'!C1994<>\"\",'Line 1 Source'!C1994,\"\")","v":"4"},{"$f":"IF('Line 1 Source'!D1994<>\"\",'Line 1 Source'!D1994,\"\")","v":"7865"},{"$f":"IF('Line 1 Source'!E1994<>\"\",'Line 1 Source'!E1994,\"\")","v":"6302"},{"$f":"IF('Line 1 Source'!F1994<>\"\",'Line 1 Source'!F1994,\"\")","v":1805461}]
[{"$f":"IF('Line 1 Source'!A1995<>\"\",'Line 1 Source'!A1995,\"\")","v":"2018"},"7947875",{"$f":"CONCATENATE(VLOOKUP(B1995,'School List'!$B$3:$H$291,6,FALSE),H1995)","v":"78750022"},{"$f":"CONCATENATE(VLOOKUP(B1995,'School List'!$B$3:$D$291,3,FALSE),H1995)","v":"Tippecanoe County - WEST LAFAYETTE COMMUNITY SCHOOL CORP0022"},{"$f":"IF('Line 1 Source'!B1995<>\"\",'Line 1 Source'!B1995,\"\")","v":"79"},{"$f":"IF('Line 1 Source'!C1995<>\"\",'Line 1 Source'!C1995,\"\")","v":"4"},{"$f":"IF('Line 1 Source'!D1995<>\"\",'Line 1 Source'!D1995,\"\")","v":"7875"},{"$f":"IF('Line 1 Source'!E1995<>\"\",'Line 1 Source'!E1995,\"\")","v":"0022"},{"$f":"IF('Line 1 Source'!F1995<>\"\",'Line 1 Source'!F1995,\"\")","v":6700000}]
[{"$f":"IF('Line 1 Source'!A1996<>\"\",'Line 1 Source'!A1996,\"\")","v":"2018"},"7947875",{"$f":"CONCATENATE(VLOOKUP(B1996,'School List'!$B$3:$H$291,6,FALSE),H1996)","v":"78750061"},{"$f":"CONCATENATE(VLOOKUP(B1996,'School List'!$B$3:$D$291,3,FALSE),H1996)","v":"Tippecanoe County - WEST LAFAYETTE COMMUNITY SCHOOL CORP0061"},{"$f":"IF('Line 1 Source'!B1996<>\"\",'Line 1 Source'!B1996,\"\")","v":"79"},{"$f":"IF('Line 1 Source'!C1996<>\"\",'Line 1 Source'!C1996,\"\")","v":"4"},{"$f":"IF('Line 1 Source'!D1996<>\"\",'Line 1 Source'!D1996,\"\")","v":"7875"},{"$f":"IF('Line 1 Source'!E1996<>\"\",'Line 1 Source'!E1996,\"\")","v":"0061"},{"$f":"IF('Line 1 Source'!F1996<>\"\",'Line 1 Source'!F1996,\"\")","v":1333000}]
[{"$f":"IF('Line 1 Source'!A1997<>\"\",'Line 1 Source'!A1997,\"\")","v":"2018"},"7947875",{"$f":"CONCATENATE(VLOOKUP(B1997,'School List'!$B$3:$H$291,6,FALSE),H1997)","v":"78750101"},{"$f":"CONCATENATE(VLOOKUP(B1997,'School List'!$B$3:$D$291,3,FALSE),H1997)","v":"Tippecanoe County - WEST LAFAYETTE COMMUNITY SCHOOL CORP0101"},{"$f":"IF('Line 1 Source'!B1997<>\"\",'Line 1 Source'!B1997,\"\")","v":"79"},{"$f":"IF('Line 1 Source'!C1997<>\"\",'Line 1 Source'!C1997,\"\")","v":"4"},{"$f":"IF('Line 1 Source'!D1997<>\"\",'Line 1 Source'!D1997,\"\")","v":"7875"},{"$f":"IF('Line 1 Source'!E1997<>\"\",'Line 1 Source'!E1997,\"\")","v":"0101"},{"$f":"IF('Line 1 Source'!F1997<>\"\",'Line 1 Source'!F1997,\"\")","v":17600000}]
[{"$f":"IF('Line 1 Source'!A1998<>\"\",'Line 1 Source'!A1998,\"\")","v":"2018"},"7947875",{"$f":"CONCATENATE(VLOOKUP(B1998,'School List'!$B$3:$H$291,6,FALSE),H1998)","v":"78750180"},{"$f":"CONCATENATE(VLOOKUP(B1998,'School List'!$B$3:$D$291,3,FALSE),H1998)","v":"Tippecanoe County - WEST LAFAYETTE COMMUNITY SCHOOL CORP0180"},{"$f":"IF('Line 1 Source'!B1998<>\"\",'Line 1 Source'!B1998,\"\")","v":"79"},{"$f":"IF('Line 1 Source'!C1998<>\"\",'Line 1 Source'!C1998,\"\")","v":"4"},{"$f":"IF('Line 1 Source'!D1998<>\"\",'Line 1 Source'!D1998,\"\")","v":"7875"},{"$f":"IF('Line 1 Source'!E1998<>\"\",'Line 1 Source'!E1998,\"\")","v":"0180"},{"$f":"IF('Line 1 Source'!F1998<>\"\",'Line 1 Source'!F1998,\"\")","v":6450000}]
[{"$f":"IF('Line 1 Source'!A1999<>\"\",'Line 1 Source'!A1999,\"\")","v":"2018"},"7947875",{"$f":"CONCATENATE(VLOOKUP(B1999,'School List'!$B$3:$H$291,6,FALSE),H1999)","v":"78751214"},{"$f":"CONCATENATE(VLOOKUP(B1999,'School List'!$B$3:$D$291,3,FALSE),H1999)","v":"Tippecanoe County - WEST LAFAYETTE COMMUNITY SCHOOL CORP1214"},{"$f":"IF('Line 1 Source'!B1999<>\"\",'Line 1 Source'!B1999,\"\")","v":"79"},{"$f":"IF('Line 1 Source'!C1999<>\"\",'Line 1 Source'!C1999,\"\")","v":"4"},{"$f":"IF('Line 1 Source'!D1999<>\"\",'Line 1 Source'!D1999,\"\")","v":"7875"},{"$f":"IF('Line 1 Source'!E1999<>\"\",'Line 1 Source'!E1999,\"\")","v":"1214"},{"$f":"IF('Line 1 Source'!F1999<>\"\",'Line 1 Source'!F1999,\"\")","v":3250000}]
[{"$f":"IF('Line 1 Source'!A2000<>\"\",'Line 1 Source'!A2000,\"\")","v":"2018"},"7947875",{"$f":"CONCATENATE(VLOOKUP(B2000,'School List'!$B$3:$H$291,6,FALSE),H2000)","v":"78756301"},{"$f":"CONCATENATE(VLOOKUP(B2000,'School List'!$B$3:$D$291,3,FALSE),H2000)","v":"Tippecanoe County - WEST LAFAYETTE COMMUNITY SCHOOL CORP6301"},{"$f":"IF('Line 1 Source'!B2000<>\"\",'Line 1 Source'!B2000,\"\")","v":"79"},{"$f":"IF('Line 1 Source'!C2000<>\"\",'Line 1 Source'!C2000,\"\")","v":"4"},{"$f":"IF('Line 1 Source'!D2000<>\"\",'Line 1 Source'!D2000,\"\")","v":"7875"},{"$f":"IF('Line 1 Source'!E2000<>\"\",'Line 1 Source'!E2000,\"\")","v":"6301"},{"$f":"IF('Line 1 Source'!F2000<>\"\",'Line 1 Source'!F2000,\"\")","v":750000}]
[{"$f":"IF('Line 1 Source'!A2001<>\"\",'Line 1 Source'!A2001,\"\")","v":"2018"},"7947875",{"$f":"CONCATENATE(VLOOKUP(B2001,'School List'!$B$3:$H$291,6,FALSE),H2001)","v":"78756302"},{"$f":"CONCATENATE(VLOOKUP(B2001,'School List'!$B$3:$D$291,3,FALSE),H2001)","v":"Tippecanoe County - WEST LAFAYETTE COMMUNITY SCHOOL CORP6302"},{"$f":"IF('Line 1 Source'!B2001<>\"\",'Line 1 Source'!B2001,\"\")","v":"79"},{"$f":"IF('Line 1 Source'!C2001<>\"\",'Line 1 Source'!C2001,\"\")","v":"4"},{"$f":"IF('Line 1 Source'!D2001<>\"\",'Line 1 Source'!D2001,\"\")","v":"7875"},{"$f":"IF('Line 1 Source'!E2001<>\"\",'Line 1 Source'!E2001,\"\")","v":"6302"},{"$f":"IF('Line 1 Source'!F2001<>\"\",'Line 1 Source'!F2001,\"\")","v":398078}]
[{"$f":"IF('Line 1 Source'!A2002<>\"\",'Line 1 Source'!A2002,\"\")","v":"2018"},"8047935",{"$f":"CONCATENATE(VLOOKUP(B2002,'School List'!$B$3:$H$291,6,FALSE),H2002)","v":"79350061"},{"$f":"CONCATENATE(VLOOKUP(B2002,'School List'!$B$3:$D$291,3,FALSE),H2002)","v":"Tipton County - TRI-CENTRAL COMMUNITY SCHOOLS0061"},{"$f":"IF('Line 1 Source'!B2002<>\"\",'Line 1 Source'!B2002,\"\")","v":"80"},{"$f":"IF('Line 1 Source'!C2002<>\"\",'Line 1 Source'!C2002,\"\")","v":"4"},{"$f":"IF('Line 1 Source'!D2002<>\"\",'Line 1 Source'!D2002,\"\")","v":"7935"},{"$f":"IF('Line 1 Source'!E2002<>\"\",'Line 1 Source'!E2002,\"\")","v":"0061"},{"$f":"IF('Line 1 Source'!F2002<>\"\",'Line 1 Source'!F2002,\"\")","v":290000}]
[{"$f":"IF('Line 1 Source'!A2003<>\"\",'Line 1 Source'!A2003,\"\")","v":"2018"},"8047935",{"$f":"CONCATENATE(VLOOKUP(B2003,'School List'!$B$3:$H$291,6,FALSE),H2003)","v":"79350101"},{"$f":"CONCATENATE(VLOOKUP(B2003,'School List'!$B$3:$D$291,3,FALSE),H2003)","v":"Tipton County - TRI-CENTRAL COMMUNITY SCHOOLS0101"},{"$f":"IF('Line 1 Source'!B2003<>\"\",'Line 1 Source'!B2003,\"\")","v":"80"},{"$f":"IF('Line 1 Source'!C2003<>\"\",'Line 1 Source'!C2003,\"\")","v":"4"},{"$f":"IF('Line 1 Source'!D2003<>\"\",'Line 1 Source'!D2003,\"\")","v":"7935"},{"$f":"IF('Line 1 Source'!E2003<>\"\",'Line 1 Source'!E2003,\"\")","v":"0101"},{"$f":"IF('Line 1 Source'!F2003<>\"\",'Line 1 Source'!F2003,\"\")","v":5090377}]
[{"$f":"IF('Line 1 Source'!A2004<>\"\",'Line 1 Source'!A2004,\"\")","v":"2018"},"8047935",{"$f":"CONCATENATE(VLOOKUP(B2004,'School List'!$B$3:$H$291,6,FALSE),H2004)","v":"79350180"},{"$f":"CONCATENATE(VLOOKUP(B2004,'School List'!$B$3:$D$291,3,FALSE),H2004)","v":"Tipton County - TRI-CENTRAL COMMUNITY SCHOOLS0180"},{"$f":"IF('Line 1 Source'!B2004<>\"\",'Line 1 Source'!B2004,\"\")","v":"80"},{"$f":"IF('Line 1 Source'!C2004<>\"\",'Line 1 Source'!C2004,\"\")","v":"4"},{"$f":"IF('Line 1 Source'!D2004<>\"\",'Line 1 Source'!D2004,\"\")","v":"7935"},{"$f":"IF('Line 1 Source'!E2004<>\"\",'Line 1 Source'!E2004,\"\")","v":"0180"},{"$f":"IF('Line 1 Source'!F2004<>\"\",'Line 1 Source'!F2004,\"\")","v":1594090}]
[{"$f":"IF('Line 1 Source'!A2005<>\"\",'Line 1 Source'!A2005,\"\")","v":"2018"},"8047935",{"$f":"CONCATENATE(VLOOKUP(B2005,'School List'!$B$3:$H$291,6,FALSE),H2005)","v":"79350186"},{"$f":"CONCATENATE(VLOOKUP(B2005,'School List'!$B$3:$D$291,3,FALSE),H2005)","v":"Tipton County - TRI-CENTRAL COMMUNITY SCHOOLS0186"},{"$f":"IF('Line 1 Source'!B2005<>\"\",'Line 1 Source'!B2005,\"\")","v":"80"},{"$f":"IF('Line 1 Source'!C2005<>\"\",'Line 1 Source'!C2005,\"\")","v":"4"},{"$f":"IF('Line 1 Source'!D2005<>\"\",'Line 1 Source'!D2005,\"\")","v":"7935"},{"$f":"IF('Line 1 Source'!E2005<>\"\",'Line 1 Source'!E2005,\"\")","v":"0186"},{"$f":"IF('Line 1 Source'!F2005<>\"\",'Line 1 Source'!F2005,\"\")","v":222343}]
[{"$f":"IF('Line 1 Source'!A2006<>\"\",'Line 1 Source'!A2006,\"\")","v":"2018"},"8047935",{"$f":"CONCATENATE(VLOOKUP(B2006,'School List'!$B$3:$H$291,6,FALSE),H2006)","v":"79351214"},{"$f":"CONCATENATE(VLOOKUP(B2006,'School List'!$B$3:$D$291,3,FALSE),H2006)","v":"Tipton County - TRI-CENTRAL COMMUNITY SCHOOLS1214"},{"$f":"IF('Line 1 Source'!B2006<>\"\",'Line 1 Source'!B2006,\"\")","v":"80"},{"$f":"IF('Line 1 Source'!C2006<>\"\",'Line 1 Source'!C2006,\"\")","v":"4"},{"$f":"IF('Line 1 Source'!D2006<>\"\",'Line 1 Source'!D2006,\"\")","v":"7935"},{"$f":"IF('Line 1 Source'!E2006<>\"\",'Line 1 Source'!E2006,\"\")","v":"1214"},{"$f":"IF('Line 1 Source'!F2006<>\"\",'Line 1 Source'!F2006,\"\")","v":1065234}]
[{"$f":"IF('Line 1 Source'!A2007<>\"\",'Line 1 Source'!A2007,\"\")","v":"2018"},"8047935",{"$f":"CONCATENATE(VLOOKUP(B2007,'School List'!$B$3:$H$291,6,FALSE),H2007)","v":"79356301"},{"$f":"CONCATENATE(VLOOKUP(B2007,'School List'!$B$3:$D$291,3,FALSE),H2007)","v":"Tipton County - TRI-CENTRAL COMMUNITY SCHOOLS6301"},{"$f":"IF('Line 1 Source'!B2007<>\"\",'Line 1 Source'!B2007,\"\")","v":"80"},{"$f":"IF('Line 1 Source'!C2007<>\"\",'Line 1 Source'!C2007,\"\")","v":"4"},{"$f":"IF('Line 1 Source'!D2007<>\"\",'Line 1 Source'!D2007,\"\")","v":"7935"},{"$f":"IF('Line 1 Source'!E2007<>\"\",'Line 1 Source'!E2007,\"\")","v":"6301"},{"$f":"IF('Line 1 Source'!F2007<>\"\",'Line 1 Source'!F2007,\"\")","v":766825}]
[{"$f":"IF('Line 1 Source'!A2008<>\"\",'Line 1 Source'!A2008,\"\")","v":"2018"},"8047935",{"$f":"CONCATENATE(VLOOKUP(B2008,'School List'!$B$3:$H$291,6,FALSE),H2008)","v":"79356302"},{"$f":"CONCATENATE(VLOOKUP(B2008,'School List'!$B$3:$D$291,3,FALSE),H2008)","v":"Tipton County - TRI-CENTRAL COMMUNITY SCHOOLS6302"},{"$f":"IF('Line 1 Source'!B2008<>\"\",'Line 1 Source'!B2008,\"\")","v":"80"},{"$f":"IF('Line 1 Source'!C2008<>\"\",'Line 1 Source'!C2008,\"\")","v":"4"},{"$f":"IF('Line 1 Source'!D2008<>\"\",'Line 1 Source'!D2008,\"\")","v":"7935"},{"$f":"IF('Line 1 Source'!E2008<>\"\",'Line 1 Source'!E2008,\"\")","v":"6302"},{"$f":"IF('Line 1 Source'!F2008<>\"\",'Line 1 Source'!F2008,\"\")","v":0}]
[{"$f":"IF('Line 1 Source'!A2009<>\"\",'Line 1 Source'!A2009,\"\")","v":"2018"},"8047945",{"$f":"CONCATENATE(VLOOKUP(B2009,'School List'!$B$3:$H$291,6,FALSE),H2009)","v":"79450061"},{"$f":"CONCATENATE(VLOOKUP(B2009,'School List'!$B$3:$D$291,3,FALSE),H2009)","v":"Tipton County - TIPTON COMMUNITY SCHOOL CORPORATION0061"},{"$f":"IF('Line 1 Source'!B2009<>\"\",'Line 1 Source'!B2009,\"\")","v":"80"},{"$f":"IF('Line 1 Source'!C2009<>\"\",'Line 1 Source'!C2009,\"\")","v":"4"},{"$f":"IF('Line 1 Source'!D2009<>\"\",'Line 1 Source'!D2009,\"\")","v":"7945"},{"$f":"IF('Line 1 Source'!E2009<>\"\",'Line 1 Source'!E2009,\"\")","v":"0061"},{"$f":"IF('Line 1 Source'!F2009<>\"\",'Line 1 Source'!F2009,\"\")","v":0}]
[{"$f":"IF('Line 1 Source'!A2010<>\"\",'Line 1 Source'!A2010,\"\")","v":"2018"},"8047945",{"$f":"CONCATENATE(VLOOKUP(B2010,'School List'!$B$3:$H$291,6,FALSE),H2010)","v":"79450101"},{"$f":"CONCATENATE(VLOOKUP(B2010,'School List'!$B$3:$D$291,3,FALSE),H2010)","v":"Tipton County - TIPTON COMMUNITY SCHOOL CORPORATION0101"},{"$f":"IF('Line 1 Source'!B2010<>\"\",'Line 1 Source'!B2010,\"\")","v":"80"},{"$f":"IF('Line 1 Source'!C2010<>\"\",'Line 1 Source'!C2010,\"\")","v":"4"},{"$f":"IF('Line 1 Source'!D2010<>\"\",'Line 1 Source'!D2010,\"\")","v":"7945"},{"$f":"IF('Line 1 Source'!E2010<>\"\",'Line 1 Source'!E2010,\"\")","v":"0101"},{"$f":"IF('Line 1 Source'!F2010<>\"\",'Line 1 Source'!F2010,\"\")","v":10352282}]
[{"$f":"IF('Line 1 Source'!A2011<>\"\",'Line 1 Source'!A2011,\"\")","v":"2018"},"8047945",{"$f":"CONCATENATE(VLOOKUP(B2011,'School List'!$B$3:$H$291,6,FALSE),H2011)","v":"79450180"},{"$f":"CONCATENATE(VLOOKUP(B2011,'School List'!$B$3:$D$291,3,FALSE),H2011)","v":"Tipton County - TIPTON COMMUNITY SCHOOL CORPORATION0180"},{"$f":"IF('Line 1 Source'!B2011<>\"\",'Line 1 Source'!B2011,\"\")","v":"80"},{"$f":"IF('Line 1 Source'!C2011<>\"\",'Line 1 Source'!C2011,\"\")","v":"4"},{"$f":"IF('Line 1 Source'!D2011<>\"\",'Line 1 Source'!D2011,\"\")","v":"7945"},{"$f":"IF('Line 1 Source'!E2011<>\"\",'Line 1 Source'!E2011,\"\")","v":"0180"},{"$f":"IF('Line 1 Source'!F2011<>\"\",'Line 1 Source'!F2011,\"\")","v":2808789}]
[{"$f":"IF('Line 1 Source'!A2012<>\"\",'Line 1 Source'!A2012,\"\")","v":"2018"},"8047945",{"$f":"CONCATENATE(VLOOKUP(B2012,'School List'!$B$3:$H$291,6,FALSE),H2012)","v":"79451214"},{"$f":"CONCATENATE(VLOOKUP(B2012,'School List'!$B$3:$D$291,3,FALSE),H2012)","v":"Tipton County - TIPTON COMMUNITY SCHOOL CORPORATION1214"},{"$f":"IF('Line 1 Source'!B2012<>\"\",'Line 1 Source'!B2012,\"\")","v":"80"},{"$f":"IF('Line 1 Source'!C2012<>\"\",'Line 1 Source'!C2012,\"\")","v":"4"},{"$f":"IF('Line 1 Source'!D2012<>\"\",'Line 1 Source'!D2012,\"\")","v":"7945"},{"$f":"IF('Line 1 Source'!E2012<>\"\",'Line 1 Source'!E2012,\"\")","v":"1214"},{"$f":"IF('Line 1 Source'!F2012<>\"\",'Line 1 Source'!F2012,\"\")","v":1814116}]
[{"$f":"IF('Line 1 Source'!A2013<>\"\",'Line 1 Source'!A2013,\"\")","v":"2018"},"8047945",{"$f":"CONCATENATE(VLOOKUP(B2013,'School List'!$B$3:$H$291,6,FALSE),H2013)","v":"79456301"},{"$f":"CONCATENATE(VLOOKUP(B2013,'School List'!$B$3:$D$291,3,FALSE),H2013)","v":"Tipton County - TIPTON COMMUNITY SCHOOL CORPORATION6301"},{"$f":"IF('Line 1 Source'!B2013<>\"\",'Line 1 Source'!B2013,\"\")","v":"80"},{"$f":"IF('Line 1 Source'!C2013<>\"\",'Line 1 Source'!C2013,\"\")","v":"4"},{"$f":"IF('Line 1 Source'!D2013<>\"\",'Line 1 Source'!D2013,\"\")","v":"7945"},{"$f":"IF('Line 1 Source'!E2013<>\"\",'Line 1 Source'!E2013,\"\")","v":"6301"},{"$f":"IF('Line 1 Source'!F2013<>\"\",'Line 1 Source'!F2013,\"\")","v":1265834}]
[{"$f":"IF('Line 1 Source'!A2014<>\"\",'Line 1 Source'!A2014,\"\")","v":"2018"},"8047945",{"$f":"CONCATENATE(VLOOKUP(B2014,'School List'!$B$3:$H$291,6,FALSE),H2014)","v":"79456302"},{"$f":"CONCATENATE(VLOOKUP(B2014,'School List'!$B$3:$D$291,3,FALSE),H2014)","v":"Tipton County - TIPTON COMMUNITY SCHOOL CORPORATION6302"},{"$f":"IF('Line 1 Source'!B2014<>\"\",'Line 1 Source'!B2014,\"\")","v":"80"},{"$f":"IF('Line 1 Source'!C2014<>\"\",'Line 1 Source'!C2014,\"\")","v":"4"},{"$f":"IF('Line 1 Source'!D2014<>\"\",'Line 1 Source'!D2014,\"\")","v":"7945"},{"$f":"IF('Line 1 Source'!E2014<>\"\",'Line 1 Source'!E2014,\"\")","v":"6302"},{"$f":"IF('Line 1 Source'!F2014<>\"\",'Line 1 Source'!F2014,\"\")","v":215373}]
[{"$f":"IF('Line 1 Source'!A2015<>\"\",'Line 1 Source'!A2015,\"\")","v":"2018"},"8147950",{"$f":"CONCATENATE(VLOOKUP(B2015,'School List'!$B$3:$H$291,6,FALSE),H2015)","v":"79500061"},{"$f":"CONCATENATE(VLOOKUP(B2015,'School List'!$B$3:$D$291,3,FALSE),H2015)","v":"Union County - UNION COUNTY SCHOOL CORPORATION0061"},{"$f":"IF('Line 1 Source'!B2015<>\"\",'Line 1 Source'!B2015,\"\")","v":"81"},{"$f":"IF('Line 1 Source'!C2015<>\"\",'Line 1 Source'!C2015,\"\")","v":"4"},{"$f":"IF('Line 1 Source'!D2015<>\"\",'Line 1 Source'!D2015,\"\")","v":"7950"},{"$f":"IF('Line 1 Source'!E2015<>\"\",'Line 1 Source'!E2015,\"\")","v":"0061"},{"$f":"IF('Line 1 Source'!F2015<>\"\",'Line 1 Source'!F2015,\"\")","v":75000}]
[{"$f":"IF('Line 1 Source'!A2016<>\"\",'Line 1 Source'!A2016,\"\")","v":"2018"},"8147950",{"$f":"CONCATENATE(VLOOKUP(B2016,'School List'!$B$3:$H$291,6,FALSE),H2016)","v":"79500101"},{"$f":"CONCATENATE(VLOOKUP(B2016,'School List'!$B$3:$D$291,3,FALSE),H2016)","v":"Union County - UNION COUNTY SCHOOL CORPORATION0101"},{"$f":"IF('Line 1 Source'!B2016<>\"\",'Line 1 Source'!B2016,\"\")","v":"81"},{"$f":"IF('Line 1 Source'!C2016<>\"\",'Line 1 Source'!C2016,\"\")","v":"4"},{"$f":"IF('Line 1 Source'!D2016<>\"\",'Line 1 Source'!D2016,\"\")","v":"7950"},{"$f":"IF('Line 1 Source'!E2016<>\"\",'Line 1 Source'!E2016,\"\")","v":"0101"},{"$f":"IF('Line 1 Source'!F2016<>\"\",'Line 1 Source'!F2016,\"\")","v":10976128}]
[{"$f":"IF('Line 1 Source'!A2017<>\"\",'Line 1 Source'!A2017,\"\")","v":"2018"},"8147950",{"$f":"CONCATENATE(VLOOKUP(B2017,'School List'!$B$3:$H$291,6,FALSE),H2017)","v":"79500180"},{"$f":"CONCATENATE(VLOOKUP(B2017,'School List'!$B$3:$D$291,3,FALSE),H2017)","v":"Union County - UNION COUNTY SCHOOL CORPORATION0180"},{"$f":"IF('Line 1 Source'!B2017<>\"\",'Line 1 Source'!B2017,\"\")","v":"81"},{"$f":"IF('Line 1 Source'!C2017<>\"\",'Line 1 Source'!C2017,\"\")","v":"4"},{"$f":"IF('Line 1 Source'!D2017<>\"\",'Line 1 Source'!D2017,\"\")","v":"7950"},{"$f":"IF('Line 1 Source'!E2017<>\"\",'Line 1 Source'!E2017,\"\")","v":"0180"},{"$f":"IF('Line 1 Source'!F2017<>\"\",'Line 1 Source'!F2017,\"\")","v":2179158}]
[{"$f":"IF('Line 1 Source'!A2018<>\"\",'Line 1 Source'!A2018,\"\")","v":"2018"},"8147950",{"$f":"CONCATENATE(VLOOKUP(B2018,'School List'!$B$3:$H$291,6,FALSE),H2018)","v":"79500186"},{"$f":"CONCATENATE(VLOOKUP(B2018,'School List'!$B$3:$D$291,3,FALSE),H2018)","v":"Union County - UNION COUNTY SCHOOL CORPORATION0186"},{"$f":"IF('Line 1 Source'!B2018<>\"\",'Line 1 Source'!B2018,\"\")","v":"81"},{"$f":"IF('Line 1 Source'!C2018<>\"\",'Line 1 Source'!C2018,\"\")","v":"4"},{"$f":"IF('Line 1 Source'!D2018<>\"\",'Line 1 Source'!D2018,\"\")","v":"7950"},{"$f":"IF('Line 1 Source'!E2018<>\"\",'Line 1 Source'!E2018,\"\")","v":"0186"},{"$f":"IF('Line 1 Source'!F2018<>\"\",'Line 1 Source'!F2018,\"\")","v":131911}]
[{"$f":"IF('Line 1 Source'!A2019<>\"\",'Line 1 Source'!A2019,\"\")","v":"2018"},"8147950",{"$f":"CONCATENATE(VLOOKUP(B2019,'School List'!$B$3:$H$291,6,FALSE),H2019)","v":"79501214"},{"$f":"CONCATENATE(VLOOKUP(B2019,'School List'!$B$3:$D$291,3,FALSE),H2019)","v":"Union County - UNION COUNTY SCHOOL CORPORATION1214"},{"$f":"IF('Line 1 Source'!B2019<>\"\",'Line 1 Source'!B2019,\"\")","v":"81"},{"$f":"IF('Line 1 Source'!C2019<>\"\",'Line 1 Source'!C2019,\"\")","v":"4"},{"$f":"IF('Line 1 Source'!D2019<>\"\",'Line 1 Source'!D2019,\"\")","v":"7950"},{"$f":"IF('Line 1 Source'!E2019<>\"\",'Line 1 Source'!E2019,\"\")","v":"1214"},{"$f":"IF('Line 1 Source'!F2019<>\"\",'Line 1 Source'!F2019,\"\")","v":1936128}]
[{"$f":"IF('Line 1 Source'!A2020<>\"\",'Line 1 Source'!A2020,\"\")","v":"2018"},"8147950",{"$f":"CONCATENATE(VLOOKUP(B2020,'School List'!$B$3:$H$291,6,FALSE),H2020)","v":"79506301"},{"$f":"CONCATENATE(VLOOKUP(B2020,'School List'!$B$3:$D$291,3,FALSE),H2020)","v":"Union County - UNION COUNTY SCHOOL CORPORATION6301"},{"$f":"IF('Line 1 Source'!B2020<>\"\",'Line 1 Source'!B2020,\"\")","v":"81"},{"$f":"IF('Line 1 Source'!C2020<>\"\",'Line 1 Source'!C2020,\"\")","v":"4"},{"$f":"IF('Line 1 Source'!D2020<>\"\",'Line 1 Source'!D2020,\"\")","v":"7950"},{"$f":"IF('Line 1 Source'!E2020<>\"\",'Line 1 Source'!E2020,\"\")","v":"6301"},{"$f":"IF('Line 1 Source'!F2020<>\"\",'Line 1 Source'!F2020,\"\")","v":1100000}]
[{"$f":"IF('Line 1 Source'!A2021<>\"\",'Line 1 Source'!A2021,\"\")","v":"2018"},"8147950",{"$f":"CONCATENATE(VLOOKUP(B2021,'School List'!$B$3:$H$291,6,FALSE),H2021)","v":"79506302"},{"$f":"CONCATENATE(VLOOKUP(B2021,'School List'!$B$3:$D$291,3,FALSE),H2021)","v":"Union County - UNION COUNTY SCHOOL CORPORATION6302"},{"$f":"IF('Line 1 Source'!B2021<>\"\",'Line 1 Source'!B2021,\"\")","v":"81"},{"$f":"IF('Line 1 Source'!C2021<>\"\",'Line 1 Source'!C2021,\"\")","v":"4"},{"$f":"IF('Line 1 Source'!D2021<>\"\",'Line 1 Source'!D2021,\"\")","v":"7950"},{"$f":"IF('Line 1 Source'!E2021<>\"\",'Line 1 Source'!E2021,\"\")","v":"6302"},{"$f":"IF('Line 1 Source'!F2021<>\"\",'Line 1 Source'!F2021,\"\")","v":100000}]
[{"$f":"IF('Line 1 Source'!A2022<>\"\",'Line 1 Source'!A2022,\"\")","v":"2018"},"8247995",{"$f":"CONCATENATE(VLOOKUP(B2022,'School List'!$B$3:$H$291,6,FALSE),H2022)","v":"79950061"},{"$f":"CONCATENATE(VLOOKUP(B2022,'School List'!$B$3:$D$291,3,FALSE),H2022)","v":"Vanderburgh County - EVANSVILLE-VANDERBURGH SCHOOL CORP0061"},{"$f":"IF('Line 1 Source'!B2022<>\"\",'Line 1 Source'!B2022,\"\")","v":"82"},{"$f":"IF('Line 1 Source'!C2022<>\"\",'Line 1 Source'!C2022,\"\")","v":"4"},{"$f":"IF('Line 1 Source'!D2022<>\"\",'Line 1 Source'!D2022,\"\")","v":"7995"},{"$f":"IF('Line 1 Source'!E2022<>\"\",'Line 1 Source'!E2022,\"\")","v":"0061"},{"$f":"IF('Line 1 Source'!F2022<>\"\",'Line 1 Source'!F2022,\"\")","v":6812018}]
[{"$f":"IF('Line 1 Source'!A2023<>\"\",'Line 1 Source'!A2023,\"\")","v":"2018"},"8247995",{"$f":"CONCATENATE(VLOOKUP(B2023,'School List'!$B$3:$H$291,6,FALSE),H2023)","v":"79950101"},{"$f":"CONCATENATE(VLOOKUP(B2023,'School List'!$B$3:$D$291,3,FALSE),H2023)","v":"Vanderburgh County - EVANSVILLE-VANDERBURGH SCHOOL CORP0101"},{"$f":"IF('Line 1 Source'!B2023<>\"\",'Line 1 Source'!B2023,\"\")","v":"82"},{"$f":"IF('Line 1 Source'!C2023<>\"\",'Line 1 Source'!C2023,\"\")","v":"4"},{"$f":"IF('Line 1 Source'!D2023<>\"\",'Line 1 Source'!D2023,\"\")","v":"7995"},{"$f":"IF('Line 1 Source'!E2023<>\"\",'Line 1 Source'!E2023,\"\")","v":"0101"},{"$f":"IF('Line 1 Source'!F2023<>\"\",'Line 1 Source'!F2023,\"\")","v":163922358}]
[{"$f":"IF('Line 1 Source'!A2024<>\"\",'Line 1 Source'!A2024,\"\")","v":"2018"},"8247995",{"$f":"CONCATENATE(VLOOKUP(B2024,'School List'!$B$3:$H$291,6,FALSE),H2024)","v":"79950180"},{"$f":"CONCATENATE(VLOOKUP(B2024,'School List'!$B$3:$D$291,3,FALSE),H2024)","v":"Vanderburgh County - EVANSVILLE-VANDERBURGH SCHOOL CORP0180"},{"$f":"IF('Line 1 Source'!B2024<>\"\",'Line 1 Source'!B2024,\"\")","v":"82"},{"$f":"IF('Line 1 Source'!C2024<>\"\",'Line 1 Source'!C2024,\"\")","v":"4"},{"$f":"IF('Line 1 Source'!D2024<>\"\",'Line 1 Source'!D2024,\"\")","v":"7995"},{"$f":"IF('Line 1 Source'!E2024<>\"\",'Line 1 Source'!E2024,\"\")","v":"0180"},{"$f":"IF('Line 1 Source'!F2024<>\"\",'Line 1 Source'!F2024,\"\")","v":12645498}]
[{"$f":"IF('Line 1 Source'!A2025<>\"\",'Line 1 Source'!A2025,\"\")","v":"2018"},"8247995",{"$f":"CONCATENATE(VLOOKUP(B2025,'School List'!$B$3:$H$291,6,FALSE),H2025)","v":"79950187"},{"$f":"CONCATENATE(VLOOKUP(B2025,'School List'!$B$3:$D$291,3,FALSE),H2025)","v":"Vanderburgh County - EVANSVILLE-VANDERBURGH SCHOOL CORP0187"},{"$f":"IF('Line 1 Source'!B2025<>\"\",'Line 1 Source'!B2025,\"\")","v":"82"},{"$f":"IF('Line 1 Source'!C2025<>\"\",'Line 1 Source'!C2025,\"\")","v":"4"},{"$f":"IF('Line 1 Source'!D2025<>\"\",'Line 1 Source'!D2025,\"\")","v":"7995"},{"$f":"IF('Line 1 Source'!E2025<>\"\",'Line 1 Source'!E2025,\"\")","v":"0187"},{"$f":"IF('Line 1 Source'!F2025<>\"\",'Line 1 Source'!F2025,\"\")","v":12451000}]
[{"$f":"IF('Line 1 Source'!A2026<>\"\",'Line 1 Source'!A2026,\"\")","v":"2018"},"8247995",{"$f":"CONCATENATE(VLOOKUP(B2026,'School List'!$B$3:$H$291,6,FALSE),H2026)","v":"79950608"},{"$f":"CONCATENATE(VLOOKUP(B2026,'School List'!$B$3:$D$291,3,FALSE),H2026)","v":"Vanderburgh County - EVANSVILLE-VANDERBURGH SCHOOL CORP0608"},{"$f":"IF('Line 1 Source'!B2026<>\"\",'Line 1 Source'!B2026,\"\")","v":"82"},{"$f":"IF('Line 1 Source'!C2026<>\"\",'Line 1 Source'!C2026,\"\")","v":"4"},{"$f":"IF('Line 1 Source'!D2026<>\"\",'Line 1 Source'!D2026,\"\")","v":"7995"},{"$f":"IF('Line 1 Source'!E2026<>\"\",'Line 1 Source'!E2026,\"\")","v":"0608"},{"$f":"IF('Line 1 Source'!F2026<>\"\",'Line 1 Source'!F2026,\"\")","v":318243}]
[{"$f":"IF('Line 1 Source'!A2027<>\"\",'Line 1 Source'!A2027,\"\")","v":"2018"},"8247995",{"$f":"CONCATENATE(VLOOKUP(B2027,'School List'!$B$3:$H$291,6,FALSE),H2027)","v":"79951214"},{"$f":"CONCATENATE(VLOOKUP(B2027,'School List'!$B$3:$D$291,3,FALSE),H2027)","v":"Vanderburgh County - EVANSVILLE-VANDERBURGH SCHOOL CORP1214"},{"$f":"IF('Line 1 Source'!B2027<>\"\",'Line 1 Source'!B2027,\"\")","v":"82"},{"$f":"IF('Line 1 Source'!C2027<>\"\",'Line 1 Source'!C2027,\"\")","v":"4"},{"$f":"IF('Line 1 Source'!D2027<>\"\",'Line 1 Source'!D2027,\"\")","v":"7995"},{"$f":"IF('Line 1 Source'!E2027<>\"\",'Line 1 Source'!E2027,\"\")","v":"1214"},{"$f":"IF('Line 1 Source'!F2027<>\"\",'Line 1 Source'!F2027,\"\")","v":28652732}]
[{"$f":"IF('Line 1 Source'!A2028<>\"\",'Line 1 Source'!A2028,\"\")","v":"2018"},"8247995",{"$f":"CONCATENATE(VLOOKUP(B2028,'School List'!$B$3:$H$291,6,FALSE),H2028)","v":"79952016"},{"$f":"CONCATENATE(VLOOKUP(B2028,'School List'!$B$3:$D$291,3,FALSE),H2028)","v":"Vanderburgh County - EVANSVILLE-VANDERBURGH SCHOOL CORP2016"},{"$f":"IF('Line 1 Source'!B2028<>\"\",'Line 1 Source'!B2028,\"\")","v":"82"},{"$f":"IF('Line 1 Source'!C2028<>\"\",'Line 1 Source'!C2028,\"\")","v":"4"},{"$f":"IF('Line 1 Source'!D2028<>\"\",'Line 1 Source'!D2028,\"\")","v":"7995"},{"$f":"IF('Line 1 Source'!E2028<>\"\",'Line 1 Source'!E2028,\"\")","v":"2016"},{"$f":"IF('Line 1 Source'!F2028<>\"\",'Line 1 Source'!F2028,\"\")","v":329632}]
[{"$f":"IF('Line 1 Source'!A2029<>\"\",'Line 1 Source'!A2029,\"\")","v":"2018"},"8247995",{"$f":"CONCATENATE(VLOOKUP(B2029,'School List'!$B$3:$H$291,6,FALSE),H2029)","v":"79956301"},{"$f":"CONCATENATE(VLOOKUP(B2029,'School List'!$B$3:$D$291,3,FALSE),H2029)","v":"Vanderburgh County - EVANSVILLE-VANDERBURGH SCHOOL CORP6301"},{"$f":"IF('Line 1 Source'!B2029<>\"\",'Line 1 Source'!B2029,\"\")","v":"82"},{"$f":"IF('Line 1 Source'!C2029<>\"\",'Line 1 Source'!C2029,\"\")","v":"4"},{"$f":"IF('Line 1 Source'!D2029<>\"\",'Line 1 Source'!D2029,\"\")","v":"7995"},{"$f":"IF('Line 1 Source'!E2029<>\"\",'Line 1 Source'!E2029,\"\")","v":"6301"},{"$f":"IF('Line 1 Source'!F2029<>\"\",'Line 1 Source'!F2029,\"\")","v":15679916}]
[{"$f":"IF('Line 1 Source'!A2030<>\"\",'Line 1 Source'!A2030,\"\")","v":"2018"},"8247995",{"$f":"CONCATENATE(VLOOKUP(B2030,'School List'!$B$3:$H$291,6,FALSE),H2030)","v":"79956302"},{"$f":"CONCATENATE(VLOOKUP(B2030,'School List'!$B$3:$D$291,3,FALSE),H2030)","v":"Vanderburgh County - EVANSVILLE-VANDERBURGH SCHOOL CORP6302"},{"$f":"IF('Line 1 Source'!B2030<>\"\",'Line 1 Source'!B2030,\"\")","v":"82"},{"$f":"IF('Line 1 Source'!C2030<>\"\",'Line 1 Source'!C2030,\"\")","v":"4"},{"$f":"IF('Line 1 Source'!D2030<>\"\",'Line 1 Source'!D2030,\"\")","v":"7995"},{"$f":"IF('Line 1 Source'!E2030<>\"\",'Line 1 Source'!E2030,\"\")","v":"6302"},{"$f":"IF('Line 1 Source'!F2030<>\"\",'Line 1 Source'!F2030,\"\")","v":3087844}]
[{"$f":"IF('Line 1 Source'!A2031<>\"\",'Line 1 Source'!A2031,\"\")","v":"2018"},"8348010",{"$f":"CONCATENATE(VLOOKUP(B2031,'School List'!$B$3:$H$291,6,FALSE),H2031)","v":"80100061"},{"$f":"CONCATENATE(VLOOKUP(B2031,'School List'!$B$3:$D$291,3,FALSE),H2031)","v":"Vermillion County - NORTH VERMILLION COMMUNITY SCHOOL CORP0061"},{"$f":"IF('Line 1 Source'!B2031<>\"\",'Line 1 Source'!B2031,\"\")","v":"83"},{"$f":"IF('Line 1 Source'!C2031<>\"\",'Line 1 Source'!C2031,\"\")","v":"4"},{"$f":"IF('Line 1 Source'!D2031<>\"\",'Line 1 Source'!D2031,\"\")","v":"8010"},{"$f":"IF('Line 1 Source'!E2031<>\"\",'Line 1 Source'!E2031,\"\")","v":"0061"},{"$f":"IF('Line 1 Source'!F2031<>\"\",'Line 1 Source'!F2031,\"\")","v":300000}]
[{"$f":"IF('Line 1 Source'!A2032<>\"\",'Line 1 Source'!A2032,\"\")","v":"2018"},"8348010",{"$f":"CONCATENATE(VLOOKUP(B2032,'School List'!$B$3:$H$291,6,FALSE),H2032)","v":"80100101"},{"$f":"CONCATENATE(VLOOKUP(B2032,'School List'!$B$3:$D$291,3,FALSE),H2032)","v":"Vermillion County - NORTH VERMILLION COMMUNITY SCHOOL CORP0101"},{"$f":"IF('Line 1 Source'!B2032<>\"\",'Line 1 Source'!B2032,\"\")","v":"83"},{"$f":"IF('Line 1 Source'!C2032<>\"\",'Line 1 Source'!C2032,\"\")","v":"4"},{"$f":"IF('Line 1 Source'!D2032<>\"\",'Line 1 Source'!D2032,\"\")","v":"8010"},{"$f":"IF('Line 1 Source'!E2032<>\"\",'Line 1 Source'!E2032,\"\")","v":"0101"},{"$f":"IF('Line 1 Source'!F2032<>\"\",'Line 1 Source'!F2032,\"\")","v":5189000}]
[{"$f":"IF('Line 1 Source'!A2033<>\"\",'Line 1 Source'!A2033,\"\")","v":"2018"},"8348010",{"$f":"CONCATENATE(VLOOKUP(B2033,'School List'!$B$3:$H$291,6,FALSE),H2033)","v":"80100180"},{"$f":"CONCATENATE(VLOOKUP(B2033,'School List'!$B$3:$D$291,3,FALSE),H2033)","v":"Vermillion County - NORTH VERMILLION COMMUNITY SCHOOL CORP0180"},{"$f":"IF('Line 1 Source'!B2033<>\"\",'Line 1 Source'!B2033,\"\")","v":"83"},{"$f":"IF('Line 1 Source'!C2033<>\"\",'Line 1 Source'!C2033,\"\")","v":"4"},{"$f":"IF('Line 1 Source'!D2033<>\"\",'Line 1 Source'!D2033,\"\")","v":"8010"},{"$f":"IF('Line 1 Source'!E2033<>\"\",'Line 1 Source'!E2033,\"\")","v":"0180"},{"$f":"IF('Line 1 Source'!F2033<>\"\",'Line 1 Source'!F2033,\"\")","v":1414378}]
[{"$f":"IF('Line 1 Source'!A2034<>\"\",'Line 1 Source'!A2034,\"\")","v":"2018"},"8348010",{"$f":"CONCATENATE(VLOOKUP(B2034,'School List'!$B$3:$H$291,6,FALSE),H2034)","v":"80101214"},{"$f":"CONCATENATE(VLOOKUP(B2034,'School List'!$B$3:$D$291,3,FALSE),H2034)","v":"Vermillion County - NORTH VERMILLION COMMUNITY SCHOOL CORP1214"},{"$f":"IF('Line 1 Source'!B2034<>\"\",'Line 1 Source'!B2034,\"\")","v":"83"},{"$f":"IF('Line 1 Source'!C2034<>\"\",'Line 1 Source'!C2034,\"\")","v":"4"},{"$f":"IF('Line 1 Source'!D2034<>\"\",'Line 1 Source'!D2034,\"\")","v":"8010"},{"$f":"IF('Line 1 Source'!E2034<>\"\",'Line 1 Source'!E2034,\"\")","v":"1214"},{"$f":"IF('Line 1 Source'!F2034<>\"\",'Line 1 Source'!F2034,\"\")","v":1072962}]
[{"$f":"IF('Line 1 Source'!A2035<>\"\",'Line 1 Source'!A2035,\"\")","v":"2018"},"8348010",{"$f":"CONCATENATE(VLOOKUP(B2035,'School List'!$B$3:$H$291,6,FALSE),H2035)","v":"80106301"},{"$f":"CONCATENATE(VLOOKUP(B2035,'School List'!$B$3:$D$291,3,FALSE),H2035)","v":"Vermillion County - NORTH VERMILLION COMMUNITY SCHOOL CORP6301"},{"$f":"IF('Line 1 Source'!B2035<>\"\",'Line 1 Source'!B2035,\"\")","v":"83"},{"$f":"IF('Line 1 Source'!C2035<>\"\",'Line 1 Source'!C2035,\"\")","v":"4"},{"$f":"IF('Line 1 Source'!D2035<>\"\",'Line 1 Source'!D2035,\"\")","v":"8010"},{"$f":"IF('Line 1 Source'!E2035<>\"\",'Line 1 Source'!E2035,\"\")","v":"6301"},{"$f":"IF('Line 1 Source'!F2035<>\"\",'Line 1 Source'!F2035,\"\")","v":783850}]
[{"$f":"IF('Line 1 Source'!A2036<>\"\",'Line 1 Source'!A2036,\"\")","v":"2018"},"8348010",{"$f":"CONCATENATE(VLOOKUP(B2036,'School List'!$B$3:$H$291,6,FALSE),H2036)","v":"80106302"},{"$f":"CONCATENATE(VLOOKUP(B2036,'School List'!$B$3:$D$291,3,FALSE),H2036)","v":"Vermillion County - NORTH VERMILLION COMMUNITY SCHOOL CORP6302"},{"$f":"IF('Line 1 Source'!B2036<>\"\",'Line 1 Source'!B2036,\"\")","v":"83"},{"$f":"IF('Line 1 Source'!C2036<>\"\",'Line 1 Source'!C2036,\"\")","v":"4"},{"$f":"IF('Line 1 Source'!D2036<>\"\",'Line 1 Source'!D2036,\"\")","v":"8010"},{"$f":"IF('Line 1 Source'!E2036<>\"\",'Line 1 Source'!E2036,\"\")","v":"6302"},{"$f":"IF('Line 1 Source'!F2036<>\"\",'Line 1 Source'!F2036,\"\")","v":76382}]
[{"$f":"IF('Line 1 Source'!A2037<>\"\",'Line 1 Source'!A2037,\"\")","v":"2018"},"8348020",{"$f":"CONCATENATE(VLOOKUP(B2037,'School List'!$B$3:$H$291,6,FALSE),H2037)","v":"80200101"},{"$f":"CONCATENATE(VLOOKUP(B2037,'School List'!$B$3:$D$291,3,FALSE),H2037)","v":"Vermillion County - SOUTH VERMILLION COMMUNITY SCHOOL CORP0101"},{"$f":"IF('Line 1 Source'!B2037<>\"\",'Line 1 Source'!B2037,\"\")","v":"83"},{"$f":"IF('Line 1 Source'!C2037<>\"\",'Line 1 Source'!C2037,\"\")","v":"4"},{"$f":"IF('Line 1 Source'!D2037<>\"\",'Line 1 Source'!D2037,\"\")","v":"8020"},{"$f":"IF('Line 1 Source'!E2037<>\"\",'Line 1 Source'!E2037,\"\")","v":"0101"},{"$f":"IF('Line 1 Source'!F2037<>\"\",'Line 1 Source'!F2037,\"\")","v":12060000}]
[{"$f":"IF('Line 1 Source'!A2038<>\"\",'Line 1 Source'!A2038,\"\")","v":"2018"},"8348020",{"$f":"CONCATENATE(VLOOKUP(B2038,'School List'!$B$3:$H$291,6,FALSE),H2038)","v":"80200180"},{"$f":"CONCATENATE(VLOOKUP(B2038,'School List'!$B$3:$D$291,3,FALSE),H2038)","v":"Vermillion County - SOUTH VERMILLION COMMUNITY SCHOOL CORP0180"},{"$f":"IF('Line 1 Source'!B2038<>\"\",'Line 1 Source'!B2038,\"\")","v":"83"},{"$f":"IF('Line 1 Source'!C2038<>\"\",'Line 1 Source'!C2038,\"\")","v":"4"},{"$f":"IF('Line 1 Source'!D2038<>\"\",'Line 1 Source'!D2038,\"\")","v":"8020"},{"$f":"IF('Line 1 Source'!E2038<>\"\",'Line 1 Source'!E2038,\"\")","v":"0180"},{"$f":"IF('Line 1 Source'!F2038<>\"\",'Line 1 Source'!F2038,\"\")","v":1474501}]
[{"$f":"IF('Line 1 Source'!A2039<>\"\",'Line 1 Source'!A2039,\"\")","v":"2018"},"8348020",{"$f":"CONCATENATE(VLOOKUP(B2039,'School List'!$B$3:$H$291,6,FALSE),H2039)","v":"80201214"},{"$f":"CONCATENATE(VLOOKUP(B2039,'School List'!$B$3:$D$291,3,FALSE),H2039)","v":"Vermillion County - SOUTH VERMILLION COMMUNITY SCHOOL CORP1214"},{"$f":"IF('Line 1 Source'!B2039<>\"\",'Line 1 Source'!B2039,\"\")","v":"83"},{"$f":"IF('Line 1 Source'!C2039<>\"\",'Line 1 Source'!C2039,\"\")","v":"4"},{"$f":"IF('Line 1 Source'!D2039<>\"\",'Line 1 Source'!D2039,\"\")","v":"8020"},{"$f":"IF('Line 1 Source'!E2039<>\"\",'Line 1 Source'!E2039,\"\")","v":"1214"},{"$f":"IF('Line 1 Source'!F2039<>\"\",'Line 1 Source'!F2039,\"\")","v":2070381}]
[{"$f":"IF('Line 1 Source'!A2040<>\"\",'Line 1 Source'!A2040,\"\")","v":"2018"},"8348020",{"$f":"CONCATENATE(VLOOKUP(B2040,'School List'!$B$3:$H$291,6,FALSE),H2040)","v":"80206301"},{"$f":"CONCATENATE(VLOOKUP(B2040,'School List'!$B$3:$D$291,3,FALSE),H2040)","v":"Vermillion County - SOUTH VERMILLION COMMUNITY SCHOOL CORP6301"},{"$f":"IF('Line 1 Source'!B2040<>\"\",'Line 1 Source'!B2040,\"\")","v":"83"},{"$f":"IF('Line 1 Source'!C2040<>\"\",'Line 1 Source'!C2040,\"\")","v":"4"},{"$f":"IF('Line 1 Source'!D2040<>\"\",'Line 1 Source'!D2040,\"\")","v":"8020"},{"$f":"IF('Line 1 Source'!E2040<>\"\",'Line 1 Source'!E2040,\"\")","v":"6301"},{"$f":"IF('Line 1 Source'!F2040<>\"\",'Line 1 Source'!F2040,\"\")","v":864000}]
[{"$f":"IF('Line 1 Source'!A2041<>\"\",'Line 1 Source'!A2041,\"\")","v":"2018"},"8348020",{"$f":"CONCATENATE(VLOOKUP(B2041,'School List'!$B$3:$H$291,6,FALSE),H2041)","v":"80206302"},{"$f":"CONCATENATE(VLOOKUP(B2041,'School List'!$B$3:$D$291,3,FALSE),H2041)","v":"Vermillion County - SOUTH VERMILLION COMMUNITY SCHOOL CORP6302"},{"$f":"IF('Line 1 Source'!B2041<>\"\",'Line 1 Source'!B2041,\"\")","v":"83"},{"$f":"IF('Line 1 Source'!C2041<>\"\",'Line 1 Source'!C2041,\"\")","v":"4"},{"$f":"IF('Line 1 Source'!D2041<>\"\",'Line 1 Source'!D2041,\"\")","v":"8020"},{"$f":"IF('Line 1 Source'!E2041<>\"\",'Line 1 Source'!E2041,\"\")","v":"6302"},{"$f":"IF('Line 1 Source'!F2041<>\"\",'Line 1 Source'!F2041,\"\")","v":150000}]
[{"$f":"IF('Line 1 Source'!A2042<>\"\",'Line 1 Source'!A2042,\"\")","v":"2018"},"8448030",{"$f":"CONCATENATE(VLOOKUP(B2042,'School List'!$B$3:$H$291,6,FALSE),H2042)","v":"80300101"},{"$f":"CONCATENATE(VLOOKUP(B2042,'School List'!$B$3:$D$291,3,FALSE),H2042)","v":"Vigo County - VIGO COUNTY SCHOOL CORPORATION0101"},{"$f":"IF('Line 1 Source'!B2042<>\"\",'Line 1 Source'!B2042,\"\")","v":"84"},{"$f":"IF('Line 1 Source'!C2042<>\"\",'Line 1 Source'!C2042,\"\")","v":"4"},{"$f":"IF('Line 1 Source'!D2042<>\"\",'Line 1 Source'!D2042,\"\")","v":"8030"},{"$f":"IF('Line 1 Source'!E2042<>\"\",'Line 1 Source'!E2042,\"\")","v":"0101"},{"$f":"IF('Line 1 Source'!F2042<>\"\",'Line 1 Source'!F2042,\"\")","v":114000000}]
[{"$f":"IF('Line 1 Source'!A2043<>\"\",'Line 1 Source'!A2043,\"\")","v":"2018"},"8448030",{"$f":"CONCATENATE(VLOOKUP(B2043,'School List'!$B$3:$H$291,6,FALSE),H2043)","v":"80300180"},{"$f":"CONCATENATE(VLOOKUP(B2043,'School List'!$B$3:$D$291,3,FALSE),H2043)","v":"Vigo County - VIGO COUNTY SCHOOL CORPORATION0180"},{"$f":"IF('Line 1 Source'!B2043<>\"\",'Line 1 Source'!B2043,\"\")","v":"84"},{"$f":"IF('Line 1 Source'!C2043<>\"\",'Line 1 Source'!C2043,\"\")","v":"4"},{"$f":"IF('Line 1 Source'!D2043<>\"\",'Line 1 Source'!D2043,\"\")","v":"8030"},{"$f":"IF('Line 1 Source'!E2043<>\"\",'Line 1 Source'!E2043,\"\")","v":"0180"},{"$f":"IF('Line 1 Source'!F2043<>\"\",'Line 1 Source'!F2043,\"\")","v":8367821}]
[{"$f":"IF('Line 1 Source'!A2044<>\"\",'Line 1 Source'!A2044,\"\")","v":"2018"},"8448030",{"$f":"CONCATENATE(VLOOKUP(B2044,'School List'!$B$3:$H$291,6,FALSE),H2044)","v":"80301214"},{"$f":"CONCATENATE(VLOOKUP(B2044,'School List'!$B$3:$D$291,3,FALSE),H2044)","v":"Vigo County - VIGO COUNTY SCHOOL CORPORATION1214"},{"$f":"IF('Line 1 Source'!B2044<>\"\",'Line 1 Source'!B2044,\"\")","v":"84"},{"$f":"IF('Line 1 Source'!C2044<>\"\",'Line 1 Source'!C2044,\"\")","v":"4"},{"$f":"IF('Line 1 Source'!D2044<>\"\",'Line 1 Source'!D2044,\"\")","v":"8030"},{"$f":"IF('Line 1 Source'!E2044<>\"\",'Line 1 Source'!E2044,\"\")","v":"1214"},{"$f":"IF('Line 1 Source'!F2044<>\"\",'Line 1 Source'!F2044,\"\")","v":17100879}]
[{"$f":"IF('Line 1 Source'!A2045<>\"\",'Line 1 Source'!A2045,\"\")","v":"2018"},"8448030",{"$f":"CONCATENATE(VLOOKUP(B2045,'School List'!$B$3:$H$291,6,FALSE),H2045)","v":"80306301"},{"$f":"CONCATENATE(VLOOKUP(B2045,'School List'!$B$3:$D$291,3,FALSE),H2045)","v":"Vigo County - VIGO COUNTY SCHOOL CORPORATION6301"},{"$f":"IF('Line 1 Source'!B2045<>\"\",'Line 1 Source'!B2045,\"\")","v":"84"},{"$f":"IF('Line 1 Source'!C2045<>\"\",'Line 1 Source'!C2045,\"\")","v":"4"},{"$f":"IF('Line 1 Source'!D2045<>\"\",'Line 1 Source'!D2045,\"\")","v":"8030"},{"$f":"IF('Line 1 Source'!E2045<>\"\",'Line 1 Source'!E2045,\"\")","v":"6301"},{"$f":"IF('Line 1 Source'!F2045<>\"\",'Line 1 Source'!F2045,\"\")","v":6170298}]
[{"$f":"IF('Line 1 Source'!A2046<>\"\",'Line 1 Source'!A2046,\"\")","v":"2018"},"8448030",{"$f":"CONCATENATE(VLOOKUP(B2046,'School List'!$B$3:$H$291,6,FALSE),H2046)","v":"80306302"},{"$f":"CONCATENATE(VLOOKUP(B2046,'School List'!$B$3:$D$291,3,FALSE),H2046)","v":"Vigo County - VIGO COUNTY SCHOOL CORPORATION6302"},{"$f":"IF('Line 1 Source'!B2046<>\"\",'Line 1 Source'!B2046,\"\")","v":"84"},{"$f":"IF('Line 1 Source'!C2046<>\"\",'Line 1 Source'!C2046,\"\")","v":"4"},{"$f":"IF('Line 1 Source'!D2046<>\"\",'Line 1 Source'!D2046,\"\")","v":"8030"},{"$f":"IF('Line 1 Source'!E2046<>\"\",'Line 1 Source'!E2046,\"\")","v":"6302"},{"$f":"IF('Line 1 Source'!F2046<>\"\",'Line 1 Source'!F2046,\"\")","v":2090281}]
[{"$f":"IF('Line 1 Source'!A2047<>\"\",'Line 1 Source'!A2047,\"\")","v":"2018"},"8548045",{"$f":"CONCATENATE(VLOOKUP(B2047,'School List'!$B$3:$H$291,6,FALSE),H2047)","v":"80450101"},{"$f":"CONCATENATE(VLOOKUP(B2047,'School List'!$B$3:$D$291,3,FALSE),H2047)","v":"Wabash County - MANCHESTER COMMUNITY SCHOOL CORPORATION0101"},{"$f":"IF('Line 1 Source'!B2047<>\"\",'Line 1 Source'!B2047,\"\")","v":"85"},{"$f":"IF('Line 1 Source'!C2047<>\"\",'Line 1 Source'!C2047,\"\")","v":"4"},{"$f":"IF('Line 1 Source'!D2047<>\"\",'Line 1 Source'!D2047,\"\")","v":"8045"},{"$f":"IF('Line 1 Source'!E2047<>\"\",'Line 1 Source'!E2047,\"\")","v":"0101"},{"$f":"IF('Line 1 Source'!F2047<>\"\",'Line 1 Source'!F2047,\"\")","v":10395709}]
[{"$f":"IF('Line 1 Source'!A2048<>\"\",'Line 1 Source'!A2048,\"\")","v":"2018"},"8548045",{"$f":"CONCATENATE(VLOOKUP(B2048,'School List'!$B$3:$H$291,6,FALSE),H2048)","v":"80450180"},{"$f":"CONCATENATE(VLOOKUP(B2048,'School List'!$B$3:$D$291,3,FALSE),H2048)","v":"Wabash County - MANCHESTER COMMUNITY SCHOOL CORPORATION0180"},{"$f":"IF('Line 1 Source'!B2048<>\"\",'Line 1 Source'!B2048,\"\")","v":"85"},{"$f":"IF('Line 1 Source'!C2048<>\"\",'Line 1 Source'!C2048,\"\")","v":"4"},{"$f":"IF('Line 1 Source'!D2048<>\"\",'Line 1 Source'!D2048,\"\")","v":"8045"},{"$f":"IF('Line 1 Source'!E2048<>\"\",'Line 1 Source'!E2048,\"\")","v":"0180"},{"$f":"IF('Line 1 Source'!F2048<>\"\",'Line 1 Source'!F2048,\"\")","v":1388199}]
[{"$f":"IF('Line 1 Source'!A2049<>\"\",'Line 1 Source'!A2049,\"\")","v":"2018"},"8548045",{"$f":"CONCATENATE(VLOOKUP(B2049,'School List'!$B$3:$H$291,6,FALSE),H2049)","v":"80450186"},{"$f":"CONCATENATE(VLOOKUP(B2049,'School List'!$B$3:$D$291,3,FALSE),H2049)","v":"Wabash County - MANCHESTER COMMUNITY SCHOOL CORPORATION0186"},{"$f":"IF('Line 1 Source'!B2049<>\"\",'Line 1 Source'!B2049,\"\")","v":"85"},{"$f":"IF('Line 1 Source'!C2049<>\"\",'Line 1 Source'!C2049,\"\")","v":"4"},{"$f":"IF('Line 1 Source'!D2049<>\"\",'Line 1 Source'!D2049,\"\")","v":"8045"},{"$f":"IF('Line 1 Source'!E2049<>\"\",'Line 1 Source'!E2049,\"\")","v":"0186"},{"$f":"IF('Line 1 Source'!F2049<>\"\",'Line 1 Source'!F2049,\"\")","v":215897}]
[{"$f":"IF('Line 1 Source'!A2050<>\"\",'Line 1 Source'!A2050,\"\")","v":"2018"},"8548045",{"$f":"CONCATENATE(VLOOKUP(B2050,'School List'!$B$3:$H$291,6,FALSE),H2050)","v":"80451214"},{"$f":"CONCATENATE(VLOOKUP(B2050,'School List'!$B$3:$D$291,3,FALSE),H2050)","v":"Wabash County - MANCHESTER COMMUNITY SCHOOL CORPORATION1214"},{"$f":"IF('Line 1 Source'!B2050<>\"\",'Line 1 Source'!B2050,\"\")","v":"85"},{"$f":"IF('Line 1 Source'!C2050<>\"\",'Line 1 Source'!C2050,\"\")","v":"4"},{"$f":"IF('Line 1 Source'!D2050<>\"\",'Line 1 Source'!D2050,\"\")","v":"8045"},{"$f":"IF('Line 1 Source'!E2050<>\"\",'Line 1 Source'!E2050,\"\")","v":"1214"},{"$f":"IF('Line 1 Source'!F2050<>\"\",'Line 1 Source'!F2050,\"\")","v":1692308}]
[{"$f":"IF('Line 1 Source'!A2051<>\"\",'Line 1 Source'!A2051,\"\")","v":"2018"},{"$f":"CONCATENATE(E2051,F2051,G2051)","v":"8548045"},{"$f":"CONCATENATE(VLOOKUP(B2051,'School List'!$B$3:$H$291,6,FALSE),H2051)","v":"80456301"},{"$f":"CONCATENATE(VLOOKUP(B2051,'School List'!$B$3:$D$291,3,FALSE),H2051)","v":"Wabash County - MANCHESTER COMMUNITY SCHOOL CORPORATION6301"},{"$f":"IF('Line 1 Source'!B2051<>\"\",'Line 1 Source'!B2051,\"\")","v":"85"},{"$f":"IF('Line 1 Source'!C2051<>\"\",'Line 1 Source'!C2051,\"\")","v":"4"},{"$f":"IF('Line 1 Source'!D2051<>\"\",'Line 1 Source'!D2051,\"\")","v":"8045"},{"$f":"IF('Line 1 Source'!E2051<>\"\",'Line 1 Source'!E2051,\"\")","v":"6301"},{"$f":"IF('Line 1 Source'!F2051<>\"\",'Line 1 Source'!F2051,\"\")","v":844340}]
[{"$f":"IF('Line 1 Source'!A2052<>\"\",'Line 1 Source'!A2052,\"\")","v":"2018"},"8548045",{"$f":"CONCATENATE(VLOOKUP(B2052,'School List'!$B$3:$H$291,6,FALSE),H2052)","v":"80456302"},{"$f":"CONCATENATE(VLOOKUP(B2052,'School List'!$B$3:$D$291,3,FALSE),H2052)","v":"Wabash County - MANCHESTER COMMUNITY SCHOOL CORPORATION6302"},{"$f":"IF('Line 1 Source'!B2052<>\"\",'Line 1 Source'!B2052,\"\")","v":"85"},{"$f":"IF('Line 1 Source'!C2052<>\"\",'Line 1 Source'!C2052,\"\")","v":"4"},{"$f":"IF('Line 1 Source'!D2052<>\"\",'Line 1 Source'!D2052,\"\")","v":"8045"},{"$f":"IF('Line 1 Source'!E2052<>\"\",'Line 1 Source'!E2052,\"\")","v":"6302"},{"$f":"IF('Line 1 Source'!F2052<>\"\",'Line 1 Source'!F2052,\"\")","v":55769}]
[{"$f":"IF('Line 1 Source'!A2053<>\"\",'Line 1 Source'!A2053,\"\")","v":"2018"},"8548050",{"$f":"CONCATENATE(VLOOKUP(B2053,'School List'!$B$3:$H$291,6,FALSE),H2053)","v":"80500061"},{"$f":"CONCATENATE(VLOOKUP(B2053,'School List'!$B$3:$D$291,3,FALSE),H2053)","v":"Wabash County - M.S.D. WABASH COUNTY SCHOOL CORPORATION0061"},{"$f":"IF('Line 1 Source'!B2053<>\"\",'Line 1 Source'!B2053,\"\")","v":"85"},{"$f":"IF('Line 1 Source'!C2053<>\"\",'Line 1 Source'!C2053,\"\")","v":"4"},{"$f":"IF('Line 1 Source'!D2053<>\"\",'Line 1 Source'!D2053,\"\")","v":"8050"},{"$f":"IF('Line 1 Source'!E2053<>\"\",'Line 1 Source'!E2053,\"\")","v":"0061"},{"$f":"IF('Line 1 Source'!F2053<>\"\",'Line 1 Source'!F2053,\"\")","v":730000}]
[{"$f":"IF('Line 1 Source'!A2054<>\"\",'Line 1 Source'!A2054,\"\")","v":"2018"},"8548050",{"$f":"CONCATENATE(VLOOKUP(B2054,'School List'!$B$3:$H$291,6,FALSE),H2054)","v":"80500101"},{"$f":"CONCATENATE(VLOOKUP(B2054,'School List'!$B$3:$D$291,3,FALSE),H2054)","v":"Wabash County - M.S.D. WABASH COUNTY SCHOOL CORPORATION0101"},{"$f":"IF('Line 1 Source'!B2054<>\"\",'Line 1 Source'!B2054,\"\")","v":"85"},{"$f":"IF('Line 1 Source'!C2054<>\"\",'Line 1 Source'!C2054,\"\")","v":"4"},{"$f":"IF('Line 1 Source'!D2054<>\"\",'Line 1 Source'!D2054,\"\")","v":"8050"},{"$f":"IF('Line 1 Source'!E2054<>\"\",'Line 1 Source'!E2054,\"\")","v":"0101"},{"$f":"IF('Line 1 Source'!F2054<>\"\",'Line 1 Source'!F2054,\"\")","v":15087726}]
[{"$f":"IF('Line 1 Source'!A2055<>\"\",'Line 1 Source'!A2055,\"\")","v":"2018"},"8548050",{"$f":"CONCATENATE(VLOOKUP(B2055,'School List'!$B$3:$H$291,6,FALSE),H2055)","v":"80500180"},{"$f":"CONCATENATE(VLOOKUP(B2055,'School List'!$B$3:$D$291,3,FALSE),H2055)","v":"Wabash County - M.S.D. WABASH COUNTY SCHOOL CORPORATION0180"},{"$f":"IF('Line 1 Source'!B2055<>\"\",'Line 1 Source'!B2055,\"\")","v":"85"},{"$f":"IF('Line 1 Source'!C2055<>\"\",'Line 1 Source'!C2055,\"\")","v":"4"},{"$f":"IF('Line 1 Source'!D2055<>\"\",'Line 1 Source'!D2055,\"\")","v":"8050"},{"$f":"IF('Line 1 Source'!E2055<>\"\",'Line 1 Source'!E2055,\"\")","v":"0180"},{"$f":"IF('Line 1 Source'!F2055<>\"\",'Line 1 Source'!F2055,\"\")","v":2660093}]
[{"$f":"IF('Line 1 Source'!A2056<>\"\",'Line 1 Source'!A2056,\"\")","v":"2018"},"8548050",{"$f":"CONCATENATE(VLOOKUP(B2056,'School List'!$B$3:$H$291,6,FALSE),H2056)","v":"80500186"},{"$f":"CONCATENATE(VLOOKUP(B2056,'School List'!$B$3:$D$291,3,FALSE),H2056)","v":"Wabash County - M.S.D. WABASH COUNTY SCHOOL CORPORATION0186"},{"$f":"IF('Line 1 Source'!B2056<>\"\",'Line 1 Source'!B2056,\"\")","v":"85"},{"$f":"IF('Line 1 Source'!C2056<>\"\",'Line 1 Source'!C2056,\"\")","v":"4"},{"$f":"IF('Line 1 Source'!D2056<>\"\",'Line 1 Source'!D2056,\"\")","v":"8050"},{"$f":"IF('Line 1 Source'!E2056<>\"\",'Line 1 Source'!E2056,\"\")","v":"0186"},{"$f":"IF('Line 1 Source'!F2056<>\"\",'Line 1 Source'!F2056,\"\")","v":202068}]
[{"$f":"IF('Line 1 Source'!A2057<>\"\",'Line 1 Source'!A2057,\"\")","v":"2018"},"8548050",{"$f":"CONCATENATE(VLOOKUP(B2057,'School List'!$B$3:$H$291,6,FALSE),H2057)","v":"80501214"},{"$f":"CONCATENATE(VLOOKUP(B2057,'School List'!$B$3:$D$291,3,FALSE),H2057)","v":"Wabash County - M.S.D. WABASH COUNTY SCHOOL CORPORATION1214"},{"$f":"IF('Line 1 Source'!B2057<>\"\",'Line 1 Source'!B2057,\"\")","v":"85"},{"$f":"IF('Line 1 Source'!C2057<>\"\",'Line 1 Source'!C2057,\"\")","v":"4"},{"$f":"IF('Line 1 Source'!D2057<>\"\",'Line 1 Source'!D2057,\"\")","v":"8050"},{"$f":"IF('Line 1 Source'!E2057<>\"\",'Line 1 Source'!E2057,\"\")","v":"1214"},{"$f":"IF('Line 1 Source'!F2057<>\"\",'Line 1 Source'!F2057,\"\")","v":2132731}]
[{"$f":"IF('Line 1 Source'!A2058<>\"\",'Line 1 Source'!A2058,\"\")","v":"2018"},"8548050",{"$f":"CONCATENATE(VLOOKUP(B2058,'School List'!$B$3:$H$291,6,FALSE),H2058)","v":"80506301"},{"$f":"CONCATENATE(VLOOKUP(B2058,'School List'!$B$3:$D$291,3,FALSE),H2058)","v":"Wabash County - M.S.D. WABASH COUNTY SCHOOL CORPORATION6301"},{"$f":"IF('Line 1 Source'!B2058<>\"\",'Line 1 Source'!B2058,\"\")","v":"85"},{"$f":"IF('Line 1 Source'!C2058<>\"\",'Line 1 Source'!C2058,\"\")","v":"4"},{"$f":"IF('Line 1 Source'!D2058<>\"\",'Line 1 Source'!D2058,\"\")","v":"8050"},{"$f":"IF('Line 1 Source'!E2058<>\"\",'Line 1 Source'!E2058,\"\")","v":"6301"},{"$f":"IF('Line 1 Source'!F2058<>\"\",'Line 1 Source'!F2058,\"\")","v":1463871}]
[{"$f":"IF('Line 1 Source'!A2059<>\"\",'Line 1 Source'!A2059,\"\")","v":"2018"},"8548050",{"$f":"CONCATENATE(VLOOKUP(B2059,'School List'!$B$3:$H$291,6,FALSE),H2059)","v":"80506302"},{"$f":"CONCATENATE(VLOOKUP(B2059,'School List'!$B$3:$D$291,3,FALSE),H2059)","v":"Wabash County - M.S.D. WABASH COUNTY SCHOOL CORPORATION6302"},{"$f":"IF('Line 1 Source'!B2059<>\"\",'Line 1 Source'!B2059,\"\")","v":"85"},{"$f":"IF('Line 1 Source'!C2059<>\"\",'Line 1 Source'!C2059,\"\")","v":"4"},{"$f":"IF('Line 1 Source'!D2059<>\"\",'Line 1 Source'!D2059,\"\")","v":"8050"},{"$f":"IF('Line 1 Source'!E2059<>\"\",'Line 1 Source'!E2059,\"\")","v":"6302"},{"$f":"IF('Line 1 Source'!F2059<>\"\",'Line 1 Source'!F2059,\"\")","v":466445}]
[{"$f":"IF('Line 1 Source'!A2060<>\"\",'Line 1 Source'!A2060,\"\")","v":"2018"},"8548060",{"$f":"CONCATENATE(VLOOKUP(B2060,'School List'!$B$3:$H$291,6,FALSE),H2060)","v":"80600101"},{"$f":"CONCATENATE(VLOOKUP(B2060,'School List'!$B$3:$D$291,3,FALSE),H2060)","v":"Wabash County - WABASH CITY SCHOOL CORPORATION0101"},{"$f":"IF('Line 1 Source'!B2060<>\"\",'Line 1 Source'!B2060,\"\")","v":"85"},{"$f":"IF('Line 1 Source'!C2060<>\"\",'Line 1 Source'!C2060,\"\")","v":"4"},{"$f":"IF('Line 1 Source'!D2060<>\"\",'Line 1 Source'!D2060,\"\")","v":"8060"},{"$f":"IF('Line 1 Source'!E2060<>\"\",'Line 1 Source'!E2060,\"\")","v":"0101"},{"$f":"IF('Line 1 Source'!F2060<>\"\",'Line 1 Source'!F2060,\"\")","v":10271600}]
[{"$f":"IF('Line 1 Source'!A2061<>\"\",'Line 1 Source'!A2061,\"\")","v":"2018"},"8548060",{"$f":"CONCATENATE(VLOOKUP(B2061,'School List'!$B$3:$H$291,6,FALSE),H2061)","v":"80600180"},{"$f":"CONCATENATE(VLOOKUP(B2061,'School List'!$B$3:$D$291,3,FALSE),H2061)","v":"Wabash County - WABASH CITY SCHOOL CORPORATION0180"},{"$f":"IF('Line 1 Source'!B2061<>\"\",'Line 1 Source'!B2061,\"\")","v":"85"},{"$f":"IF('Line 1 Source'!C2061<>\"\",'Line 1 Source'!C2061,\"\")","v":"4"},{"$f":"IF('Line 1 Source'!D2061<>\"\",'Line 1 Source'!D2061,\"\")","v":"8060"},{"$f":"IF('Line 1 Source'!E2061<>\"\",'Line 1 Source'!E2061,\"\")","v":"0180"},{"$f":"IF('Line 1 Source'!F2061<>\"\",'Line 1 Source'!F2061,\"\")","v":1514468}]
[{"$f":"IF('Line 1 Source'!A2062<>\"\",'Line 1 Source'!A2062,\"\")","v":"2018"},"8548060",{"$f":"CONCATENATE(VLOOKUP(B2062,'School List'!$B$3:$H$291,6,FALSE),H2062)","v":"80601214"},{"$f":"CONCATENATE(VLOOKUP(B2062,'School List'!$B$3:$D$291,3,FALSE),H2062)","v":"Wabash County - WABASH CITY SCHOOL CORPORATION1214"},{"$f":"IF('Line 1 Source'!B2062<>\"\",'Line 1 Source'!B2062,\"\")","v":"85"},{"$f":"IF('Line 1 Source'!C2062<>\"\",'Line 1 Source'!C2062,\"\")","v":"4"},{"$f":"IF('Line 1 Source'!D2062<>\"\",'Line 1 Source'!D2062,\"\")","v":"8060"},{"$f":"IF('Line 1 Source'!E2062<>\"\",'Line 1 Source'!E2062,\"\")","v":"1214"},{"$f":"IF('Line 1 Source'!F2062<>\"\",'Line 1 Source'!F2062,\"\")","v":1032865}]
[{"$f":"IF('Line 1 Source'!A2063<>\"\",'Line 1 Source'!A2063,\"\")","v":"2018"},"8548060",{"$f":"CONCATENATE(VLOOKUP(B2063,'School List'!$B$3:$H$291,6,FALSE),H2063)","v":"80606301"},{"$f":"CONCATENATE(VLOOKUP(B2063,'School List'!$B$3:$D$291,3,FALSE),H2063)","v":"Wabash County - WABASH CITY SCHOOL CORPORATION6301"},{"$f":"IF('Line 1 Source'!B2063<>\"\",'Line 1 Source'!B2063,\"\")","v":"85"},{"$f":"IF('Line 1 Source'!C2063<>\"\",'Line 1 Source'!C2063,\"\")","v":"4"},{"$f":"IF('Line 1 Source'!D2063<>\"\",'Line 1 Source'!D2063,\"\")","v":"8060"},{"$f":"IF('Line 1 Source'!E2063<>\"\",'Line 1 Source'!E2063,\"\")","v":"6301"},{"$f":"IF('Line 1 Source'!F2063<>\"\",'Line 1 Source'!F2063,\"\")","v":608750}]
[{"$f":"IF('Line 1 Source'!A2064<>\"\",'Line 1 Source'!A2064,\"\")","v":"2018"},"8548060",{"$f":"CONCATENATE(VLOOKUP(B2064,'School List'!$B$3:$H$291,6,FALSE),H2064)","v":"80606302"},{"$f":"CONCATENATE(VLOOKUP(B2064,'School List'!$B$3:$D$291,3,FALSE),H2064)","v":"Wabash County - WABASH CITY SCHOOL CORPORATION6302"},{"$f":"IF('Line 1 Source'!B2064<>\"\",'Line 1 Source'!B2064,\"\")","v":"85"},{"$f":"IF('Line 1 Source'!C2064<>\"\",'Line 1 Source'!C2064,\"\")","v":"4"},{"$f":"IF('Line 1 Source'!D2064<>\"\",'Line 1 Source'!D2064,\"\")","v":"8060"},{"$f":"IF('Line 1 Source'!E2064<>\"\",'Line 1 Source'!E2064,\"\")","v":"6302"},{"$f":"IF('Line 1 Source'!F2064<>\"\",'Line 1 Source'!F2064,\"\")","v":215000}]
[{"$f":"IF('Line 1 Source'!A2065<>\"\",'Line 1 Source'!A2065,\"\")","v":"2018"},"8640395",{"$f":"CONCATENATE(VLOOKUP(B2065,'School List'!$B$3:$H$291,6,FALSE),H2065)","v":{"$error":"#N/A"}},{"$f":"CONCATENATE(VLOOKUP(B2065,'School List'!$B$3:$D$291,3,FALSE),H2065)","v":{"$error":"#N/A"}},{"$f":"IF('Line 1 Source'!B2065<>\"\",'Line 1 Source'!B2065,\"\")","v":"86"},{"$f":"IF('Line 1 Source'!C2065<>\"\",'Line 1 Source'!C2065,\"\")","v":"4"},{"$f":"IF('Line 1 Source'!D2065<>\"\",'Line 1 Source'!D2065,\"\")","v":"0395"},{"$f":"IF('Line 1 Source'!E2065<>\"\",'Line 1 Source'!E2065,\"\")","v":"0061"},{"$f":"IF('Line 1 Source'!F2065<>\"\",'Line 1 Source'!F2065,\"\")","v":0}]
[{"$f":"IF('Line 1 Source'!A2066<>\"\",'Line 1 Source'!A2066,\"\")","v":"2018"},"8640395",{"$f":"CONCATENATE(VLOOKUP(B2066,'School List'!$B$3:$H$291,6,FALSE),H2066)","v":{"$error":"#N/A"}},{"$f":"CONCATENATE(VLOOKUP(B2066,'School List'!$B$3:$D$291,3,FALSE),H2066)","v":{"$error":"#N/A"}},{"$f":"IF('Line 1 Source'!B2066<>\"\",'Line 1 Source'!B2066,\"\")","v":"86"},{"$f":"IF('Line 1 Source'!C2066<>\"\",'Line 1 Source'!C2066,\"\")","v":"4"},{"$f":"IF('Line 1 Source'!D2066<>\"\",'Line 1 Source'!D2066,\"\")","v":"0395"},{"$f":"IF('Line 1 Source'!E2066<>\"\",'Line 1 Source'!E2066,\"\")","v":"0101"},{"$f":"IF('Line 1 Source'!F2066<>\"\",'Line 1 Source'!F2066,\"\")","v":0}]
[{"$f":"IF('Line 1 Source'!A2067<>\"\",'Line 1 Source'!A2067,\"\")","v":"2018"},"8640395",{"$f":"CONCATENATE(VLOOKUP(B2067,'School List'!$B$3:$H$291,6,FALSE),H2067)","v":{"$error":"#N/A"}},{"$f":"CONCATENATE(VLOOKUP(B2067,'School List'!$B$3:$D$291,3,FALSE),H2067)","v":{"$error":"#N/A"}},{"$f":"IF('Line 1 Source'!B2067<>\"\",'Line 1 Source'!B2067,\"\")","v":"86"},{"$f":"IF('Line 1 Source'!C2067<>\"\",'Line 1 Source'!C2067,\"\")","v":"4"},{"$f":"IF('Line 1 Source'!D2067<>\"\",'Line 1 Source'!D2067,\"\")","v":"0395"},{"$f":"IF('Line 1 Source'!E2067<>\"\",'Line 1 Source'!E2067,\"\")","v":"0180"},{"$f":"IF('Line 1 Source'!F2067<>\"\",'Line 1 Source'!F2067,\"\")","v":0}]
[{"$f":"IF('Line 1 Source'!A2068<>\"\",'Line 1 Source'!A2068,\"\")","v":"2018"},"8640395",{"$f":"CONCATENATE(VLOOKUP(B2068,'School List'!$B$3:$H$291,6,FALSE),H2068)","v":{"$error":"#N/A"}},{"$f":"CONCATENATE(VLOOKUP(B2068,'School List'!$B$3:$D$291,3,FALSE),H2068)","v":{"$error":"#N/A"}},{"$f":"IF('Line 1 Source'!B2068<>\"\",'Line 1 Source'!B2068,\"\")","v":"86"},{"$f":"IF('Line 1 Source'!C2068<>\"\",'Line 1 Source'!C2068,\"\")","v":"4"},{"$f":"IF('Line 1 Source'!D2068<>\"\",'Line 1 Source'!D2068,\"\")","v":"0395"},{"$f":"IF('Line 1 Source'!E2068<>\"\",'Line 1 Source'!E2068,\"\")","v":"0186"},{"$f":"IF('Line 1 Source'!F2068<>\"\",'Line 1 Source'!F2068,\"\")","v":0}]
[{"$f":"IF('Line 1 Source'!A2069<>\"\",'Line 1 Source'!A2069,\"\")","v":"2018"},"8640395",{"$f":"CONCATENATE(VLOOKUP(B2069,'School List'!$B$3:$H$291,6,FALSE),H2069)","v":{"$error":"#N/A"}},{"$f":"CONCATENATE(VLOOKUP(B2069,'School List'!$B$3:$D$291,3,FALSE),H2069)","v":{"$error":"#N/A"}},{"$f":"IF('Line 1 Source'!B2069<>\"\",'Line 1 Source'!B2069,\"\")","v":"86"},{"$f":"IF('Line 1 Source'!C2069<>\"\",'Line 1 Source'!C2069,\"\")","v":"4"},{"$f":"IF('Line 1 Source'!D2069<>\"\",'Line 1 Source'!D2069,\"\")","v":"0395"},{"$f":"IF('Line 1 Source'!E2069<>\"\",'Line 1 Source'!E2069,\"\")","v":"1214"},{"$f":"IF('Line 1 Source'!F2069<>\"\",'Line 1 Source'!F2069,\"\")","v":0}]
[{"$f":"IF('Line 1 Source'!A2070<>\"\",'Line 1 Source'!A2070,\"\")","v":"2018"},"8640395",{"$f":"CONCATENATE(VLOOKUP(B2070,'School List'!$B$3:$H$291,6,FALSE),H2070)","v":{"$error":"#N/A"}},{"$f":"CONCATENATE(VLOOKUP(B2070,'School List'!$B$3:$D$291,3,FALSE),H2070)","v":{"$error":"#N/A"}},{"$f":"IF('Line 1 Source'!B2070<>\"\",'Line 1 Source'!B2070,\"\")","v":"86"},{"$f":"IF('Line 1 Source'!C2070<>\"\",'Line 1 Source'!C2070,\"\")","v":"4"},{"$f":"IF('Line 1 Source'!D2070<>\"\",'Line 1 Source'!D2070,\"\")","v":"0395"},{"$f":"IF('Line 1 Source'!E2070<>\"\",'Line 1 Source'!E2070,\"\")","v":"6301"},{"$f":"IF('Line 1 Source'!F2070<>\"\",'Line 1 Source'!F2070,\"\")","v":0}]
[{"$f":"IF('Line 1 Source'!A2071<>\"\",'Line 1 Source'!A2071,\"\")","v":"2018"},"8640395",{"$f":"CONCATENATE(VLOOKUP(B2071,'School List'!$B$3:$H$291,6,FALSE),H2071)","v":{"$error":"#N/A"}},{"$f":"CONCATENATE(VLOOKUP(B2071,'School List'!$B$3:$D$291,3,FALSE),H2071)","v":{"$error":"#N/A"}},{"$f":"IF('Line 1 Source'!B2071<>\"\",'Line 1 Source'!B2071,\"\")","v":"86"},{"$f":"IF('Line 1 Source'!C2071<>\"\",'Line 1 Source'!C2071,\"\")","v":"4"},{"$f":"IF('Line 1 Source'!D2071<>\"\",'Line 1 Source'!D2071,\"\")","v":"0395"},{"$f":"IF('Line 1 Source'!E2071<>\"\",'Line 1 Source'!E2071,\"\")","v":"6302"},{"$f":"IF('Line 1 Source'!F2071<>\"\",'Line 1 Source'!F2071,\"\")","v":0}]
[{"$f":"IF('Line 1 Source'!A2072<>\"\",'Line 1 Source'!A2072,\"\")","v":"2018"},"8642440",{"$f":"CONCATENATE(VLOOKUP(B2072,'School List'!$B$3:$H$291,6,FALSE),H2072)","v":{"$error":"#N/A"}},{"$f":"CONCATENATE(VLOOKUP(B2072,'School List'!$B$3:$D$291,3,FALSE),H2072)","v":{"$error":"#N/A"}},{"$f":"IF('Line 1 Source'!B2072<>\"\",'Line 1 Source'!B2072,\"\")","v":"86"},{"$f":"IF('Line 1 Source'!C2072<>\"\",'Line 1 Source'!C2072,\"\")","v":"4"},{"$f":"IF('Line 1 Source'!D2072<>\"\",'Line 1 Source'!D2072,\"\")","v":"2440"},{"$f":"IF('Line 1 Source'!E2072<>\"\",'Line 1 Source'!E2072,\"\")","v":"0061"},{"$f":"IF('Line 1 Source'!F2072<>\"\",'Line 1 Source'!F2072,\"\")","v":0}]
[{"$f":"IF('Line 1 Source'!A2073<>\"\",'Line 1 Source'!A2073,\"\")","v":"2018"},"8642440",{"$f":"CONCATENATE(VLOOKUP(B2073,'School List'!$B$3:$H$291,6,FALSE),H2073)","v":{"$error":"#N/A"}},{"$f":"CONCATENATE(VLOOKUP(B2073,'School List'!$B$3:$D$291,3,FALSE),H2073)","v":{"$error":"#N/A"}},{"$f":"IF('Line 1 Source'!B2073<>\"\",'Line 1 Source'!B2073,\"\")","v":"86"},{"$f":"IF('Line 1 Source'!C2073<>\"\",'Line 1 Source'!C2073,\"\")","v":"4"},{"$f":"IF('Line 1 Source'!D2073<>\"\",'Line 1 Source'!D2073,\"\")","v":"2440"},{"$f":"IF('Line 1 Source'!E2073<>\"\",'Line 1 Source'!E2073,\"\")","v":"0101"},{"$f":"IF('Line 1 Source'!F2073<>\"\",'Line 1 Source'!F2073,\"\")","v":0}]
[{"$f":"IF('Line 1 Source'!A2074<>\"\",'Line 1 Source'!A2074,\"\")","v":"2018"},"8642440",{"$f":"CONCATENATE(VLOOKUP(B2074,'School List'!$B$3:$H$291,6,FALSE),H2074)","v":{"$error":"#N/A"}},{"$f":"CONCATENATE(VLOOKUP(B2074,'School List'!$B$3:$D$291,3,FALSE),H2074)","v":{"$error":"#N/A"}},{"$f":"IF('Line 1 Source'!B2074<>\"\",'Line 1 Source'!B2074,\"\")","v":"86"},{"$f":"IF('Line 1 Source'!C2074<>\"\",'Line 1 Source'!C2074,\"\")","v":"4"},{"$f":"IF('Line 1 Source'!D2074<>\"\",'Line 1 Source'!D2074,\"\")","v":"2440"},{"$f":"IF('Line 1 Source'!E2074<>\"\",'Line 1 Source'!E2074,\"\")","v":"0180"},{"$f":"IF('Line 1 Source'!F2074<>\"\",'Line 1 Source'!F2074,\"\")","v":0}]
[{"$f":"IF('Line 1 Source'!A2075<>\"\",'Line 1 Source'!A2075,\"\")","v":"2018"},"8642440",{"$f":"CONCATENATE(VLOOKUP(B2075,'School List'!$B$3:$H$291,6,FALSE),H2075)","v":{"$error":"#N/A"}},{"$f":"CONCATENATE(VLOOKUP(B2075,'School List'!$B$3:$D$291,3,FALSE),H2075)","v":{"$error":"#N/A"}},{"$f":"IF('Line 1 Source'!B2075<>\"\",'Line 1 Source'!B2075,\"\")","v":"86"},{"$f":"IF('Line 1 Source'!C2075<>\"\",'Line 1 Source'!C2075,\"\")","v":"4"},{"$f":"IF('Line 1 Source'!D2075<>\"\",'Line 1 Source'!D2075,\"\")","v":"2440"},{"$f":"IF('Line 1 Source'!E2075<>\"\",'Line 1 Source'!E2075,\"\")","v":"1214"},{"$f":"IF('Line 1 Source'!F2075<>\"\",'Line 1 Source'!F2075,\"\")","v":0}]
[{"$f":"IF('Line 1 Source'!A2076<>\"\",'Line 1 Source'!A2076,\"\")","v":"2018"},"8642440",{"$f":"CONCATENATE(VLOOKUP(B2076,'School List'!$B$3:$H$291,6,FALSE),H2076)","v":{"$error":"#N/A"}},{"$f":"CONCATENATE(VLOOKUP(B2076,'School List'!$B$3:$D$291,3,FALSE),H2076)","v":{"$error":"#N/A"}},{"$f":"IF('Line 1 Source'!B2076<>\"\",'Line 1 Source'!B2076,\"\")","v":"86"},{"$f":"IF('Line 1 Source'!C2076<>\"\",'Line 1 Source'!C2076,\"\")","v":"4"},{"$f":"IF('Line 1 Source'!D2076<>\"\",'Line 1 Source'!D2076,\"\")","v":"2440"},{"$f":"IF('Line 1 Source'!E2076<>\"\",'Line 1 Source'!E2076,\"\")","v":"6301"},{"$f":"IF('Line 1 Source'!F2076<>\"\",'Line 1 Source'!F2076,\"\")","v":0}]
[{"$f":"IF('Line 1 Source'!A2077<>\"\",'Line 1 Source'!A2077,\"\")","v":"2018"},"8642440",{"$f":"CONCATENATE(VLOOKUP(B2077,'School List'!$B$3:$H$291,6,FALSE),H2077)","v":{"$error":"#N/A"}},{"$f":"CONCATENATE(VLOOKUP(B2077,'School List'!$B$3:$D$291,3,FALSE),H2077)","v":{"$error":"#N/A"}},{"$f":"IF('Line 1 Source'!B2077<>\"\",'Line 1 Source'!B2077,\"\")","v":"86"},{"$f":"IF('Line 1 Source'!C2077<>\"\",'Line 1 Source'!C2077,\"\")","v":"4"},{"$f":"IF('Line 1 Source'!D2077<>\"\",'Line 1 Source'!D2077,\"\")","v":"2440"},{"$f":"IF('Line 1 Source'!E2077<>\"\",'Line 1 Source'!E2077,\"\")","v":"6302"},{"$f":"IF('Line 1 Source'!F2077<>\"\",'Line 1 Source'!F2077,\"\")","v":0}]
[{"$f":"IF('Line 1 Source'!A2078<>\"\",'Line 1 Source'!A2078,\"\")","v":"2018"},"8648115",{"$f":"CONCATENATE(VLOOKUP(B2078,'School List'!$B$3:$H$291,6,FALSE),H2078)","v":"81150061"},{"$f":"CONCATENATE(VLOOKUP(B2078,'School List'!$B$3:$D$291,3,FALSE),H2078)","v":"Warren County - M.S.D. WARREN COUNTY SCHOOL CORP0061"},{"$f":"IF('Line 1 Source'!B2078<>\"\",'Line 1 Source'!B2078,\"\")","v":"86"},{"$f":"IF('Line 1 Source'!C2078<>\"\",'Line 1 Source'!C2078,\"\")","v":"4"},{"$f":"IF('Line 1 Source'!D2078<>\"\",'Line 1 Source'!D2078,\"\")","v":"8115"},{"$f":"IF('Line 1 Source'!E2078<>\"\",'Line 1 Source'!E2078,\"\")","v":"0061"},{"$f":"IF('Line 1 Source'!F2078<>\"\",'Line 1 Source'!F2078,\"\")","v":550000}]
[{"$f":"IF('Line 1 Source'!A2079<>\"\",'Line 1 Source'!A2079,\"\")","v":"2018"},"8648115",{"$f":"CONCATENATE(VLOOKUP(B2079,'School List'!$B$3:$H$291,6,FALSE),H2079)","v":"81150101"},{"$f":"CONCATENATE(VLOOKUP(B2079,'School List'!$B$3:$D$291,3,FALSE),H2079)","v":"Warren County - M.S.D. WARREN COUNTY SCHOOL CORP0101"},{"$f":"IF('Line 1 Source'!B2079<>\"\",'Line 1 Source'!B2079,\"\")","v":"86"},{"$f":"IF('Line 1 Source'!C2079<>\"\",'Line 1 Source'!C2079,\"\")","v":"4"},{"$f":"IF('Line 1 Source'!D2079<>\"\",'Line 1 Source'!D2079,\"\")","v":"8115"},{"$f":"IF('Line 1 Source'!E2079<>\"\",'Line 1 Source'!E2079,\"\")","v":"0101"},{"$f":"IF('Line 1 Source'!F2079<>\"\",'Line 1 Source'!F2079,\"\")","v":9314300}]
[{"$f":"IF('Line 1 Source'!A2080<>\"\",'Line 1 Source'!A2080,\"\")","v":"2018"},"8648115",{"$f":"CONCATENATE(VLOOKUP(B2080,'School List'!$B$3:$H$291,6,FALSE),H2080)","v":"81150180"},{"$f":"CONCATENATE(VLOOKUP(B2080,'School List'!$B$3:$D$291,3,FALSE),H2080)","v":"Warren County - M.S.D. WARREN COUNTY SCHOOL CORP0180"},{"$f":"IF('Line 1 Source'!B2080<>\"\",'Line 1 Source'!B2080,\"\")","v":"86"},{"$f":"IF('Line 1 Source'!C2080<>\"\",'Line 1 Source'!C2080,\"\")","v":"4"},{"$f":"IF('Line 1 Source'!D2080<>\"\",'Line 1 Source'!D2080,\"\")","v":"8115"},{"$f":"IF('Line 1 Source'!E2080<>\"\",'Line 1 Source'!E2080,\"\")","v":"0180"},{"$f":"IF('Line 1 Source'!F2080<>\"\",'Line 1 Source'!F2080,\"\")","v":1921455}]
[{"$f":"IF('Line 1 Source'!A2081<>\"\",'Line 1 Source'!A2081,\"\")","v":"2018"},"8648115",{"$f":"CONCATENATE(VLOOKUP(B2081,'School List'!$B$3:$H$291,6,FALSE),H2081)","v":"81151214"},{"$f":"CONCATENATE(VLOOKUP(B2081,'School List'!$B$3:$D$291,3,FALSE),H2081)","v":"Warren County - M.S.D. WARREN COUNTY SCHOOL CORP1214"},{"$f":"IF('Line 1 Source'!B2081<>\"\",'Line 1 Source'!B2081,\"\")","v":"86"},{"$f":"IF('Line 1 Source'!C2081<>\"\",'Line 1 Source'!C2081,\"\")","v":"4"},{"$f":"IF('Line 1 Source'!D2081<>\"\",'Line 1 Source'!D2081,\"\")","v":"8115"},{"$f":"IF('Line 1 Source'!E2081<>\"\",'Line 1 Source'!E2081,\"\")","v":"1214"},{"$f":"IF('Line 1 Source'!F2081<>\"\",'Line 1 Source'!F2081,\"\")","v":1468597}]
[{"$f":"IF('Line 1 Source'!A2082<>\"\",'Line 1 Source'!A2082,\"\")","v":"2018"},"8648115",{"$f":"CONCATENATE(VLOOKUP(B2082,'School List'!$B$3:$H$291,6,FALSE),H2082)","v":"81156301"},{"$f":"CONCATENATE(VLOOKUP(B2082,'School List'!$B$3:$D$291,3,FALSE),H2082)","v":"Warren County - M.S.D. WARREN COUNTY SCHOOL CORP6301"},{"$f":"IF('Line 1 Source'!B2082<>\"\",'Line 1 Source'!B2082,\"\")","v":"86"},{"$f":"IF('Line 1 Source'!C2082<>\"\",'Line 1 Source'!C2082,\"\")","v":"4"},{"$f":"IF('Line 1 Source'!D2082<>\"\",'Line 1 Source'!D2082,\"\")","v":"8115"},{"$f":"IF('Line 1 Source'!E2082<>\"\",'Line 1 Source'!E2082,\"\")","v":"6301"},{"$f":"IF('Line 1 Source'!F2082<>\"\",'Line 1 Source'!F2082,\"\")","v":1102919}]
[{"$f":"IF('Line 1 Source'!A2083<>\"\",'Line 1 Source'!A2083,\"\")","v":"2018"},"8648115",{"$f":"CONCATENATE(VLOOKUP(B2083,'School List'!$B$3:$H$291,6,FALSE),H2083)","v":"81156302"},{"$f":"CONCATENATE(VLOOKUP(B2083,'School List'!$B$3:$D$291,3,FALSE),H2083)","v":"Warren County - M.S.D. WARREN COUNTY SCHOOL CORP6302"},{"$f":"IF('Line 1 Source'!B2083<>\"\",'Line 1 Source'!B2083,\"\")","v":"86"},{"$f":"IF('Line 1 Source'!C2083<>\"\",'Line 1 Source'!C2083,\"\")","v":"4"},{"$f":"IF('Line 1 Source'!D2083<>\"\",'Line 1 Source'!D2083,\"\")","v":"8115"},{"$f":"IF('Line 1 Source'!E2083<>\"\",'Line 1 Source'!E2083,\"\")","v":"6302"},{"$f":"IF('Line 1 Source'!F2083<>\"\",'Line 1 Source'!F2083,\"\")","v":350000}]
[{"$f":"IF('Line 1 Source'!A2084<>\"\",'Line 1 Source'!A2084,\"\")","v":"2018"},"8748130",{"$f":"CONCATENATE(VLOOKUP(B2084,'School List'!$B$3:$H$291,6,FALSE),H2084)","v":"81300061"},{"$f":"CONCATENATE(VLOOKUP(B2084,'School List'!$B$3:$D$291,3,FALSE),H2084)","v":"Warrick County - WARRICK COUNTY SCHOOL CORPORATION0061"},{"$f":"IF('Line 1 Source'!B2084<>\"\",'Line 1 Source'!B2084,\"\")","v":"87"},{"$f":"IF('Line 1 Source'!C2084<>\"\",'Line 1 Source'!C2084,\"\")","v":"4"},{"$f":"IF('Line 1 Source'!D2084<>\"\",'Line 1 Source'!D2084,\"\")","v":"8130"},{"$f":"IF('Line 1 Source'!E2084<>\"\",'Line 1 Source'!E2084,\"\")","v":"0061"},{"$f":"IF('Line 1 Source'!F2084<>\"\",'Line 1 Source'!F2084,\"\")","v":517000}]
[{"$f":"IF('Line 1 Source'!A2085<>\"\",'Line 1 Source'!A2085,\"\")","v":"2018"},"8748130",{"$f":"CONCATENATE(VLOOKUP(B2085,'School List'!$B$3:$H$291,6,FALSE),H2085)","v":"81300101"},{"$f":"CONCATENATE(VLOOKUP(B2085,'School List'!$B$3:$D$291,3,FALSE),H2085)","v":"Warrick County - WARRICK COUNTY SCHOOL CORPORATION0101"},{"$f":"IF('Line 1 Source'!B2085<>\"\",'Line 1 Source'!B2085,\"\")","v":"87"},{"$f":"IF('Line 1 Source'!C2085<>\"\",'Line 1 Source'!C2085,\"\")","v":"4"},{"$f":"IF('Line 1 Source'!D2085<>\"\",'Line 1 Source'!D2085,\"\")","v":"8130"},{"$f":"IF('Line 1 Source'!E2085<>\"\",'Line 1 Source'!E2085,\"\")","v":"0101"},{"$f":"IF('Line 1 Source'!F2085<>\"\",'Line 1 Source'!F2085,\"\")","v":67995465}]
[{"$f":"IF('Line 1 Source'!A2086<>\"\",'Line 1 Source'!A2086,\"\")","v":"2018"},"8748130",{"$f":"CONCATENATE(VLOOKUP(B2086,'School List'!$B$3:$H$291,6,FALSE),H2086)","v":"81300180"},{"$f":"CONCATENATE(VLOOKUP(B2086,'School List'!$B$3:$D$291,3,FALSE),H2086)","v":"Warrick County - WARRICK COUNTY SCHOOL CORPORATION0180"},{"$f":"IF('Line 1 Source'!B2086<>\"\",'Line 1 Source'!B2086,\"\")","v":"87"},{"$f":"IF('Line 1 Source'!C2086<>\"\",'Line 1 Source'!C2086,\"\")","v":"4"},{"$f":"IF('Line 1 Source'!D2086<>\"\",'Line 1 Source'!D2086,\"\")","v":"8130"},{"$f":"IF('Line 1 Source'!E2086<>\"\",'Line 1 Source'!E2086,\"\")","v":"0180"},{"$f":"IF('Line 1 Source'!F2086<>\"\",'Line 1 Source'!F2086,\"\")","v":6943700}]
[{"$f":"IF('Line 1 Source'!A2087<>\"\",'Line 1 Source'!A2087,\"\")","v":"2018"},"8748130",{"$f":"CONCATENATE(VLOOKUP(B2087,'School List'!$B$3:$H$291,6,FALSE),H2087)","v":"81301214"},{"$f":"CONCATENATE(VLOOKUP(B2087,'School List'!$B$3:$D$291,3,FALSE),H2087)","v":"Warrick County - WARRICK COUNTY SCHOOL CORPORATION1214"},{"$f":"IF('Line 1 Source'!B2087<>\"\",'Line 1 Source'!B2087,\"\")","v":"87"},{"$f":"IF('Line 1 Source'!C2087<>\"\",'Line 1 Source'!C2087,\"\")","v":"4"},{"$f":"IF('Line 1 Source'!D2087<>\"\",'Line 1 Source'!D2087,\"\")","v":"8130"},{"$f":"IF('Line 1 Source'!E2087<>\"\",'Line 1 Source'!E2087,\"\")","v":"1214"},{"$f":"IF('Line 1 Source'!F2087<>\"\",'Line 1 Source'!F2087,\"\")","v":10691024}]
[{"$f":"IF('Line 1 Source'!A2088<>\"\",'Line 1 Source'!A2088,\"\")","v":"2018"},"8748130",{"$f":"CONCATENATE(VLOOKUP(B2088,'School List'!$B$3:$H$291,6,FALSE),H2088)","v":"81306301"},{"$f":"CONCATENATE(VLOOKUP(B2088,'School List'!$B$3:$D$291,3,FALSE),H2088)","v":"Warrick County - WARRICK COUNTY SCHOOL CORPORATION6301"},{"$f":"IF('Line 1 Source'!B2088<>\"\",'Line 1 Source'!B2088,\"\")","v":"87"},{"$f":"IF('Line 1 Source'!C2088<>\"\",'Line 1 Source'!C2088,\"\")","v":"4"},{"$f":"IF('Line 1 Source'!D2088<>\"\",'Line 1 Source'!D2088,\"\")","v":"8130"},{"$f":"IF('Line 1 Source'!E2088<>\"\",'Line 1 Source'!E2088,\"\")","v":"6301"},{"$f":"IF('Line 1 Source'!F2088<>\"\",'Line 1 Source'!F2088,\"\")","v":7929200}]
[{"$f":"IF('Line 1 Source'!A2089<>\"\",'Line 1 Source'!A2089,\"\")","v":"2018"},"8748130",{"$f":"CONCATENATE(VLOOKUP(B2089,'School List'!$B$3:$H$291,6,FALSE),H2089)","v":"81306302"},{"$f":"CONCATENATE(VLOOKUP(B2089,'School List'!$B$3:$D$291,3,FALSE),H2089)","v":"Warrick County - WARRICK COUNTY SCHOOL CORPORATION6302"},{"$f":"IF('Line 1 Source'!B2089<>\"\",'Line 1 Source'!B2089,\"\")","v":"87"},{"$f":"IF('Line 1 Source'!C2089<>\"\",'Line 1 Source'!C2089,\"\")","v":"4"},{"$f":"IF('Line 1 Source'!D2089<>\"\",'Line 1 Source'!D2089,\"\")","v":"8130"},{"$f":"IF('Line 1 Source'!E2089<>\"\",'Line 1 Source'!E2089,\"\")","v":"6302"},{"$f":"IF('Line 1 Source'!F2089<>\"\",'Line 1 Source'!F2089,\"\")","v":955400}]
[{"$f":"IF('Line 1 Source'!A2090<>\"\",'Line 1 Source'!A2090,\"\")","v":"2018"},"8848205",{"$f":"CONCATENATE(VLOOKUP(B2090,'School List'!$B$3:$H$291,6,FALSE),H2090)","v":"82050061"},{"$f":"CONCATENATE(VLOOKUP(B2090,'School List'!$B$3:$D$291,3,FALSE),H2090)","v":"Washington County - SALEM COMMUNITY SCHOOL CORPORATION0061"},{"$f":"IF('Line 1 Source'!B2090<>\"\",'Line 1 Source'!B2090,\"\")","v":"88"},{"$f":"IF('Line 1 Source'!C2090<>\"\",'Line 1 Source'!C2090,\"\")","v":"4"},{"$f":"IF('Line 1 Source'!D2090<>\"\",'Line 1 Source'!D2090,\"\")","v":"8205"},{"$f":"IF('Line 1 Source'!E2090<>\"\",'Line 1 Source'!E2090,\"\")","v":"0061"},{"$f":"IF('Line 1 Source'!F2090<>\"\",'Line 1 Source'!F2090,\"\")","v":15000}]
[{"$f":"IF('Line 1 Source'!A2091<>\"\",'Line 1 Source'!A2091,\"\")","v":"2018"},"8848205",{"$f":"CONCATENATE(VLOOKUP(B2091,'School List'!$B$3:$H$291,6,FALSE),H2091)","v":"82050101"},{"$f":"CONCATENATE(VLOOKUP(B2091,'School List'!$B$3:$D$291,3,FALSE),H2091)","v":"Washington County - SALEM COMMUNITY SCHOOL CORPORATION0101"},{"$f":"IF('Line 1 Source'!B2091<>\"\",'Line 1 Source'!B2091,\"\")","v":"88"},{"$f":"IF('Line 1 Source'!C2091<>\"\",'Line 1 Source'!C2091,\"\")","v":"4"},{"$f":"IF('Line 1 Source'!D2091<>\"\",'Line 1 Source'!D2091,\"\")","v":"8205"},{"$f":"IF('Line 1 Source'!E2091<>\"\",'Line 1 Source'!E2091,\"\")","v":"0101"},{"$f":"IF('Line 1 Source'!F2091<>\"\",'Line 1 Source'!F2091,\"\")","v":13400005}]
[{"$f":"IF('Line 1 Source'!A2092<>\"\",'Line 1 Source'!A2092,\"\")","v":"2018"},"8848205",{"$f":"CONCATENATE(VLOOKUP(B2092,'School List'!$B$3:$H$291,6,FALSE),H2092)","v":"82050180"},{"$f":"CONCATENATE(VLOOKUP(B2092,'School List'!$B$3:$D$291,3,FALSE),H2092)","v":"Washington County - SALEM COMMUNITY SCHOOL CORPORATION0180"},{"$f":"IF('Line 1 Source'!B2092<>\"\",'Line 1 Source'!B2092,\"\")","v":"88"},{"$f":"IF('Line 1 Source'!C2092<>\"\",'Line 1 Source'!C2092,\"\")","v":"4"},{"$f":"IF('Line 1 Source'!D2092<>\"\",'Line 1 Source'!D2092,\"\")","v":"8205"},{"$f":"IF('Line 1 Source'!E2092<>\"\",'Line 1 Source'!E2092,\"\")","v":"0180"},{"$f":"IF('Line 1 Source'!F2092<>\"\",'Line 1 Source'!F2092,\"\")","v":2124775}]
[{"$f":"IF('Line 1 Source'!A2093<>\"\",'Line 1 Source'!A2093,\"\")","v":"2018"},"8848205",{"$f":"CONCATENATE(VLOOKUP(B2093,'School List'!$B$3:$H$291,6,FALSE),H2093)","v":"82050186"},{"$f":"CONCATENATE(VLOOKUP(B2093,'School List'!$B$3:$D$291,3,FALSE),H2093)","v":"Washington County - SALEM COMMUNITY SCHOOL CORPORATION0186"},{"$f":"IF('Line 1 Source'!B2093<>\"\",'Line 1 Source'!B2093,\"\")","v":"88"},{"$f":"IF('Line 1 Source'!C2093<>\"\",'Line 1 Source'!C2093,\"\")","v":"4"},{"$f":"IF('Line 1 Source'!D2093<>\"\",'Line 1 Source'!D2093,\"\")","v":"8205"},{"$f":"IF('Line 1 Source'!E2093<>\"\",'Line 1 Source'!E2093,\"\")","v":"0186"},{"$f":"IF('Line 1 Source'!F2093<>\"\",'Line 1 Source'!F2093,\"\")","v":184829}]
[{"$f":"IF('Line 1 Source'!A2094<>\"\",'Line 1 Source'!A2094,\"\")","v":"2018"},"8848205",{"$f":"CONCATENATE(VLOOKUP(B2094,'School List'!$B$3:$H$291,6,FALSE),H2094)","v":"82051214"},{"$f":"CONCATENATE(VLOOKUP(B2094,'School List'!$B$3:$D$291,3,FALSE),H2094)","v":"Washington County - SALEM COMMUNITY SCHOOL CORPORATION1214"},{"$f":"IF('Line 1 Source'!B2094<>\"\",'Line 1 Source'!B2094,\"\")","v":"88"},{"$f":"IF('Line 1 Source'!C2094<>\"\",'Line 1 Source'!C2094,\"\")","v":"4"},{"$f":"IF('Line 1 Source'!D2094<>\"\",'Line 1 Source'!D2094,\"\")","v":"8205"},{"$f":"IF('Line 1 Source'!E2094<>\"\",'Line 1 Source'!E2094,\"\")","v":"1214"},{"$f":"IF('Line 1 Source'!F2094<>\"\",'Line 1 Source'!F2094,\"\")","v":1538970}]
[{"$f":"IF('Line 1 Source'!A2095<>\"\",'Line 1 Source'!A2095,\"\")","v":"2018"},"8848205",{"$f":"CONCATENATE(VLOOKUP(B2095,'School List'!$B$3:$H$291,6,FALSE),H2095)","v":"82056301"},{"$f":"CONCATENATE(VLOOKUP(B2095,'School List'!$B$3:$D$291,3,FALSE),H2095)","v":"Washington County - SALEM COMMUNITY SCHOOL CORPORATION6301"},{"$f":"IF('Line 1 Source'!B2095<>\"\",'Line 1 Source'!B2095,\"\")","v":"88"},{"$f":"IF('Line 1 Source'!C2095<>\"\",'Line 1 Source'!C2095,\"\")","v":"4"},{"$f":"IF('Line 1 Source'!D2095<>\"\",'Line 1 Source'!D2095,\"\")","v":"8205"},{"$f":"IF('Line 1 Source'!E2095<>\"\",'Line 1 Source'!E2095,\"\")","v":"6301"},{"$f":"IF('Line 1 Source'!F2095<>\"\",'Line 1 Source'!F2095,\"\")","v":828000}]
[{"$f":"IF('Line 1 Source'!A2096<>\"\",'Line 1 Source'!A2096,\"\")","v":"2018"},"8848205",{"$f":"CONCATENATE(VLOOKUP(B2096,'School List'!$B$3:$H$291,6,FALSE),H2096)","v":"82056302"},{"$f":"CONCATENATE(VLOOKUP(B2096,'School List'!$B$3:$D$291,3,FALSE),H2096)","v":"Washington County - SALEM COMMUNITY SCHOOL CORPORATION6302"},{"$f":"IF('Line 1 Source'!B2096<>\"\",'Line 1 Source'!B2096,\"\")","v":"88"},{"$f":"IF('Line 1 Source'!C2096<>\"\",'Line 1 Source'!C2096,\"\")","v":"4"},{"$f":"IF('Line 1 Source'!D2096<>\"\",'Line 1 Source'!D2096,\"\")","v":"8205"},{"$f":"IF('Line 1 Source'!E2096<>\"\",'Line 1 Source'!E2096,\"\")","v":"6302"},{"$f":"IF('Line 1 Source'!F2096<>\"\",'Line 1 Source'!F2096,\"\")","v":278295}]
[{"$f":"IF('Line 1 Source'!A2097<>\"\",'Line 1 Source'!A2097,\"\")","v":"2018"},"8848215",{"$f":"CONCATENATE(VLOOKUP(B2097,'School List'!$B$3:$H$291,6,FALSE),H2097)","v":"82150061"},{"$f":"CONCATENATE(VLOOKUP(B2097,'School List'!$B$3:$D$291,3,FALSE),H2097)","v":"Washington County - EAST WASHINGTON SCHOOL CORPORATION0061"},{"$f":"IF('Line 1 Source'!B2097<>\"\",'Line 1 Source'!B2097,\"\")","v":"88"},{"$f":"IF('Line 1 Source'!C2097<>\"\",'Line 1 Source'!C2097,\"\")","v":"4"},{"$f":"IF('Line 1 Source'!D2097<>\"\",'Line 1 Source'!D2097,\"\")","v":"8215"},{"$f":"IF('Line 1 Source'!E2097<>\"\",'Line 1 Source'!E2097,\"\")","v":"0061"},{"$f":"IF('Line 1 Source'!F2097<>\"\",'Line 1 Source'!F2097,\"\")","v":272500}]
[{"$f":"IF('Line 1 Source'!A2098<>\"\",'Line 1 Source'!A2098,\"\")","v":"2018"},"8848215",{"$f":"CONCATENATE(VLOOKUP(B2098,'School List'!$B$3:$H$291,6,FALSE),H2098)","v":"82150101"},{"$f":"CONCATENATE(VLOOKUP(B2098,'School List'!$B$3:$D$291,3,FALSE),H2098)","v":"Washington County - EAST WASHINGTON SCHOOL CORPORATION0101"},{"$f":"IF('Line 1 Source'!B2098<>\"\",'Line 1 Source'!B2098,\"\")","v":"88"},{"$f":"IF('Line 1 Source'!C2098<>\"\",'Line 1 Source'!C2098,\"\")","v":"4"},{"$f":"IF('Line 1 Source'!D2098<>\"\",'Line 1 Source'!D2098,\"\")","v":"8215"},{"$f":"IF('Line 1 Source'!E2098<>\"\",'Line 1 Source'!E2098,\"\")","v":"0101"},{"$f":"IF('Line 1 Source'!F2098<>\"\",'Line 1 Source'!F2098,\"\")","v":11046409}]
[{"$f":"IF('Line 1 Source'!A2099<>\"\",'Line 1 Source'!A2099,\"\")","v":"2018"},"8848215",{"$f":"CONCATENATE(VLOOKUP(B2099,'School List'!$B$3:$H$291,6,FALSE),H2099)","v":"82150180"},{"$f":"CONCATENATE(VLOOKUP(B2099,'School List'!$B$3:$D$291,3,FALSE),H2099)","v":"Washington County - EAST WASHINGTON SCHOOL CORPORATION0180"},{"$f":"IF('Line 1 Source'!B2099<>\"\",'Line 1 Source'!B2099,\"\")","v":"88"},{"$f":"IF('Line 1 Source'!C2099<>\"\",'Line 1 Source'!C2099,\"\")","v":"4"},{"$f":"IF('Line 1 Source'!D2099<>\"\",'Line 1 Source'!D2099,\"\")","v":"8215"},{"$f":"IF('Line 1 Source'!E2099<>\"\",'Line 1 Source'!E2099,\"\")","v":"0180"},{"$f":"IF('Line 1 Source'!F2099<>\"\",'Line 1 Source'!F2099,\"\")","v":1428688}]
[{"$f":"IF('Line 1 Source'!A2100<>\"\",'Line 1 Source'!A2100,\"\")","v":"2018"},"8848215",{"$f":"CONCATENATE(VLOOKUP(B2100,'School List'!$B$3:$H$291,6,FALSE),H2100)","v":"82150186"},{"$f":"CONCATENATE(VLOOKUP(B2100,'School List'!$B$3:$D$291,3,FALSE),H2100)","v":"Washington County - EAST WASHINGTON SCHOOL CORPORATION0186"},{"$f":"IF('Line 1 Source'!B2100<>\"\",'Line 1 Source'!B2100,\"\")","v":"88"},{"$f":"IF('Line 1 Source'!C2100<>\"\",'Line 1 Source'!C2100,\"\")","v":"4"},{"$f":"IF('Line 1 Source'!D2100<>\"\",'Line 1 Source'!D2100,\"\")","v":"8215"},{"$f":"IF('Line 1 Source'!E2100<>\"\",'Line 1 Source'!E2100,\"\")","v":"0186"},{"$f":"IF('Line 1 Source'!F2100<>\"\",'Line 1 Source'!F2100,\"\")","v":0}]
[{"$f":"IF('Line 1 Source'!A2101<>\"\",'Line 1 Source'!A2101,\"\")","v":"2018"},"8848215",{"$f":"CONCATENATE(VLOOKUP(B2101,'School List'!$B$3:$H$291,6,FALSE),H2101)","v":"82151214"},{"$f":"CONCATENATE(VLOOKUP(B2101,'School List'!$B$3:$D$291,3,FALSE),H2101)","v":"Washington County - EAST WASHINGTON SCHOOL CORPORATION1214"},{"$f":"IF('Line 1 Source'!B2101<>\"\",'Line 1 Source'!B2101,\"\")","v":"88"},{"$f":"IF('Line 1 Source'!C2101<>\"\",'Line 1 Source'!C2101,\"\")","v":"4"},{"$f":"IF('Line 1 Source'!D2101<>\"\",'Line 1 Source'!D2101,\"\")","v":"8215"},{"$f":"IF('Line 1 Source'!E2101<>\"\",'Line 1 Source'!E2101,\"\")","v":"1214"},{"$f":"IF('Line 1 Source'!F2101<>\"\",'Line 1 Source'!F2101,\"\")","v":1051313}]
[{"$f":"IF('Line 1 Source'!A2102<>\"\",'Line 1 Source'!A2102,\"\")","v":"2018"},"8848215",{"$f":"CONCATENATE(VLOOKUP(B2102,'School List'!$B$3:$H$291,6,FALSE),H2102)","v":"82156301"},{"$f":"CONCATENATE(VLOOKUP(B2102,'School List'!$B$3:$D$291,3,FALSE),H2102)","v":"Washington County - EAST WASHINGTON SCHOOL CORPORATION6301"},{"$f":"IF('Line 1 Source'!B2102<>\"\",'Line 1 Source'!B2102,\"\")","v":"88"},{"$f":"IF('Line 1 Source'!C2102<>\"\",'Line 1 Source'!C2102,\"\")","v":"4"},{"$f":"IF('Line 1 Source'!D2102<>\"\",'Line 1 Source'!D2102,\"\")","v":"8215"},{"$f":"IF('Line 1 Source'!E2102<>\"\",'Line 1 Source'!E2102,\"\")","v":"6301"},{"$f":"IF('Line 1 Source'!F2102<>\"\",'Line 1 Source'!F2102,\"\")","v":856371}]
[{"$f":"IF('Line 1 Source'!A2103<>\"\",'Line 1 Source'!A2103,\"\")","v":"2018"},"8848215",{"$f":"CONCATENATE(VLOOKUP(B2103,'School List'!$B$3:$H$291,6,FALSE),H2103)","v":"82156302"},{"$f":"CONCATENATE(VLOOKUP(B2103,'School List'!$B$3:$D$291,3,FALSE),H2103)","v":"Washington County - EAST WASHINGTON SCHOOL CORPORATION6302"},{"$f":"IF('Line 1 Source'!B2103<>\"\",'Line 1 Source'!B2103,\"\")","v":"88"},{"$f":"IF('Line 1 Source'!C2103<>\"\",'Line 1 Source'!C2103,\"\")","v":"4"},{"$f":"IF('Line 1 Source'!D2103<>\"\",'Line 1 Source'!D2103,\"\")","v":"8215"},{"$f":"IF('Line 1 Source'!E2103<>\"\",'Line 1 Source'!E2103,\"\")","v":"6302"},{"$f":"IF('Line 1 Source'!F2103<>\"\",'Line 1 Source'!F2103,\"\")","v":210000}]
[{"$f":"IF('Line 1 Source'!A2104<>\"\",'Line 1 Source'!A2104,\"\")","v":"2018"},"8848220",{"$f":"CONCATENATE(VLOOKUP(B2104,'School List'!$B$3:$H$291,6,FALSE),H2104)","v":"82200061"},{"$f":"CONCATENATE(VLOOKUP(B2104,'School List'!$B$3:$D$291,3,FALSE),H2104)","v":"Washington County - WEST WASHINGTON SCHOOL CORPORATION0061"},{"$f":"IF('Line 1 Source'!B2104<>\"\",'Line 1 Source'!B2104,\"\")","v":"88"},{"$f":"IF('Line 1 Source'!C2104<>\"\",'Line 1 Source'!C2104,\"\")","v":"4"},{"$f":"IF('Line 1 Source'!D2104<>\"\",'Line 1 Source'!D2104,\"\")","v":"8220"},{"$f":"IF('Line 1 Source'!E2104<>\"\",'Line 1 Source'!E2104,\"\")","v":"0061"},{"$f":"IF('Line 1 Source'!F2104<>\"\",'Line 1 Source'!F2104,\"\")","v":500000}]
[{"$f":"IF('Line 1 Source'!A2105<>\"\",'Line 1 Source'!A2105,\"\")","v":"2018"},"8848220",{"$f":"CONCATENATE(VLOOKUP(B2105,'School List'!$B$3:$H$291,6,FALSE),H2105)","v":"82200101"},{"$f":"CONCATENATE(VLOOKUP(B2105,'School List'!$B$3:$D$291,3,FALSE),H2105)","v":"Washington County - WEST WASHINGTON SCHOOL CORPORATION0101"},{"$f":"IF('Line 1 Source'!B2105<>\"\",'Line 1 Source'!B2105,\"\")","v":"88"},{"$f":"IF('Line 1 Source'!C2105<>\"\",'Line 1 Source'!C2105,\"\")","v":"4"},{"$f":"IF('Line 1 Source'!D2105<>\"\",'Line 1 Source'!D2105,\"\")","v":"8220"},{"$f":"IF('Line 1 Source'!E2105<>\"\",'Line 1 Source'!E2105,\"\")","v":"0101"},{"$f":"IF('Line 1 Source'!F2105<>\"\",'Line 1 Source'!F2105,\"\")","v":6700000}]
[{"$f":"IF('Line 1 Source'!A2106<>\"\",'Line 1 Source'!A2106,\"\")","v":"2018"},"8848220",{"$f":"CONCATENATE(VLOOKUP(B2106,'School List'!$B$3:$H$291,6,FALSE),H2106)","v":"82200180"},{"$f":"CONCATENATE(VLOOKUP(B2106,'School List'!$B$3:$D$291,3,FALSE),H2106)","v":"Washington County - WEST WASHINGTON SCHOOL CORPORATION0180"},{"$f":"IF('Line 1 Source'!B2106<>\"\",'Line 1 Source'!B2106,\"\")","v":"88"},{"$f":"IF('Line 1 Source'!C2106<>\"\",'Line 1 Source'!C2106,\"\")","v":"4"},{"$f":"IF('Line 1 Source'!D2106<>\"\",'Line 1 Source'!D2106,\"\")","v":"8220"},{"$f":"IF('Line 1 Source'!E2106<>\"\",'Line 1 Source'!E2106,\"\")","v":"0180"},{"$f":"IF('Line 1 Source'!F2106<>\"\",'Line 1 Source'!F2106,\"\")","v":746737}]
[{"$f":"IF('Line 1 Source'!A2107<>\"\",'Line 1 Source'!A2107,\"\")","v":"2018"},"8848220",{"$f":"CONCATENATE(VLOOKUP(B2107,'School List'!$B$3:$H$291,6,FALSE),H2107)","v":"82200186"},{"$f":"CONCATENATE(VLOOKUP(B2107,'School List'!$B$3:$D$291,3,FALSE),H2107)","v":"Washington County - WEST WASHINGTON SCHOOL CORPORATION0186"},{"$f":"IF('Line 1 Source'!B2107<>\"\",'Line 1 Source'!B2107,\"\")","v":"88"},{"$f":"IF('Line 1 Source'!C2107<>\"\",'Line 1 Source'!C2107,\"\")","v":"4"},{"$f":"IF('Line 1 Source'!D2107<>\"\",'Line 1 Source'!D2107,\"\")","v":"8220"},{"$f":"IF('Line 1 Source'!E2107<>\"\",'Line 1 Source'!E2107,\"\")","v":"0186"},{"$f":"IF('Line 1 Source'!F2107<>\"\",'Line 1 Source'!F2107,\"\")","v":225780}]
[{"$f":"IF('Line 1 Source'!A2108<>\"\",'Line 1 Source'!A2108,\"\")","v":"2018"},"8848220",{"$f":"CONCATENATE(VLOOKUP(B2108,'School List'!$B$3:$H$291,6,FALSE),H2108)","v":"82201214"},{"$f":"CONCATENATE(VLOOKUP(B2108,'School List'!$B$3:$D$291,3,FALSE),H2108)","v":"Washington County - WEST WASHINGTON SCHOOL CORPORATION1214"},{"$f":"IF('Line 1 Source'!B2108<>\"\",'Line 1 Source'!B2108,\"\")","v":"88"},{"$f":"IF('Line 1 Source'!C2108<>\"\",'Line 1 Source'!C2108,\"\")","v":"4"},{"$f":"IF('Line 1 Source'!D2108<>\"\",'Line 1 Source'!D2108,\"\")","v":"8220"},{"$f":"IF('Line 1 Source'!E2108<>\"\",'Line 1 Source'!E2108,\"\")","v":"1214"},{"$f":"IF('Line 1 Source'!F2108<>\"\",'Line 1 Source'!F2108,\"\")","v":852271}]
[{"$f":"IF('Line 1 Source'!A2109<>\"\",'Line 1 Source'!A2109,\"\")","v":"2018"},"8848220",{"$f":"CONCATENATE(VLOOKUP(B2109,'School List'!$B$3:$H$291,6,FALSE),H2109)","v":"82206301"},{"$f":"CONCATENATE(VLOOKUP(B2109,'School List'!$B$3:$D$291,3,FALSE),H2109)","v":"Washington County - WEST WASHINGTON SCHOOL CORPORATION6301"},{"$f":"IF('Line 1 Source'!B2109<>\"\",'Line 1 Source'!B2109,\"\")","v":"88"},{"$f":"IF('Line 1 Source'!C2109<>\"\",'Line 1 Source'!C2109,\"\")","v":"4"},{"$f":"IF('Line 1 Source'!D2109<>\"\",'Line 1 Source'!D2109,\"\")","v":"8220"},{"$f":"IF('Line 1 Source'!E2109<>\"\",'Line 1 Source'!E2109,\"\")","v":"6301"},{"$f":"IF('Line 1 Source'!F2109<>\"\",'Line 1 Source'!F2109,\"\")","v":884190}]
[{"$f":"IF('Line 1 Source'!A2110<>\"\",'Line 1 Source'!A2110,\"\")","v":"2018"},"8848220",{"$f":"CONCATENATE(VLOOKUP(B2110,'School List'!$B$3:$H$291,6,FALSE),H2110)","v":"82206302"},{"$f":"CONCATENATE(VLOOKUP(B2110,'School List'!$B$3:$D$291,3,FALSE),H2110)","v":"Washington County - WEST WASHINGTON SCHOOL CORPORATION6302"},{"$f":"IF('Line 1 Source'!B2110<>\"\",'Line 1 Source'!B2110,\"\")","v":"88"},{"$f":"IF('Line 1 Source'!C2110<>\"\",'Line 1 Source'!C2110,\"\")","v":"4"},{"$f":"IF('Line 1 Source'!D2110<>\"\",'Line 1 Source'!D2110,\"\")","v":"8220"},{"$f":"IF('Line 1 Source'!E2110<>\"\",'Line 1 Source'!E2110,\"\")","v":"6302"},{"$f":"IF('Line 1 Source'!F2110<>\"\",'Line 1 Source'!F2110,\"\")","v":217812}]
[{"$f":"IF('Line 1 Source'!A2111<>\"\",'Line 1 Source'!A2111,\"\")","v":"2018"},"8948305",{"$f":"CONCATENATE(VLOOKUP(B2111,'School List'!$B$3:$H$291,6,FALSE),H2111)","v":"83050061"},{"$f":"CONCATENATE(VLOOKUP(B2111,'School List'!$B$3:$D$291,3,FALSE),H2111)","v":"Wayne County - NETTLE CREEK SCHOOL CORPORATION0061"},{"$f":"IF('Line 1 Source'!B2111<>\"\",'Line 1 Source'!B2111,\"\")","v":"89"},{"$f":"IF('Line 1 Source'!C2111<>\"\",'Line 1 Source'!C2111,\"\")","v":"4"},{"$f":"IF('Line 1 Source'!D2111<>\"\",'Line 1 Source'!D2111,\"\")","v":"8305"},{"$f":"IF('Line 1 Source'!E2111<>\"\",'Line 1 Source'!E2111,\"\")","v":"0061"},{"$f":"IF('Line 1 Source'!F2111<>\"\",'Line 1 Source'!F2111,\"\")","v":0}]
[{"$f":"IF('Line 1 Source'!A2112<>\"\",'Line 1 Source'!A2112,\"\")","v":"2018"},"8948305",{"$f":"CONCATENATE(VLOOKUP(B2112,'School List'!$B$3:$H$291,6,FALSE),H2112)","v":"83050101"},{"$f":"CONCATENATE(VLOOKUP(B2112,'School List'!$B$3:$D$291,3,FALSE),H2112)","v":"Wayne County - NETTLE CREEK SCHOOL CORPORATION0101"},{"$f":"IF('Line 1 Source'!B2112<>\"\",'Line 1 Source'!B2112,\"\")","v":"89"},{"$f":"IF('Line 1 Source'!C2112<>\"\",'Line 1 Source'!C2112,\"\")","v":"4"},{"$f":"IF('Line 1 Source'!D2112<>\"\",'Line 1 Source'!D2112,\"\")","v":"8305"},{"$f":"IF('Line 1 Source'!E2112<>\"\",'Line 1 Source'!E2112,\"\")","v":"0101"},{"$f":"IF('Line 1 Source'!F2112<>\"\",'Line 1 Source'!F2112,\"\")","v":7877658}]
[{"$f":"IF('Line 1 Source'!A2113<>\"\",'Line 1 Source'!A2113,\"\")","v":"2018"},"8948305",{"$f":"CONCATENATE(VLOOKUP(B2113,'School List'!$B$3:$H$291,6,FALSE),H2113)","v":"83050180"},{"$f":"CONCATENATE(VLOOKUP(B2113,'School List'!$B$3:$D$291,3,FALSE),H2113)","v":"Wayne County - NETTLE CREEK SCHOOL CORPORATION0180"},{"$f":"IF('Line 1 Source'!B2113<>\"\",'Line 1 Source'!B2113,\"\")","v":"89"},{"$f":"IF('Line 1 Source'!C2113<>\"\",'Line 1 Source'!C2113,\"\")","v":"4"},{"$f":"IF('Line 1 Source'!D2113<>\"\",'Line 1 Source'!D2113,\"\")","v":"8305"},{"$f":"IF('Line 1 Source'!E2113<>\"\",'Line 1 Source'!E2113,\"\")","v":"0180"},{"$f":"IF('Line 1 Source'!F2113<>\"\",'Line 1 Source'!F2113,\"\")","v":1435315}]
[{"$f":"IF('Line 1 Source'!A2114<>\"\",'Line 1 Source'!A2114,\"\")","v":"2018"},"8948305",{"$f":"CONCATENATE(VLOOKUP(B2114,'School List'!$B$3:$H$291,6,FALSE),H2114)","v":"83051214"},{"$f":"CONCATENATE(VLOOKUP(B2114,'School List'!$B$3:$D$291,3,FALSE),H2114)","v":"Wayne County - NETTLE CREEK SCHOOL CORPORATION1214"},{"$f":"IF('Line 1 Source'!B2114<>\"\",'Line 1 Source'!B2114,\"\")","v":"89"},{"$f":"IF('Line 1 Source'!C2114<>\"\",'Line 1 Source'!C2114,\"\")","v":"4"},{"$f":"IF('Line 1 Source'!D2114<>\"\",'Line 1 Source'!D2114,\"\")","v":"8305"},{"$f":"IF('Line 1 Source'!E2114<>\"\",'Line 1 Source'!E2114,\"\")","v":"1214"},{"$f":"IF('Line 1 Source'!F2114<>\"\",'Line 1 Source'!F2114,\"\")","v":986938}]
[{"$f":"IF('Line 1 Source'!A2115<>\"\",'Line 1 Source'!A2115,\"\")","v":"2018"},{"$f":"CONCATENATE(E2115,F2115,G2115)","v":"8948305"},{"$f":"CONCATENATE(VLOOKUP(B2115,'School List'!$B$3:$H$291,6,FALSE),H2115)","v":"83056301"},{"$f":"CONCATENATE(VLOOKUP(B2115,'School List'!$B$3:$D$291,3,FALSE),H2115)","v":"Wayne County - NETTLE CREEK SCHOOL CORPORATION6301"},{"$f":"IF('Line 1 Source'!B2115<>\"\",'Line 1 Source'!B2115,\"\")","v":"89"},{"$f":"IF('Line 1 Source'!C2115<>\"\",'Line 1 Source'!C2115,\"\")","v":"4"},{"$f":"IF('Line 1 Source'!D2115<>\"\",'Line 1 Source'!D2115,\"\")","v":"8305"},{"$f":"IF('Line 1 Source'!E2115<>\"\",'Line 1 Source'!E2115,\"\")","v":"6301"},{"$f":"IF('Line 1 Source'!F2115<>\"\",'Line 1 Source'!F2115,\"\")","v":770408}]
[{"$f":"IF('Line 1 Source'!A2116<>\"\",'Line 1 Source'!A2116,\"\")","v":"2018"},"8948305",{"$f":"CONCATENATE(VLOOKUP(B2116,'School List'!$B$3:$H$291,6,FALSE),H2116)","v":"83056302"},{"$f":"CONCATENATE(VLOOKUP(B2116,'School List'!$B$3:$D$291,3,FALSE),H2116)","v":"Wayne County - NETTLE CREEK SCHOOL CORPORATION6302"},{"$f":"IF('Line 1 Source'!B2116<>\"\",'Line 1 Source'!B2116,\"\")","v":"89"},{"$f":"IF('Line 1 Source'!C2116<>\"\",'Line 1 Source'!C2116,\"\")","v":"4"},{"$f":"IF('Line 1 Source'!D2116<>\"\",'Line 1 Source'!D2116,\"\")","v":"8305"},{"$f":"IF('Line 1 Source'!E2116<>\"\",'Line 1 Source'!E2116,\"\")","v":"6302"},{"$f":"IF('Line 1 Source'!F2116<>\"\",'Line 1 Source'!F2116,\"\")","v":113890}]
[{"$f":"IF('Line 1 Source'!A2117<>\"\",'Line 1 Source'!A2117,\"\")","v":"2018"},"8948355",{"$f":"CONCATENATE(VLOOKUP(B2117,'School List'!$B$3:$H$291,6,FALSE),H2117)","v":"83550061"},{"$f":"CONCATENATE(VLOOKUP(B2117,'School List'!$B$3:$D$291,3,FALSE),H2117)","v":"Wayne County - WESTERN WAYNE SCHOOL CORPORATION0061"},{"$f":"IF('Line 1 Source'!B2117<>\"\",'Line 1 Source'!B2117,\"\")","v":"89"},{"$f":"IF('Line 1 Source'!C2117<>\"\",'Line 1 Source'!C2117,\"\")","v":"4"},{"$f":"IF('Line 1 Source'!D2117<>\"\",'Line 1 Source'!D2117,\"\")","v":"8355"},{"$f":"IF('Line 1 Source'!E2117<>\"\",'Line 1 Source'!E2117,\"\")","v":"0061"},{"$f":"IF('Line 1 Source'!F2117<>\"\",'Line 1 Source'!F2117,\"\")","v":1113977}]
[{"$f":"IF('Line 1 Source'!A2118<>\"\",'Line 1 Source'!A2118,\"\")","v":"2018"},"8948355",{"$f":"CONCATENATE(VLOOKUP(B2118,'School List'!$B$3:$H$291,6,FALSE),H2118)","v":"83550101"},{"$f":"CONCATENATE(VLOOKUP(B2118,'School List'!$B$3:$D$291,3,FALSE),H2118)","v":"Wayne County - WESTERN WAYNE SCHOOL CORPORATION0101"},{"$f":"IF('Line 1 Source'!B2118<>\"\",'Line 1 Source'!B2118,\"\")","v":"89"},{"$f":"IF('Line 1 Source'!C2118<>\"\",'Line 1 Source'!C2118,\"\")","v":"4"},{"$f":"IF('Line 1 Source'!D2118<>\"\",'Line 1 Source'!D2118,\"\")","v":"8355"},{"$f":"IF('Line 1 Source'!E2118<>\"\",'Line 1 Source'!E2118,\"\")","v":"0101"},{"$f":"IF('Line 1 Source'!F2118<>\"\",'Line 1 Source'!F2118,\"\")","v":6676578}]
[{"$f":"IF('Line 1 Source'!A2119<>\"\",'Line 1 Source'!A2119,\"\")","v":"2018"},"8948355",{"$f":"CONCATENATE(VLOOKUP(B2119,'School List'!$B$3:$H$291,6,FALSE),H2119)","v":"83550180"},{"$f":"CONCATENATE(VLOOKUP(B2119,'School List'!$B$3:$D$291,3,FALSE),H2119)","v":"Wayne County - WESTERN WAYNE SCHOOL CORPORATION0180"},{"$f":"IF('Line 1 Source'!B2119<>\"\",'Line 1 Source'!B2119,\"\")","v":"89"},{"$f":"IF('Line 1 Source'!C2119<>\"\",'Line 1 Source'!C2119,\"\")","v":"4"},{"$f":"IF('Line 1 Source'!D2119<>\"\",'Line 1 Source'!D2119,\"\")","v":"8355"},{"$f":"IF('Line 1 Source'!E2119<>\"\",'Line 1 Source'!E2119,\"\")","v":"0180"},{"$f":"IF('Line 1 Source'!F2119<>\"\",'Line 1 Source'!F2119,\"\")","v":869903}]
[{"$f":"IF('Line 1 Source'!A2120<>\"\",'Line 1 Source'!A2120,\"\")","v":"2018"},"8948355",{"$f":"CONCATENATE(VLOOKUP(B2120,'School List'!$B$3:$H$291,6,FALSE),H2120)","v":"83550186"},{"$f":"CONCATENATE(VLOOKUP(B2120,'School List'!$B$3:$D$291,3,FALSE),H2120)","v":"Wayne County - WESTERN WAYNE SCHOOL CORPORATION0186"},{"$f":"IF('Line 1 Source'!B2120<>\"\",'Line 1 Source'!B2120,\"\")","v":"89"},{"$f":"IF('Line 1 Source'!C2120<>\"\",'Line 1 Source'!C2120,\"\")","v":"4"},{"$f":"IF('Line 1 Source'!D2120<>\"\",'Line 1 Source'!D2120,\"\")","v":"8355"},{"$f":"IF('Line 1 Source'!E2120<>\"\",'Line 1 Source'!E2120,\"\")","v":"0186"},{"$f":"IF('Line 1 Source'!F2120<>\"\",'Line 1 Source'!F2120,\"\")","v":66154}]
[{"$f":"IF('Line 1 Source'!A2121<>\"\",'Line 1 Source'!A2121,\"\")","v":"2018"},"8948355",{"$f":"CONCATENATE(VLOOKUP(B2121,'School List'!$B$3:$H$291,6,FALSE),H2121)","v":"83551214"},{"$f":"CONCATENATE(VLOOKUP(B2121,'School List'!$B$3:$D$291,3,FALSE),H2121)","v":"Wayne County - WESTERN WAYNE SCHOOL CORPORATION1214"},{"$f":"IF('Line 1 Source'!B2121<>\"\",'Line 1 Source'!B2121,\"\")","v":"89"},{"$f":"IF('Line 1 Source'!C2121<>\"\",'Line 1 Source'!C2121,\"\")","v":"4"},{"$f":"IF('Line 1 Source'!D2121<>\"\",'Line 1 Source'!D2121,\"\")","v":"8355"},{"$f":"IF('Line 1 Source'!E2121<>\"\",'Line 1 Source'!E2121,\"\")","v":"1214"},{"$f":"IF('Line 1 Source'!F2121<>\"\",'Line 1 Source'!F2121,\"\")","v":640017}]
[{"$f":"IF('Line 1 Source'!A2122<>\"\",'Line 1 Source'!A2122,\"\")","v":"2018"},"8948355",{"$f":"CONCATENATE(VLOOKUP(B2122,'School List'!$B$3:$H$291,6,FALSE),H2122)","v":"83556301"},{"$f":"CONCATENATE(VLOOKUP(B2122,'School List'!$B$3:$D$291,3,FALSE),H2122)","v":"Wayne County - WESTERN WAYNE SCHOOL CORPORATION6301"},{"$f":"IF('Line 1 Source'!B2122<>\"\",'Line 1 Source'!B2122,\"\")","v":"89"},{"$f":"IF('Line 1 Source'!C2122<>\"\",'Line 1 Source'!C2122,\"\")","v":"4"},{"$f":"IF('Line 1 Source'!D2122<>\"\",'Line 1 Source'!D2122,\"\")","v":"8355"},{"$f":"IF('Line 1 Source'!E2122<>\"\",'Line 1 Source'!E2122,\"\")","v":"6301"},{"$f":"IF('Line 1 Source'!F2122<>\"\",'Line 1 Source'!F2122,\"\")","v":552873}]
[{"$f":"IF('Line 1 Source'!A2123<>\"\",'Line 1 Source'!A2123,\"\")","v":"2018"},"8948355",{"$f":"CONCATENATE(VLOOKUP(B2123,'School List'!$B$3:$H$291,6,FALSE),H2123)","v":"83556302"},{"$f":"CONCATENATE(VLOOKUP(B2123,'School List'!$B$3:$D$291,3,FALSE),H2123)","v":"Wayne County - WESTERN WAYNE SCHOOL CORPORATION6302"},{"$f":"IF('Line 1 Source'!B2123<>\"\",'Line 1 Source'!B2123,\"\")","v":"89"},{"$f":"IF('Line 1 Source'!C2123<>\"\",'Line 1 Source'!C2123,\"\")","v":"4"},{"$f":"IF('Line 1 Source'!D2123<>\"\",'Line 1 Source'!D2123,\"\")","v":"8355"},{"$f":"IF('Line 1 Source'!E2123<>\"\",'Line 1 Source'!E2123,\"\")","v":"6302"},{"$f":"IF('Line 1 Source'!F2123<>\"\",'Line 1 Source'!F2123,\"\")","v":226598}]
[{"$f":"IF('Line 1 Source'!A2124<>\"\",'Line 1 Source'!A2124,\"\")","v":"2018"},"8948360",{"$f":"CONCATENATE(VLOOKUP(B2124,'School List'!$B$3:$H$291,6,FALSE),H2124)","v":"83600061"},{"$f":"CONCATENATE(VLOOKUP(B2124,'School List'!$B$3:$D$291,3,FALSE),H2124)","v":"Wayne County - CENTERVILLE-ABINGTON COMM SCHOOL CORP0061"},{"$f":"IF('Line 1 Source'!B2124<>\"\",'Line 1 Source'!B2124,\"\")","v":"89"},{"$f":"IF('Line 1 Source'!C2124<>\"\",'Line 1 Source'!C2124,\"\")","v":"4"},{"$f":"IF('Line 1 Source'!D2124<>\"\",'Line 1 Source'!D2124,\"\")","v":"8360"},{"$f":"IF('Line 1 Source'!E2124<>\"\",'Line 1 Source'!E2124,\"\")","v":"0061"},{"$f":"IF('Line 1 Source'!F2124<>\"\",'Line 1 Source'!F2124,\"\")","v":800000}]
[{"$f":"IF('Line 1 Source'!A2125<>\"\",'Line 1 Source'!A2125,\"\")","v":"2018"},"8948360",{"$f":"CONCATENATE(VLOOKUP(B2125,'School List'!$B$3:$H$291,6,FALSE),H2125)","v":"83600101"},{"$f":"CONCATENATE(VLOOKUP(B2125,'School List'!$B$3:$D$291,3,FALSE),H2125)","v":"Wayne County - CENTERVILLE-ABINGTON COMM SCHOOL CORP0101"},{"$f":"IF('Line 1 Source'!B2125<>\"\",'Line 1 Source'!B2125,\"\")","v":"89"},{"$f":"IF('Line 1 Source'!C2125<>\"\",'Line 1 Source'!C2125,\"\")","v":"4"},{"$f":"IF('Line 1 Source'!D2125<>\"\",'Line 1 Source'!D2125,\"\")","v":"8360"},{"$f":"IF('Line 1 Source'!E2125<>\"\",'Line 1 Source'!E2125,\"\")","v":"0101"},{"$f":"IF('Line 1 Source'!F2125<>\"\",'Line 1 Source'!F2125,\"\")","v":11428642}]
[{"$f":"IF('Line 1 Source'!A2126<>\"\",'Line 1 Source'!A2126,\"\")","v":"2018"},"8948360",{"$f":"CONCATENATE(VLOOKUP(B2126,'School List'!$B$3:$H$291,6,FALSE),H2126)","v":"83600180"},{"$f":"CONCATENATE(VLOOKUP(B2126,'School List'!$B$3:$D$291,3,FALSE),H2126)","v":"Wayne County - CENTERVILLE-ABINGTON COMM SCHOOL CORP0180"},{"$f":"IF('Line 1 Source'!B2126<>\"\",'Line 1 Source'!B2126,\"\")","v":"89"},{"$f":"IF('Line 1 Source'!C2126<>\"\",'Line 1 Source'!C2126,\"\")","v":"4"},{"$f":"IF('Line 1 Source'!D2126<>\"\",'Line 1 Source'!D2126,\"\")","v":"8360"},{"$f":"IF('Line 1 Source'!E2126<>\"\",'Line 1 Source'!E2126,\"\")","v":"0180"},{"$f":"IF('Line 1 Source'!F2126<>\"\",'Line 1 Source'!F2126,\"\")","v":2186018}]
[{"$f":"IF('Line 1 Source'!A2127<>\"\",'Line 1 Source'!A2127,\"\")","v":"2018"},"8948360",{"$f":"CONCATENATE(VLOOKUP(B2127,'School List'!$B$3:$H$291,6,FALSE),H2127)","v":"83600186"},{"$f":"CONCATENATE(VLOOKUP(B2127,'School List'!$B$3:$D$291,3,FALSE),H2127)","v":"Wayne County - CENTERVILLE-ABINGTON COMM SCHOOL CORP0186"},{"$f":"IF('Line 1 Source'!B2127<>\"\",'Line 1 Source'!B2127,\"\")","v":"89"},{"$f":"IF('Line 1 Source'!C2127<>\"\",'Line 1 Source'!C2127,\"\")","v":"4"},{"$f":"IF('Line 1 Source'!D2127<>\"\",'Line 1 Source'!D2127,\"\")","v":"8360"},{"$f":"IF('Line 1 Source'!E2127<>\"\",'Line 1 Source'!E2127,\"\")","v":"0186"},{"$f":"IF('Line 1 Source'!F2127<>\"\",'Line 1 Source'!F2127,\"\")","v":154321}]
[{"$f":"IF('Line 1 Source'!A2128<>\"\",'Line 1 Source'!A2128,\"\")","v":"2018"},"8948360",{"$f":"CONCATENATE(VLOOKUP(B2128,'School List'!$B$3:$H$291,6,FALSE),H2128)","v":"83601214"},{"$f":"CONCATENATE(VLOOKUP(B2128,'School List'!$B$3:$D$291,3,FALSE),H2128)","v":"Wayne County - CENTERVILLE-ABINGTON COMM SCHOOL CORP1214"},{"$f":"IF('Line 1 Source'!B2128<>\"\",'Line 1 Source'!B2128,\"\")","v":"89"},{"$f":"IF('Line 1 Source'!C2128<>\"\",'Line 1 Source'!C2128,\"\")","v":"4"},{"$f":"IF('Line 1 Source'!D2128<>\"\",'Line 1 Source'!D2128,\"\")","v":"8360"},{"$f":"IF('Line 1 Source'!E2128<>\"\",'Line 1 Source'!E2128,\"\")","v":"1214"},{"$f":"IF('Line 1 Source'!F2128<>\"\",'Line 1 Source'!F2128,\"\")","v":1451030}]
[{"$f":"IF('Line 1 Source'!A2129<>\"\",'Line 1 Source'!A2129,\"\")","v":"2018"},"8948360",{"$f":"CONCATENATE(VLOOKUP(B2129,'School List'!$B$3:$H$291,6,FALSE),H2129)","v":"83606301"},{"$f":"CONCATENATE(VLOOKUP(B2129,'School List'!$B$3:$D$291,3,FALSE),H2129)","v":"Wayne County - CENTERVILLE-ABINGTON COMM SCHOOL CORP6301"},{"$f":"IF('Line 1 Source'!B2129<>\"\",'Line 1 Source'!B2129,\"\")","v":"89"},{"$f":"IF('Line 1 Source'!C2129<>\"\",'Line 1 Source'!C2129,\"\")","v":"4"},{"$f":"IF('Line 1 Source'!D2129<>\"\",'Line 1 Source'!D2129,\"\")","v":"8360"},{"$f":"IF('Line 1 Source'!E2129<>\"\",'Line 1 Source'!E2129,\"\")","v":"6301"},{"$f":"IF('Line 1 Source'!F2129<>\"\",'Line 1 Source'!F2129,\"\")","v":1097045}]
[{"$f":"IF('Line 1 Source'!A2130<>\"\",'Line 1 Source'!A2130,\"\")","v":"2018"},"8948360",{"$f":"CONCATENATE(VLOOKUP(B2130,'School List'!$B$3:$H$291,6,FALSE),H2130)","v":"83606302"},{"$f":"CONCATENATE(VLOOKUP(B2130,'School List'!$B$3:$D$291,3,FALSE),H2130)","v":"Wayne County - CENTERVILLE-ABINGTON COMM SCHOOL CORP6302"},{"$f":"IF('Line 1 Source'!B2130<>\"\",'Line 1 Source'!B2130,\"\")","v":"89"},{"$f":"IF('Line 1 Source'!C2130<>\"\",'Line 1 Source'!C2130,\"\")","v":"4"},{"$f":"IF('Line 1 Source'!D2130<>\"\",'Line 1 Source'!D2130,\"\")","v":"8360"},{"$f":"IF('Line 1 Source'!E2130<>\"\",'Line 1 Source'!E2130,\"\")","v":"6302"},{"$f":"IF('Line 1 Source'!F2130<>\"\",'Line 1 Source'!F2130,\"\")","v":246629}]
[{"$f":"IF('Line 1 Source'!A2131<>\"\",'Line 1 Source'!A2131,\"\")","v":"2018"},"8948375",{"$f":"CONCATENATE(VLOOKUP(B2131,'School List'!$B$3:$H$291,6,FALSE),H2131)","v":"83750101"},{"$f":"CONCATENATE(VLOOKUP(B2131,'School List'!$B$3:$D$291,3,FALSE),H2131)","v":"Wayne County - NORTHEASTERN WAYNE SCHOOL CORPORATION0101"},{"$f":"IF('Line 1 Source'!B2131<>\"\",'Line 1 Source'!B2131,\"\")","v":"89"},{"$f":"IF('Line 1 Source'!C2131<>\"\",'Line 1 Source'!C2131,\"\")","v":"4"},{"$f":"IF('Line 1 Source'!D2131<>\"\",'Line 1 Source'!D2131,\"\")","v":"8375"},{"$f":"IF('Line 1 Source'!E2131<>\"\",'Line 1 Source'!E2131,\"\")","v":"0101"},{"$f":"IF('Line 1 Source'!F2131<>\"\",'Line 1 Source'!F2131,\"\")","v":8989664}]
[{"$f":"IF('Line 1 Source'!A2132<>\"\",'Line 1 Source'!A2132,\"\")","v":"2018"},"8948375",{"$f":"CONCATENATE(VLOOKUP(B2132,'School List'!$B$3:$H$291,6,FALSE),H2132)","v":"83750180"},{"$f":"CONCATENATE(VLOOKUP(B2132,'School List'!$B$3:$D$291,3,FALSE),H2132)","v":"Wayne County - NORTHEASTERN WAYNE SCHOOL CORPORATION0180"},{"$f":"IF('Line 1 Source'!B2132<>\"\",'Line 1 Source'!B2132,\"\")","v":"89"},{"$f":"IF('Line 1 Source'!C2132<>\"\",'Line 1 Source'!C2132,\"\")","v":"4"},{"$f":"IF('Line 1 Source'!D2132<>\"\",'Line 1 Source'!D2132,\"\")","v":"8375"},{"$f":"IF('Line 1 Source'!E2132<>\"\",'Line 1 Source'!E2132,\"\")","v":"0180"},{"$f":"IF('Line 1 Source'!F2132<>\"\",'Line 1 Source'!F2132,\"\")","v":965836}]
[{"$f":"IF('Line 1 Source'!A2133<>\"\",'Line 1 Source'!A2133,\"\")","v":"2018"},"8948375",{"$f":"CONCATENATE(VLOOKUP(B2133,'School List'!$B$3:$H$291,6,FALSE),H2133)","v":"83750186"},{"$f":"CONCATENATE(VLOOKUP(B2133,'School List'!$B$3:$D$291,3,FALSE),H2133)","v":"Wayne County - NORTHEASTERN WAYNE SCHOOL CORPORATION0186"},{"$f":"IF('Line 1 Source'!B2133<>\"\",'Line 1 Source'!B2133,\"\")","v":"89"},{"$f":"IF('Line 1 Source'!C2133<>\"\",'Line 1 Source'!C2133,\"\")","v":"4"},{"$f":"IF('Line 1 Source'!D2133<>\"\",'Line 1 Source'!D2133,\"\")","v":"8375"},{"$f":"IF('Line 1 Source'!E2133<>\"\",'Line 1 Source'!E2133,\"\")","v":"0186"},{"$f":"IF('Line 1 Source'!F2133<>\"\",'Line 1 Source'!F2133,\"\")","v":236308}]
[{"$f":"IF('Line 1 Source'!A2134<>\"\",'Line 1 Source'!A2134,\"\")","v":"2018"},"8948375",{"$f":"CONCATENATE(VLOOKUP(B2134,'School List'!$B$3:$H$291,6,FALSE),H2134)","v":"83751214"},{"$f":"CONCATENATE(VLOOKUP(B2134,'School List'!$B$3:$D$291,3,FALSE),H2134)","v":"Wayne County - NORTHEASTERN WAYNE SCHOOL CORPORATION1214"},{"$f":"IF('Line 1 Source'!B2134<>\"\",'Line 1 Source'!B2134,\"\")","v":"89"},{"$f":"IF('Line 1 Source'!C2134<>\"\",'Line 1 Source'!C2134,\"\")","v":"4"},{"$f":"IF('Line 1 Source'!D2134<>\"\",'Line 1 Source'!D2134,\"\")","v":"8375"},{"$f":"IF('Line 1 Source'!E2134<>\"\",'Line 1 Source'!E2134,\"\")","v":"1214"},{"$f":"IF('Line 1 Source'!F2134<>\"\",'Line 1 Source'!F2134,\"\")","v":885412}]
[{"$f":"IF('Line 1 Source'!A2135<>\"\",'Line 1 Source'!A2135,\"\")","v":"2018"},"8948375",{"$f":"CONCATENATE(VLOOKUP(B2135,'School List'!$B$3:$H$291,6,FALSE),H2135)","v":"83756301"},{"$f":"CONCATENATE(VLOOKUP(B2135,'School List'!$B$3:$D$291,3,FALSE),H2135)","v":"Wayne County - NORTHEASTERN WAYNE SCHOOL CORPORATION6301"},{"$f":"IF('Line 1 Source'!B2135<>\"\",'Line 1 Source'!B2135,\"\")","v":"89"},{"$f":"IF('Line 1 Source'!C2135<>\"\",'Line 1 Source'!C2135,\"\")","v":"4"},{"$f":"IF('Line 1 Source'!D2135<>\"\",'Line 1 Source'!D2135,\"\")","v":"8375"},{"$f":"IF('Line 1 Source'!E2135<>\"\",'Line 1 Source'!E2135,\"\")","v":"6301"},{"$f":"IF('Line 1 Source'!F2135<>\"\",'Line 1 Source'!F2135,\"\")","v":675148}]
[{"$f":"IF('Line 1 Source'!A2136<>\"\",'Line 1 Source'!A2136,\"\")","v":"2018"},"8948375",{"$f":"CONCATENATE(VLOOKUP(B2136,'School List'!$B$3:$H$291,6,FALSE),H2136)","v":"83756302"},{"$f":"CONCATENATE(VLOOKUP(B2136,'School List'!$B$3:$D$291,3,FALSE),H2136)","v":"Wayne County - NORTHEASTERN WAYNE SCHOOL CORPORATION6302"},{"$f":"IF('Line 1 Source'!B2136<>\"\",'Line 1 Source'!B2136,\"\")","v":"89"},{"$f":"IF('Line 1 Source'!C2136<>\"\",'Line 1 Source'!C2136,\"\")","v":"4"},{"$f":"IF('Line 1 Source'!D2136<>\"\",'Line 1 Source'!D2136,\"\")","v":"8375"},{"$f":"IF('Line 1 Source'!E2136<>\"\",'Line 1 Source'!E2136,\"\")","v":"6302"},{"$f":"IF('Line 1 Source'!F2136<>\"\",'Line 1 Source'!F2136,\"\")","v":185028}]
[{"$f":"IF('Line 1 Source'!A2137<>\"\",'Line 1 Source'!A2137,\"\")","v":"2018"},"8948385",{"$f":"CONCATENATE(VLOOKUP(B2137,'School List'!$B$3:$H$291,6,FALSE),H2137)","v":"83850061"},{"$f":"CONCATENATE(VLOOKUP(B2137,'School List'!$B$3:$D$291,3,FALSE),H2137)","v":"Wayne County - RICHMOND COMMUNITY SCHOOL CORPORATION0061"},{"$f":"IF('Line 1 Source'!B2137<>\"\",'Line 1 Source'!B2137,\"\")","v":"89"},{"$f":"IF('Line 1 Source'!C2137<>\"\",'Line 1 Source'!C2137,\"\")","v":"4"},{"$f":"IF('Line 1 Source'!D2137<>\"\",'Line 1 Source'!D2137,\"\")","v":"8385"},{"$f":"IF('Line 1 Source'!E2137<>\"\",'Line 1 Source'!E2137,\"\")","v":"0061"},{"$f":"IF('Line 1 Source'!F2137<>\"\",'Line 1 Source'!F2137,\"\")","v":600000}]
[{"$f":"IF('Line 1 Source'!A2138<>\"\",'Line 1 Source'!A2138,\"\")","v":"2018"},"8948385",{"$f":"CONCATENATE(VLOOKUP(B2138,'School List'!$B$3:$H$291,6,FALSE),H2138)","v":"83850101"},{"$f":"CONCATENATE(VLOOKUP(B2138,'School List'!$B$3:$D$291,3,FALSE),H2138)","v":"Wayne County - RICHMOND COMMUNITY SCHOOL CORPORATION0101"},{"$f":"IF('Line 1 Source'!B2138<>\"\",'Line 1 Source'!B2138,\"\")","v":"89"},{"$f":"IF('Line 1 Source'!C2138<>\"\",'Line 1 Source'!C2138,\"\")","v":"4"},{"$f":"IF('Line 1 Source'!D2138<>\"\",'Line 1 Source'!D2138,\"\")","v":"8385"},{"$f":"IF('Line 1 Source'!E2138<>\"\",'Line 1 Source'!E2138,\"\")","v":"0101"},{"$f":"IF('Line 1 Source'!F2138<>\"\",'Line 1 Source'!F2138,\"\")","v":38371624}]
[{"$f":"IF('Line 1 Source'!A2139<>\"\",'Line 1 Source'!A2139,\"\")","v":"2018"},"8948385",{"$f":"CONCATENATE(VLOOKUP(B2139,'School List'!$B$3:$H$291,6,FALSE),H2139)","v":"83850180"},{"$f":"CONCATENATE(VLOOKUP(B2139,'School List'!$B$3:$D$291,3,FALSE),H2139)","v":"Wayne County - RICHMOND COMMUNITY SCHOOL CORPORATION0180"},{"$f":"IF('Line 1 Source'!B2139<>\"\",'Line 1 Source'!B2139,\"\")","v":"89"},{"$f":"IF('Line 1 Source'!C2139<>\"\",'Line 1 Source'!C2139,\"\")","v":"4"},{"$f":"IF('Line 1 Source'!D2139<>\"\",'Line 1 Source'!D2139,\"\")","v":"8385"},{"$f":"IF('Line 1 Source'!E2139<>\"\",'Line 1 Source'!E2139,\"\")","v":"0180"},{"$f":"IF('Line 1 Source'!F2139<>\"\",'Line 1 Source'!F2139,\"\")","v":1423488}]
[{"$f":"IF('Line 1 Source'!A2140<>\"\",'Line 1 Source'!A2140,\"\")","v":"2018"},"8948385",{"$f":"CONCATENATE(VLOOKUP(B2140,'School List'!$B$3:$H$291,6,FALSE),H2140)","v":"83850186"},{"$f":"CONCATENATE(VLOOKUP(B2140,'School List'!$B$3:$D$291,3,FALSE),H2140)","v":"Wayne County - RICHMOND COMMUNITY SCHOOL CORPORATION0186"},{"$f":"IF('Line 1 Source'!B2140<>\"\",'Line 1 Source'!B2140,\"\")","v":"89"},{"$f":"IF('Line 1 Source'!C2140<>\"\",'Line 1 Source'!C2140,\"\")","v":"4"},{"$f":"IF('Line 1 Source'!D2140<>\"\",'Line 1 Source'!D2140,\"\")","v":"8385"},{"$f":"IF('Line 1 Source'!E2140<>\"\",'Line 1 Source'!E2140,\"\")","v":"0186"},{"$f":"IF('Line 1 Source'!F2140<>\"\",'Line 1 Source'!F2140,\"\")","v":1720357}]
[{"$f":"IF('Line 1 Source'!A2141<>\"\",'Line 1 Source'!A2141,\"\")","v":"2018"},"8948385",{"$f":"CONCATENATE(VLOOKUP(B2141,'School List'!$B$3:$H$291,6,FALSE),H2141)","v":"83851214"},{"$f":"CONCATENATE(VLOOKUP(B2141,'School List'!$B$3:$D$291,3,FALSE),H2141)","v":"Wayne County - RICHMOND COMMUNITY SCHOOL CORPORATION1214"},{"$f":"IF('Line 1 Source'!B2141<>\"\",'Line 1 Source'!B2141,\"\")","v":"89"},{"$f":"IF('Line 1 Source'!C2141<>\"\",'Line 1 Source'!C2141,\"\")","v":"4"},{"$f":"IF('Line 1 Source'!D2141<>\"\",'Line 1 Source'!D2141,\"\")","v":"8385"},{"$f":"IF('Line 1 Source'!E2141<>\"\",'Line 1 Source'!E2141,\"\")","v":"1214"},{"$f":"IF('Line 1 Source'!F2141<>\"\",'Line 1 Source'!F2141,\"\")","v":4373099}]
[{"$f":"IF('Line 1 Source'!A2142<>\"\",'Line 1 Source'!A2142,\"\")","v":"2018"},"8948385",{"$f":"CONCATENATE(VLOOKUP(B2142,'School List'!$B$3:$H$291,6,FALSE),H2142)","v":"83856301"},{"$f":"CONCATENATE(VLOOKUP(B2142,'School List'!$B$3:$D$291,3,FALSE),H2142)","v":"Wayne County - RICHMOND COMMUNITY SCHOOL CORPORATION6301"},{"$f":"IF('Line 1 Source'!B2142<>\"\",'Line 1 Source'!B2142,\"\")","v":"89"},{"$f":"IF('Line 1 Source'!C2142<>\"\",'Line 1 Source'!C2142,\"\")","v":"4"},{"$f":"IF('Line 1 Source'!D2142<>\"\",'Line 1 Source'!D2142,\"\")","v":"8385"},{"$f":"IF('Line 1 Source'!E2142<>\"\",'Line 1 Source'!E2142,\"\")","v":"6301"},{"$f":"IF('Line 1 Source'!F2142<>\"\",'Line 1 Source'!F2142,\"\")","v":2954250}]
[{"$f":"IF('Line 1 Source'!A2143<>\"\",'Line 1 Source'!A2143,\"\")","v":"2018"},"8948385",{"$f":"CONCATENATE(VLOOKUP(B2143,'School List'!$B$3:$H$291,6,FALSE),H2143)","v":"83856302"},{"$f":"CONCATENATE(VLOOKUP(B2143,'School List'!$B$3:$D$291,3,FALSE),H2143)","v":"Wayne County - RICHMOND COMMUNITY SCHOOL CORPORATION6302"},{"$f":"IF('Line 1 Source'!B2143<>\"\",'Line 1 Source'!B2143,\"\")","v":"89"},{"$f":"IF('Line 1 Source'!C2143<>\"\",'Line 1 Source'!C2143,\"\")","v":"4"},{"$f":"IF('Line 1 Source'!D2143<>\"\",'Line 1 Source'!D2143,\"\")","v":"8385"},{"$f":"IF('Line 1 Source'!E2143<>\"\",'Line 1 Source'!E2143,\"\")","v":"6302"},{"$f":"IF('Line 1 Source'!F2143<>\"\",'Line 1 Source'!F2143,\"\")","v":782481}]
[{"$f":"IF('Line 1 Source'!A2144<>\"\",'Line 1 Source'!A2144,\"\")","v":"2018"},"9048425",{"$f":"CONCATENATE(VLOOKUP(B2144,'School List'!$B$3:$H$291,6,FALSE),H2144)","v":"84250021"},{"$f":"CONCATENATE(VLOOKUP(B2144,'School List'!$B$3:$D$291,3,FALSE),H2144)","v":"Wells County - SOUTHERN WELLS COMMUNITY SCHOOL CORP0021"},{"$f":"IF('Line 1 Source'!B2144<>\"\",'Line 1 Source'!B2144,\"\")","v":"90"},{"$f":"IF('Line 1 Source'!C2144<>\"\",'Line 1 Source'!C2144,\"\")","v":"4"},{"$f":"IF('Line 1 Source'!D2144<>\"\",'Line 1 Source'!D2144,\"\")","v":"8425"},{"$f":"IF('Line 1 Source'!E2144<>\"\",'Line 1 Source'!E2144,\"\")","v":"0021"},{"$f":"IF('Line 1 Source'!F2144<>\"\",'Line 1 Source'!F2144,\"\")","v":0}]
[{"$f":"IF('Line 1 Source'!A2145<>\"\",'Line 1 Source'!A2145,\"\")","v":"2018"},"9048425",{"$f":"CONCATENATE(VLOOKUP(B2145,'School List'!$B$3:$H$291,6,FALSE),H2145)","v":"84250022"},{"$f":"CONCATENATE(VLOOKUP(B2145,'School List'!$B$3:$D$291,3,FALSE),H2145)","v":"Wells County - SOUTHERN WELLS COMMUNITY SCHOOL CORP0022"},{"$f":"IF('Line 1 Source'!B2145<>\"\",'Line 1 Source'!B2145,\"\")","v":"90"},{"$f":"IF('Line 1 Source'!C2145<>\"\",'Line 1 Source'!C2145,\"\")","v":"4"},{"$f":"IF('Line 1 Source'!D2145<>\"\",'Line 1 Source'!D2145,\"\")","v":"8425"},{"$f":"IF('Line 1 Source'!E2145<>\"\",'Line 1 Source'!E2145,\"\")","v":"0022"},{"$f":"IF('Line 1 Source'!F2145<>\"\",'Line 1 Source'!F2145,\"\")","v":480500}]
[{"$f":"IF('Line 1 Source'!A2146<>\"\",'Line 1 Source'!A2146,\"\")","v":"2018"},"9048425",{"$f":"CONCATENATE(VLOOKUP(B2146,'School List'!$B$3:$H$291,6,FALSE),H2146)","v":"84250061"},{"$f":"CONCATENATE(VLOOKUP(B2146,'School List'!$B$3:$D$291,3,FALSE),H2146)","v":"Wells County - SOUTHERN WELLS COMMUNITY SCHOOL CORP0061"},{"$f":"IF('Line 1 Source'!B2146<>\"\",'Line 1 Source'!B2146,\"\")","v":"90"},{"$f":"IF('Line 1 Source'!C2146<>\"\",'Line 1 Source'!C2146,\"\")","v":"4"},{"$f":"IF('Line 1 Source'!D2146<>\"\",'Line 1 Source'!D2146,\"\")","v":"8425"},{"$f":"IF('Line 1 Source'!E2146<>\"\",'Line 1 Source'!E2146,\"\")","v":"0061"},{"$f":"IF('Line 1 Source'!F2146<>\"\",'Line 1 Source'!F2146,\"\")","v":500000}]
[{"$f":"IF('Line 1 Source'!A2147<>\"\",'Line 1 Source'!A2147,\"\")","v":"2018"},"9048425",{"$f":"CONCATENATE(VLOOKUP(B2147,'School List'!$B$3:$H$291,6,FALSE),H2147)","v":"84250101"},{"$f":"CONCATENATE(VLOOKUP(B2147,'School List'!$B$3:$D$291,3,FALSE),H2147)","v":"Wells County - SOUTHERN WELLS COMMUNITY SCHOOL CORP0101"},{"$f":"IF('Line 1 Source'!B2147<>\"\",'Line 1 Source'!B2147,\"\")","v":"90"},{"$f":"IF('Line 1 Source'!C2147<>\"\",'Line 1 Source'!C2147,\"\")","v":"4"},{"$f":"IF('Line 1 Source'!D2147<>\"\",'Line 1 Source'!D2147,\"\")","v":"8425"},{"$f":"IF('Line 1 Source'!E2147<>\"\",'Line 1 Source'!E2147,\"\")","v":"0101"},{"$f":"IF('Line 1 Source'!F2147<>\"\",'Line 1 Source'!F2147,\"\")","v":5908019}]
[{"$f":"IF('Line 1 Source'!A2148<>\"\",'Line 1 Source'!A2148,\"\")","v":"2018"},"9048425",{"$f":"CONCATENATE(VLOOKUP(B2148,'School List'!$B$3:$H$291,6,FALSE),H2148)","v":"84250180"},{"$f":"CONCATENATE(VLOOKUP(B2148,'School List'!$B$3:$D$291,3,FALSE),H2148)","v":"Wells County - SOUTHERN WELLS COMMUNITY SCHOOL CORP0180"},{"$f":"IF('Line 1 Source'!B2148<>\"\",'Line 1 Source'!B2148,\"\")","v":"90"},{"$f":"IF('Line 1 Source'!C2148<>\"\",'Line 1 Source'!C2148,\"\")","v":"4"},{"$f":"IF('Line 1 Source'!D2148<>\"\",'Line 1 Source'!D2148,\"\")","v":"8425"},{"$f":"IF('Line 1 Source'!E2148<>\"\",'Line 1 Source'!E2148,\"\")","v":"0180"},{"$f":"IF('Line 1 Source'!F2148<>\"\",'Line 1 Source'!F2148,\"\")","v":222000}]
[{"$f":"IF('Line 1 Source'!A2149<>\"\",'Line 1 Source'!A2149,\"\")","v":"2018"},"9048425",{"$f":"CONCATENATE(VLOOKUP(B2149,'School List'!$B$3:$H$291,6,FALSE),H2149)","v":"84251214"},{"$f":"CONCATENATE(VLOOKUP(B2149,'School List'!$B$3:$D$291,3,FALSE),H2149)","v":"Wells County - SOUTHERN WELLS COMMUNITY SCHOOL CORP1214"},{"$f":"IF('Line 1 Source'!B2149<>\"\",'Line 1 Source'!B2149,\"\")","v":"90"},{"$f":"IF('Line 1 Source'!C2149<>\"\",'Line 1 Source'!C2149,\"\")","v":"4"},{"$f":"IF('Line 1 Source'!D2149<>\"\",'Line 1 Source'!D2149,\"\")","v":"8425"},{"$f":"IF('Line 1 Source'!E2149<>\"\",'Line 1 Source'!E2149,\"\")","v":"1214"},{"$f":"IF('Line 1 Source'!F2149<>\"\",'Line 1 Source'!F2149,\"\")","v":763904}]
[{"$f":"IF('Line 1 Source'!A2150<>\"\",'Line 1 Source'!A2150,\"\")","v":"2018"},"9048425",{"$f":"CONCATENATE(VLOOKUP(B2150,'School List'!$B$3:$H$291,6,FALSE),H2150)","v":"84256301"},{"$f":"CONCATENATE(VLOOKUP(B2150,'School List'!$B$3:$D$291,3,FALSE),H2150)","v":"Wells County - SOUTHERN WELLS COMMUNITY SCHOOL CORP6301"},{"$f":"IF('Line 1 Source'!B2150<>\"\",'Line 1 Source'!B2150,\"\")","v":"90"},{"$f":"IF('Line 1 Source'!C2150<>\"\",'Line 1 Source'!C2150,\"\")","v":"4"},{"$f":"IF('Line 1 Source'!D2150<>\"\",'Line 1 Source'!D2150,\"\")","v":"8425"},{"$f":"IF('Line 1 Source'!E2150<>\"\",'Line 1 Source'!E2150,\"\")","v":"6301"},{"$f":"IF('Line 1 Source'!F2150<>\"\",'Line 1 Source'!F2150,\"\")","v":706345}]
[{"$f":"IF('Line 1 Source'!A2151<>\"\",'Line 1 Source'!A2151,\"\")","v":"2018"},"9048425",{"$f":"CONCATENATE(VLOOKUP(B2151,'School List'!$B$3:$H$291,6,FALSE),H2151)","v":"84256302"},{"$f":"CONCATENATE(VLOOKUP(B2151,'School List'!$B$3:$D$291,3,FALSE),H2151)","v":"Wells County - SOUTHERN WELLS COMMUNITY SCHOOL CORP6302"},{"$f":"IF('Line 1 Source'!B2151<>\"\",'Line 1 Source'!B2151,\"\")","v":"90"},{"$f":"IF('Line 1 Source'!C2151<>\"\",'Line 1 Source'!C2151,\"\")","v":"4"},{"$f":"IF('Line 1 Source'!D2151<>\"\",'Line 1 Source'!D2151,\"\")","v":"8425"},{"$f":"IF('Line 1 Source'!E2151<>\"\",'Line 1 Source'!E2151,\"\")","v":"6302"},{"$f":"IF('Line 1 Source'!F2151<>\"\",'Line 1 Source'!F2151,\"\")","v":189274}]
[{"$f":"IF('Line 1 Source'!A2152<>\"\",'Line 1 Source'!A2152,\"\")","v":"2018"},"9048435",{"$f":"CONCATENATE(VLOOKUP(B2152,'School List'!$B$3:$H$291,6,FALSE),H2152)","v":"84350101"},{"$f":"CONCATENATE(VLOOKUP(B2152,'School List'!$B$3:$D$291,3,FALSE),H2152)","v":"Wells County - NORTHERN WELLS COMMUNITY SCHOOL CORP0101"},{"$f":"IF('Line 1 Source'!B2152<>\"\",'Line 1 Source'!B2152,\"\")","v":"90"},{"$f":"IF('Line 1 Source'!C2152<>\"\",'Line 1 Source'!C2152,\"\")","v":"4"},{"$f":"IF('Line 1 Source'!D2152<>\"\",'Line 1 Source'!D2152,\"\")","v":"8435"},{"$f":"IF('Line 1 Source'!E2152<>\"\",'Line 1 Source'!E2152,\"\")","v":"0101"},{"$f":"IF('Line 1 Source'!F2152<>\"\",'Line 1 Source'!F2152,\"\")","v":15973413}]
[{"$f":"IF('Line 1 Source'!A2153<>\"\",'Line 1 Source'!A2153,\"\")","v":"2018"},"9048435",{"$f":"CONCATENATE(VLOOKUP(B2153,'School List'!$B$3:$H$291,6,FALSE),H2153)","v":"84350180"},{"$f":"CONCATENATE(VLOOKUP(B2153,'School List'!$B$3:$D$291,3,FALSE),H2153)","v":"Wells County - NORTHERN WELLS COMMUNITY SCHOOL CORP0180"},{"$f":"IF('Line 1 Source'!B2153<>\"\",'Line 1 Source'!B2153,\"\")","v":"90"},{"$f":"IF('Line 1 Source'!C2153<>\"\",'Line 1 Source'!C2153,\"\")","v":"4"},{"$f":"IF('Line 1 Source'!D2153<>\"\",'Line 1 Source'!D2153,\"\")","v":"8435"},{"$f":"IF('Line 1 Source'!E2153<>\"\",'Line 1 Source'!E2153,\"\")","v":"0180"},{"$f":"IF('Line 1 Source'!F2153<>\"\",'Line 1 Source'!F2153,\"\")","v":2048908}]
[{"$f":"IF('Line 1 Source'!A2154<>\"\",'Line 1 Source'!A2154,\"\")","v":"2018"},"9048435",{"$f":"CONCATENATE(VLOOKUP(B2154,'School List'!$B$3:$H$291,6,FALSE),H2154)","v":"84350186"},{"$f":"CONCATENATE(VLOOKUP(B2154,'School List'!$B$3:$D$291,3,FALSE),H2154)","v":"Wells County - NORTHERN WELLS COMMUNITY SCHOOL CORP0186"},{"$f":"IF('Line 1 Source'!B2154<>\"\",'Line 1 Source'!B2154,\"\")","v":"90"},{"$f":"IF('Line 1 Source'!C2154<>\"\",'Line 1 Source'!C2154,\"\")","v":"4"},{"$f":"IF('Line 1 Source'!D2154<>\"\",'Line 1 Source'!D2154,\"\")","v":"8435"},{"$f":"IF('Line 1 Source'!E2154<>\"\",'Line 1 Source'!E2154,\"\")","v":"0186"},{"$f":"IF('Line 1 Source'!F2154<>\"\",'Line 1 Source'!F2154,\"\")","v":364740}]
[{"$f":"IF('Line 1 Source'!A2155<>\"\",'Line 1 Source'!A2155,\"\")","v":"2018"},"9048435",{"$f":"CONCATENATE(VLOOKUP(B2155,'School List'!$B$3:$H$291,6,FALSE),H2155)","v":"84350287"},{"$f":"CONCATENATE(VLOOKUP(B2155,'School List'!$B$3:$D$291,3,FALSE),H2155)","v":"Wells County - NORTHERN WELLS COMMUNITY SCHOOL CORP0287"},{"$f":"IF('Line 1 Source'!B2155<>\"\",'Line 1 Source'!B2155,\"\")","v":"90"},{"$f":"IF('Line 1 Source'!C2155<>\"\",'Line 1 Source'!C2155,\"\")","v":"4"},{"$f":"IF('Line 1 Source'!D2155<>\"\",'Line 1 Source'!D2155,\"\")","v":"8435"},{"$f":"IF('Line 1 Source'!E2155<>\"\",'Line 1 Source'!E2155,\"\")","v":"0287"},{"$f":"IF('Line 1 Source'!F2155<>\"\",'Line 1 Source'!F2155,\"\")","v":989300}]
[{"$f":"IF('Line 1 Source'!A2156<>\"\",'Line 1 Source'!A2156,\"\")","v":"2018"},"9048435",{"$f":"CONCATENATE(VLOOKUP(B2156,'School List'!$B$3:$H$291,6,FALSE),H2156)","v":"84351214"},{"$f":"CONCATENATE(VLOOKUP(B2156,'School List'!$B$3:$D$291,3,FALSE),H2156)","v":"Wells County - NORTHERN WELLS COMMUNITY SCHOOL CORP1214"},{"$f":"IF('Line 1 Source'!B2156<>\"\",'Line 1 Source'!B2156,\"\")","v":"90"},{"$f":"IF('Line 1 Source'!C2156<>\"\",'Line 1 Source'!C2156,\"\")","v":"4"},{"$f":"IF('Line 1 Source'!D2156<>\"\",'Line 1 Source'!D2156,\"\")","v":"8435"},{"$f":"IF('Line 1 Source'!E2156<>\"\",'Line 1 Source'!E2156,\"\")","v":"1214"},{"$f":"IF('Line 1 Source'!F2156<>\"\",'Line 1 Source'!F2156,\"\")","v":2669208}]
[{"$f":"IF('Line 1 Source'!A2157<>\"\",'Line 1 Source'!A2157,\"\")","v":"2018"},"9048435",{"$f":"CONCATENATE(VLOOKUP(B2157,'School List'!$B$3:$H$291,6,FALSE),H2157)","v":"84356301"},{"$f":"CONCATENATE(VLOOKUP(B2157,'School List'!$B$3:$D$291,3,FALSE),H2157)","v":"Wells County - NORTHERN WELLS COMMUNITY SCHOOL CORP6301"},{"$f":"IF('Line 1 Source'!B2157<>\"\",'Line 1 Source'!B2157,\"\")","v":"90"},{"$f":"IF('Line 1 Source'!C2157<>\"\",'Line 1 Source'!C2157,\"\")","v":"4"},{"$f":"IF('Line 1 Source'!D2157<>\"\",'Line 1 Source'!D2157,\"\")","v":"8435"},{"$f":"IF('Line 1 Source'!E2157<>\"\",'Line 1 Source'!E2157,\"\")","v":"6301"},{"$f":"IF('Line 1 Source'!F2157<>\"\",'Line 1 Source'!F2157,\"\")","v":1659071}]
[{"$f":"IF('Line 1 Source'!A2158<>\"\",'Line 1 Source'!A2158,\"\")","v":"2018"},"9048435",{"$f":"CONCATENATE(VLOOKUP(B2158,'School List'!$B$3:$H$291,6,FALSE),H2158)","v":"84356302"},{"$f":"CONCATENATE(VLOOKUP(B2158,'School List'!$B$3:$D$291,3,FALSE),H2158)","v":"Wells County - NORTHERN WELLS COMMUNITY SCHOOL CORP6302"},{"$f":"IF('Line 1 Source'!B2158<>\"\",'Line 1 Source'!B2158,\"\")","v":"90"},{"$f":"IF('Line 1 Source'!C2158<>\"\",'Line 1 Source'!C2158,\"\")","v":"4"},{"$f":"IF('Line 1 Source'!D2158<>\"\",'Line 1 Source'!D2158,\"\")","v":"8435"},{"$f":"IF('Line 1 Source'!E2158<>\"\",'Line 1 Source'!E2158,\"\")","v":"6302"},{"$f":"IF('Line 1 Source'!F2158<>\"\",'Line 1 Source'!F2158,\"\")","v":122249}]
[{"$f":"IF('Line 1 Source'!A2159<>\"\",'Line 1 Source'!A2159,\"\")","v":"2018"},"9048445",{"$f":"CONCATENATE(VLOOKUP(B2159,'School List'!$B$3:$H$291,6,FALSE),H2159)","v":"84450061"},{"$f":"CONCATENATE(VLOOKUP(B2159,'School List'!$B$3:$D$291,3,FALSE),H2159)","v":"Wells County - M.S.D. BLUFFTON-HARRISON SCHOOL CORP0061"},{"$f":"IF('Line 1 Source'!B2159<>\"\",'Line 1 Source'!B2159,\"\")","v":"90"},{"$f":"IF('Line 1 Source'!C2159<>\"\",'Line 1 Source'!C2159,\"\")","v":"4"},{"$f":"IF('Line 1 Source'!D2159<>\"\",'Line 1 Source'!D2159,\"\")","v":"8445"},{"$f":"IF('Line 1 Source'!E2159<>\"\",'Line 1 Source'!E2159,\"\")","v":"0061"},{"$f":"IF('Line 1 Source'!F2159<>\"\",'Line 1 Source'!F2159,\"\")","v":550000}]
[{"$f":"IF('Line 1 Source'!A2160<>\"\",'Line 1 Source'!A2160,\"\")","v":"2018"},"9048445",{"$f":"CONCATENATE(VLOOKUP(B2160,'School List'!$B$3:$H$291,6,FALSE),H2160)","v":"84450101"},{"$f":"CONCATENATE(VLOOKUP(B2160,'School List'!$B$3:$D$291,3,FALSE),H2160)","v":"Wells County - M.S.D. BLUFFTON-HARRISON SCHOOL CORP0101"},{"$f":"IF('Line 1 Source'!B2160<>\"\",'Line 1 Source'!B2160,\"\")","v":"90"},{"$f":"IF('Line 1 Source'!C2160<>\"\",'Line 1 Source'!C2160,\"\")","v":"4"},{"$f":"IF('Line 1 Source'!D2160<>\"\",'Line 1 Source'!D2160,\"\")","v":"8445"},{"$f":"IF('Line 1 Source'!E2160<>\"\",'Line 1 Source'!E2160,\"\")","v":"0101"},{"$f":"IF('Line 1 Source'!F2160<>\"\",'Line 1 Source'!F2160,\"\")","v":12643087}]
[{"$f":"IF('Line 1 Source'!A2161<>\"\",'Line 1 Source'!A2161,\"\")","v":"2018"},"9048445",{"$f":"CONCATENATE(VLOOKUP(B2161,'School List'!$B$3:$H$291,6,FALSE),H2161)","v":"84450180"},{"$f":"CONCATENATE(VLOOKUP(B2161,'School List'!$B$3:$D$291,3,FALSE),H2161)","v":"Wells County - M.S.D. BLUFFTON-HARRISON SCHOOL CORP0180"},{"$f":"IF('Line 1 Source'!B2161<>\"\",'Line 1 Source'!B2161,\"\")","v":"90"},{"$f":"IF('Line 1 Source'!C2161<>\"\",'Line 1 Source'!C2161,\"\")","v":"4"},{"$f":"IF('Line 1 Source'!D2161<>\"\",'Line 1 Source'!D2161,\"\")","v":"8445"},{"$f":"IF('Line 1 Source'!E2161<>\"\",'Line 1 Source'!E2161,\"\")","v":"0180"},{"$f":"IF('Line 1 Source'!F2161<>\"\",'Line 1 Source'!F2161,\"\")","v":2533869}]
[{"$f":"IF('Line 1 Source'!A2162<>\"\",'Line 1 Source'!A2162,\"\")","v":"2018"},"9048445",{"$f":"CONCATENATE(VLOOKUP(B2162,'School List'!$B$3:$H$291,6,FALSE),H2162)","v":"84451214"},{"$f":"CONCATENATE(VLOOKUP(B2162,'School List'!$B$3:$D$291,3,FALSE),H2162)","v":"Wells County - M.S.D. BLUFFTON-HARRISON SCHOOL CORP1214"},{"$f":"IF('Line 1 Source'!B2162<>\"\",'Line 1 Source'!B2162,\"\")","v":"90"},{"$f":"IF('Line 1 Source'!C2162<>\"\",'Line 1 Source'!C2162,\"\")","v":"4"},{"$f":"IF('Line 1 Source'!D2162<>\"\",'Line 1 Source'!D2162,\"\")","v":"8445"},{"$f":"IF('Line 1 Source'!E2162<>\"\",'Line 1 Source'!E2162,\"\")","v":"1214"},{"$f":"IF('Line 1 Source'!F2162<>\"\",'Line 1 Source'!F2162,\"\")","v":1786241}]
[{"$f":"IF('Line 1 Source'!A2163<>\"\",'Line 1 Source'!A2163,\"\")","v":"2018"},"9048445",{"$f":"CONCATENATE(VLOOKUP(B2163,'School List'!$B$3:$H$291,6,FALSE),H2163)","v":"84456301"},{"$f":"CONCATENATE(VLOOKUP(B2163,'School List'!$B$3:$D$291,3,FALSE),H2163)","v":"Wells County - M.S.D. BLUFFTON-HARRISON SCHOOL CORP6301"},{"$f":"IF('Line 1 Source'!B2163<>\"\",'Line 1 Source'!B2163,\"\")","v":"90"},{"$f":"IF('Line 1 Source'!C2163<>\"\",'Line 1 Source'!C2163,\"\")","v":"4"},{"$f":"IF('Line 1 Source'!D2163<>\"\",'Line 1 Source'!D2163,\"\")","v":"8445"},{"$f":"IF('Line 1 Source'!E2163<>\"\",'Line 1 Source'!E2163,\"\")","v":"6301"},{"$f":"IF('Line 1 Source'!F2163<>\"\",'Line 1 Source'!F2163,\"\")","v":1041430}]
[{"$f":"IF('Line 1 Source'!A2164<>\"\",'Line 1 Source'!A2164,\"\")","v":"2018"},"9048445",{"$f":"CONCATENATE(VLOOKUP(B2164,'School List'!$B$3:$H$291,6,FALSE),H2164)","v":"84456302"},{"$f":"CONCATENATE(VLOOKUP(B2164,'School List'!$B$3:$D$291,3,FALSE),H2164)","v":"Wells County - M.S.D. BLUFFTON-HARRISON SCHOOL CORP6302"},{"$f":"IF('Line 1 Source'!B2164<>\"\",'Line 1 Source'!B2164,\"\")","v":"90"},{"$f":"IF('Line 1 Source'!C2164<>\"\",'Line 1 Source'!C2164,\"\")","v":"4"},{"$f":"IF('Line 1 Source'!D2164<>\"\",'Line 1 Source'!D2164,\"\")","v":"8445"},{"$f":"IF('Line 1 Source'!E2164<>\"\",'Line 1 Source'!E2164,\"\")","v":"6302"},{"$f":"IF('Line 1 Source'!F2164<>\"\",'Line 1 Source'!F2164,\"\")","v":300000}]
[{"$f":"IF('Line 1 Source'!A2165<>\"\",'Line 1 Source'!A2165,\"\")","v":"2018"},"9140775",{"$f":"CONCATENATE(VLOOKUP(B2165,'School List'!$B$3:$H$291,6,FALSE),H2165)","v":{"$error":"#N/A"}},{"$f":"CONCATENATE(VLOOKUP(B2165,'School List'!$B$3:$D$291,3,FALSE),H2165)","v":{"$error":"#N/A"}},{"$f":"IF('Line 1 Source'!B2165<>\"\",'Line 1 Source'!B2165,\"\")","v":"91"},{"$f":"IF('Line 1 Source'!C2165<>\"\",'Line 1 Source'!C2165,\"\")","v":"4"},{"$f":"IF('Line 1 Source'!D2165<>\"\",'Line 1 Source'!D2165,\"\")","v":"0775"},{"$f":"IF('Line 1 Source'!E2165<>\"\",'Line 1 Source'!E2165,\"\")","v":"0061"},{"$f":"IF('Line 1 Source'!F2165<>\"\",'Line 1 Source'!F2165,\"\")","v":0}]
[{"$f":"IF('Line 1 Source'!A2166<>\"\",'Line 1 Source'!A2166,\"\")","v":"2018"},"9140775",{"$f":"CONCATENATE(VLOOKUP(B2166,'School List'!$B$3:$H$291,6,FALSE),H2166)","v":{"$error":"#N/A"}},{"$f":"CONCATENATE(VLOOKUP(B2166,'School List'!$B$3:$D$291,3,FALSE),H2166)","v":{"$error":"#N/A"}},{"$f":"IF('Line 1 Source'!B2166<>\"\",'Line 1 Source'!B2166,\"\")","v":"91"},{"$f":"IF('Line 1 Source'!C2166<>\"\",'Line 1 Source'!C2166,\"\")","v":"4"},{"$f":"IF('Line 1 Source'!D2166<>\"\",'Line 1 Source'!D2166,\"\")","v":"0775"},{"$f":"IF('Line 1 Source'!E2166<>\"\",'Line 1 Source'!E2166,\"\")","v":"0101"},{"$f":"IF('Line 1 Source'!F2166<>\"\",'Line 1 Source'!F2166,\"\")","v":0}]
[{"$f":"IF('Line 1 Source'!A2167<>\"\",'Line 1 Source'!A2167,\"\")","v":"2018"},"9140775",{"$f":"CONCATENATE(VLOOKUP(B2167,'School List'!$B$3:$H$291,6,FALSE),H2167)","v":{"$error":"#N/A"}},{"$f":"CONCATENATE(VLOOKUP(B2167,'School List'!$B$3:$D$291,3,FALSE),H2167)","v":{"$error":"#N/A"}},{"$f":"IF('Line 1 Source'!B2167<>\"\",'Line 1 Source'!B2167,\"\")","v":"91"},{"$f":"IF('Line 1 Source'!C2167<>\"\",'Line 1 Source'!C2167,\"\")","v":"4"},{"$f":"IF('Line 1 Source'!D2167<>\"\",'Line 1 Source'!D2167,\"\")","v":"0775"},{"$f":"IF('Line 1 Source'!E2167<>\"\",'Line 1 Source'!E2167,\"\")","v":"0180"},{"$f":"IF('Line 1 Source'!F2167<>\"\",'Line 1 Source'!F2167,\"\")","v":0}]
[{"$f":"IF('Line 1 Source'!A2168<>\"\",'Line 1 Source'!A2168,\"\")","v":"2018"},"9140775",{"$f":"CONCATENATE(VLOOKUP(B2168,'School List'!$B$3:$H$291,6,FALSE),H2168)","v":{"$error":"#N/A"}},{"$f":"CONCATENATE(VLOOKUP(B2168,'School List'!$B$3:$D$291,3,FALSE),H2168)","v":{"$error":"#N/A"}},{"$f":"IF('Line 1 Source'!B2168<>\"\",'Line 1 Source'!B2168,\"\")","v":"91"},{"$f":"IF('Line 1 Source'!C2168<>\"\",'Line 1 Source'!C2168,\"\")","v":"4"},{"$f":"IF('Line 1 Source'!D2168<>\"\",'Line 1 Source'!D2168,\"\")","v":"0775"},{"$f":"IF('Line 1 Source'!E2168<>\"\",'Line 1 Source'!E2168,\"\")","v":"0186"},{"$f":"IF('Line 1 Source'!F2168<>\"\",'Line 1 Source'!F2168,\"\")","v":0}]
[{"$f":"IF('Line 1 Source'!A2169<>\"\",'Line 1 Source'!A2169,\"\")","v":"2018"},"9140775",{"$f":"CONCATENATE(VLOOKUP(B2169,'School List'!$B$3:$H$291,6,FALSE),H2169)","v":{"$error":"#N/A"}},{"$f":"CONCATENATE(VLOOKUP(B2169,'School List'!$B$3:$D$291,3,FALSE),H2169)","v":{"$error":"#N/A"}},{"$f":"IF('Line 1 Source'!B2169<>\"\",'Line 1 Source'!B2169,\"\")","v":"91"},{"$f":"IF('Line 1 Source'!C2169<>\"\",'Line 1 Source'!C2169,\"\")","v":"4"},{"$f":"IF('Line 1 Source'!D2169<>\"\",'Line 1 Source'!D2169,\"\")","v":"0775"},{"$f":"IF('Line 1 Source'!E2169<>\"\",'Line 1 Source'!E2169,\"\")","v":"1214"},{"$f":"IF('Line 1 Source'!F2169<>\"\",'Line 1 Source'!F2169,\"\")","v":0}]
[{"$f":"IF('Line 1 Source'!A2170<>\"\",'Line 1 Source'!A2170,\"\")","v":"2018"},"9140775",{"$f":"CONCATENATE(VLOOKUP(B2170,'School List'!$B$3:$H$291,6,FALSE),H2170)","v":{"$error":"#N/A"}},{"$f":"CONCATENATE(VLOOKUP(B2170,'School List'!$B$3:$D$291,3,FALSE),H2170)","v":{"$error":"#N/A"}},{"$f":"IF('Line 1 Source'!B2170<>\"\",'Line 1 Source'!B2170,\"\")","v":"91"},{"$f":"IF('Line 1 Source'!C2170<>\"\",'Line 1 Source'!C2170,\"\")","v":"4"},{"$f":"IF('Line 1 Source'!D2170<>\"\",'Line 1 Source'!D2170,\"\")","v":"0775"},{"$f":"IF('Line 1 Source'!E2170<>\"\",'Line 1 Source'!E2170,\"\")","v":"6301"},{"$f":"IF('Line 1 Source'!F2170<>\"\",'Line 1 Source'!F2170,\"\")","v":0}]
[{"$f":"IF('Line 1 Source'!A2171<>\"\",'Line 1 Source'!A2171,\"\")","v":"2018"},"9140775",{"$f":"CONCATENATE(VLOOKUP(B2171,'School List'!$B$3:$H$291,6,FALSE),H2171)","v":{"$error":"#N/A"}},{"$f":"CONCATENATE(VLOOKUP(B2171,'School List'!$B$3:$D$291,3,FALSE),H2171)","v":{"$error":"#N/A"}},{"$f":"IF('Line 1 Source'!B2171<>\"\",'Line 1 Source'!B2171,\"\")","v":"91"},{"$f":"IF('Line 1 Source'!C2171<>\"\",'Line 1 Source'!C2171,\"\")","v":"4"},{"$f":"IF('Line 1 Source'!D2171<>\"\",'Line 1 Source'!D2171,\"\")","v":"0775"},{"$f":"IF('Line 1 Source'!E2171<>\"\",'Line 1 Source'!E2171,\"\")","v":"6302"},{"$f":"IF('Line 1 Source'!F2171<>\"\",'Line 1 Source'!F2171,\"\")","v":0}]
[{"$f":"IF('Line 1 Source'!A2172<>\"\",'Line 1 Source'!A2172,\"\")","v":"2018"},"9148515",{"$f":"CONCATENATE(VLOOKUP(B2172,'School List'!$B$3:$H$291,6,FALSE),H2172)","v":"85150061"},{"$f":"CONCATENATE(VLOOKUP(B2172,'School List'!$B$3:$D$291,3,FALSE),H2172)","v":"White County - NORTH WHITE SCHOOL CORPORATION0061"},{"$f":"IF('Line 1 Source'!B2172<>\"\",'Line 1 Source'!B2172,\"\")","v":"91"},{"$f":"IF('Line 1 Source'!C2172<>\"\",'Line 1 Source'!C2172,\"\")","v":"4"},{"$f":"IF('Line 1 Source'!D2172<>\"\",'Line 1 Source'!D2172,\"\")","v":"8515"},{"$f":"IF('Line 1 Source'!E2172<>\"\",'Line 1 Source'!E2172,\"\")","v":"0061"},{"$f":"IF('Line 1 Source'!F2172<>\"\",'Line 1 Source'!F2172,\"\")","v":350000}]
[{"$f":"IF('Line 1 Source'!A2173<>\"\",'Line 1 Source'!A2173,\"\")","v":"2018"},"9148515",{"$f":"CONCATENATE(VLOOKUP(B2173,'School List'!$B$3:$H$291,6,FALSE),H2173)","v":"85150101"},{"$f":"CONCATENATE(VLOOKUP(B2173,'School List'!$B$3:$D$291,3,FALSE),H2173)","v":"White County - NORTH WHITE SCHOOL CORPORATION0101"},{"$f":"IF('Line 1 Source'!B2173<>\"\",'Line 1 Source'!B2173,\"\")","v":"91"},{"$f":"IF('Line 1 Source'!C2173<>\"\",'Line 1 Source'!C2173,\"\")","v":"4"},{"$f":"IF('Line 1 Source'!D2173<>\"\",'Line 1 Source'!D2173,\"\")","v":"8515"},{"$f":"IF('Line 1 Source'!E2173<>\"\",'Line 1 Source'!E2173,\"\")","v":"0101"},{"$f":"IF('Line 1 Source'!F2173<>\"\",'Line 1 Source'!F2173,\"\")","v":7457106}]
[{"$f":"IF('Line 1 Source'!A2174<>\"\",'Line 1 Source'!A2174,\"\")","v":"2018"},"9148515",{"$f":"CONCATENATE(VLOOKUP(B2174,'School List'!$B$3:$H$291,6,FALSE),H2174)","v":"85150180"},{"$f":"CONCATENATE(VLOOKUP(B2174,'School List'!$B$3:$D$291,3,FALSE),H2174)","v":"White County - NORTH WHITE SCHOOL CORPORATION0180"},{"$f":"IF('Line 1 Source'!B2174<>\"\",'Line 1 Source'!B2174,\"\")","v":"91"},{"$f":"IF('Line 1 Source'!C2174<>\"\",'Line 1 Source'!C2174,\"\")","v":"4"},{"$f":"IF('Line 1 Source'!D2174<>\"\",'Line 1 Source'!D2174,\"\")","v":"8515"},{"$f":"IF('Line 1 Source'!E2174<>\"\",'Line 1 Source'!E2174,\"\")","v":"0180"},{"$f":"IF('Line 1 Source'!F2174<>\"\",'Line 1 Source'!F2174,\"\")","v":1531588}]
[{"$f":"IF('Line 1 Source'!A2175<>\"\",'Line 1 Source'!A2175,\"\")","v":"2018"},"9148515",{"$f":"CONCATENATE(VLOOKUP(B2175,'School List'!$B$3:$H$291,6,FALSE),H2175)","v":"85151214"},{"$f":"CONCATENATE(VLOOKUP(B2175,'School List'!$B$3:$D$291,3,FALSE),H2175)","v":"White County - NORTH WHITE SCHOOL CORPORATION1214"},{"$f":"IF('Line 1 Source'!B2175<>\"\",'Line 1 Source'!B2175,\"\")","v":"91"},{"$f":"IF('Line 1 Source'!C2175<>\"\",'Line 1 Source'!C2175,\"\")","v":"4"},{"$f":"IF('Line 1 Source'!D2175<>\"\",'Line 1 Source'!D2175,\"\")","v":"8515"},{"$f":"IF('Line 1 Source'!E2175<>\"\",'Line 1 Source'!E2175,\"\")","v":"1214"},{"$f":"IF('Line 1 Source'!F2175<>\"\",'Line 1 Source'!F2175,\"\")","v":1935112}]
[{"$f":"IF('Line 1 Source'!A2176<>\"\",'Line 1 Source'!A2176,\"\")","v":"2018"},"9148515",{"$f":"CONCATENATE(VLOOKUP(B2176,'School List'!$B$3:$H$291,6,FALSE),H2176)","v":"85156301"},{"$f":"CONCATENATE(VLOOKUP(B2176,'School List'!$B$3:$D$291,3,FALSE),H2176)","v":"White County - NORTH WHITE SCHOOL CORPORATION6301"},{"$f":"IF('Line 1 Source'!B2176<>\"\",'Line 1 Source'!B2176,\"\")","v":"91"},{"$f":"IF('Line 1 Source'!C2176<>\"\",'Line 1 Source'!C2176,\"\")","v":"4"},{"$f":"IF('Line 1 Source'!D2176<>\"\",'Line 1 Source'!D2176,\"\")","v":"8515"},{"$f":"IF('Line 1 Source'!E2176<>\"\",'Line 1 Source'!E2176,\"\")","v":"6301"},{"$f":"IF('Line 1 Source'!F2176<>\"\",'Line 1 Source'!F2176,\"\")","v":1389676}]
[{"$f":"IF('Line 1 Source'!A2177<>\"\",'Line 1 Source'!A2177,\"\")","v":"2018"},"9148515",{"$f":"CONCATENATE(VLOOKUP(B2177,'School List'!$B$3:$H$291,6,FALSE),H2177)","v":"85156302"},{"$f":"CONCATENATE(VLOOKUP(B2177,'School List'!$B$3:$D$291,3,FALSE),H2177)","v":"White County - NORTH WHITE SCHOOL CORPORATION6302"},{"$f":"IF('Line 1 Source'!B2177<>\"\",'Line 1 Source'!B2177,\"\")","v":"91"},{"$f":"IF('Line 1 Source'!C2177<>\"\",'Line 1 Source'!C2177,\"\")","v":"4"},{"$f":"IF('Line 1 Source'!D2177<>\"\",'Line 1 Source'!D2177,\"\")","v":"8515"},{"$f":"IF('Line 1 Source'!E2177<>\"\",'Line 1 Source'!E2177,\"\")","v":"6302"},{"$f":"IF('Line 1 Source'!F2177<>\"\",'Line 1 Source'!F2177,\"\")","v":256597}]
[{"$f":"IF('Line 1 Source'!A2178<>\"\",'Line 1 Source'!A2178,\"\")","v":"2018"},"9148525",{"$f":"CONCATENATE(VLOOKUP(B2178,'School List'!$B$3:$H$291,6,FALSE),H2178)","v":"85250101"},{"$f":"CONCATENATE(VLOOKUP(B2178,'School List'!$B$3:$D$291,3,FALSE),H2178)","v":"White County - FRONTIER SCHOOL CORPORATION0101"},{"$f":"IF('Line 1 Source'!B2178<>\"\",'Line 1 Source'!B2178,\"\")","v":"91"},{"$f":"IF('Line 1 Source'!C2178<>\"\",'Line 1 Source'!C2178,\"\")","v":"4"},{"$f":"IF('Line 1 Source'!D2178<>\"\",'Line 1 Source'!D2178,\"\")","v":"8525"},{"$f":"IF('Line 1 Source'!E2178<>\"\",'Line 1 Source'!E2178,\"\")","v":"0101"},{"$f":"IF('Line 1 Source'!F2178<>\"\",'Line 1 Source'!F2178,\"\")","v":4758725}]
[{"$f":"IF('Line 1 Source'!A2179<>\"\",'Line 1 Source'!A2179,\"\")","v":"2018"},{"$f":"CONCATENATE(E2179,F2179,G2179)","v":"9148525"},{"$f":"CONCATENATE(VLOOKUP(B2179,'School List'!$B$3:$H$291,6,FALSE),H2179)","v":"85250180"},{"$f":"CONCATENATE(VLOOKUP(B2179,'School List'!$B$3:$D$291,3,FALSE),H2179)","v":"White County - FRONTIER SCHOOL CORPORATION0180"},{"$f":"IF('Line 1 Source'!B2179<>\"\",'Line 1 Source'!B2179,\"\")","v":"91"},{"$f":"IF('Line 1 Source'!C2179<>\"\",'Line 1 Source'!C2179,\"\")","v":"4"},{"$f":"IF('Line 1 Source'!D2179<>\"\",'Line 1 Source'!D2179,\"\")","v":"8525"},{"$f":"IF('Line 1 Source'!E2179<>\"\",'Line 1 Source'!E2179,\"\")","v":"0180"},{"$f":"IF('Line 1 Source'!F2179<>\"\",'Line 1 Source'!F2179,\"\")","v":1637857}]
[{"$f":"IF('Line 1 Source'!A2180<>\"\",'Line 1 Source'!A2180,\"\")","v":"2018"},"9148525",{"$f":"CONCATENATE(VLOOKUP(B2180,'School List'!$B$3:$H$291,6,FALSE),H2180)","v":"85251214"},{"$f":"CONCATENATE(VLOOKUP(B2180,'School List'!$B$3:$D$291,3,FALSE),H2180)","v":"White County - FRONTIER SCHOOL CORPORATION1214"},{"$f":"IF('Line 1 Source'!B2180<>\"\",'Line 1 Source'!B2180,\"\")","v":"91"},{"$f":"IF('Line 1 Source'!C2180<>\"\",'Line 1 Source'!C2180,\"\")","v":"4"},{"$f":"IF('Line 1 Source'!D2180<>\"\",'Line 1 Source'!D2180,\"\")","v":"8525"},{"$f":"IF('Line 1 Source'!E2180<>\"\",'Line 1 Source'!E2180,\"\")","v":"1214"},{"$f":"IF('Line 1 Source'!F2180<>\"\",'Line 1 Source'!F2180,\"\")","v":1109226}]
[{"$f":"IF('Line 1 Source'!A2181<>\"\",'Line 1 Source'!A2181,\"\")","v":"2018"},"9148525",{"$f":"CONCATENATE(VLOOKUP(B2181,'School List'!$B$3:$H$291,6,FALSE),H2181)","v":"85256301"},{"$f":"CONCATENATE(VLOOKUP(B2181,'School List'!$B$3:$D$291,3,FALSE),H2181)","v":"White County - FRONTIER SCHOOL CORPORATION6301"},{"$f":"IF('Line 1 Source'!B2181<>\"\",'Line 1 Source'!B2181,\"\")","v":"91"},{"$f":"IF('Line 1 Source'!C2181<>\"\",'Line 1 Source'!C2181,\"\")","v":"4"},{"$f":"IF('Line 1 Source'!D2181<>\"\",'Line 1 Source'!D2181,\"\")","v":"8525"},{"$f":"IF('Line 1 Source'!E2181<>\"\",'Line 1 Source'!E2181,\"\")","v":"6301"},{"$f":"IF('Line 1 Source'!F2181<>\"\",'Line 1 Source'!F2181,\"\")","v":454272}]
[{"$f":"IF('Line 1 Source'!A2182<>\"\",'Line 1 Source'!A2182,\"\")","v":"2018"},"9148525",{"$f":"CONCATENATE(VLOOKUP(B2182,'School List'!$B$3:$H$291,6,FALSE),H2182)","v":"85256302"},{"$f":"CONCATENATE(VLOOKUP(B2182,'School List'!$B$3:$D$291,3,FALSE),H2182)","v":"White County - FRONTIER SCHOOL CORPORATION6302"},{"$f":"IF('Line 1 Source'!B2182<>\"\",'Line 1 Source'!B2182,\"\")","v":"91"},{"$f":"IF('Line 1 Source'!C2182<>\"\",'Line 1 Source'!C2182,\"\")","v":"4"},{"$f":"IF('Line 1 Source'!D2182<>\"\",'Line 1 Source'!D2182,\"\")","v":"8525"},{"$f":"IF('Line 1 Source'!E2182<>\"\",'Line 1 Source'!E2182,\"\")","v":"6302"},{"$f":"IF('Line 1 Source'!F2182<>\"\",'Line 1 Source'!F2182,\"\")","v":210000}]
[{"$f":"IF('Line 1 Source'!A2183<>\"\",'Line 1 Source'!A2183,\"\")","v":"2018"},"9148535",{"$f":"CONCATENATE(VLOOKUP(B2183,'School List'!$B$3:$H$291,6,FALSE),H2183)","v":"85350022"},{"$f":"CONCATENATE(VLOOKUP(B2183,'School List'!$B$3:$D$291,3,FALSE),H2183)","v":"White County - TRI COUNTY SCHOOL CORPORATION0022"},{"$f":"IF('Line 1 Source'!B2183<>\"\",'Line 1 Source'!B2183,\"\")","v":"91"},{"$f":"IF('Line 1 Source'!C2183<>\"\",'Line 1 Source'!C2183,\"\")","v":"4"},{"$f":"IF('Line 1 Source'!D2183<>\"\",'Line 1 Source'!D2183,\"\")","v":"8535"},{"$f":"IF('Line 1 Source'!E2183<>\"\",'Line 1 Source'!E2183,\"\")","v":"0022"},{"$f":"IF('Line 1 Source'!F2183<>\"\",'Line 1 Source'!F2183,\"\")","v":1462866}]
[{"$f":"IF('Line 1 Source'!A2184<>\"\",'Line 1 Source'!A2184,\"\")","v":"2018"},"9148535",{"$f":"CONCATENATE(VLOOKUP(B2184,'School List'!$B$3:$H$291,6,FALSE),H2184)","v":"85350061"},{"$f":"CONCATENATE(VLOOKUP(B2184,'School List'!$B$3:$D$291,3,FALSE),H2184)","v":"White County - TRI COUNTY SCHOOL CORPORATION0061"},{"$f":"IF('Line 1 Source'!B2184<>\"\",'Line 1 Source'!B2184,\"\")","v":"91"},{"$f":"IF('Line 1 Source'!C2184<>\"\",'Line 1 Source'!C2184,\"\")","v":"4"},{"$f":"IF('Line 1 Source'!D2184<>\"\",'Line 1 Source'!D2184,\"\")","v":"8535"},{"$f":"IF('Line 1 Source'!E2184<>\"\",'Line 1 Source'!E2184,\"\")","v":"0061"},{"$f":"IF('Line 1 Source'!F2184<>\"\",'Line 1 Source'!F2184,\"\")","v":172834}]
[{"$f":"IF('Line 1 Source'!A2185<>\"\",'Line 1 Source'!A2185,\"\")","v":"2018"},"9148535",{"$f":"CONCATENATE(VLOOKUP(B2185,'School List'!$B$3:$H$291,6,FALSE),H2185)","v":"85350101"},{"$f":"CONCATENATE(VLOOKUP(B2185,'School List'!$B$3:$D$291,3,FALSE),H2185)","v":"White County - TRI COUNTY SCHOOL CORPORATION0101"},{"$f":"IF('Line 1 Source'!B2185<>\"\",'Line 1 Source'!B2185,\"\")","v":"91"},{"$f":"IF('Line 1 Source'!C2185<>\"\",'Line 1 Source'!C2185,\"\")","v":"4"},{"$f":"IF('Line 1 Source'!D2185<>\"\",'Line 1 Source'!D2185,\"\")","v":"8535"},{"$f":"IF('Line 1 Source'!E2185<>\"\",'Line 1 Source'!E2185,\"\")","v":"0101"},{"$f":"IF('Line 1 Source'!F2185<>\"\",'Line 1 Source'!F2185,\"\")","v":5050118}]
[{"$f":"IF('Line 1 Source'!A2186<>\"\",'Line 1 Source'!A2186,\"\")","v":"2018"},"9148535",{"$f":"CONCATENATE(VLOOKUP(B2186,'School List'!$B$3:$H$291,6,FALSE),H2186)","v":"85350180"},{"$f":"CONCATENATE(VLOOKUP(B2186,'School List'!$B$3:$D$291,3,FALSE),H2186)","v":"White County - TRI COUNTY SCHOOL CORPORATION0180"},{"$f":"IF('Line 1 Source'!B2186<>\"\",'Line 1 Source'!B2186,\"\")","v":"91"},{"$f":"IF('Line 1 Source'!C2186<>\"\",'Line 1 Source'!C2186,\"\")","v":"4"},{"$f":"IF('Line 1 Source'!D2186<>\"\",'Line 1 Source'!D2186,\"\")","v":"8535"},{"$f":"IF('Line 1 Source'!E2186<>\"\",'Line 1 Source'!E2186,\"\")","v":"0180"},{"$f":"IF('Line 1 Source'!F2186<>\"\",'Line 1 Source'!F2186,\"\")","v":749662}]
[{"$f":"IF('Line 1 Source'!A2187<>\"\",'Line 1 Source'!A2187,\"\")","v":"2018"},"9148535",{"$f":"CONCATENATE(VLOOKUP(B2187,'School List'!$B$3:$H$291,6,FALSE),H2187)","v":"85351214"},{"$f":"CONCATENATE(VLOOKUP(B2187,'School List'!$B$3:$D$291,3,FALSE),H2187)","v":"White County - TRI COUNTY SCHOOL CORPORATION1214"},{"$f":"IF('Line 1 Source'!B2187<>\"\",'Line 1 Source'!B2187,\"\")","v":"91"},{"$f":"IF('Line 1 Source'!C2187<>\"\",'Line 1 Source'!C2187,\"\")","v":"4"},{"$f":"IF('Line 1 Source'!D2187<>\"\",'Line 1 Source'!D2187,\"\")","v":"8535"},{"$f":"IF('Line 1 Source'!E2187<>\"\",'Line 1 Source'!E2187,\"\")","v":"1214"},{"$f":"IF('Line 1 Source'!F2187<>\"\",'Line 1 Source'!F2187,\"\")","v":2033786}]
[{"$f":"IF('Line 1 Source'!A2188<>\"\",'Line 1 Source'!A2188,\"\")","v":"2018"},"9148535",{"$f":"CONCATENATE(VLOOKUP(B2188,'School List'!$B$3:$H$291,6,FALSE),H2188)","v":"85356301"},{"$f":"CONCATENATE(VLOOKUP(B2188,'School List'!$B$3:$D$291,3,FALSE),H2188)","v":"White County - TRI COUNTY SCHOOL CORPORATION6301"},{"$f":"IF('Line 1 Source'!B2188<>\"\",'Line 1 Source'!B2188,\"\")","v":"91"},{"$f":"IF('Line 1 Source'!C2188<>\"\",'Line 1 Source'!C2188,\"\")","v":"4"},{"$f":"IF('Line 1 Source'!D2188<>\"\",'Line 1 Source'!D2188,\"\")","v":"8535"},{"$f":"IF('Line 1 Source'!E2188<>\"\",'Line 1 Source'!E2188,\"\")","v":"6301"},{"$f":"IF('Line 1 Source'!F2188<>\"\",'Line 1 Source'!F2188,\"\")","v":805606}]
[{"$f":"IF('Line 1 Source'!A2189<>\"\",'Line 1 Source'!A2189,\"\")","v":"2018"},"9148535",{"$f":"CONCATENATE(VLOOKUP(B2189,'School List'!$B$3:$H$291,6,FALSE),H2189)","v":"85356302"},{"$f":"CONCATENATE(VLOOKUP(B2189,'School List'!$B$3:$D$291,3,FALSE),H2189)","v":"White County - TRI COUNTY SCHOOL CORPORATION6302"},{"$f":"IF('Line 1 Source'!B2189<>\"\",'Line 1 Source'!B2189,\"\")","v":"91"},{"$f":"IF('Line 1 Source'!C2189<>\"\",'Line 1 Source'!C2189,\"\")","v":"4"},{"$f":"IF('Line 1 Source'!D2189<>\"\",'Line 1 Source'!D2189,\"\")","v":"8535"},{"$f":"IF('Line 1 Source'!E2189<>\"\",'Line 1 Source'!E2189,\"\")","v":"6302"},{"$f":"IF('Line 1 Source'!F2189<>\"\",'Line 1 Source'!F2189,\"\")","v":305000}]
[{"$f":"IF('Line 1 Source'!A2190<>\"\",'Line 1 Source'!A2190,\"\")","v":"2018"},"9148565",{"$f":"CONCATENATE(VLOOKUP(B2190,'School List'!$B$3:$H$291,6,FALSE),H2190)","v":"85650061"},{"$f":"CONCATENATE(VLOOKUP(B2190,'School List'!$B$3:$D$291,3,FALSE),H2190)","v":"White County - TWIN LAKES COMMUNITY SCHOOL CORPORATION0061"},{"$f":"IF('Line 1 Source'!B2190<>\"\",'Line 1 Source'!B2190,\"\")","v":"91"},{"$f":"IF('Line 1 Source'!C2190<>\"\",'Line 1 Source'!C2190,\"\")","v":"4"},{"$f":"IF('Line 1 Source'!D2190<>\"\",'Line 1 Source'!D2190,\"\")","v":"8565"},{"$f":"IF('Line 1 Source'!E2190<>\"\",'Line 1 Source'!E2190,\"\")","v":"0061"},{"$f":"IF('Line 1 Source'!F2190<>\"\",'Line 1 Source'!F2190,\"\")","v":800000}]
[{"$f":"IF('Line 1 Source'!A2191<>\"\",'Line 1 Source'!A2191,\"\")","v":"2018"},"9148565",{"$f":"CONCATENATE(VLOOKUP(B2191,'School List'!$B$3:$H$291,6,FALSE),H2191)","v":"85650101"},{"$f":"CONCATENATE(VLOOKUP(B2191,'School List'!$B$3:$D$291,3,FALSE),H2191)","v":"White County - TWIN LAKES COMMUNITY SCHOOL CORPORATION0101"},{"$f":"IF('Line 1 Source'!B2191<>\"\",'Line 1 Source'!B2191,\"\")","v":"91"},{"$f":"IF('Line 1 Source'!C2191<>\"\",'Line 1 Source'!C2191,\"\")","v":"4"},{"$f":"IF('Line 1 Source'!D2191<>\"\",'Line 1 Source'!D2191,\"\")","v":"8565"},{"$f":"IF('Line 1 Source'!E2191<>\"\",'Line 1 Source'!E2191,\"\")","v":"0101"},{"$f":"IF('Line 1 Source'!F2191<>\"\",'Line 1 Source'!F2191,\"\")","v":16476967}]
[{"$f":"IF('Line 1 Source'!A2192<>\"\",'Line 1 Source'!A2192,\"\")","v":"2018"},"9148565",{"$f":"CONCATENATE(VLOOKUP(B2192,'School List'!$B$3:$H$291,6,FALSE),H2192)","v":"85650180"},{"$f":"CONCATENATE(VLOOKUP(B2192,'School List'!$B$3:$D$291,3,FALSE),H2192)","v":"White County - TWIN LAKES COMMUNITY SCHOOL CORPORATION0180"},{"$f":"IF('Line 1 Source'!B2192<>\"\",'Line 1 Source'!B2192,\"\")","v":"91"},{"$f":"IF('Line 1 Source'!C2192<>\"\",'Line 1 Source'!C2192,\"\")","v":"4"},{"$f":"IF('Line 1 Source'!D2192<>\"\",'Line 1 Source'!D2192,\"\")","v":"8565"},{"$f":"IF('Line 1 Source'!E2192<>\"\",'Line 1 Source'!E2192,\"\")","v":"0180"},{"$f":"IF('Line 1 Source'!F2192<>\"\",'Line 1 Source'!F2192,\"\")","v":1843775}]
[{"$f":"IF('Line 1 Source'!A2193<>\"\",'Line 1 Source'!A2193,\"\")","v":"2018"},"9148565",{"$f":"CONCATENATE(VLOOKUP(B2193,'School List'!$B$3:$H$291,6,FALSE),H2193)","v":"85651214"},{"$f":"CONCATENATE(VLOOKUP(B2193,'School List'!$B$3:$D$291,3,FALSE),H2193)","v":"White County - TWIN LAKES COMMUNITY SCHOOL CORPORATION1214"},{"$f":"IF('Line 1 Source'!B2193<>\"\",'Line 1 Source'!B2193,\"\")","v":"91"},{"$f":"IF('Line 1 Source'!C2193<>\"\",'Line 1 Source'!C2193,\"\")","v":"4"},{"$f":"IF('Line 1 Source'!D2193<>\"\",'Line 1 Source'!D2193,\"\")","v":"8565"},{"$f":"IF('Line 1 Source'!E2193<>\"\",'Line 1 Source'!E2193,\"\")","v":"1214"},{"$f":"IF('Line 1 Source'!F2193<>\"\",'Line 1 Source'!F2193,\"\")","v":3485282}]
[{"$f":"IF('Line 1 Source'!A2194<>\"\",'Line 1 Source'!A2194,\"\")","v":"2018"},"9148565",{"$f":"CONCATENATE(VLOOKUP(B2194,'School List'!$B$3:$H$291,6,FALSE),H2194)","v":"85656301"},{"$f":"CONCATENATE(VLOOKUP(B2194,'School List'!$B$3:$D$291,3,FALSE),H2194)","v":"White County - TWIN LAKES COMMUNITY SCHOOL CORPORATION6301"},{"$f":"IF('Line 1 Source'!B2194<>\"\",'Line 1 Source'!B2194,\"\")","v":"91"},{"$f":"IF('Line 1 Source'!C2194<>\"\",'Line 1 Source'!C2194,\"\")","v":"4"},{"$f":"IF('Line 1 Source'!D2194<>\"\",'Line 1 Source'!D2194,\"\")","v":"8565"},{"$f":"IF('Line 1 Source'!E2194<>\"\",'Line 1 Source'!E2194,\"\")","v":"6301"},{"$f":"IF('Line 1 Source'!F2194<>\"\",'Line 1 Source'!F2194,\"\")","v":1574165}]
[{"$f":"IF('Line 1 Source'!A2195<>\"\",'Line 1 Source'!A2195,\"\")","v":"2018"},"9148565",{"$f":"CONCATENATE(VLOOKUP(B2195,'School List'!$B$3:$H$291,6,FALSE),H2195)","v":"85656302"},{"$f":"CONCATENATE(VLOOKUP(B2195,'School List'!$B$3:$D$291,3,FALSE),H2195)","v":"White County - TWIN LAKES COMMUNITY SCHOOL CORPORATION6302"},{"$f":"IF('Line 1 Source'!B2195<>\"\",'Line 1 Source'!B2195,\"\")","v":"91"},{"$f":"IF('Line 1 Source'!C2195<>\"\",'Line 1 Source'!C2195,\"\")","v":"4"},{"$f":"IF('Line 1 Source'!D2195<>\"\",'Line 1 Source'!D2195,\"\")","v":"8565"},{"$f":"IF('Line 1 Source'!E2195<>\"\",'Line 1 Source'!E2195,\"\")","v":"6302"},{"$f":"IF('Line 1 Source'!F2195<>\"\",'Line 1 Source'!F2195,\"\")","v":475000}]
[{"$f":"IF('Line 1 Source'!A2196<>\"\",'Line 1 Source'!A2196,\"\")","v":"2018"},"9244455",{"$f":"CONCATENATE(VLOOKUP(B2196,'School List'!$B$3:$H$291,6,FALSE),H2196)","v":{"$error":"#N/A"}},{"$f":"CONCATENATE(VLOOKUP(B2196,'School List'!$B$3:$D$291,3,FALSE),H2196)","v":{"$error":"#N/A"}},{"$f":"IF('Line 1 Source'!B2196<>\"\",'Line 1 Source'!B2196,\"\")","v":"92"},{"$f":"IF('Line 1 Source'!C2196<>\"\",'Line 1 Source'!C2196,\"\")","v":"4"},{"$f":"IF('Line 1 Source'!D2196<>\"\",'Line 1 Source'!D2196,\"\")","v":"4455"},{"$f":"IF('Line 1 Source'!E2196<>\"\",'Line 1 Source'!E2196,\"\")","v":"0101"},{"$f":"IF('Line 1 Source'!F2196<>\"\",'Line 1 Source'!F2196,\"\")","v":0}]
[{"$f":"IF('Line 1 Source'!A2197<>\"\",'Line 1 Source'!A2197,\"\")","v":"2018"},"9244455",{"$f":"CONCATENATE(VLOOKUP(B2197,'School List'!$B$3:$H$291,6,FALSE),H2197)","v":{"$error":"#N/A"}},{"$f":"CONCATENATE(VLOOKUP(B2197,'School List'!$B$3:$D$291,3,FALSE),H2197)","v":{"$error":"#N/A"}},{"$f":"IF('Line 1 Source'!B2197<>\"\",'Line 1 Source'!B2197,\"\")","v":"92"},{"$f":"IF('Line 1 Source'!C2197<>\"\",'Line 1 Source'!C2197,\"\")","v":"4"},{"$f":"IF('Line 1 Source'!D2197<>\"\",'Line 1 Source'!D2197,\"\")","v":"4455"},{"$f":"IF('Line 1 Source'!E2197<>\"\",'Line 1 Source'!E2197,\"\")","v":"0180"},{"$f":"IF('Line 1 Source'!F2197<>\"\",'Line 1 Source'!F2197,\"\")","v":0}]
[{"$f":"IF('Line 1 Source'!A2198<>\"\",'Line 1 Source'!A2198,\"\")","v":"2018"},"9244455",{"$f":"CONCATENATE(VLOOKUP(B2198,'School List'!$B$3:$H$291,6,FALSE),H2198)","v":{"$error":"#N/A"}},{"$f":"CONCATENATE(VLOOKUP(B2198,'School List'!$B$3:$D$291,3,FALSE),H2198)","v":{"$error":"#N/A"}},{"$f":"IF('Line 1 Source'!B2198<>\"\",'Line 1 Source'!B2198,\"\")","v":"92"},{"$f":"IF('Line 1 Source'!C2198<>\"\",'Line 1 Source'!C2198,\"\")","v":"4"},{"$f":"IF('Line 1 Source'!D2198<>\"\",'Line 1 Source'!D2198,\"\")","v":"4455"},{"$f":"IF('Line 1 Source'!E2198<>\"\",'Line 1 Source'!E2198,\"\")","v":"1214"},{"$f":"IF('Line 1 Source'!F2198<>\"\",'Line 1 Source'!F2198,\"\")","v":0}]
[{"$f":"IF('Line 1 Source'!A2199<>\"\",'Line 1 Source'!A2199,\"\")","v":"2018"},"9244455",{"$f":"CONCATENATE(VLOOKUP(B2199,'School List'!$B$3:$H$291,6,FALSE),H2199)","v":{"$error":"#N/A"}},{"$f":"CONCATENATE(VLOOKUP(B2199,'School List'!$B$3:$D$291,3,FALSE),H2199)","v":{"$error":"#N/A"}},{"$f":"IF('Line 1 Source'!B2199<>\"\",'Line 1 Source'!B2199,\"\")","v":"92"},{"$f":"IF('Line 1 Source'!C2199<>\"\",'Line 1 Source'!C2199,\"\")","v":"4"},{"$f":"IF('Line 1 Source'!D2199<>\"\",'Line 1 Source'!D2199,\"\")","v":"4455"},{"$f":"IF('Line 1 Source'!E2199<>\"\",'Line 1 Source'!E2199,\"\")","v":"6301"},{"$f":"IF('Line 1 Source'!F2199<>\"\",'Line 1 Source'!F2199,\"\")","v":0}]
[{"$f":"IF('Line 1 Source'!A2200<>\"\",'Line 1 Source'!A2200,\"\")","v":"2018"},"9244455",{"$f":"CONCATENATE(VLOOKUP(B2200,'School List'!$B$3:$H$291,6,FALSE),H2200)","v":{"$error":"#N/A"}},{"$f":"CONCATENATE(VLOOKUP(B2200,'School List'!$B$3:$D$291,3,FALSE),H2200)","v":{"$error":"#N/A"}},{"$f":"IF('Line 1 Source'!B2200<>\"\",'Line 1 Source'!B2200,\"\")","v":"92"},{"$f":"IF('Line 1 Source'!C2200<>\"\",'Line 1 Source'!C2200,\"\")","v":"4"},{"$f":"IF('Line 1 Source'!D2200<>\"\",'Line 1 Source'!D2200,\"\")","v":"4455"},{"$f":"IF('Line 1 Source'!E2200<>\"\",'Line 1 Source'!E2200,\"\")","v":"6302"},{"$f":"IF('Line 1 Source'!F2200<>\"\",'Line 1 Source'!F2200,\"\")","v":0}]
[{"$f":"IF('Line 1 Source'!A2201<>\"\",'Line 1 Source'!A2201,\"\")","v":"2018"},"9248625",{"$f":"CONCATENATE(VLOOKUP(B2201,'School List'!$B$3:$H$291,6,FALSE),H2201)","v":"86250061"},{"$f":"CONCATENATE(VLOOKUP(B2201,'School List'!$B$3:$D$291,3,FALSE),H2201)","v":"Whitley County - SMITH-GREEN COMMUNITY SCHOOL CORPORATION0061"},{"$f":"IF('Line 1 Source'!B2201<>\"\",'Line 1 Source'!B2201,\"\")","v":"92"},{"$f":"IF('Line 1 Source'!C2201<>\"\",'Line 1 Source'!C2201,\"\")","v":"4"},{"$f":"IF('Line 1 Source'!D2201<>\"\",'Line 1 Source'!D2201,\"\")","v":"8625"},{"$f":"IF('Line 1 Source'!E2201<>\"\",'Line 1 Source'!E2201,\"\")","v":"0061"},{"$f":"IF('Line 1 Source'!F2201<>\"\",'Line 1 Source'!F2201,\"\")","v":500000}]
[{"$f":"IF('Line 1 Source'!A2202<>\"\",'Line 1 Source'!A2202,\"\")","v":"2018"},"9248625",{"$f":"CONCATENATE(VLOOKUP(B2202,'School List'!$B$3:$H$291,6,FALSE),H2202)","v":"86250101"},{"$f":"CONCATENATE(VLOOKUP(B2202,'School List'!$B$3:$D$291,3,FALSE),H2202)","v":"Whitley County - SMITH-GREEN COMMUNITY SCHOOL CORPORATION0101"},{"$f":"IF('Line 1 Source'!B2202<>\"\",'Line 1 Source'!B2202,\"\")","v":"92"},{"$f":"IF('Line 1 Source'!C2202<>\"\",'Line 1 Source'!C2202,\"\")","v":"4"},{"$f":"IF('Line 1 Source'!D2202<>\"\",'Line 1 Source'!D2202,\"\")","v":"8625"},{"$f":"IF('Line 1 Source'!E2202<>\"\",'Line 1 Source'!E2202,\"\")","v":"0101"},{"$f":"IF('Line 1 Source'!F2202<>\"\",'Line 1 Source'!F2202,\"\")","v":7566809}]
[{"$f":"IF('Line 1 Source'!A2203<>\"\",'Line 1 Source'!A2203,\"\")","v":"2018"},"9248625",{"$f":"CONCATENATE(VLOOKUP(B2203,'School List'!$B$3:$H$291,6,FALSE),H2203)","v":"86250180"},{"$f":"CONCATENATE(VLOOKUP(B2203,'School List'!$B$3:$D$291,3,FALSE),H2203)","v":"Whitley County - SMITH-GREEN COMMUNITY SCHOOL CORPORATION0180"},{"$f":"IF('Line 1 Source'!B2203<>\"\",'Line 1 Source'!B2203,\"\")","v":"92"},{"$f":"IF('Line 1 Source'!C2203<>\"\",'Line 1 Source'!C2203,\"\")","v":"4"},{"$f":"IF('Line 1 Source'!D2203<>\"\",'Line 1 Source'!D2203,\"\")","v":"8625"},{"$f":"IF('Line 1 Source'!E2203<>\"\",'Line 1 Source'!E2203,\"\")","v":"0180"},{"$f":"IF('Line 1 Source'!F2203<>\"\",'Line 1 Source'!F2203,\"\")","v":1252963}]
[{"$f":"IF('Line 1 Source'!A2204<>\"\",'Line 1 Source'!A2204,\"\")","v":"2018"},"9248625",{"$f":"CONCATENATE(VLOOKUP(B2204,'School List'!$B$3:$H$291,6,FALSE),H2204)","v":"86250186"},{"$f":"CONCATENATE(VLOOKUP(B2204,'School List'!$B$3:$D$291,3,FALSE),H2204)","v":"Whitley County - SMITH-GREEN COMMUNITY SCHOOL CORPORATION0186"},{"$f":"IF('Line 1 Source'!B2204<>\"\",'Line 1 Source'!B2204,\"\")","v":"92"},{"$f":"IF('Line 1 Source'!C2204<>\"\",'Line 1 Source'!C2204,\"\")","v":"4"},{"$f":"IF('Line 1 Source'!D2204<>\"\",'Line 1 Source'!D2204,\"\")","v":"8625"},{"$f":"IF('Line 1 Source'!E2204<>\"\",'Line 1 Source'!E2204,\"\")","v":"0186"},{"$f":"IF('Line 1 Source'!F2204<>\"\",'Line 1 Source'!F2204,\"\")","v":0}]
[{"$f":"IF('Line 1 Source'!A2205<>\"\",'Line 1 Source'!A2205,\"\")","v":"2018"},"9248625",{"$f":"CONCATENATE(VLOOKUP(B2205,'School List'!$B$3:$H$291,6,FALSE),H2205)","v":"86251214"},{"$f":"CONCATENATE(VLOOKUP(B2205,'School List'!$B$3:$D$291,3,FALSE),H2205)","v":"Whitley County - SMITH-GREEN COMMUNITY SCHOOL CORPORATION1214"},{"$f":"IF('Line 1 Source'!B2205<>\"\",'Line 1 Source'!B2205,\"\")","v":"92"},{"$f":"IF('Line 1 Source'!C2205<>\"\",'Line 1 Source'!C2205,\"\")","v":"4"},{"$f":"IF('Line 1 Source'!D2205<>\"\",'Line 1 Source'!D2205,\"\")","v":"8625"},{"$f":"IF('Line 1 Source'!E2205<>\"\",'Line 1 Source'!E2205,\"\")","v":"1214"},{"$f":"IF('Line 1 Source'!F2205<>\"\",'Line 1 Source'!F2205,\"\")","v":1117434}]
[{"$f":"IF('Line 1 Source'!A2206<>\"\",'Line 1 Source'!A2206,\"\")","v":"2018"},"9248625",{"$f":"CONCATENATE(VLOOKUP(B2206,'School List'!$B$3:$H$291,6,FALSE),H2206)","v":"86256301"},{"$f":"CONCATENATE(VLOOKUP(B2206,'School List'!$B$3:$D$291,3,FALSE),H2206)","v":"Whitley County - SMITH-GREEN COMMUNITY SCHOOL CORPORATION6301"},{"$f":"IF('Line 1 Source'!B2206<>\"\",'Line 1 Source'!B2206,\"\")","v":"92"},{"$f":"IF('Line 1 Source'!C2206<>\"\",'Line 1 Source'!C2206,\"\")","v":"4"},{"$f":"IF('Line 1 Source'!D2206<>\"\",'Line 1 Source'!D2206,\"\")","v":"8625"},{"$f":"IF('Line 1 Source'!E2206<>\"\",'Line 1 Source'!E2206,\"\")","v":"6301"},{"$f":"IF('Line 1 Source'!F2206<>\"\",'Line 1 Source'!F2206,\"\")","v":564664}]
[{"$f":"IF('Line 1 Source'!A2207<>\"\",'Line 1 Source'!A2207,\"\")","v":"2018"},"9248625",{"$f":"CONCATENATE(VLOOKUP(B2207,'School List'!$B$3:$H$291,6,FALSE),H2207)","v":"86256302"},{"$f":"CONCATENATE(VLOOKUP(B2207,'School List'!$B$3:$D$291,3,FALSE),H2207)","v":"Whitley County - SMITH-GREEN COMMUNITY SCHOOL CORPORATION6302"},{"$f":"IF('Line 1 Source'!B2207<>\"\",'Line 1 Source'!B2207,\"\")","v":"92"},{"$f":"IF('Line 1 Source'!C2207<>\"\",'Line 1 Source'!C2207,\"\")","v":"4"},{"$f":"IF('Line 1 Source'!D2207<>\"\",'Line 1 Source'!D2207,\"\")","v":"8625"},{"$f":"IF('Line 1 Source'!E2207<>\"\",'Line 1 Source'!E2207,\"\")","v":"6302"},{"$f":"IF('Line 1 Source'!F2207<>\"\",'Line 1 Source'!F2207,\"\")","v":224640}]
[{"$f":"IF('Line 1 Source'!A2208<>\"\",'Line 1 Source'!A2208,\"\")","v":"2018"},"9248665",{"$f":"CONCATENATE(VLOOKUP(B2208,'School List'!$B$3:$H$291,6,FALSE),H2208)","v":"86650061"},{"$f":"CONCATENATE(VLOOKUP(B2208,'School List'!$B$3:$D$291,3,FALSE),H2208)","v":"Whitley County - WHITLEY COUNTY CONSOLIDATED SCHOOL CORP0061"},{"$f":"IF('Line 1 Source'!B2208<>\"\",'Line 1 Source'!B2208,\"\")","v":"92"},{"$f":"IF('Line 1 Source'!C2208<>\"\",'Line 1 Source'!C2208,\"\")","v":"4"},{"$f":"IF('Line 1 Source'!D2208<>\"\",'Line 1 Source'!D2208,\"\")","v":"8665"},{"$f":"IF('Line 1 Source'!E2208<>\"\",'Line 1 Source'!E2208,\"\")","v":"0061"},{"$f":"IF('Line 1 Source'!F2208<>\"\",'Line 1 Source'!F2208,\"\")","v":100000}]
[{"$f":"IF('Line 1 Source'!A2209<>\"\",'Line 1 Source'!A2209,\"\")","v":"2018"},"9248665",{"$f":"CONCATENATE(VLOOKUP(B2209,'School List'!$B$3:$H$291,6,FALSE),H2209)","v":"86650101"},{"$f":"CONCATENATE(VLOOKUP(B2209,'School List'!$B$3:$D$291,3,FALSE),H2209)","v":"Whitley County - WHITLEY COUNTY CONSOLIDATED SCHOOL CORP0101"},{"$f":"IF('Line 1 Source'!B2209<>\"\",'Line 1 Source'!B2209,\"\")","v":"92"},{"$f":"IF('Line 1 Source'!C2209<>\"\",'Line 1 Source'!C2209,\"\")","v":"4"},{"$f":"IF('Line 1 Source'!D2209<>\"\",'Line 1 Source'!D2209,\"\")","v":"8665"},{"$f":"IF('Line 1 Source'!E2209<>\"\",'Line 1 Source'!E2209,\"\")","v":"0101"},{"$f":"IF('Line 1 Source'!F2209<>\"\",'Line 1 Source'!F2209,\"\")","v":23828096}]
[{"$f":"IF('Line 1 Source'!A2210<>\"\",'Line 1 Source'!A2210,\"\")","v":"2018"},"9248665",{"$f":"CONCATENATE(VLOOKUP(B2210,'School List'!$B$3:$H$291,6,FALSE),H2210)","v":"86650180"},{"$f":"CONCATENATE(VLOOKUP(B2210,'School List'!$B$3:$D$291,3,FALSE),H2210)","v":"Whitley County - WHITLEY COUNTY CONSOLIDATED SCHOOL CORP0180"},{"$f":"IF('Line 1 Source'!B2210<>\"\",'Line 1 Source'!B2210,\"\")","v":"92"},{"$f":"IF('Line 1 Source'!C2210<>\"\",'Line 1 Source'!C2210,\"\")","v":"4"},{"$f":"IF('Line 1 Source'!D2210<>\"\",'Line 1 Source'!D2210,\"\")","v":"8665"},{"$f":"IF('Line 1 Source'!E2210<>\"\",'Line 1 Source'!E2210,\"\")","v":"0180"},{"$f":"IF('Line 1 Source'!F2210<>\"\",'Line 1 Source'!F2210,\"\")","v":4774081}]
[{"$f":"IF('Line 1 Source'!A2211<>\"\",'Line 1 Source'!A2211,\"\")","v":"2018"},"9248665",{"$f":"CONCATENATE(VLOOKUP(B2211,'School List'!$B$3:$H$291,6,FALSE),H2211)","v":"86650186"},{"$f":"CONCATENATE(VLOOKUP(B2211,'School List'!$B$3:$D$291,3,FALSE),H2211)","v":"Whitley County - WHITLEY COUNTY CONSOLIDATED SCHOOL CORP0186"},{"$f":"IF('Line 1 Source'!B2211<>\"\",'Line 1 Source'!B2211,\"\")","v":"92"},{"$f":"IF('Line 1 Source'!C2211<>\"\",'Line 1 Source'!C2211,\"\")","v":"4"},{"$f":"IF('Line 1 Source'!D2211<>\"\",'Line 1 Source'!D2211,\"\")","v":"8665"},{"$f":"IF('Line 1 Source'!E2211<>\"\",'Line 1 Source'!E2211,\"\")","v":"0186"},{"$f":"IF('Line 1 Source'!F2211<>\"\",'Line 1 Source'!F2211,\"\")","v":570027}]
[{"$f":"IF('Line 1 Source'!A2212<>\"\",'Line 1 Source'!A2212,\"\")","v":"2018"},"9248665",{"$f":"CONCATENATE(VLOOKUP(B2212,'School List'!$B$3:$H$291,6,FALSE),H2212)","v":"86650287"},{"$f":"CONCATENATE(VLOOKUP(B2212,'School List'!$B$3:$D$291,3,FALSE),H2212)","v":"Whitley County - WHITLEY COUNTY CONSOLIDATED SCHOOL CORP0287"},{"$f":"IF('Line 1 Source'!B2212<>\"\",'Line 1 Source'!B2212,\"\")","v":"92"},{"$f":"IF('Line 1 Source'!C2212<>\"\",'Line 1 Source'!C2212,\"\")","v":"4"},{"$f":"IF('Line 1 Source'!D2212<>\"\",'Line 1 Source'!D2212,\"\")","v":"8665"},{"$f":"IF('Line 1 Source'!E2212<>\"\",'Line 1 Source'!E2212,\"\")","v":"0287"},{"$f":"IF('Line 1 Source'!F2212<>\"\",'Line 1 Source'!F2212,\"\")","v":2072000}]
[{"$f":"IF('Line 1 Source'!A2213<>\"\",'Line 1 Source'!A2213,\"\")","v":"2018"},"9248665",{"$f":"CONCATENATE(VLOOKUP(B2213,'School List'!$B$3:$H$291,6,FALSE),H2213)","v":"86651214"},{"$f":"CONCATENATE(VLOOKUP(B2213,'School List'!$B$3:$D$291,3,FALSE),H2213)","v":"Whitley County - WHITLEY COUNTY CONSOLIDATED SCHOOL CORP1214"},{"$f":"IF('Line 1 Source'!B2213<>\"\",'Line 1 Source'!B2213,\"\")","v":"92"},{"$f":"IF('Line 1 Source'!C2213<>\"\",'Line 1 Source'!C2213,\"\")","v":"4"},{"$f":"IF('Line 1 Source'!D2213<>\"\",'Line 1 Source'!D2213,\"\")","v":"8665"},{"$f":"IF('Line 1 Source'!E2213<>\"\",'Line 1 Source'!E2213,\"\")","v":"1214"},{"$f":"IF('Line 1 Source'!F2213<>\"\",'Line 1 Source'!F2213,\"\")","v":3729757}]
[{"$f":"IF('Line 1 Source'!A2214<>\"\",'Line 1 Source'!A2214,\"\")","v":"2018"},"9248665",{"$f":"CONCATENATE(VLOOKUP(B2214,'School List'!$B$3:$H$291,6,FALSE),H2214)","v":"86656301"},{"$f":"CONCATENATE(VLOOKUP(B2214,'School List'!$B$3:$D$291,3,FALSE),H2214)","v":"Whitley County - WHITLEY COUNTY CONSOLIDATED SCHOOL CORP6301"},{"$f":"IF('Line 1 Source'!B2214<>\"\",'Line 1 Source'!B2214,\"\")","v":"92"},{"$f":"IF('Line 1 Source'!C2214<>\"\",'Line 1 Source'!C2214,\"\")","v":"4"},{"$f":"IF('Line 1 Source'!D2214<>\"\",'Line 1 Source'!D2214,\"\")","v":"8665"},{"$f":"IF('Line 1 Source'!E2214<>\"\",'Line 1 Source'!E2214,\"\")","v":"6301"},{"$f":"IF('Line 1 Source'!F2214<>\"\",'Line 1 Source'!F2214,\"\")","v":2382655}]
[{"$f":"IF('Line 1 Source'!A2215<>\"\",'Line 1 Source'!A2215,\"\")","v":"2018"},"9248665",{"$f":"CONCATENATE(VLOOKUP(B2215,'School List'!$B$3:$H$291,6,FALSE),H2215)","v":"86656302"},{"$f":"CONCATENATE(VLOOKUP(B2215,'School List'!$B$3:$D$291,3,FALSE),H2215)","v":"Whitley County - WHITLEY COUNTY CONSOLIDATED SCHOOL CORP6302"},{"$f":"IF('Line 1 Source'!B2215<>\"\",'Line 1 Source'!B2215,\"\")","v":"92"},{"$f":"IF('Line 1 Source'!C2215<>\"\",'Line 1 Source'!C2215,\"\")","v":"4"},{"$f":"IF('Line 1 Source'!D2215<>\"\",'Line 1 Source'!D2215,\"\")","v":"8665"},{"$f":"IF('Line 1 Source'!E2215<>\"\",'Line 1 Source'!E2215,\"\")","v":"6302"},{"$f":"IF('Line 1 Source'!F2215<>\"\",'Line 1 Source'!F2215,\"\")","v":495109}]
[{"$f":"IF('Line 1 Source'!A2216<>\"\",'Line 1 Source'!A2216,\"\")","v":""},"",{"$f":"CONCATENATE(VLOOKUP(B2216,'School List'!$B$3:$H$291,6,FALSE),H2216)","v":{"$error":"#N/A"}},{"$f":"CONCATENATE(VLOOKUP(B2216,'School List'!$B$3:$D$291,3,FALSE),H2216)","v":{"$error":"#N/A"}},{"$f":"IF('Line 1 Source'!B2216<>\"\",'Line 1 Source'!B2216,\"\")","v":""},{"$f":"IF('Line 1 Source'!C2216<>\"\",'Line 1 Source'!C2216,\"\")","v":""},{"$f":"IF('Line 1 Source'!D2216<>\"\",'Line 1 Source'!D2216,\"\")","v":""},{"$f":"IF('Line 1 Source'!E2216<>\"\",'Line 1 Source'!E2216,\"\")","v":""},{"$f":"IF('Line 1 Source'!F2216<>\"\",'Line 1 Source'!F2216,\"\")","v":""}]
[{"$f":"IF('Line 1 Source'!A2217<>\"\",'Line 1 Source'!A2217,\"\")","v":""},"",{"$f":"CONCATENATE(VLOOKUP(B2217,'School List'!$B$3:$H$291,6,FALSE),H2217)","v":{"$error":"#N/A"}},{"$f":"CONCATENATE(VLOOKUP(B2217,'School List'!$B$3:$D$291,3,FALSE),H2217)","v":{"$error":"#N/A"}},{"$f":"IF('Line 1 Source'!B2217<>\"\",'Line 1 Source'!B2217,\"\")","v":""},{"$f":"IF('Line 1 Source'!C2217<>\"\",'Line 1 Source'!C2217,\"\")","v":""},{"$f":"IF('Line 1 Source'!D2217<>\"\",'Line 1 Source'!D2217,\"\")","v":""},{"$f":"IF('Line 1 Source'!E2217<>\"\",'Line 1 Source'!E2217,\"\")","v":""},{"$f":"IF('Line 1 Source'!F2217<>\"\",'Line 1 Source'!F2217,\"\")","v":""}]
[{"$f":"IF('Line 1 Source'!A2218<>\"\",'Line 1 Source'!A2218,\"\")","v":""},"",{"$f":"CONCATENATE(VLOOKUP(B2218,'School List'!$B$3:$H$291,6,FALSE),H2218)","v":{"$error":"#N/A"}},{"$f":"CONCATENATE(VLOOKUP(B2218,'School List'!$B$3:$D$291,3,FALSE),H2218)","v":{"$error":"#N/A"}},{"$f":"IF('Line 1 Source'!B2218<>\"\",'Line 1 Source'!B2218,\"\")","v":""},{"$f":"IF('Line 1 Source'!C2218<>\"\",'Line 1 Source'!C2218,\"\")","v":""},{"$f":"IF('Line 1 Source'!D2218<>\"\",'Line 1 Source'!D2218,\"\")","v":""},{"$f":"IF('Line 1 Source'!E2218<>\"\",'Line 1 Source'!E2218,\"\")","v":""},{"$f":"IF('Line 1 Source'!F2218<>\"\",'Line 1 Source'!F2218,\"\")","v":""}]
[{"$f":"IF('Line 1 Source'!A2219<>\"\",'Line 1 Source'!A2219,\"\")","v":""},"",{"$f":"CONCATENATE(VLOOKUP(B2219,'School List'!$B$3:$H$291,6,FALSE),H2219)","v":{"$error":"#N/A"}},{"$f":"CONCATENATE(VLOOKUP(B2219,'School List'!$B$3:$D$291,3,FALSE),H2219)","v":{"$error":"#N/A"}},{"$f":"IF('Line 1 Source'!B2219<>\"\",'Line 1 Source'!B2219,\"\")","v":""},{"$f":"IF('Line 1 Source'!C2219<>\"\",'Line 1 Source'!C2219,\"\")","v":""},{"$f":"IF('Line 1 Source'!D2219<>\"\",'Line 1 Source'!D2219,\"\")","v":""},{"$f":"IF('Line 1 Source'!E2219<>\"\",'Line 1 Source'!E2219,\"\")","v":""},{"$f":"IF('Line 1 Source'!F2219<>\"\",'Line 1 Source'!F2219,\"\")","v":""}]
[{"$f":"IF('Line 1 Source'!A2220<>\"\",'Line 1 Source'!A2220,\"\")","v":""},"",{"$f":"CONCATENATE(VLOOKUP(B2220,'School List'!$B$3:$H$291,6,FALSE),H2220)","v":{"$error":"#N/A"}},{"$f":"CONCATENATE(VLOOKUP(B2220,'School List'!$B$3:$D$291,3,FALSE),H2220)","v":{"$error":"#N/A"}},{"$f":"IF('Line 1 Source'!B2220<>\"\",'Line 1 Source'!B2220,\"\")","v":""},{"$f":"IF('Line 1 Source'!C2220<>\"\",'Line 1 Source'!C2220,\"\")","v":""},{"$f":"IF('Line 1 Source'!D2220<>\"\",'Line 1 Source'!D2220,\"\")","v":""},{"$f":"IF('Line 1 Source'!E2220<>\"\",'Line 1 Source'!E2220,\"\")","v":""},{"$f":"IF('Line 1 Source'!F2220<>\"\",'Line 1 Source'!F2220,\"\")","v":""}]
[{"$f":"IF('Line 1 Source'!A2221<>\"\",'Line 1 Source'!A2221,\"\")","v":""},"",{"$f":"CONCATENATE(VLOOKUP(B2221,'School List'!$B$3:$H$291,6,FALSE),H2221)","v":{"$error":"#N/A"}},{"$f":"CONCATENATE(VLOOKUP(B2221,'School List'!$B$3:$D$291,3,FALSE),H2221)","v":{"$error":"#N/A"}},{"$f":"IF('Line 1 Source'!B2221<>\"\",'Line 1 Source'!B2221,\"\")","v":""},{"$f":"IF('Line 1 Source'!C2221<>\"\",'Line 1 Source'!C2221,\"\")","v":""},{"$f":"IF('Line 1 Source'!D2221<>\"\",'Line 1 Source'!D2221,\"\")","v":""},{"$f":"IF('Line 1 Source'!E2221<>\"\",'Line 1 Source'!E2221,\"\")","v":""},{"$f":"IF('Line 1 Source'!F2221<>\"\",'Line 1 Source'!F2221,\"\")","v":""}]
[{"$f":"IF('Line 1 Source'!A2222<>\"\",'Line 1 Source'!A2222,\"\")","v":""},"",{"$f":"CONCATENATE(VLOOKUP(B2222,'School List'!$B$3:$H$291,6,FALSE),H2222)","v":{"$error":"#N/A"}},{"$f":"CONCATENATE(VLOOKUP(B2222,'School List'!$B$3:$D$291,3,FALSE),H2222)","v":{"$error":"#N/A"}},{"$f":"IF('Line 1 Source'!B2222<>\"\",'Line 1 Source'!B2222,\"\")","v":""},{"$f":"IF('Line 1 Source'!C2222<>\"\",'Line 1 Source'!C2222,\"\")","v":""},{"$f":"IF('Line 1 Source'!D2222<>\"\",'Line 1 Source'!D2222,\"\")","v":""},{"$f":"IF('Line 1 Source'!E2222<>\"\",'Line 1 Source'!E2222,\"\")","v":""},{"$f":"IF('Line 1 Source'!F2222<>\"\",'Line 1 Source'!F2222,\"\")","v":""}]
[{"$f":"IF('Line 1 Source'!A2223<>\"\",'Line 1 Source'!A2223,\"\")","v":""},"",{"$f":"CONCATENATE(VLOOKUP(B2223,'School List'!$B$3:$H$291,6,FALSE),H2223)","v":{"$error":"#N/A"}},{"$f":"CONCATENATE(VLOOKUP(B2223,'School List'!$B$3:$D$291,3,FALSE),H2223)","v":{"$error":"#N/A"}},{"$f":"IF('Line 1 Source'!B2223<>\"\",'Line 1 Source'!B2223,\"\")","v":""},{"$f":"IF('Line 1 Source'!C2223<>\"\",'Line 1 Source'!C2223,\"\")","v":""},{"$f":"IF('Line 1 Source'!D2223<>\"\",'Line 1 Source'!D2223,\"\")","v":""},{"$f":"IF('Line 1 Source'!E2223<>\"\",'Line 1 Source'!E2223,\"\")","v":""},{"$f":"IF('Line 1 Source'!F2223<>\"\",'Line 1 Source'!F2223,\"\")","v":""}]
[{"$f":"IF('Line 1 Source'!A2224<>\"\",'Line 1 Source'!A2224,\"\")","v":""},"",{"$f":"CONCATENATE(VLOOKUP(B2224,'School List'!$B$3:$H$291,6,FALSE),H2224)","v":{"$error":"#N/A"}},{"$f":"CONCATENATE(VLOOKUP(B2224,'School List'!$B$3:$D$291,3,FALSE),H2224)","v":{"$error":"#N/A"}},{"$f":"IF('Line 1 Source'!B2224<>\"\",'Line 1 Source'!B2224,\"\")","v":""},{"$f":"IF('Line 1 Source'!C2224<>\"\",'Line 1 Source'!C2224,\"\")","v":""},{"$f":"IF('Line 1 Source'!D2224<>\"\",'Line 1 Source'!D2224,\"\")","v":""},{"$f":"IF('Line 1 Source'!E2224<>\"\",'Line 1 Source'!E2224,\"\")","v":""},{"$f":"IF('Line 1 Source'!F2224<>\"\",'Line 1 Source'!F2224,\"\")","v":""}]
[{"$f":"IF('Line 1 Source'!A2225<>\"\",'Line 1 Source'!A2225,\"\")","v":""},"",{"$f":"CONCATENATE(VLOOKUP(B2225,'School List'!$B$3:$H$291,6,FALSE),H2225)","v":{"$error":"#N/A"}},{"$f":"CONCATENATE(VLOOKUP(B2225,'School List'!$B$3:$D$291,3,FALSE),H2225)","v":{"$error":"#N/A"}},{"$f":"IF('Line 1 Source'!B2225<>\"\",'Line 1 Source'!B2225,\"\")","v":""},{"$f":"IF('Line 1 Source'!C2225<>\"\",'Line 1 Source'!C2225,\"\")","v":""},{"$f":"IF('Line 1 Source'!D2225<>\"\",'Line 1 Source'!D2225,\"\")","v":""},{"$f":"IF('Line 1 Source'!E2225<>\"\",'Line 1 Source'!E2225,\"\")","v":""},{"$f":"IF('Line 1 Source'!F2225<>\"\",'Line 1 Source'!F2225,\"\")","v":""}]
[{"$f":"IF('Line 1 Source'!A2226<>\"\",'Line 1 Source'!A2226,\"\")","v":""},"",{"$f":"CONCATENATE(VLOOKUP(B2226,'School List'!$B$3:$H$291,6,FALSE),H2226)","v":{"$error":"#N/A"}},{"$f":"CONCATENATE(VLOOKUP(B2226,'School List'!$B$3:$D$291,3,FALSE),H2226)","v":{"$error":"#N/A"}},{"$f":"IF('Line 1 Source'!B2226<>\"\",'Line 1 Source'!B2226,\"\")","v":""},{"$f":"IF('Line 1 Source'!C2226<>\"\",'Line 1 Source'!C2226,\"\")","v":""},{"$f":"IF('Line 1 Source'!D2226<>\"\",'Line 1 Source'!D2226,\"\")","v":""},{"$f":"IF('Line 1 Source'!E2226<>\"\",'Line 1 Source'!E2226,\"\")","v":""},{"$f":"IF('Line 1 Source'!F2226<>\"\",'Line 1 Source'!F2226,\"\")","v":""}]
[{"$f":"IF('Line 1 Source'!A2227<>\"\",'Line 1 Source'!A2227,\"\")","v":""},"",{"$f":"CONCATENATE(VLOOKUP(B2227,'School List'!$B$3:$H$291,6,FALSE),H2227)","v":{"$error":"#N/A"}},{"$f":"CONCATENATE(VLOOKUP(B2227,'School List'!$B$3:$D$291,3,FALSE),H2227)","v":{"$error":"#N/A"}},{"$f":"IF('Line 1 Source'!B2227<>\"\",'Line 1 Source'!B2227,\"\")","v":""},{"$f":"IF('Line 1 Source'!C2227<>\"\",'Line 1 Source'!C2227,\"\")","v":""},{"$f":"IF('Line 1 Source'!D2227<>\"\",'Line 1 Source'!D2227,\"\")","v":""},{"$f":"IF('Line 1 Source'!E2227<>\"\",'Line 1 Source'!E2227,\"\")","v":""},{"$f":"IF('Line 1 Source'!F2227<>\"\",'Line 1 Source'!F2227,\"\")","v":""}]
[{"$f":"IF('Line 1 Source'!A2228<>\"\",'Line 1 Source'!A2228,\"\")","v":""},"",{"$f":"CONCATENATE(VLOOKUP(B2228,'School List'!$B$3:$H$291,6,FALSE),H2228)","v":{"$error":"#N/A"}},{"$f":"CONCATENATE(VLOOKUP(B2228,'School List'!$B$3:$D$291,3,FALSE),H2228)","v":{"$error":"#N/A"}},{"$f":"IF('Line 1 Source'!B2228<>\"\",'Line 1 Source'!B2228,\"\")","v":""},{"$f":"IF('Line 1 Source'!C2228<>\"\",'Line 1 Source'!C2228,\"\")","v":""},{"$f":"IF('Line 1 Source'!D2228<>\"\",'Line 1 Source'!D2228,\"\")","v":""},{"$f":"IF('Line 1 Source'!E2228<>\"\",'Line 1 Source'!E2228,\"\")","v":""},{"$f":"IF('Line 1 Source'!F2228<>\"\",'Line 1 Source'!F2228,\"\")","v":""}]
[{"$f":"IF('Line 1 Source'!A2229<>\"\",'Line 1 Source'!A2229,\"\")","v":""},"",{"$f":"CONCATENATE(VLOOKUP(B2229,'School List'!$B$3:$H$291,6,FALSE),H2229)","v":{"$error":"#N/A"}},{"$f":"CONCATENATE(VLOOKUP(B2229,'School List'!$B$3:$D$291,3,FALSE),H2229)","v":{"$error":"#N/A"}},{"$f":"IF('Line 1 Source'!B2229<>\"\",'Line 1 Source'!B2229,\"\")","v":""},{"$f":"IF('Line 1 Source'!C2229<>\"\",'Line 1 Source'!C2229,\"\")","v":""},{"$f":"IF('Line 1 Source'!D2229<>\"\",'Line 1 Source'!D2229,\"\")","v":""},{"$f":"IF('Line 1 Source'!E2229<>\"\",'Line 1 Source'!E2229,\"\")","v":""},{"$f":"IF('Line 1 Source'!F2229<>\"\",'Line 1 Source'!F2229,\"\")","v":""}]
[{"$f":"IF('Line 1 Source'!A2230<>\"\",'Line 1 Source'!A2230,\"\")","v":""},"",{"$f":"CONCATENATE(VLOOKUP(B2230,'School List'!$B$3:$H$291,6,FALSE),H2230)","v":{"$error":"#N/A"}},{"$f":"CONCATENATE(VLOOKUP(B2230,'School List'!$B$3:$D$291,3,FALSE),H2230)","v":{"$error":"#N/A"}},{"$f":"IF('Line 1 Source'!B2230<>\"\",'Line 1 Source'!B2230,\"\")","v":""},{"$f":"IF('Line 1 Source'!C2230<>\"\",'Line 1 Source'!C2230,\"\")","v":""},{"$f":"IF('Line 1 Source'!D2230<>\"\",'Line 1 Source'!D2230,\"\")","v":""},{"$f":"IF('Line 1 Source'!E2230<>\"\",'Line 1 Source'!E2230,\"\")","v":""},{"$f":"IF('Line 1 Source'!F2230<>\"\",'Line 1 Source'!F2230,\"\")","v":""}]
[{"$f":"IF('Line 1 Source'!A2231<>\"\",'Line 1 Source'!A2231,\"\")","v":""},"",{"$f":"CONCATENATE(VLOOKUP(B2231,'School List'!$B$3:$H$291,6,FALSE),H2231)","v":{"$error":"#N/A"}},{"$f":"CONCATENATE(VLOOKUP(B2231,'School List'!$B$3:$D$291,3,FALSE),H2231)","v":{"$error":"#N/A"}},{"$f":"IF('Line 1 Source'!B2231<>\"\",'Line 1 Source'!B2231,\"\")","v":""},{"$f":"IF('Line 1 Source'!C2231<>\"\",'Line 1 Source'!C2231,\"\")","v":""},{"$f":"IF('Line 1 Source'!D2231<>\"\",'Line 1 Source'!D2231,\"\")","v":""},{"$f":"IF('Line 1 Source'!E2231<>\"\",'Line 1 Source'!E2231,\"\")","v":""},{"$f":"IF('Line 1 Source'!F2231<>\"\",'Line 1 Source'!F2231,\"\")","v":""}]
[{"$f":"IF('Line 1 Source'!A2232<>\"\",'Line 1 Source'!A2232,\"\")","v":""},"",{"$f":"CONCATENATE(VLOOKUP(B2232,'School List'!$B$3:$H$291,6,FALSE),H2232)","v":{"$error":"#N/A"}},{"$f":"CONCATENATE(VLOOKUP(B2232,'School List'!$B$3:$D$291,3,FALSE),H2232)","v":{"$error":"#N/A"}},{"$f":"IF('Line 1 Source'!B2232<>\"\",'Line 1 Source'!B2232,\"\")","v":""},{"$f":"IF('Line 1 Source'!C2232<>\"\",'Line 1 Source'!C2232,\"\")","v":""},{"$f":"IF('Line 1 Source'!D2232<>\"\",'Line 1 Source'!D2232,\"\")","v":""},{"$f":"IF('Line 1 Source'!E2232<>\"\",'Line 1 Source'!E2232,\"\")","v":""},{"$f":"IF('Line 1 Source'!F2232<>\"\",'Line 1 Source'!F2232,\"\")","v":""}]
[{"$f":"IF('Line 1 Source'!A2233<>\"\",'Line 1 Source'!A2233,\"\")","v":""},"",{"$f":"CONCATENATE(VLOOKUP(B2233,'School List'!$B$3:$H$291,6,FALSE),H2233)","v":{"$error":"#N/A"}},{"$f":"CONCATENATE(VLOOKUP(B2233,'School List'!$B$3:$D$291,3,FALSE),H2233)","v":{"$error":"#N/A"}},{"$f":"IF('Line 1 Source'!B2233<>\"\",'Line 1 Source'!B2233,\"\")","v":""},{"$f":"IF('Line 1 Source'!C2233<>\"\",'Line 1 Source'!C2233,\"\")","v":""},{"$f":"IF('Line 1 Source'!D2233<>\"\",'Line 1 Source'!D2233,\"\")","v":""},{"$f":"IF('Line 1 Source'!E2233<>\"\",'Line 1 Source'!E2233,\"\")","v":""},{"$f":"IF('Line 1 Source'!F2233<>\"\",'Line 1 Source'!F2233,\"\")","v":""}]
[{"$f":"IF('Line 1 Source'!A2234<>\"\",'Line 1 Source'!A2234,\"\")","v":""},"",{"$f":"CONCATENATE(VLOOKUP(B2234,'School List'!$B$3:$H$291,6,FALSE),H2234)","v":{"$error":"#N/A"}},{"$f":"CONCATENATE(VLOOKUP(B2234,'School List'!$B$3:$D$291,3,FALSE),H2234)","v":{"$error":"#N/A"}},{"$f":"IF('Line 1 Source'!B2234<>\"\",'Line 1 Source'!B2234,\"\")","v":""},{"$f":"IF('Line 1 Source'!C2234<>\"\",'Line 1 Source'!C2234,\"\")","v":""},{"$f":"IF('Line 1 Source'!D2234<>\"\",'Line 1 Source'!D2234,\"\")","v":""},{"$f":"IF('Line 1 Source'!E2234<>\"\",'Line 1 Source'!E2234,\"\")","v":""},{"$f":"IF('Line 1 Source'!F2234<>\"\",'Line 1 Source'!F2234,\"\")","v":""}]
[{"$f":"IF('Line 1 Source'!A2235<>\"\",'Line 1 Source'!A2235,\"\")","v":""},"",{"$f":"CONCATENATE(VLOOKUP(B2235,'School List'!$B$3:$H$291,6,FALSE),H2235)","v":{"$error":"#N/A"}},{"$f":"CONCATENATE(VLOOKUP(B2235,'School List'!$B$3:$D$291,3,FALSE),H2235)","v":{"$error":"#N/A"}},{"$f":"IF('Line 1 Source'!B2235<>\"\",'Line 1 Source'!B2235,\"\")","v":""},{"$f":"IF('Line 1 Source'!C2235<>\"\",'Line 1 Source'!C2235,\"\")","v":""},{"$f":"IF('Line 1 Source'!D2235<>\"\",'Line 1 Source'!D2235,\"\")","v":""},{"$f":"IF('Line 1 Source'!E2235<>\"\",'Line 1 Source'!E2235,\"\")","v":""},{"$f":"IF('Line 1 Source'!F2235<>\"\",'Line 1 Source'!F2235,\"\")","v":""}]
[{"$f":"IF('Line 1 Source'!A2236<>\"\",'Line 1 Source'!A2236,\"\")","v":""},"",{"$f":"CONCATENATE(VLOOKUP(B2236,'School List'!$B$3:$H$291,6,FALSE),H2236)","v":{"$error":"#N/A"}},{"$f":"CONCATENATE(VLOOKUP(B2236,'School List'!$B$3:$D$291,3,FALSE),H2236)","v":{"$error":"#N/A"}},{"$f":"IF('Line 1 Source'!B2236<>\"\",'Line 1 Source'!B2236,\"\")","v":""},{"$f":"IF('Line 1 Source'!C2236<>\"\",'Line 1 Source'!C2236,\"\")","v":""},{"$f":"IF('Line 1 Source'!D2236<>\"\",'Line 1 Source'!D2236,\"\")","v":""},{"$f":"IF('Line 1 Source'!E2236<>\"\",'Line 1 Source'!E2236,\"\")","v":""},{"$f":"IF('Line 1 Source'!F2236<>\"\",'Line 1 Source'!F2236,\"\")","v":""}]
[{"$f":"IF('Line 1 Source'!A2237<>\"\",'Line 1 Source'!A2237,\"\")","v":""},"",{"$f":"CONCATENATE(VLOOKUP(B2237,'School List'!$B$3:$H$291,6,FALSE),H2237)","v":{"$error":"#N/A"}},{"$f":"CONCATENATE(VLOOKUP(B2237,'School List'!$B$3:$D$291,3,FALSE),H2237)","v":{"$error":"#N/A"}},{"$f":"IF('Line 1 Source'!B2237<>\"\",'Line 1 Source'!B2237,\"\")","v":""},{"$f":"IF('Line 1 Source'!C2237<>\"\",'Line 1 Source'!C2237,\"\")","v":""},{"$f":"IF('Line 1 Source'!D2237<>\"\",'Line 1 Source'!D2237,\"\")","v":""},{"$f":"IF('Line 1 Source'!E2237<>\"\",'Line 1 Source'!E2237,\"\")","v":""},{"$f":"IF('Line 1 Source'!F2237<>\"\",'Line 1 Source'!F2237,\"\")","v":""}]
[{"$f":"IF('Line 1 Source'!A2238<>\"\",'Line 1 Source'!A2238,\"\")","v":""},"",{"$f":"CONCATENATE(VLOOKUP(B2238,'School List'!$B$3:$H$291,6,FALSE),H2238)","v":{"$error":"#N/A"}},{"$f":"CONCATENATE(VLOOKUP(B2238,'School List'!$B$3:$D$291,3,FALSE),H2238)","v":{"$error":"#N/A"}},{"$f":"IF('Line 1 Source'!B2238<>\"\",'Line 1 Source'!B2238,\"\")","v":""},{"$f":"IF('Line 1 Source'!C2238<>\"\",'Line 1 Source'!C2238,\"\")","v":""},{"$f":"IF('Line 1 Source'!D2238<>\"\",'Line 1 Source'!D2238,\"\")","v":""},{"$f":"IF('Line 1 Source'!E2238<>\"\",'Line 1 Source'!E2238,\"\")","v":""},{"$f":"IF('Line 1 Source'!F2238<>\"\",'Line 1 Source'!F2238,\"\")","v":""}]
[{"$f":"IF('Line 1 Source'!A2239<>\"\",'Line 1 Source'!A2239,\"\")","v":""},"",{"$f":"CONCATENATE(VLOOKUP(B2239,'School List'!$B$3:$H$291,6,FALSE),H2239)","v":{"$error":"#N/A"}},{"$f":"CONCATENATE(VLOOKUP(B2239,'School List'!$B$3:$D$291,3,FALSE),H2239)","v":{"$error":"#N/A"}},{"$f":"IF('Line 1 Source'!B2239<>\"\",'Line 1 Source'!B2239,\"\")","v":""},{"$f":"IF('Line 1 Source'!C2239<>\"\",'Line 1 Source'!C2239,\"\")","v":""},{"$f":"IF('Line 1 Source'!D2239<>\"\",'Line 1 Source'!D2239,\"\")","v":""},{"$f":"IF('Line 1 Source'!E2239<>\"\",'Line 1 Source'!E2239,\"\")","v":""},{"$f":"IF('Line 1 Source'!F2239<>\"\",'Line 1 Source'!F2239,\"\")","v":""}]
[{"$f":"IF('Line 1 Source'!A2240<>\"\",'Line 1 Source'!A2240,\"\")","v":""},"",{"$f":"CONCATENATE(VLOOKUP(B2240,'School List'!$B$3:$H$291,6,FALSE),H2240)","v":{"$error":"#N/A"}},{"$f":"CONCATENATE(VLOOKUP(B2240,'School List'!$B$3:$D$291,3,FALSE),H2240)","v":{"$error":"#N/A"}},{"$f":"IF('Line 1 Source'!B2240<>\"\",'Line 1 Source'!B2240,\"\")","v":""},{"$f":"IF('Line 1 Source'!C2240<>\"\",'Line 1 Source'!C2240,\"\")","v":""},{"$f":"IF('Line 1 Source'!D2240<>\"\",'Line 1 Source'!D2240,\"\")","v":""},{"$f":"IF('Line 1 Source'!E2240<>\"\",'Line 1 Source'!E2240,\"\")","v":""},{"$f":"IF('Line 1 Source'!F2240<>\"\",'Line 1 Source'!F2240,\"\")","v":""}]
[{"$f":"IF('Line 1 Source'!A2241<>\"\",'Line 1 Source'!A2241,\"\")","v":""},"",{"$f":"CONCATENATE(VLOOKUP(B2241,'School List'!$B$3:$H$291,6,FALSE),H2241)","v":{"$error":"#N/A"}},{"$f":"CONCATENATE(VLOOKUP(B2241,'School List'!$B$3:$D$291,3,FALSE),H2241)","v":{"$error":"#N/A"}},{"$f":"IF('Line 1 Source'!B2241<>\"\",'Line 1 Source'!B2241,\"\")","v":""},{"$f":"IF('Line 1 Source'!C2241<>\"\",'Line 1 Source'!C2241,\"\")","v":""},{"$f":"IF('Line 1 Source'!D2241<>\"\",'Line 1 Source'!D2241,\"\")","v":""},{"$f":"IF('Line 1 Source'!E2241<>\"\",'Line 1 Source'!E2241,\"\")","v":""},{"$f":"IF('Line 1 Source'!F2241<>\"\",'Line 1 Source'!F2241,\"\")","v":""}]
[{"$f":"IF('Line 1 Source'!A2242<>\"\",'Line 1 Source'!A2242,\"\")","v":""},"",{"$f":"CONCATENATE(VLOOKUP(B2242,'School List'!$B$3:$H$291,6,FALSE),H2242)","v":{"$error":"#N/A"}},{"$f":"CONCATENATE(VLOOKUP(B2242,'School List'!$B$3:$D$291,3,FALSE),H2242)","v":{"$error":"#N/A"}},{"$f":"IF('Line 1 Source'!B2242<>\"\",'Line 1 Source'!B2242,\"\")","v":""},{"$f":"IF('Line 1 Source'!C2242<>\"\",'Line 1 Source'!C2242,\"\")","v":""},{"$f":"IF('Line 1 Source'!D2242<>\"\",'Line 1 Source'!D2242,\"\")","v":""},{"$f":"IF('Line 1 Source'!E2242<>\"\",'Line 1 Source'!E2242,\"\")","v":""},{"$f":"IF('Line 1 Source'!F2242<>\"\",'Line 1 Source'!F2242,\"\")","v":""}]
[{"$f":"IF('Line 1 Source'!A2243<>\"\",'Line 1 Source'!A2243,\"\")","v":""},{"$f":"CONCATENATE(E2243,F2243,G2243)","v":""},{"$f":"CONCATENATE(VLOOKUP(B2243,'School List'!$B$3:$H$291,6,FALSE),H2243)","v":{"$error":"#N/A"}},{"$f":"CONCATENATE(VLOOKUP(B2243,'School List'!$B$3:$D$291,3,FALSE),H2243)","v":{"$error":"#N/A"}},{"$f":"IF('Line 1 Source'!B2243<>\"\",'Line 1 Source'!B2243,\"\")","v":""},{"$f":"IF('Line 1 Source'!C2243<>\"\",'Line 1 Source'!C2243,\"\")","v":""},{"$f":"IF('Line 1 Source'!D2243<>\"\",'Line 1 Source'!D2243,\"\")","v":""},{"$f":"IF('Line 1 Source'!E2243<>\"\",'Line 1 Source'!E2243,\"\")","v":""},{"$f":"IF('Line 1 Source'!F2243<>\"\",'Line 1 Source'!F2243,\"\")","v":""}]
[{"$f":"IF('Line 1 Source'!A2244<>\"\",'Line 1 Source'!A2244,\"\")","v":""},"",{"$f":"CONCATENATE(VLOOKUP(B2244,'School List'!$B$3:$H$291,6,FALSE),H2244)","v":{"$error":"#N/A"}},{"$f":"CONCATENATE(VLOOKUP(B2244,'School List'!$B$3:$D$291,3,FALSE),H2244)","v":{"$error":"#N/A"}},{"$f":"IF('Line 1 Source'!B2244<>\"\",'Line 1 Source'!B2244,\"\")","v":""},{"$f":"IF('Line 1 Source'!C2244<>\"\",'Line 1 Source'!C2244,\"\")","v":""},{"$f":"IF('Line 1 Source'!D2244<>\"\",'Line 1 Source'!D2244,\"\")","v":""},{"$f":"IF('Line 1 Source'!E2244<>\"\",'Line 1 Source'!E2244,\"\")","v":""},{"$f":"IF('Line 1 Source'!F2244<>\"\",'Line 1 Source'!F2244,\"\")","v":""}]
[{"$f":"IF('Line 1 Source'!A2245<>\"\",'Line 1 Source'!A2245,\"\")","v":""},"",{"$f":"CONCATENATE(VLOOKUP(B2245,'School List'!$B$3:$H$291,6,FALSE),H2245)","v":{"$error":"#N/A"}},{"$f":"CONCATENATE(VLOOKUP(B2245,'School List'!$B$3:$D$291,3,FALSE),H2245)","v":{"$error":"#N/A"}},{"$f":"IF('Line 1 Source'!B2245<>\"\",'Line 1 Source'!B2245,\"\")","v":""},{"$f":"IF('Line 1 Source'!C2245<>\"\",'Line 1 Source'!C2245,\"\")","v":""},{"$f":"IF('Line 1 Source'!D2245<>\"\",'Line 1 Source'!D2245,\"\")","v":""},{"$f":"IF('Line 1 Source'!E2245<>\"\",'Line 1 Source'!E2245,\"\")","v":""},{"$f":"IF('Line 1 Source'!F2245<>\"\",'Line 1 Source'!F2245,\"\")","v":""}]
[{"$f":"IF('Line 1 Source'!A2246<>\"\",'Line 1 Source'!A2246,\"\")","v":""},"",{"$f":"CONCATENATE(VLOOKUP(B2246,'School List'!$B$3:$H$291,6,FALSE),H2246)","v":{"$error":"#N/A"}},{"$f":"CONCATENATE(VLOOKUP(B2246,'School List'!$B$3:$D$291,3,FALSE),H2246)","v":{"$error":"#N/A"}},{"$f":"IF('Line 1 Source'!B2246<>\"\",'Line 1 Source'!B2246,\"\")","v":""},{"$f":"IF('Line 1 Source'!C2246<>\"\",'Line 1 Source'!C2246,\"\")","v":""},{"$f":"IF('Line 1 Source'!D2246<>\"\",'Line 1 Source'!D2246,\"\")","v":""},{"$f":"IF('Line 1 Source'!E2246<>\"\",'Line 1 Source'!E2246,\"\")","v":""},{"$f":"IF('Line 1 Source'!F2246<>\"\",'Line 1 Source'!F2246,\"\")","v":""}]
[{"$f":"IF('Line 1 Source'!A2247<>\"\",'Line 1 Source'!A2247,\"\")","v":""},"",{"$f":"CONCATENATE(VLOOKUP(B2247,'School List'!$B$3:$H$291,6,FALSE),H2247)","v":{"$error":"#N/A"}},{"$f":"CONCATENATE(VLOOKUP(B2247,'School List'!$B$3:$D$291,3,FALSE),H2247)","v":{"$error":"#N/A"}},{"$f":"IF('Line 1 Source'!B2247<>\"\",'Line 1 Source'!B2247,\"\")","v":""},{"$f":"IF('Line 1 Source'!C2247<>\"\",'Line 1 Source'!C2247,\"\")","v":""},{"$f":"IF('Line 1 Source'!D2247<>\"\",'Line 1 Source'!D2247,\"\")","v":""},{"$f":"IF('Line 1 Source'!E2247<>\"\",'Line 1 Source'!E2247,\"\")","v":""},{"$f":"IF('Line 1 Source'!F2247<>\"\",'Line 1 Source'!F2247,\"\")","v":""}]
[{"$f":"IF('Line 1 Source'!A2248<>\"\",'Line 1 Source'!A2248,\"\")","v":""},"",{"$f":"CONCATENATE(VLOOKUP(B2248,'School List'!$B$3:$H$291,6,FALSE),H2248)","v":{"$error":"#N/A"}},{"$f":"CONCATENATE(VLOOKUP(B2248,'School List'!$B$3:$D$291,3,FALSE),H2248)","v":{"$error":"#N/A"}},{"$f":"IF('Line 1 Source'!B2248<>\"\",'Line 1 Source'!B2248,\"\")","v":""},{"$f":"IF('Line 1 Source'!C2248<>\"\",'Line 1 Source'!C2248,\"\")","v":""},{"$f":"IF('Line 1 Source'!D2248<>\"\",'Line 1 Source'!D2248,\"\")","v":""},{"$f":"IF('Line 1 Source'!E2248<>\"\",'Line 1 Source'!E2248,\"\")","v":""},{"$f":"IF('Line 1 Source'!F2248<>\"\",'Line 1 Source'!F2248,\"\")","v":""}]
[{"$f":"IF('Line 1 Source'!A2249<>\"\",'Line 1 Source'!A2249,\"\")","v":""},"",{"$f":"CONCATENATE(VLOOKUP(B2249,'School List'!$B$3:$H$291,6,FALSE),H2249)","v":{"$error":"#N/A"}},{"$f":"CONCATENATE(VLOOKUP(B2249,'School List'!$B$3:$D$291,3,FALSE),H2249)","v":{"$error":"#N/A"}},{"$f":"IF('Line 1 Source'!B2249<>\"\",'Line 1 Source'!B2249,\"\")","v":""},{"$f":"IF('Line 1 Source'!C2249<>\"\",'Line 1 Source'!C2249,\"\")","v":""},{"$f":"IF('Line 1 Source'!D2249<>\"\",'Line 1 Source'!D2249,\"\")","v":""},{"$f":"IF('Line 1 Source'!E2249<>\"\",'Line 1 Source'!E2249,\"\")","v":""},{"$f":"IF('Line 1 Source'!F2249<>\"\",'Line 1 Source'!F2249,\"\")","v":""}]
[{"$f":"IF('Line 1 Source'!A2250<>\"\",'Line 1 Source'!A2250,\"\")","v":""},"",{"$f":"CONCATENATE(VLOOKUP(B2250,'School List'!$B$3:$H$291,6,FALSE),H2250)","v":{"$error":"#N/A"}},{"$f":"CONCATENATE(VLOOKUP(B2250,'School List'!$B$3:$D$291,3,FALSE),H2250)","v":{"$error":"#N/A"}},{"$f":"IF('Line 1 Source'!B2250<>\"\",'Line 1 Source'!B2250,\"\")","v":""},{"$f":"IF('Line 1 Source'!C2250<>\"\",'Line 1 Source'!C2250,\"\")","v":""},{"$f":"IF('Line 1 Source'!D2250<>\"\",'Line 1 Source'!D2250,\"\")","v":""},{"$f":"IF('Line 1 Source'!E2250<>\"\",'Line 1 Source'!E2250,\"\")","v":""},{"$f":"IF('Line 1 Source'!F2250<>\"\",'Line 1 Source'!F2250,\"\")","v":""}]
[{"$f":"IF('Line 1 Source'!A2251<>\"\",'Line 1 Source'!A2251,\"\")","v":""},"",{"$f":"CONCATENATE(VLOOKUP(B2251,'School List'!$B$3:$H$291,6,FALSE),H2251)","v":{"$error":"#N/A"}},{"$f":"CONCATENATE(VLOOKUP(B2251,'School List'!$B$3:$D$291,3,FALSE),H2251)","v":{"$error":"#N/A"}},{"$f":"IF('Line 1 Source'!B2251<>\"\",'Line 1 Source'!B2251,\"\")","v":""},{"$f":"IF('Line 1 Source'!C2251<>\"\",'Line 1 Source'!C2251,\"\")","v":""},{"$f":"IF('Line 1 Source'!D2251<>\"\",'Line 1 Source'!D2251,\"\")","v":""},{"$f":"IF('Line 1 Source'!E2251<>\"\",'Line 1 Source'!E2251,\"\")","v":""},{"$f":"IF('Line 1 Source'!F2251<>\"\",'Line 1 Source'!F2251,\"\")","v":""}]
[{"$f":"IF('Line 1 Source'!A2252<>\"\",'Line 1 Source'!A2252,\"\")","v":""},"",{"$f":"CONCATENATE(VLOOKUP(B2252,'School List'!$B$3:$H$291,6,FALSE),H2252)","v":{"$error":"#N/A"}},{"$f":"CONCATENATE(VLOOKUP(B2252,'School List'!$B$3:$D$291,3,FALSE),H2252)","v":{"$error":"#N/A"}},{"$f":"IF('Line 1 Source'!B2252<>\"\",'Line 1 Source'!B2252,\"\")","v":""},{"$f":"IF('Line 1 Source'!C2252<>\"\",'Line 1 Source'!C2252,\"\")","v":""},{"$f":"IF('Line 1 Source'!D2252<>\"\",'Line 1 Source'!D2252,\"\")","v":""},{"$f":"IF('Line 1 Source'!E2252<>\"\",'Line 1 Source'!E2252,\"\")","v":""},{"$f":"IF('Line 1 Source'!F2252<>\"\",'Line 1 Source'!F2252,\"\")","v":""}]
[{"$f":"IF('Line 1 Source'!A2253<>\"\",'Line 1 Source'!A2253,\"\")","v":""},"",{"$f":"CONCATENATE(VLOOKUP(B2253,'School List'!$B$3:$H$291,6,FALSE),H2253)","v":{"$error":"#N/A"}},{"$f":"CONCATENATE(VLOOKUP(B2253,'School List'!$B$3:$D$291,3,FALSE),H2253)","v":{"$error":"#N/A"}},{"$f":"IF('Line 1 Source'!B2253<>\"\",'Line 1 Source'!B2253,\"\")","v":""},{"$f":"IF('Line 1 Source'!C2253<>\"\",'Line 1 Source'!C2253,\"\")","v":""},{"$f":"IF('Line 1 Source'!D2253<>\"\",'Line 1 Source'!D2253,\"\")","v":""},{"$f":"IF('Line 1 Source'!E2253<>\"\",'Line 1 Source'!E2253,\"\")","v":""},{"$f":"IF('Line 1 Source'!F2253<>\"\",'Line 1 Source'!F2253,\"\")","v":""}]
[{"$f":"IF('Line 1 Source'!A2254<>\"\",'Line 1 Source'!A2254,\"\")","v":""},"",{"$f":"CONCATENATE(VLOOKUP(B2254,'School List'!$B$3:$H$291,6,FALSE),H2254)","v":{"$error":"#N/A"}},{"$f":"CONCATENATE(VLOOKUP(B2254,'School List'!$B$3:$D$291,3,FALSE),H2254)","v":{"$error":"#N/A"}},{"$f":"IF('Line 1 Source'!B2254<>\"\",'Line 1 Source'!B2254,\"\")","v":""},{"$f":"IF('Line 1 Source'!C2254<>\"\",'Line 1 Source'!C2254,\"\")","v":""},{"$f":"IF('Line 1 Source'!D2254<>\"\",'Line 1 Source'!D2254,\"\")","v":""},{"$f":"IF('Line 1 Source'!E2254<>\"\",'Line 1 Source'!E2254,\"\")","v":""},{"$f":"IF('Line 1 Source'!F2254<>\"\",'Line 1 Source'!F2254,\"\")","v":""}]
[{"$f":"IF('Line 1 Source'!A2255<>\"\",'Line 1 Source'!A2255,\"\")","v":""},"",{"$f":"CONCATENATE(VLOOKUP(B2255,'School List'!$B$3:$H$291,6,FALSE),H2255)","v":{"$error":"#N/A"}},{"$f":"CONCATENATE(VLOOKUP(B2255,'School List'!$B$3:$D$291,3,FALSE),H2255)","v":{"$error":"#N/A"}},{"$f":"IF('Line 1 Source'!B2255<>\"\",'Line 1 Source'!B2255,\"\")","v":""},{"$f":"IF('Line 1 Source'!C2255<>\"\",'Line 1 Source'!C2255,\"\")","v":""},{"$f":"IF('Line 1 Source'!D2255<>\"\",'Line 1 Source'!D2255,\"\")","v":""},{"$f":"IF('Line 1 Source'!E2255<>\"\",'Line 1 Source'!E2255,\"\")","v":""},{"$f":"IF('Line 1 Source'!F2255<>\"\",'Line 1 Source'!F2255,\"\")","v":""}]
[{"$f":"IF('Line 1 Source'!A2256<>\"\",'Line 1 Source'!A2256,\"\")","v":""},"",{"$f":"CONCATENATE(VLOOKUP(B2256,'School List'!$B$3:$H$291,6,FALSE),H2256)","v":{"$error":"#N/A"}},{"$f":"CONCATENATE(VLOOKUP(B2256,'School List'!$B$3:$D$291,3,FALSE),H2256)","v":{"$error":"#N/A"}},{"$f":"IF('Line 1 Source'!B2256<>\"\",'Line 1 Source'!B2256,\"\")","v":""},{"$f":"IF('Line 1 Source'!C2256<>\"\",'Line 1 Source'!C2256,\"\")","v":""},{"$f":"IF('Line 1 Source'!D2256<>\"\",'Line 1 Source'!D2256,\"\")","v":""},{"$f":"IF('Line 1 Source'!E2256<>\"\",'Line 1 Source'!E2256,\"\")","v":""},{"$f":"IF('Line 1 Source'!F2256<>\"\",'Line 1 Source'!F2256,\"\")","v":""}]
[{"$f":"IF('Line 1 Source'!A2257<>\"\",'Line 1 Source'!A2257,\"\")","v":""},"",{"$f":"CONCATENATE(VLOOKUP(B2257,'School List'!$B$3:$H$291,6,FALSE),H2257)","v":{"$error":"#N/A"}},{"$f":"CONCATENATE(VLOOKUP(B2257,'School List'!$B$3:$D$291,3,FALSE),H2257)","v":{"$error":"#N/A"}},{"$f":"IF('Line 1 Source'!B2257<>\"\",'Line 1 Source'!B2257,\"\")","v":""},{"$f":"IF('Line 1 Source'!C2257<>\"\",'Line 1 Source'!C2257,\"\")","v":""},{"$f":"IF('Line 1 Source'!D2257<>\"\",'Line 1 Source'!D2257,\"\")","v":""},{"$f":"IF('Line 1 Source'!E2257<>\"\",'Line 1 Source'!E2257,\"\")","v":""},{"$f":"IF('Line 1 Source'!F2257<>\"\",'Line 1 Source'!F2257,\"\")","v":""}]
[{"$f":"IF('Line 1 Source'!A2258<>\"\",'Line 1 Source'!A2258,\"\")","v":""},"",{"$f":"CONCATENATE(VLOOKUP(B2258,'School List'!$B$3:$H$291,6,FALSE),H2258)","v":{"$error":"#N/A"}},{"$f":"CONCATENATE(VLOOKUP(B2258,'School List'!$B$3:$D$291,3,FALSE),H2258)","v":{"$error":"#N/A"}},{"$f":"IF('Line 1 Source'!B2258<>\"\",'Line 1 Source'!B2258,\"\")","v":""},{"$f":"IF('Line 1 Source'!C2258<>\"\",'Line 1 Source'!C2258,\"\")","v":""},{"$f":"IF('Line 1 Source'!D2258<>\"\",'Line 1 Source'!D2258,\"\")","v":""},{"$f":"IF('Line 1 Source'!E2258<>\"\",'Line 1 Source'!E2258,\"\")","v":""},{"$f":"IF('Line 1 Source'!F2258<>\"\",'Line 1 Source'!F2258,\"\")","v":""}]
[{"$f":"IF('Line 1 Source'!A2259<>\"\",'Line 1 Source'!A2259,\"\")","v":""},"",{"$f":"CONCATENATE(VLOOKUP(B2259,'School List'!$B$3:$H$291,6,FALSE),H2259)","v":{"$error":"#N/A"}},{"$f":"CONCATENATE(VLOOKUP(B2259,'School List'!$B$3:$D$291,3,FALSE),H2259)","v":{"$error":"#N/A"}},{"$f":"IF('Line 1 Source'!B2259<>\"\",'Line 1 Source'!B2259,\"\")","v":""},{"$f":"IF('Line 1 Source'!C2259<>\"\",'Line 1 Source'!C2259,\"\")","v":""},{"$f":"IF('Line 1 Source'!D2259<>\"\",'Line 1 Source'!D2259,\"\")","v":""},{"$f":"IF('Line 1 Source'!E2259<>\"\",'Line 1 Source'!E2259,\"\")","v":""},{"$f":"IF('Line 1 Source'!F2259<>\"\",'Line 1 Source'!F2259,\"\")","v":""}]
[{"$f":"IF('Line 1 Source'!A2260<>\"\",'Line 1 Source'!A2260,\"\")","v":""},"",{"$f":"CONCATENATE(VLOOKUP(B2260,'School List'!$B$3:$H$291,6,FALSE),H2260)","v":{"$error":"#N/A"}},{"$f":"CONCATENATE(VLOOKUP(B2260,'School List'!$B$3:$D$291,3,FALSE),H2260)","v":{"$error":"#N/A"}},{"$f":"IF('Line 1 Source'!B2260<>\"\",'Line 1 Source'!B2260,\"\")","v":""},{"$f":"IF('Line 1 Source'!C2260<>\"\",'Line 1 Source'!C2260,\"\")","v":""},{"$f":"IF('Line 1 Source'!D2260<>\"\",'Line 1 Source'!D2260,\"\")","v":""},{"$f":"IF('Line 1 Source'!E2260<>\"\",'Line 1 Source'!E2260,\"\")","v":""},{"$f":"IF('Line 1 Source'!F2260<>\"\",'Line 1 Source'!F2260,\"\")","v":""}]
[{"$f":"IF('Line 1 Source'!A2261<>\"\",'Line 1 Source'!A2261,\"\")","v":""},"",{"$f":"CONCATENATE(VLOOKUP(B2261,'School List'!$B$3:$H$291,6,FALSE),H2261)","v":{"$error":"#N/A"}},{"$f":"CONCATENATE(VLOOKUP(B2261,'School List'!$B$3:$D$291,3,FALSE),H2261)","v":{"$error":"#N/A"}},{"$f":"IF('Line 1 Source'!B2261<>\"\",'Line 1 Source'!B2261,\"\")","v":""},{"$f":"IF('Line 1 Source'!C2261<>\"\",'Line 1 Source'!C2261,\"\")","v":""},{"$f":"IF('Line 1 Source'!D2261<>\"\",'Line 1 Source'!D2261,\"\")","v":""},{"$f":"IF('Line 1 Source'!E2261<>\"\",'Line 1 Source'!E2261,\"\")","v":""},{"$f":"IF('Line 1 Source'!F2261<>\"\",'Line 1 Source'!F2261,\"\")","v":""}]
[{"$f":"IF('Line 1 Source'!A2262<>\"\",'Line 1 Source'!A2262,\"\")","v":""},"",{"$f":"CONCATENATE(VLOOKUP(B2262,'School List'!$B$3:$H$291,6,FALSE),H2262)","v":{"$error":"#N/A"}},{"$f":"CONCATENATE(VLOOKUP(B2262,'School List'!$B$3:$D$291,3,FALSE),H2262)","v":{"$error":"#N/A"}},{"$f":"IF('Line 1 Source'!B2262<>\"\",'Line 1 Source'!B2262,\"\")","v":""},{"$f":"IF('Line 1 Source'!C2262<>\"\",'Line 1 Source'!C2262,\"\")","v":""},{"$f":"IF('Line 1 Source'!D2262<>\"\",'Line 1 Source'!D2262,\"\")","v":""},{"$f":"IF('Line 1 Source'!E2262<>\"\",'Line 1 Source'!E2262,\"\")","v":""},{"$f":"IF('Line 1 Source'!F2262<>\"\",'Line 1 Source'!F2262,\"\")","v":""}]
[{"$f":"IF('Line 1 Source'!A2263<>\"\",'Line 1 Source'!A2263,\"\")","v":""},"",{"$f":"CONCATENATE(VLOOKUP(B2263,'School List'!$B$3:$H$291,6,FALSE),H2263)","v":{"$error":"#N/A"}},{"$f":"CONCATENATE(VLOOKUP(B2263,'School List'!$B$3:$D$291,3,FALSE),H2263)","v":{"$error":"#N/A"}},{"$f":"IF('Line 1 Source'!B2263<>\"\",'Line 1 Source'!B2263,\"\")","v":""},{"$f":"IF('Line 1 Source'!C2263<>\"\",'Line 1 Source'!C2263,\"\")","v":""},{"$f":"IF('Line 1 Source'!D2263<>\"\",'Line 1 Source'!D2263,\"\")","v":""},{"$f":"IF('Line 1 Source'!E2263<>\"\",'Line 1 Source'!E2263,\"\")","v":""},{"$f":"IF('Line 1 Source'!F2263<>\"\",'Line 1 Source'!F2263,\"\")","v":""}]
[{"$f":"IF('Line 1 Source'!A2264<>\"\",'Line 1 Source'!A2264,\"\")","v":""},"",{"$f":"CONCATENATE(VLOOKUP(B2264,'School List'!$B$3:$H$291,6,FALSE),H2264)","v":{"$error":"#N/A"}},{"$f":"CONCATENATE(VLOOKUP(B2264,'School List'!$B$3:$D$291,3,FALSE),H2264)","v":{"$error":"#N/A"}},{"$f":"IF('Line 1 Source'!B2264<>\"\",'Line 1 Source'!B2264,\"\")","v":""},{"$f":"IF('Line 1 Source'!C2264<>\"\",'Line 1 Source'!C2264,\"\")","v":""},{"$f":"IF('Line 1 Source'!D2264<>\"\",'Line 1 Source'!D2264,\"\")","v":""},{"$f":"IF('Line 1 Source'!E2264<>\"\",'Line 1 Source'!E2264,\"\")","v":""},{"$f":"IF('Line 1 Source'!F2264<>\"\",'Line 1 Source'!F2264,\"\")","v":""}]
[{"$f":"IF('Line 1 Source'!A2265<>\"\",'Line 1 Source'!A2265,\"\")","v":""},"",{"$f":"CONCATENATE(VLOOKUP(B2265,'School List'!$B$3:$H$291,6,FALSE),H2265)","v":{"$error":"#N/A"}},{"$f":"CONCATENATE(VLOOKUP(B2265,'School List'!$B$3:$D$291,3,FALSE),H2265)","v":{"$error":"#N/A"}},{"$f":"IF('Line 1 Source'!B2265<>\"\",'Line 1 Source'!B2265,\"\")","v":""},{"$f":"IF('Line 1 Source'!C2265<>\"\",'Line 1 Source'!C2265,\"\")","v":""},{"$f":"IF('Line 1 Source'!D2265<>\"\",'Line 1 Source'!D2265,\"\")","v":""},{"$f":"IF('Line 1 Source'!E2265<>\"\",'Line 1 Source'!E2265,\"\")","v":""},{"$f":"IF('Line 1 Source'!F2265<>\"\",'Line 1 Source'!F2265,\"\")","v":""}]
[{"$f":"IF('Line 1 Source'!A2266<>\"\",'Line 1 Source'!A2266,\"\")","v":""},"",{"$f":"CONCATENATE(VLOOKUP(B2266,'School List'!$B$3:$H$291,6,FALSE),H2266)","v":{"$error":"#N/A"}},{"$f":"CONCATENATE(VLOOKUP(B2266,'School List'!$B$3:$D$291,3,FALSE),H2266)","v":{"$error":"#N/A"}},{"$f":"IF('Line 1 Source'!B2266<>\"\",'Line 1 Source'!B2266,\"\")","v":""},{"$f":"IF('Line 1 Source'!C2266<>\"\",'Line 1 Source'!C2266,\"\")","v":""},{"$f":"IF('Line 1 Source'!D2266<>\"\",'Line 1 Source'!D2266,\"\")","v":""},{"$f":"IF('Line 1 Source'!E2266<>\"\",'Line 1 Source'!E2266,\"\")","v":""},{"$f":"IF('Line 1 Source'!F2266<>\"\",'Line 1 Source'!F2266,\"\")","v":""}]
[{"$f":"IF('Line 1 Source'!A2267<>\"\",'Line 1 Source'!A2267,\"\")","v":""},"",{"$f":"CONCATENATE(VLOOKUP(B2267,'School List'!$B$3:$H$291,6,FALSE),H2267)","v":{"$error":"#N/A"}},{"$f":"CONCATENATE(VLOOKUP(B2267,'School List'!$B$3:$D$291,3,FALSE),H2267)","v":{"$error":"#N/A"}},{"$f":"IF('Line 1 Source'!B2267<>\"\",'Line 1 Source'!B2267,\"\")","v":""},{"$f":"IF('Line 1 Source'!C2267<>\"\",'Line 1 Source'!C2267,\"\")","v":""},{"$f":"IF('Line 1 Source'!D2267<>\"\",'Line 1 Source'!D2267,\"\")","v":""},{"$f":"IF('Line 1 Source'!E2267<>\"\",'Line 1 Source'!E2267,\"\")","v":""},{"$f":"IF('Line 1 Source'!F2267<>\"\",'Line 1 Source'!F2267,\"\")","v":""}]
[{"$f":"IF('Line 1 Source'!A2268<>\"\",'Line 1 Source'!A2268,\"\")","v":""},"",{"$f":"CONCATENATE(VLOOKUP(B2268,'School List'!$B$3:$H$291,6,FALSE),H2268)","v":{"$error":"#N/A"}},{"$f":"CONCATENATE(VLOOKUP(B2268,'School List'!$B$3:$D$291,3,FALSE),H2268)","v":{"$error":"#N/A"}},{"$f":"IF('Line 1 Source'!B2268<>\"\",'Line 1 Source'!B2268,\"\")","v":""},{"$f":"IF('Line 1 Source'!C2268<>\"\",'Line 1 Source'!C2268,\"\")","v":""},{"$f":"IF('Line 1 Source'!D2268<>\"\",'Line 1 Source'!D2268,\"\")","v":""},{"$f":"IF('Line 1 Source'!E2268<>\"\",'Line 1 Source'!E2268,\"\")","v":""},{"$f":"IF('Line 1 Source'!F2268<>\"\",'Line 1 Source'!F2268,\"\")","v":""}]
[{"$f":"IF('Line 1 Source'!A2269<>\"\",'Line 1 Source'!A2269,\"\")","v":""},"",{"$f":"CONCATENATE(VLOOKUP(B2269,'School List'!$B$3:$H$291,6,FALSE),H2269)","v":{"$error":"#N/A"}},{"$f":"CONCATENATE(VLOOKUP(B2269,'School List'!$B$3:$D$291,3,FALSE),H2269)","v":{"$error":"#N/A"}},{"$f":"IF('Line 1 Source'!B2269<>\"\",'Line 1 Source'!B2269,\"\")","v":""},{"$f":"IF('Line 1 Source'!C2269<>\"\",'Line 1 Source'!C2269,\"\")","v":""},{"$f":"IF('Line 1 Source'!D2269<>\"\",'Line 1 Source'!D2269,\"\")","v":""},{"$f":"IF('Line 1 Source'!E2269<>\"\",'Line 1 Source'!E2269,\"\")","v":""},{"$f":"IF('Line 1 Source'!F2269<>\"\",'Line 1 Source'!F2269,\"\")","v":""}]
[{"$f":"IF('Line 1 Source'!A2270<>\"\",'Line 1 Source'!A2270,\"\")","v":""},"",{"$f":"CONCATENATE(VLOOKUP(B2270,'School List'!$B$3:$H$291,6,FALSE),H2270)","v":{"$error":"#N/A"}},{"$f":"CONCATENATE(VLOOKUP(B2270,'School List'!$B$3:$D$291,3,FALSE),H2270)","v":{"$error":"#N/A"}},{"$f":"IF('Line 1 Source'!B2270<>\"\",'Line 1 Source'!B2270,\"\")","v":""},{"$f":"IF('Line 1 Source'!C2270<>\"\",'Line 1 Source'!C2270,\"\")","v":""},{"$f":"IF('Line 1 Source'!D2270<>\"\",'Line 1 Source'!D2270,\"\")","v":""},{"$f":"IF('Line 1 Source'!E2270<>\"\",'Line 1 Source'!E2270,\"\")","v":""},{"$f":"IF('Line 1 Source'!F2270<>\"\",'Line 1 Source'!F2270,\"\")","v":""}]
[{"$f":"IF('Line 1 Source'!A2271<>\"\",'Line 1 Source'!A2271,\"\")","v":""},"",{"$f":"CONCATENATE(VLOOKUP(B2271,'School List'!$B$3:$H$291,6,FALSE),H2271)","v":{"$error":"#N/A"}},{"$f":"CONCATENATE(VLOOKUP(B2271,'School List'!$B$3:$D$291,3,FALSE),H2271)","v":{"$error":"#N/A"}},{"$f":"IF('Line 1 Source'!B2271<>\"\",'Line 1 Source'!B2271,\"\")","v":""},{"$f":"IF('Line 1 Source'!C2271<>\"\",'Line 1 Source'!C2271,\"\")","v":""},{"$f":"IF('Line 1 Source'!D2271<>\"\",'Line 1 Source'!D2271,\"\")","v":""},{"$f":"IF('Line 1 Source'!E2271<>\"\",'Line 1 Source'!E2271,\"\")","v":""},{"$f":"IF('Line 1 Source'!F2271<>\"\",'Line 1 Source'!F2271,\"\")","v":""}]
[{"$f":"IF('Line 1 Source'!A2272<>\"\",'Line 1 Source'!A2272,\"\")","v":""},"",{"$f":"CONCATENATE(VLOOKUP(B2272,'School List'!$B$3:$H$291,6,FALSE),H2272)","v":{"$error":"#N/A"}},{"$f":"CONCATENATE(VLOOKUP(B2272,'School List'!$B$3:$D$291,3,FALSE),H2272)","v":{"$error":"#N/A"}},{"$f":"IF('Line 1 Source'!B2272<>\"\",'Line 1 Source'!B2272,\"\")","v":""},{"$f":"IF('Line 1 Source'!C2272<>\"\",'Line 1 Source'!C2272,\"\")","v":""},{"$f":"IF('Line 1 Source'!D2272<>\"\",'Line 1 Source'!D2272,\"\")","v":""},{"$f":"IF('Line 1 Source'!E2272<>\"\",'Line 1 Source'!E2272,\"\")","v":""},{"$f":"IF('Line 1 Source'!F2272<>\"\",'Line 1 Source'!F2272,\"\")","v":""}]
[{"$f":"IF('Line 1 Source'!A2273<>\"\",'Line 1 Source'!A2273,\"\")","v":""},"",{"$f":"CONCATENATE(VLOOKUP(B2273,'School List'!$B$3:$H$291,6,FALSE),H2273)","v":{"$error":"#N/A"}},{"$f":"CONCATENATE(VLOOKUP(B2273,'School List'!$B$3:$D$291,3,FALSE),H2273)","v":{"$error":"#N/A"}},{"$f":"IF('Line 1 Source'!B2273<>\"\",'Line 1 Source'!B2273,\"\")","v":""},{"$f":"IF('Line 1 Source'!C2273<>\"\",'Line 1 Source'!C2273,\"\")","v":""},{"$f":"IF('Line 1 Source'!D2273<>\"\",'Line 1 Source'!D2273,\"\")","v":""},{"$f":"IF('Line 1 Source'!E2273<>\"\",'Line 1 Source'!E2273,\"\")","v":""},{"$f":"IF('Line 1 Source'!F2273<>\"\",'Line 1 Source'!F2273,\"\")","v":""}]
[{"$f":"IF('Line 1 Source'!A2274<>\"\",'Line 1 Source'!A2274,\"\")","v":""},"",{"$f":"CONCATENATE(VLOOKUP(B2274,'School List'!$B$3:$H$291,6,FALSE),H2274)","v":{"$error":"#N/A"}},{"$f":"CONCATENATE(VLOOKUP(B2274,'School List'!$B$3:$D$291,3,FALSE),H2274)","v":{"$error":"#N/A"}},{"$f":"IF('Line 1 Source'!B2274<>\"\",'Line 1 Source'!B2274,\"\")","v":""},{"$f":"IF('Line 1 Source'!C2274<>\"\",'Line 1 Source'!C2274,\"\")","v":""},{"$f":"IF('Line 1 Source'!D2274<>\"\",'Line 1 Source'!D2274,\"\")","v":""},{"$f":"IF('Line 1 Source'!E2274<>\"\",'Line 1 Source'!E2274,\"\")","v":""},{"$f":"IF('Line 1 Source'!F2274<>\"\",'Line 1 Source'!F2274,\"\")","v":""}]
[{"$f":"IF('Line 1 Source'!A2275<>\"\",'Line 1 Source'!A2275,\"\")","v":""},"",{"$f":"CONCATENATE(VLOOKUP(B2275,'School List'!$B$3:$H$291,6,FALSE),H2275)","v":{"$error":"#N/A"}},{"$f":"CONCATENATE(VLOOKUP(B2275,'School List'!$B$3:$D$291,3,FALSE),H2275)","v":{"$error":"#N/A"}},{"$f":"IF('Line 1 Source'!B2275<>\"\",'Line 1 Source'!B2275,\"\")","v":""},{"$f":"IF('Line 1 Source'!C2275<>\"\",'Line 1 Source'!C2275,\"\")","v":""},{"$f":"IF('Line 1 Source'!D2275<>\"\",'Line 1 Source'!D2275,\"\")","v":""},{"$f":"IF('Line 1 Source'!E2275<>\"\",'Line 1 Source'!E2275,\"\")","v":""},{"$f":"IF('Line 1 Source'!F2275<>\"\",'Line 1 Source'!F2275,\"\")","v":""}]
[{"$f":"IF('Line 1 Source'!A2276<>\"\",'Line 1 Source'!A2276,\"\")","v":""},"",{"$f":"CONCATENATE(VLOOKUP(B2276,'School List'!$B$3:$H$291,6,FALSE),H2276)","v":{"$error":"#N/A"}},{"$f":"CONCATENATE(VLOOKUP(B2276,'School List'!$B$3:$D$291,3,FALSE),H2276)","v":{"$error":"#N/A"}},{"$f":"IF('Line 1 Source'!B2276<>\"\",'Line 1 Source'!B2276,\"\")","v":""},{"$f":"IF('Line 1 Source'!C2276<>\"\",'Line 1 Source'!C2276,\"\")","v":""},{"$f":"IF('Line 1 Source'!D2276<>\"\",'Line 1 Source'!D2276,\"\")","v":""},{"$f":"IF('Line 1 Source'!E2276<>\"\",'Line 1 Source'!E2276,\"\")","v":""},{"$f":"IF('Line 1 Source'!F2276<>\"\",'Line 1 Source'!F2276,\"\")","v":""}]
[{"$f":"IF('Line 1 Source'!A2277<>\"\",'Line 1 Source'!A2277,\"\")","v":""},"",{"$f":"CONCATENATE(VLOOKUP(B2277,'School List'!$B$3:$H$291,6,FALSE),H2277)","v":{"$error":"#N/A"}},{"$f":"CONCATENATE(VLOOKUP(B2277,'School List'!$B$3:$D$291,3,FALSE),H2277)","v":{"$error":"#N/A"}},{"$f":"IF('Line 1 Source'!B2277<>\"\",'Line 1 Source'!B2277,\"\")","v":""},{"$f":"IF('Line 1 Source'!C2277<>\"\",'Line 1 Source'!C2277,\"\")","v":""},{"$f":"IF('Line 1 Source'!D2277<>\"\",'Line 1 Source'!D2277,\"\")","v":""},{"$f":"IF('Line 1 Source'!E2277<>\"\",'Line 1 Source'!E2277,\"\")","v":""},{"$f":"IF('Line 1 Source'!F2277<>\"\",'Line 1 Source'!F2277,\"\")","v":""}]
[{"$f":"IF('Line 1 Source'!A2278<>\"\",'Line 1 Source'!A2278,\"\")","v":""},"",{"$f":"CONCATENATE(VLOOKUP(B2278,'School List'!$B$3:$H$291,6,FALSE),H2278)","v":{"$error":"#N/A"}},{"$f":"CONCATENATE(VLOOKUP(B2278,'School List'!$B$3:$D$291,3,FALSE),H2278)","v":{"$error":"#N/A"}},{"$f":"IF('Line 1 Source'!B2278<>\"\",'Line 1 Source'!B2278,\"\")","v":""},{"$f":"IF('Line 1 Source'!C2278<>\"\",'Line 1 Source'!C2278,\"\")","v":""},{"$f":"IF('Line 1 Source'!D2278<>\"\",'Line 1 Source'!D2278,\"\")","v":""},{"$f":"IF('Line 1 Source'!E2278<>\"\",'Line 1 Source'!E2278,\"\")","v":""},{"$f":"IF('Line 1 Source'!F2278<>\"\",'Line 1 Source'!F2278,\"\")","v":""}]
[{"$f":"IF('Line 1 Source'!A2279<>\"\",'Line 1 Source'!A2279,\"\")","v":""},"",{"$f":"CONCATENATE(VLOOKUP(B2279,'School List'!$B$3:$H$291,6,FALSE),H2279)","v":{"$error":"#N/A"}},{"$f":"CONCATENATE(VLOOKUP(B2279,'School List'!$B$3:$D$291,3,FALSE),H2279)","v":{"$error":"#N/A"}},{"$f":"IF('Line 1 Source'!B2279<>\"\",'Line 1 Source'!B2279,\"\")","v":""},{"$f":"IF('Line 1 Source'!C2279<>\"\",'Line 1 Source'!C2279,\"\")","v":""},{"$f":"IF('Line 1 Source'!D2279<>\"\",'Line 1 Source'!D2279,\"\")","v":""},{"$f":"IF('Line 1 Source'!E2279<>\"\",'Line 1 Source'!E2279,\"\")","v":""},{"$f":"IF('Line 1 Source'!F2279<>\"\",'Line 1 Source'!F2279,\"\")","v":""}]
[{"$f":"IF('Line 1 Source'!A2280<>\"\",'Line 1 Source'!A2280,\"\")","v":""},"",{"$f":"CONCATENATE(VLOOKUP(B2280,'School List'!$B$3:$H$291,6,FALSE),H2280)","v":{"$error":"#N/A"}},{"$f":"CONCATENATE(VLOOKUP(B2280,'School List'!$B$3:$D$291,3,FALSE),H2280)","v":{"$error":"#N/A"}},{"$f":"IF('Line 1 Source'!B2280<>\"\",'Line 1 Source'!B2280,\"\")","v":""},{"$f":"IF('Line 1 Source'!C2280<>\"\",'Line 1 Source'!C2280,\"\")","v":""},{"$f":"IF('Line 1 Source'!D2280<>\"\",'Line 1 Source'!D2280,\"\")","v":""},{"$f":"IF('Line 1 Source'!E2280<>\"\",'Line 1 Source'!E2280,\"\")","v":""},{"$f":"IF('Line 1 Source'!F2280<>\"\",'Line 1 Source'!F2280,\"\")","v":""}]
[{"$f":"IF('Line 1 Source'!A2281<>\"\",'Line 1 Source'!A2281,\"\")","v":""},"",{"$f":"CONCATENATE(VLOOKUP(B2281,'School List'!$B$3:$H$291,6,FALSE),H2281)","v":{"$error":"#N/A"}},{"$f":"CONCATENATE(VLOOKUP(B2281,'School List'!$B$3:$D$291,3,FALSE),H2281)","v":{"$error":"#N/A"}},{"$f":"IF('Line 1 Source'!B2281<>\"\",'Line 1 Source'!B2281,\"\")","v":""},{"$f":"IF('Line 1 Source'!C2281<>\"\",'Line 1 Source'!C2281,\"\")","v":""},{"$f":"IF('Line 1 Source'!D2281<>\"\",'Line 1 Source'!D2281,\"\")","v":""},{"$f":"IF('Line 1 Source'!E2281<>\"\",'Line 1 Source'!E2281,\"\")","v":""},{"$f":"IF('Line 1 Source'!F2281<>\"\",'Line 1 Source'!F2281,\"\")","v":""}]
[{"$f":"IF('Line 1 Source'!A2282<>\"\",'Line 1 Source'!A2282,\"\")","v":""},"",{"$f":"CONCATENATE(VLOOKUP(B2282,'School List'!$B$3:$H$291,6,FALSE),H2282)","v":{"$error":"#N/A"}},{"$f":"CONCATENATE(VLOOKUP(B2282,'School List'!$B$3:$D$291,3,FALSE),H2282)","v":{"$error":"#N/A"}},{"$f":"IF('Line 1 Source'!B2282<>\"\",'Line 1 Source'!B2282,\"\")","v":""},{"$f":"IF('Line 1 Source'!C2282<>\"\",'Line 1 Source'!C2282,\"\")","v":""},{"$f":"IF('Line 1 Source'!D2282<>\"\",'Line 1 Source'!D2282,\"\")","v":""},{"$f":"IF('Line 1 Source'!E2282<>\"\",'Line 1 Source'!E2282,\"\")","v":""},{"$f":"IF('Line 1 Source'!F2282<>\"\",'Line 1 Source'!F2282,\"\")","v":""}]
[{"$f":"IF('Line 1 Source'!A2283<>\"\",'Line 1 Source'!A2283,\"\")","v":""},"",{"$f":"CONCATENATE(VLOOKUP(B2283,'School List'!$B$3:$H$291,6,FALSE),H2283)","v":{"$error":"#N/A"}},{"$f":"CONCATENATE(VLOOKUP(B2283,'School List'!$B$3:$D$291,3,FALSE),H2283)","v":{"$error":"#N/A"}},{"$f":"IF('Line 1 Source'!B2283<>\"\",'Line 1 Source'!B2283,\"\")","v":""},{"$f":"IF('Line 1 Source'!C2283<>\"\",'Line 1 Source'!C2283,\"\")","v":""},{"$f":"IF('Line 1 Source'!D2283<>\"\",'Line 1 Source'!D2283,\"\")","v":""},{"$f":"IF('Line 1 Source'!E2283<>\"\",'Line 1 Source'!E2283,\"\")","v":""},{"$f":"IF('Line 1 Source'!F2283<>\"\",'Line 1 Source'!F2283,\"\")","v":""}]
[{"$f":"IF('Line 1 Source'!A2284<>\"\",'Line 1 Source'!A2284,\"\")","v":""},"",{"$f":"CONCATENATE(VLOOKUP(B2284,'School List'!$B$3:$H$291,6,FALSE),H2284)","v":{"$error":"#N/A"}},{"$f":"CONCATENATE(VLOOKUP(B2284,'School List'!$B$3:$D$291,3,FALSE),H2284)","v":{"$error":"#N/A"}},{"$f":"IF('Line 1 Source'!B2284<>\"\",'Line 1 Source'!B2284,\"\")","v":""},{"$f":"IF('Line 1 Source'!C2284<>\"\",'Line 1 Source'!C2284,\"\")","v":""},{"$f":"IF('Line 1 Source'!D2284<>\"\",'Line 1 Source'!D2284,\"\")","v":""},{"$f":"IF('Line 1 Source'!E2284<>\"\",'Line 1 Source'!E2284,\"\")","v":""},{"$f":"IF('Line 1 Source'!F2284<>\"\",'Line 1 Source'!F2284,\"\")","v":""}]
[{"$f":"IF('Line 1 Source'!A2285<>\"\",'Line 1 Source'!A2285,\"\")","v":""},"",{"$f":"CONCATENATE(VLOOKUP(B2285,'School List'!$B$3:$H$291,6,FALSE),H2285)","v":{"$error":"#N/A"}},{"$f":"CONCATENATE(VLOOKUP(B2285,'School List'!$B$3:$D$291,3,FALSE),H2285)","v":{"$error":"#N/A"}},{"$f":"IF('Line 1 Source'!B2285<>\"\",'Line 1 Source'!B2285,\"\")","v":""},{"$f":"IF('Line 1 Source'!C2285<>\"\",'Line 1 Source'!C2285,\"\")","v":""},{"$f":"IF('Line 1 Source'!D2285<>\"\",'Line 1 Source'!D2285,\"\")","v":""},{"$f":"IF('Line 1 Source'!E2285<>\"\",'Line 1 Source'!E2285,\"\")","v":""},{"$f":"IF('Line 1 Source'!F2285<>\"\",'Line 1 Source'!F2285,\"\")","v":""}]
[{"$f":"IF('Line 1 Source'!A2286<>\"\",'Line 1 Source'!A2286,\"\")","v":""},"",{"$f":"CONCATENATE(VLOOKUP(B2286,'School List'!$B$3:$H$291,6,FALSE),H2286)","v":{"$error":"#N/A"}},{"$f":"CONCATENATE(VLOOKUP(B2286,'School List'!$B$3:$D$291,3,FALSE),H2286)","v":{"$error":"#N/A"}},{"$f":"IF('Line 1 Source'!B2286<>\"\",'Line 1 Source'!B2286,\"\")","v":""},{"$f":"IF('Line 1 Source'!C2286<>\"\",'Line 1 Source'!C2286,\"\")","v":""},{"$f":"IF('Line 1 Source'!D2286<>\"\",'Line 1 Source'!D2286,\"\")","v":""},{"$f":"IF('Line 1 Source'!E2286<>\"\",'Line 1 Source'!E2286,\"\")","v":""},{"$f":"IF('Line 1 Source'!F2286<>\"\",'Line 1 Source'!F2286,\"\")","v":""}]
[{"$f":"IF('Line 1 Source'!A2287<>\"\",'Line 1 Source'!A2287,\"\")","v":""},"",{"$f":"CONCATENATE(VLOOKUP(B2287,'School List'!$B$3:$H$291,6,FALSE),H2287)","v":{"$error":"#N/A"}},{"$f":"CONCATENATE(VLOOKUP(B2287,'School List'!$B$3:$D$291,3,FALSE),H2287)","v":{"$error":"#N/A"}},{"$f":"IF('Line 1 Source'!B2287<>\"\",'Line 1 Source'!B2287,\"\")","v":""},{"$f":"IF('Line 1 Source'!C2287<>\"\",'Line 1 Source'!C2287,\"\")","v":""},{"$f":"IF('Line 1 Source'!D2287<>\"\",'Line 1 Source'!D2287,\"\")","v":""},{"$f":"IF('Line 1 Source'!E2287<>\"\",'Line 1 Source'!E2287,\"\")","v":""},{"$f":"IF('Line 1 Source'!F2287<>\"\",'Line 1 Source'!F2287,\"\")","v":""}]
[{"$f":"IF('Line 1 Source'!A2288<>\"\",'Line 1 Source'!A2288,\"\")","v":""},"",{"$f":"CONCATENATE(VLOOKUP(B2288,'School List'!$B$3:$H$291,6,FALSE),H2288)","v":{"$error":"#N/A"}},{"$f":"CONCATENATE(VLOOKUP(B2288,'School List'!$B$3:$D$291,3,FALSE),H2288)","v":{"$error":"#N/A"}},{"$f":"IF('Line 1 Source'!B2288<>\"\",'Line 1 Source'!B2288,\"\")","v":""},{"$f":"IF('Line 1 Source'!C2288<>\"\",'Line 1 Source'!C2288,\"\")","v":""},{"$f":"IF('Line 1 Source'!D2288<>\"\",'Line 1 Source'!D2288,\"\")","v":""},{"$f":"IF('Line 1 Source'!E2288<>\"\",'Line 1 Source'!E2288,\"\")","v":""},{"$f":"IF('Line 1 Source'!F2288<>\"\",'Line 1 Source'!F2288,\"\")","v":""}]
[{"$f":"IF('Line 1 Source'!A2289<>\"\",'Line 1 Source'!A2289,\"\")","v":""},"",{"$f":"CONCATENATE(VLOOKUP(B2289,'School List'!$B$3:$H$291,6,FALSE),H2289)","v":{"$error":"#N/A"}},{"$f":"CONCATENATE(VLOOKUP(B2289,'School List'!$B$3:$D$291,3,FALSE),H2289)","v":{"$error":"#N/A"}},{"$f":"IF('Line 1 Source'!B2289<>\"\",'Line 1 Source'!B2289,\"\")","v":""},{"$f":"IF('Line 1 Source'!C2289<>\"\",'Line 1 Source'!C2289,\"\")","v":""},{"$f":"IF('Line 1 Source'!D2289<>\"\",'Line 1 Source'!D2289,\"\")","v":""},{"$f":"IF('Line 1 Source'!E2289<>\"\",'Line 1 Source'!E2289,\"\")","v":""},{"$f":"IF('Line 1 Source'!F2289<>\"\",'Line 1 Source'!F2289,\"\")","v":""}]
[{"$f":"IF('Line 1 Source'!A2290<>\"\",'Line 1 Source'!A2290,\"\")","v":""},"",{"$f":"CONCATENATE(VLOOKUP(B2290,'School List'!$B$3:$H$291,6,FALSE),H2290)","v":{"$error":"#N/A"}},{"$f":"CONCATENATE(VLOOKUP(B2290,'School List'!$B$3:$D$291,3,FALSE),H2290)","v":{"$error":"#N/A"}},{"$f":"IF('Line 1 Source'!B2290<>\"\",'Line 1 Source'!B2290,\"\")","v":""},{"$f":"IF('Line 1 Source'!C2290<>\"\",'Line 1 Source'!C2290,\"\")","v":""},{"$f":"IF('Line 1 Source'!D2290<>\"\",'Line 1 Source'!D2290,\"\")","v":""},{"$f":"IF('Line 1 Source'!E2290<>\"\",'Line 1 Source'!E2290,\"\")","v":""},{"$f":"IF('Line 1 Source'!F2290<>\"\",'Line 1 Source'!F2290,\"\")","v":""}]
[{"$f":"IF('Line 1 Source'!A2291<>\"\",'Line 1 Source'!A2291,\"\")","v":""},"",{"$f":"CONCATENATE(VLOOKUP(B2291,'School List'!$B$3:$H$291,6,FALSE),H2291)","v":{"$error":"#N/A"}},{"$f":"CONCATENATE(VLOOKUP(B2291,'School List'!$B$3:$D$291,3,FALSE),H2291)","v":{"$error":"#N/A"}},{"$f":"IF('Line 1 Source'!B2291<>\"\",'Line 1 Source'!B2291,\"\")","v":""},{"$f":"IF('Line 1 Source'!C2291<>\"\",'Line 1 Source'!C2291,\"\")","v":""},{"$f":"IF('Line 1 Source'!D2291<>\"\",'Line 1 Source'!D2291,\"\")","v":""},{"$f":"IF('Line 1 Source'!E2291<>\"\",'Line 1 Source'!E2291,\"\")","v":""},{"$f":"IF('Line 1 Source'!F2291<>\"\",'Line 1 Source'!F2291,\"\")","v":""}]
[{"$f":"IF('Line 1 Source'!A2292<>\"\",'Line 1 Source'!A2292,\"\")","v":""},"",{"$f":"CONCATENATE(VLOOKUP(B2292,'School List'!$B$3:$H$291,6,FALSE),H2292)","v":{"$error":"#N/A"}},{"$f":"CONCATENATE(VLOOKUP(B2292,'School List'!$B$3:$D$291,3,FALSE),H2292)","v":{"$error":"#N/A"}},{"$f":"IF('Line 1 Source'!B2292<>\"\",'Line 1 Source'!B2292,\"\")","v":""},{"$f":"IF('Line 1 Source'!C2292<>\"\",'Line 1 Source'!C2292,\"\")","v":""},{"$f":"IF('Line 1 Source'!D2292<>\"\",'Line 1 Source'!D2292,\"\")","v":""},{"$f":"IF('Line 1 Source'!E2292<>\"\",'Line 1 Source'!E2292,\"\")","v":""},{"$f":"IF('Line 1 Source'!F2292<>\"\",'Line 1 Source'!F2292,\"\")","v":""}]
[{"$f":"IF('Line 1 Source'!A2293<>\"\",'Line 1 Source'!A2293,\"\")","v":""},"",{"$f":"CONCATENATE(VLOOKUP(B2293,'School List'!$B$3:$H$291,6,FALSE),H2293)","v":{"$error":"#N/A"}},{"$f":"CONCATENATE(VLOOKUP(B2293,'School List'!$B$3:$D$291,3,FALSE),H2293)","v":{"$error":"#N/A"}},{"$f":"IF('Line 1 Source'!B2293<>\"\",'Line 1 Source'!B2293,\"\")","v":""},{"$f":"IF('Line 1 Source'!C2293<>\"\",'Line 1 Source'!C2293,\"\")","v":""},{"$f":"IF('Line 1 Source'!D2293<>\"\",'Line 1 Source'!D2293,\"\")","v":""},{"$f":"IF('Line 1 Source'!E2293<>\"\",'Line 1 Source'!E2293,\"\")","v":""},{"$f":"IF('Line 1 Source'!F2293<>\"\",'Line 1 Source'!F2293,\"\")","v":""}]
[{"$f":"IF('Line 1 Source'!A2294<>\"\",'Line 1 Source'!A2294,\"\")","v":""},"",{"$f":"CONCATENATE(VLOOKUP(B2294,'School List'!$B$3:$H$291,6,FALSE),H2294)","v":{"$error":"#N/A"}},{"$f":"CONCATENATE(VLOOKUP(B2294,'School List'!$B$3:$D$291,3,FALSE),H2294)","v":{"$error":"#N/A"}},{"$f":"IF('Line 1 Source'!B2294<>\"\",'Line 1 Source'!B2294,\"\")","v":""},{"$f":"IF('Line 1 Source'!C2294<>\"\",'Line 1 Source'!C2294,\"\")","v":""},{"$f":"IF('Line 1 Source'!D2294<>\"\",'Line 1 Source'!D2294,\"\")","v":""},{"$f":"IF('Line 1 Source'!E2294<>\"\",'Line 1 Source'!E2294,\"\")","v":""},{"$f":"IF('Line 1 Source'!F2294<>\"\",'Line 1 Source'!F2294,\"\")","v":""}]
[{"$f":"IF('Line 1 Source'!A2295<>\"\",'Line 1 Source'!A2295,\"\")","v":""},"",{"$f":"CONCATENATE(VLOOKUP(B2295,'School List'!$B$3:$H$291,6,FALSE),H2295)","v":{"$error":"#N/A"}},{"$f":"CONCATENATE(VLOOKUP(B2295,'School List'!$B$3:$D$291,3,FALSE),H2295)","v":{"$error":"#N/A"}},{"$f":"IF('Line 1 Source'!B2295<>\"\",'Line 1 Source'!B2295,\"\")","v":""},{"$f":"IF('Line 1 Source'!C2295<>\"\",'Line 1 Source'!C2295,\"\")","v":""},{"$f":"IF('Line 1 Source'!D2295<>\"\",'Line 1 Source'!D2295,\"\")","v":""},{"$f":"IF('Line 1 Source'!E2295<>\"\",'Line 1 Source'!E2295,\"\")","v":""},{"$f":"IF('Line 1 Source'!F2295<>\"\",'Line 1 Source'!F2295,\"\")","v":""}]
[{"$f":"IF('Line 1 Source'!A2296<>\"\",'Line 1 Source'!A2296,\"\")","v":""},"",{"$f":"CONCATENATE(VLOOKUP(B2296,'School List'!$B$3:$H$291,6,FALSE),H2296)","v":{"$error":"#N/A"}},{"$f":"CONCATENATE(VLOOKUP(B2296,'School List'!$B$3:$D$291,3,FALSE),H2296)","v":{"$error":"#N/A"}},{"$f":"IF('Line 1 Source'!B2296<>\"\",'Line 1 Source'!B2296,\"\")","v":""},{"$f":"IF('Line 1 Source'!C2296<>\"\",'Line 1 Source'!C2296,\"\")","v":""},{"$f":"IF('Line 1 Source'!D2296<>\"\",'Line 1 Source'!D2296,\"\")","v":""},{"$f":"IF('Line 1 Source'!E2296<>\"\",'Line 1 Source'!E2296,\"\")","v":""},{"$f":"IF('Line 1 Source'!F2296<>\"\",'Line 1 Source'!F2296,\"\")","v":""}]
[{"$f":"IF('Line 1 Source'!A2297<>\"\",'Line 1 Source'!A2297,\"\")","v":""},"",{"$f":"CONCATENATE(VLOOKUP(B2297,'School List'!$B$3:$H$291,6,FALSE),H2297)","v":{"$error":"#N/A"}},{"$f":"CONCATENATE(VLOOKUP(B2297,'School List'!$B$3:$D$291,3,FALSE),H2297)","v":{"$error":"#N/A"}},{"$f":"IF('Line 1 Source'!B2297<>\"\",'Line 1 Source'!B2297,\"\")","v":""},{"$f":"IF('Line 1 Source'!C2297<>\"\",'Line 1 Source'!C2297,\"\")","v":""},{"$f":"IF('Line 1 Source'!D2297<>\"\",'Line 1 Source'!D2297,\"\")","v":""},{"$f":"IF('Line 1 Source'!E2297<>\"\",'Line 1 Source'!E2297,\"\")","v":""},{"$f":"IF('Line 1 Source'!F2297<>\"\",'Line 1 Source'!F2297,\"\")","v":""}]
[{"$f":"IF('Line 1 Source'!A2298<>\"\",'Line 1 Source'!A2298,\"\")","v":""},"",{"$f":"CONCATENATE(VLOOKUP(B2298,'School List'!$B$3:$H$291,6,FALSE),H2298)","v":{"$error":"#N/A"}},{"$f":"CONCATENATE(VLOOKUP(B2298,'School List'!$B$3:$D$291,3,FALSE),H2298)","v":{"$error":"#N/A"}},{"$f":"IF('Line 1 Source'!B2298<>\"\",'Line 1 Source'!B2298,\"\")","v":""},{"$f":"IF('Line 1 Source'!C2298<>\"\",'Line 1 Source'!C2298,\"\")","v":""},{"$f":"IF('Line 1 Source'!D2298<>\"\",'Line 1 Source'!D2298,\"\")","v":""},{"$f":"IF('Line 1 Source'!E2298<>\"\",'Line 1 Source'!E2298,\"\")","v":""},{"$f":"IF('Line 1 Source'!F2298<>\"\",'Line 1 Source'!F2298,\"\")","v":""}]
[{"$f":"IF('Line 1 Source'!A2299<>\"\",'Line 1 Source'!A2299,\"\")","v":""},"",{"$f":"CONCATENATE(VLOOKUP(B2299,'School List'!$B$3:$H$291,6,FALSE),H2299)","v":{"$error":"#N/A"}},{"$f":"CONCATENATE(VLOOKUP(B2299,'School List'!$B$3:$D$291,3,FALSE),H2299)","v":{"$error":"#N/A"}},{"$f":"IF('Line 1 Source'!B2299<>\"\",'Line 1 Source'!B2299,\"\")","v":""},{"$f":"IF('Line 1 Source'!C2299<>\"\",'Line 1 Source'!C2299,\"\")","v":""},{"$f":"IF('Line 1 Source'!D2299<>\"\",'Line 1 Source'!D2299,\"\")","v":""},{"$f":"IF('Line 1 Source'!E2299<>\"\",'Line 1 Source'!E2299,\"\")","v":""},{"$f":"IF('Line 1 Source'!F2299<>\"\",'Line 1 Source'!F2299,\"\")","v":""}]
[{"$f":"IF('Line 1 Source'!A2300<>\"\",'Line 1 Source'!A2300,\"\")","v":""},"",{"$f":"CONCATENATE(VLOOKUP(B2300,'School List'!$B$3:$H$291,6,FALSE),H2300)","v":{"$error":"#N/A"}},{"$f":"CONCATENATE(VLOOKUP(B2300,'School List'!$B$3:$D$291,3,FALSE),H2300)","v":{"$error":"#N/A"}},{"$f":"IF('Line 1 Source'!B2300<>\"\",'Line 1 Source'!B2300,\"\")","v":""},{"$f":"IF('Line 1 Source'!C2300<>\"\",'Line 1 Source'!C2300,\"\")","v":""},{"$f":"IF('Line 1 Source'!D2300<>\"\",'Line 1 Source'!D2300,\"\")","v":""},{"$f":"IF('Line 1 Source'!E2300<>\"\",'Line 1 Source'!E2300,\"\")","v":""},{"$f":"IF('Line 1 Source'!F2300<>\"\",'Line 1 Source'!F2300,\"\")","v":""}]
[{"$f":"IF('Line 1 Source'!A2301<>\"\",'Line 1 Source'!A2301,\"\")","v":""},"",{"$f":"CONCATENATE(VLOOKUP(B2301,'School List'!$B$3:$H$291,6,FALSE),H2301)","v":{"$error":"#N/A"}},{"$f":"CONCATENATE(VLOOKUP(B2301,'School List'!$B$3:$D$291,3,FALSE),H2301)","v":{"$error":"#N/A"}},{"$f":"IF('Line 1 Source'!B2301<>\"\",'Line 1 Source'!B2301,\"\")","v":""},{"$f":"IF('Line 1 Source'!C2301<>\"\",'Line 1 Source'!C2301,\"\")","v":""},{"$f":"IF('Line 1 Source'!D2301<>\"\",'Line 1 Source'!D2301,\"\")","v":""},{"$f":"IF('Line 1 Source'!E2301<>\"\",'Line 1 Source'!E2301,\"\")","v":""},{"$f":"IF('Line 1 Source'!F2301<>\"\",'Line 1 Source'!F2301,\"\")","v":""}]
[{"$f":"IF('Line 1 Source'!A2302<>\"\",'Line 1 Source'!A2302,\"\")","v":""},"",{"$f":"CONCATENATE(VLOOKUP(B2302,'School List'!$B$3:$H$291,6,FALSE),H2302)","v":{"$error":"#N/A"}},{"$f":"CONCATENATE(VLOOKUP(B2302,'School List'!$B$3:$D$291,3,FALSE),H2302)","v":{"$error":"#N/A"}},{"$f":"IF('Line 1 Source'!B2302<>\"\",'Line 1 Source'!B2302,\"\")","v":""},{"$f":"IF('Line 1 Source'!C2302<>\"\",'Line 1 Source'!C2302,\"\")","v":""},{"$f":"IF('Line 1 Source'!D2302<>\"\",'Line 1 Source'!D2302,\"\")","v":""},{"$f":"IF('Line 1 Source'!E2302<>\"\",'Line 1 Source'!E2302,\"\")","v":""},{"$f":"IF('Line 1 Source'!F2302<>\"\",'Line 1 Source'!F2302,\"\")","v":""}]
[{"$f":"IF('Line 1 Source'!A2303<>\"\",'Line 1 Source'!A2303,\"\")","v":""},"",{"$f":"CONCATENATE(VLOOKUP(B2303,'School List'!$B$3:$H$291,6,FALSE),H2303)","v":{"$error":"#N/A"}},{"$f":"CONCATENATE(VLOOKUP(B2303,'School List'!$B$3:$D$291,3,FALSE),H2303)","v":{"$error":"#N/A"}},{"$f":"IF('Line 1 Source'!B2303<>\"\",'Line 1 Source'!B2303,\"\")","v":""},{"$f":"IF('Line 1 Source'!C2303<>\"\",'Line 1 Source'!C2303,\"\")","v":""},{"$f":"IF('Line 1 Source'!D2303<>\"\",'Line 1 Source'!D2303,\"\")","v":""},{"$f":"IF('Line 1 Source'!E2303<>\"\",'Line 1 Source'!E2303,\"\")","v":""},{"$f":"IF('Line 1 Source'!F2303<>\"\",'Line 1 Source'!F2303,\"\")","v":""}]
[{"$f":"IF('Line 1 Source'!A2304<>\"\",'Line 1 Source'!A2304,\"\")","v":""},"",{"$f":"CONCATENATE(VLOOKUP(B2304,'School List'!$B$3:$H$291,6,FALSE),H2304)","v":{"$error":"#N/A"}},{"$f":"CONCATENATE(VLOOKUP(B2304,'School List'!$B$3:$D$291,3,FALSE),H2304)","v":{"$error":"#N/A"}},{"$f":"IF('Line 1 Source'!B2304<>\"\",'Line 1 Source'!B2304,\"\")","v":""},{"$f":"IF('Line 1 Source'!C2304<>\"\",'Line 1 Source'!C2304,\"\")","v":""},{"$f":"IF('Line 1 Source'!D2304<>\"\",'Line 1 Source'!D2304,\"\")","v":""},{"$f":"IF('Line 1 Source'!E2304<>\"\",'Line 1 Source'!E2304,\"\")","v":""},{"$f":"IF('Line 1 Source'!F2304<>\"\",'Line 1 Source'!F2304,\"\")","v":""}]
[{"$f":"IF('Line 1 Source'!A2305<>\"\",'Line 1 Source'!A2305,\"\")","v":""},"",{"$f":"CONCATENATE(VLOOKUP(B2305,'School List'!$B$3:$H$291,6,FALSE),H2305)","v":{"$error":"#N/A"}},{"$f":"CONCATENATE(VLOOKUP(B2305,'School List'!$B$3:$D$291,3,FALSE),H2305)","v":{"$error":"#N/A"}},{"$f":"IF('Line 1 Source'!B2305<>\"\",'Line 1 Source'!B2305,\"\")","v":""},{"$f":"IF('Line 1 Source'!C2305<>\"\",'Line 1 Source'!C2305,\"\")","v":""},{"$f":"IF('Line 1 Source'!D2305<>\"\",'Line 1 Source'!D2305,\"\")","v":""},{"$f":"IF('Line 1 Source'!E2305<>\"\",'Line 1 Source'!E2305,\"\")","v":""},{"$f":"IF('Line 1 Source'!F2305<>\"\",'Line 1 Source'!F2305,\"\")","v":""}]
[{"$f":"IF('Line 1 Source'!A2306<>\"\",'Line 1 Source'!A2306,\"\")","v":""},"",{"$f":"CONCATENATE(VLOOKUP(B2306,'School List'!$B$3:$H$291,6,FALSE),H2306)","v":{"$error":"#N/A"}},{"$f":"CONCATENATE(VLOOKUP(B2306,'School List'!$B$3:$D$291,3,FALSE),H2306)","v":{"$error":"#N/A"}},{"$f":"IF('Line 1 Source'!B2306<>\"\",'Line 1 Source'!B2306,\"\")","v":""},{"$f":"IF('Line 1 Source'!C2306<>\"\",'Line 1 Source'!C2306,\"\")","v":""},{"$f":"IF('Line 1 Source'!D2306<>\"\",'Line 1 Source'!D2306,\"\")","v":""},{"$f":"IF('Line 1 Source'!E2306<>\"\",'Line 1 Source'!E2306,\"\")","v":""},{"$f":"IF('Line 1 Source'!F2306<>\"\",'Line 1 Source'!F2306,\"\")","v":""}]
[{"$f":"IF('Line 1 Source'!A2307<>\"\",'Line 1 Source'!A2307,\"\")","v":""},{"$f":"CONCATENATE(E2307,F2307,G2307)","v":""},{"$f":"CONCATENATE(VLOOKUP(B2307,'School List'!$B$3:$H$291,6,FALSE),H2307)","v":{"$error":"#N/A"}},{"$f":"CONCATENATE(VLOOKUP(B2307,'School List'!$B$3:$D$291,3,FALSE),H2307)","v":{"$error":"#N/A"}},{"$f":"IF('Line 1 Source'!B2307<>\"\",'Line 1 Source'!B2307,\"\")","v":""},{"$f":"IF('Line 1 Source'!C2307<>\"\",'Line 1 Source'!C2307,\"\")","v":""},{"$f":"IF('Line 1 Source'!D2307<>\"\",'Line 1 Source'!D2307,\"\")","v":""},{"$f":"IF('Line 1 Source'!E2307<>\"\",'Line 1 Source'!E2307,\"\")","v":""},{"$f":"IF('Line 1 Source'!F2307<>\"\",'Line 1 Source'!F2307,\"\")","v":""}]
[{"$f":"IF('Line 1 Source'!A2308<>\"\",'Line 1 Source'!A2308,\"\")","v":""},"",{"$f":"CONCATENATE(VLOOKUP(B2308,'School List'!$B$3:$H$291,6,FALSE),H2308)","v":{"$error":"#N/A"}},{"$f":"CONCATENATE(VLOOKUP(B2308,'School List'!$B$3:$D$291,3,FALSE),H2308)","v":{"$error":"#N/A"}},{"$f":"IF('Line 1 Source'!B2308<>\"\",'Line 1 Source'!B2308,\"\")","v":""},{"$f":"IF('Line 1 Source'!C2308<>\"\",'Line 1 Source'!C2308,\"\")","v":""},{"$f":"IF('Line 1 Source'!D2308<>\"\",'Line 1 Source'!D2308,\"\")","v":""},{"$f":"IF('Line 1 Source'!E2308<>\"\",'Line 1 Source'!E2308,\"\")","v":""},{"$f":"IF('Line 1 Source'!F2308<>\"\",'Line 1 Source'!F2308,\"\")","v":""}]
[{"$f":"IF('Line 1 Source'!A2309<>\"\",'Line 1 Source'!A2309,\"\")","v":""},"",{"$f":"CONCATENATE(VLOOKUP(B2309,'School List'!$B$3:$H$291,6,FALSE),H2309)","v":{"$error":"#N/A"}},{"$f":"CONCATENATE(VLOOKUP(B2309,'School List'!$B$3:$D$291,3,FALSE),H2309)","v":{"$error":"#N/A"}},{"$f":"IF('Line 1 Source'!B2309<>\"\",'Line 1 Source'!B2309,\"\")","v":""},{"$f":"IF('Line 1 Source'!C2309<>\"\",'Line 1 Source'!C2309,\"\")","v":""},{"$f":"IF('Line 1 Source'!D2309<>\"\",'Line 1 Source'!D2309,\"\")","v":""},{"$f":"IF('Line 1 Source'!E2309<>\"\",'Line 1 Source'!E2309,\"\")","v":""},{"$f":"IF('Line 1 Source'!F2309<>\"\",'Line 1 Source'!F2309,\"\")","v":""}]
[{"$f":"IF('Line 1 Source'!A2310<>\"\",'Line 1 Source'!A2310,\"\")","v":""},"",{"$f":"CONCATENATE(VLOOKUP(B2310,'School List'!$B$3:$H$291,6,FALSE),H2310)","v":{"$error":"#N/A"}},{"$f":"CONCATENATE(VLOOKUP(B2310,'School List'!$B$3:$D$291,3,FALSE),H2310)","v":{"$error":"#N/A"}},{"$f":"IF('Line 1 Source'!B2310<>\"\",'Line 1 Source'!B2310,\"\")","v":""},{"$f":"IF('Line 1 Source'!C2310<>\"\",'Line 1 Source'!C2310,\"\")","v":""},{"$f":"IF('Line 1 Source'!D2310<>\"\",'Line 1 Source'!D2310,\"\")","v":""},{"$f":"IF('Line 1 Source'!E2310<>\"\",'Line 1 Source'!E2310,\"\")","v":""},{"$f":"IF('Line 1 Source'!F2310<>\"\",'Line 1 Source'!F2310,\"\")","v":""}]
[{"$f":"IF('Line 1 Source'!A2311<>\"\",'Line 1 Source'!A2311,\"\")","v":""},"",{"$f":"CONCATENATE(VLOOKUP(B2311,'School List'!$B$3:$H$291,6,FALSE),H2311)","v":{"$error":"#N/A"}},{"$f":"CONCATENATE(VLOOKUP(B2311,'School List'!$B$3:$D$291,3,FALSE),H2311)","v":{"$error":"#N/A"}},{"$f":"IF('Line 1 Source'!B2311<>\"\",'Line 1 Source'!B2311,\"\")","v":""},{"$f":"IF('Line 1 Source'!C2311<>\"\",'Line 1 Source'!C2311,\"\")","v":""},{"$f":"IF('Line 1 Source'!D2311<>\"\",'Line 1 Source'!D2311,\"\")","v":""},{"$f":"IF('Line 1 Source'!E2311<>\"\",'Line 1 Source'!E2311,\"\")","v":""},{"$f":"IF('Line 1 Source'!F2311<>\"\",'Line 1 Source'!F2311,\"\")","v":""}]
[{"$f":"IF('Line 1 Source'!A2312<>\"\",'Line 1 Source'!A2312,\"\")","v":""},"",{"$f":"CONCATENATE(VLOOKUP(B2312,'School List'!$B$3:$H$291,6,FALSE),H2312)","v":{"$error":"#N/A"}},{"$f":"CONCATENATE(VLOOKUP(B2312,'School List'!$B$3:$D$291,3,FALSE),H2312)","v":{"$error":"#N/A"}},{"$f":"IF('Line 1 Source'!B2312<>\"\",'Line 1 Source'!B2312,\"\")","v":""},{"$f":"IF('Line 1 Source'!C2312<>\"\",'Line 1 Source'!C2312,\"\")","v":""},{"$f":"IF('Line 1 Source'!D2312<>\"\",'Line 1 Source'!D2312,\"\")","v":""},{"$f":"IF('Line 1 Source'!E2312<>\"\",'Line 1 Source'!E2312,\"\")","v":""},{"$f":"IF('Line 1 Source'!F2312<>\"\",'Line 1 Source'!F2312,\"\")","v":""}]
[{"$f":"IF('Line 1 Source'!A2313<>\"\",'Line 1 Source'!A2313,\"\")","v":""},"",{"$f":"CONCATENATE(VLOOKUP(B2313,'School List'!$B$3:$H$291,6,FALSE),H2313)","v":{"$error":"#N/A"}},{"$f":"CONCATENATE(VLOOKUP(B2313,'School List'!$B$3:$D$291,3,FALSE),H2313)","v":{"$error":"#N/A"}},{"$f":"IF('Line 1 Source'!B2313<>\"\",'Line 1 Source'!B2313,\"\")","v":""},{"$f":"IF('Line 1 Source'!C2313<>\"\",'Line 1 Source'!C2313,\"\")","v":""},{"$f":"IF('Line 1 Source'!D2313<>\"\",'Line 1 Source'!D2313,\"\")","v":""},{"$f":"IF('Line 1 Source'!E2313<>\"\",'Line 1 Source'!E2313,\"\")","v":""},{"$f":"IF('Line 1 Source'!F2313<>\"\",'Line 1 Source'!F2313,\"\")","v":""}]
[{"$f":"IF('Line 1 Source'!A2314<>\"\",'Line 1 Source'!A2314,\"\")","v":""},"",{"$f":"CONCATENATE(VLOOKUP(B2314,'School List'!$B$3:$H$291,6,FALSE),H2314)","v":{"$error":"#N/A"}},{"$f":"CONCATENATE(VLOOKUP(B2314,'School List'!$B$3:$D$291,3,FALSE),H2314)","v":{"$error":"#N/A"}},{"$f":"IF('Line 1 Source'!B2314<>\"\",'Line 1 Source'!B2314,\"\")","v":""},{"$f":"IF('Line 1 Source'!C2314<>\"\",'Line 1 Source'!C2314,\"\")","v":""},{"$f":"IF('Line 1 Source'!D2314<>\"\",'Line 1 Source'!D2314,\"\")","v":""},{"$f":"IF('Line 1 Source'!E2314<>\"\",'Line 1 Source'!E2314,\"\")","v":""},{"$f":"IF('Line 1 Source'!F2314<>\"\",'Line 1 Source'!F2314,\"\")","v":""}]
[{"$f":"IF('Line 1 Source'!A2315<>\"\",'Line 1 Source'!A2315,\"\")","v":""},"",{"$f":"CONCATENATE(VLOOKUP(B2315,'School List'!$B$3:$H$291,6,FALSE),H2315)","v":{"$error":"#N/A"}},{"$f":"CONCATENATE(VLOOKUP(B2315,'School List'!$B$3:$D$291,3,FALSE),H2315)","v":{"$error":"#N/A"}},{"$f":"IF('Line 1 Source'!B2315<>\"\",'Line 1 Source'!B2315,\"\")","v":""},{"$f":"IF('Line 1 Source'!C2315<>\"\",'Line 1 Source'!C2315,\"\")","v":""},{"$f":"IF('Line 1 Source'!D2315<>\"\",'Line 1 Source'!D2315,\"\")","v":""},{"$f":"IF('Line 1 Source'!E2315<>\"\",'Line 1 Source'!E2315,\"\")","v":""},{"$f":"IF('Line 1 Source'!F2315<>\"\",'Line 1 Source'!F2315,\"\")","v":""}]
[{"$f":"IF('Line 1 Source'!A2316<>\"\",'Line 1 Source'!A2316,\"\")","v":""},"",{"$f":"CONCATENATE(VLOOKUP(B2316,'School List'!$B$3:$H$291,6,FALSE),H2316)","v":{"$error":"#N/A"}},{"$f":"CONCATENATE(VLOOKUP(B2316,'School List'!$B$3:$D$291,3,FALSE),H2316)","v":{"$error":"#N/A"}},{"$f":"IF('Line 1 Source'!B2316<>\"\",'Line 1 Source'!B2316,\"\")","v":""},{"$f":"IF('Line 1 Source'!C2316<>\"\",'Line 1 Source'!C2316,\"\")","v":""},{"$f":"IF('Line 1 Source'!D2316<>\"\",'Line 1 Source'!D2316,\"\")","v":""},{"$f":"IF('Line 1 Source'!E2316<>\"\",'Line 1 Source'!E2316,\"\")","v":""},{"$f":"IF('Line 1 Source'!F2316<>\"\",'Line 1 Source'!F2316,\"\")","v":""}]
[{"$f":"IF('Line 1 Source'!A2317<>\"\",'Line 1 Source'!A2317,\"\")","v":""},"",{"$f":"CONCATENATE(VLOOKUP(B2317,'School List'!$B$3:$H$291,6,FALSE),H2317)","v":{"$error":"#N/A"}},{"$f":"CONCATENATE(VLOOKUP(B2317,'School List'!$B$3:$D$291,3,FALSE),H2317)","v":{"$error":"#N/A"}},{"$f":"IF('Line 1 Source'!B2317<>\"\",'Line 1 Source'!B2317,\"\")","v":""},{"$f":"IF('Line 1 Source'!C2317<>\"\",'Line 1 Source'!C2317,\"\")","v":""},{"$f":"IF('Line 1 Source'!D2317<>\"\",'Line 1 Source'!D2317,\"\")","v":""},{"$f":"IF('Line 1 Source'!E2317<>\"\",'Line 1 Source'!E2317,\"\")","v":""},{"$f":"IF('Line 1 Source'!F2317<>\"\",'Line 1 Source'!F2317,\"\")","v":""}]
[{"$f":"IF('Line 1 Source'!A2318<>\"\",'Line 1 Source'!A2318,\"\")","v":""},"",{"$f":"CONCATENATE(VLOOKUP(B2318,'School List'!$B$3:$H$291,6,FALSE),H2318)","v":{"$error":"#N/A"}},{"$f":"CONCATENATE(VLOOKUP(B2318,'School List'!$B$3:$D$291,3,FALSE),H2318)","v":{"$error":"#N/A"}},{"$f":"IF('Line 1 Source'!B2318<>\"\",'Line 1 Source'!B2318,\"\")","v":""},{"$f":"IF('Line 1 Source'!C2318<>\"\",'Line 1 Source'!C2318,\"\")","v":""},{"$f":"IF('Line 1 Source'!D2318<>\"\",'Line 1 Source'!D2318,\"\")","v":""},{"$f":"IF('Line 1 Source'!E2318<>\"\",'Line 1 Source'!E2318,\"\")","v":""},{"$f":"IF('Line 1 Source'!F2318<>\"\",'Line 1 Source'!F2318,\"\")","v":""}]
[{"$f":"IF('Line 1 Source'!A2319<>\"\",'Line 1 Source'!A2319,\"\")","v":""},"",{"$f":"CONCATENATE(VLOOKUP(B2319,'School List'!$B$3:$H$291,6,FALSE),H2319)","v":{"$error":"#N/A"}},{"$f":"CONCATENATE(VLOOKUP(B2319,'School List'!$B$3:$D$291,3,FALSE),H2319)","v":{"$error":"#N/A"}},{"$f":"IF('Line 1 Source'!B2319<>\"\",'Line 1 Source'!B2319,\"\")","v":""},{"$f":"IF('Line 1 Source'!C2319<>\"\",'Line 1 Source'!C2319,\"\")","v":""},{"$f":"IF('Line 1 Source'!D2319<>\"\",'Line 1 Source'!D2319,\"\")","v":""},{"$f":"IF('Line 1 Source'!E2319<>\"\",'Line 1 Source'!E2319,\"\")","v":""},{"$f":"IF('Line 1 Source'!F2319<>\"\",'Line 1 Source'!F2319,\"\")","v":""}]
[{"$f":"IF('Line 1 Source'!A2320<>\"\",'Line 1 Source'!A2320,\"\")","v":""},"",{"$f":"CONCATENATE(VLOOKUP(B2320,'School List'!$B$3:$H$291,6,FALSE),H2320)","v":{"$error":"#N/A"}},{"$f":"CONCATENATE(VLOOKUP(B2320,'School List'!$B$3:$D$291,3,FALSE),H2320)","v":{"$error":"#N/A"}},{"$f":"IF('Line 1 Source'!B2320<>\"\",'Line 1 Source'!B2320,\"\")","v":""},{"$f":"IF('Line 1 Source'!C2320<>\"\",'Line 1 Source'!C2320,\"\")","v":""},{"$f":"IF('Line 1 Source'!D2320<>\"\",'Line 1 Source'!D2320,\"\")","v":""},{"$f":"IF('Line 1 Source'!E2320<>\"\",'Line 1 Source'!E2320,\"\")","v":""},{"$f":"IF('Line 1 Source'!F2320<>\"\",'Line 1 Source'!F2320,\"\")","v":""}]
[{"$f":"IF('Line 1 Source'!A2321<>\"\",'Line 1 Source'!A2321,\"\")","v":""},"",{"$f":"CONCATENATE(VLOOKUP(B2321,'School List'!$B$3:$H$291,6,FALSE),H2321)","v":{"$error":"#N/A"}},{"$f":"CONCATENATE(VLOOKUP(B2321,'School List'!$B$3:$D$291,3,FALSE),H2321)","v":{"$error":"#N/A"}},{"$f":"IF('Line 1 Source'!B2321<>\"\",'Line 1 Source'!B2321,\"\")","v":""},{"$f":"IF('Line 1 Source'!C2321<>\"\",'Line 1 Source'!C2321,\"\")","v":""},{"$f":"IF('Line 1 Source'!D2321<>\"\",'Line 1 Source'!D2321,\"\")","v":""},{"$f":"IF('Line 1 Source'!E2321<>\"\",'Line 1 Source'!E2321,\"\")","v":""},{"$f":"IF('Line 1 Source'!F2321<>\"\",'Line 1 Source'!F2321,\"\")","v":""}]
[{"$f":"IF('Line 1 Source'!A2322<>\"\",'Line 1 Source'!A2322,\"\")","v":""},"",{"$f":"CONCATENATE(VLOOKUP(B2322,'School List'!$B$3:$H$291,6,FALSE),H2322)","v":{"$error":"#N/A"}},{"$f":"CONCATENATE(VLOOKUP(B2322,'School List'!$B$3:$D$291,3,FALSE),H2322)","v":{"$error":"#N/A"}},{"$f":"IF('Line 1 Source'!B2322<>\"\",'Line 1 Source'!B2322,\"\")","v":""},{"$f":"IF('Line 1 Source'!C2322<>\"\",'Line 1 Source'!C2322,\"\")","v":""},{"$f":"IF('Line 1 Source'!D2322<>\"\",'Line 1 Source'!D2322,\"\")","v":""},{"$f":"IF('Line 1 Source'!E2322<>\"\",'Line 1 Source'!E2322,\"\")","v":""},{"$f":"IF('Line 1 Source'!F2322<>\"\",'Line 1 Source'!F2322,\"\")","v":""}]
[{"$f":"IF('Line 1 Source'!A2323<>\"\",'Line 1 Source'!A2323,\"\")","v":""},"",{"$f":"CONCATENATE(VLOOKUP(B2323,'School List'!$B$3:$H$291,6,FALSE),H2323)","v":{"$error":"#N/A"}},{"$f":"CONCATENATE(VLOOKUP(B2323,'School List'!$B$3:$D$291,3,FALSE),H2323)","v":{"$error":"#N/A"}},{"$f":"IF('Line 1 Source'!B2323<>\"\",'Line 1 Source'!B2323,\"\")","v":""},{"$f":"IF('Line 1 Source'!C2323<>\"\",'Line 1 Source'!C2323,\"\")","v":""},{"$f":"IF('Line 1 Source'!D2323<>\"\",'Line 1 Source'!D2323,\"\")","v":""},{"$f":"IF('Line 1 Source'!E2323<>\"\",'Line 1 Source'!E2323,\"\")","v":""},{"$f":"IF('Line 1 Source'!F2323<>\"\",'Line 1 Source'!F2323,\"\")","v":""}]
[{"$f":"IF('Line 1 Source'!A2324<>\"\",'Line 1 Source'!A2324,\"\")","v":""},"",{"$f":"CONCATENATE(VLOOKUP(B2324,'School List'!$B$3:$H$291,6,FALSE),H2324)","v":{"$error":"#N/A"}},{"$f":"CONCATENATE(VLOOKUP(B2324,'School List'!$B$3:$D$291,3,FALSE),H2324)","v":{"$error":"#N/A"}},{"$f":"IF('Line 1 Source'!B2324<>\"\",'Line 1 Source'!B2324,\"\")","v":""},{"$f":"IF('Line 1 Source'!C2324<>\"\",'Line 1 Source'!C2324,\"\")","v":""},{"$f":"IF('Line 1 Source'!D2324<>\"\",'Line 1 Source'!D2324,\"\")","v":""},{"$f":"IF('Line 1 Source'!E2324<>\"\",'Line 1 Source'!E2324,\"\")","v":""},{"$f":"IF('Line 1 Source'!F2324<>\"\",'Line 1 Source'!F2324,\"\")","v":""}]
[{"$f":"IF('Line 1 Source'!A2325<>\"\",'Line 1 Source'!A2325,\"\")","v":""},"",{"$f":"CONCATENATE(VLOOKUP(B2325,'School List'!$B$3:$H$291,6,FALSE),H2325)","v":{"$error":"#N/A"}},{"$f":"CONCATENATE(VLOOKUP(B2325,'School List'!$B$3:$D$291,3,FALSE),H2325)","v":{"$error":"#N/A"}},{"$f":"IF('Line 1 Source'!B2325<>\"\",'Line 1 Source'!B2325,\"\")","v":""},{"$f":"IF('Line 1 Source'!C2325<>\"\",'Line 1 Source'!C2325,\"\")","v":""},{"$f":"IF('Line 1 Source'!D2325<>\"\",'Line 1 Source'!D2325,\"\")","v":""},{"$f":"IF('Line 1 Source'!E2325<>\"\",'Line 1 Source'!E2325,\"\")","v":""},{"$f":"IF('Line 1 Source'!F2325<>\"\",'Line 1 Source'!F2325,\"\")","v":""}]
[{"$f":"IF('Line 1 Source'!A2326<>\"\",'Line 1 Source'!A2326,\"\")","v":""},"",{"$f":"CONCATENATE(VLOOKUP(B2326,'School List'!$B$3:$H$291,6,FALSE),H2326)","v":{"$error":"#N/A"}},{"$f":"CONCATENATE(VLOOKUP(B2326,'School List'!$B$3:$D$291,3,FALSE),H2326)","v":{"$error":"#N/A"}},{"$f":"IF('Line 1 Source'!B2326<>\"\",'Line 1 Source'!B2326,\"\")","v":""},{"$f":"IF('Line 1 Source'!C2326<>\"\",'Line 1 Source'!C2326,\"\")","v":""},{"$f":"IF('Line 1 Source'!D2326<>\"\",'Line 1 Source'!D2326,\"\")","v":""},{"$f":"IF('Line 1 Source'!E2326<>\"\",'Line 1 Source'!E2326,\"\")","v":""},{"$f":"IF('Line 1 Source'!F2326<>\"\",'Line 1 Source'!F2326,\"\")","v":""}]
[{"$f":"IF('Line 1 Source'!A2327<>\"\",'Line 1 Source'!A2327,\"\")","v":""},"",{"$f":"CONCATENATE(VLOOKUP(B2327,'School List'!$B$3:$H$291,6,FALSE),H2327)","v":{"$error":"#N/A"}},{"$f":"CONCATENATE(VLOOKUP(B2327,'School List'!$B$3:$D$291,3,FALSE),H2327)","v":{"$error":"#N/A"}},{"$f":"IF('Line 1 Source'!B2327<>\"\",'Line 1 Source'!B2327,\"\")","v":""},{"$f":"IF('Line 1 Source'!C2327<>\"\",'Line 1 Source'!C2327,\"\")","v":""},{"$f":"IF('Line 1 Source'!D2327<>\"\",'Line 1 Source'!D2327,\"\")","v":""},{"$f":"IF('Line 1 Source'!E2327<>\"\",'Line 1 Source'!E2327,\"\")","v":""},{"$f":"IF('Line 1 Source'!F2327<>\"\",'Line 1 Source'!F2327,\"\")","v":""}]
[{"$f":"IF('Line 1 Source'!A2328<>\"\",'Line 1 Source'!A2328,\"\")","v":""},"",{"$f":"CONCATENATE(VLOOKUP(B2328,'School List'!$B$3:$H$291,6,FALSE),H2328)","v":{"$error":"#N/A"}},{"$f":"CONCATENATE(VLOOKUP(B2328,'School List'!$B$3:$D$291,3,FALSE),H2328)","v":{"$error":"#N/A"}},{"$f":"IF('Line 1 Source'!B2328<>\"\",'Line 1 Source'!B2328,\"\")","v":""},{"$f":"IF('Line 1 Source'!C2328<>\"\",'Line 1 Source'!C2328,\"\")","v":""},{"$f":"IF('Line 1 Source'!D2328<>\"\",'Line 1 Source'!D2328,\"\")","v":""},{"$f":"IF('Line 1 Source'!E2328<>\"\",'Line 1 Source'!E2328,\"\")","v":""},{"$f":"IF('Line 1 Source'!F2328<>\"\",'Line 1 Source'!F2328,\"\")","v":""}]
[{"$f":"IF('Line 1 Source'!A2329<>\"\",'Line 1 Source'!A2329,\"\")","v":""},"",{"$f":"CONCATENATE(VLOOKUP(B2329,'School List'!$B$3:$H$291,6,FALSE),H2329)","v":{"$error":"#N/A"}},{"$f":"CONCATENATE(VLOOKUP(B2329,'School List'!$B$3:$D$291,3,FALSE),H2329)","v":{"$error":"#N/A"}},{"$f":"IF('Line 1 Source'!B2329<>\"\",'Line 1 Source'!B2329,\"\")","v":""},{"$f":"IF('Line 1 Source'!C2329<>\"\",'Line 1 Source'!C2329,\"\")","v":""},{"$f":"IF('Line 1 Source'!D2329<>\"\",'Line 1 Source'!D2329,\"\")","v":""},{"$f":"IF('Line 1 Source'!E2329<>\"\",'Line 1 Source'!E2329,\"\")","v":""},{"$f":"IF('Line 1 Source'!F2329<>\"\",'Line 1 Source'!F2329,\"\")","v":""}]
[{"$f":"IF('Line 1 Source'!A2330<>\"\",'Line 1 Source'!A2330,\"\")","v":""},"",{"$f":"CONCATENATE(VLOOKUP(B2330,'School List'!$B$3:$H$291,6,FALSE),H2330)","v":{"$error":"#N/A"}},{"$f":"CONCATENATE(VLOOKUP(B2330,'School List'!$B$3:$D$291,3,FALSE),H2330)","v":{"$error":"#N/A"}},{"$f":"IF('Line 1 Source'!B2330<>\"\",'Line 1 Source'!B2330,\"\")","v":""},{"$f":"IF('Line 1 Source'!C2330<>\"\",'Line 1 Source'!C2330,\"\")","v":""},{"$f":"IF('Line 1 Source'!D2330<>\"\",'Line 1 Source'!D2330,\"\")","v":""},{"$f":"IF('Line 1 Source'!E2330<>\"\",'Line 1 Source'!E2330,\"\")","v":""},{"$f":"IF('Line 1 Source'!F2330<>\"\",'Line 1 Source'!F2330,\"\")","v":""}]
[{"$f":"IF('Line 1 Source'!A2331<>\"\",'Line 1 Source'!A2331,\"\")","v":""},"",{"$f":"CONCATENATE(VLOOKUP(B2331,'School List'!$B$3:$H$291,6,FALSE),H2331)","v":{"$error":"#N/A"}},{"$f":"CONCATENATE(VLOOKUP(B2331,'School List'!$B$3:$D$291,3,FALSE),H2331)","v":{"$error":"#N/A"}},{"$f":"IF('Line 1 Source'!B2331<>\"\",'Line 1 Source'!B2331,\"\")","v":""},{"$f":"IF('Line 1 Source'!C2331<>\"\",'Line 1 Source'!C2331,\"\")","v":""},{"$f":"IF('Line 1 Source'!D2331<>\"\",'Line 1 Source'!D2331,\"\")","v":""},{"$f":"IF('Line 1 Source'!E2331<>\"\",'Line 1 Source'!E2331,\"\")","v":""},{"$f":"IF('Line 1 Source'!F2331<>\"\",'Line 1 Source'!F2331,\"\")","v":""}]
[{"$f":"IF('Line 1 Source'!A2332<>\"\",'Line 1 Source'!A2332,\"\")","v":""},"",{"$f":"CONCATENATE(VLOOKUP(B2332,'School List'!$B$3:$H$291,6,FALSE),H2332)","v":{"$error":"#N/A"}},{"$f":"CONCATENATE(VLOOKUP(B2332,'School List'!$B$3:$D$291,3,FALSE),H2332)","v":{"$error":"#N/A"}},{"$f":"IF('Line 1 Source'!B2332<>\"\",'Line 1 Source'!B2332,\"\")","v":""},{"$f":"IF('Line 1 Source'!C2332<>\"\",'Line 1 Source'!C2332,\"\")","v":""},{"$f":"IF('Line 1 Source'!D2332<>\"\",'Line 1 Source'!D2332,\"\")","v":""},{"$f":"IF('Line 1 Source'!E2332<>\"\",'Line 1 Source'!E2332,\"\")","v":""},{"$f":"IF('Line 1 Source'!F2332<>\"\",'Line 1 Source'!F2332,\"\")","v":""}]
[{"$f":"IF('Line 1 Source'!A2333<>\"\",'Line 1 Source'!A2333,\"\")","v":""},"",{"$f":"CONCATENATE(VLOOKUP(B2333,'School List'!$B$3:$H$291,6,FALSE),H2333)","v":{"$error":"#N/A"}},{"$f":"CONCATENATE(VLOOKUP(B2333,'School List'!$B$3:$D$291,3,FALSE),H2333)","v":{"$error":"#N/A"}},{"$f":"IF('Line 1 Source'!B2333<>\"\",'Line 1 Source'!B2333,\"\")","v":""},{"$f":"IF('Line 1 Source'!C2333<>\"\",'Line 1 Source'!C2333,\"\")","v":""},{"$f":"IF('Line 1 Source'!D2333<>\"\",'Line 1 Source'!D2333,\"\")","v":""},{"$f":"IF('Line 1 Source'!E2333<>\"\",'Line 1 Source'!E2333,\"\")","v":""},{"$f":"IF('Line 1 Source'!F2333<>\"\",'Line 1 Source'!F2333,\"\")","v":""}]
[{"$f":"IF('Line 1 Source'!A2334<>\"\",'Line 1 Source'!A2334,\"\")","v":""},"",{"$f":"CONCATENATE(VLOOKUP(B2334,'School List'!$B$3:$H$291,6,FALSE),H2334)","v":{"$error":"#N/A"}},{"$f":"CONCATENATE(VLOOKUP(B2334,'School List'!$B$3:$D$291,3,FALSE),H2334)","v":{"$error":"#N/A"}},{"$f":"IF('Line 1 Source'!B2334<>\"\",'Line 1 Source'!B2334,\"\")","v":""},{"$f":"IF('Line 1 Source'!C2334<>\"\",'Line 1 Source'!C2334,\"\")","v":""},{"$f":"IF('Line 1 Source'!D2334<>\"\",'Line 1 Source'!D2334,\"\")","v":""},{"$f":"IF('Line 1 Source'!E2334<>\"\",'Line 1 Source'!E2334,\"\")","v":""},{"$f":"IF('Line 1 Source'!F2334<>\"\",'Line 1 Source'!F2334,\"\")","v":""}]
[{"$f":"IF('Line 1 Source'!A2335<>\"\",'Line 1 Source'!A2335,\"\")","v":""},"",{"$f":"CONCATENATE(VLOOKUP(B2335,'School List'!$B$3:$H$291,6,FALSE),H2335)","v":{"$error":"#N/A"}},{"$f":"CONCATENATE(VLOOKUP(B2335,'School List'!$B$3:$D$291,3,FALSE),H2335)","v":{"$error":"#N/A"}},{"$f":"IF('Line 1 Source'!B2335<>\"\",'Line 1 Source'!B2335,\"\")","v":""},{"$f":"IF('Line 1 Source'!C2335<>\"\",'Line 1 Source'!C2335,\"\")","v":""},{"$f":"IF('Line 1 Source'!D2335<>\"\",'Line 1 Source'!D2335,\"\")","v":""},{"$f":"IF('Line 1 Source'!E2335<>\"\",'Line 1 Source'!E2335,\"\")","v":""},{"$f":"IF('Line 1 Source'!F2335<>\"\",'Line 1 Source'!F2335,\"\")","v":""}]
[{"$f":"IF('Line 1 Source'!A2336<>\"\",'Line 1 Source'!A2336,\"\")","v":""},"",{"$f":"CONCATENATE(VLOOKUP(B2336,'School List'!$B$3:$H$291,6,FALSE),H2336)","v":{"$error":"#N/A"}},{"$f":"CONCATENATE(VLOOKUP(B2336,'School List'!$B$3:$D$291,3,FALSE),H2336)","v":{"$error":"#N/A"}},{"$f":"IF('Line 1 Source'!B2336<>\"\",'Line 1 Source'!B2336,\"\")","v":""},{"$f":"IF('Line 1 Source'!C2336<>\"\",'Line 1 Source'!C2336,\"\")","v":""},{"$f":"IF('Line 1 Source'!D2336<>\"\",'Line 1 Source'!D2336,\"\")","v":""},{"$f":"IF('Line 1 Source'!E2336<>\"\",'Line 1 Source'!E2336,\"\")","v":""},{"$f":"IF('Line 1 Source'!F2336<>\"\",'Line 1 Source'!F2336,\"\")","v":""}]
[{"$f":"IF('Line 1 Source'!A2337<>\"\",'Line 1 Source'!A2337,\"\")","v":""},"",{"$f":"CONCATENATE(VLOOKUP(B2337,'School List'!$B$3:$H$291,6,FALSE),H2337)","v":{"$error":"#N/A"}},{"$f":"CONCATENATE(VLOOKUP(B2337,'School List'!$B$3:$D$291,3,FALSE),H2337)","v":{"$error":"#N/A"}},{"$f":"IF('Line 1 Source'!B2337<>\"\",'Line 1 Source'!B2337,\"\")","v":""},{"$f":"IF('Line 1 Source'!C2337<>\"\",'Line 1 Source'!C2337,\"\")","v":""},{"$f":"IF('Line 1 Source'!D2337<>\"\",'Line 1 Source'!D2337,\"\")","v":""},{"$f":"IF('Line 1 Source'!E2337<>\"\",'Line 1 Source'!E2337,\"\")","v":""},{"$f":"IF('Line 1 Source'!F2337<>\"\",'Line 1 Source'!F2337,\"\")","v":""}]
[{"$f":"IF('Line 1 Source'!A2338<>\"\",'Line 1 Source'!A2338,\"\")","v":""},"",{"$f":"CONCATENATE(VLOOKUP(B2338,'School List'!$B$3:$H$291,6,FALSE),H2338)","v":{"$error":"#N/A"}},{"$f":"CONCATENATE(VLOOKUP(B2338,'School List'!$B$3:$D$291,3,FALSE),H2338)","v":{"$error":"#N/A"}},{"$f":"IF('Line 1 Source'!B2338<>\"\",'Line 1 Source'!B2338,\"\")","v":""},{"$f":"IF('Line 1 Source'!C2338<>\"\",'Line 1 Source'!C2338,\"\")","v":""},{"$f":"IF('Line 1 Source'!D2338<>\"\",'Line 1 Source'!D2338,\"\")","v":""},{"$f":"IF('Line 1 Source'!E2338<>\"\",'Line 1 Source'!E2338,\"\")","v":""},{"$f":"IF('Line 1 Source'!F2338<>\"\",'Line 1 Source'!F2338,\"\")","v":""}]
[{"$f":"IF('Line 1 Source'!A2339<>\"\",'Line 1 Source'!A2339,\"\")","v":""},"",{"$f":"CONCATENATE(VLOOKUP(B2339,'School List'!$B$3:$H$291,6,FALSE),H2339)","v":{"$error":"#N/A"}},{"$f":"CONCATENATE(VLOOKUP(B2339,'School List'!$B$3:$D$291,3,FALSE),H2339)","v":{"$error":"#N/A"}},{"$f":"IF('Line 1 Source'!B2339<>\"\",'Line 1 Source'!B2339,\"\")","v":""},{"$f":"IF('Line 1 Source'!C2339<>\"\",'Line 1 Source'!C2339,\"\")","v":""},{"$f":"IF('Line 1 Source'!D2339<>\"\",'Line 1 Source'!D2339,\"\")","v":""},{"$f":"IF('Line 1 Source'!E2339<>\"\",'Line 1 Source'!E2339,\"\")","v":""},{"$f":"IF('Line 1 Source'!F2339<>\"\",'Line 1 Source'!F2339,\"\")","v":""}]
[{"$f":"IF('Line 1 Source'!A2340<>\"\",'Line 1 Source'!A2340,\"\")","v":""},"",{"$f":"CONCATENATE(VLOOKUP(B2340,'School List'!$B$3:$H$291,6,FALSE),H2340)","v":{"$error":"#N/A"}},{"$f":"CONCATENATE(VLOOKUP(B2340,'School List'!$B$3:$D$291,3,FALSE),H2340)","v":{"$error":"#N/A"}},{"$f":"IF('Line 1 Source'!B2340<>\"\",'Line 1 Source'!B2340,\"\")","v":""},{"$f":"IF('Line 1 Source'!C2340<>\"\",'Line 1 Source'!C2340,\"\")","v":""},{"$f":"IF('Line 1 Source'!D2340<>\"\",'Line 1 Source'!D2340,\"\")","v":""},{"$f":"IF('Line 1 Source'!E2340<>\"\",'Line 1 Source'!E2340,\"\")","v":""},{"$f":"IF('Line 1 Source'!F2340<>\"\",'Line 1 Source'!F2340,\"\")","v":""}]
[{"$f":"IF('Line 1 Source'!A2341<>\"\",'Line 1 Source'!A2341,\"\")","v":""},"",{"$f":"CONCATENATE(VLOOKUP(B2341,'School List'!$B$3:$H$291,6,FALSE),H2341)","v":{"$error":"#N/A"}},{"$f":"CONCATENATE(VLOOKUP(B2341,'School List'!$B$3:$D$291,3,FALSE),H2341)","v":{"$error":"#N/A"}},{"$f":"IF('Line 1 Source'!B2341<>\"\",'Line 1 Source'!B2341,\"\")","v":""},{"$f":"IF('Line 1 Source'!C2341<>\"\",'Line 1 Source'!C2341,\"\")","v":""},{"$f":"IF('Line 1 Source'!D2341<>\"\",'Line 1 Source'!D2341,\"\")","v":""},{"$f":"IF('Line 1 Source'!E2341<>\"\",'Line 1 Source'!E2341,\"\")","v":""},{"$f":"IF('Line 1 Source'!F2341<>\"\",'Line 1 Source'!F2341,\"\")","v":""}]
[{"$f":"IF('Line 1 Source'!A2342<>\"\",'Line 1 Source'!A2342,\"\")","v":""},"",{"$f":"CONCATENATE(VLOOKUP(B2342,'School List'!$B$3:$H$291,6,FALSE),H2342)","v":{"$error":"#N/A"}},{"$f":"CONCATENATE(VLOOKUP(B2342,'School List'!$B$3:$D$291,3,FALSE),H2342)","v":{"$error":"#N/A"}},{"$f":"IF('Line 1 Source'!B2342<>\"\",'Line 1 Source'!B2342,\"\")","v":""},{"$f":"IF('Line 1 Source'!C2342<>\"\",'Line 1 Source'!C2342,\"\")","v":""},{"$f":"IF('Line 1 Source'!D2342<>\"\",'Line 1 Source'!D2342,\"\")","v":""},{"$f":"IF('Line 1 Source'!E2342<>\"\",'Line 1 Source'!E2342,\"\")","v":""},{"$f":"IF('Line 1 Source'!F2342<>\"\",'Line 1 Source'!F2342,\"\")","v":""}]
[{"$f":"IF('Line 1 Source'!A2343<>\"\",'Line 1 Source'!A2343,\"\")","v":""},"",{"$f":"CONCATENATE(VLOOKUP(B2343,'School List'!$B$3:$H$291,6,FALSE),H2343)","v":{"$error":"#N/A"}},{"$f":"CONCATENATE(VLOOKUP(B2343,'School List'!$B$3:$D$291,3,FALSE),H2343)","v":{"$error":"#N/A"}},{"$f":"IF('Line 1 Source'!B2343<>\"\",'Line 1 Source'!B2343,\"\")","v":""},{"$f":"IF('Line 1 Source'!C2343<>\"\",'Line 1 Source'!C2343,\"\")","v":""},{"$f":"IF('Line 1 Source'!D2343<>\"\",'Line 1 Source'!D2343,\"\")","v":""},{"$f":"IF('Line 1 Source'!E2343<>\"\",'Line 1 Source'!E2343,\"\")","v":""},{"$f":"IF('Line 1 Source'!F2343<>\"\",'Line 1 Source'!F2343,\"\")","v":""}]
[{"$f":"IF('Line 1 Source'!A2344<>\"\",'Line 1 Source'!A2344,\"\")","v":""},"",{"$f":"CONCATENATE(VLOOKUP(B2344,'School List'!$B$3:$H$291,6,FALSE),H2344)","v":{"$error":"#N/A"}},{"$f":"CONCATENATE(VLOOKUP(B2344,'School List'!$B$3:$D$291,3,FALSE),H2344)","v":{"$error":"#N/A"}},{"$f":"IF('Line 1 Source'!B2344<>\"\",'Line 1 Source'!B2344,\"\")","v":""},{"$f":"IF('Line 1 Source'!C2344<>\"\",'Line 1 Source'!C2344,\"\")","v":""},{"$f":"IF('Line 1 Source'!D2344<>\"\",'Line 1 Source'!D2344,\"\")","v":""},{"$f":"IF('Line 1 Source'!E2344<>\"\",'Line 1 Source'!E2344,\"\")","v":""},{"$f":"IF('Line 1 Source'!F2344<>\"\",'Line 1 Source'!F2344,\"\")","v":""}]
[{"$f":"IF('Line 1 Source'!A2345<>\"\",'Line 1 Source'!A2345,\"\")","v":""},"",{"$f":"CONCATENATE(VLOOKUP(B2345,'School List'!$B$3:$H$291,6,FALSE),H2345)","v":{"$error":"#N/A"}},{"$f":"CONCATENATE(VLOOKUP(B2345,'School List'!$B$3:$D$291,3,FALSE),H2345)","v":{"$error":"#N/A"}},{"$f":"IF('Line 1 Source'!B2345<>\"\",'Line 1 Source'!B2345,\"\")","v":""},{"$f":"IF('Line 1 Source'!C2345<>\"\",'Line 1 Source'!C2345,\"\")","v":""},{"$f":"IF('Line 1 Source'!D2345<>\"\",'Line 1 Source'!D2345,\"\")","v":""},{"$f":"IF('Line 1 Source'!E2345<>\"\",'Line 1 Source'!E2345,\"\")","v":""},{"$f":"IF('Line 1 Source'!F2345<>\"\",'Line 1 Source'!F2345,\"\")","v":""}]
[{"$f":"IF('Line 1 Source'!A2346<>\"\",'Line 1 Source'!A2346,\"\")","v":""},"",{"$f":"CONCATENATE(VLOOKUP(B2346,'School List'!$B$3:$H$291,6,FALSE),H2346)","v":{"$error":"#N/A"}},{"$f":"CONCATENATE(VLOOKUP(B2346,'School List'!$B$3:$D$291,3,FALSE),H2346)","v":{"$error":"#N/A"}},{"$f":"IF('Line 1 Source'!B2346<>\"\",'Line 1 Source'!B2346,\"\")","v":""},{"$f":"IF('Line 1 Source'!C2346<>\"\",'Line 1 Source'!C2346,\"\")","v":""},{"$f":"IF('Line 1 Source'!D2346<>\"\",'Line 1 Source'!D2346,\"\")","v":""},{"$f":"IF('Line 1 Source'!E2346<>\"\",'Line 1 Source'!E2346,\"\")","v":""},{"$f":"IF('Line 1 Source'!F2346<>\"\",'Line 1 Source'!F2346,\"\")","v":""}]
[{"$f":"IF('Line 1 Source'!A2347<>\"\",'Line 1 Source'!A2347,\"\")","v":""},"",{"$f":"CONCATENATE(VLOOKUP(B2347,'School List'!$B$3:$H$291,6,FALSE),H2347)","v":{"$error":"#N/A"}},{"$f":"CONCATENATE(VLOOKUP(B2347,'School List'!$B$3:$D$291,3,FALSE),H2347)","v":{"$error":"#N/A"}},{"$f":"IF('Line 1 Source'!B2347<>\"\",'Line 1 Source'!B2347,\"\")","v":""},{"$f":"IF('Line 1 Source'!C2347<>\"\",'Line 1 Source'!C2347,\"\")","v":""},{"$f":"IF('Line 1 Source'!D2347<>\"\",'Line 1 Source'!D2347,\"\")","v":""},{"$f":"IF('Line 1 Source'!E2347<>\"\",'Line 1 Source'!E2347,\"\")","v":""},{"$f":"IF('Line 1 Source'!F2347<>\"\",'Line 1 Source'!F2347,\"\")","v":""}]
[{"$f":"IF('Line 1 Source'!A2348<>\"\",'Line 1 Source'!A2348,\"\")","v":""},"",{"$f":"CONCATENATE(VLOOKUP(B2348,'School List'!$B$3:$H$291,6,FALSE),H2348)","v":{"$error":"#N/A"}},{"$f":"CONCATENATE(VLOOKUP(B2348,'School List'!$B$3:$D$291,3,FALSE),H2348)","v":{"$error":"#N/A"}},{"$f":"IF('Line 1 Source'!B2348<>\"\",'Line 1 Source'!B2348,\"\")","v":""},{"$f":"IF('Line 1 Source'!C2348<>\"\",'Line 1 Source'!C2348,\"\")","v":""},{"$f":"IF('Line 1 Source'!D2348<>\"\",'Line 1 Source'!D2348,\"\")","v":""},{"$f":"IF('Line 1 Source'!E2348<>\"\",'Line 1 Source'!E2348,\"\")","v":""},{"$f":"IF('Line 1 Source'!F2348<>\"\",'Line 1 Source'!F2348,\"\")","v":""}]
[{"$f":"IF('Line 1 Source'!A2349<>\"\",'Line 1 Source'!A2349,\"\")","v":""},"",{"$f":"CONCATENATE(VLOOKUP(B2349,'School List'!$B$3:$H$291,6,FALSE),H2349)","v":{"$error":"#N/A"}},{"$f":"CONCATENATE(VLOOKUP(B2349,'School List'!$B$3:$D$291,3,FALSE),H2349)","v":{"$error":"#N/A"}},{"$f":"IF('Line 1 Source'!B2349<>\"\",'Line 1 Source'!B2349,\"\")","v":""},{"$f":"IF('Line 1 Source'!C2349<>\"\",'Line 1 Source'!C2349,\"\")","v":""},{"$f":"IF('Line 1 Source'!D2349<>\"\",'Line 1 Source'!D2349,\"\")","v":""},{"$f":"IF('Line 1 Source'!E2349<>\"\",'Line 1 Source'!E2349,\"\")","v":""},{"$f":"IF('Line 1 Source'!F2349<>\"\",'Line 1 Source'!F2349,\"\")","v":""}]
[{"$f":"IF('Line 1 Source'!A2350<>\"\",'Line 1 Source'!A2350,\"\")","v":""},"",{"$f":"CONCATENATE(VLOOKUP(B2350,'School List'!$B$3:$H$291,6,FALSE),H2350)","v":{"$error":"#N/A"}},{"$f":"CONCATENATE(VLOOKUP(B2350,'School List'!$B$3:$D$291,3,FALSE),H2350)","v":{"$error":"#N/A"}},{"$f":"IF('Line 1 Source'!B2350<>\"\",'Line 1 Source'!B2350,\"\")","v":""},{"$f":"IF('Line 1 Source'!C2350<>\"\",'Line 1 Source'!C2350,\"\")","v":""},{"$f":"IF('Line 1 Source'!D2350<>\"\",'Line 1 Source'!D2350,\"\")","v":""},{"$f":"IF('Line 1 Source'!E2350<>\"\",'Line 1 Source'!E2350,\"\")","v":""},{"$f":"IF('Line 1 Source'!F2350<>\"\",'Line 1 Source'!F2350,\"\")","v":""}]
[{"$f":"IF('Line 1 Source'!A2351<>\"\",'Line 1 Source'!A2351,\"\")","v":""},"",{"$f":"CONCATENATE(VLOOKUP(B2351,'School List'!$B$3:$H$291,6,FALSE),H2351)","v":{"$error":"#N/A"}},{"$f":"CONCATENATE(VLOOKUP(B2351,'School List'!$B$3:$D$291,3,FALSE),H2351)","v":{"$error":"#N/A"}},{"$f":"IF('Line 1 Source'!B2351<>\"\",'Line 1 Source'!B2351,\"\")","v":""},{"$f":"IF('Line 1 Source'!C2351<>\"\",'Line 1 Source'!C2351,\"\")","v":""},{"$f":"IF('Line 1 Source'!D2351<>\"\",'Line 1 Source'!D2351,\"\")","v":""},{"$f":"IF('Line 1 Source'!E2351<>\"\",'Line 1 Source'!E2351,\"\")","v":""},{"$f":"IF('Line 1 Source'!F2351<>\"\",'Line 1 Source'!F2351,\"\")","v":""}]
[{"$f":"IF('Line 1 Source'!A2352<>\"\",'Line 1 Source'!A2352,\"\")","v":""},"",{"$f":"CONCATENATE(VLOOKUP(B2352,'School List'!$B$3:$H$291,6,FALSE),H2352)","v":{"$error":"#N/A"}},{"$f":"CONCATENATE(VLOOKUP(B2352,'School List'!$B$3:$D$291,3,FALSE),H2352)","v":{"$error":"#N/A"}},{"$f":"IF('Line 1 Source'!B2352<>\"\",'Line 1 Source'!B2352,\"\")","v":""},{"$f":"IF('Line 1 Source'!C2352<>\"\",'Line 1 Source'!C2352,\"\")","v":""},{"$f":"IF('Line 1 Source'!D2352<>\"\",'Line 1 Source'!D2352,\"\")","v":""},{"$f":"IF('Line 1 Source'!E2352<>\"\",'Line 1 Source'!E2352,\"\")","v":""},{"$f":"IF('Line 1 Source'!F2352<>\"\",'Line 1 Source'!F2352,\"\")","v":""}]
[{"$f":"IF('Line 1 Source'!A2353<>\"\",'Line 1 Source'!A2353,\"\")","v":""},"",{"$f":"CONCATENATE(VLOOKUP(B2353,'School List'!$B$3:$H$291,6,FALSE),H2353)","v":{"$error":"#N/A"}},{"$f":"CONCATENATE(VLOOKUP(B2353,'School List'!$B$3:$D$291,3,FALSE),H2353)","v":{"$error":"#N/A"}},{"$f":"IF('Line 1 Source'!B2353<>\"\",'Line 1 Source'!B2353,\"\")","v":""},{"$f":"IF('Line 1 Source'!C2353<>\"\",'Line 1 Source'!C2353,\"\")","v":""},{"$f":"IF('Line 1 Source'!D2353<>\"\",'Line 1 Source'!D2353,\"\")","v":""},{"$f":"IF('Line 1 Source'!E2353<>\"\",'Line 1 Source'!E2353,\"\")","v":""},{"$f":"IF('Line 1 Source'!F2353<>\"\",'Line 1 Source'!F2353,\"\")","v":""}]
[{"$f":"IF('Line 1 Source'!A2354<>\"\",'Line 1 Source'!A2354,\"\")","v":""},"",{"$f":"CONCATENATE(VLOOKUP(B2354,'School List'!$B$3:$H$291,6,FALSE),H2354)","v":{"$error":"#N/A"}},{"$f":"CONCATENATE(VLOOKUP(B2354,'School List'!$B$3:$D$291,3,FALSE),H2354)","v":{"$error":"#N/A"}},{"$f":"IF('Line 1 Source'!B2354<>\"\",'Line 1 Source'!B2354,\"\")","v":""},{"$f":"IF('Line 1 Source'!C2354<>\"\",'Line 1 Source'!C2354,\"\")","v":""},{"$f":"IF('Line 1 Source'!D2354<>\"\",'Line 1 Source'!D2354,\"\")","v":""},{"$f":"IF('Line 1 Source'!E2354<>\"\",'Line 1 Source'!E2354,\"\")","v":""},{"$f":"IF('Line 1 Source'!F2354<>\"\",'Line 1 Source'!F2354,\"\")","v":""}]
[{"$f":"IF('Line 1 Source'!A2355<>\"\",'Line 1 Source'!A2355,\"\")","v":""},"",{"$f":"CONCATENATE(VLOOKUP(B2355,'School List'!$B$3:$H$291,6,FALSE),H2355)","v":{"$error":"#N/A"}},{"$f":"CONCATENATE(VLOOKUP(B2355,'School List'!$B$3:$D$291,3,FALSE),H2355)","v":{"$error":"#N/A"}},{"$f":"IF('Line 1 Source'!B2355<>\"\",'Line 1 Source'!B2355,\"\")","v":""},{"$f":"IF('Line 1 Source'!C2355<>\"\",'Line 1 Source'!C2355,\"\")","v":""},{"$f":"IF('Line 1 Source'!D2355<>\"\",'Line 1 Source'!D2355,\"\")","v":""},{"$f":"IF('Line 1 Source'!E2355<>\"\",'Line 1 Source'!E2355,\"\")","v":""},{"$f":"IF('Line 1 Source'!F2355<>\"\",'Line 1 Source'!F2355,\"\")","v":""}]
[{"$f":"IF('Line 1 Source'!A2356<>\"\",'Line 1 Source'!A2356,\"\")","v":""},"",{"$f":"CONCATENATE(VLOOKUP(B2356,'School List'!$B$3:$H$291,6,FALSE),H2356)","v":{"$error":"#N/A"}},{"$f":"CONCATENATE(VLOOKUP(B2356,'School List'!$B$3:$D$291,3,FALSE),H2356)","v":{"$error":"#N/A"}},{"$f":"IF('Line 1 Source'!B2356<>\"\",'Line 1 Source'!B2356,\"\")","v":""},{"$f":"IF('Line 1 Source'!C2356<>\"\",'Line 1 Source'!C2356,\"\")","v":""},{"$f":"IF('Line 1 Source'!D2356<>\"\",'Line 1 Source'!D2356,\"\")","v":""},{"$f":"IF('Line 1 Source'!E2356<>\"\",'Line 1 Source'!E2356,\"\")","v":""},{"$f":"IF('Line 1 Source'!F2356<>\"\",'Line 1 Source'!F2356,\"\")","v":""}]
[{"$f":"IF('Line 1 Source'!A2357<>\"\",'Line 1 Source'!A2357,\"\")","v":""},"",{"$f":"CONCATENATE(VLOOKUP(B2357,'School List'!$B$3:$H$291,6,FALSE),H2357)","v":{"$error":"#N/A"}},{"$f":"CONCATENATE(VLOOKUP(B2357,'School List'!$B$3:$D$291,3,FALSE),H2357)","v":{"$error":"#N/A"}},{"$f":"IF('Line 1 Source'!B2357<>\"\",'Line 1 Source'!B2357,\"\")","v":""},{"$f":"IF('Line 1 Source'!C2357<>\"\",'Line 1 Source'!C2357,\"\")","v":""},{"$f":"IF('Line 1 Source'!D2357<>\"\",'Line 1 Source'!D2357,\"\")","v":""},{"$f":"IF('Line 1 Source'!E2357<>\"\",'Line 1 Source'!E2357,\"\")","v":""},{"$f":"IF('Line 1 Source'!F2357<>\"\",'Line 1 Source'!F2357,\"\")","v":""}]
[{"$f":"IF('Line 1 Source'!A2358<>\"\",'Line 1 Source'!A2358,\"\")","v":""},"",{"$f":"CONCATENATE(VLOOKUP(B2358,'School List'!$B$3:$H$291,6,FALSE),H2358)","v":{"$error":"#N/A"}},{"$f":"CONCATENATE(VLOOKUP(B2358,'School List'!$B$3:$D$291,3,FALSE),H2358)","v":{"$error":"#N/A"}},{"$f":"IF('Line 1 Source'!B2358<>\"\",'Line 1 Source'!B2358,\"\")","v":""},{"$f":"IF('Line 1 Source'!C2358<>\"\",'Line 1 Source'!C2358,\"\")","v":""},{"$f":"IF('Line 1 Source'!D2358<>\"\",'Line 1 Source'!D2358,\"\")","v":""},{"$f":"IF('Line 1 Source'!E2358<>\"\",'Line 1 Source'!E2358,\"\")","v":""},{"$f":"IF('Line 1 Source'!F2358<>\"\",'Line 1 Source'!F2358,\"\")","v":""}]
[{"$f":"IF('Line 1 Source'!A2359<>\"\",'Line 1 Source'!A2359,\"\")","v":""},"",{"$f":"CONCATENATE(VLOOKUP(B2359,'School List'!$B$3:$H$291,6,FALSE),H2359)","v":{"$error":"#N/A"}},{"$f":"CONCATENATE(VLOOKUP(B2359,'School List'!$B$3:$D$291,3,FALSE),H2359)","v":{"$error":"#N/A"}},{"$f":"IF('Line 1 Source'!B2359<>\"\",'Line 1 Source'!B2359,\"\")","v":""},{"$f":"IF('Line 1 Source'!C2359<>\"\",'Line 1 Source'!C2359,\"\")","v":""},{"$f":"IF('Line 1 Source'!D2359<>\"\",'Line 1 Source'!D2359,\"\")","v":""},{"$f":"IF('Line 1 Source'!E2359<>\"\",'Line 1 Source'!E2359,\"\")","v":""},{"$f":"IF('Line 1 Source'!F2359<>\"\",'Line 1 Source'!F2359,\"\")","v":""}]
[{"$f":"IF('Line 1 Source'!A2360<>\"\",'Line 1 Source'!A2360,\"\")","v":""},"",{"$f":"CONCATENATE(VLOOKUP(B2360,'School List'!$B$3:$H$291,6,FALSE),H2360)","v":{"$error":"#N/A"}},{"$f":"CONCATENATE(VLOOKUP(B2360,'School List'!$B$3:$D$291,3,FALSE),H2360)","v":{"$error":"#N/A"}},{"$f":"IF('Line 1 Source'!B2360<>\"\",'Line 1 Source'!B2360,\"\")","v":""},{"$f":"IF('Line 1 Source'!C2360<>\"\",'Line 1 Source'!C2360,\"\")","v":""},{"$f":"IF('Line 1 Source'!D2360<>\"\",'Line 1 Source'!D2360,\"\")","v":""},{"$f":"IF('Line 1 Source'!E2360<>\"\",'Line 1 Source'!E2360,\"\")","v":""},{"$f":"IF('Line 1 Source'!F2360<>\"\",'Line 1 Source'!F2360,\"\")","v":""}]
[{"$f":"IF('Line 1 Source'!A2361<>\"\",'Line 1 Source'!A2361,\"\")","v":""},"",{"$f":"CONCATENATE(VLOOKUP(B2361,'School List'!$B$3:$H$291,6,FALSE),H2361)","v":{"$error":"#N/A"}},{"$f":"CONCATENATE(VLOOKUP(B2361,'School List'!$B$3:$D$291,3,FALSE),H2361)","v":{"$error":"#N/A"}},{"$f":"IF('Line 1 Source'!B2361<>\"\",'Line 1 Source'!B2361,\"\")","v":""},{"$f":"IF('Line 1 Source'!C2361<>\"\",'Line 1 Source'!C2361,\"\")","v":""},{"$f":"IF('Line 1 Source'!D2361<>\"\",'Line 1 Source'!D2361,\"\")","v":""},{"$f":"IF('Line 1 Source'!E2361<>\"\",'Line 1 Source'!E2361,\"\")","v":""},{"$f":"IF('Line 1 Source'!F2361<>\"\",'Line 1 Source'!F2361,\"\")","v":""}]
[{"$f":"IF('Line 1 Source'!A2362<>\"\",'Line 1 Source'!A2362,\"\")","v":""},"",{"$f":"CONCATENATE(VLOOKUP(B2362,'School List'!$B$3:$H$291,6,FALSE),H2362)","v":{"$error":"#N/A"}},{"$f":"CONCATENATE(VLOOKUP(B2362,'School List'!$B$3:$D$291,3,FALSE),H2362)","v":{"$error":"#N/A"}},{"$f":"IF('Line 1 Source'!B2362<>\"\",'Line 1 Source'!B2362,\"\")","v":""},{"$f":"IF('Line 1 Source'!C2362<>\"\",'Line 1 Source'!C2362,\"\")","v":""},{"$f":"IF('Line 1 Source'!D2362<>\"\",'Line 1 Source'!D2362,\"\")","v":""},{"$f":"IF('Line 1 Source'!E2362<>\"\",'Line 1 Source'!E2362,\"\")","v":""},{"$f":"IF('Line 1 Source'!F2362<>\"\",'Line 1 Source'!F2362,\"\")","v":""}]
[{"$f":"IF('Line 1 Source'!A2363<>\"\",'Line 1 Source'!A2363,\"\")","v":""},"",{"$f":"CONCATENATE(VLOOKUP(B2363,'School List'!$B$3:$H$291,6,FALSE),H2363)","v":{"$error":"#N/A"}},{"$f":"CONCATENATE(VLOOKUP(B2363,'School List'!$B$3:$D$291,3,FALSE),H2363)","v":{"$error":"#N/A"}},{"$f":"IF('Line 1 Source'!B2363<>\"\",'Line 1 Source'!B2363,\"\")","v":""},{"$f":"IF('Line 1 Source'!C2363<>\"\",'Line 1 Source'!C2363,\"\")","v":""},{"$f":"IF('Line 1 Source'!D2363<>\"\",'Line 1 Source'!D2363,\"\")","v":""},{"$f":"IF('Line 1 Source'!E2363<>\"\",'Line 1 Source'!E2363,\"\")","v":""},{"$f":"IF('Line 1 Source'!F2363<>\"\",'Line 1 Source'!F2363,\"\")","v":""}]
[{"$f":"IF('Line 1 Source'!A2364<>\"\",'Line 1 Source'!A2364,\"\")","v":""},"",{"$f":"CONCATENATE(VLOOKUP(B2364,'School List'!$B$3:$H$291,6,FALSE),H2364)","v":{"$error":"#N/A"}},{"$f":"CONCATENATE(VLOOKUP(B2364,'School List'!$B$3:$D$291,3,FALSE),H2364)","v":{"$error":"#N/A"}},{"$f":"IF('Line 1 Source'!B2364<>\"\",'Line 1 Source'!B2364,\"\")","v":""},{"$f":"IF('Line 1 Source'!C2364<>\"\",'Line 1 Source'!C2364,\"\")","v":""},{"$f":"IF('Line 1 Source'!D2364<>\"\",'Line 1 Source'!D2364,\"\")","v":""},{"$f":"IF('Line 1 Source'!E2364<>\"\",'Line 1 Source'!E2364,\"\")","v":""},{"$f":"IF('Line 1 Source'!F2364<>\"\",'Line 1 Source'!F2364,\"\")","v":""}]
[{"$f":"IF('Line 1 Source'!A2365<>\"\",'Line 1 Source'!A2365,\"\")","v":""},"",{"$f":"CONCATENATE(VLOOKUP(B2365,'School List'!$B$3:$H$291,6,FALSE),H2365)","v":{"$error":"#N/A"}},{"$f":"CONCATENATE(VLOOKUP(B2365,'School List'!$B$3:$D$291,3,FALSE),H2365)","v":{"$error":"#N/A"}},{"$f":"IF('Line 1 Source'!B2365<>\"\",'Line 1 Source'!B2365,\"\")","v":""},{"$f":"IF('Line 1 Source'!C2365<>\"\",'Line 1 Source'!C2365,\"\")","v":""},{"$f":"IF('Line 1 Source'!D2365<>\"\",'Line 1 Source'!D2365,\"\")","v":""},{"$f":"IF('Line 1 Source'!E2365<>\"\",'Line 1 Source'!E2365,\"\")","v":""},{"$f":"IF('Line 1 Source'!F2365<>\"\",'Line 1 Source'!F2365,\"\")","v":""}]
[{"$f":"IF('Line 1 Source'!A2366<>\"\",'Line 1 Source'!A2366,\"\")","v":""},"",{"$f":"CONCATENATE(VLOOKUP(B2366,'School List'!$B$3:$H$291,6,FALSE),H2366)","v":{"$error":"#N/A"}},{"$f":"CONCATENATE(VLOOKUP(B2366,'School List'!$B$3:$D$291,3,FALSE),H2366)","v":{"$error":"#N/A"}},{"$f":"IF('Line 1 Source'!B2366<>\"\",'Line 1 Source'!B2366,\"\")","v":""},{"$f":"IF('Line 1 Source'!C2366<>\"\",'Line 1 Source'!C2366,\"\")","v":""},{"$f":"IF('Line 1 Source'!D2366<>\"\",'Line 1 Source'!D2366,\"\")","v":""},{"$f":"IF('Line 1 Source'!E2366<>\"\",'Line 1 Source'!E2366,\"\")","v":""},{"$f":"IF('Line 1 Source'!F2366<>\"\",'Line 1 Source'!F2366,\"\")","v":""}]
[{"$f":"IF('Line 1 Source'!A2367<>\"\",'Line 1 Source'!A2367,\"\")","v":""},"",{"$f":"CONCATENATE(VLOOKUP(B2367,'School List'!$B$3:$H$291,6,FALSE),H2367)","v":{"$error":"#N/A"}},{"$f":"CONCATENATE(VLOOKUP(B2367,'School List'!$B$3:$D$291,3,FALSE),H2367)","v":{"$error":"#N/A"}},{"$f":"IF('Line 1 Source'!B2367<>\"\",'Line 1 Source'!B2367,\"\")","v":""},{"$f":"IF('Line 1 Source'!C2367<>\"\",'Line 1 Source'!C2367,\"\")","v":""},{"$f":"IF('Line 1 Source'!D2367<>\"\",'Line 1 Source'!D2367,\"\")","v":""},{"$f":"IF('Line 1 Source'!E2367<>\"\",'Line 1 Source'!E2367,\"\")","v":""},{"$f":"IF('Line 1 Source'!F2367<>\"\",'Line 1 Source'!F2367,\"\")","v":""}]
[{"$f":"IF('Line 1 Source'!A2368<>\"\",'Line 1 Source'!A2368,\"\")","v":""},"",{"$f":"CONCATENATE(VLOOKUP(B2368,'School List'!$B$3:$H$291,6,FALSE),H2368)","v":{"$error":"#N/A"}},{"$f":"CONCATENATE(VLOOKUP(B2368,'School List'!$B$3:$D$291,3,FALSE),H2368)","v":{"$error":"#N/A"}},{"$f":"IF('Line 1 Source'!B2368<>\"\",'Line 1 Source'!B2368,\"\")","v":""},{"$f":"IF('Line 1 Source'!C2368<>\"\",'Line 1 Source'!C2368,\"\")","v":""},{"$f":"IF('Line 1 Source'!D2368<>\"\",'Line 1 Source'!D2368,\"\")","v":""},{"$f":"IF('Line 1 Source'!E2368<>\"\",'Line 1 Source'!E2368,\"\")","v":""},{"$f":"IF('Line 1 Source'!F2368<>\"\",'Line 1 Source'!F2368,\"\")","v":""}]
[{"$f":"IF('Line 1 Source'!A2369<>\"\",'Line 1 Source'!A2369,\"\")","v":""},"",{"$f":"CONCATENATE(VLOOKUP(B2369,'School List'!$B$3:$H$291,6,FALSE),H2369)","v":{"$error":"#N/A"}},{"$f":"CONCATENATE(VLOOKUP(B2369,'School List'!$B$3:$D$291,3,FALSE),H2369)","v":{"$error":"#N/A"}},{"$f":"IF('Line 1 Source'!B2369<>\"\",'Line 1 Source'!B2369,\"\")","v":""},{"$f":"IF('Line 1 Source'!C2369<>\"\",'Line 1 Source'!C2369,\"\")","v":""},{"$f":"IF('Line 1 Source'!D2369<>\"\",'Line 1 Source'!D2369,\"\")","v":""},{"$f":"IF('Line 1 Source'!E2369<>\"\",'Line 1 Source'!E2369,\"\")","v":""},{"$f":"IF('Line 1 Source'!F2369<>\"\",'Line 1 Source'!F2369,\"\")","v":""}]
[{"$f":"IF('Line 1 Source'!A2370<>\"\",'Line 1 Source'!A2370,\"\")","v":""},"",{"$f":"CONCATENATE(VLOOKUP(B2370,'School List'!$B$3:$H$291,6,FALSE),H2370)","v":{"$error":"#N/A"}},{"$f":"CONCATENATE(VLOOKUP(B2370,'School List'!$B$3:$D$291,3,FALSE),H2370)","v":{"$error":"#N/A"}},{"$f":"IF('Line 1 Source'!B2370<>\"\",'Line 1 Source'!B2370,\"\")","v":""},{"$f":"IF('Line 1 Source'!C2370<>\"\",'Line 1 Source'!C2370,\"\")","v":""},{"$f":"IF('Line 1 Source'!D2370<>\"\",'Line 1 Source'!D2370,\"\")","v":""},{"$f":"IF('Line 1 Source'!E2370<>\"\",'Line 1 Source'!E2370,\"\")","v":""},{"$f":"IF('Line 1 Source'!F2370<>\"\",'Line 1 Source'!F2370,\"\")","v":""}]
[{"$f":"IF('Line 1 Source'!A2371<>\"\",'Line 1 Source'!A2371,\"\")","v":""},{"$f":"CONCATENATE(E2371,F2371,G2371)","v":""},{"$f":"CONCATENATE(VLOOKUP(B2371,'School List'!$B$3:$H$291,6,FALSE),H2371)","v":{"$error":"#N/A"}},{"$f":"CONCATENATE(VLOOKUP(B2371,'School List'!$B$3:$D$291,3,FALSE),H2371)","v":{"$error":"#N/A"}},{"$f":"IF('Line 1 Source'!B2371<>\"\",'Line 1 Source'!B2371,\"\")","v":""},{"$f":"IF('Line 1 Source'!C2371<>\"\",'Line 1 Source'!C2371,\"\")","v":""},{"$f":"IF('Line 1 Source'!D2371<>\"\",'Line 1 Source'!D2371,\"\")","v":""},{"$f":"IF('Line 1 Source'!E2371<>\"\",'Line 1 Source'!E2371,\"\")","v":""},{"$f":"IF('Line 1 Source'!F2371<>\"\",'Line 1 Source'!F2371,\"\")","v":""}]
[{"$f":"IF('Line 1 Source'!A2372<>\"\",'Line 1 Source'!A2372,\"\")","v":""},"",{"$f":"CONCATENATE(VLOOKUP(B2372,'School List'!$B$3:$H$291,6,FALSE),H2372)","v":{"$error":"#N/A"}},{"$f":"CONCATENATE(VLOOKUP(B2372,'School List'!$B$3:$D$291,3,FALSE),H2372)","v":{"$error":"#N/A"}},{"$f":"IF('Line 1 Source'!B2372<>\"\",'Line 1 Source'!B2372,\"\")","v":""},{"$f":"IF('Line 1 Source'!C2372<>\"\",'Line 1 Source'!C2372,\"\")","v":""},{"$f":"IF('Line 1 Source'!D2372<>\"\",'Line 1 Source'!D2372,\"\")","v":""},{"$f":"IF('Line 1 Source'!E2372<>\"\",'Line 1 Source'!E2372,\"\")","v":""},{"$f":"IF('Line 1 Source'!F2372<>\"\",'Line 1 Source'!F2372,\"\")","v":""}]
[{"$f":"IF('Line 1 Source'!A2373<>\"\",'Line 1 Source'!A2373,\"\")","v":""},"",{"$f":"CONCATENATE(VLOOKUP(B2373,'School List'!$B$3:$H$291,6,FALSE),H2373)","v":{"$error":"#N/A"}},{"$f":"CONCATENATE(VLOOKUP(B2373,'School List'!$B$3:$D$291,3,FALSE),H2373)","v":{"$error":"#N/A"}},{"$f":"IF('Line 1 Source'!B2373<>\"\",'Line 1 Source'!B2373,\"\")","v":""},{"$f":"IF('Line 1 Source'!C2373<>\"\",'Line 1 Source'!C2373,\"\")","v":""},{"$f":"IF('Line 1 Source'!D2373<>\"\",'Line 1 Source'!D2373,\"\")","v":""},{"$f":"IF('Line 1 Source'!E2373<>\"\",'Line 1 Source'!E2373,\"\")","v":""},{"$f":"IF('Line 1 Source'!F2373<>\"\",'Line 1 Source'!F2373,\"\")","v":""}]
[{"$f":"IF('Line 1 Source'!A2374<>\"\",'Line 1 Source'!A2374,\"\")","v":""},"",{"$f":"CONCATENATE(VLOOKUP(B2374,'School List'!$B$3:$H$291,6,FALSE),H2374)","v":{"$error":"#N/A"}},{"$f":"CONCATENATE(VLOOKUP(B2374,'School List'!$B$3:$D$291,3,FALSE),H2374)","v":{"$error":"#N/A"}},{"$f":"IF('Line 1 Source'!B2374<>\"\",'Line 1 Source'!B2374,\"\")","v":""},{"$f":"IF('Line 1 Source'!C2374<>\"\",'Line 1 Source'!C2374,\"\")","v":""},{"$f":"IF('Line 1 Source'!D2374<>\"\",'Line 1 Source'!D2374,\"\")","v":""},{"$f":"IF('Line 1 Source'!E2374<>\"\",'Line 1 Source'!E2374,\"\")","v":""},{"$f":"IF('Line 1 Source'!F2374<>\"\",'Line 1 Source'!F2374,\"\")","v":""}]
[{"$f":"IF('Line 1 Source'!A2375<>\"\",'Line 1 Source'!A2375,\"\")","v":""},"",{"$f":"CONCATENATE(VLOOKUP(B2375,'School List'!$B$3:$H$291,6,FALSE),H2375)","v":{"$error":"#N/A"}},{"$f":"CONCATENATE(VLOOKUP(B2375,'School List'!$B$3:$D$291,3,FALSE),H2375)","v":{"$error":"#N/A"}},{"$f":"IF('Line 1 Source'!B2375<>\"\",'Line 1 Source'!B2375,\"\")","v":""},{"$f":"IF('Line 1 Source'!C2375<>\"\",'Line 1 Source'!C2375,\"\")","v":""},{"$f":"IF('Line 1 Source'!D2375<>\"\",'Line 1 Source'!D2375,\"\")","v":""},{"$f":"IF('Line 1 Source'!E2375<>\"\",'Line 1 Source'!E2375,\"\")","v":""},{"$f":"IF('Line 1 Source'!F2375<>\"\",'Line 1 Source'!F2375,\"\")","v":""}]
[{"$f":"IF('Line 1 Source'!A2376<>\"\",'Line 1 Source'!A2376,\"\")","v":""},"",{"$f":"CONCATENATE(VLOOKUP(B2376,'School List'!$B$3:$H$291,6,FALSE),H2376)","v":{"$error":"#N/A"}},{"$f":"CONCATENATE(VLOOKUP(B2376,'School List'!$B$3:$D$291,3,FALSE),H2376)","v":{"$error":"#N/A"}},{"$f":"IF('Line 1 Source'!B2376<>\"\",'Line 1 Source'!B2376,\"\")","v":""},{"$f":"IF('Line 1 Source'!C2376<>\"\",'Line 1 Source'!C2376,\"\")","v":""},{"$f":"IF('Line 1 Source'!D2376<>\"\",'Line 1 Source'!D2376,\"\")","v":""},{"$f":"IF('Line 1 Source'!E2376<>\"\",'Line 1 Source'!E2376,\"\")","v":""},{"$f":"IF('Line 1 Source'!F2376<>\"\",'Line 1 Source'!F2376,\"\")","v":""}]
[{"$f":"IF('Line 1 Source'!A2377<>\"\",'Line 1 Source'!A2377,\"\")","v":""},"",{"$f":"CONCATENATE(VLOOKUP(B2377,'School List'!$B$3:$H$291,6,FALSE),H2377)","v":{"$error":"#N/A"}},{"$f":"CONCATENATE(VLOOKUP(B2377,'School List'!$B$3:$D$291,3,FALSE),H2377)","v":{"$error":"#N/A"}},{"$f":"IF('Line 1 Source'!B2377<>\"\",'Line 1 Source'!B2377,\"\")","v":""},{"$f":"IF('Line 1 Source'!C2377<>\"\",'Line 1 Source'!C2377,\"\")","v":""},{"$f":"IF('Line 1 Source'!D2377<>\"\",'Line 1 Source'!D2377,\"\")","v":""},{"$f":"IF('Line 1 Source'!E2377<>\"\",'Line 1 Source'!E2377,\"\")","v":""},{"$f":"IF('Line 1 Source'!F2377<>\"\",'Line 1 Source'!F2377,\"\")","v":""}]
[{"$f":"IF('Line 1 Source'!A2378<>\"\",'Line 1 Source'!A2378,\"\")","v":""},"",{"$f":"CONCATENATE(VLOOKUP(B2378,'School List'!$B$3:$H$291,6,FALSE),H2378)","v":{"$error":"#N/A"}},{"$f":"CONCATENATE(VLOOKUP(B2378,'School List'!$B$3:$D$291,3,FALSE),H2378)","v":{"$error":"#N/A"}},{"$f":"IF('Line 1 Source'!B2378<>\"\",'Line 1 Source'!B2378,\"\")","v":""},{"$f":"IF('Line 1 Source'!C2378<>\"\",'Line 1 Source'!C2378,\"\")","v":""},{"$f":"IF('Line 1 Source'!D2378<>\"\",'Line 1 Source'!D2378,\"\")","v":""},{"$f":"IF('Line 1 Source'!E2378<>\"\",'Line 1 Source'!E2378,\"\")","v":""},{"$f":"IF('Line 1 Source'!F2378<>\"\",'Line 1 Source'!F2378,\"\")","v":""}]
[{"$f":"IF('Line 1 Source'!A2379<>\"\",'Line 1 Source'!A2379,\"\")","v":""},"",{"$f":"CONCATENATE(VLOOKUP(B2379,'School List'!$B$3:$H$291,6,FALSE),H2379)","v":{"$error":"#N/A"}},{"$f":"CONCATENATE(VLOOKUP(B2379,'School List'!$B$3:$D$291,3,FALSE),H2379)","v":{"$error":"#N/A"}},{"$f":"IF('Line 1 Source'!B2379<>\"\",'Line 1 Source'!B2379,\"\")","v":""},{"$f":"IF('Line 1 Source'!C2379<>\"\",'Line 1 Source'!C2379,\"\")","v":""},{"$f":"IF('Line 1 Source'!D2379<>\"\",'Line 1 Source'!D2379,\"\")","v":""},{"$f":"IF('Line 1 Source'!E2379<>\"\",'Line 1 Source'!E2379,\"\")","v":""},{"$f":"IF('Line 1 Source'!F2379<>\"\",'Line 1 Source'!F2379,\"\")","v":""}]
[{"$f":"IF('Line 1 Source'!A2380<>\"\",'Line 1 Source'!A2380,\"\")","v":""},"",{"$f":"CONCATENATE(VLOOKUP(B2380,'School List'!$B$3:$H$291,6,FALSE),H2380)","v":{"$error":"#N/A"}},{"$f":"CONCATENATE(VLOOKUP(B2380,'School List'!$B$3:$D$291,3,FALSE),H2380)","v":{"$error":"#N/A"}},{"$f":"IF('Line 1 Source'!B2380<>\"\",'Line 1 Source'!B2380,\"\")","v":""},{"$f":"IF('Line 1 Source'!C2380<>\"\",'Line 1 Source'!C2380,\"\")","v":""},{"$f":"IF('Line 1 Source'!D2380<>\"\",'Line 1 Source'!D2380,\"\")","v":""},{"$f":"IF('Line 1 Source'!E2380<>\"\",'Line 1 Source'!E2380,\"\")","v":""},{"$f":"IF('Line 1 Source'!F2380<>\"\",'Line 1 Source'!F2380,\"\")","v":""}]
[{"$f":"IF('Line 1 Source'!A2381<>\"\",'Line 1 Source'!A2381,\"\")","v":""},"",{"$f":"CONCATENATE(VLOOKUP(B2381,'School List'!$B$3:$H$291,6,FALSE),H2381)","v":{"$error":"#N/A"}},{"$f":"CONCATENATE(VLOOKUP(B2381,'School List'!$B$3:$D$291,3,FALSE),H2381)","v":{"$error":"#N/A"}},{"$f":"IF('Line 1 Source'!B2381<>\"\",'Line 1 Source'!B2381,\"\")","v":""},{"$f":"IF('Line 1 Source'!C2381<>\"\",'Line 1 Source'!C2381,\"\")","v":""},{"$f":"IF('Line 1 Source'!D2381<>\"\",'Line 1 Source'!D2381,\"\")","v":""},{"$f":"IF('Line 1 Source'!E2381<>\"\",'Line 1 Source'!E2381,\"\")","v":""},{"$f":"IF('Line 1 Source'!F2381<>\"\",'Line 1 Source'!F2381,\"\")","v":""}]
[{"$f":"IF('Line 1 Source'!A2382<>\"\",'Line 1 Source'!A2382,\"\")","v":""},"",{"$f":"CONCATENATE(VLOOKUP(B2382,'School List'!$B$3:$H$291,6,FALSE),H2382)","v":{"$error":"#N/A"}},{"$f":"CONCATENATE(VLOOKUP(B2382,'School List'!$B$3:$D$291,3,FALSE),H2382)","v":{"$error":"#N/A"}},{"$f":"IF('Line 1 Source'!B2382<>\"\",'Line 1 Source'!B2382,\"\")","v":""},{"$f":"IF('Line 1 Source'!C2382<>\"\",'Line 1 Source'!C2382,\"\")","v":""},{"$f":"IF('Line 1 Source'!D2382<>\"\",'Line 1 Source'!D2382,\"\")","v":""},{"$f":"IF('Line 1 Source'!E2382<>\"\",'Line 1 Source'!E2382,\"\")","v":""},{"$f":"IF('Line 1 Source'!F2382<>\"\",'Line 1 Source'!F2382,\"\")","v":""}]
[{"$f":"IF('Line 1 Source'!A2383<>\"\",'Line 1 Source'!A2383,\"\")","v":""},"",{"$f":"CONCATENATE(VLOOKUP(B2383,'School List'!$B$3:$H$291,6,FALSE),H2383)","v":{"$error":"#N/A"}},{"$f":"CONCATENATE(VLOOKUP(B2383,'School List'!$B$3:$D$291,3,FALSE),H2383)","v":{"$error":"#N/A"}},{"$f":"IF('Line 1 Source'!B2383<>\"\",'Line 1 Source'!B2383,\"\")","v":""},{"$f":"IF('Line 1 Source'!C2383<>\"\",'Line 1 Source'!C2383,\"\")","v":""},{"$f":"IF('Line 1 Source'!D2383<>\"\",'Line 1 Source'!D2383,\"\")","v":""},{"$f":"IF('Line 1 Source'!E2383<>\"\",'Line 1 Source'!E2383,\"\")","v":""},{"$f":"IF('Line 1 Source'!F2383<>\"\",'Line 1 Source'!F2383,\"\")","v":""}]
[{"$f":"IF('Line 1 Source'!A2384<>\"\",'Line 1 Source'!A2384,\"\")","v":""},"",{"$f":"CONCATENATE(VLOOKUP(B2384,'School List'!$B$3:$H$291,6,FALSE),H2384)","v":{"$error":"#N/A"}},{"$f":"CONCATENATE(VLOOKUP(B2384,'School List'!$B$3:$D$291,3,FALSE),H2384)","v":{"$error":"#N/A"}},{"$f":"IF('Line 1 Source'!B2384<>\"\",'Line 1 Source'!B2384,\"\")","v":""},{"$f":"IF('Line 1 Source'!C2384<>\"\",'Line 1 Source'!C2384,\"\")","v":""},{"$f":"IF('Line 1 Source'!D2384<>\"\",'Line 1 Source'!D2384,\"\")","v":""},{"$f":"IF('Line 1 Source'!E2384<>\"\",'Line 1 Source'!E2384,\"\")","v":""},{"$f":"IF('Line 1 Source'!F2384<>\"\",'Line 1 Source'!F2384,\"\")","v":""}]
[{"$f":"IF('Line 1 Source'!A2385<>\"\",'Line 1 Source'!A2385,\"\")","v":""},"",{"$f":"CONCATENATE(VLOOKUP(B2385,'School List'!$B$3:$H$291,6,FALSE),H2385)","v":{"$error":"#N/A"}},{"$f":"CONCATENATE(VLOOKUP(B2385,'School List'!$B$3:$D$291,3,FALSE),H2385)","v":{"$error":"#N/A"}},{"$f":"IF('Line 1 Source'!B2385<>\"\",'Line 1 Source'!B2385,\"\")","v":""},{"$f":"IF('Line 1 Source'!C2385<>\"\",'Line 1 Source'!C2385,\"\")","v":""},{"$f":"IF('Line 1 Source'!D2385<>\"\",'Line 1 Source'!D2385,\"\")","v":""},{"$f":"IF('Line 1 Source'!E2385<>\"\",'Line 1 Source'!E2385,\"\")","v":""},{"$f":"IF('Line 1 Source'!F2385<>\"\",'Line 1 Source'!F2385,\"\")","v":""}]
[{"$f":"IF('Line 1 Source'!A2386<>\"\",'Line 1 Source'!A2386,\"\")","v":""},"",{"$f":"CONCATENATE(VLOOKUP(B2386,'School List'!$B$3:$H$291,6,FALSE),H2386)","v":{"$error":"#N/A"}},{"$f":"CONCATENATE(VLOOKUP(B2386,'School List'!$B$3:$D$291,3,FALSE),H2386)","v":{"$error":"#N/A"}},{"$f":"IF('Line 1 Source'!B2386<>\"\",'Line 1 Source'!B2386,\"\")","v":""},{"$f":"IF('Line 1 Source'!C2386<>\"\",'Line 1 Source'!C2386,\"\")","v":""},{"$f":"IF('Line 1 Source'!D2386<>\"\",'Line 1 Source'!D2386,\"\")","v":""},{"$f":"IF('Line 1 Source'!E2386<>\"\",'Line 1 Source'!E2386,\"\")","v":""},{"$f":"IF('Line 1 Source'!F2386<>\"\",'Line 1 Source'!F2386,\"\")","v":""}]
[{"$f":"IF('Line 1 Source'!A2387<>\"\",'Line 1 Source'!A2387,\"\")","v":""},"",{"$f":"CONCATENATE(VLOOKUP(B2387,'School List'!$B$3:$H$291,6,FALSE),H2387)","v":{"$error":"#N/A"}},{"$f":"CONCATENATE(VLOOKUP(B2387,'School List'!$B$3:$D$291,3,FALSE),H2387)","v":{"$error":"#N/A"}},{"$f":"IF('Line 1 Source'!B2387<>\"\",'Line 1 Source'!B2387,\"\")","v":""},{"$f":"IF('Line 1 Source'!C2387<>\"\",'Line 1 Source'!C2387,\"\")","v":""},{"$f":"IF('Line 1 Source'!D2387<>\"\",'Line 1 Source'!D2387,\"\")","v":""},{"$f":"IF('Line 1 Source'!E2387<>\"\",'Line 1 Source'!E2387,\"\")","v":""},{"$f":"IF('Line 1 Source'!F2387<>\"\",'Line 1 Source'!F2387,\"\")","v":""}]
[{"$f":"IF('Line 1 Source'!A2388<>\"\",'Line 1 Source'!A2388,\"\")","v":""},"",{"$f":"CONCATENATE(VLOOKUP(B2388,'School List'!$B$3:$H$291,6,FALSE),H2388)","v":{"$error":"#N/A"}},{"$f":"CONCATENATE(VLOOKUP(B2388,'School List'!$B$3:$D$291,3,FALSE),H2388)","v":{"$error":"#N/A"}},{"$f":"IF('Line 1 Source'!B2388<>\"\",'Line 1 Source'!B2388,\"\")","v":""},{"$f":"IF('Line 1 Source'!C2388<>\"\",'Line 1 Source'!C2388,\"\")","v":""},{"$f":"IF('Line 1 Source'!D2388<>\"\",'Line 1 Source'!D2388,\"\")","v":""},{"$f":"IF('Line 1 Source'!E2388<>\"\",'Line 1 Source'!E2388,\"\")","v":""},{"$f":"IF('Line 1 Source'!F2388<>\"\",'Line 1 Source'!F2388,\"\")","v":""}]
[{"$f":"IF('Line 1 Source'!A2389<>\"\",'Line 1 Source'!A2389,\"\")","v":""},"",{"$f":"CONCATENATE(VLOOKUP(B2389,'School List'!$B$3:$H$291,6,FALSE),H2389)","v":{"$error":"#N/A"}},{"$f":"CONCATENATE(VLOOKUP(B2389,'School List'!$B$3:$D$291,3,FALSE),H2389)","v":{"$error":"#N/A"}},{"$f":"IF('Line 1 Source'!B2389<>\"\",'Line 1 Source'!B2389,\"\")","v":""},{"$f":"IF('Line 1 Source'!C2389<>\"\",'Line 1 Source'!C2389,\"\")","v":""},{"$f":"IF('Line 1 Source'!D2389<>\"\",'Line 1 Source'!D2389,\"\")","v":""},{"$f":"IF('Line 1 Source'!E2389<>\"\",'Line 1 Source'!E2389,\"\")","v":""},{"$f":"IF('Line 1 Source'!F2389<>\"\",'Line 1 Source'!F2389,\"\")","v":""}]
[{"$f":"IF('Line 1 Source'!A2390<>\"\",'Line 1 Source'!A2390,\"\")","v":""},"",{"$f":"CONCATENATE(VLOOKUP(B2390,'School List'!$B$3:$H$291,6,FALSE),H2390)","v":{"$error":"#N/A"}},{"$f":"CONCATENATE(VLOOKUP(B2390,'School List'!$B$3:$D$291,3,FALSE),H2390)","v":{"$error":"#N/A"}},{"$f":"IF('Line 1 Source'!B2390<>\"\",'Line 1 Source'!B2390,\"\")","v":""},{"$f":"IF('Line 1 Source'!C2390<>\"\",'Line 1 Source'!C2390,\"\")","v":""},{"$f":"IF('Line 1 Source'!D2390<>\"\",'Line 1 Source'!D2390,\"\")","v":""},{"$f":"IF('Line 1 Source'!E2390<>\"\",'Line 1 Source'!E2390,\"\")","v":""},{"$f":"IF('Line 1 Source'!F2390<>\"\",'Line 1 Source'!F2390,\"\")","v":""}]
[{"$f":"IF('Line 1 Source'!A2391<>\"\",'Line 1 Source'!A2391,\"\")","v":""},"",{"$f":"CONCATENATE(VLOOKUP(B2391,'School List'!$B$3:$H$291,6,FALSE),H2391)","v":{"$error":"#N/A"}},{"$f":"CONCATENATE(VLOOKUP(B2391,'School List'!$B$3:$D$291,3,FALSE),H2391)","v":{"$error":"#N/A"}},{"$f":"IF('Line 1 Source'!B2391<>\"\",'Line 1 Source'!B2391,\"\")","v":""},{"$f":"IF('Line 1 Source'!C2391<>\"\",'Line 1 Source'!C2391,\"\")","v":""},{"$f":"IF('Line 1 Source'!D2391<>\"\",'Line 1 Source'!D2391,\"\")","v":""},{"$f":"IF('Line 1 Source'!E2391<>\"\",'Line 1 Source'!E2391,\"\")","v":""},{"$f":"IF('Line 1 Source'!F2391<>\"\",'Line 1 Source'!F2391,\"\")","v":""}]
[{"$f":"IF('Line 1 Source'!A2392<>\"\",'Line 1 Source'!A2392,\"\")","v":""},"",{"$f":"CONCATENATE(VLOOKUP(B2392,'School List'!$B$3:$H$291,6,FALSE),H2392)","v":{"$error":"#N/A"}},{"$f":"CONCATENATE(VLOOKUP(B2392,'School List'!$B$3:$D$291,3,FALSE),H2392)","v":{"$error":"#N/A"}},{"$f":"IF('Line 1 Source'!B2392<>\"\",'Line 1 Source'!B2392,\"\")","v":""},{"$f":"IF('Line 1 Source'!C2392<>\"\",'Line 1 Source'!C2392,\"\")","v":""},{"$f":"IF('Line 1 Source'!D2392<>\"\",'Line 1 Source'!D2392,\"\")","v":""},{"$f":"IF('Line 1 Source'!E2392<>\"\",'Line 1 Source'!E2392,\"\")","v":""},{"$f":"IF('Line 1 Source'!F2392<>\"\",'Line 1 Source'!F2392,\"\")","v":""}]
[{"$f":"IF('Line 1 Source'!A2393<>\"\",'Line 1 Source'!A2393,\"\")","v":""},"",{"$f":"CONCATENATE(VLOOKUP(B2393,'School List'!$B$3:$H$291,6,FALSE),H2393)","v":{"$error":"#N/A"}},{"$f":"CONCATENATE(VLOOKUP(B2393,'School List'!$B$3:$D$291,3,FALSE),H2393)","v":{"$error":"#N/A"}},{"$f":"IF('Line 1 Source'!B2393<>\"\",'Line 1 Source'!B2393,\"\")","v":""},{"$f":"IF('Line 1 Source'!C2393<>\"\",'Line 1 Source'!C2393,\"\")","v":""},{"$f":"IF('Line 1 Source'!D2393<>\"\",'Line 1 Source'!D2393,\"\")","v":""},{"$f":"IF('Line 1 Source'!E2393<>\"\",'Line 1 Source'!E2393,\"\")","v":""},{"$f":"IF('Line 1 Source'!F2393<>\"\",'Line 1 Source'!F2393,\"\")","v":""}]
[{"$f":"IF('Line 1 Source'!A2394<>\"\",'Line 1 Source'!A2394,\"\")","v":""},"",{"$f":"CONCATENATE(VLOOKUP(B2394,'School List'!$B$3:$H$291,6,FALSE),H2394)","v":{"$error":"#N/A"}},{"$f":"CONCATENATE(VLOOKUP(B2394,'School List'!$B$3:$D$291,3,FALSE),H2394)","v":{"$error":"#N/A"}},{"$f":"IF('Line 1 Source'!B2394<>\"\",'Line 1 Source'!B2394,\"\")","v":""},{"$f":"IF('Line 1 Source'!C2394<>\"\",'Line 1 Source'!C2394,\"\")","v":""},{"$f":"IF('Line 1 Source'!D2394<>\"\",'Line 1 Source'!D2394,\"\")","v":""},{"$f":"IF('Line 1 Source'!E2394<>\"\",'Line 1 Source'!E2394,\"\")","v":""},{"$f":"IF('Line 1 Source'!F2394<>\"\",'Line 1 Source'!F2394,\"\")","v":""}]
[{"$f":"IF('Line 1 Source'!A2395<>\"\",'Line 1 Source'!A2395,\"\")","v":""},"",{"$f":"CONCATENATE(VLOOKUP(B2395,'School List'!$B$3:$H$291,6,FALSE),H2395)","v":{"$error":"#N/A"}},{"$f":"CONCATENATE(VLOOKUP(B2395,'School List'!$B$3:$D$291,3,FALSE),H2395)","v":{"$error":"#N/A"}},{"$f":"IF('Line 1 Source'!B2395<>\"\",'Line 1 Source'!B2395,\"\")","v":""},{"$f":"IF('Line 1 Source'!C2395<>\"\",'Line 1 Source'!C2395,\"\")","v":""},{"$f":"IF('Line 1 Source'!D2395<>\"\",'Line 1 Source'!D2395,\"\")","v":""},{"$f":"IF('Line 1 Source'!E2395<>\"\",'Line 1 Source'!E2395,\"\")","v":""},{"$f":"IF('Line 1 Source'!F2395<>\"\",'Line 1 Source'!F2395,\"\")","v":""}]
[{"$f":"IF('Line 1 Source'!A2396<>\"\",'Line 1 Source'!A2396,\"\")","v":""},"",{"$f":"CONCATENATE(VLOOKUP(B2396,'School List'!$B$3:$H$291,6,FALSE),H2396)","v":{"$error":"#N/A"}},{"$f":"CONCATENATE(VLOOKUP(B2396,'School List'!$B$3:$D$291,3,FALSE),H2396)","v":{"$error":"#N/A"}},{"$f":"IF('Line 1 Source'!B2396<>\"\",'Line 1 Source'!B2396,\"\")","v":""},{"$f":"IF('Line 1 Source'!C2396<>\"\",'Line 1 Source'!C2396,\"\")","v":""},{"$f":"IF('Line 1 Source'!D2396<>\"\",'Line 1 Source'!D2396,\"\")","v":""},{"$f":"IF('Line 1 Source'!E2396<>\"\",'Line 1 Source'!E2396,\"\")","v":""},{"$f":"IF('Line 1 Source'!F2396<>\"\",'Line 1 Source'!F2396,\"\")","v":""}]
[{"$f":"IF('Line 1 Source'!A2397<>\"\",'Line 1 Source'!A2397,\"\")","v":""},"",{"$f":"CONCATENATE(VLOOKUP(B2397,'School List'!$B$3:$H$291,6,FALSE),H2397)","v":{"$error":"#N/A"}},{"$f":"CONCATENATE(VLOOKUP(B2397,'School List'!$B$3:$D$291,3,FALSE),H2397)","v":{"$error":"#N/A"}},{"$f":"IF('Line 1 Source'!B2397<>\"\",'Line 1 Source'!B2397,\"\")","v":""},{"$f":"IF('Line 1 Source'!C2397<>\"\",'Line 1 Source'!C2397,\"\")","v":""},{"$f":"IF('Line 1 Source'!D2397<>\"\",'Line 1 Source'!D2397,\"\")","v":""},{"$f":"IF('Line 1 Source'!E2397<>\"\",'Line 1 Source'!E2397,\"\")","v":""},{"$f":"IF('Line 1 Source'!F2397<>\"\",'Line 1 Source'!F2397,\"\")","v":""}]
[{"$f":"IF('Line 1 Source'!A2398<>\"\",'Line 1 Source'!A2398,\"\")","v":""},"",{"$f":"CONCATENATE(VLOOKUP(B2398,'School List'!$B$3:$H$291,6,FALSE),H2398)","v":{"$error":"#N/A"}},{"$f":"CONCATENATE(VLOOKUP(B2398,'School List'!$B$3:$D$291,3,FALSE),H2398)","v":{"$error":"#N/A"}},{"$f":"IF('Line 1 Source'!B2398<>\"\",'Line 1 Source'!B2398,\"\")","v":""},{"$f":"IF('Line 1 Source'!C2398<>\"\",'Line 1 Source'!C2398,\"\")","v":""},{"$f":"IF('Line 1 Source'!D2398<>\"\",'Line 1 Source'!D2398,\"\")","v":""},{"$f":"IF('Line 1 Source'!E2398<>\"\",'Line 1 Source'!E2398,\"\")","v":""},{"$f":"IF('Line 1 Source'!F2398<>\"\",'Line 1 Source'!F2398,\"\")","v":""}]
[{"$f":"IF('Line 1 Source'!A2399<>\"\",'Line 1 Source'!A2399,\"\")","v":""},"",{"$f":"CONCATENATE(VLOOKUP(B2399,'School List'!$B$3:$H$291,6,FALSE),H2399)","v":{"$error":"#N/A"}},{"$f":"CONCATENATE(VLOOKUP(B2399,'School List'!$B$3:$D$291,3,FALSE),H2399)","v":{"$error":"#N/A"}},{"$f":"IF('Line 1 Source'!B2399<>\"\",'Line 1 Source'!B2399,\"\")","v":""},{"$f":"IF('Line 1 Source'!C2399<>\"\",'Line 1 Source'!C2399,\"\")","v":""},{"$f":"IF('Line 1 Source'!D2399<>\"\",'Line 1 Source'!D2399,\"\")","v":""},{"$f":"IF('Line 1 Source'!E2399<>\"\",'Line 1 Source'!E2399,\"\")","v":""},{"$f":"IF('Line 1 Source'!F2399<>\"\",'Line 1 Source'!F2399,\"\")","v":""}]
[{"$f":"IF('Line 1 Source'!A2400<>\"\",'Line 1 Source'!A2400,\"\")","v":""},"",{"$f":"CONCATENATE(VLOOKUP(B2400,'School List'!$B$3:$H$291,6,FALSE),H2400)","v":{"$error":"#N/A"}},{"$f":"CONCATENATE(VLOOKUP(B2400,'School List'!$B$3:$D$291,3,FALSE),H2400)","v":{"$error":"#N/A"}},{"$f":"IF('Line 1 Source'!B2400<>\"\",'Line 1 Source'!B2400,\"\")","v":""},{"$f":"IF('Line 1 Source'!C2400<>\"\",'Line 1 Source'!C2400,\"\")","v":""},{"$f":"IF('Line 1 Source'!D2400<>\"\",'Line 1 Source'!D2400,\"\")","v":""},{"$f":"IF('Line 1 Source'!E2400<>\"\",'Line 1 Source'!E2400,\"\")","v":""},{"$f":"IF('Line 1 Source'!F2400<>\"\",'Line 1 Source'!F2400,\"\")","v":""}]
[{"$f":"IF('Line 1 Source'!A2401<>\"\",'Line 1 Source'!A2401,\"\")","v":""},"",{"$f":"CONCATENATE(VLOOKUP(B2401,'School List'!$B$3:$H$291,6,FALSE),H2401)","v":{"$error":"#N/A"}},{"$f":"CONCATENATE(VLOOKUP(B2401,'School List'!$B$3:$D$291,3,FALSE),H2401)","v":{"$error":"#N/A"}},{"$f":"IF('Line 1 Source'!B2401<>\"\",'Line 1 Source'!B2401,\"\")","v":""},{"$f":"IF('Line 1 Source'!C2401<>\"\",'Line 1 Source'!C2401,\"\")","v":""},{"$f":"IF('Line 1 Source'!D2401<>\"\",'Line 1 Source'!D2401,\"\")","v":""},{"$f":"IF('Line 1 Source'!E2401<>\"\",'Line 1 Source'!E2401,\"\")","v":""},{"$f":"IF('Line 1 Source'!F2401<>\"\",'Line 1 Source'!F2401,\"\")","v":""}]
[{"$f":"IF('Line 1 Source'!A2402<>\"\",'Line 1 Source'!A2402,\"\")","v":""},"",{"$f":"CONCATENATE(VLOOKUP(B2402,'School List'!$B$3:$H$291,6,FALSE),H2402)","v":{"$error":"#N/A"}},{"$f":"CONCATENATE(VLOOKUP(B2402,'School List'!$B$3:$D$291,3,FALSE),H2402)","v":{"$error":"#N/A"}},{"$f":"IF('Line 1 Source'!B2402<>\"\",'Line 1 Source'!B2402,\"\")","v":""},{"$f":"IF('Line 1 Source'!C2402<>\"\",'Line 1 Source'!C2402,\"\")","v":""},{"$f":"IF('Line 1 Source'!D2402<>\"\",'Line 1 Source'!D2402,\"\")","v":""},{"$f":"IF('Line 1 Source'!E2402<>\"\",'Line 1 Source'!E2402,\"\")","v":""},{"$f":"IF('Line 1 Source'!F2402<>\"\",'Line 1 Source'!F2402,\"\")","v":""}]
[{"$f":"IF('Line 1 Source'!A2403<>\"\",'Line 1 Source'!A2403,\"\")","v":""},"",{"$f":"CONCATENATE(VLOOKUP(B2403,'School List'!$B$3:$H$291,6,FALSE),H2403)","v":{"$error":"#N/A"}},{"$f":"CONCATENATE(VLOOKUP(B2403,'School List'!$B$3:$D$291,3,FALSE),H2403)","v":{"$error":"#N/A"}},{"$f":"IF('Line 1 Source'!B2403<>\"\",'Line 1 Source'!B2403,\"\")","v":""},{"$f":"IF('Line 1 Source'!C2403<>\"\",'Line 1 Source'!C2403,\"\")","v":""},{"$f":"IF('Line 1 Source'!D2403<>\"\",'Line 1 Source'!D2403,\"\")","v":""},{"$f":"IF('Line 1 Source'!E2403<>\"\",'Line 1 Source'!E2403,\"\")","v":""},{"$f":"IF('Line 1 Source'!F2403<>\"\",'Line 1 Source'!F2403,\"\")","v":""}]
[{"$f":"IF('Line 1 Source'!A2404<>\"\",'Line 1 Source'!A2404,\"\")","v":""},"",{"$f":"CONCATENATE(VLOOKUP(B2404,'School List'!$B$3:$H$291,6,FALSE),H2404)","v":{"$error":"#N/A"}},{"$f":"CONCATENATE(VLOOKUP(B2404,'School List'!$B$3:$D$291,3,FALSE),H2404)","v":{"$error":"#N/A"}},{"$f":"IF('Line 1 Source'!B2404<>\"\",'Line 1 Source'!B2404,\"\")","v":""},{"$f":"IF('Line 1 Source'!C2404<>\"\",'Line 1 Source'!C2404,\"\")","v":""},{"$f":"IF('Line 1 Source'!D2404<>\"\",'Line 1 Source'!D2404,\"\")","v":""},{"$f":"IF('Line 1 Source'!E2404<>\"\",'Line 1 Source'!E2404,\"\")","v":""},{"$f":"IF('Line 1 Source'!F2404<>\"\",'Line 1 Source'!F2404,\"\")","v":""}]
[{"$f":"IF('Line 1 Source'!A2405<>\"\",'Line 1 Source'!A2405,\"\")","v":""},"",{"$f":"CONCATENATE(VLOOKUP(B2405,'School List'!$B$3:$H$291,6,FALSE),H2405)","v":{"$error":"#N/A"}},{"$f":"CONCATENATE(VLOOKUP(B2405,'School List'!$B$3:$D$291,3,FALSE),H2405)","v":{"$error":"#N/A"}},{"$f":"IF('Line 1 Source'!B2405<>\"\",'Line 1 Source'!B2405,\"\")","v":""},{"$f":"IF('Line 1 Source'!C2405<>\"\",'Line 1 Source'!C2405,\"\")","v":""},{"$f":"IF('Line 1 Source'!D2405<>\"\",'Line 1 Source'!D2405,\"\")","v":""},{"$f":"IF('Line 1 Source'!E2405<>\"\",'Line 1 Source'!E2405,\"\")","v":""},{"$f":"IF('Line 1 Source'!F2405<>\"\",'Line 1 Source'!F2405,\"\")","v":""}]
[{"$f":"IF('Line 1 Source'!A2406<>\"\",'Line 1 Source'!A2406,\"\")","v":""},"",{"$f":"CONCATENATE(VLOOKUP(B2406,'School List'!$B$3:$H$291,6,FALSE),H2406)","v":{"$error":"#N/A"}},{"$f":"CONCATENATE(VLOOKUP(B2406,'School List'!$B$3:$D$291,3,FALSE),H2406)","v":{"$error":"#N/A"}},{"$f":"IF('Line 1 Source'!B2406<>\"\",'Line 1 Source'!B2406,\"\")","v":""},{"$f":"IF('Line 1 Source'!C2406<>\"\",'Line 1 Source'!C2406,\"\")","v":""},{"$f":"IF('Line 1 Source'!D2406<>\"\",'Line 1 Source'!D2406,\"\")","v":""},{"$f":"IF('Line 1 Source'!E2406<>\"\",'Line 1 Source'!E2406,\"\")","v":""},{"$f":"IF('Line 1 Source'!F2406<>\"\",'Line 1 Source'!F2406,\"\")","v":""}]
[{"$f":"IF('Line 1 Source'!A2407<>\"\",'Line 1 Source'!A2407,\"\")","v":""},"",{"$f":"CONCATENATE(VLOOKUP(B2407,'School List'!$B$3:$H$291,6,FALSE),H2407)","v":{"$error":"#N/A"}},{"$f":"CONCATENATE(VLOOKUP(B2407,'School List'!$B$3:$D$291,3,FALSE),H2407)","v":{"$error":"#N/A"}},{"$f":"IF('Line 1 Source'!B2407<>\"\",'Line 1 Source'!B2407,\"\")","v":""},{"$f":"IF('Line 1 Source'!C2407<>\"\",'Line 1 Source'!C2407,\"\")","v":""},{"$f":"IF('Line 1 Source'!D2407<>\"\",'Line 1 Source'!D2407,\"\")","v":""},{"$f":"IF('Line 1 Source'!E2407<>\"\",'Line 1 Source'!E2407,\"\")","v":""},{"$f":"IF('Line 1 Source'!F2407<>\"\",'Line 1 Source'!F2407,\"\")","v":""}]
[{"$f":"IF('Line 1 Source'!A2408<>\"\",'Line 1 Source'!A2408,\"\")","v":""},"",{"$f":"CONCATENATE(VLOOKUP(B2408,'School List'!$B$3:$H$291,6,FALSE),H2408)","v":{"$error":"#N/A"}},{"$f":"CONCATENATE(VLOOKUP(B2408,'School List'!$B$3:$D$291,3,FALSE),H2408)","v":{"$error":"#N/A"}},{"$f":"IF('Line 1 Source'!B2408<>\"\",'Line 1 Source'!B2408,\"\")","v":""},{"$f":"IF('Line 1 Source'!C2408<>\"\",'Line 1 Source'!C2408,\"\")","v":""},{"$f":"IF('Line 1 Source'!D2408<>\"\",'Line 1 Source'!D2408,\"\")","v":""},{"$f":"IF('Line 1 Source'!E2408<>\"\",'Line 1 Source'!E2408,\"\")","v":""},{"$f":"IF('Line 1 Source'!F2408<>\"\",'Line 1 Source'!F2408,\"\")","v":""}]
[{"$f":"IF('Line 1 Source'!A2409<>\"\",'Line 1 Source'!A2409,\"\")","v":""},"",{"$f":"CONCATENATE(VLOOKUP(B2409,'School List'!$B$3:$H$291,6,FALSE),H2409)","v":{"$error":"#N/A"}},{"$f":"CONCATENATE(VLOOKUP(B2409,'School List'!$B$3:$D$291,3,FALSE),H2409)","v":{"$error":"#N/A"}},{"$f":"IF('Line 1 Source'!B2409<>\"\",'Line 1 Source'!B2409,\"\")","v":""},{"$f":"IF('Line 1 Source'!C2409<>\"\",'Line 1 Source'!C2409,\"\")","v":""},{"$f":"IF('Line 1 Source'!D2409<>\"\",'Line 1 Source'!D2409,\"\")","v":""},{"$f":"IF('Line 1 Source'!E2409<>\"\",'Line 1 Source'!E2409,\"\")","v":""},{"$f":"IF('Line 1 Source'!F2409<>\"\",'Line 1 Source'!F2409,\"\")","v":""}]
[{"$f":"IF('Line 1 Source'!A2410<>\"\",'Line 1 Source'!A2410,\"\")","v":""},"",{"$f":"CONCATENATE(VLOOKUP(B2410,'School List'!$B$3:$H$291,6,FALSE),H2410)","v":{"$error":"#N/A"}},{"$f":"CONCATENATE(VLOOKUP(B2410,'School List'!$B$3:$D$291,3,FALSE),H2410)","v":{"$error":"#N/A"}},{"$f":"IF('Line 1 Source'!B2410<>\"\",'Line 1 Source'!B2410,\"\")","v":""},{"$f":"IF('Line 1 Source'!C2410<>\"\",'Line 1 Source'!C2410,\"\")","v":""},{"$f":"IF('Line 1 Source'!D2410<>\"\",'Line 1 Source'!D2410,\"\")","v":""},{"$f":"IF('Line 1 Source'!E2410<>\"\",'Line 1 Source'!E2410,\"\")","v":""},{"$f":"IF('Line 1 Source'!F2410<>\"\",'Line 1 Source'!F2410,\"\")","v":""}]
[{"$f":"IF('Line 1 Source'!A2411<>\"\",'Line 1 Source'!A2411,\"\")","v":""},"",{"$f":"CONCATENATE(VLOOKUP(B2411,'School List'!$B$3:$H$291,6,FALSE),H2411)","v":{"$error":"#N/A"}},{"$f":"CONCATENATE(VLOOKUP(B2411,'School List'!$B$3:$D$291,3,FALSE),H2411)","v":{"$error":"#N/A"}},{"$f":"IF('Line 1 Source'!B2411<>\"\",'Line 1 Source'!B2411,\"\")","v":""},{"$f":"IF('Line 1 Source'!C2411<>\"\",'Line 1 Source'!C2411,\"\")","v":""},{"$f":"IF('Line 1 Source'!D2411<>\"\",'Line 1 Source'!D2411,\"\")","v":""},{"$f":"IF('Line 1 Source'!E2411<>\"\",'Line 1 Source'!E2411,\"\")","v":""},{"$f":"IF('Line 1 Source'!F2411<>\"\",'Line 1 Source'!F2411,\"\")","v":""}]
[{"$f":"IF('Line 1 Source'!A2412<>\"\",'Line 1 Source'!A2412,\"\")","v":""},"",{"$f":"CONCATENATE(VLOOKUP(B2412,'School List'!$B$3:$H$291,6,FALSE),H2412)","v":{"$error":"#N/A"}},{"$f":"CONCATENATE(VLOOKUP(B2412,'School List'!$B$3:$D$291,3,FALSE),H2412)","v":{"$error":"#N/A"}},{"$f":"IF('Line 1 Source'!B2412<>\"\",'Line 1 Source'!B2412,\"\")","v":""},{"$f":"IF('Line 1 Source'!C2412<>\"\",'Line 1 Source'!C2412,\"\")","v":""},{"$f":"IF('Line 1 Source'!D2412<>\"\",'Line 1 Source'!D2412,\"\")","v":""},{"$f":"IF('Line 1 Source'!E2412<>\"\",'Line 1 Source'!E2412,\"\")","v":""},{"$f":"IF('Line 1 Source'!F2412<>\"\",'Line 1 Source'!F2412,\"\")","v":""}]
[{"$f":"IF('Line 1 Source'!A2413<>\"\",'Line 1 Source'!A2413,\"\")","v":""},"",{"$f":"CONCATENATE(VLOOKUP(B2413,'School List'!$B$3:$H$291,6,FALSE),H2413)","v":{"$error":"#N/A"}},{"$f":"CONCATENATE(VLOOKUP(B2413,'School List'!$B$3:$D$291,3,FALSE),H2413)","v":{"$error":"#N/A"}},{"$f":"IF('Line 1 Source'!B2413<>\"\",'Line 1 Source'!B2413,\"\")","v":""},{"$f":"IF('Line 1 Source'!C2413<>\"\",'Line 1 Source'!C2413,\"\")","v":""},{"$f":"IF('Line 1 Source'!D2413<>\"\",'Line 1 Source'!D2413,\"\")","v":""},{"$f":"IF('Line 1 Source'!E2413<>\"\",'Line 1 Source'!E2413,\"\")","v":""},{"$f":"IF('Line 1 Source'!F2413<>\"\",'Line 1 Source'!F2413,\"\")","v":""}]
[{"$f":"IF('Line 1 Source'!A2414<>\"\",'Line 1 Source'!A2414,\"\")","v":""},"",{"$f":"CONCATENATE(VLOOKUP(B2414,'School List'!$B$3:$H$291,6,FALSE),H2414)","v":{"$error":"#N/A"}},{"$f":"CONCATENATE(VLOOKUP(B2414,'School List'!$B$3:$D$291,3,FALSE),H2414)","v":{"$error":"#N/A"}},{"$f":"IF('Line 1 Source'!B2414<>\"\",'Line 1 Source'!B2414,\"\")","v":""},{"$f":"IF('Line 1 Source'!C2414<>\"\",'Line 1 Source'!C2414,\"\")","v":""},{"$f":"IF('Line 1 Source'!D2414<>\"\",'Line 1 Source'!D2414,\"\")","v":""},{"$f":"IF('Line 1 Source'!E2414<>\"\",'Line 1 Source'!E2414,\"\")","v":""},{"$f":"IF('Line 1 Source'!F2414<>\"\",'Line 1 Source'!F2414,\"\")","v":""}]
[{"$f":"IF('Line 1 Source'!A2415<>\"\",'Line 1 Source'!A2415,\"\")","v":""},"",{"$f":"CONCATENATE(VLOOKUP(B2415,'School List'!$B$3:$H$291,6,FALSE),H2415)","v":{"$error":"#N/A"}},{"$f":"CONCATENATE(VLOOKUP(B2415,'School List'!$B$3:$D$291,3,FALSE),H2415)","v":{"$error":"#N/A"}},{"$f":"IF('Line 1 Source'!B2415<>\"\",'Line 1 Source'!B2415,\"\")","v":""},{"$f":"IF('Line 1 Source'!C2415<>\"\",'Line 1 Source'!C2415,\"\")","v":""},{"$f":"IF('Line 1 Source'!D2415<>\"\",'Line 1 Source'!D2415,\"\")","v":""},{"$f":"IF('Line 1 Source'!E2415<>\"\",'Line 1 Source'!E2415,\"\")","v":""},{"$f":"IF('Line 1 Source'!F2415<>\"\",'Line 1 Source'!F2415,\"\")","v":""}]
[{"$f":"IF('Line 1 Source'!A2416<>\"\",'Line 1 Source'!A2416,\"\")","v":""},"",{"$f":"CONCATENATE(VLOOKUP(B2416,'School List'!$B$3:$H$291,6,FALSE),H2416)","v":{"$error":"#N/A"}},{"$f":"CONCATENATE(VLOOKUP(B2416,'School List'!$B$3:$D$291,3,FALSE),H2416)","v":{"$error":"#N/A"}},{"$f":"IF('Line 1 Source'!B2416<>\"\",'Line 1 Source'!B2416,\"\")","v":""},{"$f":"IF('Line 1 Source'!C2416<>\"\",'Line 1 Source'!C2416,\"\")","v":""},{"$f":"IF('Line 1 Source'!D2416<>\"\",'Line 1 Source'!D2416,\"\")","v":""},{"$f":"IF('Line 1 Source'!E2416<>\"\",'Line 1 Source'!E2416,\"\")","v":""},{"$f":"IF('Line 1 Source'!F2416<>\"\",'Line 1 Source'!F2416,\"\")","v":""}]
[{"$f":"IF('Line 1 Source'!A2417<>\"\",'Line 1 Source'!A2417,\"\")","v":""},"",{"$f":"CONCATENATE(VLOOKUP(B2417,'School List'!$B$3:$H$291,6,FALSE),H2417)","v":{"$error":"#N/A"}},{"$f":"CONCATENATE(VLOOKUP(B2417,'School List'!$B$3:$D$291,3,FALSE),H2417)","v":{"$error":"#N/A"}},{"$f":"IF('Line 1 Source'!B2417<>\"\",'Line 1 Source'!B2417,\"\")","v":""},{"$f":"IF('Line 1 Source'!C2417<>\"\",'Line 1 Source'!C2417,\"\")","v":""},{"$f":"IF('Line 1 Source'!D2417<>\"\",'Line 1 Source'!D2417,\"\")","v":""},{"$f":"IF('Line 1 Source'!E2417<>\"\",'Line 1 Source'!E2417,\"\")","v":""},{"$f":"IF('Line 1 Source'!F2417<>\"\",'Line 1 Source'!F2417,\"\")","v":""}]
[{"$f":"IF('Line 1 Source'!A2418<>\"\",'Line 1 Source'!A2418,\"\")","v":""},"",{"$f":"CONCATENATE(VLOOKUP(B2418,'School List'!$B$3:$H$291,6,FALSE),H2418)","v":{"$error":"#N/A"}},{"$f":"CONCATENATE(VLOOKUP(B2418,'School List'!$B$3:$D$291,3,FALSE),H2418)","v":{"$error":"#N/A"}},{"$f":"IF('Line 1 Source'!B2418<>\"\",'Line 1 Source'!B2418,\"\")","v":""},{"$f":"IF('Line 1 Source'!C2418<>\"\",'Line 1 Source'!C2418,\"\")","v":""},{"$f":"IF('Line 1 Source'!D2418<>\"\",'Line 1 Source'!D2418,\"\")","v":""},{"$f":"IF('Line 1 Source'!E2418<>\"\",'Line 1 Source'!E2418,\"\")","v":""},{"$f":"IF('Line 1 Source'!F2418<>\"\",'Line 1 Source'!F2418,\"\")","v":""}]
[{"$f":"IF('Line 1 Source'!A2419<>\"\",'Line 1 Source'!A2419,\"\")","v":""},"",{"$f":"CONCATENATE(VLOOKUP(B2419,'School List'!$B$3:$H$291,6,FALSE),H2419)","v":{"$error":"#N/A"}},{"$f":"CONCATENATE(VLOOKUP(B2419,'School List'!$B$3:$D$291,3,FALSE),H2419)","v":{"$error":"#N/A"}},{"$f":"IF('Line 1 Source'!B2419<>\"\",'Line 1 Source'!B2419,\"\")","v":""},{"$f":"IF('Line 1 Source'!C2419<>\"\",'Line 1 Source'!C2419,\"\")","v":""},{"$f":"IF('Line 1 Source'!D2419<>\"\",'Line 1 Source'!D2419,\"\")","v":""},{"$f":"IF('Line 1 Source'!E2419<>\"\",'Line 1 Source'!E2419,\"\")","v":""},{"$f":"IF('Line 1 Source'!F2419<>\"\",'Line 1 Source'!F2419,\"\")","v":""}]
[{"$f":"IF('Line 1 Source'!A2420<>\"\",'Line 1 Source'!A2420,\"\")","v":""},"",{"$f":"CONCATENATE(VLOOKUP(B2420,'School List'!$B$3:$H$291,6,FALSE),H2420)","v":{"$error":"#N/A"}},{"$f":"CONCATENATE(VLOOKUP(B2420,'School List'!$B$3:$D$291,3,FALSE),H2420)","v":{"$error":"#N/A"}},{"$f":"IF('Line 1 Source'!B2420<>\"\",'Line 1 Source'!B2420,\"\")","v":""},{"$f":"IF('Line 1 Source'!C2420<>\"\",'Line 1 Source'!C2420,\"\")","v":""},{"$f":"IF('Line 1 Source'!D2420<>\"\",'Line 1 Source'!D2420,\"\")","v":""},{"$f":"IF('Line 1 Source'!E2420<>\"\",'Line 1 Source'!E2420,\"\")","v":""},{"$f":"IF('Line 1 Source'!F2420<>\"\",'Line 1 Source'!F2420,\"\")","v":""}]
[{"$f":"IF('Line 1 Source'!A2421<>\"\",'Line 1 Source'!A2421,\"\")","v":""},"",{"$f":"CONCATENATE(VLOOKUP(B2421,'School List'!$B$3:$H$291,6,FALSE),H2421)","v":{"$error":"#N/A"}},{"$f":"CONCATENATE(VLOOKUP(B2421,'School List'!$B$3:$D$291,3,FALSE),H2421)","v":{"$error":"#N/A"}},{"$f":"IF('Line 1 Source'!B2421<>\"\",'Line 1 Source'!B2421,\"\")","v":""},{"$f":"IF('Line 1 Source'!C2421<>\"\",'Line 1 Source'!C2421,\"\")","v":""},{"$f":"IF('Line 1 Source'!D2421<>\"\",'Line 1 Source'!D2421,\"\")","v":""},{"$f":"IF('Line 1 Source'!E2421<>\"\",'Line 1 Source'!E2421,\"\")","v":""},{"$f":"IF('Line 1 Source'!F2421<>\"\",'Line 1 Source'!F2421,\"\")","v":""}]
[{"$f":"IF('Line 1 Source'!A2422<>\"\",'Line 1 Source'!A2422,\"\")","v":""},"",{"$f":"CONCATENATE(VLOOKUP(B2422,'School List'!$B$3:$H$291,6,FALSE),H2422)","v":{"$error":"#N/A"}},{"$f":"CONCATENATE(VLOOKUP(B2422,'School List'!$B$3:$D$291,3,FALSE),H2422)","v":{"$error":"#N/A"}},{"$f":"IF('Line 1 Source'!B2422<>\"\",'Line 1 Source'!B2422,\"\")","v":""},{"$f":"IF('Line 1 Source'!C2422<>\"\",'Line 1 Source'!C2422,\"\")","v":""},{"$f":"IF('Line 1 Source'!D2422<>\"\",'Line 1 Source'!D2422,\"\")","v":""},{"$f":"IF('Line 1 Source'!E2422<>\"\",'Line 1 Source'!E2422,\"\")","v":""},{"$f":"IF('Line 1 Source'!F2422<>\"\",'Line 1 Source'!F2422,\"\")","v":""}]
[{"$f":"IF('Line 1 Source'!A2423<>\"\",'Line 1 Source'!A2423,\"\")","v":""},"",{"$f":"CONCATENATE(VLOOKUP(B2423,'School List'!$B$3:$H$291,6,FALSE),H2423)","v":{"$error":"#N/A"}},{"$f":"CONCATENATE(VLOOKUP(B2423,'School List'!$B$3:$D$291,3,FALSE),H2423)","v":{"$error":"#N/A"}},{"$f":"IF('Line 1 Source'!B2423<>\"\",'Line 1 Source'!B2423,\"\")","v":""},{"$f":"IF('Line 1 Source'!C2423<>\"\",'Line 1 Source'!C2423,\"\")","v":""},{"$f":"IF('Line 1 Source'!D2423<>\"\",'Line 1 Source'!D2423,\"\")","v":""},{"$f":"IF('Line 1 Source'!E2423<>\"\",'Line 1 Source'!E2423,\"\")","v":""},{"$f":"IF('Line 1 Source'!F2423<>\"\",'Line 1 Source'!F2423,\"\")","v":""}]
[{"$f":"IF('Line 1 Source'!A2424<>\"\",'Line 1 Source'!A2424,\"\")","v":""},"",{"$f":"CONCATENATE(VLOOKUP(B2424,'School List'!$B$3:$H$291,6,FALSE),H2424)","v":{"$error":"#N/A"}},{"$f":"CONCATENATE(VLOOKUP(B2424,'School List'!$B$3:$D$291,3,FALSE),H2424)","v":{"$error":"#N/A"}},{"$f":"IF('Line 1 Source'!B2424<>\"\",'Line 1 Source'!B2424,\"\")","v":""},{"$f":"IF('Line 1 Source'!C2424<>\"\",'Line 1 Source'!C2424,\"\")","v":""},{"$f":"IF('Line 1 Source'!D2424<>\"\",'Line 1 Source'!D2424,\"\")","v":""},{"$f":"IF('Line 1 Source'!E2424<>\"\",'Line 1 Source'!E2424,\"\")","v":""},{"$f":"IF('Line 1 Source'!F2424<>\"\",'Line 1 Source'!F2424,\"\")","v":""}]
[{"$f":"IF('Line 1 Source'!A2425<>\"\",'Line 1 Source'!A2425,\"\")","v":""},"",{"$f":"CONCATENATE(VLOOKUP(B2425,'School List'!$B$3:$H$291,6,FALSE),H2425)","v":{"$error":"#N/A"}},{"$f":"CONCATENATE(VLOOKUP(B2425,'School List'!$B$3:$D$291,3,FALSE),H2425)","v":{"$error":"#N/A"}},{"$f":"IF('Line 1 Source'!B2425<>\"\",'Line 1 Source'!B2425,\"\")","v":""},{"$f":"IF('Line 1 Source'!C2425<>\"\",'Line 1 Source'!C2425,\"\")","v":""},{"$f":"IF('Line 1 Source'!D2425<>\"\",'Line 1 Source'!D2425,\"\")","v":""},{"$f":"IF('Line 1 Source'!E2425<>\"\",'Line 1 Source'!E2425,\"\")","v":""},{"$f":"IF('Line 1 Source'!F2425<>\"\",'Line 1 Source'!F2425,\"\")","v":""}]
[{"$f":"IF('Line 1 Source'!A2426<>\"\",'Line 1 Source'!A2426,\"\")","v":""},"",{"$f":"CONCATENATE(VLOOKUP(B2426,'School List'!$B$3:$H$291,6,FALSE),H2426)","v":{"$error":"#N/A"}},{"$f":"CONCATENATE(VLOOKUP(B2426,'School List'!$B$3:$D$291,3,FALSE),H2426)","v":{"$error":"#N/A"}},{"$f":"IF('Line 1 Source'!B2426<>\"\",'Line 1 Source'!B2426,\"\")","v":""},{"$f":"IF('Line 1 Source'!C2426<>\"\",'Line 1 Source'!C2426,\"\")","v":""},{"$f":"IF('Line 1 Source'!D2426<>\"\",'Line 1 Source'!D2426,\"\")","v":""},{"$f":"IF('Line 1 Source'!E2426<>\"\",'Line 1 Source'!E2426,\"\")","v":""},{"$f":"IF('Line 1 Source'!F2426<>\"\",'Line 1 Source'!F2426,\"\")","v":""}]
[{"$f":"IF('Line 1 Source'!A2427<>\"\",'Line 1 Source'!A2427,\"\")","v":""},"",{"$f":"CONCATENATE(VLOOKUP(B2427,'School List'!$B$3:$H$291,6,FALSE),H2427)","v":{"$error":"#N/A"}},{"$f":"CONCATENATE(VLOOKUP(B2427,'School List'!$B$3:$D$291,3,FALSE),H2427)","v":{"$error":"#N/A"}},{"$f":"IF('Line 1 Source'!B2427<>\"\",'Line 1 Source'!B2427,\"\")","v":""},{"$f":"IF('Line 1 Source'!C2427<>\"\",'Line 1 Source'!C2427,\"\")","v":""},{"$f":"IF('Line 1 Source'!D2427<>\"\",'Line 1 Source'!D2427,\"\")","v":""},{"$f":"IF('Line 1 Source'!E2427<>\"\",'Line 1 Source'!E2427,\"\")","v":""},{"$f":"IF('Line 1 Source'!F2427<>\"\",'Line 1 Source'!F2427,\"\")","v":""}]
[{"$f":"IF('Line 1 Source'!A2428<>\"\",'Line 1 Source'!A2428,\"\")","v":""},"",{"$f":"CONCATENATE(VLOOKUP(B2428,'School List'!$B$3:$H$291,6,FALSE),H2428)","v":{"$error":"#N/A"}},{"$f":"CONCATENATE(VLOOKUP(B2428,'School List'!$B$3:$D$291,3,FALSE),H2428)","v":{"$error":"#N/A"}},{"$f":"IF('Line 1 Source'!B2428<>\"\",'Line 1 Source'!B2428,\"\")","v":""},{"$f":"IF('Line 1 Source'!C2428<>\"\",'Line 1 Source'!C2428,\"\")","v":""},{"$f":"IF('Line 1 Source'!D2428<>\"\",'Line 1 Source'!D2428,\"\")","v":""},{"$f":"IF('Line 1 Source'!E2428<>\"\",'Line 1 Source'!E2428,\"\")","v":""},{"$f":"IF('Line 1 Source'!F2428<>\"\",'Line 1 Source'!F2428,\"\")","v":""}]
[{"$f":"IF('Line 1 Source'!A2429<>\"\",'Line 1 Source'!A2429,\"\")","v":""},"",{"$f":"CONCATENATE(VLOOKUP(B2429,'School List'!$B$3:$H$291,6,FALSE),H2429)","v":{"$error":"#N/A"}},{"$f":"CONCATENATE(VLOOKUP(B2429,'School List'!$B$3:$D$291,3,FALSE),H2429)","v":{"$error":"#N/A"}},{"$f":"IF('Line 1 Source'!B2429<>\"\",'Line 1 Source'!B2429,\"\")","v":""},{"$f":"IF('Line 1 Source'!C2429<>\"\",'Line 1 Source'!C2429,\"\")","v":""},{"$f":"IF('Line 1 Source'!D2429<>\"\",'Line 1 Source'!D2429,\"\")","v":""},{"$f":"IF('Line 1 Source'!E2429<>\"\",'Line 1 Source'!E2429,\"\")","v":""},{"$f":"IF('Line 1 Source'!F2429<>\"\",'Line 1 Source'!F2429,\"\")","v":""}]
[{"$f":"IF('Line 1 Source'!A2430<>\"\",'Line 1 Source'!A2430,\"\")","v":""},"",{"$f":"CONCATENATE(VLOOKUP(B2430,'School List'!$B$3:$H$291,6,FALSE),H2430)","v":{"$error":"#N/A"}},{"$f":"CONCATENATE(VLOOKUP(B2430,'School List'!$B$3:$D$291,3,FALSE),H2430)","v":{"$error":"#N/A"}},{"$f":"IF('Line 1 Source'!B2430<>\"\",'Line 1 Source'!B2430,\"\")","v":""},{"$f":"IF('Line 1 Source'!C2430<>\"\",'Line 1 Source'!C2430,\"\")","v":""},{"$f":"IF('Line 1 Source'!D2430<>\"\",'Line 1 Source'!D2430,\"\")","v":""},{"$f":"IF('Line 1 Source'!E2430<>\"\",'Line 1 Source'!E2430,\"\")","v":""},{"$f":"IF('Line 1 Source'!F2430<>\"\",'Line 1 Source'!F2430,\"\")","v":""}]
[{"$f":"IF('Line 1 Source'!A2431<>\"\",'Line 1 Source'!A2431,\"\")","v":""},"",{"$f":"CONCATENATE(VLOOKUP(B2431,'School List'!$B$3:$H$291,6,FALSE),H2431)","v":{"$error":"#N/A"}},{"$f":"CONCATENATE(VLOOKUP(B2431,'School List'!$B$3:$D$291,3,FALSE),H2431)","v":{"$error":"#N/A"}},{"$f":"IF('Line 1 Source'!B2431<>\"\",'Line 1 Source'!B2431,\"\")","v":""},{"$f":"IF('Line 1 Source'!C2431<>\"\",'Line 1 Source'!C2431,\"\")","v":""},{"$f":"IF('Line 1 Source'!D2431<>\"\",'Line 1 Source'!D2431,\"\")","v":""},{"$f":"IF('Line 1 Source'!E2431<>\"\",'Line 1 Source'!E2431,\"\")","v":""},{"$f":"IF('Line 1 Source'!F2431<>\"\",'Line 1 Source'!F2431,\"\")","v":""}]
[{"$f":"IF('Line 1 Source'!A2432<>\"\",'Line 1 Source'!A2432,\"\")","v":""},"",{"$f":"CONCATENATE(VLOOKUP(B2432,'School List'!$B$3:$H$291,6,FALSE),H2432)","v":{"$error":"#N/A"}},{"$f":"CONCATENATE(VLOOKUP(B2432,'School List'!$B$3:$D$291,3,FALSE),H2432)","v":{"$error":"#N/A"}},{"$f":"IF('Line 1 Source'!B2432<>\"\",'Line 1 Source'!B2432,\"\")","v":""},{"$f":"IF('Line 1 Source'!C2432<>\"\",'Line 1 Source'!C2432,\"\")","v":""},{"$f":"IF('Line 1 Source'!D2432<>\"\",'Line 1 Source'!D2432,\"\")","v":""},{"$f":"IF('Line 1 Source'!E2432<>\"\",'Line 1 Source'!E2432,\"\")","v":""},{"$f":"IF('Line 1 Source'!F2432<>\"\",'Line 1 Source'!F2432,\"\")","v":""}]
[{"$f":"IF('Line 1 Source'!A2433<>\"\",'Line 1 Source'!A2433,\"\")","v":""},"",{"$f":"CONCATENATE(VLOOKUP(B2433,'School List'!$B$3:$H$291,6,FALSE),H2433)","v":{"$error":"#N/A"}},{"$f":"CONCATENATE(VLOOKUP(B2433,'School List'!$B$3:$D$291,3,FALSE),H2433)","v":{"$error":"#N/A"}},{"$f":"IF('Line 1 Source'!B2433<>\"\",'Line 1 Source'!B2433,\"\")","v":""},{"$f":"IF('Line 1 Source'!C2433<>\"\",'Line 1 Source'!C2433,\"\")","v":""},{"$f":"IF('Line 1 Source'!D2433<>\"\",'Line 1 Source'!D2433,\"\")","v":""},{"$f":"IF('Line 1 Source'!E2433<>\"\",'Line 1 Source'!E2433,\"\")","v":""},{"$f":"IF('Line 1 Source'!F2433<>\"\",'Line 1 Source'!F2433,\"\")","v":""}]
[{"$f":"IF('Line 1 Source'!A2434<>\"\",'Line 1 Source'!A2434,\"\")","v":""},"",{"$f":"CONCATENATE(VLOOKUP(B2434,'School List'!$B$3:$H$291,6,FALSE),H2434)","v":{"$error":"#N/A"}},{"$f":"CONCATENATE(VLOOKUP(B2434,'School List'!$B$3:$D$291,3,FALSE),H2434)","v":{"$error":"#N/A"}},{"$f":"IF('Line 1 Source'!B2434<>\"\",'Line 1 Source'!B2434,\"\")","v":""},{"$f":"IF('Line 1 Source'!C2434<>\"\",'Line 1 Source'!C2434,\"\")","v":""},{"$f":"IF('Line 1 Source'!D2434<>\"\",'Line 1 Source'!D2434,\"\")","v":""},{"$f":"IF('Line 1 Source'!E2434<>\"\",'Line 1 Source'!E2434,\"\")","v":""},{"$f":"IF('Line 1 Source'!F2434<>\"\",'Line 1 Source'!F2434,\"\")","v":""}]
[{"$f":"IF('Line 1 Source'!A2435<>\"\",'Line 1 Source'!A2435,\"\")","v":""},{"$f":"CONCATENATE(E2435,F2435,G2435)","v":""},{"$f":"CONCATENATE(VLOOKUP(B2435,'School List'!$B$3:$H$291,6,FALSE),H2435)","v":{"$error":"#N/A"}},{"$f":"CONCATENATE(VLOOKUP(B2435,'School List'!$B$3:$D$291,3,FALSE),H2435)","v":{"$error":"#N/A"}},{"$f":"IF('Line 1 Source'!B2435<>\"\",'Line 1 Source'!B2435,\"\")","v":""},{"$f":"IF('Line 1 Source'!C2435<>\"\",'Line 1 Source'!C2435,\"\")","v":""},{"$f":"IF('Line 1 Source'!D2435<>\"\",'Line 1 Source'!D2435,\"\")","v":""},{"$f":"IF('Line 1 Source'!E2435<>\"\",'Line 1 Source'!E2435,\"\")","v":""},{"$f":"IF('Line 1 Source'!F2435<>\"\",'Line 1 Source'!F2435,\"\")","v":""}]
[{"$f":"IF('Line 1 Source'!A2436<>\"\",'Line 1 Source'!A2436,\"\")","v":""},"",{"$f":"CONCATENATE(VLOOKUP(B2436,'School List'!$B$3:$H$291,6,FALSE),H2436)","v":{"$error":"#N/A"}},{"$f":"CONCATENATE(VLOOKUP(B2436,'School List'!$B$3:$D$291,3,FALSE),H2436)","v":{"$error":"#N/A"}},{"$f":"IF('Line 1 Source'!B2436<>\"\",'Line 1 Source'!B2436,\"\")","v":""},{"$f":"IF('Line 1 Source'!C2436<>\"\",'Line 1 Source'!C2436,\"\")","v":""},{"$f":"IF('Line 1 Source'!D2436<>\"\",'Line 1 Source'!D2436,\"\")","v":""},{"$f":"IF('Line 1 Source'!E2436<>\"\",'Line 1 Source'!E2436,\"\")","v":""},{"$f":"IF('Line 1 Source'!F2436<>\"\",'Line 1 Source'!F2436,\"\")","v":""}]
[{"$f":"IF('Line 1 Source'!A2437<>\"\",'Line 1 Source'!A2437,\"\")","v":""},"",{"$f":"CONCATENATE(VLOOKUP(B2437,'School List'!$B$3:$H$291,6,FALSE),H2437)","v":{"$error":"#N/A"}},{"$f":"CONCATENATE(VLOOKUP(B2437,'School List'!$B$3:$D$291,3,FALSE),H2437)","v":{"$error":"#N/A"}},{"$f":"IF('Line 1 Source'!B2437<>\"\",'Line 1 Source'!B2437,\"\")","v":""},{"$f":"IF('Line 1 Source'!C2437<>\"\",'Line 1 Source'!C2437,\"\")","v":""},{"$f":"IF('Line 1 Source'!D2437<>\"\",'Line 1 Source'!D2437,\"\")","v":""},{"$f":"IF('Line 1 Source'!E2437<>\"\",'Line 1 Source'!E2437,\"\")","v":""},{"$f":"IF('Line 1 Source'!F2437<>\"\",'Line 1 Source'!F2437,\"\")","v":""}]
[{"$f":"IF('Line 1 Source'!A2438<>\"\",'Line 1 Source'!A2438,\"\")","v":""},"",{"$f":"CONCATENATE(VLOOKUP(B2438,'School List'!$B$3:$H$291,6,FALSE),H2438)","v":{"$error":"#N/A"}},{"$f":"CONCATENATE(VLOOKUP(B2438,'School List'!$B$3:$D$291,3,FALSE),H2438)","v":{"$error":"#N/A"}},{"$f":"IF('Line 1 Source'!B2438<>\"\",'Line 1 Source'!B2438,\"\")","v":""},{"$f":"IF('Line 1 Source'!C2438<>\"\",'Line 1 Source'!C2438,\"\")","v":""},{"$f":"IF('Line 1 Source'!D2438<>\"\",'Line 1 Source'!D2438,\"\")","v":""},{"$f":"IF('Line 1 Source'!E2438<>\"\",'Line 1 Source'!E2438,\"\")","v":""},{"$f":"IF('Line 1 Source'!F2438<>\"\",'Line 1 Source'!F2438,\"\")","v":""}]
[{"$f":"IF('Line 1 Source'!A2439<>\"\",'Line 1 Source'!A2439,\"\")","v":""},"",{"$f":"CONCATENATE(VLOOKUP(B2439,'School List'!$B$3:$H$291,6,FALSE),H2439)","v":{"$error":"#N/A"}},{"$f":"CONCATENATE(VLOOKUP(B2439,'School List'!$B$3:$D$291,3,FALSE),H2439)","v":{"$error":"#N/A"}},{"$f":"IF('Line 1 Source'!B2439<>\"\",'Line 1 Source'!B2439,\"\")","v":""},{"$f":"IF('Line 1 Source'!C2439<>\"\",'Line 1 Source'!C2439,\"\")","v":""},{"$f":"IF('Line 1 Source'!D2439<>\"\",'Line 1 Source'!D2439,\"\")","v":""},{"$f":"IF('Line 1 Source'!E2439<>\"\",'Line 1 Source'!E2439,\"\")","v":""},{"$f":"IF('Line 1 Source'!F2439<>\"\",'Line 1 Source'!F2439,\"\")","v":""}]
[{"$f":"IF('Line 1 Source'!A2440<>\"\",'Line 1 Source'!A2440,\"\")","v":""},"",{"$f":"CONCATENATE(VLOOKUP(B2440,'School List'!$B$3:$H$291,6,FALSE),H2440)","v":{"$error":"#N/A"}},{"$f":"CONCATENATE(VLOOKUP(B2440,'School List'!$B$3:$D$291,3,FALSE),H2440)","v":{"$error":"#N/A"}},{"$f":"IF('Line 1 Source'!B2440<>\"\",'Line 1 Source'!B2440,\"\")","v":""},{"$f":"IF('Line 1 Source'!C2440<>\"\",'Line 1 Source'!C2440,\"\")","v":""},{"$f":"IF('Line 1 Source'!D2440<>\"\",'Line 1 Source'!D2440,\"\")","v":""},{"$f":"IF('Line 1 Source'!E2440<>\"\",'Line 1 Source'!E2440,\"\")","v":""},{"$f":"IF('Line 1 Source'!F2440<>\"\",'Line 1 Source'!F2440,\"\")","v":""}]
[{"$f":"IF('Line 1 Source'!A2441<>\"\",'Line 1 Source'!A2441,\"\")","v":""},"",{"$f":"CONCATENATE(VLOOKUP(B2441,'School List'!$B$3:$H$291,6,FALSE),H2441)","v":{"$error":"#N/A"}},{"$f":"CONCATENATE(VLOOKUP(B2441,'School List'!$B$3:$D$291,3,FALSE),H2441)","v":{"$error":"#N/A"}},{"$f":"IF('Line 1 Source'!B2441<>\"\",'Line 1 Source'!B2441,\"\")","v":""},{"$f":"IF('Line 1 Source'!C2441<>\"\",'Line 1 Source'!C2441,\"\")","v":""},{"$f":"IF('Line 1 Source'!D2441<>\"\",'Line 1 Source'!D2441,\"\")","v":""},{"$f":"IF('Line 1 Source'!E2441<>\"\",'Line 1 Source'!E2441,\"\")","v":""},{"$f":"IF('Line 1 Source'!F2441<>\"\",'Line 1 Source'!F2441,\"\")","v":""}]
[{"$f":"IF('Line 1 Source'!A2442<>\"\",'Line 1 Source'!A2442,\"\")","v":""},"",{"$f":"CONCATENATE(VLOOKUP(B2442,'School List'!$B$3:$H$291,6,FALSE),H2442)","v":{"$error":"#N/A"}},{"$f":"CONCATENATE(VLOOKUP(B2442,'School List'!$B$3:$D$291,3,FALSE),H2442)","v":{"$error":"#N/A"}},{"$f":"IF('Line 1 Source'!B2442<>\"\",'Line 1 Source'!B2442,\"\")","v":""},{"$f":"IF('Line 1 Source'!C2442<>\"\",'Line 1 Source'!C2442,\"\")","v":""},{"$f":"IF('Line 1 Source'!D2442<>\"\",'Line 1 Source'!D2442,\"\")","v":""},{"$f":"IF('Line 1 Source'!E2442<>\"\",'Line 1 Source'!E2442,\"\")","v":""},{"$f":"IF('Line 1 Source'!F2442<>\"\",'Line 1 Source'!F2442,\"\")","v":""}]
[{"$f":"IF('Line 1 Source'!A2443<>\"\",'Line 1 Source'!A2443,\"\")","v":""},"",{"$f":"CONCATENATE(VLOOKUP(B2443,'School List'!$B$3:$H$291,6,FALSE),H2443)","v":{"$error":"#N/A"}},{"$f":"CONCATENATE(VLOOKUP(B2443,'School List'!$B$3:$D$291,3,FALSE),H2443)","v":{"$error":"#N/A"}},{"$f":"IF('Line 1 Source'!B2443<>\"\",'Line 1 Source'!B2443,\"\")","v":""},{"$f":"IF('Line 1 Source'!C2443<>\"\",'Line 1 Source'!C2443,\"\")","v":""},{"$f":"IF('Line 1 Source'!D2443<>\"\",'Line 1 Source'!D2443,\"\")","v":""},{"$f":"IF('Line 1 Source'!E2443<>\"\",'Line 1 Source'!E2443,\"\")","v":""},{"$f":"IF('Line 1 Source'!F2443<>\"\",'Line 1 Source'!F2443,\"\")","v":""}]
[{"$f":"IF('Line 1 Source'!A2444<>\"\",'Line 1 Source'!A2444,\"\")","v":""},"",{"$f":"CONCATENATE(VLOOKUP(B2444,'School List'!$B$3:$H$291,6,FALSE),H2444)","v":{"$error":"#N/A"}},{"$f":"CONCATENATE(VLOOKUP(B2444,'School List'!$B$3:$D$291,3,FALSE),H2444)","v":{"$error":"#N/A"}},{"$f":"IF('Line 1 Source'!B2444<>\"\",'Line 1 Source'!B2444,\"\")","v":""},{"$f":"IF('Line 1 Source'!C2444<>\"\",'Line 1 Source'!C2444,\"\")","v":""},{"$f":"IF('Line 1 Source'!D2444<>\"\",'Line 1 Source'!D2444,\"\")","v":""},{"$f":"IF('Line 1 Source'!E2444<>\"\",'Line 1 Source'!E2444,\"\")","v":""},{"$f":"IF('Line 1 Source'!F2444<>\"\",'Line 1 Source'!F2444,\"\")","v":""}]
[{"$f":"IF('Line 1 Source'!A2445<>\"\",'Line 1 Source'!A2445,\"\")","v":""},"",{"$f":"CONCATENATE(VLOOKUP(B2445,'School List'!$B$3:$H$291,6,FALSE),H2445)","v":{"$error":"#N/A"}},{"$f":"CONCATENATE(VLOOKUP(B2445,'School List'!$B$3:$D$291,3,FALSE),H2445)","v":{"$error":"#N/A"}},{"$f":"IF('Line 1 Source'!B2445<>\"\",'Line 1 Source'!B2445,\"\")","v":""},{"$f":"IF('Line 1 Source'!C2445<>\"\",'Line 1 Source'!C2445,\"\")","v":""},{"$f":"IF('Line 1 Source'!D2445<>\"\",'Line 1 Source'!D2445,\"\")","v":""},{"$f":"IF('Line 1 Source'!E2445<>\"\",'Line 1 Source'!E2445,\"\")","v":""},{"$f":"IF('Line 1 Source'!F2445<>\"\",'Line 1 Source'!F2445,\"\")","v":""}]
[{"$f":"IF('Line 1 Source'!A2446<>\"\",'Line 1 Source'!A2446,\"\")","v":""},"",{"$f":"CONCATENATE(VLOOKUP(B2446,'School List'!$B$3:$H$291,6,FALSE),H2446)","v":{"$error":"#N/A"}},{"$f":"CONCATENATE(VLOOKUP(B2446,'School List'!$B$3:$D$291,3,FALSE),H2446)","v":{"$error":"#N/A"}},{"$f":"IF('Line 1 Source'!B2446<>\"\",'Line 1 Source'!B2446,\"\")","v":""},{"$f":"IF('Line 1 Source'!C2446<>\"\",'Line 1 Source'!C2446,\"\")","v":""},{"$f":"IF('Line 1 Source'!D2446<>\"\",'Line 1 Source'!D2446,\"\")","v":""},{"$f":"IF('Line 1 Source'!E2446<>\"\",'Line 1 Source'!E2446,\"\")","v":""},{"$f":"IF('Line 1 Source'!F2446<>\"\",'Line 1 Source'!F2446,\"\")","v":""}]
[{"$f":"IF('Line 1 Source'!A2447<>\"\",'Line 1 Source'!A2447,\"\")","v":""},"",{"$f":"CONCATENATE(VLOOKUP(B2447,'School List'!$B$3:$H$291,6,FALSE),H2447)","v":{"$error":"#N/A"}},{"$f":"CONCATENATE(VLOOKUP(B2447,'School List'!$B$3:$D$291,3,FALSE),H2447)","v":{"$error":"#N/A"}},{"$f":"IF('Line 1 Source'!B2447<>\"\",'Line 1 Source'!B2447,\"\")","v":""},{"$f":"IF('Line 1 Source'!C2447<>\"\",'Line 1 Source'!C2447,\"\")","v":""},{"$f":"IF('Line 1 Source'!D2447<>\"\",'Line 1 Source'!D2447,\"\")","v":""},{"$f":"IF('Line 1 Source'!E2447<>\"\",'Line 1 Source'!E2447,\"\")","v":""},{"$f":"IF('Line 1 Source'!F2447<>\"\",'Line 1 Source'!F2447,\"\")","v":""}]
[{"$f":"IF('Line 1 Source'!A2448<>\"\",'Line 1 Source'!A2448,\"\")","v":""},"",{"$f":"CONCATENATE(VLOOKUP(B2448,'School List'!$B$3:$H$291,6,FALSE),H2448)","v":{"$error":"#N/A"}},{"$f":"CONCATENATE(VLOOKUP(B2448,'School List'!$B$3:$D$291,3,FALSE),H2448)","v":{"$error":"#N/A"}},{"$f":"IF('Line 1 Source'!B2448<>\"\",'Line 1 Source'!B2448,\"\")","v":""},{"$f":"IF('Line 1 Source'!C2448<>\"\",'Line 1 Source'!C2448,\"\")","v":""},{"$f":"IF('Line 1 Source'!D2448<>\"\",'Line 1 Source'!D2448,\"\")","v":""},{"$f":"IF('Line 1 Source'!E2448<>\"\",'Line 1 Source'!E2448,\"\")","v":""},{"$f":"IF('Line 1 Source'!F2448<>\"\",'Line 1 Source'!F2448,\"\")","v":""}]
[{"$f":"IF('Line 1 Source'!A2449<>\"\",'Line 1 Source'!A2449,\"\")","v":""},"",{"$f":"CONCATENATE(VLOOKUP(B2449,'School List'!$B$3:$H$291,6,FALSE),H2449)","v":{"$error":"#N/A"}},{"$f":"CONCATENATE(VLOOKUP(B2449,'School List'!$B$3:$D$291,3,FALSE),H2449)","v":{"$error":"#N/A"}},{"$f":"IF('Line 1 Source'!B2449<>\"\",'Line 1 Source'!B2449,\"\")","v":""},{"$f":"IF('Line 1 Source'!C2449<>\"\",'Line 1 Source'!C2449,\"\")","v":""},{"$f":"IF('Line 1 Source'!D2449<>\"\",'Line 1 Source'!D2449,\"\")","v":""},{"$f":"IF('Line 1 Source'!E2449<>\"\",'Line 1 Source'!E2449,\"\")","v":""},{"$f":"IF('Line 1 Source'!F2449<>\"\",'Line 1 Source'!F2449,\"\")","v":""}]
[{"$f":"IF('Line 1 Source'!A2450<>\"\",'Line 1 Source'!A2450,\"\")","v":""},"",{"$f":"CONCATENATE(VLOOKUP(B2450,'School List'!$B$3:$H$291,6,FALSE),H2450)","v":{"$error":"#N/A"}},{"$f":"CONCATENATE(VLOOKUP(B2450,'School List'!$B$3:$D$291,3,FALSE),H2450)","v":{"$error":"#N/A"}},{"$f":"IF('Line 1 Source'!B2450<>\"\",'Line 1 Source'!B2450,\"\")","v":""},{"$f":"IF('Line 1 Source'!C2450<>\"\",'Line 1 Source'!C2450,\"\")","v":""},{"$f":"IF('Line 1 Source'!D2450<>\"\",'Line 1 Source'!D2450,\"\")","v":""},{"$f":"IF('Line 1 Source'!E2450<>\"\",'Line 1 Source'!E2450,\"\")","v":""},{"$f":"IF('Line 1 Source'!F2450<>\"\",'Line 1 Source'!F2450,\"\")","v":""}]
[{"$f":"IF('Line 1 Source'!A2451<>\"\",'Line 1 Source'!A2451,\"\")","v":""},"",{"$f":"CONCATENATE(VLOOKUP(B2451,'School List'!$B$3:$H$291,6,FALSE),H2451)","v":{"$error":"#N/A"}},{"$f":"CONCATENATE(VLOOKUP(B2451,'School List'!$B$3:$D$291,3,FALSE),H2451)","v":{"$error":"#N/A"}},{"$f":"IF('Line 1 Source'!B2451<>\"\",'Line 1 Source'!B2451,\"\")","v":""},{"$f":"IF('Line 1 Source'!C2451<>\"\",'Line 1 Source'!C2451,\"\")","v":""},{"$f":"IF('Line 1 Source'!D2451<>\"\",'Line 1 Source'!D2451,\"\")","v":""},{"$f":"IF('Line 1 Source'!E2451<>\"\",'Line 1 Source'!E2451,\"\")","v":""},{"$f":"IF('Line 1 Source'!F2451<>\"\",'Line 1 Source'!F2451,\"\")","v":""}]
[{"$f":"IF('Line 1 Source'!A2452<>\"\",'Line 1 Source'!A2452,\"\")","v":""},"",{"$f":"CONCATENATE(VLOOKUP(B2452,'School List'!$B$3:$H$291,6,FALSE),H2452)","v":{"$error":"#N/A"}},{"$f":"CONCATENATE(VLOOKUP(B2452,'School List'!$B$3:$D$291,3,FALSE),H2452)","v":{"$error":"#N/A"}},{"$f":"IF('Line 1 Source'!B2452<>\"\",'Line 1 Source'!B2452,\"\")","v":""},{"$f":"IF('Line 1 Source'!C2452<>\"\",'Line 1 Source'!C2452,\"\")","v":""},{"$f":"IF('Line 1 Source'!D2452<>\"\",'Line 1 Source'!D2452,\"\")","v":""},{"$f":"IF('Line 1 Source'!E2452<>\"\",'Line 1 Source'!E2452,\"\")","v":""},{"$f":"IF('Line 1 Source'!F2452<>\"\",'Line 1 Source'!F2452,\"\")","v":""}]
[{"$f":"IF('Line 1 Source'!A2453<>\"\",'Line 1 Source'!A2453,\"\")","v":""},"",{"$f":"CONCATENATE(VLOOKUP(B2453,'School List'!$B$3:$H$291,6,FALSE),H2453)","v":{"$error":"#N/A"}},{"$f":"CONCATENATE(VLOOKUP(B2453,'School List'!$B$3:$D$291,3,FALSE),H2453)","v":{"$error":"#N/A"}},{"$f":"IF('Line 1 Source'!B2453<>\"\",'Line 1 Source'!B2453,\"\")","v":""},{"$f":"IF('Line 1 Source'!C2453<>\"\",'Line 1 Source'!C2453,\"\")","v":""},{"$f":"IF('Line 1 Source'!D2453<>\"\",'Line 1 Source'!D2453,\"\")","v":""},{"$f":"IF('Line 1 Source'!E2453<>\"\",'Line 1 Source'!E2453,\"\")","v":""},{"$f":"IF('Line 1 Source'!F2453<>\"\",'Line 1 Source'!F2453,\"\")","v":""}]
[{"$f":"IF('Line 1 Source'!A2454<>\"\",'Line 1 Source'!A2454,\"\")","v":""},"",{"$f":"CONCATENATE(VLOOKUP(B2454,'School List'!$B$3:$H$291,6,FALSE),H2454)","v":{"$error":"#N/A"}},{"$f":"CONCATENATE(VLOOKUP(B2454,'School List'!$B$3:$D$291,3,FALSE),H2454)","v":{"$error":"#N/A"}},{"$f":"IF('Line 1 Source'!B2454<>\"\",'Line 1 Source'!B2454,\"\")","v":""},{"$f":"IF('Line 1 Source'!C2454<>\"\",'Line 1 Source'!C2454,\"\")","v":""},{"$f":"IF('Line 1 Source'!D2454<>\"\",'Line 1 Source'!D2454,\"\")","v":""},{"$f":"IF('Line 1 Source'!E2454<>\"\",'Line 1 Source'!E2454,\"\")","v":""},{"$f":"IF('Line 1 Source'!F2454<>\"\",'Line 1 Source'!F2454,\"\")","v":""}]
[{"$f":"IF('Line 1 Source'!A2455<>\"\",'Line 1 Source'!A2455,\"\")","v":""},"",{"$f":"CONCATENATE(VLOOKUP(B2455,'School List'!$B$3:$H$291,6,FALSE),H2455)","v":{"$error":"#N/A"}},{"$f":"CONCATENATE(VLOOKUP(B2455,'School List'!$B$3:$D$291,3,FALSE),H2455)","v":{"$error":"#N/A"}},{"$f":"IF('Line 1 Source'!B2455<>\"\",'Line 1 Source'!B2455,\"\")","v":""},{"$f":"IF('Line 1 Source'!C2455<>\"\",'Line 1 Source'!C2455,\"\")","v":""},{"$f":"IF('Line 1 Source'!D2455<>\"\",'Line 1 Source'!D2455,\"\")","v":""},{"$f":"IF('Line 1 Source'!E2455<>\"\",'Line 1 Source'!E2455,\"\")","v":""},{"$f":"IF('Line 1 Source'!F2455<>\"\",'Line 1 Source'!F2455,\"\")","v":""}]
[{"$f":"IF('Line 1 Source'!A2456<>\"\",'Line 1 Source'!A2456,\"\")","v":""},"",{"$f":"CONCATENATE(VLOOKUP(B2456,'School List'!$B$3:$H$291,6,FALSE),H2456)","v":{"$error":"#N/A"}},{"$f":"CONCATENATE(VLOOKUP(B2456,'School List'!$B$3:$D$291,3,FALSE),H2456)","v":{"$error":"#N/A"}},{"$f":"IF('Line 1 Source'!B2456<>\"\",'Line 1 Source'!B2456,\"\")","v":""},{"$f":"IF('Line 1 Source'!C2456<>\"\",'Line 1 Source'!C2456,\"\")","v":""},{"$f":"IF('Line 1 Source'!D2456<>\"\",'Line 1 Source'!D2456,\"\")","v":""},{"$f":"IF('Line 1 Source'!E2456<>\"\",'Line 1 Source'!E2456,\"\")","v":""},{"$f":"IF('Line 1 Source'!F2456<>\"\",'Line 1 Source'!F2456,\"\")","v":""}]
[{"$f":"IF('Line 1 Source'!A2457<>\"\",'Line 1 Source'!A2457,\"\")","v":""},"",{"$f":"CONCATENATE(VLOOKUP(B2457,'School List'!$B$3:$H$291,6,FALSE),H2457)","v":{"$error":"#N/A"}},{"$f":"CONCATENATE(VLOOKUP(B2457,'School List'!$B$3:$D$291,3,FALSE),H2457)","v":{"$error":"#N/A"}},{"$f":"IF('Line 1 Source'!B2457<>\"\",'Line 1 Source'!B2457,\"\")","v":""},{"$f":"IF('Line 1 Source'!C2457<>\"\",'Line 1 Source'!C2457,\"\")","v":""},{"$f":"IF('Line 1 Source'!D2457<>\"\",'Line 1 Source'!D2457,\"\")","v":""},{"$f":"IF('Line 1 Source'!E2457<>\"\",'Line 1 Source'!E2457,\"\")","v":""},{"$f":"IF('Line 1 Source'!F2457<>\"\",'Line 1 Source'!F2457,\"\")","v":""}]
[{"$f":"IF('Line 1 Source'!A2458<>\"\",'Line 1 Source'!A2458,\"\")","v":""},"",{"$f":"CONCATENATE(VLOOKUP(B2458,'School List'!$B$3:$H$291,6,FALSE),H2458)","v":{"$error":"#N/A"}},{"$f":"CONCATENATE(VLOOKUP(B2458,'School List'!$B$3:$D$291,3,FALSE),H2458)","v":{"$error":"#N/A"}},{"$f":"IF('Line 1 Source'!B2458<>\"\",'Line 1 Source'!B2458,\"\")","v":""},{"$f":"IF('Line 1 Source'!C2458<>\"\",'Line 1 Source'!C2458,\"\")","v":""},{"$f":"IF('Line 1 Source'!D2458<>\"\",'Line 1 Source'!D2458,\"\")","v":""},{"$f":"IF('Line 1 Source'!E2458<>\"\",'Line 1 Source'!E2458,\"\")","v":""},{"$f":"IF('Line 1 Source'!F2458<>\"\",'Line 1 Source'!F2458,\"\")","v":""}]
[{"$f":"IF('Line 1 Source'!A2459<>\"\",'Line 1 Source'!A2459,\"\")","v":""},"",{"$f":"CONCATENATE(VLOOKUP(B2459,'School List'!$B$3:$H$291,6,FALSE),H2459)","v":{"$error":"#N/A"}},{"$f":"CONCATENATE(VLOOKUP(B2459,'School List'!$B$3:$D$291,3,FALSE),H2459)","v":{"$error":"#N/A"}},{"$f":"IF('Line 1 Source'!B2459<>\"\",'Line 1 Source'!B2459,\"\")","v":""},{"$f":"IF('Line 1 Source'!C2459<>\"\",'Line 1 Source'!C2459,\"\")","v":""},{"$f":"IF('Line 1 Source'!D2459<>\"\",'Line 1 Source'!D2459,\"\")","v":""},{"$f":"IF('Line 1 Source'!E2459<>\"\",'Line 1 Source'!E2459,\"\")","v":""},{"$f":"IF('Line 1 Source'!F2459<>\"\",'Line 1 Source'!F2459,\"\")","v":""}]
[{"$f":"IF('Line 1 Source'!A2460<>\"\",'Line 1 Source'!A2460,\"\")","v":""},"",{"$f":"CONCATENATE(VLOOKUP(B2460,'School List'!$B$3:$H$291,6,FALSE),H2460)","v":{"$error":"#N/A"}},{"$f":"CONCATENATE(VLOOKUP(B2460,'School List'!$B$3:$D$291,3,FALSE),H2460)","v":{"$error":"#N/A"}},{"$f":"IF('Line 1 Source'!B2460<>\"\",'Line 1 Source'!B2460,\"\")","v":""},{"$f":"IF('Line 1 Source'!C2460<>\"\",'Line 1 Source'!C2460,\"\")","v":""},{"$f":"IF('Line 1 Source'!D2460<>\"\",'Line 1 Source'!D2460,\"\")","v":""},{"$f":"IF('Line 1 Source'!E2460<>\"\",'Line 1 Source'!E2460,\"\")","v":""},{"$f":"IF('Line 1 Source'!F2460<>\"\",'Line 1 Source'!F2460,\"\")","v":""}]
[{"$f":"IF('Line 1 Source'!A2461<>\"\",'Line 1 Source'!A2461,\"\")","v":""},"",{"$f":"CONCATENATE(VLOOKUP(B2461,'School List'!$B$3:$H$291,6,FALSE),H2461)","v":{"$error":"#N/A"}},{"$f":"CONCATENATE(VLOOKUP(B2461,'School List'!$B$3:$D$291,3,FALSE),H2461)","v":{"$error":"#N/A"}},{"$f":"IF('Line 1 Source'!B2461<>\"\",'Line 1 Source'!B2461,\"\")","v":""},{"$f":"IF('Line 1 Source'!C2461<>\"\",'Line 1 Source'!C2461,\"\")","v":""},{"$f":"IF('Line 1 Source'!D2461<>\"\",'Line 1 Source'!D2461,\"\")","v":""},{"$f":"IF('Line 1 Source'!E2461<>\"\",'Line 1 Source'!E2461,\"\")","v":""},{"$f":"IF('Line 1 Source'!F2461<>\"\",'Line 1 Source'!F2461,\"\")","v":""}]
[{"$f":"IF('Line 1 Source'!A2462<>\"\",'Line 1 Source'!A2462,\"\")","v":""},"",{"$f":"CONCATENATE(VLOOKUP(B2462,'School List'!$B$3:$H$291,6,FALSE),H2462)","v":{"$error":"#N/A"}},{"$f":"CONCATENATE(VLOOKUP(B2462,'School List'!$B$3:$D$291,3,FALSE),H2462)","v":{"$error":"#N/A"}},{"$f":"IF('Line 1 Source'!B2462<>\"\",'Line 1 Source'!B2462,\"\")","v":""},{"$f":"IF('Line 1 Source'!C2462<>\"\",'Line 1 Source'!C2462,\"\")","v":""},{"$f":"IF('Line 1 Source'!D2462<>\"\",'Line 1 Source'!D2462,\"\")","v":""},{"$f":"IF('Line 1 Source'!E2462<>\"\",'Line 1 Source'!E2462,\"\")","v":""},{"$f":"IF('Line 1 Source'!F2462<>\"\",'Line 1 Source'!F2462,\"\")","v":""}]
[{"$f":"IF('Line 1 Source'!A2463<>\"\",'Line 1 Source'!A2463,\"\")","v":""},"",{"$f":"CONCATENATE(VLOOKUP(B2463,'School List'!$B$3:$H$291,6,FALSE),H2463)","v":{"$error":"#N/A"}},{"$f":"CONCATENATE(VLOOKUP(B2463,'School List'!$B$3:$D$291,3,FALSE),H2463)","v":{"$error":"#N/A"}},{"$f":"IF('Line 1 Source'!B2463<>\"\",'Line 1 Source'!B2463,\"\")","v":""},{"$f":"IF('Line 1 Source'!C2463<>\"\",'Line 1 Source'!C2463,\"\")","v":""},{"$f":"IF('Line 1 Source'!D2463<>\"\",'Line 1 Source'!D2463,\"\")","v":""},{"$f":"IF('Line 1 Source'!E2463<>\"\",'Line 1 Source'!E2463,\"\")","v":""},{"$f":"IF('Line 1 Source'!F2463<>\"\",'Line 1 Source'!F2463,\"\")","v":""}]
[{"$f":"IF('Line 1 Source'!A2464<>\"\",'Line 1 Source'!A2464,\"\")","v":""},"",{"$f":"CONCATENATE(VLOOKUP(B2464,'School List'!$B$3:$H$291,6,FALSE),H2464)","v":{"$error":"#N/A"}},{"$f":"CONCATENATE(VLOOKUP(B2464,'School List'!$B$3:$D$291,3,FALSE),H2464)","v":{"$error":"#N/A"}},{"$f":"IF('Line 1 Source'!B2464<>\"\",'Line 1 Source'!B2464,\"\")","v":""},{"$f":"IF('Line 1 Source'!C2464<>\"\",'Line 1 Source'!C2464,\"\")","v":""},{"$f":"IF('Line 1 Source'!D2464<>\"\",'Line 1 Source'!D2464,\"\")","v":""},{"$f":"IF('Line 1 Source'!E2464<>\"\",'Line 1 Source'!E2464,\"\")","v":""},{"$f":"IF('Line 1 Source'!F2464<>\"\",'Line 1 Source'!F2464,\"\")","v":""}]
[{"$f":"IF('Line 1 Source'!A2465<>\"\",'Line 1 Source'!A2465,\"\")","v":""},"",{"$f":"CONCATENATE(VLOOKUP(B2465,'School List'!$B$3:$H$291,6,FALSE),H2465)","v":{"$error":"#N/A"}},{"$f":"CONCATENATE(VLOOKUP(B2465,'School List'!$B$3:$D$291,3,FALSE),H2465)","v":{"$error":"#N/A"}},{"$f":"IF('Line 1 Source'!B2465<>\"\",'Line 1 Source'!B2465,\"\")","v":""},{"$f":"IF('Line 1 Source'!C2465<>\"\",'Line 1 Source'!C2465,\"\")","v":""},{"$f":"IF('Line 1 Source'!D2465<>\"\",'Line 1 Source'!D2465,\"\")","v":""},{"$f":"IF('Line 1 Source'!E2465<>\"\",'Line 1 Source'!E2465,\"\")","v":""},{"$f":"IF('Line 1 Source'!F2465<>\"\",'Line 1 Source'!F2465,\"\")","v":""}]
[{"$f":"IF('Line 1 Source'!A2466<>\"\",'Line 1 Source'!A2466,\"\")","v":""},"",{"$f":"CONCATENATE(VLOOKUP(B2466,'School List'!$B$3:$H$291,6,FALSE),H2466)","v":{"$error":"#N/A"}},{"$f":"CONCATENATE(VLOOKUP(B2466,'School List'!$B$3:$D$291,3,FALSE),H2466)","v":{"$error":"#N/A"}},{"$f":"IF('Line 1 Source'!B2466<>\"\",'Line 1 Source'!B2466,\"\")","v":""},{"$f":"IF('Line 1 Source'!C2466<>\"\",'Line 1 Source'!C2466,\"\")","v":""},{"$f":"IF('Line 1 Source'!D2466<>\"\",'Line 1 Source'!D2466,\"\")","v":""},{"$f":"IF('Line 1 Source'!E2466<>\"\",'Line 1 Source'!E2466,\"\")","v":""},{"$f":"IF('Line 1 Source'!F2466<>\"\",'Line 1 Source'!F2466,\"\")","v":""}]
[{"$f":"IF('Line 1 Source'!A2467<>\"\",'Line 1 Source'!A2467,\"\")","v":""},"",{"$f":"CONCATENATE(VLOOKUP(B2467,'School List'!$B$3:$H$291,6,FALSE),H2467)","v":{"$error":"#N/A"}},{"$f":"CONCATENATE(VLOOKUP(B2467,'School List'!$B$3:$D$291,3,FALSE),H2467)","v":{"$error":"#N/A"}},{"$f":"IF('Line 1 Source'!B2467<>\"\",'Line 1 Source'!B2467,\"\")","v":""},{"$f":"IF('Line 1 Source'!C2467<>\"\",'Line 1 Source'!C2467,\"\")","v":""},{"$f":"IF('Line 1 Source'!D2467<>\"\",'Line 1 Source'!D2467,\"\")","v":""},{"$f":"IF('Line 1 Source'!E2467<>\"\",'Line 1 Source'!E2467,\"\")","v":""},{"$f":"IF('Line 1 Source'!F2467<>\"\",'Line 1 Source'!F2467,\"\")","v":""}]
[{"$f":"IF('Line 1 Source'!A2468<>\"\",'Line 1 Source'!A2468,\"\")","v":""},"",{"$f":"CONCATENATE(VLOOKUP(B2468,'School List'!$B$3:$H$291,6,FALSE),H2468)","v":{"$error":"#N/A"}},{"$f":"CONCATENATE(VLOOKUP(B2468,'School List'!$B$3:$D$291,3,FALSE),H2468)","v":{"$error":"#N/A"}},{"$f":"IF('Line 1 Source'!B2468<>\"\",'Line 1 Source'!B2468,\"\")","v":""},{"$f":"IF('Line 1 Source'!C2468<>\"\",'Line 1 Source'!C2468,\"\")","v":""},{"$f":"IF('Line 1 Source'!D2468<>\"\",'Line 1 Source'!D2468,\"\")","v":""},{"$f":"IF('Line 1 Source'!E2468<>\"\",'Line 1 Source'!E2468,\"\")","v":""},{"$f":"IF('Line 1 Source'!F2468<>\"\",'Line 1 Source'!F2468,\"\")","v":""}]
[{"$f":"IF('Line 1 Source'!A2469<>\"\",'Line 1 Source'!A2469,\"\")","v":""},"",{"$f":"CONCATENATE(VLOOKUP(B2469,'School List'!$B$3:$H$291,6,FALSE),H2469)","v":{"$error":"#N/A"}},{"$f":"CONCATENATE(VLOOKUP(B2469,'School List'!$B$3:$D$291,3,FALSE),H2469)","v":{"$error":"#N/A"}},{"$f":"IF('Line 1 Source'!B2469<>\"\",'Line 1 Source'!B2469,\"\")","v":""},{"$f":"IF('Line 1 Source'!C2469<>\"\",'Line 1 Source'!C2469,\"\")","v":""},{"$f":"IF('Line 1 Source'!D2469<>\"\",'Line 1 Source'!D2469,\"\")","v":""},{"$f":"IF('Line 1 Source'!E2469<>\"\",'Line 1 Source'!E2469,\"\")","v":""},{"$f":"IF('Line 1 Source'!F2469<>\"\",'Line 1 Source'!F2469,\"\")","v":""}]
[{"$f":"IF('Line 1 Source'!A2470<>\"\",'Line 1 Source'!A2470,\"\")","v":""},"",{"$f":"CONCATENATE(VLOOKUP(B2470,'School List'!$B$3:$H$291,6,FALSE),H2470)","v":{"$error":"#N/A"}},{"$f":"CONCATENATE(VLOOKUP(B2470,'School List'!$B$3:$D$291,3,FALSE),H2470)","v":{"$error":"#N/A"}},{"$f":"IF('Line 1 Source'!B2470<>\"\",'Line 1 Source'!B2470,\"\")","v":""},{"$f":"IF('Line 1 Source'!C2470<>\"\",'Line 1 Source'!C2470,\"\")","v":""},{"$f":"IF('Line 1 Source'!D2470<>\"\",'Line 1 Source'!D2470,\"\")","v":""},{"$f":"IF('Line 1 Source'!E2470<>\"\",'Line 1 Source'!E2470,\"\")","v":""},{"$f":"IF('Line 1 Source'!F2470<>\"\",'Line 1 Source'!F2470,\"\")","v":""}]
[{"$f":"IF('Line 1 Source'!A2471<>\"\",'Line 1 Source'!A2471,\"\")","v":""},"",{"$f":"CONCATENATE(VLOOKUP(B2471,'School List'!$B$3:$H$291,6,FALSE),H2471)","v":{"$error":"#N/A"}},{"$f":"CONCATENATE(VLOOKUP(B2471,'School List'!$B$3:$D$291,3,FALSE),H2471)","v":{"$error":"#N/A"}},{"$f":"IF('Line 1 Source'!B2471<>\"\",'Line 1 Source'!B2471,\"\")","v":""},{"$f":"IF('Line 1 Source'!C2471<>\"\",'Line 1 Source'!C2471,\"\")","v":""},{"$f":"IF('Line 1 Source'!D2471<>\"\",'Line 1 Source'!D2471,\"\")","v":""},{"$f":"IF('Line 1 Source'!E2471<>\"\",'Line 1 Source'!E2471,\"\")","v":""},{"$f":"IF('Line 1 Source'!F2471<>\"\",'Line 1 Source'!F2471,\"\")","v":""}]
[{"$f":"IF('Line 1 Source'!A2472<>\"\",'Line 1 Source'!A2472,\"\")","v":""},"",{"$f":"CONCATENATE(VLOOKUP(B2472,'School List'!$B$3:$H$291,6,FALSE),H2472)","v":{"$error":"#N/A"}},{"$f":"CONCATENATE(VLOOKUP(B2472,'School List'!$B$3:$D$291,3,FALSE),H2472)","v":{"$error":"#N/A"}},{"$f":"IF('Line 1 Source'!B2472<>\"\",'Line 1 Source'!B2472,\"\")","v":""},{"$f":"IF('Line 1 Source'!C2472<>\"\",'Line 1 Source'!C2472,\"\")","v":""},{"$f":"IF('Line 1 Source'!D2472<>\"\",'Line 1 Source'!D2472,\"\")","v":""},{"$f":"IF('Line 1 Source'!E2472<>\"\",'Line 1 Source'!E2472,\"\")","v":""},{"$f":"IF('Line 1 Source'!F2472<>\"\",'Line 1 Source'!F2472,\"\")","v":""}]
[{"$f":"IF('Line 1 Source'!A2473<>\"\",'Line 1 Source'!A2473,\"\")","v":""},"",{"$f":"CONCATENATE(VLOOKUP(B2473,'School List'!$B$3:$H$291,6,FALSE),H2473)","v":{"$error":"#N/A"}},{"$f":"CONCATENATE(VLOOKUP(B2473,'School List'!$B$3:$D$291,3,FALSE),H2473)","v":{"$error":"#N/A"}},{"$f":"IF('Line 1 Source'!B2473<>\"\",'Line 1 Source'!B2473,\"\")","v":""},{"$f":"IF('Line 1 Source'!C2473<>\"\",'Line 1 Source'!C2473,\"\")","v":""},{"$f":"IF('Line 1 Source'!D2473<>\"\",'Line 1 Source'!D2473,\"\")","v":""},{"$f":"IF('Line 1 Source'!E2473<>\"\",'Line 1 Source'!E2473,\"\")","v":""},{"$f":"IF('Line 1 Source'!F2473<>\"\",'Line 1 Source'!F2473,\"\")","v":""}]
[{"$f":"IF('Line 1 Source'!A2474<>\"\",'Line 1 Source'!A2474,\"\")","v":""},"",{"$f":"CONCATENATE(VLOOKUP(B2474,'School List'!$B$3:$H$291,6,FALSE),H2474)","v":{"$error":"#N/A"}},{"$f":"CONCATENATE(VLOOKUP(B2474,'School List'!$B$3:$D$291,3,FALSE),H2474)","v":{"$error":"#N/A"}},{"$f":"IF('Line 1 Source'!B2474<>\"\",'Line 1 Source'!B2474,\"\")","v":""},{"$f":"IF('Line 1 Source'!C2474<>\"\",'Line 1 Source'!C2474,\"\")","v":""},{"$f":"IF('Line 1 Source'!D2474<>\"\",'Line 1 Source'!D2474,\"\")","v":""},{"$f":"IF('Line 1 Source'!E2474<>\"\",'Line 1 Source'!E2474,\"\")","v":""},{"$f":"IF('Line 1 Source'!F2474<>\"\",'Line 1 Source'!F2474,\"\")","v":""}]
[{"$f":"IF('Line 1 Source'!A2475<>\"\",'Line 1 Source'!A2475,\"\")","v":""},"",{"$f":"CONCATENATE(VLOOKUP(B2475,'School List'!$B$3:$H$291,6,FALSE),H2475)","v":{"$error":"#N/A"}},{"$f":"CONCATENATE(VLOOKUP(B2475,'School List'!$B$3:$D$291,3,FALSE),H2475)","v":{"$error":"#N/A"}},{"$f":"IF('Line 1 Source'!B2475<>\"\",'Line 1 Source'!B2475,\"\")","v":""},{"$f":"IF('Line 1 Source'!C2475<>\"\",'Line 1 Source'!C2475,\"\")","v":""},{"$f":"IF('Line 1 Source'!D2475<>\"\",'Line 1 Source'!D2475,\"\")","v":""},{"$f":"IF('Line 1 Source'!E2475<>\"\",'Line 1 Source'!E2475,\"\")","v":""},{"$f":"IF('Line 1 Source'!F2475<>\"\",'Line 1 Source'!F2475,\"\")","v":""}]
[{"$f":"IF('Line 1 Source'!A2476<>\"\",'Line 1 Source'!A2476,\"\")","v":""},"",{"$f":"CONCATENATE(VLOOKUP(B2476,'School List'!$B$3:$H$291,6,FALSE),H2476)","v":{"$error":"#N/A"}},{"$f":"CONCATENATE(VLOOKUP(B2476,'School List'!$B$3:$D$291,3,FALSE),H2476)","v":{"$error":"#N/A"}},{"$f":"IF('Line 1 Source'!B2476<>\"\",'Line 1 Source'!B2476,\"\")","v":""},{"$f":"IF('Line 1 Source'!C2476<>\"\",'Line 1 Source'!C2476,\"\")","v":""},{"$f":"IF('Line 1 Source'!D2476<>\"\",'Line 1 Source'!D2476,\"\")","v":""},{"$f":"IF('Line 1 Source'!E2476<>\"\",'Line 1 Source'!E2476,\"\")","v":""},{"$f":"IF('Line 1 Source'!F2476<>\"\",'Line 1 Source'!F2476,\"\")","v":""}]
[{"$f":"IF('Line 1 Source'!A2477<>\"\",'Line 1 Source'!A2477,\"\")","v":""},"",{"$f":"CONCATENATE(VLOOKUP(B2477,'School List'!$B$3:$H$291,6,FALSE),H2477)","v":{"$error":"#N/A"}},{"$f":"CONCATENATE(VLOOKUP(B2477,'School List'!$B$3:$D$291,3,FALSE),H2477)","v":{"$error":"#N/A"}},{"$f":"IF('Line 1 Source'!B2477<>\"\",'Line 1 Source'!B2477,\"\")","v":""},{"$f":"IF('Line 1 Source'!C2477<>\"\",'Line 1 Source'!C2477,\"\")","v":""},{"$f":"IF('Line 1 Source'!D2477<>\"\",'Line 1 Source'!D2477,\"\")","v":""},{"$f":"IF('Line 1 Source'!E2477<>\"\",'Line 1 Source'!E2477,\"\")","v":""},{"$f":"IF('Line 1 Source'!F2477<>\"\",'Line 1 Source'!F2477,\"\")","v":""}]
[{"$f":"IF('Line 1 Source'!A2478<>\"\",'Line 1 Source'!A2478,\"\")","v":""},"",{"$f":"CONCATENATE(VLOOKUP(B2478,'School List'!$B$3:$H$291,6,FALSE),H2478)","v":{"$error":"#N/A"}},{"$f":"CONCATENATE(VLOOKUP(B2478,'School List'!$B$3:$D$291,3,FALSE),H2478)","v":{"$error":"#N/A"}},{"$f":"IF('Line 1 Source'!B2478<>\"\",'Line 1 Source'!B2478,\"\")","v":""},{"$f":"IF('Line 1 Source'!C2478<>\"\",'Line 1 Source'!C2478,\"\")","v":""},{"$f":"IF('Line 1 Source'!D2478<>\"\",'Line 1 Source'!D2478,\"\")","v":""},{"$f":"IF('Line 1 Source'!E2478<>\"\",'Line 1 Source'!E2478,\"\")","v":""},{"$f":"IF('Line 1 Source'!F2478<>\"\",'Line 1 Source'!F2478,\"\")","v":""}]
[{"$f":"IF('Line 1 Source'!A2479<>\"\",'Line 1 Source'!A2479,\"\")","v":""},"",{"$f":"CONCATENATE(VLOOKUP(B2479,'School List'!$B$3:$H$291,6,FALSE),H2479)","v":{"$error":"#N/A"}},{"$f":"CONCATENATE(VLOOKUP(B2479,'School List'!$B$3:$D$291,3,FALSE),H2479)","v":{"$error":"#N/A"}},{"$f":"IF('Line 1 Source'!B2479<>\"\",'Line 1 Source'!B2479,\"\")","v":""},{"$f":"IF('Line 1 Source'!C2479<>\"\",'Line 1 Source'!C2479,\"\")","v":""},{"$f":"IF('Line 1 Source'!D2479<>\"\",'Line 1 Source'!D2479,\"\")","v":""},{"$f":"IF('Line 1 Source'!E2479<>\"\",'Line 1 Source'!E2479,\"\")","v":""},{"$f":"IF('Line 1 Source'!F2479<>\"\",'Line 1 Source'!F2479,\"\")","v":""}]
[{"$f":"IF('Line 1 Source'!A2480<>\"\",'Line 1 Source'!A2480,\"\")","v":""},"",{"$f":"CONCATENATE(VLOOKUP(B2480,'School List'!$B$3:$H$291,6,FALSE),H2480)","v":{"$error":"#N/A"}},{"$f":"CONCATENATE(VLOOKUP(B2480,'School List'!$B$3:$D$291,3,FALSE),H2480)","v":{"$error":"#N/A"}},{"$f":"IF('Line 1 Source'!B2480<>\"\",'Line 1 Source'!B2480,\"\")","v":""},{"$f":"IF('Line 1 Source'!C2480<>\"\",'Line 1 Source'!C2480,\"\")","v":""},{"$f":"IF('Line 1 Source'!D2480<>\"\",'Line 1 Source'!D2480,\"\")","v":""},{"$f":"IF('Line 1 Source'!E2480<>\"\",'Line 1 Source'!E2480,\"\")","v":""},{"$f":"IF('Line 1 Source'!F2480<>\"\",'Line 1 Source'!F2480,\"\")","v":""}]
[{"$f":"IF('Line 1 Source'!A2481<>\"\",'Line 1 Source'!A2481,\"\")","v":""},"",{"$f":"CONCATENATE(VLOOKUP(B2481,'School List'!$B$3:$H$291,6,FALSE),H2481)","v":{"$error":"#N/A"}},{"$f":"CONCATENATE(VLOOKUP(B2481,'School List'!$B$3:$D$291,3,FALSE),H2481)","v":{"$error":"#N/A"}},{"$f":"IF('Line 1 Source'!B2481<>\"\",'Line 1 Source'!B2481,\"\")","v":""},{"$f":"IF('Line 1 Source'!C2481<>\"\",'Line 1 Source'!C2481,\"\")","v":""},{"$f":"IF('Line 1 Source'!D2481<>\"\",'Line 1 Source'!D2481,\"\")","v":""},{"$f":"IF('Line 1 Source'!E2481<>\"\",'Line 1 Source'!E2481,\"\")","v":""},{"$f":"IF('Line 1 Source'!F2481<>\"\",'Line 1 Source'!F2481,\"\")","v":""}]
[{"$f":"IF('Line 1 Source'!A2482<>\"\",'Line 1 Source'!A2482,\"\")","v":""},"",{"$f":"CONCATENATE(VLOOKUP(B2482,'School List'!$B$3:$H$291,6,FALSE),H2482)","v":{"$error":"#N/A"}},{"$f":"CONCATENATE(VLOOKUP(B2482,'School List'!$B$3:$D$291,3,FALSE),H2482)","v":{"$error":"#N/A"}},{"$f":"IF('Line 1 Source'!B2482<>\"\",'Line 1 Source'!B2482,\"\")","v":""},{"$f":"IF('Line 1 Source'!C2482<>\"\",'Line 1 Source'!C2482,\"\")","v":""},{"$f":"IF('Line 1 Source'!D2482<>\"\",'Line 1 Source'!D2482,\"\")","v":""},{"$f":"IF('Line 1 Source'!E2482<>\"\",'Line 1 Source'!E2482,\"\")","v":""},{"$f":"IF('Line 1 Source'!F2482<>\"\",'Line 1 Source'!F2482,\"\")","v":""}]
[{"$f":"IF('Line 1 Source'!A2483<>\"\",'Line 1 Source'!A2483,\"\")","v":""},"",{"$f":"CONCATENATE(VLOOKUP(B2483,'School List'!$B$3:$H$291,6,FALSE),H2483)","v":{"$error":"#N/A"}},{"$f":"CONCATENATE(VLOOKUP(B2483,'School List'!$B$3:$D$291,3,FALSE),H2483)","v":{"$error":"#N/A"}},{"$f":"IF('Line 1 Source'!B2483<>\"\",'Line 1 Source'!B2483,\"\")","v":""},{"$f":"IF('Line 1 Source'!C2483<>\"\",'Line 1 Source'!C2483,\"\")","v":""},{"$f":"IF('Line 1 Source'!D2483<>\"\",'Line 1 Source'!D2483,\"\")","v":""},{"$f":"IF('Line 1 Source'!E2483<>\"\",'Line 1 Source'!E2483,\"\")","v":""},{"$f":"IF('Line 1 Source'!F2483<>\"\",'Line 1 Source'!F2483,\"\")","v":""}]
[{"$f":"IF('Line 1 Source'!A2484<>\"\",'Line 1 Source'!A2484,\"\")","v":""},"",{"$f":"CONCATENATE(VLOOKUP(B2484,'School List'!$B$3:$H$291,6,FALSE),H2484)","v":{"$error":"#N/A"}},{"$f":"CONCATENATE(VLOOKUP(B2484,'School List'!$B$3:$D$291,3,FALSE),H2484)","v":{"$error":"#N/A"}},{"$f":"IF('Line 1 Source'!B2484<>\"\",'Line 1 Source'!B2484,\"\")","v":""},{"$f":"IF('Line 1 Source'!C2484<>\"\",'Line 1 Source'!C2484,\"\")","v":""},{"$f":"IF('Line 1 Source'!D2484<>\"\",'Line 1 Source'!D2484,\"\")","v":""},{"$f":"IF('Line 1 Source'!E2484<>\"\",'Line 1 Source'!E2484,\"\")","v":""},{"$f":"IF('Line 1 Source'!F2484<>\"\",'Line 1 Source'!F2484,\"\")","v":""}]
[{"$f":"IF('Line 1 Source'!A2485<>\"\",'Line 1 Source'!A2485,\"\")","v":""},"",{"$f":"CONCATENATE(VLOOKUP(B2485,'School List'!$B$3:$H$291,6,FALSE),H2485)","v":{"$error":"#N/A"}},{"$f":"CONCATENATE(VLOOKUP(B2485,'School List'!$B$3:$D$291,3,FALSE),H2485)","v":{"$error":"#N/A"}},{"$f":"IF('Line 1 Source'!B2485<>\"\",'Line 1 Source'!B2485,\"\")","v":""},{"$f":"IF('Line 1 Source'!C2485<>\"\",'Line 1 Source'!C2485,\"\")","v":""},{"$f":"IF('Line 1 Source'!D2485<>\"\",'Line 1 Source'!D2485,\"\")","v":""},{"$f":"IF('Line 1 Source'!E2485<>\"\",'Line 1 Source'!E2485,\"\")","v":""},{"$f":"IF('Line 1 Source'!F2485<>\"\",'Line 1 Source'!F2485,\"\")","v":""}]
[{"$f":"IF('Line 1 Source'!A2486<>\"\",'Line 1 Source'!A2486,\"\")","v":""},"",{"$f":"CONCATENATE(VLOOKUP(B2486,'School List'!$B$3:$H$291,6,FALSE),H2486)","v":{"$error":"#N/A"}},{"$f":"CONCATENATE(VLOOKUP(B2486,'School List'!$B$3:$D$291,3,FALSE),H2486)","v":{"$error":"#N/A"}},{"$f":"IF('Line 1 Source'!B2486<>\"\",'Line 1 Source'!B2486,\"\")","v":""},{"$f":"IF('Line 1 Source'!C2486<>\"\",'Line 1 Source'!C2486,\"\")","v":""},{"$f":"IF('Line 1 Source'!D2486<>\"\",'Line 1 Source'!D2486,\"\")","v":""},{"$f":"IF('Line 1 Source'!E2486<>\"\",'Line 1 Source'!E2486,\"\")","v":""},{"$f":"IF('Line 1 Source'!F2486<>\"\",'Line 1 Source'!F2486,\"\")","v":""}]
[{"$f":"IF('Line 1 Source'!A2487<>\"\",'Line 1 Source'!A2487,\"\")","v":""},"",{"$f":"CONCATENATE(VLOOKUP(B2487,'School List'!$B$3:$H$291,6,FALSE),H2487)","v":{"$error":"#N/A"}},{"$f":"CONCATENATE(VLOOKUP(B2487,'School List'!$B$3:$D$291,3,FALSE),H2487)","v":{"$error":"#N/A"}},{"$f":"IF('Line 1 Source'!B2487<>\"\",'Line 1 Source'!B2487,\"\")","v":""},{"$f":"IF('Line 1 Source'!C2487<>\"\",'Line 1 Source'!C2487,\"\")","v":""},{"$f":"IF('Line 1 Source'!D2487<>\"\",'Line 1 Source'!D2487,\"\")","v":""},{"$f":"IF('Line 1 Source'!E2487<>\"\",'Line 1 Source'!E2487,\"\")","v":""},{"$f":"IF('Line 1 Source'!F2487<>\"\",'Line 1 Source'!F2487,\"\")","v":""}]
[{"$f":"IF('Line 1 Source'!A2488<>\"\",'Line 1 Source'!A2488,\"\")","v":""},"",{"$f":"CONCATENATE(VLOOKUP(B2488,'School List'!$B$3:$H$291,6,FALSE),H2488)","v":{"$error":"#N/A"}},{"$f":"CONCATENATE(VLOOKUP(B2488,'School List'!$B$3:$D$291,3,FALSE),H2488)","v":{"$error":"#N/A"}},{"$f":"IF('Line 1 Source'!B2488<>\"\",'Line 1 Source'!B2488,\"\")","v":""},{"$f":"IF('Line 1 Source'!C2488<>\"\",'Line 1 Source'!C2488,\"\")","v":""},{"$f":"IF('Line 1 Source'!D2488<>\"\",'Line 1 Source'!D2488,\"\")","v":""},{"$f":"IF('Line 1 Source'!E2488<>\"\",'Line 1 Source'!E2488,\"\")","v":""},{"$f":"IF('Line 1 Source'!F2488<>\"\",'Line 1 Source'!F2488,\"\")","v":""}]
[{"$f":"IF('Line 1 Source'!A2489<>\"\",'Line 1 Source'!A2489,\"\")","v":""},"",{"$f":"CONCATENATE(VLOOKUP(B2489,'School List'!$B$3:$H$291,6,FALSE),H2489)","v":{"$error":"#N/A"}},{"$f":"CONCATENATE(VLOOKUP(B2489,'School List'!$B$3:$D$291,3,FALSE),H2489)","v":{"$error":"#N/A"}},{"$f":"IF('Line 1 Source'!B2489<>\"\",'Line 1 Source'!B2489,\"\")","v":""},{"$f":"IF('Line 1 Source'!C2489<>\"\",'Line 1 Source'!C2489,\"\")","v":""},{"$f":"IF('Line 1 Source'!D2489<>\"\",'Line 1 Source'!D2489,\"\")","v":""},{"$f":"IF('Line 1 Source'!E2489<>\"\",'Line 1 Source'!E2489,\"\")","v":""},{"$f":"IF('Line 1 Source'!F2489<>\"\",'Line 1 Source'!F2489,\"\")","v":""}]
[{"$f":"IF('Line 1 Source'!A2490<>\"\",'Line 1 Source'!A2490,\"\")","v":""},"",{"$f":"CONCATENATE(VLOOKUP(B2490,'School List'!$B$3:$H$291,6,FALSE),H2490)","v":{"$error":"#N/A"}},{"$f":"CONCATENATE(VLOOKUP(B2490,'School List'!$B$3:$D$291,3,FALSE),H2490)","v":{"$error":"#N/A"}},{"$f":"IF('Line 1 Source'!B2490<>\"\",'Line 1 Source'!B2490,\"\")","v":""},{"$f":"IF('Line 1 Source'!C2490<>\"\",'Line 1 Source'!C2490,\"\")","v":""},{"$f":"IF('Line 1 Source'!D2490<>\"\",'Line 1 Source'!D2490,\"\")","v":""},{"$f":"IF('Line 1 Source'!E2490<>\"\",'Line 1 Source'!E2490,\"\")","v":""},{"$f":"IF('Line 1 Source'!F2490<>\"\",'Line 1 Source'!F2490,\"\")","v":""}]
[{"$f":"IF('Line 1 Source'!A2491<>\"\",'Line 1 Source'!A2491,\"\")","v":""},"",{"$f":"CONCATENATE(VLOOKUP(B2491,'School List'!$B$3:$H$291,6,FALSE),H2491)","v":{"$error":"#N/A"}},{"$f":"CONCATENATE(VLOOKUP(B2491,'School List'!$B$3:$D$291,3,FALSE),H2491)","v":{"$error":"#N/A"}},{"$f":"IF('Line 1 Source'!B2491<>\"\",'Line 1 Source'!B2491,\"\")","v":""},{"$f":"IF('Line 1 Source'!C2491<>\"\",'Line 1 Source'!C2491,\"\")","v":""},{"$f":"IF('Line 1 Source'!D2491<>\"\",'Line 1 Source'!D2491,\"\")","v":""},{"$f":"IF('Line 1 Source'!E2491<>\"\",'Line 1 Source'!E2491,\"\")","v":""},{"$f":"IF('Line 1 Source'!F2491<>\"\",'Line 1 Source'!F2491,\"\")","v":""}]
[{"$f":"IF('Line 1 Source'!A2492<>\"\",'Line 1 Source'!A2492,\"\")","v":""},"",{"$f":"CONCATENATE(VLOOKUP(B2492,'School List'!$B$3:$H$291,6,FALSE),H2492)","v":{"$error":"#N/A"}},{"$f":"CONCATENATE(VLOOKUP(B2492,'School List'!$B$3:$D$291,3,FALSE),H2492)","v":{"$error":"#N/A"}},{"$f":"IF('Line 1 Source'!B2492<>\"\",'Line 1 Source'!B2492,\"\")","v":""},{"$f":"IF('Line 1 Source'!C2492<>\"\",'Line 1 Source'!C2492,\"\")","v":""},{"$f":"IF('Line 1 Source'!D2492<>\"\",'Line 1 Source'!D2492,\"\")","v":""},{"$f":"IF('Line 1 Source'!E2492<>\"\",'Line 1 Source'!E2492,\"\")","v":""},{"$f":"IF('Line 1 Source'!F2492<>\"\",'Line 1 Source'!F2492,\"\")","v":""}]
[{"$f":"IF('Line 1 Source'!A2493<>\"\",'Line 1 Source'!A2493,\"\")","v":""},"",{"$f":"CONCATENATE(VLOOKUP(B2493,'School List'!$B$3:$H$291,6,FALSE),H2493)","v":{"$error":"#N/A"}},{"$f":"CONCATENATE(VLOOKUP(B2493,'School List'!$B$3:$D$291,3,FALSE),H2493)","v":{"$error":"#N/A"}},{"$f":"IF('Line 1 Source'!B2493<>\"\",'Line 1 Source'!B2493,\"\")","v":""},{"$f":"IF('Line 1 Source'!C2493<>\"\",'Line 1 Source'!C2493,\"\")","v":""},{"$f":"IF('Line 1 Source'!D2493<>\"\",'Line 1 Source'!D2493,\"\")","v":""},{"$f":"IF('Line 1 Source'!E2493<>\"\",'Line 1 Source'!E2493,\"\")","v":""},{"$f":"IF('Line 1 Source'!F2493<>\"\",'Line 1 Source'!F2493,\"\")","v":""}]
[{"$f":"IF('Line 1 Source'!A2494<>\"\",'Line 1 Source'!A2494,\"\")","v":""},"",{"$f":"CONCATENATE(VLOOKUP(B2494,'School List'!$B$3:$H$291,6,FALSE),H2494)","v":{"$error":"#N/A"}},{"$f":"CONCATENATE(VLOOKUP(B2494,'School List'!$B$3:$D$291,3,FALSE),H2494)","v":{"$error":"#N/A"}},{"$f":"IF('Line 1 Source'!B2494<>\"\",'Line 1 Source'!B2494,\"\")","v":""},{"$f":"IF('Line 1 Source'!C2494<>\"\",'Line 1 Source'!C2494,\"\")","v":""},{"$f":"IF('Line 1 Source'!D2494<>\"\",'Line 1 Source'!D2494,\"\")","v":""},{"$f":"IF('Line 1 Source'!E2494<>\"\",'Line 1 Source'!E2494,\"\")","v":""},{"$f":"IF('Line 1 Source'!F2494<>\"\",'Line 1 Source'!F2494,\"\")","v":""}]
[{"$f":"IF('Line 1 Source'!A2495<>\"\",'Line 1 Source'!A2495,\"\")","v":""},"",{"$f":"CONCATENATE(VLOOKUP(B2495,'School List'!$B$3:$H$291,6,FALSE),H2495)","v":{"$error":"#N/A"}},{"$f":"CONCATENATE(VLOOKUP(B2495,'School List'!$B$3:$D$291,3,FALSE),H2495)","v":{"$error":"#N/A"}},{"$f":"IF('Line 1 Source'!B2495<>\"\",'Line 1 Source'!B2495,\"\")","v":""},{"$f":"IF('Line 1 Source'!C2495<>\"\",'Line 1 Source'!C2495,\"\")","v":""},{"$f":"IF('Line 1 Source'!D2495<>\"\",'Line 1 Source'!D2495,\"\")","v":""},{"$f":"IF('Line 1 Source'!E2495<>\"\",'Line 1 Source'!E2495,\"\")","v":""},{"$f":"IF('Line 1 Source'!F2495<>\"\",'Line 1 Source'!F2495,\"\")","v":""}]
[{"$f":"IF('Line 1 Source'!A2496<>\"\",'Line 1 Source'!A2496,\"\")","v":""},"",{"$f":"CONCATENATE(VLOOKUP(B2496,'School List'!$B$3:$H$291,6,FALSE),H2496)","v":{"$error":"#N/A"}},{"$f":"CONCATENATE(VLOOKUP(B2496,'School List'!$B$3:$D$291,3,FALSE),H2496)","v":{"$error":"#N/A"}},{"$f":"IF('Line 1 Source'!B2496<>\"\",'Line 1 Source'!B2496,\"\")","v":""},{"$f":"IF('Line 1 Source'!C2496<>\"\",'Line 1 Source'!C2496,\"\")","v":""},{"$f":"IF('Line 1 Source'!D2496<>\"\",'Line 1 Source'!D2496,\"\")","v":""},{"$f":"IF('Line 1 Source'!E2496<>\"\",'Line 1 Source'!E2496,\"\")","v":""},{"$f":"IF('Line 1 Source'!F2496<>\"\",'Line 1 Source'!F2496,\"\")","v":""}]
[{"$f":"IF('Line 1 Source'!A2497<>\"\",'Line 1 Source'!A2497,\"\")","v":""},"",{"$f":"CONCATENATE(VLOOKUP(B2497,'School List'!$B$3:$H$291,6,FALSE),H2497)","v":{"$error":"#N/A"}},{"$f":"CONCATENATE(VLOOKUP(B2497,'School List'!$B$3:$D$291,3,FALSE),H2497)","v":{"$error":"#N/A"}},{"$f":"IF('Line 1 Source'!B2497<>\"\",'Line 1 Source'!B2497,\"\")","v":""},{"$f":"IF('Line 1 Source'!C2497<>\"\",'Line 1 Source'!C2497,\"\")","v":""},{"$f":"IF('Line 1 Source'!D2497<>\"\",'Line 1 Source'!D2497,\"\")","v":""},{"$f":"IF('Line 1 Source'!E2497<>\"\",'Line 1 Source'!E2497,\"\")","v":""},{"$f":"IF('Line 1 Source'!F2497<>\"\",'Line 1 Source'!F2497,\"\")","v":""}]
[{"$f":"IF('Line 1 Source'!A2498<>\"\",'Line 1 Source'!A2498,\"\")","v":""},"",{"$f":"CONCATENATE(VLOOKUP(B2498,'School List'!$B$3:$H$291,6,FALSE),H2498)","v":{"$error":"#N/A"}},{"$f":"CONCATENATE(VLOOKUP(B2498,'School List'!$B$3:$D$291,3,FALSE),H2498)","v":{"$error":"#N/A"}},{"$f":"IF('Line 1 Source'!B2498<>\"\",'Line 1 Source'!B2498,\"\")","v":""},{"$f":"IF('Line 1 Source'!C2498<>\"\",'Line 1 Source'!C2498,\"\")","v":""},{"$f":"IF('Line 1 Source'!D2498<>\"\",'Line 1 Source'!D2498,\"\")","v":""},{"$f":"IF('Line 1 Source'!E2498<>\"\",'Line 1 Source'!E2498,\"\")","v":""},{"$f":"IF('Line 1 Source'!F2498<>\"\",'Line 1 Source'!F2498,\"\")","v":""}]
[{"$f":"IF('Line 1 Source'!A2499<>\"\",'Line 1 Source'!A2499,\"\")","v":""},{"$f":"CONCATENATE(E2499,F2499,G2499)","v":""},{"$f":"CONCATENATE(VLOOKUP(B2499,'School List'!$B$3:$H$291,6,FALSE),H2499)","v":{"$error":"#N/A"}},{"$f":"CONCATENATE(VLOOKUP(B2499,'School List'!$B$3:$D$291,3,FALSE),H2499)","v":{"$error":"#N/A"}},{"$f":"IF('Line 1 Source'!B2499<>\"\",'Line 1 Source'!B2499,\"\")","v":""},{"$f":"IF('Line 1 Source'!C2499<>\"\",'Line 1 Source'!C2499,\"\")","v":""},{"$f":"IF('Line 1 Source'!D2499<>\"\",'Line 1 Source'!D2499,\"\")","v":""},{"$f":"IF('Line 1 Source'!E2499<>\"\",'Line 1 Source'!E2499,\"\")","v":""},{"$f":"IF('Line 1 Source'!F2499<>\"\",'Line 1 Source'!F2499,\"\")","v":""}]
[{"$f":"IF('Line 1 Source'!A2500<>\"\",'Line 1 Source'!A2500,\"\")","v":""},"",{"$f":"CONCATENATE(VLOOKUP(B2500,'School List'!$B$3:$H$291,6,FALSE),H2500)","v":{"$error":"#N/A"}},{"$f":"CONCATENATE(VLOOKUP(B2500,'School List'!$B$3:$D$291,3,FALSE),H2500)","v":{"$error":"#N/A"}},{"$f":"IF('Line 1 Source'!B2500<>\"\",'Line 1 Source'!B2500,\"\")","v":""},{"$f":"IF('Line 1 Source'!C2500<>\"\",'Line 1 Source'!C2500,\"\")","v":""},{"$f":"IF('Line 1 Source'!D2500<>\"\",'Line 1 Source'!D2500,\"\")","v":""},{"$f":"IF('Line 1 Source'!E2500<>\"\",'Line 1 Source'!E2500,\"\")","v":""},{"$f":"IF('Line 1 Source'!F2500<>\"\",'Line 1 Source'!F2500,\"\")","v":""}]

{"sheet":"School List","index":3,"n_rows":291,"n_cols":9,"rows_kept":291,"cut":false,"hidden":true,"merged":[]}
["YR_NBR",null,"CNTY_CD",null,null,"UNIT_TYPE_CD","UNIT_CD","UNIT_NAME","CROSS_CNTY_INDC"]
[null,null,null,"Select School Corporation Name",null,null,null,"Select School Corporation Name"]
["2018",{"$f":"CONCATENATE(C3,F3,G3)","v":"0140015"},"01",{"$f":"CONCATENATE(E3,\" - \",H3)","v":"Adams County - ADAMS CENTRAL COMMUNITY SCHOOL CORP"},{"$f":"VLOOKUP(C3,'County List'!$B$3:$C$94,2,FALSE)","v":"Adams County"},"4","0015","ADAMS CENTRAL COMMUNITY SCHOOL CORP","N"]
["2018",{"$f":"CONCATENATE(C4,F4,G4)","v":"0140025"},"01",{"$f":"CONCATENATE(E4,\" - \",H4)","v":"Adams County - NORTH ADAMS COMMUNITY SCHOOL CORP"},{"$f":"VLOOKUP(C4,'County List'!$B$3:$C$94,2,FALSE)","v":"Adams County"},"4","0025","NORTH ADAMS COMMUNITY SCHOOL CORP","N"]
["2018","0140035","01","Adams County - SOUTH ADAMS SCHOOL CORPORATION",{"$f":"VLOOKUP(C5,'County List'!$B$3:$C$94,2,FALSE)","v":"Adams County"},"4","0035","SOUTH ADAMS SCHOOL CORPORATION","N"]
["2018","0240125","02","Allen County - M.S.D. SW ALLEN COUNTY SCHOOL CORP",{"$f":"VLOOKUP(C6,'County List'!$B$3:$C$94,2,FALSE)","v":"Allen County"},"4","0125","M.S.D. SW ALLEN COUNTY SCHOOL CORP","N"]
["2018","0240225","02","Allen County - NORTHWEST ALLEN COUNTY SCHOOL CORP",{"$f":"VLOOKUP(C7,'County List'!$B$3:$C$94,2,FALSE)","v":"Allen County"},"4","0225","NORTHWEST ALLEN COUNTY SCHOOL CORP","N"]
["2018","0240235","02","Allen County - FORT WAYNE COMMUNITY SCHOOL CORPORATION",{"$f":"VLOOKUP(C8,'County List'!$B$3:$C$94,2,FALSE)","v":"Allen County"},"4","0235","FORT WAYNE COMMUNITY SCHOOL CORPORATION","N"]
["2018","0240255","02","Allen County - EAST ALLEN COUNTY SCHOOL CORPORATION",{"$f":"VLOOKUP(C9,'County List'!$B$3:$C$94,2,FALSE)","v":"Allen County"},"4","0255","EAST ALLEN COUNTY SCHOOL CORPORATION","N"]
["2018","0340365","03","Bartholomew County - BARTHOLOMEW CONSOLIDATED SCHOOL CORP",{"$f":"VLOOKUP(C10,'County List'!$B$3:$C$94,2,FALSE)","v":"Bartholomew County"},"4","0365","BARTHOLOMEW CONSOLIDATED SCHOOL CORP","N"]
["2018","0340370","03","Bartholomew County - FLATROCK-HAWCREEK SCHOOL CORPORATION",{"$f":"VLOOKUP(C11,'County List'!$B$3:$C$94,2,FALSE)","v":"Bartholomew County"},"4","0370","FLATROCK-HAWCREEK SCHOOL CORPORATION","N"]
["2018","0440395","04","Benton County - BENTON COMMUNITY SCHOOL CORPORATION",{"$f":"VLOOKUP(C12,'County List'!$B$3:$C$94,2,FALSE)","v":"Benton County"},"4","0395","BENTON COMMUNITY SCHOOL CORPORATION","Y"]
["2018","0540515","05","Blackford County - BLACKFORD COUNTY SCHOOL CORPORATION",{"$f":"VLOOKUP(C13,'County List'!$B$3:$C$94,2,FALSE)","v":"Blackford County"},"4","0515","BLACKFORD COUNTY SCHOOL CORPORATION","N"]
["2018","0640615","06","Boone County - WESTERN BOONE COUNTY SCHOOL CORPORATION",{"$f":"VLOOKUP(C14,'County List'!$B$3:$C$94,2,FALSE)","v":"Boone County"},"4","0615","WESTERN BOONE COUNTY SCHOOL CORPORATION","N"]
["2018","0640630","06","Boone County - ZIONSVILLE COMMUNITY SCHOOL CORPORATION",{"$f":"VLOOKUP(C15,'County List'!$B$3:$C$94,2,FALSE)","v":"Boone County"},"4","0630","ZIONSVILLE COMMUNITY SCHOOL CORPORATION","N"]
["2018","0640665","06","Boone County - LEBANON COMMUNITY SCHOOL CORPORATION",{"$f":"VLOOKUP(C16,'County List'!$B$3:$C$94,2,FALSE)","v":"Boone County"},"4","0665","LEBANON COMMUNITY SCHOOL CORPORATION","N"]
["2018","0740670","07","Brown County - BROWN COUNTY SCHOOL CORPORATION",{"$f":"VLOOKUP(C17,'County List'!$B$3:$C$94,2,FALSE)","v":"Brown County"},"4","0670","BROWN COUNTY SCHOOL CORPORATION","N"]
["2018","0840750","08","Carroll County - CARROLL CONSOLIDATED SCHOOL CORPORATION",{"$f":"VLOOKUP(C18,'County List'!$B$3:$C$94,2,FALSE)","v":"Carroll County"},"4","0750","CARROLL CONSOLIDATED SCHOOL CORPORATION","N"]
["2018","0840755","08","Carroll County - DELPHI COMMUNITY SCHOOL CORPORATION",{"$f":"VLOOKUP(C19,'County List'!$B$3:$C$94,2,FALSE)","v":"Carroll County"},"4","0755","DELPHI COMMUNITY SCHOOL CORPORATION","N"]
["2018","0940775","09","Cass County - PIONEER REGIONAL SCHOOL CORPORATION",{"$f":"VLOOKUP(C20,'County List'!$B$3:$C$94,2,FALSE)","v":"Cass County"},"4","0775","PIONEER REGIONAL SCHOOL CORPORATION","Y"]
["2018","0940815","09","Cass County - SOUTHEASTERN SCHOOL CORPORATION",{"$f":"VLOOKUP(C21,'County List'!$B$3:$C$94,2,FALSE)","v":"Cass County"},"4","0815","SOUTHEASTERN SCHOOL CORPORATION","N"]
["2018","0940875","09","Cass County - LOGANSPORT COMMUNITY SCHOOL CORPORATION",{"$f":"VLOOKUP(C22,'County List'!$B$3:$C$94,2,FALSE)","v":"Cass County"},"4","0875","LOGANSPORT COMMUNITY SCHOOL CORPORATION","N"]
["2018","1040940","10","Clark County - WEST CLARK COMMUNITY SCHOOL CORPORATION",{"$f":"VLOOKUP(C23,'County List'!$B$3:$C$94,2,FALSE)","v":"Clark County"},"4","0940","WEST CLARK COMMUNITY SCHOOL CORPORATION","N"]
["2018","1041000","10","Clark County - CLARKSVILLE COMMUNITY SCHOOL CORPORATION",{"$f":"VLOOKUP(C24,'County List'!$B$3:$C$94,2,FALSE)","v":"Clark County"},"4","1000","CLARKSVILLE COMMUNITY SCHOOL CORPORATION","N"]
["2018","1041010","10","Clark County - GREATER CLARK COUNTY SCHOOL CORPORATION",{"$f":"VLOOKUP(C25,'County List'!$B$3:$C$94,2,FALSE)","v":"Clark County"},"4","1010","GREATER CLARK COUNTY SCHOOL CORPORATION","N"]
["2018","1141125","11","Clay County - CLAY COMMUNITY SCHOOL CORPORATION",{"$f":"VLOOKUP(C26,'County List'!$B$3:$C$94,2,FALSE)","v":"Clay County"},"4","1125","CLAY COMMUNITY SCHOOL CORPORATION","Y"]
["2018","1142960","11","Clay County - M.S.D. SHAKAMAK SCHOOL CORPORATION",{"$f":"VLOOKUP(C27,'County List'!$B$3:$C$94,2,FALSE)","v":"Clay County"},"4","2960","M.S.D. SHAKAMAK SCHOOL CORPORATION","Y"]
["2018","1241150","12","Clinton County - CLINTON CENTRAL SCHOOL CORPORATION",{"$f":"VLOOKUP(C28,'County List'!$B$3:$C$94,2,FALSE)","v":"Clinton County"},"4","1150","CLINTON CENTRAL SCHOOL CORPORATION","N"]
["2018","1241160","12","Clinton County - CLINTON PRAIRIE SCHOOL CORPORATION",{"$f":"VLOOKUP(C29,'County List'!$B$3:$C$94,2,FALSE)","v":"Clinton County"},"4","1160","CLINTON PRAIRIE SCHOOL CORPORATION","N"]
["2018","1241170","12","Clinton County - FRANKFORT COMMUNITY SCHOOL CORPORATION",{"$f":"VLOOKUP(C30,'County List'!$B$3:$C$94,2,FALSE)","v":"Clinton County"},"4","1170","FRANKFORT COMMUNITY SCHOOL CORPORATION","N"]
["2018","1241180","12","Clinton County - ROSSVILLE CONSOLIDATED SCHOOL CORP",{"$f":"VLOOKUP(C31,'County List'!$B$3:$C$94,2,FALSE)","v":"Clinton County"},"4","1180","ROSSVILLE CONSOLIDATED SCHOOL CORP","Y"]
["2018","1341300","13","Crawford County - CRAWFORD COUNTY COMMUNITY SCHOOL CORP",{"$f":"VLOOKUP(C32,'County List'!$B$3:$C$94,2,FALSE)","v":"Crawford County"},"4","1300","CRAWFORD COUNTY COMMUNITY SCHOOL CORP","Y"]
["2018","1441315","14","Daviess County - BARR-REEVE COMMUNITY SCHOOL CORPORATION",{"$f":"VLOOKUP(C33,'County List'!$B$3:$C$94,2,FALSE)","v":"Daviess County"},"4","1315","BARR-REEVE COMMUNITY SCHOOL CORPORATION","N"]
["2018","1441375","14","Daviess County - NORTH DAVIESS COUNTY SCHOOL CORPORATION",{"$f":"VLOOKUP(C34,'County List'!$B$3:$C$94,2,FALSE)","v":"Daviess County"},"4","1375","NORTH DAVIESS COUNTY SCHOOL CORPORATION","N"]
["2018","1441405","14","Daviess County - WASHINGTON COMMUNITY SCHOOL CORPORATION",{"$f":"VLOOKUP(C35,'County List'!$B$3:$C$94,2,FALSE)","v":"Daviess County"},"4","1405","WASHINGTON COMMUNITY SCHOOL CORPORATION","N"]
["2018","1541560","15","Dearborn County - SUNMAN-DEARBORN COMMUNITY SCHOOL CORP",{"$f":"VLOOKUP(C36,'County List'!$B$3:$C$94,2,FALSE)","v":"Dearborn County"},"4","1560","SUNMAN-DEARBORN COMMUNITY SCHOOL CORP","Y"]
["2018","1541600","15","Dearborn County - SOUTH DEARBORN COMMUNITY SCHOOL CORP",{"$f":"VLOOKUP(C37,'County List'!$B$3:$C$94,2,FALSE)","v":"Dearborn County"},"4","1600","SOUTH DEARBORN COMMUNITY SCHOOL CORP","N"]
["2018","1541620","15","Dearborn County - LAWRENCEBURG COMMUNITY SCHOOL CORP",{"$f":"VLOOKUP(C38,'County List'!$B$3:$C$94,2,FALSE)","v":"Dearborn County"},"4","1620","LAWRENCEBURG COMMUNITY SCHOOL CORP","N"]
["2018","1641655","16","Decatur County - DECATUR COUNTY COMMUNITY SCHOOL CORP",{"$f":"VLOOKUP(C39,'County List'!$B$3:$C$94,2,FALSE)","v":"Decatur County"},"4","1655","DECATUR COUNTY COMMUNITY SCHOOL CORP","Y"]
["2018","1641730","16","Decatur County - GREENSBURG COMMUNITY SCHOOL CORPORATION",{"$f":"VLOOKUP(C40,'County List'!$B$3:$C$94,2,FALSE)","v":"Decatur County"},"4","1730","GREENSBURG COMMUNITY SCHOOL CORPORATION","N"]
["2018","1741805","17","DeKalb County - DEKALB COUNTY EASTERN COMM SCHOOL CORP",{"$f":"VLOOKUP(C41,'County List'!$B$3:$C$94,2,FALSE)","v":"DeKalb County"},"4","1805","DEKALB COUNTY EASTERN COMM SCHOOL CORP","N"]
["2018","1741820","17","DeKalb County - GARRETT-KEYSER-BUTLER COMM SCHOOL CORP",{"$f":"VLOOKUP(C42,'County List'!$B$3:$C$94,2,FALSE)","v":"DeKalb County"},"4","1820","GARRETT-KEYSER-BUTLER COMM SCHOOL CORP","N"]
["2018","1741835","17","DeKalb County - DEKALB COUNTY CENTRAL UNITED SCHOOL CORP",{"$f":"VLOOKUP(C43,'County List'!$B$3:$C$94,2,FALSE)","v":"DeKalb County"},"4","1835","DEKALB COUNTY CENTRAL UNITED SCHOOL CORP","Y"]
["2018","1841875","18","Delaware County - DELAWARE COMMUNITY SCHOOL CORPORATION",{"$f":"VLOOKUP(C44,'County List'!$B$3:$C$94,2,FALSE)","v":"Delaware County"},"4","1875","DELAWARE COMMUNITY SCHOOL CORPORATION","N"]
["2018","1841885","18","Delaware County - WES-DEL COMMUNITY SCHOOL CORP",{"$f":"VLOOKUP(C45,'County List'!$B$3:$C$94,2,FALSE)","v":"Delaware County"},"4","1885","WES-DEL COMMUNITY SCHOOL CORP","N"]
["2018","1841895","18","Delaware County - LIBERTY-PERRY COMMUNITY SCHOOL CORP",{"$f":"VLOOKUP(C46,'County List'!$B$3:$C$94,2,FALSE)","v":"Delaware County"},"4","1895","LIBERTY-PERRY COMMUNITY SCHOOL CORP","N"]
["2018","1841900","18","Delaware County - COWAN COMMUNITY SCHOOL CORPORATION",{"$f":"VLOOKUP(C47,'County List'!$B$3:$C$94,2,FALSE)","v":"Delaware County"},"4","1900","COWAN COMMUNITY SCHOOL CORPORATION","N"]
["2018","1841910","18","Delaware County - YORKTOWN COMMUNITY SCHOOLS",{"$f":"VLOOKUP(C48,'County List'!$B$3:$C$94,2,FALSE)","v":"Delaware County"},"4","1910","YORKTOWN COMMUNITY SCHOOLS","N"]
["2018","1841940","18","Delaware County - DALEVILLE COMMUNITY SCHOOLS",{"$f":"VLOOKUP(C49,'County List'!$B$3:$C$94,2,FALSE)","v":"Delaware County"},"4","1940","DALEVILLE COMMUNITY SCHOOLS","N"]
["2018","1841970","18","Delaware County - MUNCIE COMMUNITY SCHOOL CORPORATION",{"$f":"VLOOKUP(C50,'County List'!$B$3:$C$94,2,FALSE)","v":"Delaware County"},"4","1970","MUNCIE COMMUNITY SCHOOL CORPORATION","N"]
["2018","1942040","19","Dubois County - NORTHEAST DUBOIS COUNTY SCHOOL CORP",{"$f":"VLOOKUP(C51,'County List'!$B$3:$C$94,2,FALSE)","v":"Dubois County"},"4","2040","NORTHEAST DUBOIS COUNTY SCHOOL CORP","N"]
["2018","1942100","19","Dubois County - SOUTHEAST DUBOIS COUNTY SCHOOL CORP",{"$f":"VLOOKUP(C52,'County List'!$B$3:$C$94,2,FALSE)","v":"Dubois County"},"4","2100","SOUTHEAST DUBOIS COUNTY SCHOOL CORP","N"]
["2018","1942110","19","Dubois County - SOUTHWEST DUBOIS COUNTY SCHOOL CORP",{"$f":"VLOOKUP(C53,'County List'!$B$3:$C$94,2,FALSE)","v":"Dubois County"},"4","2110","SOUTHWEST DUBOIS COUNTY SCHOOL CORP","N"]
["2018","1942120","19","Dubois County - GREATER JASPER CONSOLIDATED SCHOOL CORP",{"$f":"VLOOKUP(C54,'County List'!$B$3:$C$94,2,FALSE)","v":"Dubois County"},"4","2120","GREATER JASPER CONSOLIDATED SCHOOL CORP","N"]
["2018","2042155","20","Elkhart County - FAIRFIELD COMMUNITY SCHOOL CORPORATION",{"$f":"VLOOKUP(C55,'County List'!$B$3:$C$94,2,FALSE)","v":"Elkhart County"},"4","2155","FAIRFIELD COMMUNITY SCHOOL CORPORATION","N"]
["2018","2042260","20","Elkhart County - BAUGO COMMUNITY SCHOOL CORPORATION",{"$f":"VLOOKUP(C56,'County List'!$B$3:$C$94,2,FALSE)","v":"Elkhart County"},"4","2260","BAUGO COMMUNITY SCHOOL CORPORATION","N"]
["2018","2042270","20","Elkhart County - CONCORD COMMUNITY SCHOOL CORPORATION",{"$f":"VLOOKUP(C57,'County List'!$B$3:$C$94,2,FALSE)","v":"Elkhart County"},"4","2270","CONCORD COMMUNITY SCHOOL CORPORATION","N"]
["2018","2042275","20","Elkhart County - MIDDLEBURY COMMUNITY SCHOOL CORPORATION",{"$f":"VLOOKUP(C58,'County List'!$B$3:$C$94,2,FALSE)","v":"Elkhart County"},"4","2275","MIDDLEBURY COMMUNITY SCHOOL CORPORATION","N"]
["2018","2042285","20","Elkhart County - WA-NEE COMMUNITY SCHOOL CORPORATION",{"$f":"VLOOKUP(C59,'County List'!$B$3:$C$94,2,FALSE)","v":"Elkhart County"},"4","2285","WA-NEE COMMUNITY SCHOOL CORPORATION","Y"]
["2018","2042305","20","Elkhart County - ELKHART COMMUNITY SCHOOL CORPORATION",{"$f":"VLOOKUP(C60,'County List'!$B$3:$C$94,2,FALSE)","v":"Elkhart County"},"4","2305","ELKHART COMMUNITY SCHOOL CORPORATION","N"]
["2018","2042315","20","Elkhart County - GOSHEN COMMUNITY SCHOOL CORPORATION",{"$f":"VLOOKUP(C61,'County List'!$B$3:$C$94,2,FALSE)","v":"Elkhart County"},"4","2315","GOSHEN COMMUNITY SCHOOL CORPORATION","N"]
["2018","2142395","21","Fayette County - FAYETTE COUNTY SCHOOL CORPORATION",{"$f":"VLOOKUP(C62,'County List'!$B$3:$C$94,2,FALSE)","v":"Fayette County"},"4","2395","FAYETTE COUNTY SCHOOL CORPORATION","N"]
["2018","2242400","22","Floyd County - NEW ALBANY-FLOYD COUNTY CONS SCHOOL CORP",{"$f":"VLOOKUP(C63,'County List'!$B$3:$C$94,2,FALSE)","v":"Floyd County"},"4","2400","NEW ALBANY-FLOYD COUNTY CONS SCHOOL CORP","N"]
["2018","2342435","23","Fountain County - ATTICA CONSOLIDATED SCHOOL CORPORATION",{"$f":"VLOOKUP(C64,'County List'!$B$3:$C$94,2,FALSE)","v":"Fountain County"},"4","2435","ATTICA CONSOLIDATED SCHOOL CORPORATION","N"]
["2018","2342440","23","Fountain County - COVINGTON COMMUNITY SCHOOL CORPORATION",{"$f":"VLOOKUP(C65,'County List'!$B$3:$C$94,2,FALSE)","v":"Fountain County"},"4","2440","COVINGTON COMMUNITY SCHOOL CORPORATION","Y"]
["2018","2342455","23","Fountain County - SOUTHEAST FOUNTAIN SCHOOL CORPORATION",{"$f":"VLOOKUP(C66,'County List'!$B$3:$C$94,2,FALSE)","v":"Fountain County"},"4","2455","SOUTHEAST FOUNTAIN SCHOOL CORPORATION","N"]
["2018","2442475","24","Franklin County - FRANKLIN COUNTY COMMUNITY SCHOOL CORP",{"$f":"VLOOKUP(C67,'County List'!$B$3:$C$94,2,FALSE)","v":"Franklin County"},"4","2475","FRANKLIN COUNTY COMMUNITY SCHOOL CORP","N"]
["2018",{"$f":"CONCATENATE(C68,F68,G68)","v":"2542645"},"25",{"$f":"CONCATENATE(E68,\" - \",H68)","v":"Fulton County - ROCHESTER COMMUNITY SCHOOL CORPORATION"},{"$f":"VLOOKUP(C68,'County List'!$B$3:$C$94,2,FALSE)","v":"Fulton County"},"4","2645","ROCHESTER COMMUNITY SCHOOL CORPORATION","N"]
["2018","2542650","25","Fulton County - CASTON SCHOOL CORPORATION",{"$f":"VLOOKUP(C69,'County List'!$B$3:$C$94,2,FALSE)","v":"Fulton County"},"4","2650","CASTON SCHOOL CORPORATION","Y"]
["2018","2642725","26","Gibson County - EAST GIBSON SCHOOL CORPORATION",{"$f":"VLOOKUP(C70,'County List'!$B$3:$C$94,2,FALSE)","v":"Gibson County"},"4","2725","EAST GIBSON SCHOOL CORPORATION","N"]
["2018","2642735","26","Gibson County - NORTH GIBSON SCHOOL CORPORATION",{"$f":"VLOOKUP(C71,'County List'!$B$3:$C$94,2,FALSE)","v":"Gibson County"},"4","2735","NORTH GIBSON SCHOOL CORPORATION","N"]
["2018","2642765","26","Gibson County - SOUTH GIBSON SCHOOL CORPORATION",{"$f":"VLOOKUP(C72,'County List'!$B$3:$C$94,2,FALSE)","v":"Gibson County"},"4","2765","SOUTH GIBSON SCHOOL CORPORATION","N"]
["2018","2742815","27","Grant County - EASTBROOK COMMUNITY SCHOOL CORPORATION",{"$f":"VLOOKUP(C73,'County List'!$B$3:$C$94,2,FALSE)","v":"Grant County"},"4","2815","EASTBROOK COMMUNITY SCHOOL CORPORATION","N"]
["2018","2742825","27","Grant County - MADISON-GRANT UNITED SCHOOL CORPORATION",{"$f":"VLOOKUP(C74,'County List'!$B$3:$C$94,2,FALSE)","v":"Grant County"},"4","2825","MADISON-GRANT UNITED SCHOOL CORPORATION","Y"]
["2018","2742855","27","Grant County - MISSISSINEWA COMMUNITY SCHOOL CORP",{"$f":"VLOOKUP(C75,'County List'!$B$3:$C$94,2,FALSE)","v":"Grant County"},"4","2855","MISSISSINEWA COMMUNITY SCHOOL CORP","N"]
["2018","2742865","27","Grant County - MARION COMMUNITY SCHOOL CORPORATION",{"$f":"VLOOKUP(C76,'County List'!$B$3:$C$94,2,FALSE)","v":"Grant County"},"4","2865","MARION COMMUNITY SCHOOL CORPORATION","N"]
["2018","2745625","27","Grant County - OAK HILL UNITED SCHOOL CORPORATION",{"$f":"VLOOKUP(C77,'County List'!$B$3:$C$94,2,FALSE)","v":"Grant County"},"4","5625","OAK HILL UNITED SCHOOL CORPORATION","Y"]
["2018","2842920","28","Greene County - BLOOMFIELD SCHOOL DISTRICT",{"$f":"VLOOKUP(C78,'County List'!$B$3:$C$94,2,FALSE)","v":"Greene County"},"4","2920","BLOOMFIELD SCHOOL DISTRICT","N"]
["2018","2842940","28","Greene County - EASTERN CONSOLIDATED SCHOOL CORPORATION",{"$f":"VLOOKUP(C79,'County List'!$B$3:$C$94,2,FALSE)","v":"Greene County"},"4","2940","EASTERN CONSOLIDATED SCHOOL CORPORATION","N"]
["2018","2842950","28","Greene County - LINTON-STOCKTON SCHOOL CORPORATION",{"$f":"VLOOKUP(C80,'County List'!$B$3:$C$94,2,FALSE)","v":"Greene County"},"4","2950","LINTON-STOCKTON SCHOOL CORPORATION","N"]
["2018","2842980","28","Greene County - WHITE RIVER VALLEY CONS SCHOOL CORP",{"$f":"VLOOKUP(C81,'County List'!$B$3:$C$94,2,FALSE)","v":"Greene County"},"4","2980","WHITE RIVER VALLEY CONS SCHOOL CORP","N"]
["2018","2943005","29","Hamilton County - HAMILTON SOUTHEASTERN SCHOOL CORPORATION",{"$f":"VLOOKUP(C82,'County List'!$B$3:$C$94,2,FALSE)","v":"Hamilton County"},"4","3005","HAMILTON SOUTHEASTERN SCHOOL CORPORATION","N"]
["2018","2943025","29","Hamilton County - HAMILTON HEIGHTS SCHOOL CORPORATION",{"$f":"VLOOKUP(C83,'County List'!$B$3:$C$94,2,FALSE)","v":"Hamilton County"},"4","3025","HAMILTON HEIGHTS SCHOOL CORPORATION","N"]
["2018","2943030","29","Hamilton County - WESTFIELD-WASHINGTON SCHOOL CORPORATION",{"$f":"VLOOKUP(C84,'County List'!$B$3:$C$94,2,FALSE)","v":"Hamilton County"},"4","3030","WESTFIELD-WASHINGTON SCHOOL CORPORATION","N"]
["2018","2943055","29","Hamilton County - SHERIDAN COMMUNITY SCHOOLS",{"$f":"VLOOKUP(C85,'County List'!$B$3:$C$94,2,FALSE)","v":"Hamilton County"},"4","3055","SHERIDAN COMMUNITY SCHOOLS","Y"]
["2018","2943060","29","Hamilton County - CARMEL-CLAY SCHOOL CORPORATION",{"$f":"VLOOKUP(C86,'County List'!$B$3:$C$94,2,FALSE)","v":"Hamilton County"},"4","3060","CARMEL-CLAY SCHOOL CORPORATION","N"]
["2018","2943070","29","Hamilton County - NOBLESVILLE SCHOOL CORPORATION",{"$f":"VLOOKUP(C87,'County List'!$B$3:$C$94,2,FALSE)","v":"Hamilton County"},"4","3070","NOBLESVILLE SCHOOL CORPORATION","N"]
["2018","3043115","30","Hancock County - SOUTHERN HANCOCK COUNTY COMM SCHOOL CORP",{"$f":"VLOOKUP(C88,'County List'!$B$3:$C$94,2,FALSE)","v":"Hancock County"},"4","3115","SOUTHERN HANCOCK COUNTY COMM SCHOOL CORP","N"]
["2018","3043125","30","Hancock County - GREENFIELD CENTRAL COMMUNITY SCHOOL CORP",{"$f":"VLOOKUP(C89,'County List'!$B$3:$C$94,2,FALSE)","v":"Hancock County"},"4","3125","GREENFIELD CENTRAL COMMUNITY SCHOOL CORP","N"]
["2018","3043135","30","Hancock County - MT. VERNON COMMUNITY SCHOOL CORPORATION",{"$f":"VLOOKUP(C90,'County List'!$B$3:$C$94,2,FALSE)","v":"Hancock County"},"4","3135","MT. VERNON COMMUNITY SCHOOL CORPORATION","N"]
["2018","3043145","30","Hancock County - EASTERN HANCOCK COUNTY COMMUNITY SCHOOL",{"$f":"VLOOKUP(C91,'County List'!$B$3:$C$94,2,FALSE)","v":"Hancock County"},"4","3145","EASTERN HANCOCK COUNTY COMMUNITY SCHOOL","N"]
["2018","3143160","31","Harrison County - LANESVILLE SCHOOL CORPORATION",{"$f":"VLOOKUP(C92,'County List'!$B$3:$C$94,2,FALSE)","v":"Harrison County"},"4","3160","LANESVILLE SCHOOL CORPORATION","N"]
["2018","3143180","31","Harrison County - NORTH HARRISON COMMUNITY SCHOOL CORP",{"$f":"VLOOKUP(C93,'County List'!$B$3:$C$94,2,FALSE)","v":"Harrison County"},"4","3180","NORTH HARRISON COMMUNITY SCHOOL CORP","N"]
["2018","3143190","31","Harrison County - SOUTH HARRISON SCHOOL CORPORATION",{"$f":"VLOOKUP(C94,'County List'!$B$3:$C$94,2,FALSE)","v":"Harrison County"},"4","3190","SOUTH HARRISON SCHOOL CORPORATION","N"]
["2018","3243295","32","Hendricks County - NORTHWEST HENDRICKS SCHOOL CORPORATION",{"$f":"VLOOKUP(C95,'County List'!$B$3:$C$94,2,FALSE)","v":"Hendricks County"},"4","3295","NORTHWEST HENDRICKS SCHOOL CORPORATION","N"]
["2018","3243305","32","Hendricks County - BROWNSBURG COMMUNITY SCHOOL CORPORATION",{"$f":"VLOOKUP(C96,'County List'!$B$3:$C$94,2,FALSE)","v":"Hendricks County"},"4","3305","BROWNSBURG COMMUNITY SCHOOL CORPORATION","N"]
["2018","3243315","32","Hendricks County - AVON COMMUNITY SCHOOL CORPORATION",{"$f":"VLOOKUP(C97,'County List'!$B$3:$C$94,2,FALSE)","v":"Hendricks County"},"4","3315","AVON COMMUNITY SCHOOL CORPORATION","N"]
["2018","3243325","32","Hendricks County - DANVILLE COMMUNITY SCHOOL CORPORATION",{"$f":"VLOOKUP(C98,'County List'!$B$3:$C$94,2,FALSE)","v":"Hendricks County"},"4","3325","DANVILLE COMMUNITY SCHOOL CORPORATION","N"]
["2018","3243330","32","Hendricks County - PLAINFIELD COMMUNITY SCHOOL CORPORATION",{"$f":"VLOOKUP(C99,'County List'!$B$3:$C$94,2,FALSE)","v":"Hendricks County"},"4","3330","PLAINFIELD COMMUNITY SCHOOL CORPORATION","N"]
["2018","3243335","32","Hendricks County - MILL CREEK COMMUNITY SCHOOL CORPORATION",{"$f":"VLOOKUP(C100,'County List'!$B$3:$C$94,2,FALSE)","v":"Hendricks County"},"4","3335","MILL CREEK COMMUNITY SCHOOL CORPORATION","N"]
["2018","3343405","33","Henry County - BLUE RIVER VALLEY SCHOOL CORPORATION",{"$f":"VLOOKUP(C101,'County List'!$B$3:$C$94,2,FALSE)","v":"Henry County"},"4","3405","BLUE RIVER VALLEY SCHOOL CORPORATION","N"]
["2018","3343415","33","Henry County - SOUTH HENRY SCHOOL CORPORATION",{"$f":"VLOOKUP(C102,'County List'!$B$3:$C$94,2,FALSE)","v":"Henry County"},"4","3415","SOUTH HENRY SCHOOL CORPORATION","N"]
["2018","3343435","33","Henry County - SHENANDOAH SCHOOL CORPORATION",{"$f":"VLOOKUP(C103,'County List'!$B$3:$C$94,2,FALSE)","v":"Henry County"},"4","3435","SHENANDOAH SCHOOL CORPORATION","N"]
["2018","3343445","33","Henry County - NEW CASTLE COMMUNITY SCHOOL CORPORATION",{"$f":"VLOOKUP(C104,'County List'!$B$3:$C$94,2,FALSE)","v":"Henry County"},"4","3445","NEW CASTLE COMMUNITY SCHOOL CORPORATION","N"]
["2018","3343455","33","Henry County - CHARLES A. BEARD MEMORIAL SCHOOL CORP",{"$f":"VLOOKUP(C105,'County List'!$B$3:$C$94,2,FALSE)","v":"Henry County"},"4","3455","CHARLES A. BEARD MEMORIAL SCHOOL CORP","Y"]
["2018","3443460","34","Howard County - TAYLOR COMMUNITY SCHOOL CORPORATION",{"$f":"VLOOKUP(C106,'County List'!$B$3:$C$94,2,FALSE)","v":"Howard County"},"4","3460","TAYLOR COMMUNITY SCHOOL CORPORATION","N"]
["2018","3443470","34","Howard County - NORTHWESTERN SCHOOL CORPORATION",{"$f":"VLOOKUP(C107,'County List'!$B$3:$C$94,2,FALSE)","v":"Howard County"},"4","3470","NORTHWESTERN SCHOOL CORPORATION","N"]
["2018","3443480","34","Howard County - EASTERN HOWARD COMMUNITY SCHOOL CORP",{"$f":"VLOOKUP(C108,'County List'!$B$3:$C$94,2,FALSE)","v":"Howard County"},"4","3480","EASTERN HOWARD COMMUNITY SCHOOL CORP","N"]
["2018","3443490","34","Howard County - WESTERN SCHOOL CORPORATION",{"$f":"VLOOKUP(C109,'County List'!$B$3:$C$94,2,FALSE)","v":"Howard County"},"4","3490","WESTERN SCHOOL CORPORATION","N"]
["2018","3443500","34","Howard County - KOKOMO SCHOOL CORPORATION",{"$f":"VLOOKUP(C110,'County List'!$B$3:$C$94,2,FALSE)","v":"Howard County"},"4","3500","KOKOMO SCHOOL CORPORATION","N"]
["2018","3543625","35","Huntington County - HUNTINGTON COUNTY COMMUNITY SCHOOL CORP",{"$f":"VLOOKUP(C111,'County List'!$B$3:$C$94,2,FALSE)","v":"Huntington County"},"4","3625","HUNTINGTON COUNTY COMMUNITY SCHOOL CORP","N"]
["2018","3643640","36","Jackson County - MEDORA COMMUNITY SCHOOL CORPORATION",{"$f":"VLOOKUP(C112,'County List'!$B$3:$C$94,2,FALSE)","v":"Jackson County"},"4","3640","MEDORA COMMUNITY SCHOOL CORPORATION","N"]
["2018","3643675","36","Jackson County - SEYMOUR COMMUNITY SCHOOL CORPORATION",{"$f":"VLOOKUP(C113,'County List'!$B$3:$C$94,2,FALSE)","v":"Jackson County"},"4","3675","SEYMOUR COMMUNITY SCHOOL CORPORATION","N"]
["2018","3643695","36","Jackson County - BROWNSTOWN CENTRAL COMMUNITY SCHOOL CORP",{"$f":"VLOOKUP(C114,'County List'!$B$3:$C$94,2,FALSE)","v":"Jackson County"},"4","3695","BROWNSTOWN CENTRAL COMMUNITY SCHOOL CORP","N"]
["2018","3643710","36","Jackson County - CROTHERSVILLE COMMUNITY SCHOOL CORP",{"$f":"VLOOKUP(C115,'County List'!$B$3:$C$94,2,FALSE)","v":"Jackson County"},"4","3710","CROTHERSVILLE COMMUNITY SCHOOL CORP","N"]
["2018","3743785","37","Jasper County - KANKAKEE VALLEY SCHOOL CORPORATION",{"$f":"VLOOKUP(C116,'County List'!$B$3:$C$94,2,FALSE)","v":"Jasper County"},"4","3785","KANKAKEE VALLEY SCHOOL CORPORATION","N"]
["2018","3743815","37","Jasper County - RENSSELAER CENTRAL SCHOOL CORPORATION",{"$f":"VLOOKUP(C117,'County List'!$B$3:$C$94,2,FALSE)","v":"Jasper County"},"4","3815","RENSSELAER CENTRAL SCHOOL CORPORATION","N"]
["2018","3843945","38","Jay County - JAY COUNTY SCHOOL CORPORATION",{"$f":"VLOOKUP(C118,'County List'!$B$3:$C$94,2,FALSE)","v":"Jay County"},"4","3945","JAY COUNTY SCHOOL CORPORATION","Y"]
["2018","3943995","39","Jefferson County - MADISON CONSOLIDATED SCHOOL CORPORATION",{"$f":"VLOOKUP(C119,'County List'!$B$3:$C$94,2,FALSE)","v":"Jefferson County"},"4","3995","MADISON CONSOLIDATED SCHOOL CORPORATION","N"]
["2018","3944000","39","Jefferson County - SOUTHWESTERN JEFFERSON CONSOLIDATED SCHO",{"$f":"VLOOKUP(C120,'County List'!$B$3:$C$94,2,FALSE)","v":"Jefferson County"},"4","4000","SOUTHWESTERN JEFFERSON CONSOLIDATED SCHO","N"]
["2018","4044015","40","Jennings County - JENNINGS COUNTY SCHOOL CORPORATION",{"$f":"VLOOKUP(C121,'County List'!$B$3:$C$94,2,FALSE)","v":"Jennings County"},"4","4015","JENNINGS COUNTY SCHOOL CORPORATION","N"]
["2018","4144145","41","Johnson County - CLARK-PLEASANT COMMUNITY SCHOOL CORP",{"$f":"VLOOKUP(C122,'County List'!$B$3:$C$94,2,FALSE)","v":"Johnson County"},"4","4145","CLARK-PLEASANT COMMUNITY SCHOOL CORP","N"]
["2018","4144205","41","Johnson County - CENTER GROVE COMMUNITY SCHOOL CORP",{"$f":"VLOOKUP(C123,'County List'!$B$3:$C$94,2,FALSE)","v":"Johnson County"},"4","4205","CENTER GROVE COMMUNITY SCHOOL CORP","N"]
["2018","4144215","41","Johnson County - EDINBURGH COMMUNITY SCHOOL CORPORATION",{"$f":"VLOOKUP(C124,'County List'!$B$3:$C$94,2,FALSE)","v":"Johnson County"},"4","4215","EDINBURGH COMMUNITY SCHOOL CORPORATION","Y"]
["2018","4144225","41","Johnson County - FRANKLIN COMMUNITY SCHOOL CORPORATION",{"$f":"VLOOKUP(C125,'County List'!$B$3:$C$94,2,FALSE)","v":"Johnson County"},"4","4225","FRANKLIN COMMUNITY SCHOOL CORPORATION","N"]
["2018","4144245","41","Johnson County - GREENWOOD COMMUNITY SCHOOL CORPORATION",{"$f":"VLOOKUP(C126,'County List'!$B$3:$C$94,2,FALSE)","v":"Johnson County"},"4","4245","GREENWOOD COMMUNITY SCHOOL CORPORATION","N"]
["2018","4144255","41","Johnson County - NINEVEH-HENSLEY-JACKSON UNITED SCH CORP",{"$f":"VLOOKUP(C127,'County List'!$B$3:$C$94,2,FALSE)","v":"Johnson County"},"4","4255","NINEVEH-HENSLEY-JACKSON UNITED SCH CORP","Y"]
["2018","4244315","42","Knox County - NORTH KNOX SCHOOL CORPORATION",{"$f":"VLOOKUP(C128,'County List'!$B$3:$C$94,2,FALSE)","v":"Knox County"},"4","4315","NORTH KNOX SCHOOL CORPORATION","N"]
["2018","4244325","42","Knox County - SOUTH KNOX SCHOOL CORPORATION",{"$f":"VLOOKUP(C129,'County List'!$B$3:$C$94,2,FALSE)","v":"Knox County"},"4","4325","SOUTH KNOX SCHOOL CORPORATION","N"]
["2018","4244335","42","Knox County - VINCENNES COMMUNITY SCHOOL CORPORATION",{"$f":"VLOOKUP(C130,'County List'!$B$3:$C$94,2,FALSE)","v":"Knox County"},"4","4335","VINCENNES COMMUNITY SCHOOL CORPORATION","N"]
["2018","4344345","43","Kosciusko County - WAWASEE COMMUNITY SCHOOL CORPORATION",{"$f":"VLOOKUP(C131,'County List'!$B$3:$C$94,2,FALSE)","v":"Kosciusko County"},"4","4345","WAWASEE COMMUNITY SCHOOL CORPORATION","N"]
["2018",{"$f":"CONCATENATE(C132,F132,G132)","v":"4344415"},"43",{"$f":"CONCATENATE(E132,\" - \",H132)","v":"Kosciusko County - WARSAW COMMUNITY SCHOOL CORPORATION"},{"$f":"VLOOKUP(C132,'County List'!$B$3:$C$94,2,FALSE)","v":"Kosciusko County"},"4","4415","WARSAW COMMUNITY SCHOOL CORPORATION","N"]
["2018","4344445","43","Kosciusko County - TIPPECANOE VALLEY SCHOOL CORPORATION",{"$f":"VLOOKUP(C133,'County List'!$B$3:$C$94,2,FALSE)","v":"Kosciusko County"},"4","4445","TIPPECANOE VALLEY SCHOOL CORPORATION","Y"]
["2018","4344455","43","Kosciusko County - WHITKO COMMUNITY SCHOOL CORPORATION",{"$f":"VLOOKUP(C134,'County List'!$B$3:$C$94,2,FALSE)","v":"Kosciusko County"},"4","4455","WHITKO COMMUNITY SCHOOL CORPORATION","Y"]
["2018","4444525","44","LaGrange County - WESTVIEW SCHOOL CORPORATION",{"$f":"VLOOKUP(C135,'County List'!$B$3:$C$94,2,FALSE)","v":"LaGrange County"},"4","4525","WESTVIEW SCHOOL CORPORATION","N"]
["2018","4444535","44","LaGrange County - LAKELAND SCHOOL CORPORATION",{"$f":"VLOOKUP(C136,'County List'!$B$3:$C$94,2,FALSE)","v":"LaGrange County"},"4","4535","LAKELAND SCHOOL CORPORATION","Y"]
["2018","4544580","45","Lake County - HANOVER COMMUNITY SCHOOL CORPORATION",{"$f":"VLOOKUP(C137,'County List'!$B$3:$C$94,2,FALSE)","v":"Lake County"},"4","4580","HANOVER COMMUNITY SCHOOL CORPORATION","N"]
["2018","4544590","45","Lake County - RIVER FOREST COMMUNITY SCHOOL CORP",{"$f":"VLOOKUP(C138,'County List'!$B$3:$C$94,2,FALSE)","v":"Lake County"},"4","4590","RIVER FOREST COMMUNITY SCHOOL CORP","N"]
["2018","4544600","45","Lake County - MERRILLVILLE SCHOOL CORPORATION",{"$f":"VLOOKUP(C139,'County List'!$B$3:$C$94,2,FALSE)","v":"Lake County"},"4","4600","MERRILLVILLE SCHOOL CORPORATION","N"]
["2018","4544615","45","Lake County - LAKE CENTRAL SCHOOL CORPORATION",{"$f":"VLOOKUP(C140,'County List'!$B$3:$C$94,2,FALSE)","v":"Lake County"},"4","4615","LAKE CENTRAL SCHOOL CORPORATION","N"]
["2018","4544645","45","Lake County - TRI CREEK SCHOOL CORPORATION",{"$f":"VLOOKUP(C141,'County List'!$B$3:$C$94,2,FALSE)","v":"Lake County"},"4","4645","TRI CREEK SCHOOL CORPORATION","N"]
["2018","4544650","45","Lake County - LAKE RIDGE SCHOOL CORPORATION",{"$f":"VLOOKUP(C142,'County List'!$B$3:$C$94,2,FALSE)","v":"Lake County"},"4","4650","LAKE RIDGE SCHOOL CORPORATION","N"]
["2018","4544720","45","Lake County - HIGHLAND TOWN SCHOOL CORPORATION",{"$f":"VLOOKUP(C143,'County List'!$B$3:$C$94,2,FALSE)","v":"Lake County"},"4","4720","HIGHLAND TOWN SCHOOL CORPORATION","N"]
["2018","4544730","45","Lake County - SCHOOL CITY OF HOBART SCHOOL CORPORATION",{"$f":"VLOOKUP(C144,'County List'!$B$3:$C$94,2,FALSE)","v":"Lake County"},"4","4730","SCHOOL CITY OF HOBART SCHOOL CORPORATION","N"]
["2018","4544740","45","Lake County - MUNSTER COMMUNITY SCHOOL CORPORATION",{"$f":"VLOOKUP(C145,'County List'!$B$3:$C$94,2,FALSE)","v":"Lake County"},"4","4740","MUNSTER COMMUNITY SCHOOL CORPORATION","N"]
["2018","4544760","45","Lake County - WHITING CITY SCHOOL CORPORATION",{"$f":"VLOOKUP(C146,'County List'!$B$3:$C$94,2,FALSE)","v":"Lake County"},"4","4760","WHITING CITY SCHOOL CORPORATION","N"]
["2018","4544660","45","Lake County - CROWN POINT COMMUNITY SCHOOL CORPORATION",{"$f":"VLOOKUP(C147,'County List'!$B$3:$C$94,2,FALSE)","v":"Lake County"},"4","4660","CROWN POINT COMMUNITY SCHOOL CORPORATION","N"]
["2018","4544670","45","Lake County - SCHOOL CITY OF EAST CHICAGO SCHOOL CORP",{"$f":"VLOOKUP(C148,'County List'!$B$3:$C$94,2,FALSE)","v":"Lake County"},"4","4670","SCHOOL CITY OF EAST CHICAGO SCHOOL CORP","N"]
["2018","4544680","45","Lake County - LAKE STATION SCHOOL CORPORATION",{"$f":"VLOOKUP(C149,'County List'!$B$3:$C$94,2,FALSE)","v":"Lake County"},"4","4680","LAKE STATION SCHOOL CORPORATION","N"]
["2018","4544690","45","Lake County - GARY COMMUNITY SCHOOL CORPORATION",{"$f":"VLOOKUP(C150,'County List'!$B$3:$C$94,2,FALSE)","v":"Lake County"},"4","4690","GARY COMMUNITY SCHOOL CORPORATION","N"]
["2018","4544700","45","Lake County - GRIFFITH PUBLIC SCHOOL CORPORATION",{"$f":"VLOOKUP(C151,'County List'!$B$3:$C$94,2,FALSE)","v":"Lake County"},"4","4700","GRIFFITH PUBLIC SCHOOL CORPORATION","N"]
["2018","4544710","45","Lake County - HAMMOND CITY SCHOOL CORPORATION",{"$f":"VLOOKUP(C152,'County List'!$B$3:$C$94,2,FALSE)","v":"Lake County"},"4","4710","HAMMOND CITY SCHOOL CORPORATION","N"]
["2018","4644805","46","LaPorte County - NEW PRAIRIE UNITED SCHOOL CORPORATION",{"$f":"VLOOKUP(C153,'County List'!$B$3:$C$94,2,FALSE)","v":"LaPorte County"},"4","4805","NEW PRAIRIE UNITED SCHOOL CORPORATION","Y"]
["2018","4644860","46","LaPorte County - NEW DURHAM TOWNSHIP SCHOOL CORPORATION",{"$f":"VLOOKUP(C154,'County List'!$B$3:$C$94,2,FALSE)","v":"LaPorte County"},"4","4860","NEW DURHAM TOWNSHIP SCHOOL CORPORATION","N"]
["2018","4644915","46","LaPorte County - TRI-TOWNSHIP SCHOOL CORPORATION",{"$f":"VLOOKUP(C155,'County List'!$B$3:$C$94,2,FALSE)","v":"LaPorte County"},"4","4915","TRI-TOWNSHIP SCHOOL CORPORATION","N"]
["2018","4644925","46","LaPorte County - MICHIGAN CITY AREA SCHOOL CORPORATION",{"$f":"VLOOKUP(C156,'County List'!$B$3:$C$94,2,FALSE)","v":"LaPorte County"},"4","4925","MICHIGAN CITY AREA SCHOOL CORPORATION","Y"]
["2018","4644940","46","LaPorte County - SOUTH CENTRAL COMMUNITY SCHOOL CORP",{"$f":"VLOOKUP(C157,'County List'!$B$3:$C$94,2,FALSE)","v":"LaPorte County"},"4","4940","SOUTH CENTRAL COMMUNITY SCHOOL CORP","N"]
["2018","4644945","46","LaPorte County - LAPORTE COMMUNITY SCHOOL CORPORATION",{"$f":"VLOOKUP(C158,'County List'!$B$3:$C$94,2,FALSE)","v":"LaPorte County"},"4","4945","LAPORTE COMMUNITY SCHOOL CORPORATION","N"]
["2018","4745075","47","Lawrence County - NORTH LAWRENCE COMMUNITY SCHOOL CORP",{"$f":"VLOOKUP(C159,'County List'!$B$3:$C$94,2,FALSE)","v":"Lawrence County"},"4","5075","NORTH LAWRENCE COMMUNITY SCHOOL CORP","N"]
["2018","4745085","47","Lawrence County - MITCHELL COMMUNITY SCHOOL CORPORATION",{"$f":"VLOOKUP(C160,'County List'!$B$3:$C$94,2,FALSE)","v":"Lawrence County"},"4","5085","MITCHELL COMMUNITY SCHOOL CORPORATION","N"]
["2018","4845245","48","Madison County - FRANKTON-LAPEL COMMUNITY SCHOOL CORP",{"$f":"VLOOKUP(C161,'County List'!$B$3:$C$94,2,FALSE)","v":"Madison County"},"4","5245","FRANKTON-LAPEL COMMUNITY SCHOOL CORP","N"]
["2018","4845255","48","Madison County - SOUTH MADISON COMMUNITY SCHOOL CORP",{"$f":"VLOOKUP(C162,'County List'!$B$3:$C$94,2,FALSE)","v":"Madison County"},"4","5255","SOUTH MADISON COMMUNITY SCHOOL CORP","N"]
["2018","4845265","48","Madison County - ALEXANDRIA COMMUNITY SCHOOL CORPORATION",{"$f":"VLOOKUP(C163,'County List'!$B$3:$C$94,2,FALSE)","v":"Madison County"},"4","5265","ALEXANDRIA COMMUNITY SCHOOL CORPORATION","N"]
["2018","4845275","48","Madison County - ANDERSON COMMUNITY SCHOOL CORPORATION",{"$f":"VLOOKUP(C164,'County List'!$B$3:$C$94,2,FALSE)","v":"Madison County"},"4","5275","ANDERSON COMMUNITY SCHOOL CORPORATION","N"]
["2018","4845280","48","Madison County - ELWOOD COMMUNITY SCHOOL CORPORATION",{"$f":"VLOOKUP(C165,'County List'!$B$3:$C$94,2,FALSE)","v":"Madison County"},"4","5280","ELWOOD COMMUNITY SCHOOL CORPORATION","N"]
["2018","4945300","49","Marion County - M.S.D. DECATUR TOWNSHIP SCHOOL CORP",{"$f":"VLOOKUP(C166,'County List'!$B$3:$C$94,2,FALSE)","v":"Marion County"},"4","5300","M.S.D. DECATUR TOWNSHIP SCHOOL CORP","N"]
["2018","4945310","49","Marion County - FRANKLIN TOWNSHIP COMMUNITY SCHOOL CORP",{"$f":"VLOOKUP(C167,'County List'!$B$3:$C$94,2,FALSE)","v":"Marion County"},"4","5310","FRANKLIN TOWNSHIP COMMUNITY SCHOOL CORP","N"]
["2018","4945330","49","Marion County - M.S.D. LAWRENCE TOWNSHIP SCHOOL CORP",{"$f":"VLOOKUP(C168,'County List'!$B$3:$C$94,2,FALSE)","v":"Marion County"},"4","5330","M.S.D. LAWRENCE TOWNSHIP SCHOOL CORP","N"]
["2018","4945340","49","Marion County - M.S.D. PERRY TOWNSHIP SCHOOL CORPORATION",{"$f":"VLOOKUP(C169,'County List'!$B$3:$C$94,2,FALSE)","v":"Marion County"},"4","5340","M.S.D. PERRY TOWNSHIP SCHOOL CORPORATION","N"]
["2018","4945350","49","Marion County - M.S.D. PIKE TOWNSHIP SCHOOL CORPORATION",{"$f":"VLOOKUP(C170,'County List'!$B$3:$C$94,2,FALSE)","v":"Marion County"},"4","5350","M.S.D. PIKE TOWNSHIP SCHOOL CORPORATION","N"]
["2018","4945360","49","Marion County - M.S.D. WARREN TOWNSHIP SCHOOL CORP",{"$f":"VLOOKUP(C171,'County List'!$B$3:$C$94,2,FALSE)","v":"Marion County"},"4","5360","M.S.D. WARREN TOWNSHIP SCHOOL CORP","N"]
["2018","4945370","49","Marion County - M.S.D. WASHINGTON TOWNSHIP SCHOOL CORP",{"$f":"VLOOKUP(C172,'County List'!$B$3:$C$94,2,FALSE)","v":"Marion County"},"4","5370","M.S.D. WASHINGTON TOWNSHIP SCHOOL CORP","N"]
["2018","4945375","49","Marion County - M.S.D. WAYNE TOWNSHIP SCHOOL CORPORATION",{"$f":"VLOOKUP(C173,'County List'!$B$3:$C$94,2,FALSE)","v":"Marion County"},"4","5375","M.S.D. WAYNE TOWNSHIP SCHOOL CORPORATION","N"]
["2018","4945380","49","Marion County - BEECH GROVE CITY SCHOOL CORPORATION",{"$f":"VLOOKUP(C174,'County List'!$B$3:$C$94,2,FALSE)","v":"Marion County"},"4","5380","BEECH GROVE CITY SCHOOL CORPORATION","N"]
["2018","4945385","49","Marion County - INDIANAPOLIS PUBLIC SCHOOL CORPORATION",{"$f":"VLOOKUP(C175,'County List'!$B$3:$C$94,2,FALSE)","v":"Marion County"},"4","5385","INDIANAPOLIS PUBLIC SCHOOL CORPORATION","N"]
["2018","4945400","49","Marion County - SPEEDWAY CITY SCHOOL CORPORATION",{"$f":"VLOOKUP(C176,'County List'!$B$3:$C$94,2,FALSE)","v":"Marion County"},"4","5400","SPEEDWAY CITY SCHOOL CORPORATION","N"]
["2018","5045455","50","Marshall County - CULVER COMMUNITY SCHOOL CORPORATION",{"$f":"VLOOKUP(C177,'County List'!$B$3:$C$94,2,FALSE)","v":"Marshall County"},"4","5455","CULVER COMMUNITY SCHOOL CORPORATION","Y"]
["2018","5045470","50","Marshall County - ARGOS COMMUNITY SCHOOL CORPORATION",{"$f":"VLOOKUP(C178,'County List'!$B$3:$C$94,2,FALSE)","v":"Marshall County"},"4","5470","ARGOS COMMUNITY SCHOOL CORPORATION","N"]
["2018","5045480","50","Marshall County - BREMEN PUBLIC SCHOOL CORPORATION",{"$f":"VLOOKUP(C179,'County List'!$B$3:$C$94,2,FALSE)","v":"Marshall County"},"4","5480","BREMEN PUBLIC SCHOOL CORPORATION","N"]
["2018","5045485","50","Marshall County - PLYMOUTH COMMUNITY SCHOOL CORP",{"$f":"VLOOKUP(C180,'County List'!$B$3:$C$94,2,FALSE)","v":"Marshall County"},"4","5485","PLYMOUTH COMMUNITY SCHOOL CORP","N"]
["2018","5045495","50","Marshall County - TRITON SCHOOL CORPORATION",{"$f":"VLOOKUP(C181,'County List'!$B$3:$C$94,2,FALSE)","v":"Marshall County"},"4","5495","TRITON SCHOOL CORPORATION","Y"]
["2018","5047215","50","Marshall County - UNION-NORTH UNITED SCHOOL CORPORATION",{"$f":"VLOOKUP(C182,'County List'!$B$3:$C$94,2,FALSE)","v":"Marshall County"},"4","7215","UNION-NORTH UNITED SCHOOL CORPORATION","Y"]
["2018","5145520","51","Martin County - SHOALS COMMUNITY SCHOOL CORPORATION",{"$f":"VLOOKUP(C183,'County List'!$B$3:$C$94,2,FALSE)","v":"Martin County"},"4","5520","SHOALS COMMUNITY SCHOOL CORPORATION","N"]
["2018","5145525","51","Martin County - LOOGOOTEE COMMUNITY SCHOOL CORPORATION",{"$f":"VLOOKUP(C184,'County List'!$B$3:$C$94,2,FALSE)","v":"Martin County"},"4","5525","LOOGOOTEE COMMUNITY SCHOOL CORPORATION","N"]
["2018","5245615","52","Miami County - MACONAQUAH SCHOOL CORPORATION",{"$f":"VLOOKUP(C185,'County List'!$B$3:$C$94,2,FALSE)","v":"Miami County"},"4","5615","MACONAQUAH SCHOOL CORPORATION","N"]
["2018","5245620","52","Miami County - NORTH MIAMI CONSOLIDATED SCHOOL CORP",{"$f":"VLOOKUP(C186,'County List'!$B$3:$C$94,2,FALSE)","v":"Miami County"},"4","5620","NORTH MIAMI CONSOLIDATED SCHOOL CORP","N"]
["2018","5245635","52","Miami County - PERU COMMUNITY SCHOOL CORPORATION",{"$f":"VLOOKUP(C187,'County List'!$B$3:$C$94,2,FALSE)","v":"Miami County"},"4","5635","PERU COMMUNITY SCHOOL CORPORATION","N"]
["2018","5345705","53","Monroe County - RICHLAND-BEAN BLOSSOM COMM SCHOOL CORP",{"$f":"VLOOKUP(C188,'County List'!$B$3:$C$94,2,FALSE)","v":"Monroe County"},"4","5705","RICHLAND-BEAN BLOSSOM COMM SCHOOL CORP","N"]
["2018","5345740","53","Monroe County - MONROE COUNTY COMMUNITY SCHOOL CORP",{"$f":"VLOOKUP(C189,'County List'!$B$3:$C$94,2,FALSE)","v":"Monroe County"},"4","5740","MONROE COUNTY COMMUNITY SCHOOL CORP","N"]
["2018","5445835","54","Montgomery County - NORTH MONTGOMERY COMMUNITY SCHOOL CORP",{"$f":"VLOOKUP(C190,'County List'!$B$3:$C$94,2,FALSE)","v":"Montgomery County"},"4","5835","NORTH MONTGOMERY COMMUNITY SCHOOL CORP","N"]
["2018","5445845","54","Montgomery County - SOUTH MONTGOMERY COMMUNITY SCHOOL CORP",{"$f":"VLOOKUP(C191,'County List'!$B$3:$C$94,2,FALSE)","v":"Montgomery County"},"4","5845","SOUTH MONTGOMERY COMMUNITY SCHOOL CORP","N"]
["2018","5445855","54","Montgomery County - CRAWFORDSVILLE COMMUNITY SCHOOL CORP",{"$f":"VLOOKUP(C192,'County List'!$B$3:$C$94,2,FALSE)","v":"Montgomery County"},"4","5855","CRAWFORDSVILLE COMMUNITY SCHOOL CORP","N"]
["2018","5545900","55","Morgan County - MONROE-GREGG SCHOOL CORPORATION",{"$f":"VLOOKUP(C193,'County List'!$B$3:$C$94,2,FALSE)","v":"Morgan County"},"4","5900","MONROE-GREGG SCHOOL CORPORATION","N"]
["2018","5545910","55","Morgan County - EMINENCE CONSOLIDATED SCHOOL CORPORATION",{"$f":"VLOOKUP(C194,'County List'!$B$3:$C$94,2,FALSE)","v":"Morgan County"},"4","5910","EMINENCE CONSOLIDATED SCHOOL CORPORATION","N"]
["2018","5545925","55","Morgan County - M.S.D. MARTINSVILLE SCHOOL CORPORATION",{"$f":"VLOOKUP(C195,'County List'!$B$3:$C$94,2,FALSE)","v":"Morgan County"},"4","5925","M.S.D. MARTINSVILLE SCHOOL CORPORATION","N"]
["2018",{"$f":"CONCATENATE(C196,F196,G196)","v":"5545930"},"55",{"$f":"CONCATENATE(E196,\" - \",H196)","v":"Morgan County - MOORESVILLE CONSOLIDATED SCHOOL CORP"},{"$f":"VLOOKUP(C196,'County List'!$B$3:$C$94,2,FALSE)","v":"Morgan County"},"4","5930","MOORESVILLE CONSOLIDATED SCHOOL CORP","N"]
["2018","5645945","56","Newton County - NORTH NEWTON SCHOOL CORPORATION",{"$f":"VLOOKUP(C197,'County List'!$B$3:$C$94,2,FALSE)","v":"Newton County"},"4","5945","NORTH NEWTON SCHOOL CORPORATION","N"]
["2018","5645995","56","Newton County - SOUTH NEWTON SCHOOL CORPORATION",{"$f":"VLOOKUP(C198,'County List'!$B$3:$C$94,2,FALSE)","v":"Newton County"},"4","5995","SOUTH NEWTON SCHOOL CORPORATION","Y"]
["2018","5746055","57","Noble County - CENTRAL NOBLE COMMUNITY SCHOOL CORP",{"$f":"VLOOKUP(C199,'County List'!$B$3:$C$94,2,FALSE)","v":"Noble County"},"4","6055","CENTRAL NOBLE COMMUNITY SCHOOL CORP","N"]
["2018","5746060","57","Noble County - EAST NOBLE SCHOOL CORPORATION",{"$f":"VLOOKUP(C200,'County List'!$B$3:$C$94,2,FALSE)","v":"Noble County"},"4","6060","EAST NOBLE SCHOOL CORPORATION","N"]
["2018","5746065","57","Noble County - WEST NOBLE SCHOOL CORPORATION",{"$f":"VLOOKUP(C201,'County List'!$B$3:$C$94,2,FALSE)","v":"Noble County"},"4","6065","WEST NOBLE SCHOOL CORPORATION","N"]
["2018","5846080","58","Ohio County - RISING SUN-OHIO COUNTY COMM SCHOOL CORP",{"$f":"VLOOKUP(C202,'County List'!$B$3:$C$94,2,FALSE)","v":"Ohio County"},"4","6080","RISING SUN-OHIO COUNTY COMM SCHOOL CORP","N"]
["2018","5946145","59","Orange County - ORLEANS COMMUNITY SCHOOL CORPORATION",{"$f":"VLOOKUP(C203,'County List'!$B$3:$C$94,2,FALSE)","v":"Orange County"},"4","6145","ORLEANS COMMUNITY SCHOOL CORPORATION","N"]
["2018","5946155","59","Orange County - PAOLI COMMUNITY SCHOOL CORPORATION",{"$f":"VLOOKUP(C204,'County List'!$B$3:$C$94,2,FALSE)","v":"Orange County"},"4","6155","PAOLI COMMUNITY SCHOOL CORPORATION","N"]
["2018","5946160","59","Orange County - SPRINGS VALLEY COMMUNITY SCHOOL CORP",{"$f":"VLOOKUP(C205,'County List'!$B$3:$C$94,2,FALSE)","v":"Orange County"},"4","6160","SPRINGS VALLEY COMMUNITY SCHOOL CORP","N"]
["2018","6046195","60","Owen County - SPENCER-OWEN COMMUNITY SCHOOL CORP",{"$f":"VLOOKUP(C206,'County List'!$B$3:$C$94,2,FALSE)","v":"Owen County"},"4","6195","SPENCER-OWEN COMMUNITY SCHOOL CORP","N"]
["2018","6146260","61","Parke County - SOUTHWEST PARKE COMMUNITY SCHOOL CORP",{"$f":"VLOOKUP(C207,'County List'!$B$3:$C$94,2,FALSE)","v":"Parke County"},"4","6260","SOUTHWEST PARKE COMMUNITY SCHOOL CORP","N"]
["2018","6146375","61","Parke County - NORTH CENTRAL PARKE COMM SCHOOL CORP",{"$f":"VLOOKUP(C208,'County List'!$B$3:$C$94,2,FALSE)","v":"Parke County"},"4","6375","NORTH CENTRAL PARKE COMM SCHOOL CORP","N"]
["2018","6246325","62","Perry County - PERRY CENTRAL COMMUNITY SCHOOL CORP",{"$f":"VLOOKUP(C209,'County List'!$B$3:$C$94,2,FALSE)","v":"Perry County"},"4","6325","PERRY CENTRAL COMMUNITY SCHOOL CORP","N"]
["2018","6246340","62","Perry County - CANNELTON CITY SCHOOL CORPORATION",{"$f":"VLOOKUP(C210,'County List'!$B$3:$C$94,2,FALSE)","v":"Perry County"},"4","6340","CANNELTON CITY SCHOOL CORPORATION","N"]
["2018","6246350","62","Perry County - TELL CITY-TROY TOWNSHIP SCHOOL CORP",{"$f":"VLOOKUP(C211,'County List'!$B$3:$C$94,2,FALSE)","v":"Perry County"},"4","6350","TELL CITY-TROY TOWNSHIP SCHOOL CORP","N"]
["2018","6346445","63","Pike County - PIKE COUNTY SCHOOL CORPORATION",{"$f":"VLOOKUP(C212,'County List'!$B$3:$C$94,2,FALSE)","v":"Pike County"},"4","6445","PIKE COUNTY SCHOOL CORPORATION","N"]
["2018","6446460","64","Porter County - BOONE TOWNSHIP SCHOOL CORPORATION",{"$f":"VLOOKUP(C213,'County List'!$B$3:$C$94,2,FALSE)","v":"Porter County"},"4","6460","BOONE TOWNSHIP SCHOOL CORPORATION","N"]
["2018","6446470","64","Porter County - DUNELAND SCHOOL CORPORATION",{"$f":"VLOOKUP(C214,'County List'!$B$3:$C$94,2,FALSE)","v":"Porter County"},"4","6470","DUNELAND SCHOOL CORPORATION","N"]
["2018","6446510","64","Porter County - EAST PORTER COUNTY SCHOOL CORPORATION",{"$f":"VLOOKUP(C215,'County List'!$B$3:$C$94,2,FALSE)","v":"Porter County"},"4","6510","EAST PORTER COUNTY SCHOOL CORPORATION","N"]
["2018","6446520","64","Porter County - PORTER TOWNSHIP SCHOOL CORPORATION",{"$f":"VLOOKUP(C216,'County List'!$B$3:$C$94,2,FALSE)","v":"Porter County"},"4","6520","PORTER TOWNSHIP SCHOOL CORPORATION","N"]
["2018","6446530","64","Porter County - UNION TOWNSHIP SCHOOL CORPORATION",{"$f":"VLOOKUP(C217,'County List'!$B$3:$C$94,2,FALSE)","v":"Porter County"},"4","6530","UNION TOWNSHIP SCHOOL CORPORATION","N"]
["2018","6446550","64","Porter County - PORTAGE TOWNSHIP SCHOOL CORPORATION",{"$f":"VLOOKUP(C218,'County List'!$B$3:$C$94,2,FALSE)","v":"Porter County"},"4","6550","PORTAGE TOWNSHIP SCHOOL CORPORATION","N"]
["2018","6446560","64","Porter County - VALPARAISO COMMUNITY SCHOOL CORPORATION",{"$f":"VLOOKUP(C219,'County List'!$B$3:$C$94,2,FALSE)","v":"Porter County"},"4","6560","VALPARAISO COMMUNITY SCHOOL CORPORATION","N"]
["2018","6546590","65","Posey County - M.S.D. MOUNT VERNON SCHOOL CORPORATION",{"$f":"VLOOKUP(C220,'County List'!$B$3:$C$94,2,FALSE)","v":"Posey County"},"4","6590","M.S.D. MOUNT VERNON SCHOOL CORPORATION","N"]
["2018","6546600","65","Posey County - M.S.D. NORTH POSEY COUNTY SCHOOL CORP",{"$f":"VLOOKUP(C221,'County List'!$B$3:$C$94,2,FALSE)","v":"Posey County"},"4","6600","M.S.D. NORTH POSEY COUNTY SCHOOL CORP","N"]
["2018","6646620","66","Pulaski County - EASTERN PULASKI COMMUNITY SCHOOL CORP",{"$f":"VLOOKUP(C222,'County List'!$B$3:$C$94,2,FALSE)","v":"Pulaski County"},"4","6620","EASTERN PULASKI COMMUNITY SCHOOL CORP","Y"]
["2018","6646630","66","Pulaski County - WEST CENTRAL SCHOOL CORPORATION",{"$f":"VLOOKUP(C223,'County List'!$B$3:$C$94,2,FALSE)","v":"Pulaski County"},"4","6630","WEST CENTRAL SCHOOL CORPORATION","Y"]
["2018","6746705","67","Putnam County - SOUTH PUTNAM COMMUNITY SCHOOL CORP",{"$f":"VLOOKUP(C224,'County List'!$B$3:$C$94,2,FALSE)","v":"Putnam County"},"4","6705","SOUTH PUTNAM COMMUNITY SCHOOL CORP","N"]
["2018","6746715","67","Putnam County - NORTH PUTNAM COMMUNITY SCHOOL CORP",{"$f":"VLOOKUP(C225,'County List'!$B$3:$C$94,2,FALSE)","v":"Putnam County"},"4","6715","NORTH PUTNAM COMMUNITY SCHOOL CORP","N"]
["2018","6746750","67","Putnam County - CLOVERDALE COMMUNITY SCHOOL CORPORATION",{"$f":"VLOOKUP(C226,'County List'!$B$3:$C$94,2,FALSE)","v":"Putnam County"},"4","6750","CLOVERDALE COMMUNITY SCHOOL CORPORATION","Y"]
["2018","6746755","67","Putnam County - GREENCASTLE COMMUNITY SCHOOL CORPORATION",{"$f":"VLOOKUP(C227,'County List'!$B$3:$C$94,2,FALSE)","v":"Putnam County"},"4","6755","GREENCASTLE COMMUNITY SCHOOL CORPORATION","N"]
["2018","6846795","68","Randolph County - UNION SCHOOL CORPORATION",{"$f":"VLOOKUP(C228,'County List'!$B$3:$C$94,2,FALSE)","v":"Randolph County"},"4","6795","UNION SCHOOL CORPORATION","Y"]
["2018","6846805","68","Randolph County - RANDOLPH SOUTHERN SCHOOL CORPORATION",{"$f":"VLOOKUP(C229,'County List'!$B$3:$C$94,2,FALSE)","v":"Randolph County"},"4","6805","RANDOLPH SOUTHERN SCHOOL CORPORATION","N"]
["2018","6846820","68","Randolph County - MONROE CENTRAL SCHOOL CORPORATION",{"$f":"VLOOKUP(C230,'County List'!$B$3:$C$94,2,FALSE)","v":"Randolph County"},"4","6820","MONROE CENTRAL SCHOOL CORPORATION","N"]
["2018","6846825","68","Randolph County - RANDOLPH CENTRAL SCHOOL CORPORATION",{"$f":"VLOOKUP(C231,'County List'!$B$3:$C$94,2,FALSE)","v":"Randolph County"},"4","6825","RANDOLPH CENTRAL SCHOOL CORPORATION","N"]
["2018","6846835","68","Randolph County - RANDOLPH EASTERN SCHOOL CORPORATION",{"$f":"VLOOKUP(C232,'County List'!$B$3:$C$94,2,FALSE)","v":"Randolph County"},"4","6835","RANDOLPH EASTERN SCHOOL CORPORATION","N"]
["2018","6946865","69","Ripley County - SOUTH RIPLEY COMMUNITY SCHOOL CORP",{"$f":"VLOOKUP(C233,'County List'!$B$3:$C$94,2,FALSE)","v":"Ripley County"},"4","6865","SOUTH RIPLEY COMMUNITY SCHOOL CORP","N"]
["2018","6946895","69","Ripley County - BATESVILLE COMMUNITY SCHOOL CORPORATION",{"$f":"VLOOKUP(C234,'County List'!$B$3:$C$94,2,FALSE)","v":"Ripley County"},"4","6895","BATESVILLE COMMUNITY SCHOOL CORPORATION","Y"]
["2018","6946900","69","Ripley County - JAC-CEN-DEL COMMUNITY SCHOOL CORPORATION",{"$f":"VLOOKUP(C235,'County List'!$B$3:$C$94,2,FALSE)","v":"Ripley County"},"4","6900","JAC-CEN-DEL COMMUNITY SCHOOL CORPORATION","N"]
["2018","6946910","69","Ripley County - MILAN COMMUNITY SCHOOL CORPORATION",{"$f":"VLOOKUP(C236,'County List'!$B$3:$C$94,2,FALSE)","v":"Ripley County"},"4","6910","MILAN COMMUNITY SCHOOL CORPORATION","N"]
["2018","7046995","70","Rush County - RUSH COUNTY SCHOOL CORPORATION",{"$f":"VLOOKUP(C237,'County List'!$B$3:$C$94,2,FALSE)","v":"Rush County"},"4","6995","RUSH COUNTY SCHOOL CORPORATION","N"]
["2018","7147150","71","St. Joseph County - JOHN GLENN SCHOOL CORPORATION",{"$f":"VLOOKUP(C238,'County List'!$B$3:$C$94,2,FALSE)","v":"St. Joseph County"},"4","7150","JOHN GLENN SCHOOL CORPORATION","Y"]
["2018","7147175","71","St. Joseph County - PENN-HARRIS-MADISON-SCHOOL CORPORATION",{"$f":"VLOOKUP(C239,'County List'!$B$3:$C$94,2,FALSE)","v":"St. Joseph County"},"4","7175","PENN-HARRIS-MADISON-SCHOOL CORPORATION","N"]
["2018","7147200","71","St. Joseph County - MISHAWAKA CITY SCHOOL CORPORATION",{"$f":"VLOOKUP(C240,'County List'!$B$3:$C$94,2,FALSE)","v":"St. Joseph County"},"4","7200","MISHAWAKA CITY SCHOOL CORPORATION","N"]
["2018","7147205","71","St. Joseph County - SOUTH BEND COMMUNITY SCHOOL CORPORATION",{"$f":"VLOOKUP(C241,'County List'!$B$3:$C$94,2,FALSE)","v":"St. Joseph County"},"4","7205","SOUTH BEND COMMUNITY SCHOOL CORPORATION","N"]
["2018","7247230","72","Scott County - SCOTT COUNTY DISTRICT NO. 1 SCHOOL CORP",{"$f":"VLOOKUP(C242,'County List'!$B$3:$C$94,2,FALSE)","v":"Scott County"},"4","7230","SCOTT COUNTY DISTRICT NO. 1 SCHOOL CORP","N"]
["2018","7247255","72","Scott County - SCOTT COUNTY DISTRICT NO. 2 SCHOOL CORP",{"$f":"VLOOKUP(C243,'County List'!$B$3:$C$94,2,FALSE)","v":"Scott County"},"4","7255","SCOTT COUNTY DISTRICT NO. 2 SCHOOL CORP","N"]
["2018","7347285","73","Shelby County - SHELBY EASTERN SCHOOL CORPORATION",{"$f":"VLOOKUP(C244,'County List'!$B$3:$C$94,2,FALSE)","v":"Shelby County"},"4","7285","SHELBY EASTERN SCHOOL CORPORATION","N"]
["2018","7347350","73","Shelby County - NORTHWESTERN CONSOLIDATED SCHOOL CORP",{"$f":"VLOOKUP(C245,'County List'!$B$3:$C$94,2,FALSE)","v":"Shelby County"},"4","7350","NORTHWESTERN CONSOLIDATED SCHOOL CORP","N"]
["2018","7347360","73","Shelby County - SOUTHWESTERN CONSOLIDATED SHELBY COUNTY",{"$f":"VLOOKUP(C246,'County List'!$B$3:$C$94,2,FALSE)","v":"Shelby County"},"4","7360","SOUTHWESTERN CONSOLIDATED SHELBY COUNTY","N"]
["2018","7347365","73","Shelby County - SHELBYVILLE CENTRAL SCHOOL CORPORATION",{"$f":"VLOOKUP(C247,'County List'!$B$3:$C$94,2,FALSE)","v":"Shelby County"},"4","7365","SHELBYVILLE CENTRAL SCHOOL CORPORATION","N"]
["2018","7447385","74","Spencer County - NORTH SPENCER COUNTY SCHOOL CORPORATION",{"$f":"VLOOKUP(C248,'County List'!$B$3:$C$94,2,FALSE)","v":"Spencer County"},"4","7385","NORTH SPENCER COUNTY SCHOOL CORPORATION","N"]
["2018","7447445","74","Spencer County - SOUTH SPENCER COUNTY SCHOOL CORPORATION",{"$f":"VLOOKUP(C249,'County List'!$B$3:$C$94,2,FALSE)","v":"Spencer County"},"4","7445","SOUTH SPENCER COUNTY SCHOOL CORPORATION","N"]
["2018","7547495","75","Starke County - OREGON-DAVIS SCHOOL CORPORATION",{"$f":"VLOOKUP(C250,'County List'!$B$3:$C$94,2,FALSE)","v":"Starke County"},"4","7495","OREGON-DAVIS SCHOOL CORPORATION","N"]
["2018","7547515","75","Starke County - NORTH JUDSON-SAN PIERRE SCHOOL CORP",{"$f":"VLOOKUP(C251,'County List'!$B$3:$C$94,2,FALSE)","v":"Starke County"},"4","7515","NORTH JUDSON-SAN PIERRE SCHOOL CORP","Y"]
["2018","7547525","75","Starke County - KNOX COMMUNITY SCHOOL CORPORATION",{"$f":"VLOOKUP(C252,'County List'!$B$3:$C$94,2,FALSE)","v":"Starke County"},"4","7525","KNOX COMMUNITY SCHOOL CORPORATION","N"]
["2018","7644515","76","Steuben County - PRAIRIE HEIGHTS COMMUNITY SCHOOL CORP",{"$f":"VLOOKUP(C253,'County List'!$B$3:$C$94,2,FALSE)","v":"Steuben County"},"4","4515","PRAIRIE HEIGHTS COMMUNITY SCHOOL CORP","Y"]
["2018","7647605","76","Steuben County - FREMONT COMMUNITY SCHOOL CORPORATION",{"$f":"VLOOKUP(C254,'County List'!$B$3:$C$94,2,FALSE)","v":"Steuben County"},"4","7605","FREMONT COMMUNITY SCHOOL CORPORATION","N"]
["2018","7647610","76","Steuben County - HAMILTON COMMUNITY SCHOOL CORPORATION",{"$f":"VLOOKUP(C255,'County List'!$B$3:$C$94,2,FALSE)","v":"Steuben County"},"4","7610","HAMILTON COMMUNITY SCHOOL CORPORATION","Y"]
["2018","7647615","76","Steuben County - M.S.D. STEUBEN COUNTY SCHOOL CORPORATION",{"$f":"VLOOKUP(C256,'County List'!$B$3:$C$94,2,FALSE)","v":"Steuben County"},"4","7615","M.S.D. STEUBEN COUNTY SCHOOL CORPORATION","N"]
["2018","7747645","77","Sullivan County - NORTHEAST SCHOOL CORPORATION",{"$f":"VLOOKUP(C257,'County List'!$B$3:$C$94,2,FALSE)","v":"Sullivan County"},"4","7645","NORTHEAST SCHOOL CORPORATION","N"]
["2018","7747715","77","Sullivan County - SOUTHWEST SCHOOL CORPORATION",{"$f":"VLOOKUP(C258,'County List'!$B$3:$C$94,2,FALSE)","v":"Sullivan County"},"4","7715","SOUTHWEST SCHOOL CORPORATION","N"]
["2018","7847775","78","Switzerland County - SWITZERLAND COUNTY SCHOOL CORPORATION",{"$f":"VLOOKUP(C259,'County List'!$B$3:$C$94,2,FALSE)","v":"Switzerland County"},"4","7775","SWITZERLAND COUNTY SCHOOL CORPORATION","N"]
["2018",{"$f":"CONCATENATE(C260,F260,G260)","v":"7947865"},"79",{"$f":"CONCATENATE(E260,\" - \",H260)","v":"Tippecanoe County - TIPPECANOE SCHOOL CORPORATION"},{"$f":"VLOOKUP(C260,'County List'!$B$3:$C$94,2,FALSE)","v":"Tippecanoe County"},"4","7865","TIPPECANOE SCHOOL CORPORATION","N"]
["2018","7947875","79","Tippecanoe County - WEST LAFAYETTE COMMUNITY SCHOOL CORP",{"$f":"VLOOKUP(C261,'County List'!$B$3:$C$94,2,FALSE)","v":"Tippecanoe County"},"4","7875","WEST LAFAYETTE COMMUNITY SCHOOL CORP","N"]
["2018","7947855","79","Tippecanoe County - LAFAYETTE SCHOOL CORPORATION",{"$f":"VLOOKUP(C262,'County List'!$B$3:$C$94,2,FALSE)","v":"Tippecanoe County"},"4","7855","LAFAYETTE SCHOOL CORPORATION","N"]
["2018","8047935","80","Tipton County - TRI-CENTRAL COMMUNITY SCHOOLS",{"$f":"VLOOKUP(C263,'County List'!$B$3:$C$94,2,FALSE)","v":"Tipton County"},"4","7935","TRI-CENTRAL COMMUNITY SCHOOLS","N"]
["2018","8047945","80","Tipton County - TIPTON COMMUNITY SCHOOL CORPORATION",{"$f":"VLOOKUP(C264,'County List'!$B$3:$C$94,2,FALSE)","v":"Tipton County"},"4","7945","TIPTON COMMUNITY SCHOOL CORPORATION","N"]
["2018","8147950","81","Union County - UNION COUNTY SCHOOL CORPORATION",{"$f":"VLOOKUP(C265,'County List'!$B$3:$C$94,2,FALSE)","v":"Union County"},"4","7950","UNION COUNTY SCHOOL CORPORATION","Y"]
["2018","8247995","82","Vanderburgh County - EVANSVILLE-VANDERBURGH SCHOOL CORP",{"$f":"VLOOKUP(C266,'County List'!$B$3:$C$94,2,FALSE)","v":"Vanderburgh County"},"4","7995","EVANSVILLE-VANDERBURGH SCHOOL CORP","N"]
["2018","8348010","83","Vermillion County - NORTH VERMILLION COMMUNITY SCHOOL CORP",{"$f":"VLOOKUP(C267,'County List'!$B$3:$C$94,2,FALSE)","v":"Vermillion County"},"4","8010","NORTH VERMILLION COMMUNITY SCHOOL CORP","N"]
["2018","8348020","83","Vermillion County - SOUTH VERMILLION COMMUNITY SCHOOL CORP",{"$f":"VLOOKUP(C268,'County List'!$B$3:$C$94,2,FALSE)","v":"Vermillion County"},"4","8020","SOUTH VERMILLION COMMUNITY SCHOOL CORP","N"]
["2018","8448030","84","Vigo County - VIGO COUNTY SCHOOL CORPORATION",{"$f":"VLOOKUP(C269,'County List'!$B$3:$C$94,2,FALSE)","v":"Vigo County"},"4","8030","VIGO COUNTY SCHOOL CORPORATION","N"]
["2018","8548045","85","Wabash County - MANCHESTER COMMUNITY SCHOOL CORPORATION",{"$f":"VLOOKUP(C270,'County List'!$B$3:$C$94,2,FALSE)","v":"Wabash County"},"4","8045","MANCHESTER COMMUNITY SCHOOL CORPORATION","N"]
["2018","8548050","85","Wabash County - M.S.D. WABASH COUNTY SCHOOL CORPORATION",{"$f":"VLOOKUP(C271,'County List'!$B$3:$C$94,2,FALSE)","v":"Wabash County"},"4","8050","M.S.D. WABASH COUNTY SCHOOL CORPORATION","N"]
["2018","8548060","85","Wabash County - WABASH CITY SCHOOL CORPORATION",{"$f":"VLOOKUP(C272,'County List'!$B$3:$C$94,2,FALSE)","v":"Wabash County"},"4","8060","WABASH CITY SCHOOL CORPORATION","N"]
["2018","8648115","86","Warren County - M.S.D. WARREN COUNTY SCHOOL CORP",{"$f":"VLOOKUP(C273,'County List'!$B$3:$C$94,2,FALSE)","v":"Warren County"},"4","8115","M.S.D. WARREN COUNTY SCHOOL CORP","N"]
["2018","8748130","87","Warrick County - WARRICK COUNTY SCHOOL CORPORATION",{"$f":"VLOOKUP(C274,'County List'!$B$3:$C$94,2,FALSE)","v":"Warrick County"},"4","8130","WARRICK COUNTY SCHOOL CORPORATION","N"]
["2018","8848205","88","Washington County - SALEM COMMUNITY SCHOOL CORPORATION",{"$f":"VLOOKUP(C275,'County List'!$B$3:$C$94,2,FALSE)","v":"Washington County"},"4","8205","SALEM COMMUNITY SCHOOL CORPORATION","N"]
["2018","8848215","88","Washington County - EAST WASHINGTON SCHOOL CORPORATION",{"$f":"VLOOKUP(C276,'County List'!$B$3:$C$94,2,FALSE)","v":"Washington County"},"4","8215","EAST WASHINGTON SCHOOL CORPORATION","N"]
["2018","8848220","88","Washington County - WEST WASHINGTON SCHOOL CORPORATION",{"$f":"VLOOKUP(C277,'County List'!$B$3:$C$94,2,FALSE)","v":"Washington County"},"4","8220","WEST WASHINGTON SCHOOL CORPORATION","N"]
["2018","8948305","89","Wayne County - NETTLE CREEK SCHOOL CORPORATION",{"$f":"VLOOKUP(C278,'County List'!$B$3:$C$94,2,FALSE)","v":"Wayne County"},"4","8305","NETTLE CREEK SCHOOL CORPORATION","Y"]
["2018","8948355","89","Wayne County - WESTERN WAYNE SCHOOL CORPORATION",{"$f":"VLOOKUP(C279,'County List'!$B$3:$C$94,2,FALSE)","v":"Wayne County"},"4","8355","WESTERN WAYNE SCHOOL CORPORATION","N"]
["2018","8948360","89","Wayne County - CENTERVILLE-ABINGTON COMM SCHOOL CORP",{"$f":"VLOOKUP(C280,'County List'!$B$3:$C$94,2,FALSE)","v":"Wayne County"},"4","8360","CENTERVILLE-ABINGTON COMM SCHOOL CORP","N"]
["2018","8948375","89","Wayne County - NORTHEASTERN WAYNE SCHOOL CORPORATION",{"$f":"VLOOKUP(C281,'County List'!$B$3:$C$94,2,FALSE)","v":"Wayne County"},"4","8375","NORTHEASTERN WAYNE SCHOOL CORPORATION","N"]
["2018","8948385","89","Wayne County - RICHMOND COMMUNITY SCHOOL CORPORATION",{"$f":"VLOOKUP(C282,'County List'!$B$3:$C$94,2,FALSE)","v":"Wayne County"},"4","8385","RICHMOND COMMUNITY SCHOOL CORPORATION","N"]
["2018","9048425","90","Wells County - SOUTHERN WELLS COMMUNITY SCHOOL CORP",{"$f":"VLOOKUP(C283,'County List'!$B$3:$C$94,2,FALSE)","v":"Wells County"},"4","8425","SOUTHERN WELLS COMMUNITY SCHOOL CORP","N"]
["2018","9048435","90","Wells County - NORTHERN WELLS COMMUNITY SCHOOL CORP",{"$f":"VLOOKUP(C284,'County List'!$B$3:$C$94,2,FALSE)","v":"Wells County"},"4","8435","NORTHERN WELLS COMMUNITY SCHOOL CORP","N"]
["2018","9048445","90","Wells County - M.S.D. BLUFFTON-HARRISON SCHOOL CORP",{"$f":"VLOOKUP(C285,'County List'!$B$3:$C$94,2,FALSE)","v":"Wells County"},"4","8445","M.S.D. BLUFFTON-HARRISON SCHOOL CORP","N"]
["2018","9148515","91","White County - NORTH WHITE SCHOOL CORPORATION",{"$f":"VLOOKUP(C286,'County List'!$B$3:$C$94,2,FALSE)","v":"White County"},"4","8515","NORTH WHITE SCHOOL CORPORATION","N"]
["2018","9148525","91","White County - FRONTIER SCHOOL CORPORATION",{"$f":"VLOOKUP(C287,'County List'!$B$3:$C$94,2,FALSE)","v":"White County"},"4","8525","FRONTIER SCHOOL CORPORATION","N"]
["2018","9148535","91","White County - TRI COUNTY SCHOOL CORPORATION",{"$f":"VLOOKUP(C288,'County List'!$B$3:$C$94,2,FALSE)","v":"White County"},"4","8535","TRI COUNTY SCHOOL CORPORATION","Y"]
["2018","9148565","91","White County - TWIN LAKES COMMUNITY SCHOOL CORPORATION",{"$f":"VLOOKUP(C289,'County List'!$B$3:$C$94,2,FALSE)","v":"White County"},"4","8565","TWIN LAKES COMMUNITY SCHOOL CORPORATION","Y"]
["2018","9248625","92","Whitley County - SMITH-GREEN COMMUNITY SCHOOL CORPORATION",{"$f":"VLOOKUP(C290,'County List'!$B$3:$C$94,2,FALSE)","v":"Whitley County"},"4","8625","SMITH-GREEN COMMUNITY SCHOOL CORPORATION","Y"]
["2018","9248665","92","Whitley County - WHITLEY COUNTY CONSOLIDATED SCHOOL CORP",{"$f":"VLOOKUP(C291,'County List'!$B$3:$C$94,2,FALSE)","v":"Whitley County"},"4","8665","WHITLEY COUNTY CONSOLIDATED SCHOOL CORP","N"]

{"sheet":"County List","index":4,"n_rows":94,"n_cols":4,"rows_kept":94,"cut":false,"hidden":true,"merged":[]}
["County Name","County Code","County Long Name","County Code"]
[null,null,"Select County Name"]
["Adams","01","Adams County","01"]
["Allen","02","Allen County","02"]
["Bartholomew","03","Bartholomew County","03"]
["Benton","04","Benton County","04"]
["Blackford","05","Blackford County","05"]
["Boone","06","Boone County","06"]
["Brown","07","Brown County","07"]
["Carroll","08","Carroll County","08"]
["Cass","09","Cass County","09"]
["Clark","10","Clark County","10"]
["Clay","11","Clay County","11"]
["Clinton","12","Clinton County","12"]
["Crawford","13","Crawford County","13"]
["Daviess","14","Daviess County","14"]
["Dearborn","15","Dearborn County","15"]
["Decatur","16","Decatur County","16"]
["DeKalb","17","DeKalb County","17"]
["Delaware","18","Delaware County","18"]
["Dubois","19","Dubois County","19"]
["Elkhart","20","Elkhart County","20"]
["Fayette","21","Fayette County","21"]
["Floyd","22","Floyd County","22"]
["Fountain","23","Fountain County","23"]
["Franklin","24","Franklin County","24"]
["Fulton","25","Fulton County","25"]
["Gibson","26","Gibson County","26"]
["Grant","27","Grant County","27"]
["Greene","28","Greene County","28"]
["Hamilton","29","Hamilton County","29"]
["Hancock","30","Hancock County","30"]
["Harrison","31","Harrison County","31"]
["Hendricks","32","Hendricks County","32"]
["Henry","33","Henry County","33"]
["Howard","34","Howard County","34"]
["Huntington","35","Huntington County","35"]
["Jackson","36","Jackson County","36"]
["Jasper","37","Jasper County","37"]
["Jay","38","Jay County","38"]
["Jefferson","39","Jefferson County","39"]
["Jennings","40","Jennings County","40"]
["Johnson","41","Johnson County","41"]
["Knox","42","Knox County","42"]
["Kosciusko","43","Kosciusko County","43"]
["LaGrange","44","LaGrange County","44"]
["Lake","45","Lake County","45"]
["LaPorte","46","LaPorte County","46"]
["Lawrence","47","Lawrence County","47"]
["Madison","48","Madison County","48"]
["Marion","49","Marion County","49"]
["Marshall","50","Marshall County","50"]
["Martin","51","Martin County","51"]
["Miami","52","Miami County","52"]
["Monroe","53","Monroe County","53"]
["Montgomery","54","Montgomery County","54"]
["Morgan","55","Morgan County","55"]
["Newton","56","Newton County","56"]
["Noble","57","Noble County","57"]
["Ohio","58","Ohio County","58"]
["Orange","59","Orange County","59"]
["Owen","60","Owen County","60"]
["Parke","61","Parke County","61"]
["Perry","62","Perry County","62"]
["Pike","63","Pike County","63"]
["Porter","64","Porter County","64"]
["Posey","65","Posey County","65"]
["Pulaski","66","Pulaski County","66"]
["Putnam","67","Putnam County","67"]
["Randolph","68","Randolph County","68"]
["Ripley","69","Ripley County","69"]
["Rush","70","Rush County","70"]
["St. Joseph","71","St. Joseph County","71"]
["Scott","72","Scott County","72"]
["Shelby","73","Shelby County","73"]
["Spencer","74","Spencer County","74"]
["Starke","75","Starke County","75"]
["Steuben","76","Steuben County","76"]
["Sullivan","77","Sullivan County","77"]
["Switzerland","78","Switzerland County","78"]
["Tippecanoe","79","Tippecanoe County","79"]
["Tipton","80","Tipton County","80"]
["Union","81","Union County","81"]
["Vanderburgh","82","Vanderburgh County","82"]
["Vermillion","83","Vermillion County","83"]
["Vigo","84","Vigo County","84"]
["Wabash","85","Wabash County","85"]
["Warren","86","Warren County","86"]
["Warrick","87","Warrick County","87"]
["Washington","88","Washington County","88"]
["Wayne","89","Wayne County","89"]
["Wells","90","Wells County","90"]
["White","91","White County","91"]
["Whitley","92","Whitley County","92"]

{"sheet":"SQL","index":5,"n_rows":4,"n_cols":1,"rows_kept":4,"cut":false,"hidden":true,"merged":[]}
["SQL for Line 1 Source Table"]
["SELECT dbo_STB_FUND_YR.YR_NBR, dbo_STB_FUND_YR.CNTY_CD, dbo_STB_FUND_YR.UNIT_TYPE_CD, dbo_STB_FUND_YR.UNIT_CD, dbo_STB_FUND_YR.FUND_CD, dbo_STB_FUND_YR.CERTD_APPROP_AMT"]
["FROM dbo_STB_FUND_YR"]
["WHERE (((dbo_STB_FUND_YR.YR_NBR)=\"2018\") AND ((dbo_STB_FUND_YR.UNIT_TYPE_CD)=\"4\"));"]