Workbook
Name FIT_Factor: '[1]Misc Revenue Sheet'!$M$1
Name Fund_Code_Name_Short: '[2]User Guide'!$E$2:$E$466
Name Fund_Code_Number: '[2]User Guide'!$D$2:$D$466
Name JuneDistributionsYN: '[3]July-Dec Property Tax Estimates'!$F$22
Name MLGQ: NOTES!$B$2
Name NecessaryTranfsersYN: '[3]July-Dec Property Tax Estimates'!#REF!
Name Year: NOTES!$B$1

Sheet NOTES
A1: Year | B1: 2024
A2: MLGQ | B2: 1.04
A4: SQL
A5: Unit List | B5: SELECT dbo_STB_UNIT_YR.YR_NBR, dbo_STB_UNIT_YR.CNTY_CD, dbo_STB_UNIT_YR.UNIT_TYPE_CD, dbo_STB_UNIT_YR.UNIT_CD, dbo_STB_UNIT.UNIT_NAME, dbo_STB_UNIT_YR.CROSS_CNTY_CD, dbo_STB_UNIT_YR.CROSS_CNTY_INDC FROM dbo_STB_UNIT INNER JOIN dbo_STB_UNIT_YR ON (dbo_STB_UNIT.UNIT_CD = dbo_STB_UNIT_YR.UNIT_CD) AND (dbo_STB_UNIT.UNIT_TYPE_CD = dbo_STB_UNIT_YR.UNIT_TYPE_CD) AND (dbo_STB_UNIT.CNTY_CD = dbo_STB_UNIT_YR.CNTY_CD) WHERE (((dbo_STB_UNIT_YR.YR_NBR)="2023") AND ((dbo_STB_UNIT_YR.UNIT_TYPE_CD)="5"));
A6: Source

Sheet Validation
E1: FUND_CD | F1: FUND_SHORT_NAME
E2: 0061 | F2: RAINY DAY | G2: =E2&"-"&F2 -> 0061-RAINY DAY
A3: County | B3: Unit Name | E3: 0101 | F3: GENERAL | G3: =E3&"-"&F3 -> 0101-GENERAL
A4: 01 | B4: ADAMS COUNTY | C4: =A4&"-"&B4 -> 01-ADAMS COUNTY | E4: 2011 | F4: LIRF | G4: =E4&"-"&F4 -> 2011-LIRF
A5: 02 | B5: ALLEN COUNTY | C5: =A5&"-"&B5 -> 02-ALLEN COUNTY | E5: 0180 | F5: DEBT SERVICE | G5: =E5&"-"&F5 -> 0180-DEBT SERVICE
A6: 03 | B6: BARTHOLOMEW COUNTY | C6: =A6&"-"&B6 -> 03-BARTHOLOMEW COUNTY | E6: 0283 | F6: L/R PAYMENT | G6: =E6&"-"&F6 -> 0283-L/R PAYMENT
A7: 04 | B7: BENTON COUNTY | C7: =A7&"-"&B7 -> 04-BENTON COUNTY | E7: 0181 | F7: DEBT PAYMENT | G7: =E7&"-"&F7 -> 0181-DEBT PAYMENT
A8: 05 | B8: BLACKFORD COUNTY | C8: =A8&"-"&B8 -> 05-BLACKFORD COUNTY | E8: 0182 | F8: BOND #2 | G8: =E8&"-"&F8 -> 0182-BOND #2
A9: 06 | B9: BOONE COUNTY | C9: =A9&"-"&B9 -> 06-BOONE COUNTY | G9: Click Here to Add a New Fund for 2024
A10: 07 | B10: BROWN COUNTY | C10: =A10&"-"&B10 -> 07-BROWN COUNTY
A11: 08 | B11: CARROLL COUNTY | C11: =A11&"-"&B11 -> 08-CARROLL COUNTY
A12: 09 | B12: CASS COUNTY | C12: =A12&"-"&B12 -> 09-CASS COUNTY
A13: 10 | B13: CLARK COUNTY | C13: =A13&"-"&B13 -> 10-CLARK COUNTY
A14: 11 | B14: CLAY COUNTY | C14: =A14&"-"&B14 -> 11-CLAY COUNTY
A15: 12 | B15: CLINTON COUNTY | C15: =A15&"-"&B15 -> 12-CLINTON COUNTY
A16: 13 | B16: CRAWFORD COUNTY | C16: =A16&"-"&B16 -> 13-CRAWFORD COUNTY
A17: 14 | B17: DAVIESS COUNTY | C17: =A17&"-"&B17 -> 14-DAVIESS COUNTY
A18: 15 | B18: DEARBORN COUNTY | C18: =A18&"-"&B18 -> 15-DEARBORN COUNTY
A19: 16 | B19: DECATUR COUNTY | C19: =A19&"-"&B19 -> 16-DECATUR COUNTY
A20: 17 | B20: DEKALB COUNTY | C20: =A20&"-"&B20 -> 17-DEKALB COUNTY
A21: 18 | B21: DELAWARE COUNTY | C21: =A21&"-"&B21 -> 18-DELAWARE COUNTY
... A95: 92 | B95: WHITLEY COUNTY | C95: =A95&"-"&B95 -> 92-WHITLEY COUNTY

Sheet Unit List
A1: YR_NBR | B1: CNTY_CD | C1: UNIT_TYPE_CD | D1: UNIT_CD | E1: UNIT_NAME | F1: CROSS_CNTY_CD | G1: CROSS_CNTY_INDC
A2: 2023 | B2: 01 | C2: 5 | D2: 0001 | E2: BERNE PUBLIC LIBRARY | G2: N
A3: 2023 | B3: 01 | C3: 5 | D3: 0304 | E3: ADAMS PUBLIC LIBRARY SYSTEM | G3: N
A4: 2023 | B4: 02 | C4: 5 | D4: 0260 | E4: ALLEN COUNTY PUBLIC LIBRARY | G4: N
A5: 2023 | B5: 03 | C5: 5 | D5: 0006 | E5: BARTHOLOMEW COUNTY PUBLIC LIBRARY | G5: N
A6: 2023 | B6: 03 | C6: 5 | D6: 0111 | E6: EDINBURGH-WRIGHT-HAGEMAN PUBLIC LIBRARY | F6: 41 | G6: Y
A7: 2023 | B7: 04 | C7: 5 | D7: 0007 | E7: BOSWELL PUBLIC LIBRARY | G7: N
A8: 2023 | B8: 04 | C8: 5 | D8: 0008 | E8: EARL PARK PUBLIC LIBRARY | G8: N
A9: 2023 | B9: 04 | C9: 5 | D9: 0009 | E9: OTTERBEIN PUBLIC LIBRARY | F9: 04 | G9: Y
A10: 2023 | B10: 04 | C10: 5 | D10: 0010 | E10: OXFORD PUBLIC LIBRARY | G10: N
A11: 2023 | B11: 04 | C11: 5 | D11: 0011 | E11: BENTON COUNTY PUBLIC LIBRARY | G11: N
A12: 2023 | B12: 04 | C12: 5 | D12: 0012 | E12: YORK TOWNSHIP PUBLIC LIBRARY | G12: N
A13: 2023 | B13: 05 | C13: 5 | D13: 0013 | E13: HARTFORD CITY PUBLIC LIBRARY | G13: N
A14: 2023 | B14: 05 | C14: 5 | D14: 0014 | E14: MONTPELIER PUBLIC LIBRARY | G14: N
A15: 2023 | B15: 05 | C15: 5 | D15: 0106 | E15: DUNKIRK PUBLIC LIBRARY | F15: 38 | G15: Y
A16: 2023 | B16: 06 | C16: 5 | D16: 0015 | E16: LEBANON PUBLIC LIBRARY | G16: N
A17: 2023 | B17: 06 | C17: 5 | D17: 0016 | E17: THORNTOWN PUBLIC LIBRARY | G17: N
A18: 2023 | B18: 06 | C18: 5 | D18: 0296 | E18: HUSSEY - MAYFIELD MEMORIAL LIBRARY | G18: N
A19: 2023 | B19: 07 | C19: 5 | D19: 0017 | E19: BROWN COUNTY PUBLIC LIBRARY | G19: N
A20: 2023 | B20: 08 | C20: 5 | D20: 0018 | E20: CAMDEN-JACKSON TWP PUBLIC LIBRARY | G20: N
A21: 2023 | B21: 08 | C21: 5 | D21: 0019 | E21: DELPHI PUBLIC LIBRARY | G21: N
A22: 2023 | B22: 08 | C22: 5 | D22: 0020 | E22: FLORA PUBLIC LIBRARY | G22: N
A23: 2023 | B23: 09 | C23: 5 | D23: 0021 | E23: LOGANSPORT-CASS PUBLIC LIBRARY | G23: N
A24: 2023 | B24: 09 | C24: 5 | D24: 0022 | E24: ROYAL CENTER PUBLIC LIBRARY | G24: N
A25: 2023 | B25: 09 | C25: 5 | D25: 0023 | E25: WALTON PUBLIC LIBRARY | G25: N
A26: 2023 | B26: 10 | C26: 5 | D26: 0025 | E26: JEFFERSONVILLE TOWNSHIP PUBLIC LIBRARY | G26: N
A27: 2023 | B27: 10 | C27: 5 | D27: 0287 | E27: CHARLESTOWN-CLARK COUNTY CONTRACTUAL LIB | G27: N
... A51: 2023 | B51: 20 | C51: 5 | D51: 0046 | E51: GOSHEN PUBLIC LIBRARY | G51: N
A52: 2023 | B52: 20 | C52: 5 | D52: 0047 | E52: NAPPANEE PUBLIC LIBRARY | F52: 20 | G52: Y
A53: 2023 | B53: 20 | C53: 5 | D53: 0048 | E53: WAKARUSA-OLIVE TWP-HARRISON TWP PUB LIB | G53: N
A54: 2023 | B54: 20 | C54: 5 | D54: 0259 | E54: MIDDLEBURY PUBLIC LIBRARY | G54: N
A55: 2023 | B55: 21 | C55: 5 | D55: 0049 | E55: FAYETTE COUNTY PUBLIC LIBRARY | G55: N
A56: 2023 | B56: 22 | C56: 5 | D56: 0050 | E56: NEW ALBANY-FLOYD COUNTY PUBLIC LIBRARY | G56: N
A57: 2023 | B57: 23 | C57: 5 | D57: 0052 | E57: COVINGTON PUBLIC LIBRARY | G57: N
A58: 2023 | B58: 23 | C58: 5 | D58: 0271 | E58: KINGMAN-MILLCREEK PUBLIC LIBRARY | G58: N
A59: 2023 | B59: 23 | C59: 5 | D59: 0300 | E59: ATTICA PUBLIC LIBRARY | G59: N
A60: 2023 | B60: 24 | C60: 5 | D60: 0054 | E60: FRANKLIN COUNTY PUBLIC LIBRARY DISTRICT | G60: N
A61: 2023 | B61: 24 | C61: 5 | D61: 0199 | E61: BATESVILLE PUBLIC LIBRARY | F61: 69 | G61: Y
A62: 2023 | B62: 25 | C62: 5 | D62: 0055 | E62: AKRON CARNEGIE PUBLIC LIBRARY | G62: N
A63: 2023 | B63: 25 | C63: 5 | D63: 0056 | E63: KEWANNA PUBLIC LIBRARY | G63: N
...

Sheet Source
A1: YR_NBR | B1: CNTY_CD | C1: UNIT_TYPE_CD | D1: UNIT_CD | E1: UNIT_NAME | F1: FUND_CD | G1: FUND_SHORT_NAME | H1: CERTD_APPROP_AMT | I1: CROSS_CNTY_CD | J1: CROSS_CNTY_INDC | N1: FUND_CD | O1: FUND_SHORT_NAME
A2: 2023 | B2: 01 | C2: 5 | D2: 0001 | E2: BERNE PUBLIC LIBRARY | F2: 0061 | G2: RAINY DAY | H2: 63000 | J2: N | N2: 0061 | O2: RAINY DAY
A3: 2023 | B3: 01 | C3: 5 | D3: 0001 | E3: BERNE PUBLIC LIBRARY | F3: 0101 | G3: GENERAL | H3: 542800 | J3: N | N3: 0101 | O3: GENERAL
A4: 2023 | B4: 01 | C4: 5 | D4: 0001 | E4: BERNE PUBLIC LIBRARY | F4: 2011 | G4: LIRF | H4: 60000 | J4: N | N4: 2011 | O4: LIRF
A5: 2023 | B5: 01 | C5: 5 | D5: 0304 | E5: ADAMS PUBLIC LIBRARY SYSTEM | F5: 0061 | G5: RAINY DAY | H5: 10000 | J5: N | N5: 0180 | O5: DEBT SERVICE
A6: 2023 | B6: 01 | C6: 5 | D6: 0304 | E6: ADAMS PUBLIC LIBRARY SYSTEM | F6: 0101 | G6: GENERAL | H6: 1234885 | J6: N | N6: 0283 | O6: L/R PAYMENT
A7: 2023 | B7: 01 | C7: 5 | D7: 0304 | E7: ADAMS PUBLIC LIBRARY SYSTEM | F7: 2011 | G7: LIRF | H7: 60000 | J7: N | N7: 0181 | O7: DEBT PAYMENT
A8: 2023 | B8: 02 | C8: 5 | D8: 0260 | E8: ALLEN COUNTY PUBLIC LIBRARY | F8: 0101 | G8: GENERAL | H8: 37023941 | J8: N | N8: 0287 | O8: REF DEBT POST09
A9: 2023 | B9: 03 | C9: 5 | D9: 0006 | E9: BARTHOLOMEW COUNTY PUBLIC LIBRARY | F9: 0061 | G9: RAINY DAY | H9: 226893 | J9: N | N9: 0182 | O9: BOND #2
A10: 2023 | B10: 03 | C10: 5 | D10: 0006 | E10: BARTHOLOMEW COUNTY PUBLIC LIBRARY | F10: 0101 | G10: GENERAL | H10: 4844797 | J10: N | N10: 1230 | O10: SPECIAL LIBRARY
A11: 2023 | B11: 03 | C11: 5 | D11: 0006 | E11: BARTHOLOMEW COUNTY PUBLIC LIBRARY | F11: 2011 | G11: LIRF | H11: 200000 | J11: N
A12: 2023 | B12: 03 | C12: 5 | D12: 0111 | E12: EDINBURGH-WRIGHT-HAGEMAN PUBLIC LIBRARY | F12: 0101 | G12: GENERAL | H12: 0 | I12: 41 | J12: Y
A13: 2023 | B13: 04 | C13: 5 | D13: 0007 | E13: BOSWELL PUBLIC LIBRARY | F13: 0101 | G13: GENERAL | H13: 170167 | J13: N
A14: 2023 | B14: 04 | C14: 5 | D14: 0008 | E14: EARL PARK PUBLIC LIBRARY | F14: 0061 | G14: RAINY DAY | H14: 7000 | J14: N
A15: 2023 | B15: 04 | C15: 5 | D15: 0008 | E15: EARL PARK PUBLIC LIBRARY | F15: 0101 | G15: GENERAL | H15: 58676 | J15: N
A16: 2023 | B16: 04 | C16: 5 | D16: 0008 | E16: EARL PARK PUBLIC LIBRARY | F16: 2011 | G16: LIRF | H16: 0 | J16: N
A17: 2023 | B17: 04 | C17: 5 | D17: 0009 | E17: OTTERBEIN PUBLIC LIBRARY | F17: 0061 | G17: RAINY DAY | H17: 6000 | I17: 04 | J17: Y
A18: 2023 | B18: 04 | C18: 5 | D18: 0009 | E18: OTTERBEIN PUBLIC LIBRARY | F18: 0101 | G18: GENERAL | H18: 153714 | I18: 04 | J18: Y
A19: 2023 | B19: 04 | C19: 5 | D19: 0009 | E19: OTTERBEIN PUBLIC LIBRARY | F19: 0180 | G19: DEBT SERVICE | H19: 113000 | I19: 04 | J19: Y
A20: 2023 | B20: 04 | C20: 5 | D20: 0009 | E20: OTTERBEIN PUBLIC LIBRARY | F20: 2011 | G20: LIRF | H20: 10000 | I20: 04 | J20: Y
A21: 2023 | B21: 04 | C21: 5 | D21: 0010 | E21: OXFORD PUBLIC LIBRARY | F21: 0061 | G21: RAINY DAY | H21: 900 | J21: N
A22: 2023 | B22: 04 | C22: 5 | D22: 0010 | E22: OXFORD PUBLIC LIBRARY | F22: 0101 | G22: GENERAL | H22: 219168 | J22: N
A23: 2023 | B23: 04 | C23: 5 | D23: 0010 | E23: OXFORD PUBLIC LIBRARY | F23: 2011 | G23: LIRF | H23: 8000 | J23: N
A24: 2023 | B24: 04 | C24: 5 | D24: 0011 | E24: BENTON COUNTY PUBLIC LIBRARY | F24: 0061 | G24: RAINY DAY | H24: 10000 | J24: N
A25: 2023 | B25: 04 | C25: 5 | D25: 0011 | E25: BENTON COUNTY PUBLIC LIBRARY | F25: 0101 | G25: GENERAL | H25: 357000 | J25: N
A26: 2023 | B26: 04 | C26: 5 | D26: 0011 | E26: BENTON COUNTY PUBLIC LIBRARY | F26: 2011 | G26: LIRF | H26: 20000 | J26: N
A27: 2023 | B27: 04 | C27: 5 | D27: 0012 | E27: YORK TOWNSHIP PUBLIC LIBRARY | F27: 0101 | G27: GENERAL | H27: 23240 | J27: N
A28: 2023 | B28: 05 | C28: 5 | D28: 0013 | E28: HARTFORD CITY PUBLIC LIBRARY | F28: 0101 | G28: GENERAL | H28: 471192 | J28: N
A29: 2023 | B29: 05 | C29: 5 | D29: 0013 | E29: HARTFORD CITY PUBLIC LIBRARY | F29: 0180 | G29: DEBT SERVICE | H29: 107307 | J29: N
A30: 2023 | B30: 05 | C30: 5 | D30: 0013 | E30: HARTFORD CITY PUBLIC LIBRARY | F30: 2011 | G30: LIRF | H30: 0 | J30: N
A31: 2023 | B31: 05 | C31: 5 | D31: 0014 | E31: MONTPELIER PUBLIC LIBRARY | F31: 0101 | G31: GENERAL | H31: 159980 | J31: N
A32: 2023 | B32: 05 | C32: 5 | D32: 0014 | E32: MONTPELIER PUBLIC LIBRARY | F32: 2011 | G32: LIRF | H32: 0 | J32: N
A33: 2023 | B33: 05 | C33: 5 | D33: 0106 | E33: DUNKIRK PUBLIC LIBRARY | F33: 0101 | G33: GENERAL | H33: 0 | I33: 38 | J33: Y
A34: 2023 | B34: 06 | C34: 5 | D34: 0015 | E34: LEBANON PUBLIC LIBRARY | F34: 0101 | G34: GENERAL | H34: 2068957 | J34: N
A35: 2023 | B35: 06 | C35: 5 | D35: 0015 | E35: LEBANON PUBLIC LIBRARY | F35: 0283 | G35: L/R PAYMENT | H35: 684861 | J35: N
A36: 2023 | B36: 06 | C36: 5 | D36: 0016 | E36: THORNTOWN PUBLIC LIBRARY | F36: 0061 | G36: RAINY DAY | H36: 125000 | J36: N
A37: 2023 | B37: 06 | C37: 5 | D37: 0016 | E37: THORNTOWN PUBLIC LIBRARY | F37: 0101 | G37: GENERAL | H37: 815364 | J37: N
A38: 2023 | B38: 06 | C38: 5 | D38: 0296 | E38: HUSSEY - MAYFIELD MEMORIAL LIBRARY | F38: 0061 | G38: RAINY DAY | H38: 53792 | J38: N
A39: 2023 | B39: 06 | C39: 5 | D39: 0296 | E39: HUSSEY - MAYFIELD MEMORIAL LIBRARY | F39: 0101 | G39: GENERAL | H39: 3826256 | J39: N
A40: 2023 | B40: 06 | C40: 5 | D40: 0296 | E40: HUSSEY - MAYFIELD MEMORIAL LIBRARY | F40: 0180 | G40: DEBT SERVICE | H40: 301484 | J40: N
...

Sheet Index
A1: County | B1: =LEFT('Step 1) Data Entry'!C14,2) -> 52 | P1: Unit | Q1: =MID('Step 1) Data Entry'!C15,4,4) -> 0152
A2: Count | B2: =COUNTIF(B5:B250,B1) -> 2 | P2: Count | Q2: =COUNTIF(P5:P570,Q1) -> 1
A4: Year | B4: CO | C4: UT | D4: UC | E4: Unit | F4: CC Co | G4: CC Ind | I4: Year | J4: CO | K4: UT | L4: UC | P4: UNIT_CD | Q4: UNIT_NAME | R4: FUND_CD | S4: FUND_SHORT_NAME | U4: UNIT_CD | V4: UNIT_NAME | W4: FUND_CD | X4: FUND_SHORT_NAME
A5: =IF('Unit List'!G2="","",IF('Unit List'!G2="N",'Unit List'!A2,IF('Unit List'!F2='Unit List'!B2,'Unit List'!A2,""))) -> 2023 | B5: =IF($A5="","",'Unit List'!B2) -> 01 | C5: =IF($A5="","",'Unit List'!C2) -> 5 | D5: =IF($A5="","",'Unit List'!D2) -> 0001 | E5: =IF($A5="","",'Unit List'!E2) -> BERNE PUBLIC LIBRARY | F5: =IF($A5="","",'Unit List'!F2) | G5: =IF($A5="","",'Unit List'!G2) -> N | I5: {=IF(ROWS(F$5:F5)>$B$2,"",INDEX(A$1:G$300,SMALL(IF($B$5:$B$300=$B$1,ROW($A$5:$A$300)-ROW($A$1)+1),ROWS(H$5:H5)),COLUMNS($A5:$A5)))} -> 2023 | J5: {=IF(ROWS(G$5:G5)>$B$2,"",INDEX(B$1:H$300,SMALL(IF($B$5:$B$300=$B$1,ROW($A$5:$A$300)-ROW($A$1)+1),ROWS(I$5:I5)),COLUMNS($A5:$A5)))} -> 52 | K5: {=IF(ROWS(H$5:H5)>$B$2,"",INDEX(C$1:I$300,SMALL(IF($B$5:$B$300=$B$1,ROW($A$5:$A$300)-ROW($A$1)+1),ROWS(J$5:J5)),COLUMNS($A5:$A5)))} -> 5 | L5: {=IF(ROWS(I$5:I5)>$B$2,"",INDEX(D$1:J$300,SMALL(IF($B$5:$B$300=$B$1,ROW($A$5:$A$300)-ROW($A$1)+1),ROWS(K$5:K5)),COLUMNS($A5:$A5)))} -> 0152 | M5: {=IF(ROWS(J$5:J5)>$B$2,"",INDEX(E$1:K$300,SMALL(IF($B$5:$B$300=$B$1,ROW($A$5:$A$300)-ROW($A$1)+1),ROWS(L$5:L5)),COLUMNS($A5:$A5)))} -> CONVERSE PUBLIC LIBRARY | N5: =IF(J5="","",J5&K5&L5&"-"&M5) -> 5250152-CONVERSE PUBLIC LIBRARY | P5: =IF(Source!D2="","",IF(Source!J2="N",Source!D2,IF(Source!I2=Source!B2,Source!D2,""))) -> 0001 | Q5: =IF($P5="","",Source!F2) -> 0061 | R5: =IF($P5="","",Source!G2) -> RAINY DAY | S5: =IF($P5="","",Source!H2) -> 63000 | U5: {=IF(ROWS(R$5:R5)>$Q$2,"",INDEX(P$1:S$570,SMALL(IF($P$5:$P$570=$Q$1,ROW($P$5:$P$570)-ROW($A$1)+1),ROWS(T$5:T5)),COLUMNS($A5:$A5)))} -> 0152 | V5: {=IF(ROWS(S$5:S5)>$Q$2,"",INDEX(Q$1:T$570,SMALL(IF($P$5:$P$570=$Q$1,ROW($P$5:$P$570)-ROW($A$1)+1),ROWS(U$5:U5)),COLUMNS($A5:$A5)))} -> 0101 | W5: {=IF(ROWS(T$5:T5)>$Q$2,"",INDEX(R$1:U$570,SMALL(IF($P$5:$P$570=$Q$1,ROW($P$5:$P$570)-ROW($A$1)+1),ROWS(V$5:V5)),COLUMNS($A5:$A5)))} -> GENERAL | X5: {=IF(ROWS(U$5:U5)>$Q$2,"",INDEX(S$1:V$570,SMALL(IF($P$5:$P$570=$Q$1,ROW($P$5:$P$570)-ROW($A$1)+1),ROWS(W$5:W5)),COLUMNS($A5:$A5)))} -> 171900
A6: =IF('Unit List'!G3="","",IF('Unit List'!G3="N",'Unit List'!A3,IF('Unit List'!F3='Unit List'!B3,'Unit List'!A3,""))) -> 2023 | B6: =IF($A6="","",'Unit List'!B3) -> 01 | C6: =IF($A6="","",'Unit List'!C3) -> 5 | D6: =IF($A6="","",'Unit List'!D3) -> 0304 | E6: =IF($A6="","",'Unit List'!E3) -> ADAMS PUBLIC LIBRARY SYSTEM | F6: =IF($A6="","",'Unit List'!F3) | G6: =IF($A6="","",'Unit List'!G3) -> N | I6: {=IF(ROWS(F$5:F6)>$B$2,"",INDEX(A$1:G$300,SMALL(IF($B$5:$B$300=$B$1,ROW($A$5:$A$300)-ROW($A$1)+1),ROWS(H$5:H6)),COLUMNS($A6:$A6)))} -> 2023 | J6: {=IF(ROWS(G$5:G6)>$B$2,"",INDEX(B$1:H$300,SMALL(IF($B$5:$B$300=$B$1,ROW($A$5:$A$300)-ROW($A$1)+1),ROWS(I$5:I6)),COLUMNS($A6:$A6)))} -> 52 | K6: {=IF(ROWS(H$5:H6)>$B$2,"",INDEX(C$1:I$300,SMALL(IF($B$5:$B$300=$B$1,ROW($A$5:$A$300)-ROW($A$1)+1),ROWS(J$5:J6)),COLUMNS($A6:$A6)))} -> 5 | L6: {=IF(ROWS(I$5:I6)>$B$2,"",INDEX(D$1:J$300,SMALL(IF($B$5:$B$300=$B$1,ROW($A$5:$A$300)-ROW($A$1)+1),ROWS(K$5:K6)),COLUMNS($A6:$A6)))} -> 0153 | M6: {=IF(ROWS(J$5:J6)>$B$2,"",INDEX(E$1:K$300,SMALL(IF($B$5:$B$300=$B$1,ROW($A$5:$A$300)-ROW($A$1)+1),ROWS(L$5:L6)),COLUMNS($A6:$A6)))} -> PERU PUBLIC LIBRARY | N6: =IF(J6="","",J6&K6&L6&"-"&M6) -> 5250153-PERU PUBLIC LIBRARY | P6: =IF(Source!D3="","",IF(Source!J3="N",Source!D3,IF(Source!I3=Source!B3,Source!D3,""))) -> 0001 | Q6: =IF($P6="","",Source!F3) -> 0101 | R6: =IF($P6="","",Source!G3) -> GENERAL | S6: =IF($P6="","",Source!H3) -> 542800 | U6: {=IF(ROWS(R$5:R6)>$Q$2,"",INDEX(P$1:S$570,SMALL(IF($P$5:$P$570=$Q$1,ROW($P$5:$P$570)-ROW($A$1)+1),ROWS(T$5:T6)),COLUMNS($A6:$A6)))} | V6: {=IF(ROWS(S$5:S6)>$Q$2,"",INDEX(Q$1:T$570,SMALL(IF($P$5:$P$570=$Q$1,ROW($P$5:$P$570)-ROW($A$1)+1),ROWS(U$5:U6)),COLUMNS($A6:$A6)))} | W6: {=IF(ROWS(T$5:T6)>$Q$2,"",INDEX(R$1:U$570,SMALL(IF($P$5:$P$570=$Q$1,ROW($P$5:$P$570)-ROW($A$1)+1),ROWS(V$5:V6)),COLUMNS($A6:$A6)))} | X6: {=IF(ROWS(U$5:U6)>$Q$2,"",INDEX(S$1:V$570,SMALL(IF($P$5:$P$570=$Q$1,ROW($P$5:$P$570)-ROW($A$1)+1),ROWS(W$5:W6)),COLUMNS($A6:$A6)))}
A7: =IF('Unit List'!G4="","",IF('Unit List'!G4="N",'Unit List'!A4,IF('Unit List'!F4='Unit List'!B4,'Unit List'!A4,""))) -> 2023 | B7: =IF($A7="","",'Unit List'!B4) -> 02 | C7: =IF($A7="","",'Unit List'!C4) -> 5 | D7: =IF($A7="","",'Unit List'!D4) -> 0260 | E7: =IF($A7="","",'Unit List'!E4) -> ALLEN COUNTY PUBLIC LIBRARY | F7: =IF($A7="","",'Unit List'!F4) | G7: =IF($A7="","",'Unit List'!G4) -> N | I7: {=IF(ROWS(F$5:F7)>$B$2,"",INDEX(A$1:G$300,SMALL(IF($B$5:$B$300=$B$1,ROW($A$5:$A$300)-ROW($A$1)+1),ROWS(H$5:H7)),COLUMNS($A7:$A7)))} | J7: {=IF(ROWS(G$5:G7)>$B$2,"",INDEX(B$1:H$300,SMALL(IF($B$5:$B$300=$B$1,ROW($A$5:$A$300)-ROW($A$1)+1),ROWS(I$5:I7)),COLUMNS($A7:$A7)))} | K7: {=IF(ROWS(H$5:H7)>$B$2,"",INDEX(C$1:I$300,SMALL(IF($B$5:$B$300=$B$1,ROW($A$5:$A$300)-ROW($A$1)+1),ROWS(J$5:J7)),COLUMNS($A7:$A7)))} | L7: {=IF(ROWS(I$5:I7)>$B$2,"",INDEX(D$1:J$300,SMALL(IF($B$5:$B$300=$B$1,ROW($A$5:$A$300)-ROW($A$1)+1),ROWS(K$5:K7)),COLUMNS($A7:$A7)))} | M7: {=IF(ROWS(J$5:J7)>$B$2,"",INDEX(E$1:K$300,SMALL(IF($B$5:$B$300=$B$1,ROW($A$5:$A$300)-ROW($A$1)+1),ROWS(L$5:L7)),COLUMNS($A7:$A7)))} | N7: =IF(J7="","",J7&K7&L7&"-"&M7) | P7: =IF(Source!D4="","",IF(Source!J4="N",Source!D4,IF(Source!I4=Source!B4,Source!D4,""))) -> 0001 | Q7: =IF($P7="","",Source!F4) -> 2011 | R7: =IF($P7="","",Source!G4) -> LIRF | S7: =IF($P7="","",Source!H4) -> 60000 | U7: {=IF(ROWS(R$5:R7)>$Q$2,"",INDEX(P$1:S$570,SMALL(IF($P$5:$P$570=$Q$1,ROW($P$5:$P$570)-ROW($A$1)+1),ROWS(T$5:T7)),COLUMNS($A7:$A7)))} | V7: {=IF(ROWS(S$5:S7)>$Q$2,"",INDEX(Q$1:T$570,SMALL(IF($P$5:$P$570=$Q$1,ROW($P$5:$P$570)-ROW($A$1)+1),ROWS(U$5:U7)),COLUMNS($A7:$A7)))} | W7: {=IF(ROWS(T$5:T7)>$Q$2,"",INDEX(R$1:U$570,SMALL(IF($P$5:$P$570=$Q$1,ROW($P$5:$P$570)-ROW($A$1)+1),ROWS(V$5:V7)),COLUMNS($A7:$A7)))} | X7: {=IF(ROWS(U$5:U7)>$Q$2,"",INDEX(S$1:V$570,SMALL(IF($P$5:$P$570=$Q$1,ROW($P$5:$P$570)-ROW($A$1)+1),ROWS(W$5:W7)),COLUMNS($A7:$A7)))}
A8: =IF('Unit List'!G5="","",IF('Unit List'!G5="N",'Unit List'!A5,IF('Unit List'!F5='Unit List'!B5,'Unit List'!A5,""))) -> 2023 | B8: =IF($A8="","",'Unit List'!B5) -> 03 | C8: =IF($A8="","",'Unit List'!C5) -> 5 | D8: =IF($A8="","",'Unit List'!D5) -> 0006 | E8: =IF($A8="","",'Unit List'!E5) -> BARTHOLOMEW COUNTY PUBLIC LIBRARY | F8: =IF($A8="","",'Unit List'!F5) | G8: =IF($A8="","",'Unit List'!G5) -> N | I8: {=IF(ROWS(F$5:F8)>$B$2,"",INDEX(A$1:G$300,SMALL(IF($B$5:$B$300=$B$1,ROW($A$5:$A$300)-ROW($A$1)+1),ROWS(H$5:H8)),COLUMNS($A8:$A8)))} | J8: {=IF(ROWS(G$5:G8)>$B$2,"",INDEX(B$1:H$300,SMALL(IF($B$5:$B$300=$B$1,ROW($A$5:$A$300)-ROW($A$1)+1),ROWS(I$5:I8)),COLUMNS($A8:$A8)))} | K8: {=IF(ROWS(H$5:H8)>$B$2,"",INDEX(C$1:I$300,SMALL(IF($B$5:$B$300=$B$1,ROW($A$5:$A$300)-ROW($A$1)+1),ROWS(J$5:J8)),COLUMNS($A8:$A8)))} | L8: {=IF(ROWS(I$5:I8)>$B$2,"",INDEX(D$1:J$300,SMALL(IF($B$5:$B$300=$B$1,ROW($A$5:$A$300)-ROW($A$1)+1),ROWS(K$5:K8)),COLUMNS($A8:$A8)))} | M8: {=IF(ROWS(J$5:J8)>$B$2,"",INDEX(E$1:K$300,SMALL(IF($B$5:$B$300=$B$1,ROW($A$5:$A$300)-ROW($A$1)+1),ROWS(L$5:L8)),COLUMNS($A8:$A8)))} | N8: =IF(J8="","",J8&K8&L8&"-"&M8) | P8: =IF(Source!D5="","",IF(Source!J5="N",Source!D5,IF(Source!I5=Source!B5,Source!D5,""))) -> 0304 | Q8: =IF($P8="","",Source!F5) -> 0061 | R8: =IF($P8="","",Source!G5) -> RAINY DAY | S8: =IF($P8="","",Source!H5) -> 10000 | U8: {=IF(ROWS(R$5:R8)>$Q$2,"",INDEX(P$1:S$570,SMALL(IF($P$5:$P$570=$Q$1,ROW($P$5:$P$570)-ROW($A$1)+1),ROWS(T$5:T8)),COLUMNS($A8:$A8)))} | V8: {=IF(ROWS(S$5:S8)>$Q$2,"",INDEX(Q$1:T$570,SMALL(IF($P$5:$P$570=$Q$1,ROW($P$5:$P$570)-ROW($A$1)+1),ROWS(U$5:U8)),COLUMNS($A8:$A8)))} | W8: {=IF(ROWS(T$5:T8)>$Q$2,"",INDEX(R$1:U$570,SMALL(IF($P$5:$P$570=$Q$1,ROW($P$5:$P$570)-ROW($A$1)+1),ROWS(V$5:V8)),COLUMNS($A8:$A8)))} | X8: {=IF(ROWS(U$5:U8)>$Q$2,"",INDEX(S$1:V$570,SMALL(IF($P$5:$P$570=$Q$1,ROW($P$5:$P$570)-ROW($A$1)+1),ROWS(W$5:W8)),COLUMNS($A8:$A8)))}
A9: =IF('Unit List'!G6="","",IF('Unit List'!G6="N",'Unit List'!A6,IF('Unit List'!F6='Unit List'!B6,'Unit List'!A6,""))) | B9: =IF($A9="","",'Unit List'!B6) | C9: =IF($A9="","",'Unit List'!C6) | D9: =IF($A9="","",'Unit List'!D6) | E9: =IF($A9="","",'Unit List'!E6) | F9: =IF($A9="","",'Unit List'!F6) | G9: =IF($A9="","",'Unit List'!G6) | I9: {=IF(ROWS(F$5:F9)>$B$2,"",INDEX(A$1:G$300,SMALL(IF($B$5:$B$300=$B$1,ROW($A$5:$A$300)-ROW($A$1)+1),ROWS(H$5:H9)),COLUMNS($A9:$A9)))} | J9: {=IF(ROWS(G$5:G9)>$B$2,"",INDEX(B$1:H$300,SMALL(IF($B$5:$B$300=$B$1,ROW($A$5:$A$300)-ROW($A$1)+1),ROWS(I$5:I9)),COLUMNS($A9:$A9)))} | K9: {=IF(ROWS(H$5:H9)>$B$2,"",INDEX(C$1:I$300,SMALL(IF($B$5:$B$300=$B$1,ROW($A$5:$A$300)-ROW($A$1)+1),ROWS(J$5:J9)),COLUMNS($A9:$A9)))} | L9: {=IF(ROWS(I$5:I9)>$B$2,"",INDEX(D$1:J$300,SMALL(IF($B$5:$B$300=$B$1,ROW($A$5:$A$300)-ROW($A$1)+1),ROWS(K$5:K9)),COLUMNS($A9:$A9)))} | M9: {=IF(ROWS(J$5:J9)>$B$2,"",INDEX(E$1:K$300,SMALL(IF($B$5:$B$300=$B$1,ROW($A$5:$A$300)-ROW($A$1)+1),ROWS(L$5:L9)),COLUMNS($A9:$A9)))} | N9: =IF(J9="","",J9&K9&L9&"-"&M9) | P9: =IF(Source!D6="","",IF(Source!J6="N",Source!D6,IF(Source!I6=Source!B6,Source!D6,""))) -> 0304 | Q9: =IF($P9="","",Source!F6) -> 0101 | R9: =IF($P9="","",Source!G6) -> GENERAL | S9: =IF($P9="","",Source!H6) -> 1234885 | U9: {=IF(ROWS(R$5:R9)>$Q$2,"",INDEX(P$1:S$570,SMALL(IF($P$5:$P$570=$Q$1,ROW($P$5:$P$570)-ROW($A$1)+1),ROWS(T$5:T9)),COLUMNS($A9:$A9)))} | V9: {=IF(ROWS(S$5:S9)>$Q$2,"",INDEX(Q$1:T$570,SMALL(IF($P$5:$P$570=$Q$1,ROW($P$5:$P$570)-ROW($A$1)+1),ROWS(U$5:U9)),COLUMNS($A9:$A9)))} | W9: {=IF(ROWS(T$5:T9)>$Q$2,"",INDEX(R$1:U$570,SMALL(IF($P$5:$P$570=$Q$1,ROW($P$5:$P$570)-ROW($A$1)+1),ROWS(V$5:V9)),COLUMNS($A9:$A9)))} | X9: {=IF(ROWS(U$5:U9)>$Q$2,"",INDEX(S$1:V$570,SMALL(IF($P$5:$P$570=$Q$1,ROW($P$5:$P$570)-ROW($A$1)+1),ROWS(W$5:W9)),COLUMNS($A9:$A9)))}
A10: =IF('Unit List'!G7="","",IF('Unit List'!G7="N",'Unit List'!A7,IF('Unit List'!F7='Unit List'!B7,'Unit List'!A7,""))) -> 2023 | B10: =IF($A10="","",'Unit List'!B7) -> 04 | C10: =IF($A10="","",'Unit List'!C7) -> 5 | D10: =IF($A10="","",'Unit List'!D7) -> 0007 | E10: =IF($A10="","",'Unit List'!E7) -> BOSWELL PUBLIC LIBRARY | F10: =IF($A10="","",'Unit List'!F7) | G10: =IF($A10="","",'Unit List'!G7) -> N | I10: {=IF(ROWS(F$5:F10)>$B$2,"",INDEX(A$1:G$300,SMALL(IF($B$5:$B$300=$B$1,ROW($A$5:$A$300)-ROW($A$1)+1),ROWS(H$5:H10)),COLUMNS($A10:$A10)))} | J10: {=IF(ROWS(G$5:G10)>$B$2,"",INDEX(B$1:H$300,SMALL(IF($B$5:$B$300=$B$1,ROW($A$5:$A$300)-ROW($A$1)+1),ROWS(I$5:I10)),COLUMNS($A10:$A10)))} | K10: {=IF(ROWS(H$5:H10)>$B$2,"",INDEX(C$1:I$300,SMALL(IF($B$5:$B$300=$B$1,ROW($A$5:$A$300)-ROW($A$1)+1),ROWS(J$5:J10)),COLUMNS($A10:$A10)))} | L10: {=IF(ROWS(I$5:I10)>$B$2,"",INDEX(D$1:J$300,SMALL(IF($B$5:$B$300=$B$1,ROW($A$5:$A$300)-ROW($A$1)+1),ROWS(K$5:K10)),COLUMNS($A10:$A10)))} | M10: {=IF(ROWS(J$5:J10)>$B$2,"",INDEX(E$1:K$300,SMALL(IF($B$5:$B$300=$B$1,ROW($A$5:$A$300)-ROW($A$1)+1),ROWS(L$5:L10)),COLUMNS($A10:$A10)))} | N10: =IF(J10="","",J10&K10&L10&"-"&M10) | P10: =IF(Source!D7="","",IF(Source!J7="N",Source!D7,IF(Source!I7=Source!B7,Source!D7,""))) -> 0304 | Q10: =IF($P10="","",Source!F7) -> 2011 | R10: =IF($P10="","",Source!G7) -> LIRF | S10: =IF($P10="","",Source!H7) -> 60000 | U10: {=IF(ROWS(R$5:R10)>$Q$2,"",INDEX(P$1:S$570,SMALL(IF($P$5:$P$570=$Q$1,ROW($P$5:$P$570)-ROW($A$1)+1),ROWS(T$5:T10)),COLUMNS($A10:$A10)))} | V10: {=IF(ROWS(S$5:S10)>$Q$2,"",INDEX(Q$1:T$570,SMALL(IF($P$5:$P$570=$Q$1,ROW($P$5:$P$570)-ROW($A$1)+1),ROWS(U$5:U10)),COLUMNS($A10:$A10)))} | W10: {=IF(ROWS(T$5:T10)>$Q$2,"",INDEX(R$1:U$570,SMALL(IF($P$5:$P$570=$Q$1,ROW($P$5:$P$570)-ROW($A$1)+1),ROWS(V$5:V10)),COLUMNS($A10:$A10)))} | X10: {=IF(ROWS(U$5:U10)>$Q$2,"",INDEX(S$1:V$570,SMALL(IF($P$5:$P$570=$Q$1,ROW($P$5:$P$570)-ROW($A$1)+1),ROWS(W$5:W10)),COLUMNS($A10:$A10)))}
A11: =IF('Unit List'!G8="","",IF('Unit List'!G8="N",'Unit List'!A8,IF('Unit List'!F8='Unit List'!B8,'Unit List'!A8,""))) -> 2023 | B11: =IF($A11="","",'Unit List'!B8) -> 04 | C11: =IF($A11="","",'Unit List'!C8) -> 5 | D11: =IF($A11="","",'Unit List'!D8) -> 0008 | E11: =IF($A11="","",'Unit List'!E8) -> EARL PARK PUBLIC LIBRARY | F11: =IF($A11="","",'Unit List'!F8) | G11: =IF($A11="","",'Unit List'!G8) -> N | I11: {=IF(ROWS(F$5:F11)>$B$2,"",INDEX(A$1:G$300,SMALL(IF($B$5:$B$300=$B$1,ROW($A$5:$A$300)-ROW($A$1)+1),ROWS(H$5:H11)),COLUMNS($A11:$A11)))} | J11: {=IF(ROWS(G$5:G11)>$B$2,"",INDEX(B$1:H$300,SMALL(IF($B$5:$B$300=$B$1,ROW($A$5:$A$300)-ROW($A$1)+1),ROWS(I$5:I11)),COLUMNS($A11:$A11)))} | K11: {=IF(ROWS(H$5:H11)>$B$2,"",INDEX(C$1:I$300,SMALL(IF($B$5:$B$300=$B$1,ROW($A$5:$A$300)-ROW($A$1)+1),ROWS(J$5:J11)),COLUMNS($A11:$A11)))} | L11: {=IF(ROWS(I$5:I11)>$B$2,"",INDEX(D$1:J$300,SMALL(IF($B$5:$B$300=$B$1,ROW($A$5:$A$300)-ROW($A$1)+1),ROWS(K$5:K11)),COLUMNS($A11:$A11)))} | M11: {=IF(ROWS(J$5:J11)>$B$2,"",INDEX(E$1:K$300,SMALL(IF($B$5:$B$300=$B$1,ROW($A$5:$A$300)-ROW($A$1)+1),ROWS(L$5:L11)),COLUMNS($A11:$A11)))} | N11: =IF(J11="","",J11&K11&L11&"-"&M11) | P11: =IF(Source!D8="","",IF(Source!J8="N",Source!D8,IF(Source!I8=Source!B8,Source!D8,""))) -> 0260 | Q11: =IF($P11="","",Source!F8) -> 0101 | R11: =IF($P11="","",Source!G8) -> GENERAL | S11: =IF($P11="","",Source!H8) -> 37023941 | U11: {=IF(ROWS(R$5:R11)>$Q$2,"",INDEX(P$1:S$570,SMALL(IF($P$5:$P$570=$Q$1,ROW($P$5:$P$570)-ROW($A$1)+1),ROWS(T$5:T11)),COLUMNS($A11:$A11)))} | V11: {=IF(ROWS(S$5:S11)>$Q$2,"",INDEX(Q$1:T$570,SMALL(IF($P$5:$P$570=$Q$1,ROW($P$5:$P$570)-ROW($A$1)+1),ROWS(U$5:U11)),COLUMNS($A11:$A11)))} | W11: {=IF(ROWS(T$5:T11)>$Q$2,"",INDEX(R$1:U$570,SMALL(IF($P$5:$P$570=$Q$1,ROW($P$5:$P$570)-ROW($A$1)+1),ROWS(V$5:V11)),COLUMNS($A11:$A11)))} | X11: {=IF(ROWS(U$5:U11)>$Q$2,"",INDEX(S$1:V$570,SMALL(IF($P$5:$P$570=$Q$1,ROW($P$5:$P$570)-ROW($A$1)+1),ROWS(W$5:W11)),COLUMNS($A11:$A11)))}
A12: =IF('Unit List'!G9="","",IF('Unit List'!G9="N",'Unit List'!A9,IF('Unit List'!F9='Unit List'!B9,'Unit List'!A9,""))) -> 2023 | B12: =IF($A12="","",'Unit List'!B9) -> 04 | C12: =IF($A12="","",'Unit List'!C9) -> 5 | D12: =IF($A12="","",'Unit List'!D9) -> 0009 | E12: =IF($A12="","",'Unit List'!E9) -> OTTERBEIN PUBLIC LIBRARY | F12: =IF($A12="","",'Unit List'!F9) -> 04 | G12: =IF($A12="","",'Unit List'!G9) -> Y | I12: {=IF(ROWS(F$5:F12)>$B$2,"",INDEX(A$1:G$300,SMALL(IF($B$5:$B$300=$B$1,ROW($A$5:$A$300)-ROW($A$1)+1),ROWS(H$5:H12)),COLUMNS($A12:$A12)))} | J12: {=IF(ROWS(G$5:G12)>$B$2,"",INDEX(B$1:H$300,SMALL(IF($B$5:$B$300=$B$1,ROW($A$5:$A$300)-ROW($A$1)+1),ROWS(I$5:I12)),COLUMNS($A12:$A12)))} | K12: {=IF(ROWS(H$5:H12)>$B$2,"",INDEX(C$1:I$300,SMALL(IF($B$5:$B$300=$B$1,ROW($A$5:$A$300)-ROW($A$1)+1),ROWS(J$5:J12)),COLUMNS($A12:$A12)))} | L12: {=IF(ROWS(I$5:I12)>$B$2,"",INDEX(D$1:J$300,SMALL(IF($B$5:$B$300=$B$1,ROW($A$5:$A$300)-ROW($A$1)+1),ROWS(K$5:K12)),COLUMNS($A12:$A12)))} | M12: {=IF(ROWS(J$5:J12)>$B$2,"",INDEX(E$1:K$300,SMALL(IF($B$5:$B$300=$B$1,ROW($A$5:$A$300)-ROW($A$1)+1),ROWS(L$5:L12)),COLUMNS($A12:$A12)))} | N12: =IF(J12="","",J12&K12&L12&"-"&M12) | P12: =IF(Source!D9="","",IF(Source!J9="N",Source!D9,IF(Source!I9=Source!B9,Source!D9,""))) -> 0006 | Q12: =IF($P12="","",Source!F9) -> 0061 | R12: =IF($P12="","",Source!G9) -> RAINY DAY | S12: =IF($P12="","",Source!H9) -> 226893
A13: =IF('Unit List'!G10="","",IF('Unit List'!G10="N",'Unit List'!A10,IF('Unit List'!F10='Unit List'!B10,'Unit List'!A10,""))) -> 2023 | B13: =IF($A13="","",'Unit List'!B10) -> 04 | C13: =IF($A13="","",'Unit List'!C10) -> 5 | D13: =IF($A13="","",'Unit List'!D10) -> 0010 | E13: =IF($A13="","",'Unit List'!E10) -> OXFORD PUBLIC LIBRARY | F13: =IF($A13="","",'Unit List'!F10) | G13: =IF($A13="","",'Unit List'!G10) -> N | I13: {=IF(ROWS(F$5:F13)>$B$2,"",INDEX(A$1:G$300,SMALL(IF($B$5:$B$300=$B$1,ROW($A$5:$A$300)-ROW($A$1)+1),ROWS(H$5:H13)),COLUMNS($A13:$A13)))} | J13: {=IF(ROWS(G$5:G13)>$B$2,"",INDEX(B$1:H$300,SMALL(IF($B$5:$B$300=$B$1,ROW($A$5:$A$300)-ROW($A$1)+1),ROWS(I$5:I13)),COLUMNS($A13:$A13)))} | K13: {=IF(ROWS(H$5:H13)>$B$2,"",INDEX(C$1:I$300,SMALL(IF($B$5:$B$300=$B$1,ROW($A$5:$A$300)-ROW($A$1)+1),ROWS(J$5:J13)),COLUMNS($A13:$A13)))} | L13: {=IF(ROWS(I$5:I13)>$B$2,"",INDEX(D$1:J$300,SMALL(IF($B$5:$B$300=$B$1,ROW($A$5:$A$300)-ROW($A$1)+1),ROWS(K$5:K13)),COLUMNS($A13:$A13)))} | M13: {=IF(ROWS(J$5:J13)>$B$2,"",INDEX(E$1:K$300,SMALL(IF($B$5:$B$300=$B$1,ROW($A$5:$A$300)-ROW($A$1)+1),ROWS(L$5:L13)),COLUMNS($A13:$A13)))} | N13: =IF(J13="","",J13&K13&L13&"-"&M13) | P13: =IF(Source!D10="","",IF(Source!J10="N",Source!D10,IF(Source!I10=Source!B10,Source!D10,""))) -> 0006 | Q13: =IF($P13="","",Source!F10) -> 0101 | R13: =IF($P13="","",Source!G10) -> GENERAL | S13: =IF($P13="","",Source!H10) -> 4844797
A14: =IF('Unit List'!G11="","",IF('Unit List'!G11="N",'Unit List'!A11,IF('Unit List'!F11='Unit List'!B11,'Unit List'!A11,""))) -> 2023 | B14: =IF($A14="","",'Unit List'!B11) -> 04 | C14: =IF($A14="","",'Unit List'!C11) -> 5 | D14: =IF($A14="","",'Unit List'!D11) -> 0011 | E14: =IF($A14="","",'Unit List'!E11) -> BENTON COUNTY PUBLIC LIBRARY | F14: =IF($A14="","",'Unit List'!F11) | G14: =IF($A14="","",'Unit List'!G11) -> N | I14: {=IF(ROWS(F$5:F14)>$B$2,"",INDEX(A$1:G$300,SMALL(IF($B$5:$B$300=$B$1,ROW($A$5:$A$300)-ROW($A$1)+1),ROWS(H$5:H14)),COLUMNS($A14:$A14)))} | J14: {=IF(ROWS(G$5:G14)>$B$2,"",INDEX(B$1:H$300,SMALL(IF($B$5:$B$300=$B$1,ROW($A$5:$A$300)-ROW($A$1)+1),ROWS(I$5:I14)),COLUMNS($A14:$A14)))} | K14: {=IF(ROWS(H$5:H14)>$B$2,"",INDEX(C$1:I$300,SMALL(IF($B$5:$B$300=$B$1,ROW($A$5:$A$300)-ROW($A$1)+1),ROWS(J$5:J14)),COLUMNS($A14:$A14)))} | L14: {=IF(ROWS(I$5:I14)>$B$2,"",INDEX(D$1:J$300,SMALL(IF($B$5:$B$300=$B$1,ROW($A$5:$A$300)-ROW($A$1)+1),ROWS(K$5:K14)),COLUMNS($A14:$A14)))} | M14: {=IF(ROWS(J$5:J14)>$B$2,"",INDEX(E$1:K$300,SMALL(IF($B$5:$B$300=$B$1,ROW($A$5:$A$300)-ROW($A$1)+1),ROWS(L$5:L14)),COLUMNS($A14:$A14)))} | N14: =IF(J14="","",J14&K14&L14&"-"&M14) | P14: =IF(Source!D11="","",IF(Source!J11="N",Source!D11,IF(Source!I11=Source!B11,Source!D11,""))) -> 0006 | Q14: =IF($P14="","",Source!F11) -> 2011 | R14: =IF($P14="","",Source!G11) -> LIRF | S14: =IF($P14="","",Source!H11) -> 200000
A15: =IF('Unit List'!G12="","",IF('Unit List'!G12="N",'Unit List'!A12,IF('Unit List'!F12='Unit List'!B12,'Unit List'!A12,""))) -> 2023 | B15: =IF($A15="","",'Unit List'!B12) -> 04 | C15: =IF($A15="","",'Unit List'!C12) -> 5 | D15: =IF($A15="","",'Unit List'!D12) -> 0012 | E15: =IF($A15="","",'Unit List'!E12) -> YORK TOWNSHIP PUBLIC LIBRARY | F15: =IF($A15="","",'Unit List'!F12) | G15: =IF($A15="","",'Unit List'!G12) -> N | I15: {=IF(ROWS(F$5:F15)>$B$2,"",INDEX(A$1:G$300,SMALL(IF($B$5:$B$300=$B$1,ROW($A$5:$A$300)-ROW($A$1)+1),ROWS(H$5:H15)),COLUMNS($A15:$A15)))} | J15: {=IF(ROWS(G$5:G15)>$B$2,"",INDEX(B$1:H$300,SMALL(IF($B$5:$B$300=$B$1,ROW($A$5:$A$300)-ROW($A$1)+1),ROWS(I$5:I15)),COLUMNS($A15:$A15)))} | K15: {=IF(ROWS(H$5:H15)>$B$2,"",INDEX(C$1:I$300,SMALL(IF($B$5:$B$300=$B$1,ROW($A$5:$A$300)-ROW($A$1)+1),ROWS(J$5:J15)),COLUMNS($A15:$A15)))} | L15: {=IF(ROWS(I$5:I15)>$B$2,"",INDEX(D$1:J$300,SMALL(IF($B$5:$B$300=$B$1,ROW($A$5:$A$300)-ROW($A$1)+1),ROWS(K$5:K15)),COLUMNS($A15:$A15)))} | M15: {=IF(ROWS(J$5:J15)>$B$2,"",INDEX(E$1:K$300,SMALL(IF($B$5:$B$300=$B$1,ROW($A$5:$A$300)-ROW($A$1)+1),ROWS(L$5:L15)),COLUMNS($A15:$A15)))} | N15: =IF(J15="","",J15&K15&L15&"-"&M15) | P15: =IF(Source!D12="","",IF(Source!J12="N",Source!D12,IF(Source!I12=Source!B12,Source!D12,""))) | Q15: =IF($P15="","",Source!F12) | R15: =IF($P15="","",Source!G12) | S15: =IF($P15="","",Source!H12)
A16: =IF('Unit List'!G13="","",IF('Unit List'!G13="N",'Unit List'!A13,IF('Unit List'!F13='Unit List'!B13,'Unit List'!A13,""))) -> 2023 | B16: =IF($A16="","",'Unit List'!B13) -> 05 | C16: =IF($A16="","",'Unit List'!C13) -> 5 | D16: =IF($A16="","",'Unit List'!D13) -> 0013 | E16: =IF($A16="","",'Unit List'!E13) -> HARTFORD CITY PUBLIC LIBRARY | F16: =IF($A16="","",'Unit List'!F13) | G16: =IF($A16="","",'Unit List'!G13) -> N | P16: =IF(Source!D13="","",IF(Source!J13="N",Source!D13,IF(Source!I13=Source!B13,Source!D13,""))) -> 0007 | Q16: =IF($P16="","",Source!F13) -> 0101 | R16: =IF($P16="","",Source!G13) -> GENERAL | S16: =IF($P16="","",Source!H13) -> 170167
A17: =IF('Unit List'!G14="","",IF('Unit List'!G14="N",'Unit List'!A14,IF('Unit List'!F14='Unit List'!B14,'Unit List'!A14,""))) -> 2023 | B17: =IF($A17="","",'Unit List'!B14) -> 05 | C17: =IF($A17="","",'Unit List'!C14) -> 5 | D17: =IF($A17="","",'Unit List'!D14) -> 0014 | E17: =IF($A17="","",'Unit List'!E14) -> MONTPELIER PUBLIC LIBRARY | F17: =IF($A17="","",'Unit List'!F14) | G17: =IF($A17="","",'Unit List'!G14) -> N | P17: =IF(Source!D14="","",IF(Source!J14="N",Source!D14,IF(Source!I14=Source!B14,Source!D14,""))) -> 0008 | Q17: =IF($P17="","",Source!F14) -> 0061 | R17: =IF($P17="","",Source!G14) -> RAINY DAY | S17: =IF($P17="","",Source!H14) -> 7000
A18: =IF('Unit List'!G15="","",IF('Unit List'!G15="N",'Unit List'!A15,IF('Unit List'!F15='Unit List'!B15,'Unit List'!A15,""))) | B18: =IF($A18="","",'Unit List'!B15) | C18: =IF($A18="","",'Unit List'!C15) | D18: =IF($A18="","",'Unit List'!D15) | E18: =IF($A18="","",'Unit List'!E15) | F18: =IF($A18="","",'Unit List'!F15) | G18: =IF($A18="","",'Unit List'!G15) | P18: =IF(Source!D15="","",IF(Source!J15="N",Source!D15,IF(Source!I15=Source!B15,Source!D15,""))) -> 0008 | Q18: =IF($P18="","",Source!F15) -> 0101 | R18: =IF($P18="","",Source!G15) -> GENERAL | S18: =IF($P18="","",Source!H15) -> 58676
A19: =IF('Unit List'!G16="","",IF('Unit List'!G16="N",'Unit List'!A16,IF('Unit List'!F16='Unit List'!B16,'Unit List'!A16,""))) -> 2023 | B19: =IF($A19="","",'Unit List'!B16) -> 06 | C19: =IF($A19="","",'Unit List'!C16) -> 5 | D19: =IF($A19="","",'Unit List'!D16) -> 0015 | E19: =IF($A19="","",'Unit List'!E16) -> LEBANON PUBLIC LIBRARY | F19: =IF($A19="","",'Unit List'!F16) | G19: =IF($A19="","",'Unit List'!G16) -> N | P19: =IF(Source!D16="","",IF(Source!J16="N",Source!D16,IF(Source!I16=Source!B16,Source!D16,""))) -> 0008 | Q19: =IF($P19="","",Source!F16) -> 2011 | R19: =IF($P19="","",Source!G16) -> LIRF | S19: =IF($P19="","",Source!H16) -> 0
A20: =IF('Unit List'!G17="","",IF('Unit List'!G17="N",'Unit List'!A17,IF('Unit List'!F17='Unit List'!B17,'Unit List'!A17,""))) -> 2023 | B20: =IF($A20="","",'Unit List'!B17) -> 06 | C20: =IF($A20="","",'Unit List'!C17) -> 5 | D20: =IF($A20="","",'Unit List'!D17) -> 0016 | E20: =IF($A20="","",'Unit List'!E17) -> THORNTOWN PUBLIC LIBRARY | F20: =IF($A20="","",'Unit List'!F17) | G20: =IF($A20="","",'Unit List'!G17) -> N | P20: =IF(Source!D17="","",IF(Source!J17="N",Source!D17,IF(Source!I17=Source!B17,Source!D17,""))) -> 0009 | Q20: =IF($P20="","",Source!F17) -> 0061 | R20: =IF($P20="","",Source!G17) -> RAINY DAY | S20: =IF($P20="","",Source!H17) -> 6000
A21: =IF('Unit List'!G18="","",IF('Unit List'!G18="N",'Unit List'!A18,IF('Unit List'!F18='Unit List'!B18,'Unit List'!A18,""))) -> 2023 | B21: =IF($A21="","",'Unit List'!B18) -> 06 | C21: =IF($A21="","",'Unit List'!C18) -> 5 | D21: =IF($A21="","",'Unit List'!D18) -> 0296 | E21: =IF($A21="","",'Unit List'!E18) -> HUSSEY - MAYFIELD MEMORIAL LIBRARY | F21: =IF($A21="","",'Unit List'!F18) | G21: =IF($A21="","",'Unit List'!G18) -> N | P21: =IF(Source!D18="","",IF(Source!J18="N",Source!D18,IF(Source!I18=Source!B18,Source!D18,""))) -> 0009 | Q21: =IF($P21="","",Source!F18) -> 0101 | R21: =IF($P21="","",Source!G18) -> GENERAL | S21: =IF($P21="","",Source!H18) -> 153714
A22: =IF('Unit List'!G19="","",IF('Unit List'!G19="N",'Unit List'!A19,IF('Unit List'!F19='Unit List'!B19,'Unit List'!A19,""))) -> 2023 | B22: =IF($A22="","",'Unit List'!B19) -> 07 | C22: =IF($A22="","",'Unit List'!C19) -> 5 | D22: =IF($A22="","",'Unit List'!D19) -> 0017 | E22: =IF($A22="","",'Unit List'!E19) -> BROWN COUNTY PUBLIC LIBRARY | F22: =IF($A22="","",'Unit List'!F19) | G22: =IF($A22="","",'Unit List'!G19) -> N | P22: =IF(Source!D19="","",IF(Source!J19="N",Source!D19,IF(Source!I19=Source!B19,Source!D19,""))) -> 0009 | Q22: =IF($P22="","",Source!F19) -> 0180 | R22: =IF($P22="","",Source!G19) -> DEBT SERVICE | S22: =IF($P22="","",Source!H19) -> 113000
A23: =IF('Unit List'!G20="","",IF('Unit List'!G20="N",'Unit List'!A20,IF('Unit List'!F20='Unit List'!B20,'Unit List'!A20,""))) -> 2023 | B23: =IF($A23="","",'Unit List'!B20) -> 08 | C23: =IF($A23="","",'Unit List'!C20) -> 5 | D23: =IF($A23="","",'Unit List'!D20) -> 0018 | E23: =IF($A23="","",'Unit List'!E20) -> CAMDEN-JACKSON TWP PUBLIC LIBRARY | F23: =IF($A23="","",'Unit List'!F20) | G23: =IF($A23="","",'Unit List'!G20) -> N | P23: =IF(Source!D20="","",IF(Source!J20="N",Source!D20,IF(Source!I20=Source!B20,Source!D20,""))) -> 0009 | Q23: =IF($P23="","",Source!F20) -> 2011 | R23: =IF($P23="","",Source!G20) -> LIRF | S23: =IF($P23="","",Source!H20) -> 10000
A24: =IF('Unit List'!G21="","",IF('Unit List'!G21="N",'Unit List'!A21,IF('Unit List'!F21='Unit List'!B21,'Unit List'!A21,""))) -> 2023 | B24: =IF($A24="","",'Unit List'!B21) -> 08 | C24: =IF($A24="","",'Unit List'!C21) -> 5 | D24: =IF($A24="","",'Unit List'!D21) -> 0019 | E24: =IF($A24="","",'Unit List'!E21) -> DELPHI PUBLIC LIBRARY | F24: =IF($A24="","",'Unit List'!F21) | G24: =IF($A24="","",'Unit List'!G21) -> N | P24: =IF(Source!D21="","",IF(Source!J21="N",Source!D21,IF(Source!I21=Source!B21,Source!D21,""))) -> 0010 | Q24: =IF($P24="","",Source!F21) -> 0061 | R24: =IF($P24="","",Source!G21) -> RAINY DAY | S24: =IF($P24="","",Source!H21) -> 900
A25: =IF('Unit List'!G22="","",IF('Unit List'!G22="N",'Unit List'!A22,IF('Unit List'!F22='Unit List'!B22,'Unit List'!A22,""))) -> 2023 | B25: =IF($A25="","",'Unit List'!B22) -> 08 | C25: =IF($A25="","",'Unit List'!C22) -> 5 | D25: =IF($A25="","",'Unit List'!D22) -> 0020 | E25: =IF($A25="","",'Unit List'!E22) -> FLORA PUBLIC LIBRARY | F25: =IF($A25="","",'Unit List'!F22) | G25: =IF($A25="","",'Unit List'!G22) -> N | P25: =IF(Source!D22="","",IF(Source!J22="N",Source!D22,IF(Source!I22=Source!B22,Source!D22,""))) -> 0010 | Q25: =IF($P25="","",Source!F22) -> 0101 | R25: =IF($P25="","",Source!G22) -> GENERAL | S25: =IF($P25="","",Source!H22) -> 219168
A26: =IF('Unit List'!G23="","",IF('Unit List'!G23="N",'Unit List'!A23,IF('Unit List'!F23='Unit List'!B23,'Unit List'!A23,""))) -> 2023 | B26: =IF($A26="","",'Unit List'!B23) -> 09 | C26: =IF($A26="","",'Unit List'!C23) -> 5 | D26: =IF($A26="","",'Unit List'!D23) -> 0021 | E26: =IF($A26="","",'Unit List'!E23) -> LOGANSPORT-CASS PUBLIC LIBRARY | F26: =IF($A26="","",'Unit List'!F23) | G26: =IF($A26="","",'Unit List'!G23) -> N | P26: =IF(Source!D23="","",IF(Source!J23="N",Source!D23,IF(Source!I23=Source!B23,Source!D23,""))) -> 0010 | Q26: =IF($P26="","",Source!F23) -> 2011 | R26: =IF($P26="","",Source!G23) -> LIRF | S26: =IF($P26="","",Source!H23) -> 8000
A27: =IF('Unit List'!G24="","",IF('Unit List'!G24="N",'Unit List'!A24,IF('Unit List'!F24='Unit List'!B24,'Unit List'!A24,""))) -> 2023 | B27: =IF($A27="","",'Unit List'!B24) -> 09 | C27: =IF($A27="","",'Unit List'!C24) -> 5 | D27: =IF($A27="","",'Unit List'!D24) -> 0022 | E27: =IF($A27="","",'Unit List'!E24) -> ROYAL CENTER PUBLIC LIBRARY | F27: =IF($A27="","",'Unit List'!F24) | G27: =IF($A27="","",'Unit List'!G24) -> N | P27: =IF(Source!D24="","",IF(Source!J24="N",Source!D24,IF(Source!I24=Source!B24,Source!D24,""))) -> 0011 | Q27: =IF($P27="","",Source!F24) -> 0061 | R27: =IF($P27="","",Source!G24) -> RAINY DAY | S27: =IF($P27="","",Source!H24) -> 10000
... A250: =IF('Unit List'!G247="","",IF('Unit List'!G247="N",'Unit List'!A247,IF('Unit List'!F247='Unit List'!B247,'Unit List'!A247,""))) | B250: =IF($A250="","",'Unit List'!B247) | C250: =IF($A250="","",'Unit List'!C247) | D250: =IF($A250="","",'Unit List'!D247) | E250: =IF($A250="","",'Unit List'!E247) | F250: =IF($A250="","",'Unit List'!F247) | G250: =IF($A250="","",'Unit List'!G247) | P250: =IF(Source!D247="","",IF(Source!J247="N",Source!D247,IF(Source!I247=Source!B247,Source!D247,""))) -> 0103 | Q250: =IF($P250="","",Source!F247) -> 0101 | R250: =IF($P250="","",Source!G247) -> GENERAL | S250: =IF($P250="","",Source!H247) -> 219455
P251: =IF(Source!D248="","",IF(Source!J248="N",Source!D248,IF(Source!I248=Source!B248,Source!D248,""))) -> 0266 | Q251: =IF($P251="","",Source!F248) -> 0061 | R251: =IF($P251="","",Source!G248) -> RAINY DAY | S251: =IF($P251="","",Source!H248) -> 970260
P252: =IF(Source!D249="","",IF(Source!J249="N",Source!D249,IF(Source!I249=Source!B249,Source!D249,""))) -> 0266 | Q252: =IF($P252="","",Source!F249) -> 0101 | R252: =IF($P252="","",Source!G249) -> GENERAL | S252: =IF($P252="","",Source!H249) -> 2898695
P253: =IF(Source!D250="","",IF(Source!J250="N",Source!D250,IF(Source!I250=Source!B250,Source!D250,""))) -> 0106 | Q253: =IF($P253="","",Source!F250) -> 0101 | R253: =IF($P253="","",Source!G250) -> GENERAL | S253: =IF($P253="","",Source!H250) -> 241668
P254: =IF(Source!D251="","",IF(Source!J251="N",Source!D251,IF(Source!I251=Source!B251,Source!D251,""))) -> 0107 | Q254: =IF($P254="","",Source!F251) -> 0101 | R254: =IF($P254="","",Source!G251) -> GENERAL | S254: =IF($P254="","",Source!H251) -> 30340
P255: =IF(Source!D252="","",IF(Source!J252="N",Source!D252,IF(Source!I252=Source!B252,Source!D252,""))) -> 0267 | Q255: =IF($P255="","",Source!F252) -> 0061 | R255: =IF($P255="","",Source!G252) -> RAINY DAY | S255: =IF($P255="","",Source!H252) -> 20000
P256: =IF(Source!D253="","",IF(Source!J253="N",Source!D253,IF(Source!I253=Source!B253,Source!D253,""))) -> 0267 | Q256: =IF($P256="","",Source!F253) -> 0101 | R256: =IF($P256="","",Source!G253) -> GENERAL | S256: =IF($P256="","",Source!H253) -> 1175000
P257: =IF(Source!D254="","",IF(Source!J254="N",Source!D254,IF(Source!I254=Source!B254,Source!D254,""))) -> 0267 | Q257: =IF($P257="","",Source!F254) -> 2011 | R257: =IF($P257="","",Source!G254) -> LIRF | S257: =IF($P257="","",Source!H254) -> 100000
P258: =IF(Source!D255="","",IF(Source!J255="N",Source!D255,IF(Source!I255=Source!B255,Source!D255,""))) -> 0109 | Q258: =IF($P258="","",Source!F255) -> 0101 | R258: =IF($P258="","",Source!G255) -> GENERAL | S258: =IF($P258="","",Source!H255) -> 1902171
P259: =IF(Source!D256="","",IF(Source!J256="N",Source!D256,IF(Source!I256=Source!B256,Source!D256,""))) -> 0110 | Q259: =IF($P259="","",Source!F256) -> 0101 | R259: =IF($P259="","",Source!G256) -> GENERAL | S259: =IF($P259="","",Source!H256) -> 1183553
P260: =IF(Source!D257="","",IF(Source!J257="N",Source!D257,IF(Source!I257=Source!B257,Source!D257,""))) -> 0111 | Q260: =IF($P260="","",Source!F257) -> 0101 | R260: =IF($P260="","",Source!G257) -> GENERAL | S260: =IF($P260="","",Source!H257) -> 275047
P261: =IF(Source!D258="","",IF(Source!J258="N",Source!D258,IF(Source!I258=Source!B258,Source!D258,""))) -> 0112 | Q261: =IF($P261="","",Source!F258) -> 0061 | R261: =IF($P261="","",Source!G258) -> RAINY DAY | S261: =IF($P261="","",Source!H258) -> 799999
P262: =IF(Source!D259="","",IF(Source!J259="N",Source!D259,IF(Source!I259=Source!B259,Source!D259,""))) -> 0112 | Q262: =IF($P262="","",Source!F259) -> 0101 | R262: =IF($P262="","",Source!G259) -> GENERAL | S262: =IF($P262="","",Source!H259) -> 2524014
... P570: =IF(Source!D567="","",IF(Source!J567="N",Source!D567,IF(Source!I567=Source!B567,Source!D567,""))) | Q570: =IF($P570="","",Source!F567) | R570: =IF($P570="","",Source!G567) | S570: =IF($P570="","",Source!H567)

Sheet Step 1) Data Entry
B1: STATE OF INDIANA INDIANA DEPARTMENT OF LOCAL GOVERNMENT FINANCE
A4: Pay 2024 Library Estimated Maximum Non-Binding Review Budget
B6: Pursuant to Ind. Code § 6-1.1-17-20.3(a)(2), library boards may adopt budgets and levies for libraries that grow their budget by no more than the prior year budget multiplied by the maximum levy growth quotient minus 1, rounded down to the nearest dollar. Library boards intending to adopt their own budgets and levies are required to verify that the adopted budget is within the maximum permitted by law. Budgets adopted by library boards that are above the calculated maximum are invalid and will result in a continuation of the library’s prior year budget. Proposed budgets that are above the calculated maximum may be valid, but only if the budget is adopted by the library’s fiscal body pursuant to Ind. Code § 6-1.1-17-20.3.
B7: This worksheet is for informational purposes only and is not a final calculation.
B9: Step 1: Select Your Unit of Government
B11: In the fields below, select county first and then the name of the unit of government.
B12: If you are having trouble, please make sure you have clicked "Enable Editing" at the top of this page.
B14: County | C14: 52-MIAMI COUNTY | E14: ← Click here and then click on the downward arrow to select your county. Repeat this to select your unit.
B15: Unit Name | C15: 5250152-CONVERSE PUBLIC LIBRARY
B18: =IF(COUNTIF(Binding!A1:A10,C15)=1,"Always Binding to the Library Fiscal Body","Step 2: Calculation Review") -> Step 2: Calculation Review
B20: In the section below, review the calculation to determine the maximum non-binding review budget for the library, as outlined by Ind. Code § 6-1.1-17-20.3(a)(2).
B22: Calculation
B23: =Year-1&" Total Certified Budget" -> 2023 Total Certified Budget | D23: =SUMIFS(Source!H:H,Source!B:B,LEFT(C14,2),Source!D:D,MID(C15,4,4)) -> 171900
B24: Times (x) Maximum Levy Growth Quotient | D24: =MLGQ -> 1.04
B25: Budget times (x) Maximum Levy Growth Quotient | D25: =D23*D24 -> 178776
B26: Minus (-) $1 | D26: -1
B27: =Year&" Maximum Budget to remain Non-Binding (Rounded Down)" -> 2024 Maximum Budget to remain Non-Binding (Rounded Down) | D27: =ROUNDDOWN(D25+D26,0) -> 178775
B29: Step 2: Calculation Review
B31: In the section below, enter the proposed 2024 Budget — by fund — in the highlighted column. If a new fund is needed, it can be added by clicking on "Click Here to Add a New Fund for 2024."
B33: Fund Name | D33: =Year-1 -> 2023 | E33: =Year -> 2024
D34: Certified Budget | E34: Proposed Budget
B35: =IF(Index!V5<>"",Index!V5&"-"&Index!W5,"Working on it") -> 0101-GENERAL | D35: =Index!X5 -> 171900
B36: =IF(Index!V6<>"",Index!V6&"-"&Index!W6,IF(B35="","",IF(B35="Click Here to Add a New Fund for 2024","",IF(B35<>"Click Here to Add a New Fund for 2024","Click Here to Add a New Fund for 2024","x")))) -> Click Here to Add a New Fund for 2024 | D36: =Index!X6
B37: =IF(Index!V7<>"",Index!V7&"-"&Index!W7,IF(B36="","",IF(B36="Click Here to Add a New Fund for 2024","",IF(B36<>"Click Here to Add a New Fund for 2024","Click Here to Add a New Fund for 2024","x")))) | D37: =Index!X7
B38: =IF(Index!V8<>"",Index!V8&"-"&Index!W8,IF(B37="","",IF(B37="Click Here to Add a New Fund for 2024","",IF(B37<>"Click Here to Add a New Fund for 2024","Click Here to Add a New Fund for 2024","x")))) | D38: =Index!X8
B39: =IF(Index!V9<>"",Index!V9&"-"&Index!W9,IF(B38="","",IF(B38="Click Here to Add a New Fund for 2024","",IF(B38<>"Click Here to Add a New Fund for 2024","Click Here to Add a New Fund for 2024","x")))) | D39: =Index!X9
B40: =IF(Index!V10<>"",Index!V10&"-"&Index!W10,IF(B39="","",IF(B39="Click Here to Add a New Fund for 2024","",IF(B39<>"Click Here to Add a New Fund for 2024","Click Here to Add a New Fund for 2024","x"))))
B41: =IF(Index!V11<>"",Index!V11&"-"&Index!W11,IF(B40="","",IF(B40="Click Here to Add a New Fund for 2024","",IF(B40<>"Click Here to Add a New Fund for 2024","Click Here to Add a New Fund for 2024","x"))))
B42: Total Budgets | D42: =D23 -> 171900 | E42: =SUM(E35:E41) -> 0
B44: Maximum Budget to Remain Non-Binding | D44: =D27 -> 178775 | E44: =D27 -> 178775
B46: =IF(E42>D44,"Budget will require binding review by library fiscal body.","The Library Board will be able to adopt the budget.") -> The Library Board will be able to adopt the budget.
B48: =IF(E42>D44,"For the library to remain Non-Binding you will need to reduce "&DOLLAR(E42-D44)&" from the budget.",IF(E42=0,"Budgets can be increased to "&DOLLAR(D44-E42)&" and remain non-binding.","Budgets can be increased by "&DOLLAR(D44-E42)&" and remain non-binding.")) -> Budgets can be increased to $178,775.00 and remain non-binding.

Sheet Binding
A2: 4950143-SPEEDWAY CITY PUBLIC LIBRARY
A3: 4950144-INDIANAPOLIS-MARION COUNTY PUB LIBRARY
A4: 4550128-WHITING PUBLIC LIBRARY
