Workbook
Name Structure_Data: 'HDPE Liner'!$A$38:$F$73

Sheet CMPA
A1: CMPA Coordinate Generator
A2: Input values
A3: FROM SURVEY | G3: Output Plot for HY8 | L3: Appx. Area Check
A4: Measured Span | C4: in
A5: Measured Rise | C5: in | H5: x | I5: y1 | J5: y2 | L5: =(I6+I7)/2*(H7-H6)-(J6+J7)/2*(H7-H6) -> #N/A
A6: inlet invert | C6: ft | G6: 1 | H6: =-H24 -> #N/A | I6: =B18/12 -> #N/A | J6: =I6 -> #N/A | L6: =(I7+I8)/2*(H8-H7)-(J7+J8)/2*(H8-H7) -> #N/A
A7: outlet invert | C7: ft | G7: 2 | H7: =-H23 -> #N/A | I7: =$B$24+SQRT($D$16^2-H7^2) -> #N/A | J7: =IF(ABS(H7)>$B$21,$B$26-SQRT(($B$17/12)^2-(H7+$B$27)^2),$B$29-SQRT($D$15^2-H7^2)) -> #N/A | L7: =(I8+I9)/2*(H9-H8)-(J8+J9)/2*(H9-H8) -> #N/A
A8: FROM HY8 | G8: 3 | H8: =-H22 -> #N/A | I8: =$B$24+SQRT($D$16^2-H8^2) -> #N/A | J8: =IF(ABS(H8)>$B$21,$B$26-SQRT(($B$17/12)^2-(H8+$B$27)^2),$B$29-SQRT($D$15^2-H8^2)) -> #N/A | L8: =(I9+I10)/2*(H10-H9)-(J9+J10)/2*(H10-H9) -> #N/A | AH8: curve slope | AI8: results for graph in excel
A9: Nearest Actual Size (inches) | C9: in | G9: 4 | H9: =-H21 -> #N/A | I9: =$B$24+SQRT($D$16^2-H9^2) -> #N/A | J9: =IF(ABS(H9)>$B$21,AVERAGE($B$26-SQRT(($B$17/12)^2-(H9+$B$27)^2),$B$29-SQRT($D$15^2-H9^2)),$B$29-SQRT($D$15^2-H9^2)) -> #N/A | L9: =(I10+I11)/2*(H11-H10)-(J10+J11)/2*(H11-H10) -> #N/A | AH9: =-AI9/SQRT($D$16^2-AI9^2) -> #N/A | AI9: =H15 -> 0 | AJ9: =I15 -> #N/A
A10: Nominal size in HY8 and list | B10: =INDEX(B45:B161,MATCH(B9,A45:A161,0)) -> #N/A | C10: {=IF(INDEX(K45:K161,MATCH(TRUE,B9=A45:A161,0))=1,"current variable corner radii",IF(INDEX(K45:K161,MATCH(TRUE,B9=A45:A161,0))=2,"historic variable corner radii",IF(INDEX(K45:K161,MATCH(TRUE,B9=A45:A161,0))=3,"*current 18 in. corner radii",IF(INDEX(K45:K161,MATCH(TRUE,B9=A45:A161,0))=4,"historic 18 in. corner radii",IF(INDEX(K45:K161,MATCH(TRUE,B9=A45:A161,0))=5,"steel structural plate -18in.",IF(INDEX(K45:K161,MATCH(TRUE,B9=A45:A161,0))=6,"steel structural plate-31 in.","steel structural plate - 47 in"))))))} -> #N/A | G10: 5 | H10: =-H20 -> #N/A | I10: =$B$24+SQRT($D$16^2-H10^2) -> #N/A | J10: =IF(ABS(H10)>$B$21,$B$26-SQRT(($B$17/12)^2-(H10+$B$27)^2),$B$29-SQRT($D$15^2-H10^2)) -> #N/A | L10: =(I11+I12)/2*(H12-H11)-(J11+J12)/2*(H12-H11) -> #N/A | AH10: =-AI10/SQRT($D$16^2-AI10^2) -> #N/A | AI10: =H16 -> #N/A | AJ10: =I16 -> #N/A
A11: span | B11: {=INDEX(C45:C161,MATCH(TRUE,B9=A45:A161,0))} -> #N/A | C11: in | D11: =B11/12 -> #N/A | E11: ft | G11: 6 | H11: =-H19 -> #N/A | I11: =$B$24+SQRT($D$16^2-H11^2) -> #N/A | J11: =$B$29-SQRT($D$15^2-H11^2) -> #N/A | L11: =(I12+I13)/2*(H13-H12)-(J12+J13)/2*(H13-H12) -> #N/A | AH11: =-AI11/SQRT($D$16^2-AI11^2) -> #N/A | AI11: =H17 -> #N/A | AJ11: =I17 -> #N/A
A12: rise | B12: {=INDEX(D45:D161,MATCH(TRUE,B9=A45:A161,0))} -> #N/A | C12: in | D12: =B12/12 -> #N/A | E12: ft | G12: 7 | H12: =-H18 -> #N/A | I12: =$B$24+SQRT($D$16^2-H12^2) -> #N/A | J12: =$B$29-SQRT($D$15^2-H12^2) -> #N/A | L12: =(I13+I14)/2*(H14-H13)-(J13+J14)/2*(H14-H13) -> #N/A | AH12: =-AI12/SQRT($D$16^2-AI12^2) -> #N/A | AI12: =H18 -> #N/A | AJ12: =I18 -> #N/A
A13: waterway area | B13: {=INDEX(E45:E161,MATCH(TRUE,B9=A45:A161,0))} -> #N/A | C13: sf | G13: 8 | H13: =-H17 -> #N/A | I13: =$B$24+SQRT($D$16^2-H13^2) -> #N/A | J13: =$B$29-SQRT($D$15^2-H13^2) -> #N/A | L13: =(I14+I15)/2*(H15-H14)-(J14+J15)/2*(H15-H14) -> #N/A | AH13: =-AI13/SQRT($D$16^2-AI13^2) -> #N/A | AI13: =H19 -> #N/A | AJ13: =I19 -> #N/A
A14: n-value | B14: {=INDEX(F45:F161,MATCH(TRUE,B9=A45:A161,0))} -> #N/A | G14: 9 | H14: =-H16 -> #N/A | I14: =$B$24+SQRT($D$16^2-H14^2) -> #N/A | J14: =$B$29-SQRT($D$15^2-H14^2) -> #N/A | L14: =(I15+I16)/2*(H16-H15)-(J15+J16)/2*(H16-H15) -> #N/A | AH14: =-AI14/SQRT($D$16^2-AI14^2) -> #N/A | AI14: =H20 -> #N/A | AJ14: =I20 -> #N/A
A15: Br (Bottom Radius) | B15: {=INDEX(G45:G161,MATCH(TRUE,B9=A45:A161,0))} -> #N/A | C15: in | D15: =B15/12 -> #N/A | E15: ft | G15: 10 | H15: 0 | I15: =D12 -> #N/A | J15: =$B$29-SQRT($D$15^2-H15^2) -> #N/A | L15: =(I16+I17)/2*(H17-H16)-(J16+J17)/2*(H17-H16) -> #N/A | AH15: =-AI15/SQRT($D$16^2-AI15^2) -> #N/A | AI15: =H21 -> #N/A | AJ15: =I21 -> #N/A
A16: Tr (Top Radius) | B16: {=INDEX(H45:H161,MATCH(TRUE,B9=A45:A161,0))} -> #N/A | C16: in | D16: =B16/12 -> #N/A | E16: ft | G16: 11 | H16: =$H$15+$D$11/18*(G16-$G$15) -> #N/A | I16: =$B$24+SQRT($D$16^2-H16^2) -> #N/A | J16: =$B$29-SQRT($D$15^2-H16^2) -> #N/A | L16: =(I17+I18)/2*(H18-H17)-(J17+J18)/2*(H18-H17) -> #N/A | AH16: =-AI16/SQRT($D$16^2-AI16^2) -> #N/A | AI16: =H22 -> #N/A | AJ16: =I22 -> #N/A
A17: Cr (Corner Radius) | B17: {=INDEX(I45:I161,MATCH(TRUE,B9=A45:A161,0))} -> #N/A | C17: in | D17: =B17/12 -> #N/A | E17: ft | G17: 12 | H17: =$H$15+$D$11/18*(G17-$G$15) -> #N/A | I17: =$B$24+SQRT($D$16^2-H17^2) -> #N/A | J17: =$B$29-SQRT($D$15^2-H17^2) -> #N/A | L17: =(I18+I19)/2*(H19-H18)-(J18+J19)/2*(H19-H18) -> #N/A | AH17: =-AI17/SQRT($D$16^2-AI17^2) -> #N/A | AI17: =H23 -> #N/A | AJ17: =I23 -> #N/A
A18: B | B18: {=INDEX(J45:J161,MATCH(TRUE,B9=A45:A161,0))} -> #N/A | C18: in | D18: =B18/12 -> #N/A | E18: ft | G18: 13 | H18: =$H$15+$D$11/18*(G18-$G$15) -> #N/A | I18: =$B$24+SQRT($D$16^2-H18^2) -> #N/A | J18: =$B$29-SQRT($D$15^2-H18^2) -> #N/A | L18: =(I19+I20)/2*(H20-H19)-(J19+J20)/2*(H20-H19) -> #N/A | AH18: =-AI18/SQRT($D$16^2-AI18^2) -> #N/A | AI18: =H24 -> #N/A | AJ18: =I24 -> #N/A
G19: 14 | H19: =$H$15+$D$11/18*(G19-$G$15) -> #N/A | I19: =$B$24+SQRT($D$16^2-H19^2) -> #N/A | J19: =$B$29-SQRT($D$15^2-H19^2) -> #N/A | L19: =(I20+I21)/2*(H21-H20)-(J20+J21)/2*(H21-H20) -> #N/A | AI19: =AI17 -> #N/A | AJ19: =J23 -> #N/A
A20: Calculations (do not touch cells) | C20: =IF(C10="*current 18 in. corner radii", AB48,IF(B9=A145,AB49,"")) -> #N/A | G20: 15 | H20: =$H$15+$D$11/18*(G20-$G$15) -> #N/A | I20: =$B$24+SQRT($D$16^2-H20^2) -> #N/A | J20: =IF(ABS(H20)>$B$21,$B$26-SQRT(($B$17/12)^2-(H20-$B$27)^2),$B$29-SQRT($D$15^2-H20^2)) -> #N/A | L20: =(I21+I22)/2*(H22-H21)-(J21+J22)/2*(H22-H21) -> #N/A | AI20: =AI16 -> #N/A | AJ20: =J22 -> #N/A
A21: center of corner radius | B21: =H24-B17/12 -> #N/A | G21: 16 | H21: =$H$15+$D$11/36*((G21-$G$15)*2+1) -> #N/A | I21: =$B$24+SQRT($D$16^2-H21^2) -> #N/A | J21: =IF(ABS(H21)>$B$21,AVERAGE($B$26-SQRT(($B$17/12)^2-(H21-$B$27)^2),$B$29-SQRT($D$15^2-H21^2)),$B$29-SQRT($D$15^2-H21^2)) -> #N/A | L21: =(I22+I23)/2*(H23-H22)-(J22+J23)/2*(H23-H22) -> #N/A | AI21: =AI15 -> #N/A | AJ21: =J21 -> #N/A
G22: 17 | H22: =$H$15+$D$11/36*((G22-$G$15)*2+1) -> #N/A | I22: =$B$24+SQRT($D$16^2-H22^2) -> #N/A | J22: =IF(ABS(H22)>$B$21,$B$26-SQRT(($B$17/12)^2-(H22-$B$27)^2),$B$29-SQRT($D$15^2-H22^2)) -> #N/A | L22: =(I23+I24)/2*(H24-H23)-(J23+J24)/2*(H24-H23) -> #N/A | AI22: =AI14 -> #N/A | AJ22: =J20 -> #N/A
A23: y=k+sqrt(r^2-(x-h)^2) | G23: 18 | H23: =$H$15+$D$11/36*((G23-$G$15)*2+1) -> #N/A | I23: =$B$24+SQRT($D$16^2-H23^2) -> #N/A | J23: =IF(ABS(H23)>$B$21,$B$26-SQRT(($B$17/12)^2-(H23-$B$27)^2),$B$29-SQRT($D$15^2-H23^2)) -> #N/A | AI23: =AI13 -> #N/A | AJ23: =J19 -> #N/A
A24: k-top | B24: =D12-D16 -> #N/A | G24: 19 | H24: =$H$15+$D$11/18*(G24-$G$15) -> #N/A | I24: =B18/12 -> #N/A | J24: =I24 -> #N/A | AI24: =AI12 -> #N/A | AJ24: =J18 -> #N/A
AI25: =AI11 -> #N/A | AJ25: =J17 -> #N/A
A26: k-side | B26: =B18/12 -> #N/A | AI26: =AI10 -> #N/A | AJ26: =J16 -> #N/A
A27: h-side | B27: =B21 -> #N/A | I27: Calculated Area Check | AI27: =AI9 -> 0 | AJ27: =J15 -> #N/A
I28: =SUM(L5:L22) -> #N/A | AI28: =AI44 -> #N/A | AJ28: =J14 -> #N/A
A29: k-bottom | B29: =D15 -> #N/A | AI29: =AI43 -> #N/A | AJ29: =J13 -> #N/A
AI30: =AI42 -> #N/A | AJ30: =J12 -> #N/A
AI31: =AI41 -> #N/A | AJ31: =J11 -> #N/A
AI32: =AI40 -> #N/A | AJ32: =J10 -> #N/A
AI33: =AI39 -> #N/A | AJ33: =J9 -> #N/A
AI34: =AI38 -> #N/A | AJ34: =J8 -> #N/A
AI35: =AI37 -> #N/A | AJ35: =J7 -> #N/A
AI36: =H6 -> #N/A | AJ36: =J6 -> #N/A
AI37: =H7 -> #N/A | AJ37: =I7 -> #N/A
AI38: =H8 -> #N/A | AJ38: =I8 -> #N/A
AI39: =H9 -> #N/A | AJ39: =I9 -> #N/A
S40: corresponding rise | AI40: =H10 -> #N/A | AJ40: =I10 -> #N/A
...

Sheet HDPE Liner
A1: HDPE Coordinate Generator
A2: Input values
B3: radius | G3: Output Plot for HY8 | L3: Appx. Area Check
A4: Host Pipe Span | B4: =CMPA!B11 -> #N/A | C4: in | H4: x | I4: y1 | J4: y2
A5: Host Pipe Rise | B5: =CMPA!B12 -> #N/A | C5: in | G5: 1 | H5: =T145 -> #N/A | I5: =U145 -> #N/A | J5: =V145 -> #N/A | L5: =(I5+I6)/2*(H6-H5)-(J5+J6)/2*(H6-H5) -> #N/A
A6: Grout Thickness | B6: 3 | C6: in | G6: 2 | H6: =T146 -> #N/A | I6: =U146 -> #N/A | J6: =V146 -> #N/A | L6: =(I6+I7)/2*(H7-H6)-(J6+J7)/2*(H7-H6) -> #N/A | AE6: En situ boundary
A7: User Defined Max Rise (optional) | C7: in | G7: 3 | H7: =T147 -> #N/A | I7: =U147 -> #N/A | J7: =V147 -> #N/A | L7: =(I7+I8)/2*(H8-H7)-(J7+J8)/2*(H8-H7) -> #N/A | AE7: x | AF7: y | AI7: Inside | AN7: outside
A8: Liner Max Outer Rise | B8: =IF(ISBLANK(B7),B5-B6,B7) -> #N/A | C8: in | G8: 4 | H8: =T148 -> #N/A | I8: =U148 -> #N/A | J8: =V148 -> #N/A | L8: =(I8+I9)/2*(H9-H8)-(J8+J9)/2*(H9-H8) -> #N/A | AD8: top | AE8: =IF(ISBLANK(CMPA!$B$4),"",-CMPA!$B$4/2)/12 -> #VALUE! | AF8: =CMPA!$B$5/12 -> 0 | AI8: results for graph in excel | AN8: results for graph in excel | AR8: Column1 | AS8: CMPA slope | AT8: Column2 | AU8: Column3 | AV8: Column4 | AW8: Column5 | AX8: Column6 | AY8: Column7 | AZ8: Column8 | BB8: CMPA slopes and coordinates
A9: largest possible | B9: ='HDPE Liner'!G38 -> #N/A | C9: (index no.) | G9: 5 | H9: =T149 -> #N/A | I9: =U149 -> #N/A | J9: =V149 -> #N/A | L9: =(I9+I10)/2*(H10-H9)-(J9+J10)/2*(H10-H9) -> #N/A | AE9: =IF(ISBLANK(CMPA!$B$4),"",CMPA!$B$4/2)/12 -> #VALUE! | AF9: =CMPA!$B$5/12 -> 0 | AI9: =H14 -> #N/A | AJ9: =I14 -> #N/A | AK9: =AJ9 -> #N/A | AM9: =-(ABS(1/($C$119/12))*($D$119/12)*AN9)/(SQRT(($C$119/12)^2-AN9^2)) -> #N/A | AN9: =P154 -> #N/A | AO9: =Q154 -> #N/A | AR9: slope | AS9: =CMPA!AH10 -> #N/A | AT9: =CMPA!AH11 -> #N/A | AU9: =CMPA!AH12 -> #N/A | AV9: =CMPA!AH13 -> #N/A | AW9: =CMPA!AH14 -> #N/A | AX9: =CMPA!AH15 -> #N/A | AY9: =CMPA!AH16 -> #N/A | AZ9: =CMPA!AH17 -> #N/A | BB9: =CMPA!AH9 -> #N/A | BC9: =CMPA!AI9 -> 0 | BD9: =CMPA!AJ9 -> #N/A
A10: Chosen Liner Size | C10: (index no.) | G10: 6 | H10: =T150 -> #N/A | I10: =U150 -> #N/A | J10: =V150 -> #N/A | L10: =(I10+I11)/2*(H11-H10)-(J10+J11)/2*(H11-H10) -> #N/A | AD10: Span | AE10: =IF(ISBLANK(CMPA!$B$5),"",-CMPA!$B$4/2)/12 -> #VALUE! | AF10: 0 | AI10: =H15 -> #N/A | AJ10: =I15 -> #N/A | AK10: =AJ10 -> #N/A | AM10: =-(ABS(1/($C$119/12))*($D$119/12)*AN10)/(SQRT(($C$119/12)^2-AN10^2)) -> #N/A | AN10: =P155 -> #N/A | AO10: =Q155 -> #N/A | AR10: =-(ABS(1/($C$119/12))*($D$119/12)*AN10)/(SQRT(($C$119/12)^2-AN10^2)) -> #N/A | AS10: =ABS($AS$9-AR10) -> #N/A | AT10: =ABS($AT$9-AR10) -> #N/A | AU10: =ABS($AU$9-AR10) -> #N/A | AV10: =ABS($AV$9-AR10) -> #N/A | AW10: =ABS($AW$9-AR10) -> #N/A | AX10: =ABS($AX$9-AR10) -> #N/A | AY10: =ABS($AY$9-AR10) -> #N/A | AZ10: =ABS($AZ$9-AR10) -> #N/A | BB10: =CMPA!AH10 -> #N/A | BC10: =CMPA!AI10 -> #N/A | BD10: =CMPA!AJ10 -> #N/A
A11: Liner Type | B11: =D100 -> #N/A | G11: 7 | H11: =T151 -> #N/A | I11: =U151 -> #N/A | J11: =V151 -> #N/A | AE11: =IF(ISBLANK(CMPA!$B$5),"",-CMPA!$B$4/2)/12 -> #VALUE! | AF11: =IF(AE11="","",AF8) -> #VALUE! | AI11: =H16 -> #N/A | AJ11: =I16 -> #N/A | AK11: =AJ11 -> #N/A | AM11: =-(ABS(1/($C$119/12))*($D$119/12)*AN11)/(SQRT(($C$119/12)^2-AN11^2)) -> #N/A | AN11: =P156 -> #N/A | AO11: =Q156 -> #N/A | AR11: =-(ABS(1/($C$119/12))*($D$119/12)*AN11)/(SQRT(($C$119/12)^2-AN11^2)) -> #N/A | AS11: =ABS($AS$9-AR11) -> #N/A | AT11: =ABS($AT$9-AR11) -> #N/A | AU11: =ABS($AU$9-AR11) -> #N/A | AV11: =ABS($AV$9-AR11) -> #N/A | AW11: =ABS($AW$9-AR11) -> #N/A | AX11: =ABS($AX$9-AR11) -> #N/A | AY11: =ABS($AY$9-AR11) -> #N/A | AZ11: =ABS($AZ$9-AR11) -> #N/A | BB11: =CMPA!AH11 -> #N/A | BC11: =CMPA!AI11 -> #N/A | BD11: =CMPA!AJ11 -> #N/A
G12: 8 | H12: =T152 -> #N/A | I12: =U152 -> #N/A | J12: =V152 -> #N/A | AI12: =H17 -> #N/A | AJ12: =I17 -> #N/A | AK12: =AJ12 -> #N/A | AM12: =-(ABS(1/($C$119/12))*($D$119/12)*AN12)/(SQRT(($C$119/12)^2-AN12^2)) -> #N/A | AN12: =P157 -> #N/A | AO12: =Q157 -> #N/A | AR12: =-(ABS(1/($C$119/12))*($D$119/12)*AN12)/(SQRT(($C$119/12)^2-AN12^2)) -> #N/A | AS12: =ABS($AS$9-AR12) -> #N/A | AT12: =ABS($AT$9-AR12) -> #N/A | AU12: =ABS($AU$9-AR12) -> #N/A | AV12: =ABS($AV$9-AR12) -> #N/A | AW12: =ABS($AW$9-AR12) -> #N/A | AX12: =ABS($AX$9-AR12) -> #N/A | AY12: =ABS($AY$9-AR12) -> #N/A | AZ12: =ABS($AZ$9-AR12) -> #N/A | BB12: =CMPA!AH12 -> #N/A | BC12: =CMPA!AI12 -> #N/A | BD12: =CMPA!AJ12 -> #N/A
G13: 9 | H13: =T153 -> #N/A | I13: =U153 -> #N/A | J13: =V153 -> #N/A | L13: =(I11+I12)/2*(H12-H11)-(J11+J12)/2*(H12-H11) -> #N/A | AI13: =H18 -> #N/A | AJ13: =I18 -> #N/A | AK13: =AJ13 -> #N/A | AM13: =-(ABS(1/($C$119/12))*($D$119/12)*AN13)/(SQRT(($C$119/12)^2-AN13^2)) -> #N/A | AN13: =P158 -> #N/A | AO13: =Q158 -> #N/A | AR13: =-(ABS(1/($C$119/12))*($D$119/12)*AN13)/(SQRT(($C$119/12)^2-AN13^2)) -> #N/A | AS13: =ABS($AS$9-AR13) -> #N/A | AT13: =ABS($AT$9-AR13) -> #N/A | AU13: =ABS($AU$9-AR13) -> #N/A | AV13: =ABS($AV$9-AR13) -> #N/A | AW13: =ABS($AW$9-AR13) -> #N/A | AX13: =ABS($AX$9-AR13) -> #N/A | AY13: =ABS($AY$9-AR13) -> #N/A | AZ13: =ABS($AZ$9-AR13) -> #N/A | BB13: =CMPA!AH13 -> #N/A | BC13: =CMPA!AI13 -> #N/A | BD13: =CMPA!AJ13 -> #N/A
A14: Resulting Liner | G14: 10 | H14: =T154 -> #N/A | I14: =U154 -> #N/A | J14: =V154 -> #N/A | L14: =(I12+I13)/2*(H13-H12)-(J12+J13)/2*(H13-H12) -> #N/A | AI14: =H19 -> #N/A | AJ14: =I19 -> #N/A | AK14: =AJ14 -> #N/A | AM14: =-(ABS(1/($C$119/12))*($D$119/12)*AN14)/(SQRT(($C$119/12)^2-AN14^2)) -> #N/A | AN14: =P159 -> #N/A | AO14: =Q159 -> #N/A | AR14: =-(ABS(1/($C$119/12))*($D$119/12)*AN14)/(SQRT(($C$119/12)^2-AN14^2)) -> #N/A | AS14: =ABS($AS$9-AR14) -> #N/A | AT14: =ABS($AT$9-AR14) -> #N/A | AU14: =ABS($AU$9-AR14) -> #N/A | AV14: =ABS($AV$9-AR14) -> #N/A | AW14: =ABS($AW$9-AR14) -> #N/A | AX14: =ABS($AX$9-AR14) -> #N/A | AY14: =ABS($AY$9-AR14) -> #N/A | AZ14: =ABS($AZ$9-AR14) -> #N/A | BB14: =CMPA!AH14 -> #N/A | BC14: =CMPA!AI14 -> #N/A | BD14: =CMPA!AJ14 -> #N/A
A15: Open Area | B15: =PI()*C120/12*D120/12 -> #N/A | C15: sq ft | G15: 11 | H15: =T155 -> #N/A | I15: =U155 -> #N/A | J15: =V155 -> #N/A | L15: =(I13+I14)/2*(H14-H13)-(J13+J14)/2*(H14-H13) -> #N/A | AI15: =H20 -> #N/A | AJ15: =I20 -> #N/A | AK15: =AJ15 -> #N/A | AM15: =-(ABS(1/($C$119/12))*($D$119/12)*AN15)/(SQRT(($C$119/12)^2-AN15^2)) -> #N/A | AN15: =P160 -> #N/A | AO15: =Q160 -> #N/A | AR15: =-(ABS(1/($C$119/12))*($D$119/12)*AN15)/(SQRT(($C$119/12)^2-AN15^2)) -> #N/A | AS15: =ABS($AS$9-AR15) -> #N/A | AT15: =ABS($AT$9-AR15) -> #N/A | AU15: =ABS($AU$9-AR15) -> #N/A | AV15: =ABS($AV$9-AR15) -> #N/A | AW15: =ABS($AW$9-AR15) -> #N/A | AX15: =ABS($AX$9-AR15) -> #N/A | AY15: =ABS($AY$9-AR15) -> #N/A | AZ15: =ABS($AZ$9-AR15) -> #N/A | BB15: =CMPA!AH15 -> #N/A | BC15: =CMPA!AI15 -> #N/A | BD15: =CMPA!AJ15 -> #N/A
A16: Equivilent Outer Diameter | B16: =C122 -> #N/A | C16: in | G16: 12 | H16: =T156 -> #N/A | I16: =U156 -> #N/A | J16: =V156 -> #N/A | L16: =(I14+I15)/2*(H15-H14)-(J14+J15)/2*(H15-H14) -> #N/A | AI16: =H21 -> #N/A | AJ16: =I21 -> #N/A | AK16: =AJ16 -> #N/A | AM16: =-(ABS(1/($C$119/12))*($D$119/12)*AN16)/(SQRT(($C$119/12)^2-AN16^2)) -> #N/A | AN16: =P161 -> #N/A | AO16: =Q161 -> #N/A | AR16: =-(ABS(1/($C$119/12))*($D$119/12)*AN16)/(SQRT(($C$119/12)^2-AN16^2)) -> #N/A | AS16: =ABS($AS$9-AR16) -> #N/A | AT16: =ABS($AT$9-AR16) -> #N/A | AU16: =ABS($AU$9-AR16) -> #N/A | AV16: =ABS($AV$9-AR16) -> #N/A | AW16: =ABS($AW$9-AR16) -> #N/A | AX16: =ABS($AX$9-AR16) -> #N/A | AY16: =ABS($AY$9-AR16) -> #N/A | AZ16: =ABS($AZ$9-AR16) -> #N/A | BB16: =CMPA!AH16 -> #N/A | BC16: =CMPA!AI16 -> #N/A | BD16: =CMPA!AJ16 -> #N/A
A17: Equivelent Inner Diameter | B17: =C123 -> #N/A | C17: in | G17: 13 | H17: =T157 -> #N/A | I17: =U157 -> #N/A | J17: =V157 -> #N/A | L17: =(I15+I16)/2*(H16-H15)-(J15+J16)/2*(H16-H15) -> #N/A | AI17: =H22 -> #N/A | AJ17: =I22 -> #N/A | AK17: =AJ17 -> #N/A | AM17: =-(ABS(1/($C$119/12))*($D$119/12)*AN17)/(SQRT(($C$119/12)^2-AN17^2)) -> #N/A | AN17: =P162 -> #N/A | AO17: =Q162 -> #N/A | AR17: =-(ABS(1/($C$119/12))*($D$119/12)*AN17)/(SQRT(($C$119/12)^2-AN17^2)) -> #N/A | AS17: =ABS($AS$9-AR17) -> #N/A | AT17: =ABS($AT$9-AR17) -> #N/A | AU17: =ABS($AU$9-AR17) -> #N/A | AV17: =ABS($AV$9-AR17) -> #N/A | AW17: =ABS($AW$9-AR17) -> #N/A | AX17: =ABS($AX$9-AR17) -> #N/A | AY17: =ABS($AY$9-AR17) -> #N/A | AZ17: =ABS($AZ$9-AR17) -> #N/A | BB17: =CMPA!AH17 -> #N/A | BC17: =CMPA!AI17 -> #N/A | BD17: =CMPA!AJ17 -> #N/A
A18: Outer span | B18: =C112/12 -> #N/A | C18: ft | G18: 14 | H18: =T158 -> #N/A | I18: =U158 -> #N/A | J18: =V158 -> #N/A | L18: =(I16+I17)/2*(H17-H16)-(J16+J17)/2*(H17-H16) -> #N/A | AI18: =H23 -> #N/A | AJ18: =I23 -> #N/A | AK18: =AJ18 -> #N/A | AN18: =P163 -> #N/A | AO18: =Q163 -> #N/A | BB18: =CMPA!AH18 -> #N/A | BC18: =CMPA!AI18 -> #N/A | BD18: =CMPA!AJ18 -> #N/A
A19: Outer Rise | B19: =C113/12 -> #N/A | C19: ft | G19: 15 | H19: =T159 -> #N/A | I19: =U159 -> #N/A | J19: =V159 -> #N/A | L19: =(I17+I18)/2*(H18-H17)-(J17+J18)/2*(H18-H17) -> #N/A | AI19: =AI17 -> #N/A | AJ19: =J22 -> #N/A | AK19: =AJ19 -> #N/A | AN19: =P162 -> #N/A | AO19: =R162 -> #N/A | AT19: min | AU19: lookup column header | AV19: lookup row header
A20: Inner Span | B20: =C120*2/12 -> #N/A | C20: ft | G20: 16 | H20: =T160 -> #N/A | I20: =U160 -> #N/A | J20: =V160 -> #N/A | L20: =(I18+I19)/2*(H19-H18)-(J18+J19)/2*(H19-H18) -> #N/A | AI20: =AI16 -> #N/A | AJ20: =J21 -> #N/A | AK20: =AJ20 -> #N/A | AN20: =P161 -> #N/A | AO20: =R161 -> #N/A | AT20: =MIN(AS10:AZ17) -> #N/A | AU20: {=SUMPRODUCT((AS10:AZ17=AT20)*(COLUMN(AS9:AZ9)-COLUMN(AS9)+1))} -> #N/A | AV20: {=SUMPRODUCT((AS10:AZ17=AT20)*(ROW(AR10:AR17)-ROW(AR10)+1))} -> #N/A
A21: Inner Rise | B21: =D120*2/12 -> #N/A | C21: ft | G21: 17 | H21: =T161 -> #N/A | I21: =U161 -> #N/A | J21: =V161 -> #N/A | L21: =(I19+I20)/2*(H20-H19)-(J19+J20)/2*(H20-H19) -> #N/A | AI21: =AI15 -> #N/A | AJ21: =J20 -> #N/A | AK21: =AJ21 -> #N/A | AN21: =P160 -> #N/A | AO21: =R160 -> #N/A | AU21: CMPA slope | AV21: HDPE slope
A22: Wall Thickness | B22: =C115/12 -> #N/A | C22: ft | G22: 18 | H22: =T162 -> #N/A | I22: =U162 -> #N/A | J22: =V162 -> #N/A | L22: =(I20+I21)/2*(H21-H20)-(J20+J21)/2*(H21-H20) -> #N/A | AI22: =AI14 -> #N/A | AJ22: =J19 -> #N/A | AK22: =AJ22 -> #N/A | AN22: =P159 -> #N/A | AO22: =R159 -> #N/A | AU22: {=INDEX(AS9:AZ9,1,AU20)} -> #N/A | AV22: {=INDEX(AR10:AR17,AV20,1)} -> #N/A
A23: Inlet Invert | B23: =CMPA!B6+'HDPE Liner'!B22 -> #N/A | C23: ft | G23: 19 | H23: =T163 -> #N/A | I23: =U163 -> #N/A | J23: =V163 -> #N/A | L23: =(I21+I22)/2*(H22-H21)-(J21+J22)/2*(H22-H21) -> #N/A | AI23: =AI13 -> #N/A | AJ23: =J18 -> #N/A | AK23: =AJ23 -> #N/A | AN23: =P158 -> #N/A | AO23: =R158 -> #N/A
A24: Outlet Invert | B24: =CMPA!B7+'HDPE Liner'!B22 -> #N/A | C24: ft | L24: =(I22+I23)/2*(H23-H22)-(J22+J23)/2*(H23-H22) -> #N/A | AI24: =AI12 -> #N/A | AJ24: =J17 -> #N/A | AK24: =AJ24 -> #N/A | AN24: =P157 -> #N/A | AO24: =R157 -> #N/A | AU24: X | AV24: Y
AI25: =AI11 -> #N/A | AJ25: =J16 -> #N/A | AK25: =AJ25 -> #N/A | AN25: =P156 -> #N/A | AO25: =R156 -> #N/A | AT25: CMPA Coord | AU25: =VLOOKUP(AU22,BB9:BD19,2) -> #N/A | AV25: =VLOOKUP(AU22,BB9:BD19,3) -> #N/A
AI26: =AI10 -> #N/A | AJ26: =J15 -> #N/A | AK26: =AJ26 -> #N/A | AN26: =P155 -> #N/A | AO26: =R155 -> #N/A | AT26: HDPE coord. | AU26: =VLOOKUP(AV22,AM9:AO17,2) -> #N/A | AV26: =VLOOKUP(AV22,AM9:AO17,3) -> #N/A
AI27: =AI9 -> #N/A | AJ27: =J14 -> #N/A | AK27: =AJ27 -> #N/A | AN27: =P154 -> #N/A | AO27: =R154 -> #N/A
AI28: =AI44 -> #N/A | AJ28: =J13 -> #N/A | AK28: =AJ28 -> #N/A | AN28: =P153 -> #N/A | AO28: =R153 -> #N/A | AT28: grout thickness | AU28: =SQRT((AV25-AV26)^2+(AU25-AU26)^2) -> #N/A | AV28: ft
AI29: =AI43 -> #N/A | AJ29: =J12 -> #N/A | AK29: =AJ29 -> #N/A | AN29: =P152 -> #N/A | AO29: =R152 -> #N/A | AU29: =AU28*12 -> #N/A | AV29: in
AI30: =AI42 -> #N/A | AJ30: =J11 -> #N/A | AK30: =AJ30 -> #N/A | AN30: =P151 -> #N/A | AO30: =R151 -> #N/A
AI31: =AI41 -> #N/A | AJ31: =J10 -> #N/A | AK31: =AJ31 -> #N/A | AN31: =P150 -> #N/A | AO31: =R150 -> #N/A | AT31: x | AU31: CMPA Y | AV31: HDPE Y
AI32: =AI40 -> #N/A | AJ32: =J9 -> #N/A | AK32: =AJ32 -> #N/A | AN32: =P149 -> #N/A | AO32: =R149 -> #N/A | AT32: =SQRT(((C119/12)^2-(D119/12)^2*CMPA!D16^2)/((D119/12)^2-(C119/12)^2)) -> #N/A | AU32: =CMPA!B24+SQRT(CMPA!D16^2-AT32^2) -> #N/A | AV32: =($D$119/12)+($D$119/12)*SQRT(1-AT32^2/($C$119/12)^2) -> #N/A
A33: INDEX LISTS | AI33: =AI39 -> #N/A | AJ33: =J8 -> #N/A | AK33: =AJ33 -> #N/A | AN33: =P148 -> #N/A | AO33: =R148 -> #N/A
D34: Span for | AI34: =AI38 -> #N/A | AJ34: =J7 -> #N/A | AK34: =AJ34 -> #N/A | AN34: =P147 -> #N/A | AO34: =R147 -> #N/A | AT34: Grout Thickness
D35: Desired | E35: Crushing | AI35: =AI37 -> #N/A | AJ35: =J6 -> #N/A | AK35: =AJ35 -> #N/A | AN35: =P146 -> #N/A | AO35: =R146 -> #N/A
A36: Index | B36: ID | C36: OD | D36: Rise (in) | E36: Ratio | AI36: =H5 -> #N/A | AJ36: =J5 -> #N/A | AK36: =AJ36 -> #N/A | AN36: =P145 -> #N/A | AO36: =R145 -> #N/A
L37: Size | AI37: =H6 -> #N/A | AJ37: =I6 -> #N/A | AK37: =AJ37 -> #N/A | AN37: =P146 -> #N/A | AO37: =Q146 -> #N/A
A38: 1 | B38: 10.1 | C38: 10.75 | D38: =MAX(1,2*C38-$B$8) -> #N/A | E38: =$C$103/D38 -> #N/A | F38: solid wall | G38: =MATCH(D99,E38:E73,-1) -> #N/A | AI38: =H7 -> #N/A | AJ38: =I7 -> #N/A | AK38: =AJ38 -> #N/A | AN38: =P147 -> #N/A | AO38: =Q147 -> #N/A
A39: 2 | B39: 12 | C39: 12.75 | D39: =MAX(1,2*C39-$B$8) -> #N/A | E39: =$C$103/D39 -> #N/A | F39: solid wall | L39: 18 | AI39: =H8 -> #N/A | AJ39: =I8 -> #N/A | AK39: =AJ39 -> #N/A | AN39: =P148 -> #N/A | AO39: =Q148 -> #N/A
A40: 3 | B40: 13.138 | C40: 14 | D40: =MAX(1,2*C40-$B$8) -> #N/A | E40: =$C$103/D40 -> #N/A | F40: solid wall | L40: 19.5 | AI40: =H9 -> #N/A | AJ40: =I9 -> #N/A | AK40: =AJ40 -> #N/A | AN40: =P149 -> #N/A | AO40: =Q149 -> #N/A
...

Sheet CIPP Liner
A1: CIPP Coordinate Generator
A2: Input values
B3: radius | G3: Output Plot for HY8 | L3: Appx. Area Check
A4: B | B4: =CMPA!B18 -> #N/A | C4: in | H4: x | I4: y1 | J4: y2
A5: Rt | B5: =CMPA!D16-B13/12 -> #N/A | C5: ft | G5: 1 | H5: =-H23 -> #N/A | I5: =B4/12 -> #N/A | J5: =I5 -> #N/A | L5: =(I5+I6)/2*(H6-H5)-(J5+J6)/2*(H6-H5) -> #N/A
A6: Rb | B6: =CMPA!D15 -> #N/A | C6: ft | G6: 2 | H6: =-H22 -> #N/A | I6: =$B$21+SQRT($B$5^2-H6^2) -> #N/A | J6: =IF(ABS(H6)>$B$18,$B$23-SQRT(($B$7/12)^2-(H6+$B$24)^2),$B$26-SQRT($B$6^2-H6^2)) -> #N/A | L6: =(I6+I7)/2*(H7-H6)-(J6+J7)/2*(H7-H6) -> #N/A
A7: Corner | B7: =CMPA!B17 -> #N/A | C7: in | G7: 3 | H7: =-H21 -> #N/A | I7: =$B$21+SQRT($B$5^2-H7^2) -> #N/A | J7: =IF(ABS(H7)>$B$18,$B$23-SQRT(($B$7/12)^2-(H7+$B$24)^2),$B$26-SQRT($B$6^2-H7^2)) -> #N/A | L7: =(I7+I8)/2*(H8-H7)-(J7+J8)/2*(H8-H7) -> #N/A
G8: 4 | H8: =-H20 -> #N/A | I8: =$B$21+SQRT($B$5^2-H8^2) -> #N/A | J8: =IF(ABS(H8)>$B$18,$B$23-SQRT(($B$7/12)^2-(H8+$B$24)^2),$B$26-SQRT($B$6^2-H8^2)) -> #N/A | L8: =(I8+I9)/2*(H9-H8)-(J8+J9)/2*(H9-H8) -> #N/A | AI8: results for graph in excel
A9: Output | G9: 5 | H9: =-H19 -> #N/A | I9: =$B$21+SQRT($B$5^2-H9^2) -> #N/A | J9: =$B$26-SQRT($B$6^2-H9^2) -> #N/A | L9: =(I9+I10)/2*(H10-H9)-(J9+J10)/2*(H10-H9) -> #N/A | AI9: =H14 -> 0 | AJ9: =I14 -> #N/A | AK9: =AJ9+$B$13/12 -> #N/A
A10: appx waterway area | B10: =I26 -> #N/A | C10: sf | G10: 6 | H10: =-H18 -> #N/A | I10: =$B$21+SQRT($B$5^2-H10^2) -> #N/A | J10: =$B$26-SQRT($B$6^2-H10^2) -> #N/A | L10: =(I10+I11)/2*(H11-H10)-(J10+J11)/2*(H11-H10) -> #N/A | AI10: =H15 -> #N/A | AJ10: =I15 -> #N/A | AK10: =AJ10+$B$13/12 -> #N/A
A11: span | B11: =CMPA!D11-B13*2/12 -> #N/A | C11: ft | D11: =B11*12 -> #N/A | E11: in | G11: 7 | H11: =-H17 -> #N/A | I11: =$B$21+SQRT($B$5^2-H11^2) -> #N/A | J11: =$B$26-SQRT($B$6^2-H11^2) -> #N/A | L11: =(I11+I12)/2*(H12-H11)-(J11+J12)/2*(H12-H11) -> #N/A | AI11: =H16 -> #N/A | AJ11: =I16 -> #N/A | AK11: =AJ11+$B$13/12 -> #N/A
A12: rise | B12: =CMPA!D12-B13*2/12 -> #N/A | C12: ft | D12: =B12*12 -> #N/A | E12: in | G12: 8 | H12: =-H16 -> #N/A | I12: =$B$21+SQRT($B$5^2-H12^2) -> #N/A | J12: =$B$26-SQRT($B$6^2-H12^2) -> #N/A | L12: =(I12+I13)/2*(H13-H12)-(J12+J13)/2*(H13-H12) -> #N/A | AI12: =H17 -> #N/A | AJ12: =I17 -> #N/A | AK12: =AJ12+$B$13/12 -> #N/A
A13: CIPP thickness | B13: =IF(CMPA!D11>=3.5,IF(CMPA!D11>=5,IF(CMPA!D11>=7.25,IF(CMPA!D11>112/12,"No CIPP liner available","2"),"1.5"),"1"),"0.5") -> #N/A | C13: in | G13: 9 | H13: =-H15 -> #N/A | I13: =$B$21+SQRT($B$5^2-H13^2) -> #N/A | J13: =$B$26-SQRT($B$6^2-H13^2) -> #N/A | L13: =(I13+I14)/2*(H14-H13)-(J13+J14)/2*(H14-H13) -> #N/A | AI13: =H18 -> #N/A | AJ13: =I18 -> #N/A | AK13: =AJ13+$B$13/12 -> #N/A
A14: inlet invert | B14: =B13/12+CMPA!B6 -> #N/A | C14: ft | G14: 10 | H14: 0 | I14: =B12 -> #N/A | J14: =$B$26-SQRT($B$6^2-H14^2) -> #N/A | L14: =(I14+I15)/2*(H15-H14)-(J14+J15)/2*(H15-H14) -> #N/A | AI14: =H19 -> #N/A | AJ14: =I19 -> #N/A | AK14: =AJ14+$B$13/12 -> #N/A
A15: Outlet invert | B15: =B13/12+CMPA!B7 -> #N/A | C15: ft | G15: 11 | H15: =$H$14+$B$11/18*(G15-$G$14) -> #N/A | I15: =$B$21+SQRT($B$5^2-H15^2) -> #N/A | J15: =$B$26-SQRT($B$6^2-H15^2) -> #N/A | L15: =(I15+I16)/2*(H16-H15)-(J15+J16)/2*(H16-H15) -> #N/A | AI15: =H20 -> #N/A | AJ15: =I20 -> #N/A | AK15: =AJ15+$B$13/12 -> #N/A
G16: 12 | H16: =$H$14+$B$11/18*(G16-$G$14) -> #N/A | I16: =$B$21+SQRT($B$5^2-H16^2) -> #N/A | J16: =$B$26-SQRT($B$6^2-H16^2) -> #N/A | L16: =(I16+I17)/2*(H17-H16)-(J16+J17)/2*(H17-H16) -> #N/A | AI16: =H21 -> #N/A | AJ16: =I21 -> #N/A | AK16: =AJ16+$B$13/12 -> #N/A
A17: Calculations (do not touch cells) | G17: 13 | H17: =$H$14+$B$11/18*(G17-$G$14) -> #N/A | I17: =$B$21+SQRT($B$5^2-H17^2) -> #N/A | J17: =$B$26-SQRT($B$6^2-H17^2) -> #N/A | L17: =(I17+I18)/2*(H18-H17)-(J17+J18)/2*(H18-H17) -> #N/A | AI17: =H22 -> #N/A | AJ17: =I22 -> #N/A | AK17: =AJ17+$B$13/12 -> #N/A
A18: center of corner radius | B18: =H23-B7/12 -> #N/A | G18: 14 | H18: =$H$14+$B$11/18*(G18-$G$14) -> #N/A | I18: =$B$21+SQRT($B$5^2-H18^2) -> #N/A | J18: =$B$26-SQRT($B$6^2-H18^2) -> #N/A | L18: =(I18+I19)/2*(H19-H18)-(J18+J19)/2*(H19-H18) -> #N/A | AI18: =H23 -> #N/A | AJ18: =I23 -> #N/A | AK18: =AJ18+$B$13/12 -> #N/A
G19: 15 | H19: =$H$14+$B$11/18*(G19-$G$14) -> #N/A | I19: =$B$21+SQRT($B$5^2-H19^2) -> #N/A | J19: =$B$26-SQRT($B$6^2-H19^2) -> #N/A | L19: =(I19+I20)/2*(H20-H19)-(J19+J20)/2*(H20-H19) -> #N/A | AI19: =AI17 -> #N/A | AJ19: =J22 -> #N/A | AK19: =AJ19+$B$13/12 -> #N/A
A20: y=k+sqrt(r^2-(x-h)^2) | G20: 16 | H20: =$H$14+$B$11/36*((G20-$G$14)*2+1) -> #N/A | I20: =$B$21+SQRT($B$5^2-H20^2) -> #N/A | J20: =IF(ABS(H20)>$B$18,$B$23-SQRT(($B$7/12)^2-(H20-$B$24)^2),$B$26-SQRT($B$6^2-H20^2)) -> #N/A | L20: =(I20+I21)/2*(H21-H20)-(J20+J21)/2*(H21-H20) -> #N/A | AI20: =AI16 -> #N/A | AJ20: =J21 -> #N/A | AK20: =AJ20+$B$13/12 -> #N/A
A21: k-top | B21: =B12-B5 -> #N/A | G21: 17 | H21: =$H$14+$B$11/36*((G21-$G$14)*2+1) -> #N/A | I21: =$B$21+SQRT($B$5^2-H21^2) -> #N/A | J21: =IF(ABS(H21)>$B$18,$B$23-SQRT(($B$7/12)^2-(H21-$B$24)^2),$B$26-SQRT($B$6^2-H21^2)) -> #N/A | L21: =(I21+I22)/2*(H22-H21)-(J21+J22)/2*(H22-H21) -> #N/A | AI21: =AI15 -> #N/A | AJ21: =J20 -> #N/A | AK21: =AJ21+$B$13/12 -> #N/A
G22: 18 | H22: =$H$14+$B$11/36*((G22-$G$14)*2+1) -> #N/A | I22: =$B$21+SQRT($B$5^2-H22^2) -> #N/A | J22: =IF(ABS(H22)>$B$18,$B$23-SQRT(($B$7/12)^2-(H22-$B$24)^2),$B$26-SQRT($B$6^2-H22^2)) -> #N/A | L22: =(I22+I23)/2*(H23-H22)-(J22+J23)/2*(H23-H22) -> #N/A | AI22: =AI14 -> #N/A | AJ22: =J19 -> #N/A | AK22: =AJ22+$B$13/12 -> #N/A
A23: k-side | B23: =B4/12 -> #N/A | G23: 19 | H23: =$H$14+$B$11/18*(G23-$G$14) -> #N/A | I23: =B4/12 -> #N/A | J23: =I23 -> #N/A | AI23: =AI13 -> #N/A | AJ23: =J18 -> #N/A | AK23: =AJ23+$B$13/12 -> #N/A
A24: h-side | B24: =B18 -> #N/A | AI24: =AI12 -> #N/A | AJ24: =J17 -> #N/A | AK24: =AJ24+$B$13/12 -> #N/A
I25: Calculated Area Check | AI25: =AI11 -> #N/A | AJ25: =J16 -> #N/A | AK25: =AJ25+$B$13/12 -> #N/A
A26: k-bottom | B26: =B6 -> #N/A | I26: =SUM(L5:L22) -> #N/A | AI26: =AI10 -> #N/A | AJ26: =J15 -> #N/A | AK26: =AJ26+$B$13/12 -> #N/A
AI27: =AI9 -> 0 | AJ27: =J14 -> #N/A | AK27: =AJ27+$B$13/12 -> #N/A
AI28: =AI44 -> #N/A | AJ28: =J13 -> #N/A | AK28: =AJ28+$B$13/12 -> #N/A
AI29: =AI43 -> #N/A | AJ29: =J12 -> #N/A | AK29: =AJ29+$B$13/12 -> #N/A
AI30: =AI42 -> #N/A | AJ30: =J11 -> #N/A | AK30: =AJ30+$B$13/12 -> #N/A
AI31: =AI41 -> #N/A | AJ31: =J10 -> #N/A | AK31: =AJ31+$B$13/12 -> #N/A
AI32: =AI40 -> #N/A | AJ32: =J9 -> #N/A | AK32: =AJ32+$B$13/12 -> #N/A
AI33: =AI39 -> #N/A | AJ33: =J8 -> #N/A | AK33: =AJ33+$B$13/12 -> #N/A
AI34: =AI38 -> #N/A | AJ34: =J7 -> #N/A | AK34: =AJ34+$B$13/12 -> #N/A
AI35: =AI37 -> #N/A | AJ35: =J6 -> #N/A | AK35: =AJ35+$B$13/12 -> #N/A
AI36: =H5 -> #N/A | AJ36: =J5 -> #N/A | AK36: =AJ36+$B$13/12 -> #N/A
AI37: =H6 -> #N/A | AJ37: =I6 -> #N/A | AK37: =AJ37+$B$13/12 -> #N/A
AI38: =H7 -> #N/A | AJ38: =I7 -> #N/A | AK38: =AJ38+$B$13/12 -> #N/A
AI39: =H8 -> #N/A | AJ39: =I8 -> #N/A | AK39: =AJ39+$B$13/12 -> #N/A
AI40: =H9 -> #N/A | AJ40: =I9 -> #N/A | AK40: =AJ40+$B$13/12 -> #N/A
...

Sheet Paved Invert
A1: Paved Invert Coordinate Generator
A2: Input values
B3: radius | G3: Output Plot for HY8 | L3: Appx. Area Check
A4: B | B4: =IF(D11<48,"N/A",CMPA!B18) -> #N/A | C4: in | H4: x | I4: y1 | J4: y2
A5: Rt | B5: =IF(D11<48,"N/A",CMPA!D16) -> #N/A | C5: ft | G5: 1 | H5: =-H23 -> #N/A | I5: =B4/12 -> #N/A | J5: =I5 -> #N/A | L5: =(I5+I6)/2*(H6-H5)-(J5+J6)/2*(H6-H5) -> #N/A
A6: Rb | B6: =IF(D11<48,"N/A",CMPA!D15-B13/12) -> #N/A | C6: ft | G6: 2 | H6: =-H22 -> #N/A | I6: =$B$21+SQRT($B$5^2-H6^2) -> #N/A | J6: =IF(ABS(H6)>$B$18,$B$23-SQRT(($B$7/12)^2-(H6+$B$24)^2),$B$26-SQRT($B$6^2-H6^2)) -> #N/A | L6: =(I6+I7)/2*(H7-H6)-(J6+J7)/2*(H7-H6) -> #N/A
A7: Corner | B7: =IF(D11<48,"N/A",CMPA!B17) -> #N/A | C7: in | G7: 3 | H7: =-H21 -> #N/A | I7: =$B$21+SQRT($B$5^2-H7^2) -> #N/A | J7: =IF(ABS(H7)>$B$18,$B$23-SQRT(($B$7/12)^2-(H7+$B$24)^2),$B$26-SQRT($B$6^2-H7^2)) -> #N/A | L7: =(I7+I8)/2*(H8-H7)-(J7+J8)/2*(H8-H7) -> #N/A
G8: 4 | H8: =-H20 -> #N/A | I8: =$B$21+SQRT($B$5^2-H8^2) -> #N/A | J8: =$B$26-SQRT($B$6^2-H8^2)+($B$13-3)/12 -> #N/A | L8: =(I8+I9)/2*(H9-H8)-(J8+J9)/2*(H9-H8) -> #N/A | AI8: results for graph in excel
A9: Output Values | G9: 5 | H9: =-H19 -> #N/A | I9: =$B$21+SQRT($B$5^2-H9^2) -> #N/A | J9: =$B$26-SQRT($B$6^2-H9^2)+($B$13-1)/12 -> #N/A | L9: =(I9+I10)/2*(H10-H9)-(J9+J10)/2*(H10-H9) -> #N/A | AI9: =H14 -> 0 | AJ9: =I14 -> #N/A | AK9: =AJ9 -> #N/A
A10: appx waterway area | B10: =I26 -> #N/A | C10: sf | G10: 6 | H10: =-H18 -> #N/A | I10: =$B$21+SQRT($B$5^2-H10^2) -> #N/A | J10: =$B$26-SQRT($B$6^2-H10^2)+$B$13/12 -> #N/A | L10: =(I10+I11)/2*(H11-H10)-(J10+J11)/2*(H11-H10) -> #N/A | AI10: =H15 -> #N/A | AJ10: =I15 -> #N/A | AK10: =AJ10 -> #N/A
A11: span | B11: =CMPA!D11 -> #N/A | C11: ft | D11: =B11*12 -> #N/A | E11: in | G11: 7 | H11: =-H17 -> #N/A | I11: =$B$21+SQRT($B$5^2-H11^2) -> #N/A | J11: =$B$26-SQRT($B$6^2-H11^2)+$B$13/12 -> #N/A | L11: =(I11+I12)/2*(H12-H11)-(J11+J12)/2*(H12-H11) -> #N/A | AI11: =H16 -> #N/A | AJ11: =I16 -> #N/A | AK11: =AJ11 -> #N/A
A12: rise | B12: =CMPA!D12-B13/12 -> #N/A | C12: ft | D12: =B12*12 -> #N/A | E12: in | G12: 8 | H12: =-H16 -> #N/A | I12: =$B$21+SQRT($B$5^2-H12^2) -> #N/A | J12: =$B$26-SQRT($B$6^2-H12^2)+$B$13/12 -> #N/A | L12: =(I12+I13)/2*(H13-H12)-(J12+J13)/2*(H13-H12) -> #N/A | AI12: =H17 -> #N/A | AJ12: =I17 -> #N/A | AK12: =AJ12 -> #N/A
A13: Paved invert Thickness | B13: 5 | C13: in | G13: 9 | H13: =-H15 -> #N/A | I13: =$B$21+SQRT($B$5^2-H13^2) -> #N/A | J13: =$B$26-SQRT($B$6^2-H13^2)+$B$13/12 -> #N/A | L13: =(I13+I14)/2*(H14-H13)-(J13+J14)/2*(H14-H13) -> #N/A | AI13: =H18 -> #N/A | AJ13: =I18 -> #N/A | AK13: =AJ13 -> #N/A
A14: Inlet invert | B14: =B13/12+CMPA!B6 -> 0.41666667 | C14: ft | G14: 10 | H14: 0 | I14: =B12+B13/12 -> #N/A | J14: =$B$26-SQRT($B$6^2-H14^2)+$B$13/12 -> #N/A | L14: =(I14+I15)/2*(H15-H14)-(J14+J15)/2*(H15-H14) -> #N/A | AI14: =H19 -> #N/A | AJ14: =I19 -> #N/A | AK14: =AJ14 -> #N/A
A15: outlet invert | B15: =B13/12+CMPA!B7 -> 0.41666667 | C15: ft | G15: 11 | H15: =$H$14+$B$11/18*(G15-$G$14) -> #N/A | I15: =$B$21+SQRT($B$5^2-H15^2) -> #N/A | J15: =$B$26-SQRT($B$6^2-H15^2)+$B$13/12 -> #N/A | L15: =(I15+I16)/2*(H16-H15)-(J15+J16)/2*(H16-H15) -> #N/A | AI15: =H20 -> #N/A | AJ15: =I20 -> #N/A | AK15: =AJ15 -> #N/A
G16: 12 | H16: =$H$14+$B$11/18*(G16-$G$14) -> #N/A | I16: =$B$21+SQRT($B$5^2-H16^2) -> #N/A | J16: =$B$26-SQRT($B$6^2-H16^2)+$B$13/12 -> #N/A | L16: =(I16+I17)/2*(H17-H16)-(J16+J17)/2*(H17-H16) -> #N/A | AI16: =H21 -> #N/A | AJ16: =I21 -> #N/A | AK16: =AJ16 -> #N/A
A17: Calculations (do not touch cells) | G17: 13 | H17: =$H$14+$B$11/18*(G17-$G$14) -> #N/A | I17: =$B$21+SQRT($B$5^2-H17^2) -> #N/A | J17: =$B$26-SQRT($B$6^2-H17^2)+$B$13/12 -> #N/A | L17: =(I17+I18)/2*(H18-H17)-(J17+J18)/2*(H18-H17) -> #N/A | AI17: =H22 -> #N/A | AJ17: =I22 -> #N/A | AK17: =AJ17 -> #N/A
A18: center of corner radius | B18: =H23-B7/12 -> #N/A | G18: 14 | H18: =$H$14+$B$11/18*(G18-$G$14) -> #N/A | I18: =$B$21+SQRT($B$5^2-H18^2) -> #N/A | J18: =$B$26-SQRT($B$6^2-H18^2)+$B$13/12 -> #N/A | L18: =(I18+I19)/2*(H19-H18)-(J18+J19)/2*(H19-H18) -> #N/A | AI18: =H23 -> #N/A | AJ18: =I23 -> #N/A | AK18: =AJ18 -> #N/A
G19: 15 | H19: =$H$14+$B$11/18*(G19-$G$14) -> #N/A | I19: =$B$21+SQRT($B$5^2-H19^2) -> #N/A | J19: =$B$26-SQRT($B$6^2-H19^2)+($B$13-1)/12 -> #N/A | L19: =(I19+I20)/2*(H20-H19)-(J19+J20)/2*(H20-H19) -> #N/A | AI19: =AI17 -> #N/A | AJ19: =J22 -> #N/A | AK19: =AJ19 -> #N/A
A20: y=k+sqrt(r^2-(x-h)^2) | G20: 16 | H20: =$H$14+$B$11/36*((G20-$G$14)*2+1) -> #N/A | I20: =$B$21+SQRT($B$5^2-H20^2) -> #N/A | J20: =$B$26-SQRT($B$6^2-H20^2)+($B$13-3)/12 -> #N/A | L20: =(I20+I21)/2*(H21-H20)-(J20+J21)/2*(H21-H20) -> #N/A | AI20: =AI16 -> #N/A | AJ20: =J21 -> #N/A | AK20: =AJ20 -> #N/A
A21: k-top | B21: =CMPA!$D$12-B5 -> #N/A | G21: 17 | H21: =$H$14+$B$11/36*((G21-$G$14)*2+1) -> #N/A | I21: =$B$21+SQRT($B$5^2-H21^2) -> #N/A | J21: =IF(ABS(H21)>$B$18,$B$23-SQRT(($B$7/12)^2-(H21-$B$24)^2),$B$26-SQRT($B$6^2-H21^2)) -> #N/A | L21: =(I21+I22)/2*(H22-H21)-(J21+J22)/2*(H22-H21) -> #N/A | AI21: =AI15 -> #N/A | AJ21: =J20 -> #N/A | AK21: =AJ21 -> #N/A
G22: 18 | H22: =$H$14+$B$11/36*((G22-$G$14)*2+1) -> #N/A | I22: =$B$21+SQRT($B$5^2-H22^2) -> #N/A | J22: =IF(ABS(H22)>$B$18,$B$23-SQRT(($B$7/12)^2-(H22-$B$24)^2),$B$26-SQRT($B$6^2-H22^2)) -> #N/A | L22: =(I22+I23)/2*(H23-H22)-(J22+J23)/2*(H23-H22) -> #N/A | AI22: =AI14 -> #N/A | AJ22: =J19 -> #N/A | AK22: =AJ22 -> #N/A
A23: k-side | B23: =B4/12 -> #N/A | G23: 19 | H23: =$H$14+$B$11/18*(G23-$G$14) -> #N/A | I23: =B4/12 -> #N/A | J23: =I23 -> #N/A | AI23: =AI13 -> #N/A | AJ23: =J18 -> #N/A | AK23: =AJ23 -> #N/A
A24: h-side | B24: =B18 -> #N/A | AI24: =AI12 -> #N/A | AJ24: =J17 -> #N/A | AK24: =AJ24 -> #N/A
I25: Calculated Area Check | AI25: =AI11 -> #N/A | AJ25: =J16 -> #N/A | AK25: =AJ25 -> #N/A
A26: k-bottom | B26: =B6 -> #N/A | I26: =SUM(L5:L22) -> #N/A | AI26: =AI10 -> #N/A | AJ26: =J15 -> #N/A | AK26: =AJ26 -> #N/A
AI27: =AI9 -> 0 | AJ27: =J14 -> #N/A | AK27: =AJ27 -> #N/A
AI28: =AI44 -> #N/A | AJ28: =J13 -> #N/A | AK28: =AJ28 -> #N/A
AI29: =AI43 -> #N/A | AJ29: =J12 -> #N/A | AK29: =AJ29 -> #N/A
AI30: =AI42 -> #N/A | AJ30: =J11 -> #N/A | AK30: =AJ30 -> #N/A
AI31: =AI41 -> #N/A | AJ31: =J10 -> #N/A | AK31: =AJ31 -> #N/A
AI32: =AI40 -> #N/A | AJ32: =J9 -> #N/A | AK32: =AJ32 -> #N/A
AI33: =AI39 -> #N/A | AJ33: =J8 -> #N/A | AK33: =AJ33 -> #N/A
AI34: =AI38 -> #N/A | AJ34: =J7 -> #N/A | AK34: =AJ34 -> #N/A
AI35: =AI37 -> #N/A | AJ35: =J6 -> #N/A | AK35: =AJ35 -> #N/A
AI36: =H5 -> #N/A | AJ36: =J5 -> #N/A | AK36: =AJ36 -> #N/A
AI37: =H6 -> #N/A | AJ37: =I6 -> #N/A | AK37: =AJ37 -> #N/A
AI38: =H7 -> #N/A | AJ38: =I7 -> #N/A | AK38: =AJ38 -> #N/A
AI39: =H8 -> #N/A | AJ39: =I8 -> #N/A | AK39: =AJ39 -> #N/A
AI40: =H9 -> #N/A | AJ40: =I9 -> #N/A | AK40: =AJ40 -> #N/A
...

Sheet Steel Liner
A1: Steel Liner Coordinate Generator
A2: Input values
B3: radius | D3: =IF(CMPA!B11<72,"Note: standard steel liner sizes are not available for this size of host pipe and may not be available for construction. Some points may need altered for the model.","") -> #N/A | G3: Output Plot for HY8 | L3: Appx. Area Check
A4: B | B4: =CMPA!B18 -> #N/A | C4: in | H4: x | I4: y1 | J4: y2
A5: Rt | B5: =CMPA!D16-(B13)/12 -> #N/A | C5: ft | G5: 1 | H5: =-H23 -> #N/A | I5: =B4/12 -> #N/A | J5: =I5 -> #N/A | L5: =(I5+I6)/2*(H6-H5)-(J5+J6)/2*(H6-H5) -> #N/A
A6: Rb | B6: =CMPA!D15 -> #N/A | C6: ft | G6: 2 | H6: =-H22 -> #N/A | I6: =IF(ABS(H6)>B20,$B$25+SQRT(($B$7/12)^2-(H6+$B$26)^2),AVERAGE($B$25+SQRT(($B$7/12)^2-(H6+$B$26)^2),$B$23+SQRT($B$5^2-H6^2))) -> #N/A | J6: =IF(ABS(H6)>$B$20,$B$25-SQRT(($B$7/12)^2-(H6+$B$26)^2),$B$28-SQRT($B$6^2-H6^2)) -> #N/A | L6: =(I6+I7)/2*(H7-H6)-(J6+J7)/2*(H7-H6) -> #N/A
A7: Corner | B7: =CMPA!B17 -> #N/A | C7: in | G7: 3 | H7: =-H21 -> #N/A | I7: =IF(CMPA!B11<72,$B$25+SQRT(($B$7/12)^2-(H7+$B$26)^2),$B$23+SQRT($B$5^2-H7^2)) -> #N/A | J7: =IF(ABS(H7)>$B$20,$B$25-SQRT(($B$7/12)^2-(H7+$B$26)^2),$B$28-SQRT($B$6^2-H7^2)) -> #N/A | L7: =(I7+I8)/2*(H8-H7)-(J7+J8)/2*(H8-H7) -> #N/A
G8: 4 | H8: =-H20 -> #N/A | I8: =$B$23+SQRT($B$5^2-H8^2) -> #N/A | J8: =IF(ABS(H8)>$B$20,AVERAGE($B$25-SQRT(($B$7/12)^2-(H8+$B$26)^2),$B$28-SQRT($B$6^2-H8^2)),$B$28-SQRT($B$6^2-H8^2)) -> #N/A | L8: =(I8+I9)/2*(H9-H8)-(J8+J9)/2*(H9-H8) -> #N/A | AF8: En situ boundary | AI8: results for graph in excel
A9: Output Values | G9: 5 | H9: =-H19 -> #N/A | I9: =$B$23+SQRT($B$5^2-H9^2) -> #N/A | J9: =$B$28-SQRT($B$6^2-H9^2) -> #N/A | L9: =(I9+I10)/2*(H10-H9)-(J9+J10)/2*(H10-H9) -> #N/A | AF9: x | AG9: y | AI9: =H14 -> 0 | AJ9: =I14 -> #N/A | AK9: =AJ9+$B$15/12 -> #N/A
A10: appx waterway area | B10: =I26 -> #N/A | C10: sf | G10: 6 | H10: =-H18 -> #N/A | I10: =$B$23+SQRT($B$5^2-H10^2) -> #N/A | J10: =$B$28-SQRT($B$6^2-H10^2) -> #N/A | L10: =(I10+I11)/2*(H11-H10)-(J10+J11)/2*(H11-H10) -> #N/A | AE10: top | AF10: =IF(ISBLANK(CMPA!$B$4),"",-CMPA!$B$4/2)/12 -> #VALUE! | AG10: =CMPA!$B$5/12 -> 0 | AI10: =H15 -> #N/A | AJ10: =I15 -> #N/A | AK10: =AJ10+$B$15/12 -> #N/A
A11: span | B11: =CMPA!D11-(B14+B15)/12*2 -> #N/A | C11: ft | D11: =B11*12 -> #N/A | E11: in | G11: 7 | H11: =-H17 -> #N/A | I11: =$B$23+SQRT($B$5^2-H11^2) -> #N/A | J11: =$B$28-SQRT($B$6^2-H11^2) -> #N/A | L11: =(I11+I12)/2*(H12-H11)-(J11+J12)/2*(H12-H11) -> #N/A | AF11: =IF(ISBLANK(CMPA!$B$4),"",CMPA!$B$4/2)/12 -> #VALUE! | AG11: =CMPA!$B$5/12 -> 0 | AI11: =H16 -> #N/A | AJ11: =I16 -> #N/A | AK11: =AJ11+$B$15/12 -> #N/A
A12: rise | B12: =CMPA!D12-(B15*2+B13)/12 -> #N/A | C12: ft | D12: =B12*12 -> #N/A | E12: in | G12: 8 | H12: =-H16 -> #N/A | I12: =$B$23+SQRT($B$5^2-H12^2) -> #N/A | J12: =$B$28-SQRT($B$6^2-H12^2) -> #N/A | L12: =(I12+I13)/2*(H13-H12)-(J12+J13)/2*(H13-H12) -> #N/A | AE12: Span | AF12: =IF(ISBLANK(CMPA!$B$5),"",-CMPA!$B$4/2)/12 -> #VALUE! | AG12: 0 | AI12: =H17 -> #N/A | AJ12: =I17 -> #N/A | AK12: =AJ12+$B$15/12 -> #N/A
A13: Grout Thickness Top | B13: 4 | C13: in | G13: 9 | H13: =-H15 -> #N/A | I13: =$B$23+SQRT($B$5^2-H13^2) -> #N/A | J13: =$B$28-SQRT($B$6^2-H13^2) -> #N/A | L13: =(I13+I14)/2*(H14-H13)-(J13+J14)/2*(H14-H13) -> #N/A | AF13: =IF(ISBLANK(CMPA!$B$5),"",-CMPA!$B$4/2)/12 -> #VALUE! | AG13: =IF(AF13="","",AG10) -> #VALUE! | AI13: =H18 -> #N/A | AJ13: =I18 -> #N/A | AK13: =AJ13+$B$15/12 -> #N/A
A14: Grout Thickness Sides | B14: 3 | C14: in | G14: 10 | H14: 0 | I14: =B12 -> #N/A | J14: =$B$28-SQRT($B$6^2-H14^2) -> #N/A | L14: =(I14+I15)/2*(H15-H14)-(J14+J15)/2*(H15-H14) -> #N/A | AI14: =H19 -> #N/A | AJ14: =I19 -> #N/A | AK14: =AJ14+$B$15/12 -> #N/A
A15: Liner Wall Thickness | B15: 1 | C15: in | G15: 11 | H15: =$H$14+$B$11/18*(G15-$G$14) -> #N/A | I15: =$B$23+SQRT($B$5^2-H15^2) -> #N/A | J15: =$B$28-SQRT($B$6^2-H15^2) -> #N/A | L15: =(I15+I16)/2*(H16-H15)-(J15+J16)/2*(H16-H15) -> #N/A | AI15: =H20 -> #N/A | AJ15: =I20 -> #N/A | AK15: =AJ15+$B$15/12 -> #N/A
A16: inlet invert | B16: =B15/12+CMPA!B6 -> 0.083333333 | C16: ft | G16: 12 | H16: =$H$14+$B$11/18*(G16-$G$14) -> #N/A | I16: =$B$23+SQRT($B$5^2-H16^2) -> #N/A | J16: =$B$28-SQRT($B$6^2-H16^2) -> #N/A | L16: =(I16+I17)/2*(H17-H16)-(J16+J17)/2*(H17-H16) -> #N/A | AI16: =H21 -> #N/A | AJ16: =I21 -> #N/A | AK16: =AJ16+$B$15/12 -> #N/A
A17: outlet invert | B17: =B15/12+CMPA!B7 -> 0.083333333 | C17: ft | G17: 13 | H17: =$H$14+$B$11/18*(G17-$G$14) -> #N/A | I17: =$B$23+SQRT($B$5^2-H17^2) -> #N/A | J17: =$B$28-SQRT($B$6^2-H17^2) -> #N/A | L17: =(I17+I18)/2*(H18-H17)-(J17+J18)/2*(H18-H17) -> #N/A | AI17: =H22 -> #N/A | AJ17: =I22 -> #N/A | AK17: =AJ17+$B$15/12 -> #N/A
G18: 14 | H18: =$H$14+$B$11/18*(G18-$G$14) -> #N/A | I18: =$B$23+SQRT($B$5^2-H18^2) -> #N/A | J18: =$B$28-SQRT($B$6^2-H18^2) -> #N/A | L18: =(I18+I19)/2*(H19-H18)-(J18+J19)/2*(H19-H18) -> #N/A | AI18: =H23 -> #N/A | AJ18: =I23 -> #N/A | AK18: =AJ18+$B$15/12 -> #N/A
A19: Calculations (do not touch cells) | G19: 15 | H19: =$H$14+$B$11/18*(G19-$G$14) -> #N/A | I19: =$B$23+SQRT($B$5^2-H19^2) -> #N/A | J19: =$B$28-SQRT($B$6^2-H19^2) -> #N/A | L19: =(I19+I20)/2*(H20-H19)-(J19+J20)/2*(H20-H19) -> #N/A | AI19: =AI17 -> #N/A | AJ19: =J22 -> #N/A | AK19: =AJ19+$B$15/12 -> #N/A
A20: center of corner radius | B20: =H23-B7/12 -> #N/A | G20: 16 | H20: =$H$14+$B$11/36*((G20-$G$14)*2+1) -> #N/A | I20: =$B$23+SQRT($B$5^2-H20^2) -> #N/A | J20: =IF(ABS(H20)>$B$20,AVERAGE($B$25-SQRT(($B$7/12)^2-(H20-$B$26)^2),$B$28-SQRT($B$6^2-H20^2)),$B$28-SQRT($B$6^2-H20^2)) -> #N/A | L20: =(I20+I21)/2*(H21-H20)-(J20+J21)/2*(H21-H20) -> #N/A | AI20: =AI16 -> #N/A | AJ20: =J21 -> #N/A | AK20: =AJ20+$B$15/12 -> #N/A
G21: 17 | H21: =$H$14+$B$11/36*((G21-$G$14)*2+1) -> #N/A | I21: =IF(CMPA!B11<72,$B$25+SQRT(($B$7/12)^2-(H7+$B$26)^2),$B$23+SQRT($B$5^2-H7^2)) -> #N/A | J21: =IF(ABS(H21)>$B$20,$B$25-SQRT(($B$7/12)^2-(H21-$B$26)^2),$B$28-SQRT($B$6^2-H21^2)) -> #N/A | L21: =(I21+I22)/2*(H22-H21)-(J21+J22)/2*(H22-H21) -> #N/A | AI21: =AI15 -> #N/A | AJ21: =J20 -> #N/A | AK21: =AJ21+$B$15/12 -> #N/A
A22: y=k+sqrt(r^2-(x-h)^2) | G22: 18 | H22: =$H$14+$B$11/36*((G22-$G$14)*2+1) -> #N/A | I22: =IF(ABS(H22)>B20,$B$25+SQRT(($B$7/12)^2-(H6+$B$26)^2),AVERAGE($B$25+SQRT(($B$7/12)^2-(H6+$B$26)^2),$B$23+SQRT($B$5^2-H22^2))) -> #N/A | J22: =IF(ABS(H22)>$B$20,$B$25-SQRT(($B$7/12)^2-(H22-$B$26)^2),$B$28-SQRT($B$6^2-H22^2)) -> #N/A | L22: =(I22+I23)/2*(H23-H22)-(J22+J23)/2*(H23-H22) -> #N/A | AI22: =AI14 -> #N/A | AJ22: =J19 -> #N/A | AK22: =AJ22+$B$15/12 -> #N/A
A23: k-top | B23: =B12-B5 -> #N/A | G23: 19 | H23: =$H$14+$B$11/18*(G23-$G$14) -> #N/A | I23: =B4/12 -> #N/A | J23: =I23 -> #N/A | AI23: =AI13 -> #N/A | AJ23: =J18 -> #N/A | AK23: =AJ23+$B$15/12 -> #N/A
AI24: =AI12 -> #N/A | AJ24: =J17 -> #N/A | AK24: =AJ24+$B$15/12 -> #N/A
A25: k-side | B25: =B4/12 -> #N/A | I25: Calculated Area Check | AI25: =AI11 -> #N/A | AJ25: =J16 -> #N/A | AK25: =AJ25+$B$15/12 -> #N/A
A26: h-side | B26: =B20 -> #N/A | I26: =SUM(L5:L22) -> #N/A | AI26: =AI10 -> #N/A | AJ26: =J15 -> #N/A | AK26: =AJ26+$B$15/12 -> #N/A
AI27: =AI9 -> 0 | AJ27: =J14 -> #N/A | AK27: =AJ27+$B$15/12 -> #N/A
A28: k-bottom | B28: =B6 -> #N/A | AI28: =AI44 -> #N/A | AJ28: =J13 -> #N/A | AK28: =AJ28+$B$15/12 -> #N/A
AI29: =AI43 -> #N/A | AJ29: =J12 -> #N/A | AK29: =AJ29+$B$15/12 -> #N/A
AI30: =AI42 -> #N/A | AJ30: =J11 -> #N/A | AK30: =AJ30+$B$15/12 -> #N/A
P31: 44897 | AI31: =AI41 -> #N/A | AJ31: =J10 -> #N/A | AK31: =AJ31+$B$15/12 -> #N/A
P32: =P31+45 -> 44942 | AI32: =AI40 -> #N/A | AJ32: =J9 -> #N/A | AK32: =AJ32+$B$15/12 -> #N/A
AI33: =AI39 -> #N/A | AJ33: =J8 -> #N/A | AK33: =AJ33+$B$15/12 -> #N/A
AI34: =AI38 -> #N/A | AJ34: =J7 -> #N/A | AK34: =AJ34+$B$15/12 -> #N/A
AI35: =AI37 -> #N/A | AJ35: =J6 -> #N/A | AK35: =AJ35+$B$15/12 -> #N/A
AI36: =H5 -> #N/A | AJ36: =J5 -> #N/A | AK36: =AJ36+$B$15/12 -> #N/A
AI37: =H6 -> #N/A | AJ37: =I6 -> #N/A | AK37: =AJ37+$B$15/12 -> #N/A
AI38: =H7 -> #N/A | AJ38: =I7 -> #N/A | AK38: =AJ38+$B$15/12 -> #N/A
AI39: =H8 -> #N/A | AJ39: =I8 -> #N/A | AK39: =AJ39+$B$15/12 -> #N/A
AI40: =H9 -> #N/A | AJ40: =I9 -> #N/A | AK40: =AJ40+$B$15/12 -> #N/A
...

Sheet Version History
A1: Version | B1: Date | C1: Revisor | D1: What changed?
A2: 1 | B2: Fall 2020 | C2: AJS | D2: Created
A3: 2 | B3: 45282 | C3: AJS | D3: 1)updated HDPE liner sizes to meet current sizes schedule 250 profile walls as well as solid walls. This update also includes making the choice between solid and profile wall obsolete and the sheet now chooses the best fit option but another option may be used if desired., streamlined inputs, actual sizes put in for current 18 inch or less list, updated CIPP extents to a more precise 8 ft equivelent diameter pipe
D4: 2) crteated a dropdown list of structures to streamline inputs of a CMPA radii. This process detected errors with in HY8 that are described in bullet 3 below.
D5: 3) Actual sizes were inputted for the current 18 inch or less list. It was noticed that HY8 was using nominal size spans and rises from the Modern Sewer Design Handbook instead of actual sizes used in design today. This issue created a "darth vader helmet" look to each of the CMPA's in the program which resulted in about 10% of area loss in some structures. When corrected to the actual spans and rises, the area calculated matched within a few tenths of a square foot of the published data. These specific structures now give a warning to the user to input the calculated CMPA coordinates into the User defined function of HY8 to correct this issue.
D6: 4)updated CIPP extents to a more precise 8 ft equivelent diameter pipe
D7: 5) updated steel liner inputs to better fit a pipe arch shape
A8: 3 | B8: 44986 | C8: AJS | D8: updated measured span and length for graph of steel liner
A9: 4 | B9: 45020 | C9: AJS | D9: 81x59 CMPA table selection number corrected from 3 to 4
