Workbook
Name Structure_Data: 'HDPE Liner'!$A$38:$F$73

Sheet CMPA
A1: CMPA Coordinate Generator
A2: Input values
A3: FROM SURVEY | G3: Output Plot for HY8 | L3: Appx. Area Check
A4: Measured Span | C4: in
A5: Measured Rise | C5: in | H5: x | I5: y1 | J5: y2 | L5: =(I6+I7)/2*(H7-H6)-(J6+J7)/2*(H7-H6) -> #N/A
A6: inlet invert | C6: ft | G6: 1 | H6: =-H24 -> #N/A | I6: =B18/12 -> #N/A | J6: =I6 -> #N/A | L6: =(I7+I8)/2*(H8-H7)-(J7+J8)/2*(H8-H7) -> #N/A
A7: outlet invert | C7: ft | G7: 2 | H7: =-H23 -> #N/A | I7: =$B$24+SQRT($D$16^2-H7^2) -> #N/A | J7: =IF(ABS(H7)>$B$21,$B$26-SQRT(($B$17/12)^2-(H7+$B$27)^2),$B$29-SQRT($D$15^2-H7^2)) -> #N/A | L7: =(I8+I9)/2*(H9-H8)-(J8+J9)/2*(H9-H8) -> #N/A
A8: FROM HY8 | G8: 3 | H8: =-H22 -> #N/A | I8: =$B$24+SQRT($D$16^2-H8^2) -> #N/A | J8: =IF(ABS(H8)>$B$21,$B$26-SQRT(($B$17/12)^2-(H8+$B$27)^2),$B$29-SQRT($D$15^2-H8^2)) -> #N/A | L8: =(I9+I10)/2*(H10-H9)-(J9+J10)/2*(H10-H9) -> #N/A | AH8: curve slope | AI8: results for graph in excel
A9: Nearest Actual Size (inches) | C9: in | G9: 4 | H9: =-H21 -> #N/A | I9: =$B$24+SQRT($D$16^2-H9^2) -> #N/A | J9: =IF(ABS(H9)>$B$21,AVERAGE($B$26-SQRT(($B$17/12)^2-(H9+$B$27)^2),$B$29-SQRT($D$15^2-H9^2)),$B$29-SQRT($D$15^2-H9^2)) -> #N/A | L9: =(I10+I11)/2*(H11-H10)-(J10+J11)/2*(H11-H10) -> #N/A | AH9: =-AI9/SQRT($D$16^2-AI9^2) -> #N/A | AI9: =H15 -> 0 | AJ9: =I15 -> #N/A
A10: Nominal size in HY8 and list | B10: =INDEX(B45:B161,MATCH(B9,A45:A161,0)) -> #N/A | C10: {=IF(INDEX(K45:K161,MATCH(TRUE,B9=A45:A161,0))=1,"current variable corner radii",IF(INDEX(K45:K161,MATCH(TRUE,B9=A45:A161,0))=2,"historic variable corner radii",IF(INDEX(K45:K161,MATCH(TRUE,B9=A45:A161,0))=3,"*current 18 in. corner radii",IF(INDEX(K45:K161,MATCH(TRUE,B9=A45:A161,0))=4,"historic 18 in. corner radii",IF(INDEX(K45:K161,MATCH(TRUE,B9=A45:A161,0))=5,"steel structural plate -18in.",IF(INDEX(K45:K161,MATCH(TRUE,B9=A45:A161,0))=6,"steel structural plate-31 in.","steel structural plate - 47 in"))))))} -> #N/A | G10: 5 | H10: =-H20 -> #N/A | I10: =$B$24+SQRT($D$16^2-H10^2) -> #N/A | J10: =IF(ABS(H10)>$B$21,$B$26-SQRT(($B$17/12)^2-(H10+$B$27)^2),$B$29-SQRT($D$15^2-H10^2)) -> #N/A | L10: =(I11+I12)/2*(H12-H11)-(J11+J12)/2*(H12-H11) -> #N/A | AH10: =-AI10/SQRT($D$16^2-AI10^2) -> #N/A | AI10: =H16 -> #N/A | AJ10: =I16 -> #N/A
A11: span | B11: {=INDEX(C45:C161,MATCH(TRUE,B9=A45:A161,0))} -> #N/A | C11: in | D11: =B11/12 -> #N/A | E11: ft | G11: 6 | H11: =-H19 -> #N/A | I11: =$B$24+SQRT($D$16^2-H11^2) -> #N/A | J11: =$B$29-SQRT($D$15^2-H11^2) -> #N/A | L11: =(I12+I13)/2*(H13-H12)-(J12+J13)/2*(H13-H12) -> #N/A | AH11: =-AI11/SQRT($D$16^2-AI11^2) -> #N/A | AI11: =H17 -> #N/A | AJ11: =I17 -> #N/A
A12: rise | B12: {=INDEX(D45:D161,MATCH(TRUE,B9=A45:A161,0))} -> #N/A | C12: in | D12: =B12/12 -> #N/A | E12: ft | G12: 7 | H12: =-H18 -> #N/A | I12: =$B$24+SQRT($D$16^2-H12^2) -> #N/A | J12: =$B$29-SQRT($D$15^2-H12^2) -> #N/A | L12: =(I13+I14)/2*(H14-H13)-(J13+J14)/2*(H14-H13) -> #N/A | AH12: =-AI12/SQRT($D$16^2-AI12^2) -> #N/A | AI12: =H18 -> #N/A | AJ12: =I18 -> #N/A
A13: waterway area | B13: {=INDEX(E45:E161,MATCH(TRUE,B9=A45:A161,0))} -> #N/A | C13: sf | G13: 8 | H13: =-H17 -> #N/A | I13: =$B$24+SQRT($D$16^2-H13^2) -> #N/A | J13: =$B$29-SQRT($D$15^2-H13^2) -> #N/A | L13: =(I14+I15)/2*(H15-H14)-(J14+J15)/2*(H15-H14) -> #N/A | AH13: =-AI13/SQRT($D$16^2-AI13^2) -> #N/A | AI13: =H19 -> #N/A | AJ13: =I19 -> #N/A
A14: n-value | B14: {=INDEX(F45:F161,MATCH(TRUE,B9=A45:A161,0))} -> #N/A | G14: 9 | H14: =-H16 -> #N/A | I14: =$B$24+SQRT($D$16^2-H14^2) -> #N/A | J14: =$B$29-SQRT($D$15^2-H14^2) -> #N/A | L14: =(I15+I16)/2*(H16-H15)-(J15+J16)/2*(H16-H15) -> #N/A | AH14: =-AI14/SQRT($D$16^2-AI14^2) -> #N/A | AI14: =H20 -> #N/A | AJ14: =I20 -> #N/A
A15: Br (Bottom Radius) | B15: {=INDEX(G45:G161,MATCH(TRUE,B9=A45:A161,0))} -> #N/A | C15: in | D15: =B15/12 -> #N/A | E15: ft | G15: 10 | H15: 0 | I15: =D12 -> #N/A | J15: =$B$29-SQRT($D$15^2-H15^2) -> #N/A | L15: =(I16+I17)/2*(H17-H16)-(J16+J17)/2*(H17-H16) -> #N/A | AH15: =-AI15/SQRT($D$16^2-AI15^2) -> #N/A | AI15: =H21 -> #N/A | AJ15: =I21 -> #N/A
A16: Tr (Top Radius) | B16: {=INDEX(H45:H161,MATCH(TRUE,B9=A45:A161,0))} -> #N/A | C16: in | D16: =B16/12 -> #N/A | E16: ft | G16: 11 | H16: =$H$15+$D$11/18*(G16-$G$15) -> #N/A | I16: =$B$24+SQRT($D$16^2-H16^2) -> #N/A | J16: =$B$29-SQRT($D$15^2-H16^2) -> #N/A | L16: =(I17+I18)/2*(H18-H17)-(J17+J18)/2*(H18-H17) -> #N/A | AH16: =-AI16/SQRT($D$16^2-AI16^2) -> #N/A | AI16: =H22 -> #N/A | AJ16: =I22 -> #N/A
A17: Cr (Corner Radius) | B17: {=INDEX(I45:I161,MATCH(TRUE,B9=A45:A161,0))} -> #N/A | C17: in | D17: =B17/12 -> #N/A | E17: ft | G17: 12 | H17: =$H$15+$D$11/18*(G17-$G$15) -> #N/A | I17: =$B$24+SQRT($D$16^2-H17^2) -> #N/A | J17: =$B$29-SQRT($D$15^2-H17^2) -> #N/A | L17: =(I18+I19)/2*(H19-H18)-(J18+J19)/2*(H19-H18) -> #N/A | AH17: =-AI17/SQRT($D$16^2-AI17^2) -> #N/A | AI17: =H23 -> #N/A | AJ17: =I23 -> #N/A
A18: B | B18: {=INDEX(J45:J161,MATCH(TRUE,B9=A45:A161,0))} -> #N/A | C18: in | D18: =B18/12 -> #N/A | E18: ft | G18: 13 | H18: =$H$15+$D$11/18*(G18-$G$15) -> #N/A | I18: =$B$24+SQRT($D$16^2-H18^2) -> #N/A | J18: =$B$29-SQRT($D$15^2-H18^2) -> #N/A | L18: =(I19+I20)/2*(H20-H19)-(J19+J20)/2*(H20-H19) -> #N/A | AH18: =-AI18/SQRT($D$16^2-AI18^2) -> #N/A | AI18: =H24 -> #N/A | AJ18: =I24 -> #N/A
G19: 14 | H19: =$H$15+$D$11/18*(G19-$G$15) -> #N/A | I19: =$B$24+SQRT($D$16^2-H19^2) -> #N/A | J19: =$B$29-SQRT($D$15^2-H19^2) -> #N/A | L19: =(I20+I21)/2*(H21-H20)-(J20+J21)/2*(H21-H20) -> #N/A | AI19: =AI17 -> #N/A | AJ19: =J23 -> #N/A
A20: Calculations (do not touch cells) | C20: =IF(C10="*current 18 in. corner radii", AB48,IF(B9=A145,AB49,"")) -> #N/A | G20: 15 | H20: =$H$15+$D$11/18*(G20-$G$15) -> #N/A | I20: =$B$24+SQRT($D$16^2-H20^2) -> #N/A | J20: =IF(ABS(H20)>$B$21,$B$26-SQRT(($B$17/12)^2-(H20-$B$27)^2),$B$29-SQRT($D$15^2-H20^2)) -> #N/A | L20: =(I21+I22)/2*(H22-H21)-(J21+J22)/2*(H22-H21) -> #N/A | AI20: =AI16 -> #N/A | AJ20: =J22 -> #N/A
A21: center of corner radius | B21: =H24-B17/12 -> #N/A | G21: 16 | H21: =$H$15+$D$11/36*((G21-$G$15)*2+1) -> #N/A | I21: =$B$24+SQRT($D$16^2-H21^2) -> #N/A | J21: =IF(ABS(H21)>$B$21,AVERAGE($B$26-SQRT(($B$17/12)^2-(H21-$B$27)^2),$B$29-SQRT($D$15^2-H21^2)),$B$29-SQRT($D$15^2-H21^2)) -> #N/A | L21: =(I22+I23)/2*(H23-H22)-(J22+J23)/2*(H23-H22) -> #N/A | AI21: =AI15 -> #N/A | AJ21: =J21 -> #N/A
G22: 17 | H22: =$H$15+$D$11/36*((G22-$G$15)*2+1) -> #N/A | I22: =$B$24+SQRT($D$16^2-H22^2) -> #N/A | J22: =IF(ABS(H22)>$B$21,$B$26-SQRT(($B$17/12)^2-(H22-$B$27)^2),$B$29-SQRT($D$15^2-H22^2)) -> #N/A | L22: =(I23+I24)/2*(H24-H23)-(J23+J24)/2*(H24-H23) -> #N/A | AI22: =AI14 -> #N/A | AJ22: =J20 -> #N/A
A23: y=k+sqrt(r^2-(x-h)^2) | G23: 18 | H23: =$H$15+$D$11/36*((G23-$G$15)*2+1) -> #N/A | I23: =$B$24+SQRT($D$16^2-H23^2) -> #N/A | J23: =IF(ABS(H23)>$B$21,$B$26-SQRT(($B$17/12)^2-(H23-$B$27)^2),$B$29-SQRT($D$15^2-H23^2)) -> #N/A | AI23: =AI13 -> #N/A | AJ23: =J19 -> #N/A
A24: k-top | B24: =D12-D16 -> #N/A | G24: 19 | H24: =$H$15+$D$11/18*(G24-$G$15) -> #N/A | I24: =B18/12 -> #N/A | J24: =I24 -> #N/A | AI24: =AI12 -> #N/A | AJ24: =J18 -> #N/A
AI25: =AI11 -> #N/A | AJ25: =J17 -> #N/A
A26: k-side | B26: =B18/12 -> #N/A | AI26: =AI10 -> #N/A | AJ26: =J16 -> #N/A
A27: h-side | B27: =B21 -> #N/A | I27: Calculated Area Check | AI27: =AI9 -> 0 | AJ27: =J15 -> #N/A
I28: =SUM(L5:L22) -> #N/A | AI28: =AI44 -> #N/A | AJ28: =J14 -> #N/A
A29: k-bottom | B29: =D15 -> #N/A | AI29: =AI43 -> #N/A | AJ29: =J13 -> #N/A
AI30: =AI42 -> #N/A | AJ30: =J12 -> #N/A
AI31: =AI41 -> #N/A | AJ31: =J11 -> #N/A
AI32: =AI40 -> #N/A | AJ32: =J10 -> #N/A
AI33: =AI39 -> #N/A | AJ33: =J9 -> #N/A
AI34: =AI38 -> #N/A | AJ34: =J8 -> #N/A
AI35: =AI37 -> #N/A | AJ35: =J7 -> #N/A
AI36: =H6 -> #N/A | AJ36: =J6 -> #N/A
AI37: =H7 -> #N/A | AJ37: =I7 -> #N/A
AI38: =H8 -> #N/A | AJ38: =I8 -> #N/A
AI39: =H9 -> #N/A | AJ39: =I9 -> #N/A
S40: corresponding rise | AI40: =H10 -> #N/A | AJ40: =I10 -> #N/A
P41: span less/match | R41: {=INDEX(C45:C161,MATCH(FALSE,C45:C161<B11,0))} -> #N/A | S41: {=INDEX(D45:D161,MATCH(TRUE,C45:C161=R41,0))} -> #N/A | AI41: =H11 -> #N/A | AJ41: =I11 -> #N/A
P42: span higher | R42: {=INDEX(C45:C161,MATCH(TRUE,C45:C161>B11,0))} -> #N/A | S42: {=INDEX(D45:D161,MATCH(TRUE,C45:C161=R42,0))} -> #N/A | AI42: =H12 -> #N/A | AJ42: =I12 -> #N/A
A43: Listing | B43: nominal size | C43: Span (in) | D43: Rise (in) | E43: Area (ft^2) | F43: Mannings n | G43: Br (in) | H43: Tr (in) | I43: Cr (in) | J43: B (in) | K43: table selection | AI43: =H13 -> #N/A | AJ43: =I13 -> #N/A
A44: choose | O44: 1 | P44: Current variable corner | AI44: =H14 -> #N/A | AJ44: =I14 -> #N/A
A45: 17x13 | B45: =IF(K45=3,INDEX($P$76:$P$87,MATCH(E45,$U$76:$U$87,0)),A45) -> 17x13 | C45: 17 | D45: 13 | E45: 1.1 | F45: 0.025 | G45: 25.625 | H45: 8.625 | I45: 3.5 | J45: 4.38 | K45: 1 | P45: No. | Q45: Span (in) | R45: Rise (in) | S45: Area (ft^2) | T45: Mannings n | U45: Br (in) | V45: Tr (in) | W45: Cr (in) | X45: B (in) | AI45: =AI9 -> 0 | AJ45: =AJ9 -> #N/A
A46: 18.1x11 | B46: =IF(K46=3,INDEX($P$76:$P$87,MATCH(E46,$U$76:$U$87,0)),A46) -> 18.1x11 | C46: 18.1 | D46: 11 | E46: 1.07 | F46: 0.025 | G46: 19.12 | H46: 10.06 | I46: 3.5 | J46: 4.5 | K46: 2 | P46: 17x13 | Q46: 17 | R46: 13 | S46: 1.1 | T46: 0.025 | U46: 25.625 | V46: 8.625 | W46: 3.5 | X46: 4.38
A47: 21x15 | B47: =IF(K47=3,INDEX($P$76:$P$87,MATCH(E47,$U$76:$U$87,0)),A47) -> 21x15 | C47: 21 | D47: 15 | E47: 1.6 | F47: 0.025 | G47: 33.125 | H47: 10.75 | I47: 4.13 | J47: 4.875 | K47: 1 | P47: 21x15 | Q47: 21 | R47: 15 | S47: 1.6 | T47: 0.025 | U47: 33.125 | V47: 10.75 | W47: 4.13 | X47: 4.875
A48: 21.7x13.3 | B48: =IF(K48=3,INDEX($P$76:$P$87,MATCH(E48,$U$76:$U$87,0)),A48) -> 21.7x13.3 | C48: 21.7 | D48: 13.3 | E48: 1.59 | F48: 0.025 | G48: 37.06 | H48: 11.87 | I48: 4 | J48: 4.75 | K48: 2 | P48: 24x18 | Q48: 24 | R48: 18 | S48: 2.2 | T48: 0.025 | U48: 34.625 | V48: 11.875 | W48: 4.875 | X48: 5.625 | AB48: *According to the Modern Sewer Design handbook provided by the American Iron and Steel Institute, HY8 provides the nominal spans and rises for the "current 18 in or less corner radii" instead of the actual spans and rises. This results in misshaped pipe arches and miscalculates the flow capacity of the pipe. Please use the output plot to the right for this CMPA as a user defined shape in HY8 to correct this issue.
A49: 24x18 | B49: =IF(K49=3,INDEX($P$76:$P$87,MATCH(E49,$U$76:$U$87,0)),A49) -> 24x18 | C49: 24 | D49: 18 | E49: 2.2 | F49: 0.025 | G49: 34.625 | H49: 11.875 | I49: 4.875 | J49: 5.625 | K49: 1 | P49: 28x20 | Q49: 28 | R49: 20 | S49: 2.9 | T49: 0.025 | U49: 42.25 | V49: 14 | W49: 5.5 | X49: 6.5 | AB49: *A typo was found in the HY8 programming for this structure's span. The labeled span in HY8 is 224.8 inches; however according to the Modern Sewer Design handbook provided by the American Iron and Steel Institute, the actual span is 244.8 inches. Please use the output plot to the right as user defined coordinates in HY8 to rectify this issue.
A50: 25.3x15.5 | B50: =IF(K50=3,INDEX($P$76:$P$87,MATCH(E50,$U$76:$U$87,0)),A50) -> 25.3x15.5 | C50: 25.3 | D50: 15.5 | E50: 2.1 | F50: 0.025 | G50: 33.5 | H50: 12.75 | I50: 4 | J50: 5.25 | K50: 2 | P50: 35x24 | Q50: 35 | R50: 24 | S50: 4.5 | T50: 0.025 | U50: 55.125 | V50: 17.875 | W50: 6.875 | X50: 8.125
A51: 28x20 | B51: =IF(K51=3,INDEX($P$76:$P$87,MATCH(E51,$U$76:$U$87,0)),A51) -> 28x20 | C51: 28 | D51: 20 | E51: 2.9 | F51: 0.025 | G51: 42.25 | H51: 14 | I51: 5.5 | J51: 6.5 | K51: 1 | P51: 42x29 | Q51: 42 | R51: 29 | S51: 6.5 | T51: 0.025 | U51: 66.125 | V51: 21.5 | W51: 8.25 | X51: 9.75
A52: 28.9x17.8 | B52: =IF(K52=3,INDEX($P$76:$P$87,MATCH(E52,$U$76:$U$87,0)),A52) -> 28.9x17.8 | C52: 28.9 | D52: 17.8 | E52: 2.81 | F52: 0.025 | G52: 55 | H52: 14.75 | I52: 4.5 | J52: 5.5 | K52: 2 | P52: 49x33 | Q52: 49 | R52: 33 | S52: 8.9 | T52: 0.024 | U52: 77.25 | V52: 25.125 | W52: 9.625 | X52: 11.375
A53: 35x24 | B53: =IF(K53=3,INDEX($P$76:$P$87,MATCH(E53,$U$76:$U$87,0)),A53) -> 35x24 | C53: 35 | D53: 24 | E53: 4.5 | F53: 0.025 | G53: 55.125 | H53: 17.875 | I53: 6.875 | J53: 8.125 | K53: 1 | P53: 57x38 | Q53: 57 | R53: 38 | S53: 11.6 | T53: 0.024 | U53: 88.25 | V53: 28.625 | W53: 11 | X53: 13
A54: 36.1x22.2 | B54: =IF(K54=3,INDEX($P$76:$P$87,MATCH(E54,$U$76:$U$87,0)),A54) -> 36.1x22.2 | C54: 36.1 | D54: 22.2 | E54: 4.39 | F54: 0.025 | G54: 73.25 | H54: 18.25 | I54: 5 | J54: 6.25 | K54: 2 | P54: 64x43 | Q54: 64 | R54: 43 | S54: 14.7 | T54: 0.024 | U54: 99.25 | V54: 32.25 | W54: 12.375 | X54: 14.625
A55: 42x29 | B55: =IF(K55=3,INDEX($P$76:$P$87,MATCH(E55,$U$76:$U$87,0)),A55) -> 42x29 | C55: 42 | D55: 29 | E55: 6.5 | F55: 0.025 | G55: 66.125 | H55: 21.5 | I55: 8.25 | J55: 9.75 | K55: 1 | P55: 71x47 | Q55: 71 | R55: 47 | S55: 18.1 | T55: 0.024 | U55: 110.25 | V55: 35.75 | W55: 13.75 | X55: 16.25
A56: 43x27 | B56: =IF(K56=3,INDEX($P$76:$P$87,MATCH(E56,$U$76:$U$87,0)),A56) -> 43x27 | C56: 43 | D56: 27 | E56: 6.3 | F56: 0.028 | G56: 54.75 | H56: 22.5 | I56: 7.75 | J56: 9.75 | K56: 4 | P56: 77x52 | Q56: 77 | R56: 52 | S56: 21.9 | T56: 0.024 | U56: 121.25 | V56: 39.375 | W56: 15.125 | X56: 17.875
A57: 43.3x26.6 | B57: =IF(K57=3,INDEX($P$76:$P$87,MATCH(E57,$U$76:$U$87,0)),A57) -> 43.3x26.6 | C57: 43.3 | D57: 26.6 | E57: 6.28 | F57: 0.025 | G57: 91.56 | H57: 21.56 | I57: 5.5 | J57: 7 | K57: 2 | P57: 83x57 | Q57: 83 | R57: 57 | S57: 26 | T57: 0.024 | U57: 132.25 | V57: 43 | W57: 16.25 | X57: 19.5
A58: 49x33 | B58: =IF(K58=3,INDEX($P$76:$P$87,MATCH(E58,$U$76:$U$87,0)),A58) -> 49x33 | C58: 49 | D58: 33 | E58: 8.9 | F58: 0.024 | G58: 77.25 | H58: 25.125 | I58: 9.625 | J58: 11.375 | K58: 1
A59: 50x31 | B59: =IF(K59=3,INDEX($P$76:$P$87,MATCH(E59,$U$76:$U$87,0)),A59) -> 50x31 | C59: 50 | D59: 31 | E59: 8.41 | F59: 0.028 | G59: 67 | H59: 26.25 | I59: 9 | J59: 11.25 | K59: 4 | O59: 2 | P59: Historic variable corner
A60: 50.6x31.7 | B60: =IF(K60=3,INDEX($P$76:$P$87,MATCH(E60,$U$76:$U$87,0)),A60) -> 50.6x31.7 | C60: 50.6 | D60: 31.7 | E60: 8.75 | F60: 0.024 | G60: 97.25 | H60: 25.12 | I60: 6 | J60: 8 | K60: 2 | P60: No. | Q60: Span (in) | R60: Rise (in) | S60: Area (ft^2) | T60: Mannings n | U60: Br (in) | V60: Tr (in) | W60: Cr (in) | X60: B (in)
A61: 57x38 | B61: =IF(K61=3,INDEX($P$76:$P$87,MATCH(E61,$U$76:$U$87,0)),A61) -> 57x38 | C61: 57 | D61: 38 | E61: 11.6 | F61: 0.024 | G61: 88.25 | H61: 28.625 | I61: 11 | J61: 13 | K61: 1 | P61: 18.1x11 | Q61: 18.1 | R61: 11 | S61: 1.07 | T61: 0.025 | U61: 19.12 | V61: 10.06 | W61: 3.5 | X61: 4.5
A62: 57.8x35.5 | B62: =IF(K62=3,INDEX($P$76:$P$87,MATCH(E62,$U$76:$U$87,0)),A62) -> 57.8x35.5 | C62: 57.8 | D62: 35.5 | E62: 11.23 | F62: 0.024 | G62: 115.69 | H62: 29.12 | I62: 7 | J62: 9.25 | K62: 2 | P62: 21.7x13.3 | Q62: 21.7 | R62: 13.3 | S62: 1.59 | T62: 0.025 | U62: 37.06 | V62: 11.87 | W62: 4 | X62: 4.75
A63: 58x36 | B63: =IF(K63=3,INDEX($P$76:$P$87,MATCH(E63,$U$76:$U$87,0)),A63) -> 58x36 | C63: 58 | D63: 36 | E63: 11.36 | F63: 0.028 | G63: 82 | H63: 30.5 | I63: 10.5 | J63: 13 | K63: 4 | P63: 25.3x15.5 | Q63: 25.3 | R63: 15.5 | S63: 2.1 | T63: 0.025 | U63: 33.5 | V63: 12.75 | W63: 4 | X63: 5.25
A64: 58.5x48.5 | B64: =IF(K64=3,INDEX($P$76:$P$87,MATCH(E64,$U$76:$U$87,0)),A64) -> 60x46 | C64: 58.5 | D64: 48.5 | E64: 15.6 | F64: 0.028 | G64: 51.125 | H64: 29.375 | I64: 18.75 | J64: 20.5 | K64: 3 | P64: 28.9x17.8 | Q64: 28.9 | R64: 17.8 | S64: 2.81 | T64: 0.025 | U64: 55 | V64: 14.75 | W64: 4.5 | X64: 5.5
A65: 64x43 | B65: =IF(K65=3,INDEX($P$76:$P$87,MATCH(E65,$U$76:$U$87,0)),A65) -> 64x43 | C65: 64 | D65: 43 | E65: 14.7 | F65: 0.024 | G65: 99.25 | H65: 32.25 | I65: 12.375 | J65: 14.625 | K65: 1 | P65: 36.1x22.2 | Q65: 36.1 | R65: 22.2 | S65: 4.39 | T65: 0.025 | U65: 73.25 | V65: 18.25 | W65: 5 | X65: 6.25
A66: 65x40 | B66: =IF(K66=3,INDEX($P$76:$P$87,MATCH(E66,$U$76:$U$87,0)),A66) -> 65x40 | C66: 65 | D66: 40 | E66: 14.23 | F66: 0.024 | G66: 129.31 | H66: 32.75 | I66: 8 | J66: 10.5 | K66: 2 | P66: 43.3x26.6 | Q66: 43.3 | R66: 26.6 | S66: 6.28 | T66: 0.025 | U66: 91.56 | V66: 21.56 | W66: 5.5 | X66: 7
A67: 65x54 | B67: =IF(K67=3,INDEX($P$76:$P$87,MATCH(E67,$U$76:$U$87,0)),A67) -> 66x51 | C67: 65 | D67: 54 | E67: 19.3 | F67: 0.028 | G67: 56.25 | H67: 32.625 | I67: 20.75 | J67: 22.75 | K67: 3 | P67: 50.6x31.7 | Q67: 50.6 | R67: 31.7 | S67: 8.75 | T67: 0.024 | U67: 97.25 | V67: 25.12 | W67: 6 | X67: 8
A68: 65x40 | B68: =IF(K68=3,INDEX($P$76:$P$87,MATCH(E68,$U$76:$U$87,0)),A68) -> 65x40 | C68: 65 | D68: 40 | E68: 14.14 | F68: 0.028 | G68: 91.25 | H68: 34.5 | I68: 12 | J68: 14.75 | K68: 4 | P68: 57.8x35.5 | Q68: 57.8 | R68: 35.5 | S68: 11.23 | T68: 0.024 | U68: 115.69 | V68: 29.12 | W68: 7 | X68: 9.25
A69: 71x47 | B69: =IF(K69=3,INDEX($P$76:$P$87,MATCH(E69,$U$76:$U$87,0)),A69) -> 71x47 | C69: 71 | D69: 47 | E69: 18.1 | F69: 0.024 | G69: 110.25 | H69: 35.75 | I69: 13.75 | J69: 16.25 | K69: 1 | P69: 65x40 | Q69: 65 | R69: 40 | S69: 14.23 | T69: 0.024 | U69: 129.31 | V69: 32.75 | W69: 8 | X69: 10.5
A70: 72x44 | B70: =IF(K70=3,INDEX($P$76:$P$87,MATCH(E70,$U$76:$U$87,0)),A70) -> 72x44 | C70: 72 | D70: 44 | E70: 17.24 | F70: 0.028 | G70: 98.5 | H70: 38.5 | I70: 13.25 | J70: 16.25 | K70: 4 | P70: 72.2x44.4 | Q70: 72.2 | R70: 44.4 | S70: 17.52 | T70: 0.024 | U70: 142.94 | V70: 36.31 | W70: 9 | X70: 11.75
A71: 72.2x44.4 | B71: =IF(K71=3,INDEX($P$76:$P$87,MATCH(E71,$U$76:$U$87,0)),A71) -> 72.2x44.4 | C71: 72.2 | D71: 44.4 | E71: 17.52 | F71: 0.024 | G71: 142.94 | H71: 36.31 | I71: 9 | J71: 11.75 | K71: 2 | P71: 79.4x48.7 | Q71: 79.4 | R71: 48.7 | S71: 21.01 | T71: 0.024 | U71: 145.55 | V71: 39.75 | W71: 10 | X71: 13.25
A72: 72.5x58.25 | B72: =IF(K72=3,INDEX($P$76:$P$87,MATCH(E72,$U$76:$U$87,0)),A72) -> 73x55 | C72: 72.5 | D72: 58.25 | E72: 23.2 | F72: 0.028 | G72: 63.75 | H72: 36.75 | I72: 22.875 | J72: 25.125 | K72: 3 | P72: 85x54 | Q72: 85 | R72: 54 | S72: 25.17 | T72: 0.024 | U72: 154.5 | V72: 42.63 | W72: 11 | X72: 14.5
A73: 73x55 | B73: =IF(K73=3,INDEX($P$76:$P$87,MATCH(E73,$U$76:$U$87,0)),A73) -> 73x55 | C73: 73 | D73: 55 | E73: 22.08 | F73: 0.028 | G73: 76.25 | H73: 36.75 | I73: 18 | J73: 21 | K73: 4
A74: 73x55 (w/ bolts) | B74: =IF(K74=3,INDEX($P$76:$P$87,MATCH(E74,$U$76:$U$87,0)),A74) -> 73x55 (w/ bolts) | C74: 73 | D74: 55 | E74: 22.09 | F74: 0.035 | G74: 76.3 | H74: 36.8 | I74: 18 | J74: 21 | K74: 5 | O74: 3 | P74: Current 18 inch corner radii
A75: 76x57.1 | B75: =IF(K75=3,INDEX($P$76:$P$87,MATCH(E75,$U$76:$U$87,0)),A75) -> 76x57.1 | C75: 76 | D75: 57.1 | E75: 24.1 | F75: 0.035 | G75: 98.6 | H75: 38.1 | I75: 18 | J75: 20.5 | K75: 5 | P75: No. | Q75: Span (in) | R75: Rise (in) | S75: actual span | T75: actual rise | U75: Area (ft^2) | V75: Mannings n | W75: Br (in) | X75: Tr (in) | Y75: Cr (in) | Z75: B (in)
A76: 77x52 | B76: =IF(K76=3,INDEX($P$76:$P$87,MATCH(E76,$U$76:$U$87,0)),A76) -> 77x52 | C76: 77 | D76: 52 | E76: 21.9 | F76: 0.024 | G76: 121.25 | H76: 39.375 | I76: 15.125 | J76: 17.875 | K76: 1 | P76: 60x46 | Q76: 60 | R76: 46 | S76: 58.5 | T76: 48.5 | U76: 15.6 | V76: 0.028 | W76: 51.125 | X76: 29.375 | Y76: 18.75 | Z76: 20.5
A77: 79x62.5 | B77: =IF(K77=3,INDEX($P$76:$P$87,MATCH(E77,$U$76:$U$87,0)),A77) -> 81x59 | C77: 79 | D77: 62.5 | E77: 27.4 | F77: 0.028 | G77: 82.625 | H77: 39.5 | I77: 20.875 | J77: 23.75 | K77: 3 | P77: 66x51 | Q77: 66 | R77: 51 | S77: 65 | T77: 54 | U77: 19.3 | V77: 0.028 | W77: 56.25 | X77: 32.625 | Y77: 20.75 | Z77: 22.75
A78: 79.4x48.7 | B78: =IF(K78=3,INDEX($P$76:$P$87,MATCH(E78,$U$76:$U$87,0)),A78) -> 79.4x48.7 | C78: 79.4 | D78: 48.7 | E78: 21.01 | F78: 0.024 | G78: 145.55 | H78: 39.75 | I78: 10 | J78: 13.25 | K78: 2 | P78: 73x55 | Q78: 73 | R78: 55 | S78: 72.5 | T78: 58.25 | U78: 23.2 | V78: 0.028 | W78: 63.75 | X78: 36.75 | Y78: 22.875 | Z78: 25.125
A79: 81x59 | B79: =IF(K79=3,INDEX($P$76:$P$87,MATCH(E79,$U$76:$U$87,0)),A79) -> 81x59 | C79: 81 | D79: 59 | E79: 26.26 | F79: 0.028 | G79: 92.75 | H79: 40.75 | I79: 18 | J79: 21.5 | K79: 4 | P79: 81x59 | Q79: 81 | R79: 59 | S79: 79 | T79: 62.5 | U79: 27.4 | V79: 0.028 | W79: 82.625 | X79: 39.5 | Y79: 20.875 | Z79: 23.75
A80: 81.2x58.9 | B80: =IF(K80=3,INDEX($P$76:$P$87,MATCH(E80,$U$76:$U$87,0)),A80) -> 81.2x58.9 | C80: 81.2 | D80: 58.9 | E80: 26.16 | F80: 0.035 | G80: 83.5 | H80: 41 | I80: 18 | J80: 22 | K80: 5 | P80: 87x63 | Q80: 87 | R80: 63 | S80: 86.5 | T80: 67.25 | U80: 32.1 | V80: 0.028 | W80: 92.25 | X80: 43.375 | Y80: 22.625 | Z80: 25.75
A81: 83x57 | B81: =IF(K81=3,INDEX($P$76:$P$87,MATCH(E81,$U$76:$U$87,0)),A81) -> 83x57 | C81: 83 | D81: 57 | E81: 26 | F81: 0.024 | G81: 132.25 | H81: 43 | I81: 16.25 | J81: 19.5 | K81: 1 | P81: 95x67 | Q81: 95 | R81: 67 | S81: 93.5 | T81: 71.75 | U81: 37 | V81: 0.028 | W81: 100.25 | X81: 47 | Y81: 24.375 | Z81: 27.75
A82: 84.2x61.1 | B82: =IF(K82=3,INDEX($P$76:$P$87,MATCH(E82,$U$76:$U$87,0)),A82) -> 84.2x61.1 | C82: 84.2 | D82: 61.1 | E82: 28.4 | F82: 0.035 | G82: 104.2 | H82: 42.3 | I82: 18 | J82: 21.4 | K82: 5 | P82: 103x71 | Q82: 103 | R82: 71 | S82: 101.5 | T82: 76 | U82: 42.4 | V82: 0.028 | W82: 111.625 | X82: 51.25 | Y82: 26.125 | Z82: 29.75
A83: 85x54 | B83: =IF(K83=3,INDEX($P$76:$P$87,MATCH(E83,$U$76:$U$87,0)),A83) -> 85x54 | C83: 85 | D83: 54 | E83: 25.17 | F83: 0.024 | G83: 154.5 | H83: 42.63 | I83: 11 | J83: 14.5 | K83: 2 | P83: 112x75 | Q83: 112 | R83: 75 | S83: 108.5 | T83: 80.5 | U83: 48 | V83: 0.028 | W83: 120.25 | X83: 54.875 | Y83: 27.75 | Z83: 31.625
A84: 86.5x67.25 | B84: =IF(K84=3,INDEX($P$76:$P$87,MATCH(E84,$U$76:$U$87,0)),A84) -> 87x63 | C84: 86.5 | D84: 67.25 | E84: 32.1 | F84: 0.028 | G84: 92.25 | H84: 43.375 | I84: 22.625 | J84: 25.75 | K84: 3 | P84: 117x79 | Q84: 117 | R84: 79 | S84: 116.5 | T84: 84.75 | U84: 54.2 | V84: 0.028 | W84: 131.75 | X84: 59.375 | Y84: 29.5 | Z84: 33.625
A85: 87x63 | B85: =IF(K85=3,INDEX($P$76:$P$87,MATCH(E85,$U$76:$U$87,0)),A85) -> 87x63 | C85: 87 | D85: 63 | E85: 30.09 | F85: 0.028 | G85: 100.5 | H85: 43.5 | I85: 18 | J85: 22 | K85: 4 | P85: 128x83 | Q85: 128 | R85: 83 | S85: 123.5 | T85: 89.25 | U85: 60.5 | V85: 0.027 | W85: 139.75 | X85: 63.25 | Y85: 31.25 | Z85: 35.625
A86: 87x63.2 | B86: =IF(K86=3,INDEX($P$76:$P$87,MATCH(E86,$U$76:$U$87,0)),A86) -> 87x63.2 | C86: 87 | D86: 63.2 | E86: 30.62 | F86: 0.034 | G86: 136.2 | H86: 43.5 | I86: 18 | J86: 20.8 | K86: 5 | P86: 137x87 | Q86: 137 | R86: 87 | S86: 131 | T86: 93.75 | U86: 67.4 | V86: 0.027 | W86: 149.5 | X86: 67.375 | Y86: 33 | Z86: 37.625
A87: 92.4x65 | B87: =IF(K87=3,INDEX($P$76:$P$87,MATCH(E87,$U$76:$U$87,0)),A87) -> 92.4x65 | C87: 92.4 | D87: 65 | E87: 32.91 | F87: 0.034 | G87: 109.8 | H87: 46.5 | I87: 18 | J87: 22.4 | K87: 5 | P87: 142x91 | Q87: 142 | R87: 91 | S87: 138.5 | T87: 98 | U87: 74.5 | V87: 0.027 | W87: 162.375 | X87: 71.625 | Y87: 34.75 | Z87: 39.5
A88: 93.5x71.75 | B88: =IF(K88=3,INDEX($P$76:$P$87,MATCH(E88,$U$76:$U$87,0)),A88) -> 95x67 | C88: 93.5 | D88: 71.75 | E88: 37 | F88: 0.028 | G88: 100.25 | H88: 47 | I88: 24.375 | J88: 27.75 | K88: 3
A89: 95x67 | B89: =IF(K89=3,INDEX($P$76:$P$87,MATCH(E89,$U$76:$U$87,0)),A89) -> 95x67 | C89: 95 | D89: 67 | E89: 34.97 | F89: 0.028 | G89: 116 | H89: 47.75 | I89: 18 | J89: 22.5 | K89: 4 | O89: 4 | P89: Historic 18 inch corner radii
A90: 95.2x67.2 | B90: =IF(K90=3,INDEX($P$76:$P$87,MATCH(E90,$U$76:$U$87,0)),A90) -> 95.2x67.2 | C90: 95.2 | D90: 67.2 | E90: 35.39 | F90: 0.034 | G90: 137.9 | H90: 47.7 | I90: 18 | J90: 21.7 | K90: 5 | P90: No. | Q90: Span (in) | R90: Rise (in) | S90: Area (ft^2) | T90: Mannings n | U90: Br (in) | V90: Tr (in) | W90: Cr (in) | X90: B (in)
A91: 97.8x69.4 | B91: =IF(K91=3,INDEX($P$76:$P$87,MATCH(E91,$U$76:$U$87,0)),A91) -> 97.8x69.4 | C91: 97.8 | D91: 69.4 | E91: 37.96 | F91: 0.034 | G91: 182.9 | H91: 48.9 | I91: 18 | J91: 20.9 | K91: 5 | P91: 43x27 | Q91: 43 | R91: 27 | S91: 6.3 | T91: 0.028 | U91: 54.75 | V91: 22.5 | W91: 7.75 | X91: 9.75
A92: 101.5x76 | B92: =IF(K92=3,INDEX($P$76:$P$87,MATCH(E92,$U$76:$U$87,0)),A92) -> 103x71 | C92: 101.5 | D92: 76 | E92: 42.4 | F92: 0.028 | G92: 111.625 | H92: 51.25 | I92: 26.125 | J92: 29.75 | K92: 3 | P92: 50x31 | Q92: 50 | R92: 31 | S92: 8.41 | T92: 0.028 | U92: 67 | V92: 26.25 | W92: 9 | X92: 11.25
A93: 103x71 | B93: =IF(K93=3,INDEX($P$76:$P$87,MATCH(E93,$U$76:$U$87,0)),A93) -> 103x71 | C93: 103 | D93: 71 | E93: 40.11 | F93: 0.028 | G93: 132.25 | H93: 51.75 | I93: 18 | J93: 23 | K93: 4 | P93: 58x36 | Q93: 58 | R93: 36 | S93: 11.36 | T93: 0.028 | U93: 82 | V93: 30.5 | W93: 10.5 | X93: 13
A94: 103.4x71.7 | B94: =IF(K94=3,INDEX($P$76:$P$87,MATCH(E94,$U$76:$U$87,0)),A94) -> 103.4x71.7 | C94: 103.4 | D94: 71.7 | E94: 40.46 | F94: 0.034 | G94: 141 | H94: 51.9 | I94: 18 | J94: 22.7 | K94: 5 | P94: 65x40 | Q94: 65 | R94: 40 | S94: 14.14 | T94: 0.028 | U94: 91.25 | V94: 34.5 | W94: 12 | X94: 14.75
A95: 106x73.3 | B95: =IF(K95=3,INDEX($P$76:$P$87,MATCH(E95,$U$76:$U$87,0)),A95) -> 106x73.3 | C95: 106 | D95: 73.3 | E95: 43.1 | F95: 0.034 | G95: 178.7 | H95: 53 | I95: 18 | J95: 21.9 | K95: 5 | P95: 72x44 | Q95: 72 | R95: 44 | S95: 17.24 | T95: 0.028 | U95: 98.5 | V95: 38.5 | W95: 13.25 | X95: 16.25
A96: 108.5x80.5 | B96: =IF(K96=3,INDEX($P$76:$P$87,MATCH(E96,$U$76:$U$87,0)),A96) -> 112x75 | C96: 108.5 | D96: 80.5 | E96: 48 | F96: 0.028 | G96: 120.25 | H96: 54.875 | I96: 27.75 | J96: 31.625 | K96: 3 | P96: 73x55 | Q96: 73 | R96: 55 | S96: 22.08 | T96: 0.028 | U96: 76.25 | V96: 36.75 | W96: 18 | X96: 21
A97: 111.8x75.1 | B97: =IF(K97=3,INDEX($P$76:$P$87,MATCH(E97,$U$76:$U$87,0)),A97) -> 111.8x75.1 | C97: 111.8 | D97: 75.1 | E97: 45.83 | F97: 0.034 | G97: 144.6 | H97: 56.2 | I97: 18 | J97: 23.8 | K97: 5 | P97: 81x59 | Q97: 81 | R97: 59 | S97: 26.26 | T97: 0.028 | U97: 92.75 | V97: 40.75 | W97: 18 | X97: 21.5
A98: 112x75 | B98: =IF(K98=3,INDEX($P$76:$P$87,MATCH(E98,$U$76:$U$87,0)),A98) -> 112x75 | C98: 112 | D98: 75 | E98: 45.92 | F98: 0.028 | G98: 151.75 | H98: 56.25 | I98: 18 | J98: 23.5 | K98: 4 | P98: 87x63 | Q98: 87 | R98: 63 | S98: 30.09 | T98: 0.028 | U98: 100.5 | V98: 43.5 | W98: 18 | X98: 22
A99: 114.2x77.3 | B99: =IF(K99=3,INDEX($P$76:$P$87,MATCH(E99,$U$76:$U$87,0)),A99) -> 114.2x77.3 | C99: 114.2 | D99: 77.3 | E99: 48.69 | F99: 0.034 | G99: 177.5 | H99: 57.3 | I99: 18 | J99: 22.9 | K99: 5 | P99: 95x67 | Q99: 95 | R99: 67 | S99: 34.97 | T99: 0.028 | U99: 116 | V99: 47.75 | W99: 18 | X99: 22.5
A100: 116.5x84.75 | B100: =IF(K100=3,INDEX($P$76:$P$87,MATCH(E100,$U$76:$U$87,0)),A100) -> 117x79 | C100: 116.5 | D100: 84.75 | E100: 54.2 | F100: 0.028 | G100: 131.75 | H100: 59.375 | I100: 29.5 | J100: 33.625 | K100: 3 | P100: 103x71 | Q100: 103 | R100: 71 | S100: 40.11 | T100: 0.028 | U100: 132.25 | V100: 51.75 | W100: 18 | X100: 23
...

Sheet HDPE Liner
A1: HDPE Coordinate Generator
A2: Input values
B3: radius | G3: Output Plot for HY8 | L3: Appx. Area Check
A4: Host Pipe Span | B4: =CMPA!B11 -> #N/A | C4: in | H4: x | I4: y1 | J4: y2
A5: Host Pipe Rise | B5: =CMPA!B12 -> #N/A | C5: in | G5: 1 | H5: =T145 -> #N/A | I5: =U145 -> #N/A | J5: =V145 -> #N/A | L5: =(I5+I6)/2*(H6-H5)-(J5+J6)/2*(H6-H5) -> #N/A
A6: Grout Thickness | B6: 3 | C6: in | G6: 2 | H6: =T146 -> #N/A | I6: =U146 -> #N/A | J6: =V146 -> #N/A | L6: =(I6+I7)/2*(H7-H6)-(J6+J7)/2*(H7-H6) -> #N/A | AE6: En situ boundary
A7: User Defined Max Rise (optional) | C7: in | G7: 3 | H7: =T147 -> #N/A | I7: =U147 -> #N/A | J7: =V147 -> #N/A | L7: =(I7+I8)/2*(H8-H7)-(J7+J8)/2*(H8-H7) -> #N/A | AE7: x | AF7: y | AI7: Inside | AN7: outside
A8: Liner Max Outer Rise | B8: =IF(ISBLANK(B7),B5-B6,B7) -> #N/A | C8: in | G8: 4 | H8: =T148 -> #N/A | I8: =U148 -> #N/A | J8: =V148 -> #N/A | L8: =(I8+I9)/2*(H9-H8)-(J8+J9)/2*(H9-H8) -> #N/A | AD8: top | AE8: =IF(ISBLANK(CMPA!$B$4),"",-CMPA!$B$4/2)/12 -> #VALUE! | AF8: =CMPA!$B$5/12 -> 0 | AI8: results for graph in excel | AN8: results for graph in excel | AR8: Column1 | AS8: CMPA slope | AT8: Column2 | AU8: Column3 | AV8: Column4 | AW8: Column5 | AX8: Column6 | AY8: Column7 | AZ8: Column8 | BB8: CMPA slopes and coordinates
A9: largest possible | B9: ='HDPE Liner'!G38 -> #N/A | C9: (index no.) | G9: 5 | H9: =T149 -> #N/A | I9: =U149 -> #N/A | J9: =V149 -> #N/A | L9: =(I9+I10)/2*(H10-H9)-(J9+J10)/2*(H10-H9) -> #N/A | AE9: =IF(ISBLANK(CMPA!$B$4),"",CMPA!$B$4/2)/12 -> #VALUE! | AF9: =CMPA!$B$5/12 -> 0 | AI9: =H14 -> #N/A | AJ9: =I14 -> #N/A | AK9: =AJ9 -> #N/A | AM9: =-(ABS(1/($C$119/12))*($D$119/12)*AN9)/(SQRT(($C$119/12)^2-AN9^2)) -> #N/A | AN9: =P154 -> #N/A | AO9: =Q154 -> #N/A | AR9: slope | AS9: =CMPA!AH10 -> #N/A | AT9: =CMPA!AH11 -> #N/A | AU9: =CMPA!AH12 -> #N/A | AV9: =CMPA!AH13 -> #N/A | AW9: =CMPA!AH14 -> #N/A | AX9: =CMPA!AH15 -> #N/A | AY9: =CMPA!AH16 -> #N/A | AZ9: =CMPA!AH17 -> #N/A | BB9: =CMPA!AH9 -> #N/A | BC9: =CMPA!AI9 -> 0 | BD9: =CMPA!AJ9 -> #N/A
A10: Chosen Liner Size | C10: (index no.) | G10: 6 | H10: =T150 -> #N/A | I10: =U150 -> #N/A | J10: =V150 -> #N/A | L10: =(I10+I11)/2*(H11-H10)-(J10+J11)/2*(H11-H10) -> #N/A | AD10: Span | AE10: =IF(ISBLANK(CMPA!$B$5),"",-CMPA!$B$4/2)/12 -> #VALUE! | AF10: 0 | AI10: =H15 -> #N/A | AJ10: =I15 -> #N/A | AK10: =AJ10 -> #N/A | AM10: =-(ABS(1/($C$119/12))*($D$119/12)*AN10)/(SQRT(($C$119/12)^2-AN10^2)) -> #N/A | AN10: =P155 -> #N/A | AO10: =Q155 -> #N/A | AR10: =-(ABS(1/($C$119/12))*($D$119/12)*AN10)/(SQRT(($C$119/12)^2-AN10^2)) -> #N/A | AS10: =ABS($AS$9-AR10) -> #N/A | AT10: =ABS($AT$9-AR10) -> #N/A | AU10: =ABS($AU$9-AR10) -> #N/A | AV10: =ABS($AV$9-AR10) -> #N/A | AW10: =ABS($AW$9-AR10) -> #N/A | AX10: =ABS($AX$9-AR10) -> #N/A | AY10: =ABS($AY$9-AR10) -> #N/A | AZ10: =ABS($AZ$9-AR10) -> #N/A | BB10: =CMPA!AH10 -> #N/A | BC10: =CMPA!AI10 -> #N/A | BD10: =CMPA!AJ10 -> #N/A
A11: Liner Type | B11: =D100 -> #N/A | G11: 7 | H11: =T151 -> #N/A | I11: =U151 -> #N/A | J11: =V151 -> #N/A | AE11: =IF(ISBLANK(CMPA!$B$5),"",-CMPA!$B$4/2)/12 -> #VALUE! | AF11: =IF(AE11="","",AF8) -> #VALUE! | AI11: =H16 -> #N/A | AJ11: =I16 -> #N/A | AK11: =AJ11 -> #N/A | AM11: =-(ABS(1/($C$119/12))*($D$119/12)*AN11)/(SQRT(($C$119/12)^2-AN11^2)) -> #N/A | AN11: =P156 -> #N/A | AO11: =Q156 -> #N/A | AR11: =-(ABS(1/($C$119/12))*($D$119/12)*AN11)/(SQRT(($C$119/12)^2-AN11^2)) -> #N/A | AS11: =ABS($AS$9-AR11) -> #N/A | AT11: =ABS($AT$9-AR11) -> #N/A | AU11: =ABS($AU$9-AR11) -> #N/A | AV11: =ABS($AV$9-AR11) -> #N/A | AW11: =ABS($AW$9-AR11) -> #N/A | AX11: =ABS($AX$9-AR11) -> #N/A | AY11: =ABS($AY$9-AR11) -> #N/A | AZ11: =ABS($AZ$9-AR11) -> #N/A | BB11: =CMPA!AH11 -> #N/A | BC11: =CMPA!AI11 -> #N/A | BD11: =CMPA!AJ11 -> #N/A
G12: 8 | H12: =T152 -> #N/A | I12: =U152 -> #N/A | J12: =V152 -> #N/A | AI12: =H17 -> #N/A | AJ12: =I17 -> #N/A | AK12: =AJ12 -> #N/A | AM12: =-(ABS(1/($C$119/12))*($D$119/12)*AN12)/(SQRT(($C$119/12)^2-AN12^2)) -> #N/A | AN12: =P157 -> #N/A | AO12: =Q157 -> #N/A | AR12: =-(ABS(1/($C$119/12))*($D$119/12)*AN12)/(SQRT(($C$119/12)^2-AN12^2)) -> #N/A | AS12: =ABS($AS$9-AR12) -> #N/A | AT12: =ABS($AT$9-AR12) -> #N/A | AU12: =ABS($AU$9-AR12) -> #N/A | AV12: =ABS($AV$9-AR12) -> #N/A | AW12: =ABS($AW$9-AR12) -> #N/A | AX12: =ABS($AX$9-AR12) -> #N/A | AY12: =ABS($AY$9-AR12) -> #N/A | AZ12: =ABS($AZ$9-AR12) -> #N/A | BB12: =CMPA!AH12 -> #N/A | BC12: =CMPA!AI12 -> #N/A | BD12: =CMPA!AJ12 -> #N/A
G13: 9 | H13: =T153 -> #N/A | I13: =U153 -> #N/A | J13: =V153 -> #N/A | L13: =(I11+I12)/2*(H12-H11)-(J11+J12)/2*(H12-H11) -> #N/A | AI13: =H18 -> #N/A | AJ13: =I18 -> #N/A | AK13: =AJ13 -> #N/A | AM13: =-(ABS(1/($C$119/12))*($D$119/12)*AN13)/(SQRT(($C$119/12)^2-AN13^2)) -> #N/A | AN13: =P158 -> #N/A | AO13: =Q158 -> #N/A | AR13: =-(ABS(1/($C$119/12))*($D$119/12)*AN13)/(SQRT(($C$119/12)^2-AN13^2)) -> #N/A | AS13: =ABS($AS$9-AR13) -> #N/A | AT13: =ABS($AT$9-AR13) -> #N/A | AU13: =ABS($AU$9-AR13) -> #N/A | AV13: =ABS($AV$9-AR13) -> #N/A | AW13: =ABS($AW$9-AR13) -> #N/A | AX13: =ABS($AX$9-AR13) -> #N/A | AY13: =ABS($AY$9-AR13) -> #N/A | AZ13: =ABS($AZ$9-AR13) -> #N/A | BB13: =CMPA!AH13 -> #N/A | BC13: =CMPA!AI13 -> #N/A | BD13: =CMPA!AJ13 -> #N/A
A14: Resulting Liner | G14: 10 | H14: =T154 -> #N/A | I14: =U154 -> #N/A | J14: =V154 -> #N/A | L14: =(I12+I13)/2*(H13-H12)-(J12+J13)/2*(H13-H12) -> #N/A | AI14: =H19 -> #N/A | AJ14: =I19 -> #N/A | AK14: =AJ14 -> #N/A | AM14: =-(ABS(1/($C$119/12))*($D$119/12)*AN14)/(SQRT(($C$119/12)^2-AN14^2)) -> #N/A | AN14: =P159 -> #N/A | AO14: =Q159 -> #N/A | AR14: =-(ABS(1/($C$119/12))*($D$119/12)*AN14)/(SQRT(($C$119/12)^2-AN14^2)) -> #N/A | AS14: =ABS($AS$9-AR14) -> #N/A | AT14: =ABS($AT$9-AR14) -> #N/A | AU14: =ABS($AU$9-AR14) -> #N/A | AV14: =ABS($AV$9-AR14) -> #N/A | AW14: =ABS($AW$9-AR14) -> #N/A | AX14: =ABS($AX$9-AR14) -> #N/A | AY14: =ABS($AY$9-AR14) -> #N/A | AZ14: =ABS($AZ$9-AR14) -> #N/A | BB14: =CMPA!AH14 -> #N/A | BC14: =CMPA!AI14 -> #N/A | BD14: =CMPA!AJ14 -> #N/A
A15: Open Area | B15: =PI()*C120/12*D120/12 -> #N/A | C15: sq ft | G15: 11 | H15: =T155 -> #N/A | I15: =U155 -> #N/A | J15: =V155 -> #N/A | L15: =(I13+I14)/2*(H14-H13)-(J13+J14)/2*(H14-H13) -> #N/A | AI15: =H20 -> #N/A | AJ15: =I20 -> #N/A | AK15: =AJ15 -> #N/A | AM15: =-(ABS(1/($C$119/12))*($D$119/12)*AN15)/(SQRT(($C$119/12)^2-AN15^2)) -> #N/A | AN15: =P160 -> #N/A | AO15: =Q160 -> #N/A | AR15: =-(ABS(1/($C$119/12))*($D$119/12)*AN15)/(SQRT(($C$119/12)^2-AN15^2)) -> #N/A | AS15: =ABS($AS$9-AR15) -> #N/A | AT15: =ABS($AT$9-AR15) -> #N/A | AU15: =ABS($AU$9-AR15) -> #N/A | AV15: =ABS($AV$9-AR15) -> #N/A | AW15: =ABS($AW$9-AR15) -> #N/A | AX15: =ABS($AX$9-AR15) -> #N/A | AY15: =ABS($AY$9-AR15) -> #N/A | AZ15: =ABS($AZ$9-AR15) -> #N/A | BB15: =CMPA!AH15 -> #N/A | BC15: =CMPA!AI15 -> #N/A | BD15: =CMPA!AJ15 -> #N/A
A16: Equivilent Outer Diameter | B16: =C122 -> #N/A | C16: in | G16: 12 | H16: =T156 -> #N/A | I16: =U156 -> #N/A | J16: =V156 -> #N/A | L16: =(I14+I15)/2*(H15-H14)-(J14+J15)/2*(H15-H14) -> #N/A | AI16: =H21 -> #N/A | AJ16: =I21 -> #N/A | AK16: =AJ16 -> #N/A | AM16: =-(ABS(1/($C$119/12))*($D$119/12)*AN16)/(SQRT(($C$119/12)^2-AN16^2)) -> #N/A | AN16: =P161 -> #N/A | AO16: =Q161 -> #N/A | AR16: =-(ABS(1/($C$119/12))*($D$119/12)*AN16)/(SQRT(($C$119/12)^2-AN16^2)) -> #N/A | AS16: =ABS($AS$9-AR16) -> #N/A | AT16: =ABS($AT$9-AR16) -> #N/A | AU16: =ABS($AU$9-AR16) -> #N/A | AV16: =ABS($AV$9-AR16) -> #N/A | AW16: =ABS($AW$9-AR16) -> #N/A | AX16: =ABS($AX$9-AR16) -> #N/A | AY16: =ABS($AY$9-AR16) -> #N/A | AZ16: =ABS($AZ$9-AR16) -> #N/A | BB16: =CMPA!AH16 -> #N/A | BC16: =CMPA!AI16 -> #N/A | BD16: =CMPA!AJ16 -> #N/A
A17: Equivelent Inner Diameter | B17: =C123 -> #N/A | C17: in | G17: 13 | H17: =T157 -> #N/A | I17: =U157 -> #N/A | J17: =V157 -> #N/A | L17: =(I15+I16)/2*(H16-H15)-(J15+J16)/2*(H16-H15) -> #N/A | AI17: =H22 -> #N/A | AJ17: =I22 -> #N/A | AK17: =AJ17 -> #N/A | AM17: =-(ABS(1/($C$119/12))*($D$119/12)*AN17)/(SQRT(($C$119/12)^2-AN17^2)) -> #N/A | AN17: =P162 -> #N/A | AO17: =Q162 -> #N/A | AR17: =-(ABS(1/($C$119/12))*($D$119/12)*AN17)/(SQRT(($C$119/12)^2-AN17^2)) -> #N/A | AS17: =ABS($AS$9-AR17) -> #N/A | AT17: =ABS($AT$9-AR17) -> #N/A | AU17: =ABS($AU$9-AR17) -> #N/A | AV17: =ABS($AV$9-AR17) -> #N/A | AW17: =ABS($AW$9-AR17) -> #N/A | AX17: =ABS($AX$9-AR17) -> #N/A | AY17: =ABS($AY$9-AR17) -> #N/A | AZ17: =ABS($AZ$9-AR17) -> #N/A | BB17: =CMPA!AH17 -> #N/A | BC17: =CMPA!AI17 -> #N/A | BD17: =CMPA!AJ17 -> #N/A
A18: Outer span | B18: =C112/12 -> #N/A | C18: ft | G18: 14 | H18: =T158 -> #N/A | I18: =U158 -> #N/A | J18: =V158 -> #N/A | L18: =(I16+I17)/2*(H17-H16)-(J16+J17)/2*(H17-H16) -> #N/A | AI18: =H23 -> #N/A | AJ18: =I23 -> #N/A | AK18: =AJ18 -> #N/A | AN18: =P163 -> #N/A | AO18: =Q163 -> #N/A | BB18: =CMPA!AH18 -> #N/A | BC18: =CMPA!AI18 -> #N/A | BD18: =CMPA!AJ18 -> #N/A
A19: Outer Rise | B19: =C113/12 -> #N/A | C19: ft | G19: 15 | H19: =T159 -> #N/A | I19: =U159 -> #N/A | J19: =V159 -> #N/A | L19: =(I17+I18)/2*(H18-H17)-(J17+J18)/2*(H18-H17) -> #N/A | AI19: =AI17 -> #N/A | AJ19: =J22 -> #N/A | AK19: =AJ19 -> #N/A | AN19: =P162 -> #N/A | AO19: =R162 -> #N/A | AT19: min | AU19: lookup column header | AV19: lookup row header
A20: Inner Span | B20: =C120*2/12 -> #N/A | C20: ft | G20: 16 | H20: =T160 -> #N/A | I20: =U160 -> #N/A | J20: =V160 -> #N/A | L20: =(I18+I19)/2*(H19-H18)-(J18+J19)/2*(H19-H18) -> #N/A | AI20: =AI16 -> #N/A | AJ20: =J21 -> #N/A | AK20: =AJ20 -> #N/A | AN20: =P161 -> #N/A | AO20: =R161 -> #N/A | AT20: =MIN(AS10:AZ17) -> #N/A | AU20: {=SUMPRODUCT((AS10:AZ17=AT20)*(COLUMN(AS9:AZ9)-COLUMN(AS9)+1))} -> #N/A | AV20: {=SUMPRODUCT((AS10:AZ17=AT20)*(ROW(AR10:AR17)-ROW(AR10)+1))} -> #N/A
A21: Inner Rise | B21: =D120*2/12 -> #N/A | C21: ft | G21: 17 | H21: =T161 -> #N/A | I21: =U161 -> #N/A | J21: =V161 -> #N/A | L21: =(I19+I20)/2*(H20-H19)-(J19+J20)/2*(H20-H19) -> #N/A | AI21: =AI15 -> #N/A | AJ21: =J20 -> #N/A | AK21: =AJ21 -> #N/A | AN21: =P160 -> #N/A | AO21: =R160 -> #N/A | AU21: CMPA slope | AV21: HDPE slope
A22: Wall Thickness | B22: =C115/12 -> #N/A | C22: ft | G22: 18 | H22: =T162 -> #N/A | I22: =U162 -> #N/A | J22: =V162 -> #N/A | L22: =(I20+I21)/2*(H21-H20)-(J20+J21)/2*(H21-H20) -> #N/A | AI22: =AI14 -> #N/A | AJ22: =J19 -> #N/A | AK22: =AJ22 -> #N/A | AN22: =P159 -> #N/A | AO22: =R159 -> #N/A | AU22: {=INDEX(AS9:AZ9,1,AU20)} -> #N/A | AV22: {=INDEX(AR10:AR17,AV20,1)} -> #N/A
A23: Inlet Invert | B23: =CMPA!B6+'HDPE Liner'!B22 -> #N/A | C23: ft | G23: 19 | H23: =T163 -> #N/A | I23: =U163 -> #N/A | J23: =V163 -> #N/A | L23: =(I21+I22)/2*(H22-H21)-(J21+J22)/2*(H22-H21) -> #N/A | AI23: =AI13 -> #N/A | AJ23: =J18 -> #N/A | AK23: =AJ23 -> #N/A | AN23: =P158 -> #N/A | AO23: =R158 -> #N/A
A24: Outlet Invert | B24: =CMPA!B7+'HDPE Liner'!B22 -> #N/A | C24: ft | L24: =(I22+I23)/2*(H23-H22)-(J22+J23)/2*(H23-H22) -> #N/A | AI24: =AI12 -> #N/A | AJ24: =J17 -> #N/A | AK24: =AJ24 -> #N/A | AN24: =P157 -> #N/A | AO24: =R157 -> #N/A | AU24: X | AV24: Y
AI25: =AI11 -> #N/A | AJ25: =J16 -> #N/A | AK25: =AJ25 -> #N/A | AN25: =P156 -> #N/A | AO25: =R156 -> #N/A | AT25: CMPA Coord | AU25: =VLOOKUP(AU22,BB9:BD19,2) -> #N/A | AV25: =VLOOKUP(AU22,BB9:BD19,3) -> #N/A
AI26: =AI10 -> #N/A | AJ26: =J15 -> #N/A | AK26: =AJ26 -> #N/A | AN26: =P155 -> #N/A | AO26: =R155 -> #N/A | AT26: HDPE coord. | AU26: =VLOOKUP(AV22,AM9:AO17,2) -> #N/A | AV26: =VLOOKUP(AV22,AM9:AO17,3) -> #N/A
AI27: =AI9 -> #N/A | AJ27: =J14 -> #N/A | AK27: =AJ27 -> #N/A | AN27: =P154 -> #N/A | AO27: =R154 -> #N/A
AI28: =AI44 -> #N/A | AJ28: =J13 -> #N/A | AK28: =AJ28 -> #N/A | AN28: =P153 -> #N/A | AO28: =R153 -> #N/A | AT28: grout thickness | AU28: =SQRT((AV25-AV26)^2+(AU25-AU26)^2) -> #N/A | AV28: ft
AI29: =AI43 -> #N/A | AJ29: =J12 -> #N/A | AK29: =AJ29 -> #N/A | AN29: =P152 -> #N/A | AO29: =R152 -> #N/A | AU29: =AU28*12 -> #N/A | AV29: in
AI30: =AI42 -> #N/A | AJ30: =J11 -> #N/A | AK30: =AJ30 -> #N/A | AN30: =P151 -> #N/A | AO30: =R151 -> #N/A
AI31: =AI41 -> #N/A | AJ31: =J10 -> #N/A | AK31: =AJ31 -> #N/A | AN31: =P150 -> #N/A | AO31: =R150 -> #N/A | AT31: x | AU31: CMPA Y | AV31: HDPE Y
AI32: =AI40 -> #N/A | AJ32: =J9 -> #N/A | AK32: =AJ32 -> #N/A | AN32: =P149 -> #N/A | AO32: =R149 -> #N/A | AT32: =SQRT(((C119/12)^2-(D119/12)^2*CMPA!D16^2)/((D119/12)^2-(C119/12)^2)) -> #N/A | AU32: =CMPA!B24+SQRT(CMPA!D16^2-AT32^2) -> #N/A | AV32: =($D$119/12)+($D$119/12)*SQRT(1-AT32^2/($C$119/12)^2) -> #N/A
A33: INDEX LISTS | AI33: =AI39 -> #N/A | AJ33: =J8 -> #N/A | AK33: =AJ33 -> #N/A | AN33: =P148 -> #N/A | AO33: =R148 -> #N/A
D34: Span for | AI34: =AI38 -> #N/A | AJ34: =J7 -> #N/A | AK34: =AJ34 -> #N/A | AN34: =P147 -> #N/A | AO34: =R147 -> #N/A | AT34: Grout Thickness
D35: Desired | E35: Crushing | AI35: =AI37 -> #N/A | AJ35: =J6 -> #N/A | AK35: =AJ35 -> #N/A | AN35: =P146 -> #N/A | AO35: =R146 -> #N/A
A36: Index | B36: ID | C36: OD | D36: Rise (in) | E36: Ratio | AI36: =H5 -> #N/A | AJ36: =J5 -> #N/A | AK36: =AJ36 -> #N/A | AN36: =P145 -> #N/A | AO36: =R145 -> #N/A
L37: Size | AI37: =H6 -> #N/A | AJ37: =I6 -> #N/A | AK37: =AJ37 -> #N/A | AN37: =P146 -> #N/A | AO37: =Q146 -> #N/A
A38: 1 | B38: 10.1 | C38: 10.75 | D38: =MAX(1,2*C38-$B$8) -> #N/A | E38: =$C$103/D38 -> #N/A | F38: solid wall | G38: =MATCH(D99,E38:E73,-1) -> #N/A | AI38: =H7 -> #N/A | AJ38: =I7 -> #N/A | AK38: =AJ38 -> #N/A | AN38: =P147 -> #N/A | AO38: =Q147 -> #N/A
A39: 2 | B39: 12 | C39: 12.75 | D39: =MAX(1,2*C39-$B$8) -> #N/A | E39: =$C$103/D39 -> #N/A | F39: solid wall | L39: 18 | AI39: =H8 -> #N/A | AJ39: =I8 -> #N/A | AK39: =AJ39 -> #N/A | AN39: =P148 -> #N/A | AO39: =Q148 -> #N/A
A40: 3 | B40: 13.138 | C40: 14 | D40: =MAX(1,2*C40-$B$8) -> #N/A | E40: =$C$103/D40 -> #N/A | F40: solid wall | L40: 19.5 | AI40: =H9 -> #N/A | AJ40: =I9 -> #N/A | AK40: =AJ40 -> #N/A | AN40: =P149 -> #N/A | AO40: =Q149 -> #N/A
A41: 4 | B41: 15.016 | C41: 16 | D41: =MAX(1,2*C41-$B$8) -> #N/A | E41: =$C$103/D41 -> #N/A | F41: solid wall | L41: 21 | AI41: =H10 -> #N/A | AJ41: =I10 -> #N/A | AK41: =AJ41 -> #N/A | AN41: =P150 -> #N/A | AO41: =Q150 -> #N/A
A42: 5 | B42: 16.892 | C42: 18 | D42: =MAX(1,2*C42-$B$8) -> #N/A | E42: =$C$103/D42 -> #N/A | F42: solid wall | L42: 24 | AI42: =H11 -> #N/A | AJ42: =I11 -> #N/A | AK42: =AJ42 -> #N/A | AN42: =P151 -> #N/A | AO42: =Q151 -> #N/A
A43: 6 | B43: 18.771 | C43: 20 | D43: =MAX(1,2*C43-$B$8) -> #N/A | E43: =$C$103/D43 -> #N/A | F43: solid wall | L43: 27 | AI43: =H12 -> #N/A | AJ43: =I12 -> #N/A | AK43: =AJ43 -> #N/A | AN43: =P152 -> #N/A | AO43: =Q152 -> #N/A
A44: 7 | B44: 20.646 | C44: 22 | D44: =MAX(1,2*C44-$B$8) -> #N/A | E44: =$C$103/D44 -> #N/A | F44: solid wall | L44: 30 | AI44: =H13 -> #N/A | AJ44: =I13 -> #N/A | AK44: =AJ44 -> #N/A | AN44: =P153 -> #N/A | AO44: =Q153 -> #N/A
A45: 8 | B45: 22.524 | C45: 24 | D45: =MAX(1,2*C45-$B$8) -> #N/A | E45: =$C$103/D45 -> #N/A | F45: solid wall | L45: 33 | AI45: =H69 -> 0 | AJ45: =AJ9 -> #N/A | AK45: =AJ45 -> #N/A | AN45: =P154 -> #N/A | AO45: =Q154 -> #N/A
A46: 9 | B46: 24.3 | C46: 26 | D46: =MAX(1,2*C46-$B$8) -> #N/A | E46: =$C$103/D46 -> #N/A | F46: solid wall | L46: 36
A47: 10 | B47: 26.276 | C47: 28 | D47: =MAX(1,2*C47-$B$8) -> #N/A | E47: =$C$103/D47 -> #N/A | F47: solid wall | L47: 40
A48: 11 | B48: 28.21 | C48: 30 | D48: =MAX(1,2*C48-$B$8) -> #N/A | E48: =$C$103/D48 -> #N/A | F48: solid wall | L48: 42
A49: 12 | B49: 30.03 | C49: 32 | D49: =MAX(1,2*C49-$B$8) -> #N/A | E49: =$C$103/D49 -> #N/A | F49: solid wall | L49: 48
A50: 13 | B50: 33.784 | C50: 36 | D50: =MAX(1,2*C50-$B$8) -> #N/A | E50: =$C$103/D50 -> #N/A | F50: solid wall | L50: 54
A51: 14 | B51: 36 | C51: 40.8 | D51: =MAX(1,2*C51-$B$8) -> #N/A | E51: =$C$103/D51 -> #N/A | F51: profile wall | L51: 60
A52: 15 | B52: 39.416 | C52: 42 | D52: =MAX(1,2*C52-$B$8) -> #N/A | E52: =$C$103/D52 -> #N/A | F52: solid wall | L52: 66
A53: 16 | B53: 39 | C53: 43.4 | D53: =MAX(1,2*C53-$B$8) -> #N/A | E53: =$C$103/D53 -> #N/A | F53: profile wall | L53: 72
A54: 17 | B54: 40 | C54: 44.8 | D54: =MAX(1,2*C54-$B$8) -> #N/A | E54: =$C$103/D54 -> #N/A | F54: profile wall | L54: 78
A55: 18 | B55: 42 | C55: 46.9 | D55: =MAX(1,2*C55-$B$8) -> #N/A | E55: =$C$103/D55 -> #N/A | F55: profile wall | L55: 84
A56: 19 | B56: 45 | C56: 48 | D56: =MAX(1,2*C56-$B$8) -> #N/A | E56: =$C$103/D56 -> #N/A | F56: solid wall | L56: 90
A57: 20 | B57: 48 | C57: 53.4 | D57: =MAX(1,2*C57-$B$8) -> #N/A | E57: =$C$103/D57 -> #N/A | F57: profile wall | L57: 96
... A60: 23 | B60: 57 | C60: 62.72 | D60: =MAX(1,2*C60-$B$8) -> #N/A | E60: =$C$103/D60 -> #N/A | F60: profile wall | L60: 120
A61: 24 | B61: 59.021 | C61: 63.2 | D61: =MAX(1,2*C61-$B$8) -> #N/A | E61: =$C$103/D61 -> #N/A | F61: solid wall
A62: 25 | B62: 60 | C62: 66.3 | D62: =MAX(1,2*C62-$B$8) -> #N/A | E62: =$C$103/D62 -> #N/A | F62: profile wall
A63: 26 | B63: 63 | C63: 68.92 | D63: =MAX(1,2*C63-$B$8) -> #N/A | E63: =$C$103/D63 -> #N/A | F63: profile wall
A64: 27 | B64: 66 | C64: 72.7 | D64: =MAX(1,2*C64-$B$8) -> #N/A | E64: =$C$103/D64 -> #N/A | F64: profile wall
A65: 28 | B65: 72 | C65: 80.06 | D65: =MAX(1,2*C65-$B$8) -> #N/A | E65: =$C$103/D65 -> #N/A | F65: profile wall
A66: 29 | B66: 78 | C66: 85.5 | D66: =MAX(1,2*C66-$B$8) -> #N/A | E66: =$C$103/D66 -> #N/A | F66: profile wall
A67: 30 | B67: 84 | C67: 92.46 | D67: =MAX(1,2*C67-$B$8) -> #N/A | E67: =$C$103/D67 -> #N/A | F67: profile wall
A68: 31 | B68: 90 | C68: 98.3 | D68: =MAX(1,2*C68-$B$8) -> #N/A | E68: =$C$103/D68 -> #N/A | F68: profile wall
A69: 32 | B69: 96 | C69: 104.7 | D69: =MAX(1,2*C69-$B$8) -> #N/A | E69: =$C$103/D69 -> #N/A | F69: profile wall
A70: 33 | B70: 102 | C70: 111.1 | D70: =MAX(1,2*C70-$B$8) -> #N/A | E70: =$C$103/D70 -> #N/A | F70: profile wall
A71: 34 | B71: 108 | C71: 117.5 | D71: =MAX(1,2*C71-$B$8) -> #N/A | E71: =$C$103/D71 -> #N/A | F71: profile wall
A72: 35 | B72: 120 | C72: 130.2 | D72: =MAX(1,2*C72-$B$8) -> #N/A | E72: =$C$103/D72 -> #N/A | F72: profile wall
A73: 36 | B73: 132 | C73: 143 | D73: =MAX(1,2*C73-$B$8) -> #N/A | E73: =$C$103/D73 -> #N/A | F73: profile wall
L74: Type 2 (profile wall)
B78: Liner Information:
D80: Type 1
C81: Round OD | D81: =IF(ISBLANK($B$10),VLOOKUP($B$9,Structure_Data,3),VLOOKUP($B$10,Structure_Data,3)) -> #N/A
C82: Round ID | D82: =IF(ISBLANK($B$10),VLOOKUP($B$9,Structure_Data,2),VLOOKUP($B$10,Structure_Data,2)) -> #N/A
C84: Crushing Ratio | D84: =IF(ISBLANK($B$10),VLOOKUP($B$9,Structure_Data,5),VLOOKUP($B$10,Structure_Data,5)) -> #N/A
C86: Crushed OD Rise | D86: =B8 -> #N/A
C87: Crushed OD Span | D87: =IF(ISBLANK($B$10),VLOOKUP($B$9,Structure_Data,4),VLOOKUP($B$10,Structure_Data,4)) -> #N/A
C88: Crushed ID Rise | D88: =D86-(D81-D82) -> #N/A
C89: Crushed ID Span | D89: =D87-(D81-D82) -> #N/A
C91: Crushed OD Rise | D91: =D86/12 -> #N/A
C92: Crushed OD Span | D92: =D87/12 -> #N/A
C93: Crushed ID Rise | D93: =D88/12 -> #N/A
C94: Crushed ID Span | D94: =D89/12 -> #N/A
B95: Crushed ID (Area) | D95: =+PI()*(D93/2)*(D94/2) -> #N/A
C97: Gap at Top | D97: =B5-B8 -> #N/A
C98: Wall Thickness | D98: =((D81-D82)/2)/12 -> #N/A
C99: Max Crushing ratio | D99: 0.8
C100: wall type | D100: =IF(ISBLANK($B$10),VLOOKUP($B$9,Structure_Data,6),VLOOKUP($B$10,Structure_Data,6)) -> #N/A
B103: Desired Rise (outside) = | C103: =B8 -> #N/A | D103: inches
A109: COMPUTE INSIDE AND OUTSIDE ELLIPTICAL DIMENSIONS
N110: Elliptical coordinates in inches:
B111: Outside dimensions:
B112: Span: | C112: =D87 -> #N/A | D112: in | P112: OUTSIDE DIMENSIONS | T112: INSIDE DIMENSIONS
B113: Rise: | C113: =D86 -> #N/A | D113: in
O114: X/a | Q114: Y | R114: Y | U114: Y | V114: Y
B115: Wall: | C115: =D98*12 -> #N/A | D115: in | O115: Values | P115: X | Q115: Top | R115: Bottom | T115: X | U115: Top | V115: Bottom
C117: (span - X) | D117: (rise - Y) | O117: -1 | P117: =$C$119*O117 -> #N/A | Q117: =$D$119+$D$119*SQRT(1-O117^2) -> #N/A | R117: =$D$119-$D$119*SQRT(1-O117^2) -> #N/A | T117: =$C$120*O117 -> #N/A | U117: =$D$119+$D$120*SQRT(1-O117^2) -> #N/A | V117: =$D$119-$D$120*SQRT(1-O117^2) -> #N/A
C118: a | D118: b | O118: -0.99405714 | P118: =$C$119*O118 -> #N/A | Q118: =$D$119+$D$119*SQRT(1-O118^2) -> #N/A | R118: =$D$119-$D$119*SQRT(1-O118^2) -> #N/A | T118: =$C$120*O118 -> #N/A | U118: =$D$119+$D$120*SQRT(1-O118^2) -> #N/A | V118: =$D$119-$D$120*SQRT(1-O118^2) -> #N/A
...

Sheet CIPP Liner
A1: CIPP Coordinate Generator
A2: Input values
B3: radius | G3: Output Plot for HY8 | L3: Appx. Area Check
A4: B | B4: =CMPA!B18 -> #N/A | C4: in | H4: x | I4: y1 | J4: y2
A5: Rt | B5: =CMPA!D16-B13/12 -> #N/A | C5: ft | G5: 1 | H5: =-H23 -> #N/A | I5: =B4/12 -> #N/A | J5: =I5 -> #N/A | L5: =(I5+I6)/2*(H6-H5)-(J5+J6)/2*(H6-H5) -> #N/A
A6: Rb | B6: =CMPA!D15 -> #N/A | C6: ft | G6: 2 | H6: =-H22 -> #N/A | I6: =$B$21+SQRT($B$5^2-H6^2) -> #N/A | J6: =IF(ABS(H6)>$B$18,$B$23-SQRT(($B$7/12)^2-(H6+$B$24)^2),$B$26-SQRT($B$6^2-H6^2)) -> #N/A | L6: =(I6+I7)/2*(H7-H6)-(J6+J7)/2*(H7-H6) -> #N/A
A7: Corner | B7: =CMPA!B17 -> #N/A | C7: in | G7: 3 | H7: =-H21 -> #N/A | I7: =$B$21+SQRT($B$5^2-H7^2) -> #N/A | J7: =IF(ABS(H7)>$B$18,$B$23-SQRT(($B$7/12)^2-(H7+$B$24)^2),$B$26-SQRT($B$6^2-H7^2)) -> #N/A | L7: =(I7+I8)/2*(H8-H7)-(J7+J8)/2*(H8-H7) -> #N/A
G8: 4 | H8: =-H20 -> #N/A | I8: =$B$21+SQRT($B$5^2-H8^2) -> #N/A | J8: =IF(ABS(H8)>$B$18,$B$23-SQRT(($B$7/12)^2-(H8+$B$24)^2),$B$26-SQRT($B$6^2-H8^2)) -> #N/A | L8: =(I8+I9)/2*(H9-H8)-(J8+J9)/2*(H9-H8) -> #N/A | AI8: results for graph in excel
A9: Output | G9: 5 | H9: =-H19 -> #N/A | I9: =$B$21+SQRT($B$5^2-H9^2) -> #N/A | J9: =$B$26-SQRT($B$6^2-H9^2) -> #N/A | L9: =(I9+I10)/2*(H10-H9)-(J9+J10)/2*(H10-H9) -> #N/A | AI9: =H14 -> 0 | AJ9: =I14 -> #N/A | AK9: =AJ9+$B$13/12 -> #N/A
A10: appx waterway area | B10: =I26 -> #N/A | C10: sf | G10: 6 | H10: =-H18 -> #N/A | I10: =$B$21+SQRT($B$5^2-H10^2) -> #N/A | J10: =$B$26-SQRT($B$6^2-H10^2) -> #N/A | L10: =(I10+I11)/2*(H11-H10)-(J10+J11)/2*(H11-H10) -> #N/A | AI10: =H15 -> #N/A | AJ10: =I15 -> #N/A | AK10: =AJ10+$B$13/12 -> #N/A
A11: span | B11: =CMPA!D11-B13*2/12 -> #N/A | C11: ft | D11: =B11*12 -> #N/A | E11: in | G11: 7 | H11: =-H17 -> #N/A | I11: =$B$21+SQRT($B$5^2-H11^2) -> #N/A | J11: =$B$26-SQRT($B$6^2-H11^2) -> #N/A | L11: =(I11+I12)/2*(H12-H11)-(J11+J12)/2*(H12-H11) -> #N/A | AI11: =H16 -> #N/A | AJ11: =I16 -> #N/A | AK11: =AJ11+$B$13/12 -> #N/A
A12: rise | B12: =CMPA!D12-B13*2/12 -> #N/A | C12: ft | D12: =B12*12 -> #N/A | E12: in | G12: 8 | H12: =-H16 -> #N/A | I12: =$B$21+SQRT($B$5^2-H12^2) -> #N/A | J12: =$B$26-SQRT($B$6^2-H12^2) -> #N/A | L12: =(I12+I13)/2*(H13-H12)-(J12+J13)/2*(H13-H12) -> #N/A | AI12: =H17 -> #N/A | AJ12: =I17 -> #N/A | AK12: =AJ12+$B$13/12 -> #N/A
A13: CIPP thickness | B13: =IF(CMPA!D11>=3.5,IF(CMPA!D11>=5,IF(CMPA!D11>=7.25,IF(CMPA!D11>112/12,"No CIPP liner available","2"),"1.5"),"1"),"0.5") -> #N/A | C13: in | G13: 9 | H13: =-H15 -> #N/A | I13: =$B$21+SQRT($B$5^2-H13^2) -> #N/A | J13: =$B$26-SQRT($B$6^2-H13^2) -> #N/A | L13: =(I13+I14)/2*(H14-H13)-(J13+J14)/2*(H14-H13) -> #N/A | AI13: =H18 -> #N/A | AJ13: =I18 -> #N/A | AK13: =AJ13+$B$13/12 -> #N/A
A14: inlet invert | B14: =B13/12+CMPA!B6 -> #N/A | C14: ft | G14: 10 | H14: 0 | I14: =B12 -> #N/A | J14: =$B$26-SQRT($B$6^2-H14^2) -> #N/A | L14: =(I14+I15)/2*(H15-H14)-(J14+J15)/2*(H15-H14) -> #N/A | AI14: =H19 -> #N/A | AJ14: =I19 -> #N/A | AK14: =AJ14+$B$13/12 -> #N/A
A15: Outlet invert | B15: =B13/12+CMPA!B7 -> #N/A | C15: ft | G15: 11 | H15: =$H$14+$B$11/18*(G15-$G$14) -> #N/A | I15: =$B$21+SQRT($B$5^2-H15^2) -> #N/A | J15: =$B$26-SQRT($B$6^2-H15^2) -> #N/A | L15: =(I15+I16)/2*(H16-H15)-(J15+J16)/2*(H16-H15) -> #N/A | AI15: =H20 -> #N/A | AJ15: =I20 -> #N/A | AK15: =AJ15+$B$13/12 -> #N/A
G16: 12 | H16: =$H$14+$B$11/18*(G16-$G$14) -> #N/A | I16: =$B$21+SQRT($B$5^2-H16^2) -> #N/A | J16: =$B$26-SQRT($B$6^2-H16^2) -> #N/A | L16: =(I16+I17)/2*(H17-H16)-(J16+J17)/2*(H17-H16) -> #N/A | AI16: =H21 -> #N/A | AJ16: =I21 -> #N/A | AK16: =AJ16+$B$13/12 -> #N/A
A17: Calculations (do not touch cells) | G17: 13 | H17: =$H$14+$B$11/18*(G17-$G$14) -> #N/A | I17: =$B$21+SQRT($B$5^2-H17^2) -> #N/A | J17: =$B$26-SQRT($B$6^2-H17^2) -> #N/A | L17: =(I17+I18)/2*(H18-H17)-(J17+J18)/2*(H18-H17) -> #N/A | AI17: =H22 -> #N/A | AJ17: =I22 -> #N/A | AK17: =AJ17+$B$13/12 -> #N/A
A18: center of corner radius | B18: =H23-B7/12 -> #N/A | G18: 14 | H18: =$H$14+$B$11/18*(G18-$G$14) -> #N/A | I18: =$B$21+SQRT($B$5^2-H18^2) -> #N/A | J18: =$B$26-SQRT($B$6^2-H18^2) -> #N/A | L18: =(I18+I19)/2*(H19-H18)-(J18+J19)/2*(H19-H18) -> #N/A | AI18: =H23 -> #N/A | AJ18: =I23 -> #N/A | AK18: =AJ18+$B$13/12 -> #N/A
G19: 15 | H19: =$H$14+$B$11/18*(G19-$G$14) -> #N/A | I19: =$B$21+SQRT($B$5^2-H19^2) -> #N/A | J19: =$B$26-SQRT($B$6^2-H19^2) -> #N/A | L19: =(I19+I20)/2*(H20-H19)-(J19+J20)/2*(H20-H19) -> #N/A | AI19: =AI17 -> #N/A | AJ19: =J22 -> #N/A | AK19: =AJ19+$B$13/12 -> #N/A
A20: y=k+sqrt(r^2-(x-h)^2) | G20: 16 | H20: =$H$14+$B$11/36*((G20-$G$14)*2+1) -> #N/A | I20: =$B$21+SQRT($B$5^2-H20^2) -> #N/A | J20: =IF(ABS(H20)>$B$18,$B$23-SQRT(($B$7/12)^2-(H20-$B$24)^2),$B$26-SQRT($B$6^2-H20^2)) -> #N/A | L20: =(I20+I21)/2*(H21-H20)-(J20+J21)/2*(H21-H20) -> #N/A | AI20: =AI16 -> #N/A | AJ20: =J21 -> #N/A | AK20: =AJ20+$B$13/12 -> #N/A
A21: k-top | B21: =B12-B5 -> #N/A | G21: 17 | H21: =$H$14+$B$11/36*((G21-$G$14)*2+1) -> #N/A | I21: =$B$21+SQRT($B$5^2-H21^2) -> #N/A | J21: =IF(ABS(H21)>$B$18,$B$23-SQRT(($B$7/12)^2-(H21-$B$24)^2),$B$26-SQRT($B$6^2-H21^2)) -> #N/A | L21: =(I21+I22)/2*(H22-H21)-(J21+J22)/2*(H22-H21) -> #N/A | AI21: =AI15 -> #N/A | AJ21: =J20 -> #N/A | AK21: =AJ21+$B$13/12 -> #N/A
G22: 18 | H22: =$H$14+$B$11/36*((G22-$G$14)*2+1) -> #N/A | I22: =$B$21+SQRT($B$5^2-H22^2) -> #N/A | J22: =IF(ABS(H22)>$B$18,$B$23-SQRT(($B$7/12)^2-(H22-$B$24)^2),$B$26-SQRT($B$6^2-H22^2)) -> #N/A | L22: =(I22+I23)/2*(H23-H22)-(J22+J23)/2*(H23-H22) -> #N/A | AI22: =AI14 -> #N/A | AJ22: =J19 -> #N/A | AK22: =AJ22+$B$13/12 -> #N/A
A23: k-side | B23: =B4/12 -> #N/A | G23: 19 | H23: =$H$14+$B$11/18*(G23-$G$14) -> #N/A | I23: =B4/12 -> #N/A | J23: =I23 -> #N/A | AI23: =AI13 -> #N/A | AJ23: =J18 -> #N/A | AK23: =AJ23+$B$13/12 -> #N/A
A24: h-side | B24: =B18 -> #N/A | AI24: =AI12 -> #N/A | AJ24: =J17 -> #N/A | AK24: =AJ24+$B$13/12 -> #N/A
I25: Calculated Area Check | AI25: =AI11 -> #N/A | AJ25: =J16 -> #N/A | AK25: =AJ25+$B$13/12 -> #N/A
A26: k-bottom | B26: =B6 -> #N/A | I26: =SUM(L5:L22) -> #N/A | AI26: =AI10 -> #N/A | AJ26: =J15 -> #N/A | AK26: =AJ26+$B$13/12 -> #N/A
AI27: =AI9 -> 0 | AJ27: =J14 -> #N/A | AK27: =AJ27+$B$13/12 -> #N/A
AI28: =AI44 -> #N/A | AJ28: =J13 -> #N/A | AK28: =AJ28+$B$13/12 -> #N/A
AI29: =AI43 -> #N/A | AJ29: =J12 -> #N/A | AK29: =AJ29+$B$13/12 -> #N/A
AI30: =AI42 -> #N/A | AJ30: =J11 -> #N/A | AK30: =AJ30+$B$13/12 -> #N/A
AI31: =AI41 -> #N/A | AJ31: =J10 -> #N/A | AK31: =AJ31+$B$13/12 -> #N/A
AI32: =AI40 -> #N/A | AJ32: =J9 -> #N/A | AK32: =AJ32+$B$13/12 -> #N/A
AI33: =AI39 -> #N/A | AJ33: =J8 -> #N/A | AK33: =AJ33+$B$13/12 -> #N/A
AI34: =AI38 -> #N/A | AJ34: =J7 -> #N/A | AK34: =AJ34+$B$13/12 -> #N/A
AI35: =AI37 -> #N/A | AJ35: =J6 -> #N/A | AK35: =AJ35+$B$13/12 -> #N/A
AI36: =H5 -> #N/A | AJ36: =J5 -> #N/A | AK36: =AJ36+$B$13/12 -> #N/A
AI37: =H6 -> #N/A | AJ37: =I6 -> #N/A | AK37: =AJ37+$B$13/12 -> #N/A
AI38: =H7 -> #N/A | AJ38: =I7 -> #N/A | AK38: =AJ38+$B$13/12 -> #N/A
AI39: =H8 -> #N/A | AJ39: =I8 -> #N/A | AK39: =AJ39+$B$13/12 -> #N/A
AI40: =H9 -> #N/A | AJ40: =I9 -> #N/A | AK40: =AJ40+$B$13/12 -> #N/A
AI41: =H10 -> #N/A | AJ41: =I10 -> #N/A | AK41: =AJ41+$B$13/12 -> #N/A
AI42: =H11 -> #N/A | AJ42: =I11 -> #N/A | AK42: =AJ42+$B$13/12 -> #N/A
AI43: =H12 -> #N/A | AJ43: =I12 -> #N/A | AK43: =AJ43+$B$13/12 -> #N/A
AI44: =H13 -> #N/A | AJ44: =I13 -> #N/A | AK44: =AJ44+$B$13/12 -> #N/A
AI45: =S52 -> 0 | AJ45: =AJ9 -> #N/A | AK45: =AJ45+$B$13/12 -> #N/A

Sheet Paved Invert
A1: Paved Invert Coordinate Generator
A2: Input values
B3: radius | G3: Output Plot for HY8 | L3: Appx. Area Check
A4: B | B4: =IF(D11<48,"N/A",CMPA!B18) -> #N/A | C4: in | H4: x | I4: y1 | J4: y2
A5: Rt | B5: =IF(D11<48,"N/A",CMPA!D16) -> #N/A | C5: ft | G5: 1 | H5: =-H23 -> #N/A | I5: =B4/12 -> #N/A | J5: =I5 -> #N/A | L5: =(I5+I6)/2*(H6-H5)-(J5+J6)/2*(H6-H5) -> #N/A
A6: Rb | B6: =IF(D11<48,"N/A",CMPA!D15-B13/12) -> #N/A | C6: ft | G6: 2 | H6: =-H22 -> #N/A | I6: =$B$21+SQRT($B$5^2-H6^2) -> #N/A | J6: =IF(ABS(H6)>$B$18,$B$23-SQRT(($B$7/12)^2-(H6+$B$24)^2),$B$26-SQRT($B$6^2-H6^2)) -> #N/A | L6: =(I6+I7)/2*(H7-H6)-(J6+J7)/2*(H7-H6) -> #N/A
A7: Corner | B7: =IF(D11<48,"N/A",CMPA!B17) -> #N/A | C7: in | G7: 3 | H7: =-H21 -> #N/A | I7: =$B$21+SQRT($B$5^2-H7^2) -> #N/A | J7: =IF(ABS(H7)>$B$18,$B$23-SQRT(($B$7/12)^2-(H7+$B$24)^2),$B$26-SQRT($B$6^2-H7^2)) -> #N/A | L7: =(I7+I8)/2*(H8-H7)-(J7+J8)/2*(H8-H7) -> #N/A
G8: 4 | H8: =-H20 -> #N/A | I8: =$B$21+SQRT($B$5^2-H8^2) -> #N/A | J8: =$B$26-SQRT($B$6^2-H8^2)+($B$13-3)/12 -> #N/A | L8: =(I8+I9)/2*(H9-H8)-(J8+J9)/2*(H9-H8) -> #N/A | AI8: results for graph in excel
A9: Output Values | G9: 5 | H9: =-H19 -> #N/A | I9: =$B$21+SQRT($B$5^2-H9^2) -> #N/A | J9: =$B$26-SQRT($B$6^2-H9^2)+($B$13-1)/12 -> #N/A | L9: =(I9+I10)/2*(H10-H9)-(J9+J10)/2*(H10-H9) -> #N/A | AI9: =H14 -> 0 | AJ9: =I14 -> #N/A | AK9: =AJ9 -> #N/A
A10: appx waterway area | B10: =I26 -> #N/A | C10: sf | G10: 6 | H10: =-H18 -> #N/A | I10: =$B$21+SQRT($B$5^2-H10^2) -> #N/A | J10: =$B$26-SQRT($B$6^2-H10^2)+$B$13/12 -> #N/A | L10: =(I10+I11)/2*(H11-H10)-(J10+J11)/2*(H11-H10) -> #N/A | AI10: =H15 -> #N/A | AJ10: =I15 -> #N/A | AK10: =AJ10 -> #N/A
A11: span | B11: =CMPA!D11 -> #N/A | C11: ft | D11: =B11*12 -> #N/A | E11: in | G11: 7 | H11: =-H17 -> #N/A | I11: =$B$21+SQRT($B$5^2-H11^2) -> #N/A | J11: =$B$26-SQRT($B$6^2-H11^2)+$B$13/12 -> #N/A | L11: =(I11+I12)/2*(H12-H11)-(J11+J12)/2*(H12-H11) -> #N/A | AI11: =H16 -> #N/A | AJ11: =I16 -> #N/A | AK11: =AJ11 -> #N/A
A12: rise | B12: =CMPA!D12-B13/12 -> #N/A | C12: ft | D12: =B12*12 -> #N/A | E12: in | G12: 8 | H12: =-H16 -> #N/A | I12: =$B$21+SQRT($B$5^2-H12^2) -> #N/A | J12: =$B$26-SQRT($B$6^2-H12^2)+$B$13/12 -> #N/A | L12: =(I12+I13)/2*(H13-H12)-(J12+J13)/2*(H13-H12) -> #N/A | AI12: =H17 -> #N/A | AJ12: =I17 -> #N/A | AK12: =AJ12 -> #N/A
A13: Paved invert Thickness | B13: 5 | C13: in | G13: 9 | H13: =-H15 -> #N/A | I13: =$B$21+SQRT($B$5^2-H13^2) -> #N/A | J13: =$B$26-SQRT($B$6^2-H13^2)+$B$13/12 -> #N/A | L13: =(I13+I14)/2*(H14-H13)-(J13+J14)/2*(H14-H13) -> #N/A | AI13: =H18 -> #N/A | AJ13: =I18 -> #N/A | AK13: =AJ13 -> #N/A
A14: Inlet invert | B14: =B13/12+CMPA!B6 -> 0.41666667 | C14: ft | G14: 10 | H14: 0 | I14: =B12+B13/12 -> #N/A | J14: =$B$26-SQRT($B$6^2-H14^2)+$B$13/12 -> #N/A | L14: =(I14+I15)/2*(H15-H14)-(J14+J15)/2*(H15-H14) -> #N/A | AI14: =H19 -> #N/A | AJ14: =I19 -> #N/A | AK14: =AJ14 -> #N/A
A15: outlet invert | B15: =B13/12+CMPA!B7 -> 0.41666667 | C15: ft | G15: 11 | H15: =$H$14+$B$11/18*(G15-$G$14) -> #N/A | I15: =$B$21+SQRT($B$5^2-H15^2) -> #N/A | J15: =$B$26-SQRT($B$6^2-H15^2)+$B$13/12 -> #N/A | L15: =(I15+I16)/2*(H16-H15)-(J15+J16)/2*(H16-H15) -> #N/A | AI15: =H20 -> #N/A | AJ15: =I20 -> #N/A | AK15: =AJ15 -> #N/A
G16: 12 | H16: =$H$14+$B$11/18*(G16-$G$14) -> #N/A | I16: =$B$21+SQRT($B$5^2-H16^2) -> #N/A | J16: =$B$26-SQRT($B$6^2-H16^2)+$B$13/12 -> #N/A | L16: =(I16+I17)/2*(H17-H16)-(J16+J17)/2*(H17-H16) -> #N/A | AI16: =H21 -> #N/A | AJ16: =I21 -> #N/A | AK16: =AJ16 -> #N/A
A17: Calculations (do not touch cells) | G17: 13 | H17: =$H$14+$B$11/18*(G17-$G$14) -> #N/A | I17: =$B$21+SQRT($B$5^2-H17^2) -> #N/A | J17: =$B$26-SQRT($B$6^2-H17^2)+$B$13/12 -> #N/A | L17: =(I17+I18)/2*(H18-H17)-(J17+J18)/2*(H18-H17) -> #N/A | AI17: =H22 -> #N/A | AJ17: =I22 -> #N/A | AK17: =AJ17 -> #N/A
A18: center of corner radius | B18: =H23-B7/12 -> #N/A | G18: 14 | H18: =$H$14+$B$11/18*(G18-$G$14) -> #N/A | I18: =$B$21+SQRT($B$5^2-H18^2) -> #N/A | J18: =$B$26-SQRT($B$6^2-H18^2)+$B$13/12 -> #N/A | L18: =(I18+I19)/2*(H19-H18)-(J18+J19)/2*(H19-H18) -> #N/A | AI18: =H23 -> #N/A | AJ18: =I23 -> #N/A | AK18: =AJ18 -> #N/A
G19: 15 | H19: =$H$14+$B$11/18*(G19-$G$14) -> #N/A | I19: =$B$21+SQRT($B$5^2-H19^2) -> #N/A | J19: =$B$26-SQRT($B$6^2-H19^2)+($B$13-1)/12 -> #N/A | L19: =(I19+I20)/2*(H20-H19)-(J19+J20)/2*(H20-H19) -> #N/A | AI19: =AI17 -> #N/A | AJ19: =J22 -> #N/A | AK19: =AJ19 -> #N/A
A20: y=k+sqrt(r^2-(x-h)^2) | G20: 16 | H20: =$H$14+$B$11/36*((G20-$G$14)*2+1) -> #N/A | I20: =$B$21+SQRT($B$5^2-H20^2) -> #N/A | J20: =$B$26-SQRT($B$6^2-H20^2)+($B$13-3)/12 -> #N/A | L20: =(I20+I21)/2*(H21-H20)-(J20+J21)/2*(H21-H20) -> #N/A | AI20: =AI16 -> #N/A | AJ20: =J21 -> #N/A | AK20: =AJ20 -> #N/A
A21: k-top | B21: =CMPA!$D$12-B5 -> #N/A | G21: 17 | H21: =$H$14+$B$11/36*((G21-$G$14)*2+1) -> #N/A | I21: =$B$21+SQRT($B$5^2-H21^2) -> #N/A | J21: =IF(ABS(H21)>$B$18,$B$23-SQRT(($B$7/12)^2-(H21-$B$24)^2),$B$26-SQRT($B$6^2-H21^2)) -> #N/A | L21: =(I21+I22)/2*(H22-H21)-(J21+J22)/2*(H22-H21) -> #N/A | AI21: =AI15 -> #N/A | AJ21: =J20 -> #N/A | AK21: =AJ21 -> #N/A
G22: 18 | H22: =$H$14+$B$11/36*((G22-$G$14)*2+1) -> #N/A | I22: =$B$21+SQRT($B$5^2-H22^2) -> #N/A | J22: =IF(ABS(H22)>$B$18,$B$23-SQRT(($B$7/12)^2-(H22-$B$24)^2),$B$26-SQRT($B$6^2-H22^2)) -> #N/A | L22: =(I22+I23)/2*(H23-H22)-(J22+J23)/2*(H23-H22) -> #N/A | AI22: =AI14 -> #N/A | AJ22: =J19 -> #N/A | AK22: =AJ22 -> #N/A
A23: k-side | B23: =B4/12 -> #N/A | G23: 19 | H23: =$H$14+$B$11/18*(G23-$G$14) -> #N/A | I23: =B4/12 -> #N/A | J23: =I23 -> #N/A | AI23: =AI13 -> #N/A | AJ23: =J18 -> #N/A | AK23: =AJ23 -> #N/A
A24: h-side | B24: =B18 -> #N/A | AI24: =AI12 -> #N/A | AJ24: =J17 -> #N/A | AK24: =AJ24 -> #N/A
I25: Calculated Area Check | AI25: =AI11 -> #N/A | AJ25: =J16 -> #N/A | AK25: =AJ25 -> #N/A
A26: k-bottom | B26: =B6 -> #N/A | I26: =SUM(L5:L22) -> #N/A | AI26: =AI10 -> #N/A | AJ26: =J15 -> #N/A | AK26: =AJ26 -> #N/A
AI27: =AI9 -> 0 | AJ27: =J14 -> #N/A | AK27: =AJ27 -> #N/A
AI28: =AI44 -> #N/A | AJ28: =J13 -> #N/A | AK28: =AJ28 -> #N/A
AI29: =AI43 -> #N/A | AJ29: =J12 -> #N/A | AK29: =AJ29 -> #N/A
AI30: =AI42 -> #N/A | AJ30: =J11 -> #N/A | AK30: =AJ30 -> #N/A
AI31: =AI41 -> #N/A | AJ31: =J10 -> #N/A | AK31: =AJ31 -> #N/A
AI32: =AI40 -> #N/A | AJ32: =J9 -> #N/A | AK32: =AJ32 -> #N/A
AI33: =AI39 -> #N/A | AJ33: =J8 -> #N/A | AK33: =AJ33 -> #N/A
AI34: =AI38 -> #N/A | AJ34: =J7 -> #N/A | AK34: =AJ34 -> #N/A
AI35: =AI37 -> #N/A | AJ35: =J6 -> #N/A | AK35: =AJ35 -> #N/A
AI36: =H5 -> #N/A | AJ36: =J5 -> #N/A | AK36: =AJ36 -> #N/A
AI37: =H6 -> #N/A | AJ37: =I6 -> #N/A | AK37: =AJ37 -> #N/A
AI38: =H7 -> #N/A | AJ38: =I7 -> #N/A | AK38: =AJ38 -> #N/A
AI39: =H8 -> #N/A | AJ39: =I8 -> #N/A | AK39: =AJ39 -> #N/A
AI40: =H9 -> #N/A | AJ40: =I9 -> #N/A | AK40: =AJ40 -> #N/A
AI41: =H10 -> #N/A | AJ41: =I10 -> #N/A | AK41: =AJ41 -> #N/A
AI42: =H11 -> #N/A | AJ42: =I11 -> #N/A | AK42: =AJ42 -> #N/A
AI43: =H12 -> #N/A | AJ43: =I12 -> #N/A | AK43: =AJ43 -> #N/A
AI44: =H13 -> #N/A | AJ44: =I13 -> #N/A | AK44: =AJ44 -> #N/A
AI45: =H54 -> 0 | AJ45: =AJ9 -> #N/A | AK45: =AJ45 -> #N/A

Sheet Steel Liner
A1: Steel Liner Coordinate Generator
A2: Input values
B3: radius | D3: =IF(CMPA!B11<72,"Note: standard steel liner sizes are not available for this size of host pipe and may not be available for construction. Some points may need altered for the model.","") -> #N/A | G3: Output Plot for HY8 | L3: Appx. Area Check
A4: B | B4: =CMPA!B18 -> #N/A | C4: in | H4: x | I4: y1 | J4: y2
A5: Rt | B5: =CMPA!D16-(B13)/12 -> #N/A | C5: ft | G5: 1 | H5: =-H23 -> #N/A | I5: =B4/12 -> #N/A | J5: =I5 -> #N/A | L5: =(I5+I6)/2*(H6-H5)-(J5+J6)/2*(H6-H5) -> #N/A
A6: Rb | B6: =CMPA!D15 -> #N/A | C6: ft | G6: 2 | H6: =-H22 -> #N/A | I6: =IF(ABS(H6)>B20,$B$25+SQRT(($B$7/12)^2-(H6+$B$26)^2),AVERAGE($B$25+SQRT(($B$7/12)^2-(H6+$B$26)^2),$B$23+SQRT($B$5^2-H6^2))) -> #N/A | J6: =IF(ABS(H6)>$B$20,$B$25-SQRT(($B$7/12)^2-(H6+$B$26)^2),$B$28-SQRT($B$6^2-H6^2)) -> #N/A | L6: =(I6+I7)/2*(H7-H6)-(J6+J7)/2*(H7-H6) -> #N/A
A7: Corner | B7: =CMPA!B17 -> #N/A | C7: in | G7: 3 | H7: =-H21 -> #N/A | I7: =IF(CMPA!B11<72,$B$25+SQRT(($B$7/12)^2-(H7+$B$26)^2),$B$23+SQRT($B$5^2-H7^2)) -> #N/A | J7: =IF(ABS(H7)>$B$20,$B$25-SQRT(($B$7/12)^2-(H7+$B$26)^2),$B$28-SQRT($B$6^2-H7^2)) -> #N/A | L7: =(I7+I8)/2*(H8-H7)-(J7+J8)/2*(H8-H7) -> #N/A
G8: 4 | H8: =-H20 -> #N/A | I8: =$B$23+SQRT($B$5^2-H8^2) -> #N/A | J8: =IF(ABS(H8)>$B$20,AVERAGE($B$25-SQRT(($B$7/12)^2-(H8+$B$26)^2),$B$28-SQRT($B$6^2-H8^2)),$B$28-SQRT($B$6^2-H8^2)) -> #N/A | L8: =(I8+I9)/2*(H9-H8)-(J8+J9)/2*(H9-H8) -> #N/A | AF8: En situ boundary | AI8: results for graph in excel
A9: Output Values | G9: 5 | H9: =-H19 -> #N/A | I9: =$B$23+SQRT($B$5^2-H9^2) -> #N/A | J9: =$B$28-SQRT($B$6^2-H9^2) -> #N/A | L9: =(I9+I10)/2*(H10-H9)-(J9+J10)/2*(H10-H9) -> #N/A | AF9: x | AG9: y | AI9: =H14 -> 0 | AJ9: =I14 -> #N/A | AK9: =AJ9+$B$15/12 -> #N/A
A10: appx waterway area | B10: =I26 -> #N/A | C10: sf | G10: 6 | H10: =-H18 -> #N/A | I10: =$B$23+SQRT($B$5^2-H10^2) -> #N/A | J10: =$B$28-SQRT($B$6^2-H10^2) -> #N/A | L10: =(I10+I11)/2*(H11-H10)-(J10+J11)/2*(H11-H10) -> #N/A | AE10: top | AF10: =IF(ISBLANK(CMPA!$B$4),"",-CMPA!$B$4/2)/12 -> #VALUE! | AG10: =CMPA!$B$5/12 -> 0 | AI10: =H15 -> #N/A | AJ10: =I15 -> #N/A | AK10: =AJ10+$B$15/12 -> #N/A
A11: span | B11: =CMPA!D11-(B14+B15)/12*2 -> #N/A | C11: ft | D11: =B11*12 -> #N/A | E11: in | G11: 7 | H11: =-H17 -> #N/A | I11: =$B$23+SQRT($B$5^2-H11^2) -> #N/A | J11: =$B$28-SQRT($B$6^2-H11^2) -> #N/A | L11: =(I11+I12)/2*(H12-H11)-(J11+J12)/2*(H12-H11) -> #N/A | AF11: =IF(ISBLANK(CMPA!$B$4),"",CMPA!$B$4/2)/12 -> #VALUE! | AG11: =CMPA!$B$5/12 -> 0 | AI11: =H16 -> #N/A | AJ11: =I16 -> #N/A | AK11: =AJ11+$B$15/12 -> #N/A
A12: rise | B12: =CMPA!D12-(B15*2+B13)/12 -> #N/A | C12: ft | D12: =B12*12 -> #N/A | E12: in | G12: 8 | H12: =-H16 -> #N/A | I12: =$B$23+SQRT($B$5^2-H12^2) -> #N/A | J12: =$B$28-SQRT($B$6^2-H12^2) -> #N/A | L12: =(I12+I13)/2*(H13-H12)-(J12+J13)/2*(H13-H12) -> #N/A | AE12: Span | AF12: =IF(ISBLANK(CMPA!$B$5),"",-CMPA!$B$4/2)/12 -> #VALUE! | AG12: 0 | AI12: =H17 -> #N/A | AJ12: =I17 -> #N/A | AK12: =AJ12+$B$15/12 -> #N/A
A13: Grout Thickness Top | B13: 4 | C13: in | G13: 9 | H13: =-H15 -> #N/A | I13: =$B$23+SQRT($B$5^2-H13^2) -> #N/A | J13: =$B$28-SQRT($B$6^2-H13^2) -> #N/A | L13: =(I13+I14)/2*(H14-H13)-(J13+J14)/2*(H14-H13) -> #N/A | AF13: =IF(ISBLANK(CMPA!$B$5),"",-CMPA!$B$4/2)/12 -> #VALUE! | AG13: =IF(AF13="","",AG10) -> #VALUE! | AI13: =H18 -> #N/A | AJ13: =I18 -> #N/A | AK13: =AJ13+$B$15/12 -> #N/A
A14: Grout Thickness Sides | B14: 3 | C14: in | G14: 10 | H14: 0 | I14: =B12 -> #N/A | J14: =$B$28-SQRT($B$6^2-H14^2) -> #N/A | L14: =(I14+I15)/2*(H15-H14)-(J14+J15)/2*(H15-H14) -> #N/A | AI14: =H19 -> #N/A | AJ14: =I19 -> #N/A | AK14: =AJ14+$B$15/12 -> #N/A
A15: Liner Wall Thickness | B15: 1 | C15: in | G15: 11 | H15: =$H$14+$B$11/18*(G15-$G$14) -> #N/A | I15: =$B$23+SQRT($B$5^2-H15^2) -> #N/A | J15: =$B$28-SQRT($B$6^2-H15^2) -> #N/A | L15: =(I15+I16)/2*(H16-H15)-(J15+J16)/2*(H16-H15) -> #N/A | AI15: =H20 -> #N/A | AJ15: =I20 -> #N/A | AK15: =AJ15+$B$15/12 -> #N/A
A16: inlet invert | B16: =B15/12+CMPA!B6 -> 0.083333333 | C16: ft | G16: 12 | H16: =$H$14+$B$11/18*(G16-$G$14) -> #N/A | I16: =$B$23+SQRT($B$5^2-H16^2) -> #N/A | J16: =$B$28-SQRT($B$6^2-H16^2) -> #N/A | L16: =(I16+I17)/2*(H17-H16)-(J16+J17)/2*(H17-H16) -> #N/A | AI16: =H21 -> #N/A | AJ16: =I21 -> #N/A | AK16: =AJ16+$B$15/12 -> #N/A
A17: outlet invert | B17: =B15/12+CMPA!B7 -> 0.083333333 | C17: ft | G17: 13 | H17: =$H$14+$B$11/18*(G17-$G$14) -> #N/A | I17: =$B$23+SQRT($B$5^2-H17^2) -> #N/A | J17: =$B$28-SQRT($B$6^2-H17^2) -> #N/A | L17: =(I17+I18)/2*(H18-H17)-(J17+J18)/2*(H18-H17) -> #N/A | AI17: =H22 -> #N/A | AJ17: =I22 -> #N/A | AK17: =AJ17+$B$15/12 -> #N/A
G18: 14 | H18: =$H$14+$B$11/18*(G18-$G$14) -> #N/A | I18: =$B$23+SQRT($B$5^2-H18^2) -> #N/A | J18: =$B$28-SQRT($B$6^2-H18^2) -> #N/A | L18: =(I18+I19)/2*(H19-H18)-(J18+J19)/2*(H19-H18) -> #N/A | AI18: =H23 -> #N/A | AJ18: =I23 -> #N/A | AK18: =AJ18+$B$15/12 -> #N/A
A19: Calculations (do not touch cells) | G19: 15 | H19: =$H$14+$B$11/18*(G19-$G$14) -> #N/A | I19: =$B$23+SQRT($B$5^2-H19^2) -> #N/A | J19: =$B$28-SQRT($B$6^2-H19^2) -> #N/A | L19: =(I19+I20)/2*(H20-H19)-(J19+J20)/2*(H20-H19) -> #N/A | AI19: =AI17 -> #N/A | AJ19: =J22 -> #N/A | AK19: =AJ19+$B$15/12 -> #N/A
A20: center of corner radius | B20: =H23-B7/12 -> #N/A | G20: 16 | H20: =$H$14+$B$11/36*((G20-$G$14)*2+1) -> #N/A | I20: =$B$23+SQRT($B$5^2-H20^2) -> #N/A | J20: =IF(ABS(H20)>$B$20,AVERAGE($B$25-SQRT(($B$7/12)^2-(H20-$B$26)^2),$B$28-SQRT($B$6^2-H20^2)),$B$28-SQRT($B$6^2-H20^2)) -> #N/A | L20: =(I20+I21)/2*(H21-H20)-(J20+J21)/2*(H21-H20) -> #N/A | AI20: =AI16 -> #N/A | AJ20: =J21 -> #N/A | AK20: =AJ20+$B$15/12 -> #N/A
G21: 17 | H21: =$H$14+$B$11/36*((G21-$G$14)*2+1) -> #N/A | I21: =IF(CMPA!B11<72,$B$25+SQRT(($B$7/12)^2-(H7+$B$26)^2),$B$23+SQRT($B$5^2-H7^2)) -> #N/A | J21: =IF(ABS(H21)>$B$20,$B$25-SQRT(($B$7/12)^2-(H21-$B$26)^2),$B$28-SQRT($B$6^2-H21^2)) -> #N/A | L21: =(I21+I22)/2*(H22-H21)-(J21+J22)/2*(H22-H21) -> #N/A | AI21: =AI15 -> #N/A | AJ21: =J20 -> #N/A | AK21: =AJ21+$B$15/12 -> #N/A
A22: y=k+sqrt(r^2-(x-h)^2) | G22: 18 | H22: =$H$14+$B$11/36*((G22-$G$14)*2+1) -> #N/A | I22: =IF(ABS(H22)>B20,$B$25+SQRT(($B$7/12)^2-(H6+$B$26)^2),AVERAGE($B$25+SQRT(($B$7/12)^2-(H6+$B$26)^2),$B$23+SQRT($B$5^2-H22^2))) -> #N/A | J22: =IF(ABS(H22)>$B$20,$B$25-SQRT(($B$7/12)^2-(H22-$B$26)^2),$B$28-SQRT($B$6^2-H22^2)) -> #N/A | L22: =(I22+I23)/2*(H23-H22)-(J22+J23)/2*(H23-H22) -> #N/A | AI22: =AI14 -> #N/A | AJ22: =J19 -> #N/A | AK22: =AJ22+$B$15/12 -> #N/A
A23: k-top | B23: =B12-B5 -> #N/A | G23: 19 | H23: =$H$14+$B$11/18*(G23-$G$14) -> #N/A | I23: =B4/12 -> #N/A | J23: =I23 -> #N/A | AI23: =AI13 -> #N/A | AJ23: =J18 -> #N/A | AK23: =AJ23+$B$15/12 -> #N/A
AI24: =AI12 -> #N/A | AJ24: =J17 -> #N/A | AK24: =AJ24+$B$15/12 -> #N/A
A25: k-side | B25: =B4/12 -> #N/A | I25: Calculated Area Check | AI25: =AI11 -> #N/A | AJ25: =J16 -> #N/A | AK25: =AJ25+$B$15/12 -> #N/A
A26: h-side | B26: =B20 -> #N/A | I26: =SUM(L5:L22) -> #N/A | AI26: =AI10 -> #N/A | AJ26: =J15 -> #N/A | AK26: =AJ26+$B$15/12 -> #N/A
AI27: =AI9 -> 0 | AJ27: =J14 -> #N/A | AK27: =AJ27+$B$15/12 -> #N/A
A28: k-bottom | B28: =B6 -> #N/A | AI28: =AI44 -> #N/A | AJ28: =J13 -> #N/A | AK28: =AJ28+$B$15/12 -> #N/A
AI29: =AI43 -> #N/A | AJ29: =J12 -> #N/A | AK29: =AJ29+$B$15/12 -> #N/A
AI30: =AI42 -> #N/A | AJ30: =J11 -> #N/A | AK30: =AJ30+$B$15/12 -> #N/A
P31: 44897 | AI31: =AI41 -> #N/A | AJ31: =J10 -> #N/A | AK31: =AJ31+$B$15/12 -> #N/A
P32: =P31+45 -> 44942 | AI32: =AI40 -> #N/A | AJ32: =J9 -> #N/A | AK32: =AJ32+$B$15/12 -> #N/A
AI33: =AI39 -> #N/A | AJ33: =J8 -> #N/A | AK33: =AJ33+$B$15/12 -> #N/A
AI34: =AI38 -> #N/A | AJ34: =J7 -> #N/A | AK34: =AJ34+$B$15/12 -> #N/A
AI35: =AI37 -> #N/A | AJ35: =J6 -> #N/A | AK35: =AJ35+$B$15/12 -> #N/A
AI36: =H5 -> #N/A | AJ36: =J5 -> #N/A | AK36: =AJ36+$B$15/12 -> #N/A
AI37: =H6 -> #N/A | AJ37: =I6 -> #N/A | AK37: =AJ37+$B$15/12 -> #N/A
AI38: =H7 -> #N/A | AJ38: =I7 -> #N/A | AK38: =AJ38+$B$15/12 -> #N/A
AI39: =H8 -> #N/A | AJ39: =I8 -> #N/A | AK39: =AJ39+$B$15/12 -> #N/A
AI40: =H9 -> #N/A | AJ40: =I9 -> #N/A | AK40: =AJ40+$B$15/12 -> #N/A
AI41: =H10 -> #N/A | AJ41: =I10 -> #N/A | AK41: =AJ41+$B$15/12 -> #N/A
AI42: =H11 -> #N/A | AJ42: =I11 -> #N/A | AK42: =AJ42+$B$15/12 -> #N/A
AI43: =H12 -> #N/A | AJ43: =I12 -> #N/A | AK43: =AJ43+$B$15/12 -> #N/A
AI44: =H13 -> #N/A | AJ44: =I13 -> #N/A | AK44: =AJ44+$B$15/12 -> #N/A
AI45: =H54 -> 0 | AJ45: =AJ9 -> #N/A | AK45: =AJ45+$B$15/12 -> #N/A

Sheet Version History
A1: Version | B1: Date | C1: Revisor | D1: What changed?
A2: 1 | B2: Fall 2020 | C2: AJS | D2: Created
A3: 2 | B3: 45282 | C3: AJS | D3: 1)updated HDPE liner sizes to meet current sizes schedule 250 profile walls as well as solid walls. This update also includes making the choice between solid and profile wall obsolete and the sheet now chooses the best fit option but another option may be used if desired., streamlined inputs, actual sizes put in for current 18 inch or less list, updated CIPP extents to a more precise 8 ft equivelent diameter pipe
D4: 2) crteated a dropdown list of structures to streamline inputs of a CMPA radii. This process detected errors with in HY8 that are described in bullet 3 below.
D5: 3) Actual sizes were inputted for the current 18 inch or less list. It was noticed that HY8 was using nominal size spans and rises from the Modern Sewer Design Handbook instead of actual sizes used in design today. This issue created a "darth vader helmet" look to each of the CMPA's in the program which resulted in about 10% of area loss in some structures. When corrected to the actual spans and rises, the area calculated matched within a few tenths of a square foot of the published data. These specific structures now give a warning to the user to input the calculated CMPA coordinates into the User defined function of HY8 to correct this issue.
D6: 4)updated CIPP extents to a more precise 8 ft equivelent diameter pipe
D7: 5) updated steel liner inputs to better fit a pipe arch shape
A8: 3 | B8: 44986 | C8: AJS | D8: updated measured span and length for graph of steel liner
A9: 4 | B9: 45020 | C9: AJS | D9: 81x59 CMPA table selection number corrected from 3 to 4
