Workbook

Sheet PolicyInputs
A1: Choose Scenario | B1: 1 | C1: 1: Sure & Steady… 2: Burning Rubber… 3: Green Fleet… 4: Misery Index
A4: Revenue Alternatives | E4: Existing state share | F4: Desired state share | G4: Existing rate | H4: Desired rate (2017) | I4: Periodic increase (every 3 years) | J4: Escalation Factor | K4: Transition | M4: Shut-off year | N4: Notes | P4: Calculated Rates
A5: Alternative Category | B5: Alternative Number | C5: Alternative Description | D5: Instructions | K5: Start of transition | L5: End of transition | P5: 2015 | Q5: =P5+1 -> 2016 | R5: =Q5+1 -> 2017 | S5: =R5+1 -> 2018 | T5: =S5+1 -> 2019 | U5: =T5+1 -> 2020 | V5: =U5+1 -> 2021 | W5: =V5+1 -> 2022 | X5: =W5+1 -> 2023 | ... AJ5: =AI5+1 -> 2035
A6: Fuel Tax | B6: 4.3.1 - 4.3.5 | C6: Existing Fuel Excise Tax - Gasoline | D6: Enter the desired tax rate in dollars per gallon for each fuel type for a one-time increase (column F). Optionally, indicate a periodic increase amount to be added every 3 years (column G) and/or an escalation factor for the excise tax rate (CPI or CCI). | E6: 0.57 | F6: 0.57 | G6: 0.18 | H6: 0.28 | I6: 0 | J6: None | K6: 2036 | L6: 2036 | M6: 2036 | P6: =G6 -> 0.18 | Q6: =P6 -> 0.18 | R6: =H6 -> 0.28 | S6: =IF($M6-S$5<=0,0,IF($L6-S$5<=0,0,IF(AND($I6>0,MOD(S5-2017,3)=0),R6+$I6,R6)*IF($J6="cpi",(1+TechnicalInputs!$D$2),IF($J6="cci",(1+TechnicalInputs!$D$3),IF($J6="none",1,"error"))))) -> 0.28 | T6: =IF($M6-T$5<=0,0,IF($L6-T$5<=0,0,IF(AND($I6>0,MOD(T5-2017,3)=0),S6+$I6,S6)*IF($J6="cpi",(1+TechnicalInputs!$D$2),IF($J6="cci",(1+TechnicalInputs!$D$3),IF($J6="none",1,"error"))))) -> 0.28 | U6: =IF($M6-U$5<=0,0,IF($L6-U$5<=0,0,IF(AND($I6>0,MOD(U5-2017,3)=0),T6+$I6,T6)*IF($J6="cpi",(1+TechnicalInputs!$D$2),IF($J6="cci",(1+TechnicalInputs!$D$3),IF($J6="none",1,"error"))))) -> 0.28 | V6: =IF($M6-V$5<=0,0,IF($L6-V$5<=0,0,IF(AND($I6>0,MOD(V5-2017,3)=0),U6+$I6,U6)*IF($J6="cpi",(1+TechnicalInputs!$D$2),IF($J6="cci",(1+TechnicalInputs!$D$3),IF($J6="none",1,"error"))))) -> 0.28 | W6: =IF($M6-W$5<=0,0,IF($L6-W$5<=0,0,IF(AND($I6>0,MOD(W5-2017,3)=0),V6+$I6,V6)*IF($J6="cpi",(1+TechnicalInputs!$D$2),IF($J6="cci",(1+TechnicalInputs!$D$3),IF($J6="none",1,"error"))))) -> 0.28 | X6: =IF($M6-X$5<=0,0,IF($L6-X$5<=0,0,IF(AND($I6>0,MOD(X5-2017,3)=0),W6+$I6,W6)*IF($J6="cpi",(1+TechnicalInputs!$D$2),IF($J6="cci",(1+TechnicalInputs!$D$3),IF($J6="none",1,"error"))))) -> 0.28 | Y6: =IF($M6-Y$5<=0,0,IF($L6-Y$5<=0,0,IF(AND($I6>0,MOD(Y5-2017,3)=0),X6+$I6,X6)*IF($J6="cpi",(1+TechnicalInputs!$D$2),IF($J6="cci",(1+TechnicalInputs!$D$3),IF($J6="none",1,"error"))))) -> 0.28 | Z6: =IF($M6-Z$5<=0,0,IF($L6-Z$5<=0,0,IF(AND($I6>0,MOD(Z5-2017,3)=0),Y6+$I6,Y6)*IF($J6="cpi",(1+TechnicalInputs!$D$2),IF($J6="cci",(1+TechnicalInputs!$D$3),IF($J6="none",1,"error"))))) -> 0.28 | ... AJ6: =IF($M6-AJ$5<=0,0,IF($L6-AJ$5<=0,0,IF(AND($I6>0,MOD(AJ5-2017,3)=0),AI6+$I6,AI6)*IF($J6="cpi",(1+TechnicalInputs!$D$2),IF($J6="cci",(1+TechnicalInputs!$D$3),IF($J6="none",1,"error"))))) -> 0.28
C7: Existing Fuel Excise Tax - Diesel | E7: 0.52 | F7: 0.52 | G7: 0.16 | H7: 0.16 | I7: 0 | J7: None | K7: 2036 | L7: 2036 | M7: 2036 | P7: =G7 -> 0.16 | Q7: =P7 -> 0.16 | R7: =H7 -> 0.16 | S7: =IF($M7-S$5<=0,0,IF($L7-S$5<=0,0,IF(AND($I7>0,MOD(S5-2017,3)=0),R7+$I7,R7)*IF($J7="cpi",(1+TechnicalInputs!$D$2),IF($J7="cci",(1+TechnicalInputs!$D$3),IF($J7="none",1,"error"))))) -> 0.16 | T7: =IF($M7-T$5<=0,0,IF($L7-T$5<=0,0,IF(AND($I7>0,MOD(T5-2017,3)=0),S7+$I7,S7)*IF($J7="cpi",(1+TechnicalInputs!$D$2),IF($J7="cci",(1+TechnicalInputs!$D$3),IF($J7="none",1,"error"))))) -> 0.16 | U7: =IF($M7-U$5<=0,0,IF($L7-U$5<=0,0,IF(AND($I7>0,MOD(U5-2017,3)=0),T7+$I7,T7)*IF($J7="cpi",(1+TechnicalInputs!$D$2),IF($J7="cci",(1+TechnicalInputs!$D$3),IF($J7="none",1,"error"))))) -> 0.16 | V7: =IF($M7-V$5<=0,0,IF($L7-V$5<=0,0,IF(AND($I7>0,MOD(V5-2017,3)=0),U7+$I7,U7)*IF($J7="cpi",(1+TechnicalInputs!$D$2),IF($J7="cci",(1+TechnicalInputs!$D$3),IF($J7="none",1,"error"))))) -> 0.16 | W7: =IF($M7-W$5<=0,0,IF($L7-W$5<=0,0,IF(AND($I7>0,MOD(W5-2017,3)=0),V7+$I7,V7)*IF($J7="cpi",(1+TechnicalInputs!$D$2),IF($J7="cci",(1+TechnicalInputs!$D$3),IF($J7="none",1,"error"))))) -> 0.16 | X7: =IF($M7-X$5<=0,0,IF($L7-X$5<=0,0,IF(AND($I7>0,MOD(X5-2017,3)=0),W7+$I7,W7)*IF($J7="cpi",(1+TechnicalInputs!$D$2),IF($J7="cci",(1+TechnicalInputs!$D$3),IF($J7="none",1,"error"))))) -> 0.16 | Y7: =IF($M7-Y$5<=0,0,IF($L7-Y$5<=0,0,IF(AND($I7>0,MOD(Y5-2017,3)=0),X7+$I7,X7)*IF($J7="cpi",(1+TechnicalInputs!$D$2),IF($J7="cci",(1+TechnicalInputs!$D$3),IF($J7="none",1,"error"))))) -> 0.16 | Z7: =IF($M7-Z$5<=0,0,IF($L7-Z$5<=0,0,IF(AND($I7>0,MOD(Z5-2017,3)=0),Y7+$I7,Y7)*IF($J7="cpi",(1+TechnicalInputs!$D$2),IF($J7="cci",(1+TechnicalInputs!$D$3),IF($J7="none",1,"error"))))) -> 0.16 | ... AJ7: =IF($M7-AJ$5<=0,0,IF($L7-AJ$5<=0,0,IF(AND($I7>0,MOD(AJ5-2017,3)=0),AI7+$I7,AI7)*IF($J7="cpi",(1+TechnicalInputs!$D$2),IF($J7="cci",(1+TechnicalInputs!$D$3),IF($J7="none",1,"error"))))) -> 0.16
C8: Existing Fuel Excise Tax - Surtax | E8: 0.78 | F8: 0.78 | G8: 0.11 | H8: 0.11 | I8: 0 | J8: None | K8: 2036 | L8: 2036 | M8: 2036 | P8: =G8 -> 0.11 | Q8: =P8 -> 0.11 | R8: =H8 -> 0.11 | S8: =IF($M8-S$5<=0,0,IF($L8-S$5<=0,0,IF(AND($I8>0,MOD(S5-2017,3)=0),R8+$I8,R8)*IF($J8="cpi",(1+TechnicalInputs!$D$2),IF($J8="cci",(1+TechnicalInputs!$D$3),IF($J8="none",1,"error"))))) -> 0.11 | T8: =IF($M8-T$5<=0,0,IF($L8-T$5<=0,0,IF(AND($I8>0,MOD(T5-2017,3)=0),S8+$I8,S8)*IF($J8="cpi",(1+TechnicalInputs!$D$2),IF($J8="cci",(1+TechnicalInputs!$D$3),IF($J8="none",1,"error"))))) -> 0.11 | U8: =IF($M8-U$5<=0,0,IF($L8-U$5<=0,0,IF(AND($I8>0,MOD(U5-2017,3)=0),T8+$I8,T8)*IF($J8="cpi",(1+TechnicalInputs!$D$2),IF($J8="cci",(1+TechnicalInputs!$D$3),IF($J8="none",1,"error"))))) -> 0.11 | V8: =IF($M8-V$5<=0,0,IF($L8-V$5<=0,0,IF(AND($I8>0,MOD(V5-2017,3)=0),U8+$I8,U8)*IF($J8="cpi",(1+TechnicalInputs!$D$2),IF($J8="cci",(1+TechnicalInputs!$D$3),IF($J8="none",1,"error"))))) -> 0.11 | W8: =IF($M8-W$5<=0,0,IF($L8-W$5<=0,0,IF(AND($I8>0,MOD(W5-2017,3)=0),V8+$I8,V8)*IF($J8="cpi",(1+TechnicalInputs!$D$2),IF($J8="cci",(1+TechnicalInputs!$D$3),IF($J8="none",1,"error"))))) -> 0.11 | X8: =IF($M8-X$5<=0,0,IF($L8-X$5<=0,0,IF(AND($I8>0,MOD(X5-2017,3)=0),W8+$I8,W8)*IF($J8="cpi",(1+TechnicalInputs!$D$2),IF($J8="cci",(1+TechnicalInputs!$D$3),IF($J8="none",1,"error"))))) -> 0.11 | Y8: =IF($M8-Y$5<=0,0,IF($L8-Y$5<=0,0,IF(AND($I8>0,MOD(Y5-2017,3)=0),X8+$I8,X8)*IF($J8="cpi",(1+TechnicalInputs!$D$2),IF($J8="cci",(1+TechnicalInputs!$D$3),IF($J8="none",1,"error"))))) -> 0.11 | Z8: =IF($M8-Z$5<=0,0,IF($L8-Z$5<=0,0,IF(AND($I8>0,MOD(Z5-2017,3)=0),Y8+$I8,Y8)*IF($J8="cpi",(1+TechnicalInputs!$D$2),IF($J8="cci",(1+TechnicalInputs!$D$3),IF($J8="none",1,"error"))))) -> 0.11 | ... AJ8: =IF($M8-AJ$5<=0,0,IF($L8-AJ$5<=0,0,IF(AND($I8>0,MOD(AJ5-2017,3)=0),AI8+$I8,AI8)*IF($J8="cpi",(1+TechnicalInputs!$D$2),IF($J8="cci",(1+TechnicalInputs!$D$3),IF($J8="none",1,"error"))))) -> 0.11
B9: 4.3.7 | C9: Sales tax on motor fuel | D9: Enter new sales tax rate for fuel (above 7% goes to transportation). | E9: N/A | F9: 1 | G9: 0.07 | H9: 0.07 | K9: 2036 | L9: 2036 | M9: 2036 | P9: 0 | Q9: 0 | R9: =MAX(0,H9-0.07) -> 0 | S9: =IF($M9-S$5<=0,0,IF($L9-S$5<=0,0,R9)) -> 0 | T9: =IF($M9-T$5<=0,0,IF($L9-T$5<=0,0,S9)) -> 0 | U9: =IF($M9-U$5<=0,0,IF($L9-U$5<=0,0,T9)) -> 0 | V9: =IF($M9-V$5<=0,0,IF($L9-V$5<=0,0,U9)) -> 0 | W9: =IF($M9-W$5<=0,0,IF($L9-W$5<=0,0,V9)) -> 0 | X9: =IF($M9-X$5<=0,0,IF($L9-X$5<=0,0,W9)) -> 0 | Y9: =IF($M9-Y$5<=0,0,IF($L9-Y$5<=0,0,X9)) -> 0 | Z9: =IF($M9-Z$5<=0,0,IF($L9-Z$5<=0,0,Y9)) -> 0 | ... AJ9: =IF($M9-AJ$5<=0,0,IF($L9-AJ$5<=0,0,AI9)) -> 0
A10: Vehicle & Driver Taxes | B10: 4.4.1 | C10: Operator (driver) license fee | D10: Enter the desired amount to charge per year for a driver license. | E10: 0.66 | F10: 0.66 | G10: 2.92 | H10: 2.92 | J10: None | M10: 2036 | P10: =G10 -> 2.92 | Q10: =P10 -> 2.92 | R10: =H10 -> 2.92 | S10: =IF($M10-S$5<=0,0,IF($J10="cpi",R10*(1+TechnicalInputs!$D$2),IF($J10="cci",R10(1+TechnicalInputs!$D$3),IF($J10="none",R10,"error")))) -> 2.92 | T10: =IF($M10-T$5<=0,0,IF($J10="cpi",S10*(1+TechnicalInputs!$D$2),IF($J10="cci",S10(1+TechnicalInputs!$D$3),IF($J10="none",S10,"error")))) -> 2.92 | U10: =IF($M10-U$5<=0,0,IF($J10="cpi",T10*(1+TechnicalInputs!$D$2),IF($J10="cci",T10(1+TechnicalInputs!$D$3),IF($J10="none",T10,"error")))) -> 2.92 | V10: =IF($M10-V$5<=0,0,IF($J10="cpi",U10*(1+TechnicalInputs!$D$2),IF($J10="cci",U10(1+TechnicalInputs!$D$3),IF($J10="none",U10,"error")))) -> 2.92 | W10: =IF($M10-W$5<=0,0,IF($J10="cpi",V10*(1+TechnicalInputs!$D$2),IF($J10="cci",V10(1+TechnicalInputs!$D$3),IF($J10="none",V10,"error")))) -> 2.92 | X10: =IF($M10-X$5<=0,0,IF($J10="cpi",W10*(1+TechnicalInputs!$D$2),IF($J10="cci",W10(1+TechnicalInputs!$D$3),IF($J10="none",W10,"error")))) -> 2.92 | Y10: =IF($M10-Y$5<=0,0,IF($J10="cpi",X10*(1+TechnicalInputs!$D$2),IF($J10="cci",X10(1+TechnicalInputs!$D$3),IF($J10="none",X10,"error")))) -> 2.92 | Z10: =IF($M10-Z$5<=0,0,IF($J10="cpi",Y10*(1+TechnicalInputs!$D$2),IF($J10="cci",Y10(1+TechnicalInputs!$D$3),IF($J10="none",Y10,"error")))) -> 2.92 | AA10: =IF($M10-AA$5<=0,0,IF($J10="cpi",Z10*(1+TechnicalInputs!$D$2),IF($J10="cci",Z10(1+TechnicalInputs!$D$3),IF($J10="none",Z10,"error")))) -> 2.92 | AB10: =IF($M10-AB$5<=0,0,IF($J10="cpi",AA10*(1+TechnicalInputs!$D$2),IF($J10="cci",AA10(1+TechnicalInputs!$D$3),IF($J10="none",AA10,"error")))) -> 2.92 | AC10: =IF($M10-AC$5<=0,0,IF($J10="cpi",AB10*(1+TechnicalInputs!$D$2),IF($J10="cci",AB10(1+TechnicalInputs!$D$3),IF($J10="none",AB10,"error")))) -> 2.92 | AD10: =IF($M10-AD$5<=0,0,IF($J10="cpi",AC10*(1+TechnicalInputs!$D$2),IF($J10="cci",AC10(1+TechnicalInputs!$D$3),IF($J10="none",AC10,"error")))) -> 2.92 | AE10: =IF($M10-AE$5<=0,0,IF($J10="cpi",AD10*(1+TechnicalInputs!$D$2),IF($J10="cci",AD10(1+TechnicalInputs!$D$3),IF($J10="none",AD10,"error")))) -> 2.92 | AF10: =IF($M10-AF$5<=0,0,IF($J10="cpi",AE10*(1+TechnicalInputs!$D$2),IF($J10="cci",AE10(1+TechnicalInputs!$D$3),IF($J10="none",AE10,"error")))) -> 2.92 | AG10: =IF($M10-AG$5<=0,0,IF($J10="cpi",AF10*(1+TechnicalInputs!$D$2),IF($J10="cci",AF10(1+TechnicalInputs!$D$3),IF($J10="none",AF10,"error")))) -> 2.92 | AH10: =IF($M10-AH$5<=0,0,IF($J10="cpi",AG10*(1+TechnicalInputs!$D$2),IF($J10="cci",AG10(1+TechnicalInputs!$D$3),IF($J10="none",AG10,"error")))) -> 2.92 | AI10: =IF($M10-AI$5<=0,0,IF($J10="cpi",AH10*(1+TechnicalInputs!$D$2),IF($J10="cci",AH10(1+TechnicalInputs!$D$3),IF($J10="none",AH10,"error")))) -> 2.92 | AJ10: =IF($M10-AJ$5<=0,0,IF($J10="cpi",AI10*(1+TechnicalInputs!$D$2),IF($J10="cci",AI10(1+TechnicalInputs!$D$3),IF($J10="none",AI10,"error")))) -> 2.92
B11: 4.4.2 | C11: Passenger vehicle registration fee | D11: Enter the desired amount to charge per year for vehicle registration. | E11: 0.66 | F11: 0.66 | G11: 21.05 | H11: 21.05 | J11: None | M11: 2036 | P11: =G11*TechnicalInputs!D35 -> 28.207 | Q11: =P11 -> 28.207 | R11: =H11*TechnicalInputs!D35 -> 28.207 | S11: =IF($M11-S$5<=0,0,IF($J11="cpi",R11*(1+TechnicalInputs!$D$2),IF($J11="cci",R11(1+TechnicalInputs!$D$3),IF($J11="none",R11,"error")))) -> 28.207 | T11: =IF($M11-T$5<=0,0,IF($J11="cpi",S11*(1+TechnicalInputs!$D$2),IF($J11="cci",S11(1+TechnicalInputs!$D$3),IF($J11="none",S11,"error")))) -> 28.207 | U11: =IF($M11-U$5<=0,0,IF($J11="cpi",T11*(1+TechnicalInputs!$D$2),IF($J11="cci",T11(1+TechnicalInputs!$D$3),IF($J11="none",T11,"error")))) -> 28.207 | V11: =IF($M11-V$5<=0,0,IF($J11="cpi",U11*(1+TechnicalInputs!$D$2),IF($J11="cci",U11(1+TechnicalInputs!$D$3),IF($J11="none",U11,"error")))) -> 28.207 | W11: =IF($M11-W$5<=0,0,IF($J11="cpi",V11*(1+TechnicalInputs!$D$2),IF($J11="cci",V11(1+TechnicalInputs!$D$3),IF($J11="none",V11,"error")))) -> 28.207 | X11: =IF($M11-X$5<=0,0,IF($J11="cpi",W11*(1+TechnicalInputs!$D$2),IF($J11="cci",W11(1+TechnicalInputs!$D$3),IF($J11="none",W11,"error")))) -> 28.207 | Y11: =IF($M11-Y$5<=0,0,IF($J11="cpi",X11*(1+TechnicalInputs!$D$2),IF($J11="cci",X11(1+TechnicalInputs!$D$3),IF($J11="none",X11,"error")))) -> 28.207 | Z11: =IF($M11-Z$5<=0,0,IF($J11="cpi",Y11*(1+TechnicalInputs!$D$2),IF($J11="cci",Y11(1+TechnicalInputs!$D$3),IF($J11="none",Y11,"error")))) -> 28.207 | AA11: =IF($M11-AA$5<=0,0,IF($J11="cpi",Z11*(1+TechnicalInputs!$D$2),IF($J11="cci",Z11(1+TechnicalInputs!$D$3),IF($J11="none",Z11,"error")))) -> 28.207 | AB11: =IF($M11-AB$5<=0,0,IF($J11="cpi",AA11*(1+TechnicalInputs!$D$2),IF($J11="cci",AA11(1+TechnicalInputs!$D$3),IF($J11="none",AA11,"error")))) -> 28.207 | AC11: =IF($M11-AC$5<=0,0,IF($J11="cpi",AB11*(1+TechnicalInputs!$D$2),IF($J11="cci",AB11(1+TechnicalInputs!$D$3),IF($J11="none",AB11,"error")))) -> 28.207 | AD11: =IF($M11-AD$5<=0,0,IF($J11="cpi",AC11*(1+TechnicalInputs!$D$2),IF($J11="cci",AC11(1+TechnicalInputs!$D$3),IF($J11="none",AC11,"error")))) -> 28.207 | AE11: =IF($M11-AE$5<=0,0,IF($J11="cpi",AD11*(1+TechnicalInputs!$D$2),IF($J11="cci",AD11(1+TechnicalInputs!$D$3),IF($J11="none",AD11,"error")))) -> 28.207 | AF11: =IF($M11-AF$5<=0,0,IF($J11="cpi",AE11*(1+TechnicalInputs!$D$2),IF($J11="cci",AE11(1+TechnicalInputs!$D$3),IF($J11="none",AE11,"error")))) -> 28.207 | AG11: =IF($M11-AG$5<=0,0,IF($J11="cpi",AF11*(1+TechnicalInputs!$D$2),IF($J11="cci",AF11(1+TechnicalInputs!$D$3),IF($J11="none",AF11,"error")))) -> 28.207 | AH11: =IF($M11-AH$5<=0,0,IF($J11="cpi",AG11*(1+TechnicalInputs!$D$2),IF($J11="cci",AG11(1+TechnicalInputs!$D$3),IF($J11="none",AG11,"error")))) -> 28.207 | AI11: =IF($M11-AI$5<=0,0,IF($J11="cpi",AH11*(1+TechnicalInputs!$D$2),IF($J11="cci",AH11(1+TechnicalInputs!$D$3),IF($J11="none",AH11,"error")))) -> 28.207 | AJ11: =IF($M11-AJ$5<=0,0,IF($J11="cpi",AI11*(1+TechnicalInputs!$D$2),IF($J11="cci",AI11(1+TechnicalInputs!$D$3),IF($J11="none",AI11,"error")))) -> 28.207
C12: IRP | D12: Enter percentage increase across the board from existing schedule. | E12: 0.53 | F12: 0.53 | G12: See schedule | H12: 0 | J12: None | M12: 2036 | P12: 0 | Q12: =P12 -> 0 | R12: =H12 -> 0 | S12: =IF($M12-S$5<=0,0,R12) -> 0 | T12: =IF($M12-T$5<=0,0,S12) -> 0 | U12: =IF($M12-U$5<=0,0,T12) -> 0 | V12: =IF($M12-V$5<=0,0,U12) -> 0 | W12: =IF($M12-W$5<=0,0,V12) -> 0 | X12: =IF($M12-X$5<=0,0,W12) -> 0 | Y12: =IF($M12-Y$5<=0,0,X12) -> 0 | Z12: =IF($M12-Z$5<=0,0,Y12) -> 0 | ... AJ12: =IF($M12-AJ$5<=0,0,AI12) -> 0
B13: 4.4.3 | C13: Passenger vehicle excise tax | D13: Enter percentage increase across the board from existing schedule. | E13: 0 | F13: 1 | G13: See schedule | H13: 0 | M13: 2036 | P13: 0 | Q13: =P13 -> 0 | R13: =H13 -> 0 | S13: =IF($M13-S$5<=0,0,R13) -> 0 | T13: =IF($M13-T$5<=0,0,S13) -> 0 | U13: =IF($M13-U$5<=0,0,T13) -> 0 | V13: =IF($M13-V$5<=0,0,U13) -> 0 | W13: =IF($M13-W$5<=0,0,V13) -> 0 | X13: =IF($M13-X$5<=0,0,W13) -> 0 | Y13: =IF($M13-Y$5<=0,0,X13) -> 0 | Z13: =IF($M13-Z$5<=0,0,Y13) -> 0 | ... AJ13: =IF($M13-AJ$5<=0,0,AI13) -> 0
B14: 4.4.6 | C14: Plug-in electric vehicle tax | D14: Enter per-vehicle annual fee for electric vehicles only. | E14: N/A | F14: 1 | G14: N/A | H14: 0 | J14: None | M14: 2036 | P14: 0 | Q14: =P14 -> 0 | R14: =H14 -> 0 | S14: =IF($M14-S$5<=0,0,IF($J14="cpi",R14*(1+TechnicalInputs!$D$2),IF($J14="cci",R14(1+TechnicalInputs!$D$3),IF($J14="none",R14,"error")))) -> 0 | T14: =IF($M14-T$5<=0,0,IF($J14="cpi",S14*(1+TechnicalInputs!$D$2),IF($J14="cci",S14(1+TechnicalInputs!$D$3),IF($J14="none",S14,"error")))) -> 0 | U14: =IF($M14-U$5<=0,0,IF($J14="cpi",T14*(1+TechnicalInputs!$D$2),IF($J14="cci",T14(1+TechnicalInputs!$D$3),IF($J14="none",T14,"error")))) -> 0 | V14: =IF($M14-V$5<=0,0,IF($J14="cpi",U14*(1+TechnicalInputs!$D$2),IF($J14="cci",U14(1+TechnicalInputs!$D$3),IF($J14="none",U14,"error")))) -> 0 | W14: =IF($M14-W$5<=0,0,IF($J14="cpi",V14*(1+TechnicalInputs!$D$2),IF($J14="cci",V14(1+TechnicalInputs!$D$3),IF($J14="none",V14,"error")))) -> 0 | X14: =IF($M14-X$5<=0,0,IF($J14="cpi",W14*(1+TechnicalInputs!$D$2),IF($J14="cci",W14(1+TechnicalInputs!$D$3),IF($J14="none",W14,"error")))) -> 0 | Y14: =IF($M14-Y$5<=0,0,IF($J14="cpi",X14*(1+TechnicalInputs!$D$2),IF($J14="cci",X14(1+TechnicalInputs!$D$3),IF($J14="none",X14,"error")))) -> 0 | Z14: =IF($M14-Z$5<=0,0,IF($J14="cpi",Y14*(1+TechnicalInputs!$D$2),IF($J14="cci",Y14(1+TechnicalInputs!$D$3),IF($J14="none",Y14,"error")))) -> 0 | AA14: =IF($M14-AA$5<=0,0,IF($J14="cpi",Z14*(1+TechnicalInputs!$D$2),IF($J14="cci",Z14(1+TechnicalInputs!$D$3),IF($J14="none",Z14,"error")))) -> 0 | AB14: =IF($M14-AB$5<=0,0,IF($J14="cpi",AA14*(1+TechnicalInputs!$D$2),IF($J14="cci",AA14(1+TechnicalInputs!$D$3),IF($J14="none",AA14,"error")))) -> 0 | AC14: =IF($M14-AC$5<=0,0,IF($J14="cpi",AB14*(1+TechnicalInputs!$D$2),IF($J14="cci",AB14(1+TechnicalInputs!$D$3),IF($J14="none",AB14,"error")))) -> 0 | AD14: =IF($M14-AD$5<=0,0,IF($J14="cpi",AC14*(1+TechnicalInputs!$D$2),IF($J14="cci",AC14(1+TechnicalInputs!$D$3),IF($J14="none",AC14,"error")))) -> 0 | AE14: =IF($M14-AE$5<=0,0,IF($J14="cpi",AD14*(1+TechnicalInputs!$D$2),IF($J14="cci",AD14(1+TechnicalInputs!$D$3),IF($J14="none",AD14,"error")))) -> 0 | AF14: =IF($M14-AF$5<=0,0,IF($J14="cpi",AE14*(1+TechnicalInputs!$D$2),IF($J14="cci",AE14(1+TechnicalInputs!$D$3),IF($J14="none",AE14,"error")))) -> 0 | AG14: =IF($M14-AG$5<=0,0,IF($J14="cpi",AF14*(1+TechnicalInputs!$D$2),IF($J14="cci",AF14(1+TechnicalInputs!$D$3),IF($J14="none",AF14,"error")))) -> 0 | AH14: =IF($M14-AH$5<=0,0,IF($J14="cpi",AG14*(1+TechnicalInputs!$D$2),IF($J14="cci",AG14(1+TechnicalInputs!$D$3),IF($J14="none",AG14,"error")))) -> 0 | AI14: =IF($M14-AI$5<=0,0,IF($J14="cpi",AH14*(1+TechnicalInputs!$D$2),IF($J14="cci",AH14(1+TechnicalInputs!$D$3),IF($J14="none",AH14,"error")))) -> 0 | AJ14: =IF($M14-AJ$5<=0,0,IF($J14="cpi",AI14*(1+TechnicalInputs!$D$2),IF($J14="cci",AI14(1+TechnicalInputs!$D$3),IF($J14="none",AI14,"error")))) -> 0
B15: 4.4.9 | C15: Sales tax surcharge on auto sales | D15: Enter an additional percentage sales tax on car sales. | E15: 0.53 | F15: 0.53 | G15: N/A | H15: 0 | M15: 2036 | P15: 0 | Q15: =P15 -> 0 | R15: =H15 -> 0 | S15: =IF($M15-S$5<=0,0,R15) -> 0 | T15: =IF($M15-T$5<=0,0,S15) -> 0 | U15: =IF($M15-U$5<=0,0,T15) -> 0 | V15: =IF($M15-V$5<=0,0,U15) -> 0 | W15: =IF($M15-W$5<=0,0,V15) -> 0 | X15: =IF($M15-X$5<=0,0,W15) -> 0 | Y15: =IF($M15-Y$5<=0,0,X15) -> 0 | Z15: =IF($M15-Z$5<=0,0,Y15) -> 0 | ... AJ15: =IF($M15-AJ$5<=0,0,AI15) -> 0
B16: 4.4.11 | C16: Tire Tax | D16: Enter a flat charge per tire sold. | E16: N/A | F16: 1 | G16: N/A | H16: 0 | J16: None | M16: 2036 | P16: 0 | Q16: =P16 -> 0 | R16: =H16 -> 0 | S16: =IF($M16-S$5<=0,0,IF($J16="cpi",R16*(1+TechnicalInputs!$D$2),IF($J16="cci",R16(1+TechnicalInputs!$D$3),IF($J16="none",R16,"error")))) -> 0 | T16: =IF($M16-T$5<=0,0,IF($J16="cpi",S16*(1+TechnicalInputs!$D$2),IF($J16="cci",S16(1+TechnicalInputs!$D$3),IF($J16="none",S16,"error")))) -> 0 | U16: =IF($M16-U$5<=0,0,IF($J16="cpi",T16*(1+TechnicalInputs!$D$2),IF($J16="cci",T16(1+TechnicalInputs!$D$3),IF($J16="none",T16,"error")))) -> 0 | V16: =IF($M16-V$5<=0,0,IF($J16="cpi",U16*(1+TechnicalInputs!$D$2),IF($J16="cci",U16(1+TechnicalInputs!$D$3),IF($J16="none",U16,"error")))) -> 0 | W16: =IF($M16-W$5<=0,0,IF($J16="cpi",V16*(1+TechnicalInputs!$D$2),IF($J16="cci",V16(1+TechnicalInputs!$D$3),IF($J16="none",V16,"error")))) -> 0 | X16: =IF($M16-X$5<=0,0,IF($J16="cpi",W16*(1+TechnicalInputs!$D$2),IF($J16="cci",W16(1+TechnicalInputs!$D$3),IF($J16="none",W16,"error")))) -> 0 | Y16: =IF($M16-Y$5<=0,0,IF($J16="cpi",X16*(1+TechnicalInputs!$D$2),IF($J16="cci",X16(1+TechnicalInputs!$D$3),IF($J16="none",X16,"error")))) -> 0 | Z16: =IF($M16-Z$5<=0,0,IF($J16="cpi",Y16*(1+TechnicalInputs!$D$2),IF($J16="cci",Y16(1+TechnicalInputs!$D$3),IF($J16="none",Y16,"error")))) -> 0 | AA16: =IF($M16-AA$5<=0,0,IF($J16="cpi",Z16*(1+TechnicalInputs!$D$2),IF($J16="cci",Z16(1+TechnicalInputs!$D$3),IF($J16="none",Z16,"error")))) -> 0 | AB16: =IF($M16-AB$5<=0,0,IF($J16="cpi",AA16*(1+TechnicalInputs!$D$2),IF($J16="cci",AA16(1+TechnicalInputs!$D$3),IF($J16="none",AA16,"error")))) -> 0 | AC16: =IF($M16-AC$5<=0,0,IF($J16="cpi",AB16*(1+TechnicalInputs!$D$2),IF($J16="cci",AB16(1+TechnicalInputs!$D$3),IF($J16="none",AB16,"error")))) -> 0 | AD16: =IF($M16-AD$5<=0,0,IF($J16="cpi",AC16*(1+TechnicalInputs!$D$2),IF($J16="cci",AC16(1+TechnicalInputs!$D$3),IF($J16="none",AC16,"error")))) -> 0 | AE16: =IF($M16-AE$5<=0,0,IF($J16="cpi",AD16*(1+TechnicalInputs!$D$2),IF($J16="cci",AD16(1+TechnicalInputs!$D$3),IF($J16="none",AD16,"error")))) -> 0 | AF16: =IF($M16-AF$5<=0,0,IF($J16="cpi",AE16*(1+TechnicalInputs!$D$2),IF($J16="cci",AE16(1+TechnicalInputs!$D$3),IF($J16="none",AE16,"error")))) -> 0 | AG16: =IF($M16-AG$5<=0,0,IF($J16="cpi",AF16*(1+TechnicalInputs!$D$2),IF($J16="cci",AF16(1+TechnicalInputs!$D$3),IF($J16="none",AF16,"error")))) -> 0 | AH16: =IF($M16-AH$5<=0,0,IF($J16="cpi",AG16*(1+TechnicalInputs!$D$2),IF($J16="cci",AG16(1+TechnicalInputs!$D$3),IF($J16="none",AG16,"error")))) -> 0 | AI16: =IF($M16-AI$5<=0,0,IF($J16="cpi",AH16*(1+TechnicalInputs!$D$2),IF($J16="cci",AH16(1+TechnicalInputs!$D$3),IF($J16="none",AH16,"error")))) -> 0 | AJ16: =IF($M16-AJ$5<=0,0,IF($J16="cpi",AI16*(1+TechnicalInputs!$D$2),IF($J16="cci",AI16(1+TechnicalInputs!$D$3),IF($J16="none",AI16,"error")))) -> 0
B17: 4.4.13 | C17: Vehicle law enforcement fee | D17: Enter a flat amount per vehicle per year. | E17: N/A | F17: 1 | G17: N/A | H17: 0 | J17: None | M17: 2036 | P17: 0 | Q17: =P17 -> 0 | R17: =H17 -> 0 | S17: =IF($M17-S$5<=0,0,IF($J17="cpi",R17*(1+TechnicalInputs!$D$2),IF($J17="cci",R17(1+TechnicalInputs!$D$3),IF($J17="none",R17,"error")))) -> 0 | T17: =IF($M17-T$5<=0,0,IF($J17="cpi",S17*(1+TechnicalInputs!$D$2),IF($J17="cci",S17(1+TechnicalInputs!$D$3),IF($J17="none",S17,"error")))) -> 0 | U17: =IF($M17-U$5<=0,0,IF($J17="cpi",T17*(1+TechnicalInputs!$D$2),IF($J17="cci",T17(1+TechnicalInputs!$D$3),IF($J17="none",T17,"error")))) -> 0 | V17: =IF($M17-V$5<=0,0,IF($J17="cpi",U17*(1+TechnicalInputs!$D$2),IF($J17="cci",U17(1+TechnicalInputs!$D$3),IF($J17="none",U17,"error")))) -> 0 | W17: =IF($M17-W$5<=0,0,IF($J17="cpi",V17*(1+TechnicalInputs!$D$2),IF($J17="cci",V17(1+TechnicalInputs!$D$3),IF($J17="none",V17,"error")))) -> 0 | X17: =IF($M17-X$5<=0,0,IF($J17="cpi",W17*(1+TechnicalInputs!$D$2),IF($J17="cci",W17(1+TechnicalInputs!$D$3),IF($J17="none",W17,"error")))) -> 0 | Y17: =IF($M17-Y$5<=0,0,IF($J17="cpi",X17*(1+TechnicalInputs!$D$2),IF($J17="cci",X17(1+TechnicalInputs!$D$3),IF($J17="none",X17,"error")))) -> 0 | Z17: =IF($M17-Z$5<=0,0,IF($J17="cpi",Y17*(1+TechnicalInputs!$D$2),IF($J17="cci",Y17(1+TechnicalInputs!$D$3),IF($J17="none",Y17,"error")))) -> 0 | AA17: =IF($M17-AA$5<=0,0,IF($J17="cpi",Z17*(1+TechnicalInputs!$D$2),IF($J17="cci",Z17(1+TechnicalInputs!$D$3),IF($J17="none",Z17,"error")))) -> 0 | AB17: =IF($M17-AB$5<=0,0,IF($J17="cpi",AA17*(1+TechnicalInputs!$D$2),IF($J17="cci",AA17(1+TechnicalInputs!$D$3),IF($J17="none",AA17,"error")))) -> 0 | AC17: =IF($M17-AC$5<=0,0,IF($J17="cpi",AB17*(1+TechnicalInputs!$D$2),IF($J17="cci",AB17(1+TechnicalInputs!$D$3),IF($J17="none",AB17,"error")))) -> 0 | AD17: =IF($M17-AD$5<=0,0,IF($J17="cpi",AC17*(1+TechnicalInputs!$D$2),IF($J17="cci",AC17(1+TechnicalInputs!$D$3),IF($J17="none",AC17,"error")))) -> 0 | AE17: =IF($M17-AE$5<=0,0,IF($J17="cpi",AD17*(1+TechnicalInputs!$D$2),IF($J17="cci",AD17(1+TechnicalInputs!$D$3),IF($J17="none",AD17,"error")))) -> 0 | AF17: =IF($M17-AF$5<=0,0,IF($J17="cpi",AE17*(1+TechnicalInputs!$D$2),IF($J17="cci",AE17(1+TechnicalInputs!$D$3),IF($J17="none",AE17,"error")))) -> 0 | AG17: =IF($M17-AG$5<=0,0,IF($J17="cpi",AF17*(1+TechnicalInputs!$D$2),IF($J17="cci",AF17(1+TechnicalInputs!$D$3),IF($J17="none",AF17,"error")))) -> 0 | AH17: =IF($M17-AH$5<=0,0,IF($J17="cpi",AG17*(1+TechnicalInputs!$D$2),IF($J17="cci",AG17(1+TechnicalInputs!$D$3),IF($J17="none",AG17,"error")))) -> 0 | AI17: =IF($M17-AI$5<=0,0,IF($J17="cpi",AH17*(1+TechnicalInputs!$D$2),IF($J17="cci",AH17(1+TechnicalInputs!$D$3),IF($J17="none",AH17,"error")))) -> 0 | AJ17: =IF($M17-AJ$5<=0,0,IF($J17="cpi",AI17*(1+TechnicalInputs!$D$2),IF($J17="cci",AI17(1+TechnicalInputs!$D$3),IF($J17="none",AI17,"error")))) -> 0
A18: General Sales Taxes | B18: 4.6.2 | C18: Dedicated general sales tax | D18: Enter amount of general sales tax to devote to transportation. | E18: 0.53 | F18: 0.53 | G18: =7%/100 -> 0.0007 | H18: 0.0007 | M18: 2036 | P18: =G18 -> 0.0007 | Q18: =P18 -> 0.0007 | R18: =H18 -> 0.0007 | S18: =IF($M18-S$5<=0,0,R18) -> 0.0007 | T18: =IF($M18-T$5<=0,0,S18) -> 0.0007 | U18: =IF($M18-U$5<=0,0,T18) -> 0.0007 | V18: =IF($M18-V$5<=0,0,U18) -> 0.0007 | W18: =IF($M18-W$5<=0,0,V18) -> 0.0007 | X18: =IF($M18-X$5<=0,0,W18) -> 0.0007 | Y18: =IF($M18-Y$5<=0,0,X18) -> 0.0007 | Z18: =IF($M18-Z$5<=0,0,Y18) -> 0.0007 | ... AJ18: =IF($M18-AJ$5<=0,0,AI18) -> 0.0007
B19: 4.6.3 | C19: Increase to general sales tax | D19: Enter new general sales tax rate (above 7% goes to transportation). | E19: N/A | F19: 0.53 | G19: 0.07 | H19: 0.07 | M19: 2036 | P19: 0 | Q19: =P19 -> 0 | R19: =MAX(0,H19-0.07) -> 0 | S19: =IF($M19-S$5<=0,0,R19) -> 0 | T19: =IF($M19-T$5<=0,0,S19) -> 0 | U19: =IF($M19-U$5<=0,0,T19) -> 0 | V19: =IF($M19-V$5<=0,0,U19) -> 0 | W19: =IF($M19-W$5<=0,0,V19) -> 0 | X19: =IF($M19-X$5<=0,0,W19) -> 0 | Y19: =IF($M19-Y$5<=0,0,X19) -> 0 | Z19: =IF($M19-Z$5<=0,0,Y19) -> 0 | ... AJ19: =IF($M19-AJ$5<=0,0,AI19) -> 0
A20: Road use charges | B20: 4.5.5 and 4.5.6 | C20: Light vehicle distance charge | D20: Enter per-mile rate in dollars to be charged light vehicles (<10k pounds). | E20: N/A | F20: 0.57 | G20: N/A | H20: 0 | J20: None | K20: 2036 | L20: 2036 | M20: 2036 | P20: 0 | Q20: =P20 -> 0 | R20: =IF($K$20>R5,0,$H$20) -> 0 | S20: =IF($M20-S$5<=0,0,IF($J20="cpi",IF($K$20>S5,0,$H$20)*(1+TechnicalInputs!$D$2),IF($J20="cci",IF($K$20>S5,0,$H$20)*(1+TechnicalInputs!$D$3),IF($J20="none",IF($K$20>S5,0,$H$20),"error")))) -> 0 | T20: =IF($M20-T$5<=0,0,IF($J20="cpi",IF($K$20>T5,0,$H$20)*(1+TechnicalInputs!$D$2),IF($J20="cci",IF($K$20>T5,0,$H$20)*(1+TechnicalInputs!$D$3),IF($J20="none",IF($K$20>T5,0,$H$20),"error")))) -> 0 | U20: =IF($M20-U$5<=0,0,IF($J20="cpi",IF($K$20>U5,0,$H$20)*(1+TechnicalInputs!$D$2),IF($J20="cci",IF($K$20>U5,0,$H$20)*(1+TechnicalInputs!$D$3),IF($J20="none",IF($K$20>U5,0,$H$20),"error")))) -> 0 | V20: =IF($M20-V$5<=0,0,IF($J20="cpi",IF($K$20>V5,0,$H$20)*(1+TechnicalInputs!$D$2),IF($J20="cci",IF($K$20>V5,0,$H$20)*(1+TechnicalInputs!$D$3),IF($J20="none",IF($K$20>V5,0,$H$20),"error")))) -> 0 | W20: =IF($M20-W$5<=0,0,IF($J20="cpi",IF($K$20>W5,0,$H$20)*(1+TechnicalInputs!$D$2),IF($J20="cci",IF($K$20>W5,0,$H$20)*(1+TechnicalInputs!$D$3),IF($J20="none",IF($K$20>W5,0,$H$20),"error")))) -> 0 | X20: =IF($M20-X$5<=0,0,IF($J20="cpi",IF($K$20>X5,0,$H$20)*(1+TechnicalInputs!$D$2),IF($J20="cci",IF($K$20>X5,0,$H$20)*(1+TechnicalInputs!$D$3),IF($J20="none",IF($K$20>X5,0,$H$20),"error")))) -> 0 | Y20: =IF($M20-Y$5<=0,0,IF($J20="cpi",IF($K$20>Y5,0,$H$20)*(1+TechnicalInputs!$D$2),IF($J20="cci",IF($K$20>Y5,0,$H$20)*(1+TechnicalInputs!$D$3),IF($J20="none",IF($K$20>Y5,0,$H$20),"error")))) -> 0 | Z20: =IF($M20-Z$5<=0,0,IF($J20="cpi",IF($K$20>Z5,0,$H$20)*(1+TechnicalInputs!$D$2),IF($J20="cci",IF($K$20>Z5,0,$H$20)*(1+TechnicalInputs!$D$3),IF($J20="none",IF($K$20>Z5,0,$H$20),"error")))) -> 0 | ... AJ20: =IF($M20-AJ$5<=0,0,IF($J20="cpi",IF($K$20>AJ5,0,$H$20)*(1+TechnicalInputs!$D$2),IF($J20="cci",IF($K$20>AJ5,0,$H$20)*(1+TechnicalInputs!$D$3),IF($J20="none",IF($K$20>AJ5,0,$H$20),"error")))) -> 0
B21: 4.5.7 | C21: Heavy vehicle weight-distance charge | D21: Choose a rate schedule based on Kentucky or Oregon. | E21: N/A | F21: 0.65 | G21: N/A | H21: None | J21: None | K21: 2036 | L21: 2036 | M21: 2036 | P21: None | Q21: =P21 -> None | R21: =IF($K$21>R5,"None",$H$21) -> None | S21: =IF($K$21>S5,"None",$H$21) -> None | T21: =IF($K$21>T5,"None",$H$21) -> None | U21: =IF($K$21>U5,"None",$H$21) -> None | V21: =IF($K$21>V5,"None",$H$21) -> None | W21: =IF($K$21>W5,"None",$H$21) -> None | X21: =IF($K$21>X5,"None",$H$21) -> None | Y21: =IF($K$21>Y5,"None",$H$21) -> None | ... AJ21: =IF($K$21>AJ5,"None",$H$21) -> None
B22: 4.5.8 | C22: Heavy vehicle distance-size fee | D22: Choose a modified rate schedule based on Kentucky or Oregon. | E22: N/A | F22: 0.65 | G22: N/A | H22: None | J22: None | K22: 2036 | L22: 2036 | M22: 2036 | P22: None | Q22: =P22 -> None | R22: =IF($K$22>R5,"None",$H$22) -> None | S22: =IF($K$22>S5,"None",$H$22) -> None | T22: =IF($K$22>T5,"None",$H$22) -> None | U22: =IF($K$22>U5,"None",$H$22) -> None | V22: =IF($K$22>V5,"None",$H$22) -> None | W22: =IF($K$22>W5,"None",$H$22) -> None | X22: =IF($K$22>X5,"None",$H$22) -> None | Y22: =IF($K$22>Y5,"None",$H$22) -> None | ... AJ22: =IF($K$22>AJ5,"None",$H$22) -> None
B23: 4.5.9 | C23: Heavy vehicle distance-damage fee | D23: Choose a rate schedule based on Purdue study SPR 3704. | E23: N/A | F23: 0.65 | G23: N/A | H23: None | J23: None | K23: 2036 | L23: 2036 | M23: 2036 | P23: None | Q23: =P23 -> None | R23: =IF($K$23>R5,"None",$H$23) -> None | S23: =IF($K$23>S5,"None",$H$23) -> None | T23: =IF($K$23>T5,"None",$H$23) -> None | U23: =IF($K$23>U5,"None",$H$23) -> None | V23: =IF($K$23>V5,"None",$H$23) -> None | W23: =IF($K$23>W5,"None",$H$23) -> None | X23: =IF($K$23>X5,"None",$H$23) -> None | Y23: =IF($K$23>Y5,"None",$H$23) -> None | ... AJ23: =IF($K$23>AJ5,"None",$H$23) -> None
B24: 4.4.14 | C24: Overweight/oversize vehicle fee | D24: Enter percentage increase across the baord from existing schedule. | E24: 1 | F24: 1 | G24: N/A | H24: 0 | M24: 2036 | P24: 0 | Q24: =P24 -> 0 | R24: =H24 -> 0 | S24: =R24 -> 0 | T24: =S24 -> 0 | U24: =H24 -> 0 | V24: =IF($M14-V$5<=0,0,U24) -> 0 | W24: =IF($M14-W$5<=0,0,V24) -> 0 | X24: =IF($M14-X$5<=0,0,W24) -> 0 | Y24: =IF($M14-Y$5<=0,0,X24) -> 0 | Z24: =IF($M14-Z$5<=0,0,Y24) -> 0 | AA24: =IF($M14-AA$5<=0,0,Z24) -> 0 | AB24: =IF($M14-AB$5<=0,0,AA24) -> 0 | AC24: =IF($M14-AC$5<=0,0,AB24) -> 0 | ... AJ24: =IF($M14-AJ$5<=0,0,AI24) -> 0
A25: Tolls | B25: 4.5.1 | C25: Toll new facilities | D25: TBD | E25: N/A | F25: 1 | G25: N/A | H25: N/A | J25: None | M25: 2036
B26: 4.5.2 | C26: Toll existing facilities | D26: TBD | E26: N/A | F26: 1 | G26: N/A | H26: N/A | J26: None | M26: 2036
B27: 4.5.3 | C27: Toll new lane/convert HOV to HOT | D27: TBD | E27: N/A | F27: 1 | G27: N/A | H27: N/A | J27: None | M27: 2036
A28: Other | B28: 4.4.8 | C28: Rental car excise tax | D28: Enter new rental car tax rate (above 4% goes to transportation). | E28: N/A | F28: 0.53 | G28: 0.04 | H28: 0.04 | M28: 2036 | P28: 0 | Q28: =P28 -> 0 | R28: =(MAX(0,H28-0.04)) -> 0 | S28: =IF($M28-S$5<=0,0,R28) -> 0 | T28: =IF($M28-T$5<=0,0,S28) -> 0 | U28: =IF($M28-U$5<=0,0,T28) -> 0 | V28: =IF($M28-V$5<=0,0,U28) -> 0 | W28: =IF($M28-W$5<=0,0,V28) -> 0 | X28: =IF($M28-X$5<=0,0,W28) -> 0 | Y28: =IF($M28-Y$5<=0,0,X28) -> 0 | Z28: =IF($M28-Z$5<=0,0,Y28) -> 0 | ... AJ28: =IF($M28-AJ$5<=0,0,AI28) -> 0
B29: 4.6.1 | C29: General Fund appropriations | D29: Enter amount to transfer from general fund to transportation. | E29: N/A | F29: 1 | G29: N/A | H29: 0 | J29: None | M29: 2036 | P29: 0 | Q29: =P29 -> 0 | R29: =H29 -> 0 | S29: =R29*(1+IF($J29="none",0,IF($J29="cpi",TechnicalInputs!$D$2,IF($J29="cci",TechnicalInputs!$D$3,"error")))) -> 0 | T29: =S29*(1+IF($J29="none",0,IF($J29="cpi",TechnicalInputs!$D$2,IF($J29="cci",TechnicalInputs!$D$3,"error")))) -> 0 | U29: =T29*(1+IF($J29="none",0,IF($J29="cpi",TechnicalInputs!$D$2,IF($J29="cci",TechnicalInputs!$D$3,"error")))) -> 0 | V29: =U29*(1+IF($J29="none",0,IF($J29="cpi",TechnicalInputs!$D$2,IF($J29="cci",TechnicalInputs!$D$3,"error")))) -> 0 | W29: =V29*(1+IF($J29="none",0,IF($J29="cpi",TechnicalInputs!$D$2,IF($J29="cci",TechnicalInputs!$D$3,"error")))) -> 0 | X29: =W29*(1+IF($J29="none",0,IF($J29="cpi",TechnicalInputs!$D$2,IF($J29="cci",TechnicalInputs!$D$3,"error")))) -> 0 | Y29: =X29*(1+IF($J29="none",0,IF($J29="cpi",TechnicalInputs!$D$2,IF($J29="cci",TechnicalInputs!$D$3,"error")))) -> 0 | Z29: =Y29*(1+IF($J29="none",0,IF($J29="cpi",TechnicalInputs!$D$2,IF($J29="cci",TechnicalInputs!$D$3,"error")))) -> 0 | ... AJ29: =AI29*(1+IF($J29="none",0,IF($J29="cpi",TechnicalInputs!$D$2,IF($J29="cci",TechnicalInputs!$D$3,"error")))) -> 0
B30: 4.8.2 | C30: Tax increment financing | D30: Enter amount to generate from local property taxes including value capture mechanisms. | E30: N/A | F30: 1 | G30: N/A | H30: 0 | J30: None | M30: 2036 | P30: 0 | Q30: =P30 -> 0 | R30: =H30 -> 0 | S30: =R30*(1+IF($J30="none",0,IF($J30="cpi",TechnicalInputs!$D$2,IF($J30="cci",TechnicalInputs!$D$3,"error")))) -> 0 | T30: =S30*(1+IF($J30="none",0,IF($J30="cpi",TechnicalInputs!$D$2,IF($J30="cci",TechnicalInputs!$D$3,"error")))) -> 0 | U30: =T30*(1+IF($J30="none",0,IF($J30="cpi",TechnicalInputs!$D$2,IF($J30="cci",TechnicalInputs!$D$3,"error")))) -> 0 | V30: =U30*(1+IF($J30="none",0,IF($J30="cpi",TechnicalInputs!$D$2,IF($J30="cci",TechnicalInputs!$D$3,"error")))) -> 0 | W30: =V30*(1+IF($J30="none",0,IF($J30="cpi",TechnicalInputs!$D$2,IF($J30="cci",TechnicalInputs!$D$3,"error")))) -> 0 | X30: =W30*(1+IF($J30="none",0,IF($J30="cpi",TechnicalInputs!$D$2,IF($J30="cci",TechnicalInputs!$D$3,"error")))) -> 0 | Y30: =X30*(1+IF($J30="none",0,IF($J30="cpi",TechnicalInputs!$D$2,IF($J30="cci",TechnicalInputs!$D$3,"error")))) -> 0 | Z30: =Y30*(1+IF($J30="none",0,IF($J30="cpi",TechnicalInputs!$D$2,IF($J30="cci",TechnicalInputs!$D$3,"error")))) -> 0 | ... AJ30: =AI30*(1+IF($J30="none",0,IF($J30="cpi",TechnicalInputs!$D$2,IF($J30="cci",TechnicalInputs!$D$3,"error")))) -> 0
B31: 4.8.2 | C31: Development exactions | E31: N/A | F31: 1 | G31: N/A | H31: 0 | J31: None | M31: 2036 | P31: 0 | Q31: =P31 -> 0 | R31: =H31 -> 0 | S31: =R31*(1+IF($J31="none",0,IF($J31="cpi",TechnicalInputs!$D$2,IF($J31="cci",TechnicalInputs!$D$3,"error")))) -> 0 | T31: =S31*(1+IF($J31="none",0,IF($J31="cpi",TechnicalInputs!$D$2,IF($J31="cci",TechnicalInputs!$D$3,"error")))) -> 0 | U31: =T31*(1+IF($J31="none",0,IF($J31="cpi",TechnicalInputs!$D$2,IF($J31="cci",TechnicalInputs!$D$3,"error")))) -> 0 | V31: =U31*(1+IF($J31="none",0,IF($J31="cpi",TechnicalInputs!$D$2,IF($J31="cci",TechnicalInputs!$D$3,"error")))) -> 0 | W31: =V31*(1+IF($J31="none",0,IF($J31="cpi",TechnicalInputs!$D$2,IF($J31="cci",TechnicalInputs!$D$3,"error")))) -> 0 | X31: =W31*(1+IF($J31="none",0,IF($J31="cpi",TechnicalInputs!$D$2,IF($J31="cci",TechnicalInputs!$D$3,"error")))) -> 0 | Y31: =X31*(1+IF($J31="none",0,IF($J31="cpi",TechnicalInputs!$D$2,IF($J31="cci",TechnicalInputs!$D$3,"error")))) -> 0 | Z31: =Y31*(1+IF($J31="none",0,IF($J31="cpi",TechnicalInputs!$D$2,IF($J31="cci",TechnicalInputs!$D$3,"error")))) -> 0 | ... AJ31: =AI31*(1+IF($J31="none",0,IF($J31="cpi",TechnicalInputs!$D$2,IF($J31="cci",TechnicalInputs!$D$3,"error")))) -> 0
B32: 4.8.2 | C32: Special assessment district | E32: N/A | F32: 1 | G32: N/A | H32: 0 | J32: None | M32: 2036 | P32: 0 | Q32: =P32 -> 0 | R32: =H32 -> 0 | S32: =R32*(1+IF($J32="none",0,IF($J32="cpi",TechnicalInputs!$D$2,IF($J32="cci",TechnicalInputs!$D$3,"error")))) -> 0 | T32: =S32*(1+IF($J32="none",0,IF($J32="cpi",TechnicalInputs!$D$2,IF($J32="cci",TechnicalInputs!$D$3,"error")))) -> 0 | U32: =T32*(1+IF($J32="none",0,IF($J32="cpi",TechnicalInputs!$D$2,IF($J32="cci",TechnicalInputs!$D$3,"error")))) -> 0 | V32: =U32*(1+IF($J32="none",0,IF($J32="cpi",TechnicalInputs!$D$2,IF($J32="cci",TechnicalInputs!$D$3,"error")))) -> 0 | W32: =V32*(1+IF($J32="none",0,IF($J32="cpi",TechnicalInputs!$D$2,IF($J32="cci",TechnicalInputs!$D$3,"error")))) -> 0 | X32: =W32*(1+IF($J32="none",0,IF($J32="cpi",TechnicalInputs!$D$2,IF($J32="cci",TechnicalInputs!$D$3,"error")))) -> 0 | Y32: =X32*(1+IF($J32="none",0,IF($J32="cpi",TechnicalInputs!$D$2,IF($J32="cci",TechnicalInputs!$D$3,"error")))) -> 0 | Z32: =Y32*(1+IF($J32="none",0,IF($J32="cpi",TechnicalInputs!$D$2,IF($J32="cci",TechnicalInputs!$D$3,"error")))) -> 0 | ... AJ32: =AI32*(1+IF($J32="none",0,IF($J32="cpi",TechnicalInputs!$D$2,IF($J32="cci",TechnicalInputs!$D$3,"error")))) -> 0
B33: N/A | C33: Miscellaneous | D33: From budget documents | E33: 1 | F33: 1 | P33: 0 | Q33: =P33 -> 0 | R33: 0 | S33: 0 | T33: 0 | U33: 0 | V33: 0 | W33: 0 | X33: 0 | Y33: 0 | Z33: 0 | AA33: 0 | AB33: 0 | AC33: 0 | AD33: 0 | AE33: 0 | AF33: 0 | AG33: 0 | AH33: 0 | AI33: 0 | AJ33: 0
C35: Net revenue (state share only) | D35: Status quo revenue in 2035 (nominal) | E35: 7.1105717e+08 | F35: Cumulative Status Quo (2017-2035) (2015 dollars) | G35: 1.018704e+10
D36: Selected scenario in 2035 (nominal) | E36: =TabularOutputs!AD156 -> 8.2204561e+08 | F36: Cumulative New (2017-2035) (2015 dollars) | G36: =TabularOutputs!H317 -> 1.2183596e+10
D37: Difference (2035 dollars) | E37: =E36-E35 -> 1.1098844e+08 | F37: Cumulative Change (2017-2035) (2015 dollars) | G37: =+G36-G35 -> 1.9965566e+09
C38: Net revenue (local share only) | D38: Status quo revenue in 2035 (nominal) | E38: 4.6835604e+08 | F38: Cumulative Status Quo (2017-2035) (2015 dollars) | G38: 6.7795288e+09
D39: Selected scenario in 2035 (nominal) | E39: =TabularOutputs!AD188 -> 5.5208417e+08 | F39: Cumulative New (2017-2035) (2015 dollars) | G39: =TabularOutputs!J317 -> 8.2857031e+09
D40: Difference (2035 dollars) | E40: =E39-E38 -> 83728124 | F40: Cumulative Change (2017-2035) (2015 dollars) | G40: =G39-G38 -> 1.5061743e+09
C41: Federal revenue | D41: Status quo revenue in 2035 (nominal) | E41: 698200000 | F41: Cumulative Status Quo (2017-2035) (2015 dollars) | G41: 1.0158043e+10
D42: Selected scenario in 2035 (nominal) | E42: =TabularOutputs!K316 -> 698200000 | F42: Cumulative New (2017-2035) (2015 dollars) | G42: =TabularOutputs!L317 -> 1.0158043e+10
D43: Difference (2035 dollars) | E43: =E42-E41 -> 0 | F43: Cumulative Change (2017-2035) (2015 dollars) | G43: =G42-G41 -> 0
...

Sheet EconomicInputs
A1: Year | B1: Selected Scenario
B2: Population | C2: Licensed Drivers | D2: Registered Vehicles | K2: Gallons Fuel | N2: Price of Fuel | P2: VMT | V2: Car Rental Taxable Sales | W2: Number of Tires Sold | X2: All Taxable Sales | Y2: New Vehicles Sold | Z2: OS/OW | AA2: PC Excise Tax
D3: Class 1 (MC) | E3: Class 2/3 (PC) | F3: Class 2/3 (PC - Electric) | G3: Class 4 (Bus) | H3: Class 5-7 (SUT) | I3: Class 8-13 (HDV) | J3: IRP Revenues | K3: Gasoline | L3: Diesel & Equivalent | M3: Surtax Gallons | N3: Gasoline | O3: Diesel | P3: Class 1 (MC) | Q3: Class 2/3 (PC) | R3: Class 2/3 (PC - Electric) | S3: Class 4 (Bus) | T3: Class 5-7 (SUT) | U3: Class 8-13 (HDV) | Y3: Class 1 (MC) | AD3: All VMT
A4: 2010 | B4: =IF(PolicyInputs!$B$1=1,EconomicInputs!B36,IF(PolicyInputs!$B$1=2,EconomicInputs!B68,IF(PolicyInputs!$B$1=3,EconomicInputs!B100,IF(PolicyInputs!$B$1=4,EconomicInputs!B132,"error")))) -> 6483802 | C4: =IF(PolicyInputs!$B$1=1,EconomicInputs!C36,IF(PolicyInputs!$B$1=2,EconomicInputs!C68,IF(PolicyInputs!$B$1=3,EconomicInputs!C100,IF(PolicyInputs!$B$1=4,EconomicInputs!C132,"error")))) -> 4762954 | D4: =IF(PolicyInputs!$B$1=1,EconomicInputs!D36,IF(PolicyInputs!$B$1=2,EconomicInputs!D68,IF(PolicyInputs!$B$1=3,EconomicInputs!D100,IF(PolicyInputs!$B$1=4,EconomicInputs!D132,"error")))) -> 193410 | E4: =IF(PolicyInputs!$B$1=1,EconomicInputs!E36,IF(PolicyInputs!$B$1=2,EconomicInputs!E68,IF(PolicyInputs!$B$1=3,EconomicInputs!E100,IF(PolicyInputs!$B$1=4,EconomicInputs!E132,"error")))) -> 4914668.6 | F4: =IF(PolicyInputs!$B$1=1,EconomicInputs!F36,IF(PolicyInputs!$B$1=2,EconomicInputs!F68,IF(PolicyInputs!$B$1=3,EconomicInputs!F100,IF(PolicyInputs!$B$1=4,EconomicInputs!F132,"error")))) -> 106 | G4: =IF(PolicyInputs!$B$1=1,EconomicInputs!G36,IF(PolicyInputs!$B$1=2,EconomicInputs!G68,IF(PolicyInputs!$B$1=3,EconomicInputs!G100,IF(PolicyInputs!$B$1=4,EconomicInputs!G132,"error")))) -> 8422.5 | H4: =IF(PolicyInputs!$B$1=1,EconomicInputs!H36,IF(PolicyInputs!$B$1=2,EconomicInputs!H68,IF(PolicyInputs!$B$1=3,EconomicInputs!H100,IF(PolicyInputs!$B$1=4,EconomicInputs!H132,"error")))) -> 169509 | I4: =IF(PolicyInputs!$B$1=1,EconomicInputs!I36,IF(PolicyInputs!$B$1=2,EconomicInputs!I68,IF(PolicyInputs!$B$1=3,EconomicInputs!I100,IF(PolicyInputs!$B$1=4,EconomicInputs!I132,"error")))) -> 58697 | ... AA4: =IF(PolicyInputs!$B$1=1,EconomicInputs!AA36,IF(PolicyInputs!$B$1=2,EconomicInputs!AA68,IF(PolicyInputs!$B$1=3,EconomicInputs!AA100,IF(PolicyInputs!$B$1=4,EconomicInputs!AA132,"error")))) -> 624012071 | AD4: =SUM(P4:U4) -> 7.568769e+10
A5: =A4+1 -> 2011 | B5: =IF(PolicyInputs!$B$1=1,EconomicInputs!B37,IF(PolicyInputs!$B$1=2,EconomicInputs!B69,IF(PolicyInputs!$B$1=3,EconomicInputs!B101,IF(PolicyInputs!$B$1=4,EconomicInputs!B133,"error")))) -> 6516922 | C5: =IF(PolicyInputs!$B$1=1,EconomicInputs!C37,IF(PolicyInputs!$B$1=2,EconomicInputs!C69,IF(PolicyInputs!$B$1=3,EconomicInputs!C101,IF(PolicyInputs!$B$1=4,EconomicInputs!C133,"error")))) -> 4727568 | D5: =IF(PolicyInputs!$B$1=1,EconomicInputs!D37,IF(PolicyInputs!$B$1=2,EconomicInputs!D69,IF(PolicyInputs!$B$1=3,EconomicInputs!D101,IF(PolicyInputs!$B$1=4,EconomicInputs!D133,"error")))) -> 195344.1 | E5: =IF(PolicyInputs!$B$1=1,EconomicInputs!E37,IF(PolicyInputs!$B$1=2,EconomicInputs!E69,IF(PolicyInputs!$B$1=3,EconomicInputs!E101,IF(PolicyInputs!$B$1=4,EconomicInputs!E133,"error")))) -> 4963815.3 | F5: =IF(PolicyInputs!$B$1=1,EconomicInputs!F37,IF(PolicyInputs!$B$1=2,EconomicInputs!F69,IF(PolicyInputs!$B$1=3,EconomicInputs!F101,IF(PolicyInputs!$B$1=4,EconomicInputs!F133,"error")))) -> 114 | G5: =IF(PolicyInputs!$B$1=1,EconomicInputs!G37,IF(PolicyInputs!$B$1=2,EconomicInputs!G69,IF(PolicyInputs!$B$1=3,EconomicInputs!G101,IF(PolicyInputs!$B$1=4,EconomicInputs!G133,"error")))) -> 8506.725 | H5: =IF(PolicyInputs!$B$1=1,EconomicInputs!H37,IF(PolicyInputs!$B$1=2,EconomicInputs!H69,IF(PolicyInputs!$B$1=3,EconomicInputs!H101,IF(PolicyInputs!$B$1=4,EconomicInputs!H133,"error")))) -> 170627.76 | I5: =IF(PolicyInputs!$B$1=1,EconomicInputs!I37,IF(PolicyInputs!$B$1=2,EconomicInputs!I69,IF(PolicyInputs!$B$1=3,EconomicInputs!I101,IF(PolicyInputs!$B$1=4,EconomicInputs!I133,"error")))) -> 59853.331 | ... AA5: =IF(PolicyInputs!$B$1=1,EconomicInputs!AA37,IF(PolicyInputs!$B$1=2,EconomicInputs!AA69,IF(PolicyInputs!$B$1=3,EconomicInputs!AA101,IF(PolicyInputs!$B$1=4,EconomicInputs!AA133,"error")))) -> 621200578 | AD5: =SUM(P5:U5) -> 7.5575072e+10
A6: =A5+1 -> 2012 | B6: =IF(PolicyInputs!$B$1=1,EconomicInputs!B38,IF(PolicyInputs!$B$1=2,EconomicInputs!B70,IF(PolicyInputs!$B$1=3,EconomicInputs!B102,IF(PolicyInputs!$B$1=4,EconomicInputs!B134,"error")))) -> 6537334 | C6: =IF(PolicyInputs!$B$1=1,EconomicInputs!C38,IF(PolicyInputs!$B$1=2,EconomicInputs!C70,IF(PolicyInputs!$B$1=3,EconomicInputs!C102,IF(PolicyInputs!$B$1=4,EconomicInputs!C134,"error")))) -> 4634787 | D6: =IF(PolicyInputs!$B$1=1,EconomicInputs!D38,IF(PolicyInputs!$B$1=2,EconomicInputs!D70,IF(PolicyInputs!$B$1=3,EconomicInputs!D102,IF(PolicyInputs!$B$1=4,EconomicInputs!D134,"error")))) -> 197297.54 | E6: =IF(PolicyInputs!$B$1=1,EconomicInputs!E38,IF(PolicyInputs!$B$1=2,EconomicInputs!E70,IF(PolicyInputs!$B$1=3,EconomicInputs!E102,IF(PolicyInputs!$B$1=4,EconomicInputs!E134,"error")))) -> 5010399.7 | F6: =IF(PolicyInputs!$B$1=1,EconomicInputs!F38,IF(PolicyInputs!$B$1=2,EconomicInputs!F70,IF(PolicyInputs!$B$1=3,EconomicInputs!F102,IF(PolicyInputs!$B$1=4,EconomicInputs!F134,"error")))) -> 181 | G6: =IF(PolicyInputs!$B$1=1,EconomicInputs!G38,IF(PolicyInputs!$B$1=2,EconomicInputs!G70,IF(PolicyInputs!$B$1=3,EconomicInputs!G102,IF(PolicyInputs!$B$1=4,EconomicInputs!G134,"error")))) -> 8591.7923 | H6: =IF(PolicyInputs!$B$1=1,EconomicInputs!H38,IF(PolicyInputs!$B$1=2,EconomicInputs!H70,IF(PolicyInputs!$B$1=3,EconomicInputs!H102,IF(PolicyInputs!$B$1=4,EconomicInputs!H134,"error")))) -> 171753.9 | I6: =IF(PolicyInputs!$B$1=1,EconomicInputs!I38,IF(PolicyInputs!$B$1=2,EconomicInputs!I70,IF(PolicyInputs!$B$1=3,EconomicInputs!I102,IF(PolicyInputs!$B$1=4,EconomicInputs!I134,"error")))) -> 61032.442 | ... AA6: =IF(PolicyInputs!$B$1=1,EconomicInputs!AA38,IF(PolicyInputs!$B$1=2,EconomicInputs!AA70,IF(PolicyInputs!$B$1=3,EconomicInputs!AA102,IF(PolicyInputs!$B$1=4,EconomicInputs!AA134,"error")))) -> 650673897 | AD6: =SUM(P6:U6) -> 7.5422436e+10
A7: =A6+1 -> 2013 | B7: =IF(PolicyInputs!$B$1=1,EconomicInputs!B39,IF(PolicyInputs!$B$1=2,EconomicInputs!B71,IF(PolicyInputs!$B$1=3,EconomicInputs!B103,IF(PolicyInputs!$B$1=4,EconomicInputs!B135,"error")))) -> 6570713 | C7: =IF(PolicyInputs!$B$1=1,EconomicInputs!C39,IF(PolicyInputs!$B$1=2,EconomicInputs!C71,IF(PolicyInputs!$B$1=3,EconomicInputs!C103,IF(PolicyInputs!$B$1=4,EconomicInputs!C135,"error")))) -> 4579439 | D7: =IF(PolicyInputs!$B$1=1,EconomicInputs!D39,IF(PolicyInputs!$B$1=2,EconomicInputs!D71,IF(PolicyInputs!$B$1=3,EconomicInputs!D103,IF(PolicyInputs!$B$1=4,EconomicInputs!D135,"error")))) -> 199270.52 | E7: =IF(PolicyInputs!$B$1=1,EconomicInputs!E39,IF(PolicyInputs!$B$1=2,EconomicInputs!E71,IF(PolicyInputs!$B$1=3,EconomicInputs!E103,IF(PolicyInputs!$B$1=4,EconomicInputs!E135,"error")))) -> 5069713.2 | F7: =IF(PolicyInputs!$B$1=1,EconomicInputs!F39,IF(PolicyInputs!$B$1=2,EconomicInputs!F71,IF(PolicyInputs!$B$1=3,EconomicInputs!F103,IF(PolicyInputs!$B$1=4,EconomicInputs!F135,"error")))) -> 379 | G7: =IF(PolicyInputs!$B$1=1,EconomicInputs!G39,IF(PolicyInputs!$B$1=2,EconomicInputs!G71,IF(PolicyInputs!$B$1=3,EconomicInputs!G103,IF(PolicyInputs!$B$1=4,EconomicInputs!G135,"error")))) -> 8677.7102 | H7: =IF(PolicyInputs!$B$1=1,EconomicInputs!H39,IF(PolicyInputs!$B$1=2,EconomicInputs!H71,IF(PolicyInputs!$B$1=3,EconomicInputs!H103,IF(PolicyInputs!$B$1=4,EconomicInputs!H135,"error")))) -> 172887.48 | I7: =IF(PolicyInputs!$B$1=1,EconomicInputs!I39,IF(PolicyInputs!$B$1=2,EconomicInputs!I71,IF(PolicyInputs!$B$1=3,EconomicInputs!I103,IF(PolicyInputs!$B$1=4,EconomicInputs!I135,"error")))) -> 62234.781 | ... AA7: =IF(PolicyInputs!$B$1=1,EconomicInputs!AA39,IF(PolicyInputs!$B$1=2,EconomicInputs!AA71,IF(PolicyInputs!$B$1=3,EconomicInputs!AA103,IF(PolicyInputs!$B$1=4,EconomicInputs!AA135,"error")))) -> 6.5399618e+08 | AD7: =SUM(P7:U7) -> 7.6349992e+10
A8: =A7+1 -> 2014 | B8: =IF(PolicyInputs!$B$1=1,EconomicInputs!B40,IF(PolicyInputs!$B$1=2,EconomicInputs!B72,IF(PolicyInputs!$B$1=3,EconomicInputs!B104,IF(PolicyInputs!$B$1=4,EconomicInputs!B136,"error")))) -> 6596855 | C8: =IF(PolicyInputs!$B$1=1,EconomicInputs!C40,IF(PolicyInputs!$B$1=2,EconomicInputs!C72,IF(PolicyInputs!$B$1=3,EconomicInputs!C104,IF(PolicyInputs!$B$1=4,EconomicInputs!C136,"error")))) -> 4563231 | D8: =IF(PolicyInputs!$B$1=1,EconomicInputs!D40,IF(PolicyInputs!$B$1=2,EconomicInputs!D72,IF(PolicyInputs!$B$1=3,EconomicInputs!D104,IF(PolicyInputs!$B$1=4,EconomicInputs!D136,"error")))) -> 201263.22 | E8: =IF(PolicyInputs!$B$1=1,EconomicInputs!E40,IF(PolicyInputs!$B$1=2,EconomicInputs!E72,IF(PolicyInputs!$B$1=3,EconomicInputs!E104,IF(PolicyInputs!$B$1=4,EconomicInputs!E136,"error")))) -> 5120100.8 | F8: =IF(PolicyInputs!$B$1=1,EconomicInputs!F40,IF(PolicyInputs!$B$1=2,EconomicInputs!F72,IF(PolicyInputs!$B$1=3,EconomicInputs!F104,IF(PolicyInputs!$B$1=4,EconomicInputs!F136,"error")))) -> 582 | G8: =IF(PolicyInputs!$B$1=1,EconomicInputs!G40,IF(PolicyInputs!$B$1=2,EconomicInputs!G72,IF(PolicyInputs!$B$1=3,EconomicInputs!G104,IF(PolicyInputs!$B$1=4,EconomicInputs!G136,"error")))) -> 8764.4873 | H8: =IF(PolicyInputs!$B$1=1,EconomicInputs!H40,IF(PolicyInputs!$B$1=2,EconomicInputs!H72,IF(PolicyInputs!$B$1=3,EconomicInputs!H104,IF(PolicyInputs!$B$1=4,EconomicInputs!H136,"error")))) -> 174028.54 | I8: =IF(PolicyInputs!$B$1=1,EconomicInputs!I40,IF(PolicyInputs!$B$1=2,EconomicInputs!I72,IF(PolicyInputs!$B$1=3,EconomicInputs!I104,IF(PolicyInputs!$B$1=4,EconomicInputs!I136,"error")))) -> 63460.806 | ... AA8: =IF(PolicyInputs!$B$1=1,EconomicInputs!AA40,IF(PolicyInputs!$B$1=2,EconomicInputs!AA72,IF(PolicyInputs!$B$1=3,EconomicInputs!AA104,IF(PolicyInputs!$B$1=4,EconomicInputs!AA136,"error")))) -> 6.5659814e+08 | AD8: =SUM(P8:U8) -> 7.7163513e+10
A9: =A8+1 -> 2015 | B9: =IF(PolicyInputs!$B$1=1,EconomicInputs!B41,IF(PolicyInputs!$B$1=2,EconomicInputs!B73,IF(PolicyInputs!$B$1=3,EconomicInputs!B105,IF(PolicyInputs!$B$1=4,EconomicInputs!B137,"error")))) -> 6688049 | C9: =IF(PolicyInputs!$B$1=1,EconomicInputs!C41,IF(PolicyInputs!$B$1=2,EconomicInputs!C73,IF(PolicyInputs!$B$1=3,EconomicInputs!C105,IF(PolicyInputs!$B$1=4,EconomicInputs!C137,"error")))) -> 4628129.9 | D9: =IF(PolicyInputs!$B$1=1,EconomicInputs!D41,IF(PolicyInputs!$B$1=2,EconomicInputs!D73,IF(PolicyInputs!$B$1=3,EconomicInputs!D105,IF(PolicyInputs!$B$1=4,EconomicInputs!D137,"error")))) -> 203275.85 | E9: =IF(PolicyInputs!$B$1=1,EconomicInputs!E41,IF(PolicyInputs!$B$1=2,EconomicInputs!E73,IF(PolicyInputs!$B$1=3,EconomicInputs!E105,IF(PolicyInputs!$B$1=4,EconomicInputs!E137,"error")))) -> 5170884.7 | F9: =IF(PolicyInputs!$B$1=1,EconomicInputs!F41,IF(PolicyInputs!$B$1=2,EconomicInputs!F73,IF(PolicyInputs!$B$1=3,EconomicInputs!F105,IF(PolicyInputs!$B$1=4,EconomicInputs!F137,"error")))) -> 1382.7169 | G9: =IF(PolicyInputs!$B$1=1,EconomicInputs!G41,IF(PolicyInputs!$B$1=2,EconomicInputs!G73,IF(PolicyInputs!$B$1=3,EconomicInputs!G105,IF(PolicyInputs!$B$1=4,EconomicInputs!G137,"error")))) -> 8852.1321 | H9: =IF(PolicyInputs!$B$1=1,EconomicInputs!H41,IF(PolicyInputs!$B$1=2,EconomicInputs!H73,IF(PolicyInputs!$B$1=3,EconomicInputs!H105,IF(PolicyInputs!$B$1=4,EconomicInputs!H137,"error")))) -> 175177.12 | I9: =IF(PolicyInputs!$B$1=1,EconomicInputs!I41,IF(PolicyInputs!$B$1=2,EconomicInputs!I73,IF(PolicyInputs!$B$1=3,EconomicInputs!I105,IF(PolicyInputs!$B$1=4,EconomicInputs!I137,"error")))) -> 64710.984 | ... AA9: =IF(PolicyInputs!$B$1=1,EconomicInputs!AA41,IF(PolicyInputs!$B$1=2,EconomicInputs!AA73,IF(PolicyInputs!$B$1=3,EconomicInputs!AA105,IF(PolicyInputs!$B$1=4,EconomicInputs!AA137,"error")))) -> 6.6567486e+08 | AD9: =SUM(P9:U9) -> 7.7986282e+10
A10: =A9+1 -> 2016 | B10: =IF(PolicyInputs!$B$1=1,EconomicInputs!B42,IF(PolicyInputs!$B$1=2,EconomicInputs!B74,IF(PolicyInputs!$B$1=3,EconomicInputs!B106,IF(PolicyInputs!$B$1=4,EconomicInputs!B138,"error")))) -> 6728852.1 | C10: =IF(PolicyInputs!$B$1=1,EconomicInputs!C42,IF(PolicyInputs!$B$1=2,EconomicInputs!C74,IF(PolicyInputs!$B$1=3,EconomicInputs!C106,IF(PolicyInputs!$B$1=4,EconomicInputs!C138,"error")))) -> 4656365.6 | D10: =IF(PolicyInputs!$B$1=1,EconomicInputs!D42,IF(PolicyInputs!$B$1=2,EconomicInputs!D74,IF(PolicyInputs!$B$1=3,EconomicInputs!D106,IF(PolicyInputs!$B$1=4,EconomicInputs!D138,"error")))) -> 205308.61 | E10: =IF(PolicyInputs!$B$1=1,EconomicInputs!E42,IF(PolicyInputs!$B$1=2,EconomicInputs!E74,IF(PolicyInputs!$B$1=3,EconomicInputs!E106,IF(PolicyInputs!$B$1=4,EconomicInputs!E138,"error")))) -> 5222247.2 | F10: =IF(PolicyInputs!$B$1=1,EconomicInputs!F42,IF(PolicyInputs!$B$1=2,EconomicInputs!F74,IF(PolicyInputs!$B$1=3,EconomicInputs!F106,IF(PolicyInputs!$B$1=4,EconomicInputs!F138,"error")))) -> 1742.9528 | G10: =IF(PolicyInputs!$B$1=1,EconomicInputs!G42,IF(PolicyInputs!$B$1=2,EconomicInputs!G74,IF(PolicyInputs!$B$1=3,EconomicInputs!G106,IF(PolicyInputs!$B$1=4,EconomicInputs!G138,"error")))) -> 8940.6535 | H10: =IF(PolicyInputs!$B$1=1,EconomicInputs!H42,IF(PolicyInputs!$B$1=2,EconomicInputs!H74,IF(PolicyInputs!$B$1=3,EconomicInputs!H106,IF(PolicyInputs!$B$1=4,EconomicInputs!H138,"error")))) -> 176333.29 | I10: =IF(PolicyInputs!$B$1=1,EconomicInputs!I42,IF(PolicyInputs!$B$1=2,EconomicInputs!I74,IF(PolicyInputs!$B$1=3,EconomicInputs!I106,IF(PolicyInputs!$B$1=4,EconomicInputs!I138,"error")))) -> 65985.79 | ... AA10: =IF(PolicyInputs!$B$1=1,EconomicInputs!AA42,IF(PolicyInputs!$B$1=2,EconomicInputs!AA74,IF(PolicyInputs!$B$1=3,EconomicInputs!AA106,IF(PolicyInputs!$B$1=4,EconomicInputs!AA138,"error")))) -> 6.6973607e+08 | AD10: =SUM(P10:U10) -> 7.8818415e+10
A11: =A10+1 -> 2017 | B11: =IF(PolicyInputs!$B$1=1,EconomicInputs!B43,IF(PolicyInputs!$B$1=2,EconomicInputs!B75,IF(PolicyInputs!$B$1=3,EconomicInputs!B107,IF(PolicyInputs!$B$1=4,EconomicInputs!B139,"error")))) -> 6769904.1 | C11: =IF(PolicyInputs!$B$1=1,EconomicInputs!C43,IF(PolicyInputs!$B$1=2,EconomicInputs!C75,IF(PolicyInputs!$B$1=3,EconomicInputs!C107,IF(PolicyInputs!$B$1=4,EconomicInputs!C139,"error")))) -> 4684773.6 | D11: =IF(PolicyInputs!$B$1=1,EconomicInputs!D43,IF(PolicyInputs!$B$1=2,EconomicInputs!D75,IF(PolicyInputs!$B$1=3,EconomicInputs!D107,IF(PolicyInputs!$B$1=4,EconomicInputs!D139,"error")))) -> 207361.7 | E11: =IF(PolicyInputs!$B$1=1,EconomicInputs!E43,IF(PolicyInputs!$B$1=2,EconomicInputs!E75,IF(PolicyInputs!$B$1=3,EconomicInputs!E107,IF(PolicyInputs!$B$1=4,EconomicInputs!E139,"error")))) -> 5274147.3 | F11: =IF(PolicyInputs!$B$1=1,EconomicInputs!F43,IF(PolicyInputs!$B$1=2,EconomicInputs!F75,IF(PolicyInputs!$B$1=3,EconomicInputs!F107,IF(PolicyInputs!$B$1=4,EconomicInputs!F139,"error")))) -> 2082.7109 | G11: =IF(PolicyInputs!$B$1=1,EconomicInputs!G43,IF(PolicyInputs!$B$1=2,EconomicInputs!G75,IF(PolicyInputs!$B$1=3,EconomicInputs!G107,IF(PolicyInputs!$B$1=4,EconomicInputs!G139,"error")))) -> 9030.06 | H11: =IF(PolicyInputs!$B$1=1,EconomicInputs!H43,IF(PolicyInputs!$B$1=2,EconomicInputs!H75,IF(PolicyInputs!$B$1=3,EconomicInputs!H107,IF(PolicyInputs!$B$1=4,EconomicInputs!H139,"error")))) -> 177497.09 | I11: =IF(PolicyInputs!$B$1=1,EconomicInputs!I43,IF(PolicyInputs!$B$1=2,EconomicInputs!I75,IF(PolicyInputs!$B$1=3,EconomicInputs!I107,IF(PolicyInputs!$B$1=4,EconomicInputs!I139,"error")))) -> 67285.71 | ... AA11: =IF(PolicyInputs!$B$1=1,EconomicInputs!AA43,IF(PolicyInputs!$B$1=2,EconomicInputs!AA75,IF(PolicyInputs!$B$1=3,EconomicInputs!AA107,IF(PolicyInputs!$B$1=4,EconomicInputs!AA139,"error")))) -> 6.7382206e+08 | AD11: =SUM(P11:U11) -> 7.9660028e+10
A12: =A11+1 -> 2018 | B12: =IF(PolicyInputs!$B$1=1,EconomicInputs!B44,IF(PolicyInputs!$B$1=2,EconomicInputs!B76,IF(PolicyInputs!$B$1=3,EconomicInputs!B108,IF(PolicyInputs!$B$1=4,EconomicInputs!B140,"error")))) -> 6811206.6 | C12: =IF(PolicyInputs!$B$1=1,EconomicInputs!C44,IF(PolicyInputs!$B$1=2,EconomicInputs!C76,IF(PolicyInputs!$B$1=3,EconomicInputs!C108,IF(PolicyInputs!$B$1=4,EconomicInputs!C140,"error")))) -> 4713354.9 | D12: =IF(PolicyInputs!$B$1=1,EconomicInputs!D44,IF(PolicyInputs!$B$1=2,EconomicInputs!D76,IF(PolicyInputs!$B$1=3,EconomicInputs!D108,IF(PolicyInputs!$B$1=4,EconomicInputs!D140,"error")))) -> 209435.32 | E12: =IF(PolicyInputs!$B$1=1,EconomicInputs!E44,IF(PolicyInputs!$B$1=2,EconomicInputs!E76,IF(PolicyInputs!$B$1=3,EconomicInputs!E108,IF(PolicyInputs!$B$1=4,EconomicInputs!E140,"error")))) -> 5326503.9 | F12: =IF(PolicyInputs!$B$1=1,EconomicInputs!F44,IF(PolicyInputs!$B$1=2,EconomicInputs!F76,IF(PolicyInputs!$B$1=3,EconomicInputs!F108,IF(PolicyInputs!$B$1=4,EconomicInputs!F140,"error")))) -> 2488.4482 | G12: =IF(PolicyInputs!$B$1=1,EconomicInputs!G44,IF(PolicyInputs!$B$1=2,EconomicInputs!G76,IF(PolicyInputs!$B$1=3,EconomicInputs!G108,IF(PolicyInputs!$B$1=4,EconomicInputs!G140,"error")))) -> 9120.3606 | H12: =IF(PolicyInputs!$B$1=1,EconomicInputs!H44,IF(PolicyInputs!$B$1=2,EconomicInputs!H76,IF(PolicyInputs!$B$1=3,EconomicInputs!H108,IF(PolicyInputs!$B$1=4,EconomicInputs!H140,"error")))) -> 178668.57 | I12: =IF(PolicyInputs!$B$1=1,EconomicInputs!I44,IF(PolicyInputs!$B$1=2,EconomicInputs!I76,IF(PolicyInputs!$B$1=3,EconomicInputs!I108,IF(PolicyInputs!$B$1=4,EconomicInputs!I140,"error")))) -> 68611.239 | ... AA12: =IF(PolicyInputs!$B$1=1,EconomicInputs!AA44,IF(PolicyInputs!$B$1=2,EconomicInputs!AA76,IF(PolicyInputs!$B$1=3,EconomicInputs!AA108,IF(PolicyInputs!$B$1=4,EconomicInputs!AA140,"error")))) -> 6.7793298e+08 | AD12: =SUM(P12:U12) -> 8.051124e+10
A13: =A12+1 -> 2019 | B13: =IF(PolicyInputs!$B$1=1,EconomicInputs!B45,IF(PolicyInputs!$B$1=2,EconomicInputs!B77,IF(PolicyInputs!$B$1=3,EconomicInputs!B109,IF(PolicyInputs!$B$1=4,EconomicInputs!B141,"error")))) -> 6852761 | C13: =IF(PolicyInputs!$B$1=1,EconomicInputs!C45,IF(PolicyInputs!$B$1=2,EconomicInputs!C77,IF(PolicyInputs!$B$1=3,EconomicInputs!C109,IF(PolicyInputs!$B$1=4,EconomicInputs!C141,"error")))) -> 4742110.6 | D13: =IF(PolicyInputs!$B$1=1,EconomicInputs!D45,IF(PolicyInputs!$B$1=2,EconomicInputs!D77,IF(PolicyInputs!$B$1=3,EconomicInputs!D109,IF(PolicyInputs!$B$1=4,EconomicInputs!D141,"error")))) -> 211529.67 | E13: =IF(PolicyInputs!$B$1=1,EconomicInputs!E45,IF(PolicyInputs!$B$1=2,EconomicInputs!E77,IF(PolicyInputs!$B$1=3,EconomicInputs!E109,IF(PolicyInputs!$B$1=4,EconomicInputs!E141,"error")))) -> 5379423 | F13: =IF(PolicyInputs!$B$1=1,EconomicInputs!F45,IF(PolicyInputs!$B$1=2,EconomicInputs!F77,IF(PolicyInputs!$B$1=3,EconomicInputs!F109,IF(PolicyInputs!$B$1=4,EconomicInputs!F141,"error")))) -> 2859.2497 | G13: =IF(PolicyInputs!$B$1=1,EconomicInputs!G45,IF(PolicyInputs!$B$1=2,EconomicInputs!G77,IF(PolicyInputs!$B$1=3,EconomicInputs!G109,IF(PolicyInputs!$B$1=4,EconomicInputs!G141,"error")))) -> 9211.5642 | H13: =IF(PolicyInputs!$B$1=1,EconomicInputs!H45,IF(PolicyInputs!$B$1=2,EconomicInputs!H77,IF(PolicyInputs!$B$1=3,EconomicInputs!H109,IF(PolicyInputs!$B$1=4,EconomicInputs!H141,"error")))) -> 179847.79 | I13: =IF(PolicyInputs!$B$1=1,EconomicInputs!I45,IF(PolicyInputs!$B$1=2,EconomicInputs!I77,IF(PolicyInputs!$B$1=3,EconomicInputs!I109,IF(PolicyInputs!$B$1=4,EconomicInputs!I141,"error")))) -> 69962.88 | ... AA13: =IF(PolicyInputs!$B$1=1,EconomicInputs!AA45,IF(PolicyInputs!$B$1=2,EconomicInputs!AA77,IF(PolicyInputs!$B$1=3,EconomicInputs!AA109,IF(PolicyInputs!$B$1=4,EconomicInputs!AA141,"error")))) -> 6.8206898e+08 | AD13: =SUM(P13:U13) -> 8.1372171e+10
A14: =A13+1 -> 2020 | B14: =IF(PolicyInputs!$B$1=1,EconomicInputs!B46,IF(PolicyInputs!$B$1=2,EconomicInputs!B78,IF(PolicyInputs!$B$1=3,EconomicInputs!B110,IF(PolicyInputs!$B$1=4,EconomicInputs!B142,"error")))) -> 6894569 | C14: =IF(PolicyInputs!$B$1=1,EconomicInputs!C46,IF(PolicyInputs!$B$1=2,EconomicInputs!C78,IF(PolicyInputs!$B$1=3,EconomicInputs!C110,IF(PolicyInputs!$B$1=4,EconomicInputs!C142,"error")))) -> 4771041.7 | D14: =IF(PolicyInputs!$B$1=1,EconomicInputs!D46,IF(PolicyInputs!$B$1=2,EconomicInputs!D78,IF(PolicyInputs!$B$1=3,EconomicInputs!D110,IF(PolicyInputs!$B$1=4,EconomicInputs!D142,"error")))) -> 213644.97 | E14: =IF(PolicyInputs!$B$1=1,EconomicInputs!E46,IF(PolicyInputs!$B$1=2,EconomicInputs!E78,IF(PolicyInputs!$B$1=3,EconomicInputs!E110,IF(PolicyInputs!$B$1=4,EconomicInputs!E142,"error")))) -> 5432892.4 | F14: =IF(PolicyInputs!$B$1=1,EconomicInputs!F46,IF(PolicyInputs!$B$1=2,EconomicInputs!F78,IF(PolicyInputs!$B$1=3,EconomicInputs!F110,IF(PolicyInputs!$B$1=4,EconomicInputs!F142,"error")))) -> 3212.6584 | G14: =IF(PolicyInputs!$B$1=1,EconomicInputs!G46,IF(PolicyInputs!$B$1=2,EconomicInputs!G78,IF(PolicyInputs!$B$1=3,EconomicInputs!G110,IF(PolicyInputs!$B$1=4,EconomicInputs!G142,"error")))) -> 9303.6799 | H14: =IF(PolicyInputs!$B$1=1,EconomicInputs!H46,IF(PolicyInputs!$B$1=2,EconomicInputs!H78,IF(PolicyInputs!$B$1=3,EconomicInputs!H110,IF(PolicyInputs!$B$1=4,EconomicInputs!H142,"error")))) -> 181034.78 | I14: =IF(PolicyInputs!$B$1=1,EconomicInputs!I46,IF(PolicyInputs!$B$1=2,EconomicInputs!I78,IF(PolicyInputs!$B$1=3,EconomicInputs!I110,IF(PolicyInputs!$B$1=4,EconomicInputs!I142,"error")))) -> 71341.149 | ... AA14: =IF(PolicyInputs!$B$1=1,EconomicInputs!AA46,IF(PolicyInputs!$B$1=2,EconomicInputs!AA78,IF(PolicyInputs!$B$1=3,EconomicInputs!AA110,IF(PolicyInputs!$B$1=4,EconomicInputs!AA142,"error")))) -> 6.8623021e+08 | AD14: =SUM(P14:U14) -> 8.2242943e+10
