{"text_format":"1","workbook":"xlsx","n_sheets":8,"sheets":["Support","Website Report","Calculation","Main","Voucher Build","County Population","City-Town Population","Review"],"not_rendered":{"charts":0,"images":2,"macros":1,"external_links":1,"defined_names":9,"comments":1,"pivot_tables":0},"unopened":[],"bounds":{"document_bytes":16777216,"sheet_cells":100000,"rows_first":2000,"rows_last":500,"rows_between":2000,"halvings":0,"cell_chars":16384,"cell_head_chars":4096},"cells_cut":0,"cells_raw":0,"read":"whole","date_system":"1900"}

{"sheet":"Support","index":0,"n_rows":107,"n_cols":34,"rows_kept":107,"cut":false,"hidden":true,"merged":[]}
["INVOICE DATE (YYYY-MM-DD)",{"$f":"TEXT(Main!$B$1,\"yyyy-mm-dd\")","v":"2019-08-15"},"This is normally today's date, but may be future dated for some distributions"]
["ACCOUNTING DATE (YYYY-MM-DD)",{"$f":"B1","v":"2019-08-15"},"This is normally today's date, but may be future dated for some distributions"]
["SCHEDULED TO PAY DATE (YYYY-MM-DD)",{"$f":"B1","v":"2019-08-15"},"This is normally today's date, but may be future dated for some distributions"]
["BUDGET DATE (YYYY-MM-DD)",{"$f":"B1","v":"2019-08-15"},"This is normally today's date, but may be future dated for some distributions"]
["MONTH:",{"$f":"TEXT(Main!$B$1,\"mm\")","v":"08"},"Current Month (This is for the invoice number)"]
["Day",{"$f":"TEXT(Main!$B$1,\"dd\")","v":"15"},"Current Day (This is for the invoice number)"]
["YEAR:",{"$f":"TEXT(Main!$B$1,\"yy\")","v":"19"},"Current Year (This is for the invoice number)"]
["DISTRIBUTION INDICATOR CODE:","RRS","This is the Settlement Department assigned Distribution Indicator for the invoice number"]
["SETTLEMENT DEPT INDICATOR:","SD","This is \"SD\" for Settlement Department"]
["BUDGET REFERENCE:",{"$f":"IF(MONTH(Main!$B$1)>6,YEAR(Main!$B$1)+1,YEAR(Main!$B$1))","v":2020}]
["BU #",{"$f":"Main!L10","v":"00050"}]
[]
[]
[1,2,3,4,5,6,7,8,9,10,11,12,13,14,15,16,17,18,19,20,21,22,23,24,25,26,27,28,29,30,31,32,33,34]
["GL BUSINESS UNIT","AGCY #","SETTLEMENT DEPT INDICATOR","MTH","Day","YEAR","DIST INDICATOR","INVOICE OR COUNTY NUMBER","INVOICE NUMBER","INVOICE DATE (YYYY-MM-DD)","ORIGIN","TOTAL INVOICE AMOUNT","Voucher Source","VENDOR ID","VENDOR LOCATION","INVOICE FROM ADDRESS SEQ NBR","REMITTING TO ADDRESS SEQ NBR","DESCRIPTION","ACCOUNT","FUND","PROGRAM","LOCALITY","BUDGET REFERENCE","BUDGET DATE (YYYY-MM-DD)","DEPARTMENT","PAYMENT MESSAGE","SCHEDULED TO PAY (YYYY-MM-DD)","PROJECT","PC BUSINESS UNIT","ACTIVITY","Source Type","Category","Subcategory","ANALYSIS TYPE"]
[{"$f":"Main!L10","v":"00050"},{"$f":"RIGHT(A16,3)","v":"050"},{"$f":"$B$9","v":"SD"},{"$f":"$B$5","v":"08"},{"$f":"$B$6","v":"15"},{"$f":"$B$7","v":"19"},{"$f":"$B$8","v":"RRS"},"0001",{"$f":"CONCATENATE(B16,C16,D16,E16,F16,G16,H16)","v":"050SD081519RRS0001"}]
[{"$f":"Main!L11","v":"00050"},{"$f":"RIGHT(A17,3)","v":"050"},{"$f":"$B$9","v":"SD"},{"$f":"$B$5","v":"08"},{"$f":"$B$6","v":"15"},{"$f":"$B$7","v":"19"},{"$f":"$B$8","v":"RRS"},"0002",{"$f":"CONCATENATE(B17,C17,D17,E17,F17,G17,H17)","v":"050SD081519RRS0002"}]
[{"$f":"Main!L12","v":"00050"},"050","SD","08","15","19","RRS","0003","050SD081519RRS0003"]
[{"$f":"Main!L13","v":"00050"},"050","SD","08","15","19","RRS","0004","050SD081519RRS0004"]
[{"$f":"Main!L14","v":"00050"},"050","SD","08","15","19","RRS","0005","050SD081519RRS0005"]
[{"$f":"Main!L15","v":"00050"},"050","SD","08","15","19","RRS","0006","050SD081519RRS0006"]
[{"$f":"Main!L16","v":"00050"},"050","SD","08","15","19","RRS","0007","050SD081519RRS0007"]
[{"$f":"Main!L17","v":"00050"},"050","SD","08","15","19","RRS","0008","050SD081519RRS0008"]
[{"$f":"Main!L18","v":"00050"},"050","SD","08","15","19","RRS","0009","050SD081519RRS0009"]
[{"$f":"Main!L19","v":"00050"},"050","SD","08","15","19","RRS","0010","050SD081519RRS0010"]
[{"$f":"Main!L20","v":"00050"},"050","SD","08","15","19","RRS","0011","050SD081519RRS0011"]
[{"$f":"Main!L21","v":"00050"},"050","SD","08","15","19","RRS","0012","050SD081519RRS0012"]
[{"$f":"Main!L22","v":"00050"},"050","SD","08","15","19","RRS","0013","050SD081519RRS0013"]
[{"$f":"Main!L23","v":"00050"},"050","SD","08","15","19","RRS","0014","050SD081519RRS0014"]
[{"$f":"Main!L24","v":"00050"},"050","SD","08","15","19","RRS","0015","050SD081519RRS0015"]
[{"$f":"Main!L25","v":"00050"},"050","SD","08","15","19","RRS","0016","050SD081519RRS0016"]
[{"$f":"Main!L26","v":"00050"},"050","SD","08","15","19","RRS","0017","050SD081519RRS0017"]
[{"$f":"Main!L27","v":"00050"},"050","SD","08","15","19","RRS","0018","050SD081519RRS0018"]
[{"$f":"Main!L28","v":"00050"},"050","SD","08","15","19","RRS","0019","050SD081519RRS0019"]
[{"$f":"Main!L29","v":"00050"},"050","SD","08","15","19","RRS","0020","050SD081519RRS0020"]
[{"$f":"Main!L30","v":"00050"},"050","SD","08","15","19","RRS","0021","050SD081519RRS0021"]
[{"$f":"Main!L31","v":"00050"},"050","SD","08","15","19","RRS","0022","050SD081519RRS0022"]
[{"$f":"Main!L32","v":"00050"},"050","SD","08","15","19","RRS","0023","050SD081519RRS0023"]
[{"$f":"Main!L33","v":"00050"},"050","SD","08","15","19","RRS","0024","050SD081519RRS0024"]
[{"$f":"Main!L34","v":"00050"},"050","SD","08","15","19","RRS","0025","050SD081519RRS0025"]
[{"$f":"Main!L35","v":"00050"},"050","SD","08","15","19","RRS","0026","050SD081519RRS0026"]
[{"$f":"Main!L36","v":"00050"},"050","SD","08","15","19","RRS","0027","050SD081519RRS0027"]
[{"$f":"Main!L37","v":"00050"},"050","SD","08","15","19","RRS","0028","050SD081519RRS0028"]
[{"$f":"Main!L38","v":"00050"},"050","SD","08","15","19","RRS","0029","050SD081519RRS0029"]
[{"$f":"Main!L39","v":"00050"},"050","SD","08","15","19","RRS","0030","050SD081519RRS0030"]
[{"$f":"Main!L40","v":"00050"},"050","SD","08","15","19","RRS","0031","050SD081519RRS0031"]
[{"$f":"Main!L41","v":"00050"},"050","SD","08","15","19","RRS","0032","050SD081519RRS0032"]
[{"$f":"Main!L42","v":"00050"},"050","SD","08","15","19","RRS","0033","050SD081519RRS0033"]
[{"$f":"Main!L43","v":"00050"},"050","SD","08","15","19","RRS","0034","050SD081519RRS0034"]
[{"$f":"Main!L44","v":"00050"},"050","SD","08","15","19","RRS","0035","050SD081519RRS0035"]
[{"$f":"Main!L45","v":"00050"},"050","SD","08","15","19","RRS","0036","050SD081519RRS0036"]
[{"$f":"Main!L46","v":"00050"},"050","SD","08","15","19","RRS","0037","050SD081519RRS0037"]
[{"$f":"Main!L47","v":"00050"},"050","SD","08","15","19","RRS","0038","050SD081519RRS0038"]
[{"$f":"Main!L48","v":"00050"},"050","SD","08","15","19","RRS","0039","050SD081519RRS0039"]
[{"$f":"Main!L49","v":"00050"},"050","SD","08","15","19","RRS","0040","050SD081519RRS0040"]
[{"$f":"Main!L50","v":"00050"},"050","SD","08","15","19","RRS","0041","050SD081519RRS0041"]
[{"$f":"Main!L51","v":"00050"},"050","SD","08","15","19","RRS","0042","050SD081519RRS0042"]
[{"$f":"Main!L52","v":"00050"},"050","SD","08","15","19","RRS","0043","050SD081519RRS0043"]
[{"$f":"Main!L53","v":"00050"},"050","SD","08","15","19","RRS","0044","050SD081519RRS0044"]
[{"$f":"Main!L54","v":"00050"},"050","SD","08","15","19","RRS","0045","050SD081519RRS0045"]
[{"$f":"Main!L55","v":"00050"},"050","SD","08","15","19","RRS","0046","050SD081519RRS0046"]
[{"$f":"Main!L56","v":"00050"},"050","SD","08","15","19","RRS","0047","050SD081519RRS0047"]
[{"$f":"Main!L57","v":"00050"},"050","SD","08","15","19","RRS","0048","050SD081519RRS0048"]
[{"$f":"Main!L58","v":"00050"},"050","SD","08","15","19","RRS","0049","050SD081519RRS0049"]
[{"$f":"Main!L59","v":"00050"},"050","SD","08","15","19","RRS","0050","050SD081519RRS0050"]
[{"$f":"Main!L60","v":"00050"},"050","SD","08","15","19","RRS","0051","050SD081519RRS0051"]
[{"$f":"Main!L61","v":"00050"},"050","SD","08","15","19","RRS","0052","050SD081519RRS0052"]
[{"$f":"Main!L62","v":"00050"},"050","SD","08","15","19","RRS","0053","050SD081519RRS0053"]
[{"$f":"Main!L63","v":"00050"},"050","SD","08","15","19","RRS","0054","050SD081519RRS0054"]
[{"$f":"Main!L64","v":"00050"},"050","SD","08","15","19","RRS","0055","050SD081519RRS0055"]
[{"$f":"Main!L65","v":"00050"},"050","SD","08","15","19","RRS","0056","050SD081519RRS0056"]
[{"$f":"Main!L66","v":"00050"},"050","SD","08","15","19","RRS","0057","050SD081519RRS0057"]
[{"$f":"Main!L67","v":"00050"},"050","SD","08","15","19","RRS","0058","050SD081519RRS0058"]
[{"$f":"Main!L68","v":"00050"},"050","SD","08","15","19","RRS","0059","050SD081519RRS0059"]
[{"$f":"Main!L69","v":"00050"},"050","SD","08","15","19","RRS","0060","050SD081519RRS0060"]
[{"$f":"Main!L70","v":"00050"},"050","SD","08","15","19","RRS","0061","050SD081519RRS0061"]
[{"$f":"Main!L71","v":"00050"},"050","SD","08","15","19","RRS","0062","050SD081519RRS0062"]
[{"$f":"Main!L72","v":"00050"},"050","SD","08","15","19","RRS","0063","050SD081519RRS0063"]
[{"$f":"Main!L73","v":"00050"},"050","SD","08","15","19","RRS","0064","050SD081519RRS0064"]
[{"$f":"Main!L74","v":"00050"},"050","SD","08","15","19","RRS","0065","050SD081519RRS0065"]
[{"$f":"Main!L75","v":"00050"},{"$f":"RIGHT(A81,3)","v":"050"},{"$f":"$B$9","v":"SD"},{"$f":"$B$5","v":"08"},{"$f":"$B$6","v":"15"},{"$f":"$B$7","v":"19"},{"$f":"$B$8","v":"RRS"},"0066",{"$f":"CONCATENATE(B81,C81,D81,E81,F81,G81,H81)","v":"050SD081519RRS0066"}]
[{"$f":"Main!L76","v":"00050"},"050","SD","08","15","19","RRS","0067","050SD081519RRS0067"]
[{"$f":"Main!L77","v":"00050"},"050","SD","08","15","19","RRS","0068","050SD081519RRS0068"]
[{"$f":"Main!L78","v":"00050"},"050","SD","08","15","19","RRS","0069","050SD081519RRS0069"]
[{"$f":"Main!L79","v":"00050"},"050","SD","08","15","19","RRS","0070","050SD081519RRS0070"]
[{"$f":"Main!L80","v":"00050"},"050","SD","08","15","19","RRS","0071","050SD081519RRS0071"]
[{"$f":"Main!L81","v":"00050"},"050","SD","08","15","19","RRS","0072","050SD081519RRS0072"]
[{"$f":"Main!L82","v":"00050"},"050","SD","08","15","19","RRS","0073","050SD081519RRS0073"]
[{"$f":"Main!L83","v":"00050"},"050","SD","08","15","19","RRS","0074","050SD081519RRS0074"]
[{"$f":"Main!L84","v":"00050"},"050","SD","08","15","19","RRS","0075","050SD081519RRS0075"]
[{"$f":"Main!L85","v":"00050"},"050","SD","08","15","19","RRS","0076","050SD081519RRS0076"]
[{"$f":"Main!L86","v":"00050"},"050","SD","08","15","19","RRS","0077","050SD081519RRS0077"]
[{"$f":"Main!L87","v":"00050"},"050","SD","08","15","19","RRS","0078","050SD081519RRS0078"]
[{"$f":"Main!L88","v":"00050"},"050","SD","08","15","19","RRS","0079","050SD081519RRS0079"]
[{"$f":"Main!L89","v":"00050"},"050","SD","08","15","19","RRS","0080","050SD081519RRS0080"]
[{"$f":"Main!L90","v":"00050"},"050","SD","08","15","19","RRS","0081","050SD081519RRS0081"]
[{"$f":"Main!L91","v":"00050"},"050","SD","08","15","19","RRS","0082","050SD081519RRS0082"]
[{"$f":"Main!L92","v":"00050"},"050","SD","08","15","19","RRS","0083","050SD081519RRS0083"]
[{"$f":"Main!L93","v":"00050"},"050","SD","08","15","19","RRS","0084","050SD081519RRS0084"]
[{"$f":"Main!L94","v":"00050"},"050","SD","08","15","19","RRS","0085","050SD081519RRS0085"]
[{"$f":"Main!L95","v":"00050"},"050","SD","08","15","19","RRS","0086","050SD081519RRS0086"]
[{"$f":"Main!L96","v":"00050"},"050","SD","08","15","19","RRS","0087","050SD081519RRS0087"]
[{"$f":"Main!L97","v":"00050"},"050","SD","08","15","19","RRS","0088","050SD081519RRS0088"]
[{"$f":"Main!L98","v":"00050"},"050","SD","08","15","19","RRS","0089","050SD081519RRS0089"]
[{"$f":"Main!L99","v":"00050"},"050","SD","08","15","19","RRS","0090","050SD081519RRS0090"]
[{"$f":"Main!L100","v":"00050"},"050","SD","08","15","19","RRS","0091","050SD081519RRS0091"]
[{"$f":"Main!L101","v":"00050"},"050","SD","08","15","19","RRS","0092","050SD081519RRS0092"]

{"sheet":"Website Report","index":1,"n_rows":796,"n_cols":21,"rows_kept":796,"cut":false,"hidden":false,"merged":[[4,17,4,18],[5,17,5,18],[0,0,0,10],[1,0,1,10],[3,0,3,10],[2,0,2,10]]}
["Riverboat Wagering Tax Distribution"]
["for State Fiscal Year 2020"]
["Prepared by Indiana Auditor of State"]
["August 15, 2020"]
[null,null,null,null,null,null,null,null,null,null,null,null,null,null,null,null,null,"Population"]
["County ",null,null,null,null,null,"2010 Census",null,"Percent of ",null,null,null,null,"Prior",null,null,null,"Proof to calculation"]
["Code ",null,"Type",null,"Locality Name",null,"Population (1)",null,"Total Population",null,"Unit Share (2)",null,"Proof","Year",null,null,null,"Population","Variance"]
[{"$f":"'[1]Distribution Factors'!F2","v":1},null,"County",null,"Adams County",null,18848,null,{"$f":"+G8/$G$13","v":0.54811411289149969},null,{"$f":"M13-SUM(K9:K12)","v":111654.05999999998},null,null,111654.06,null,{"$f":"K8-N8","v":0}]
[{"$f":"'[1]Distribution Factors'!F3","v":1},null,"City/Town",null,"BERNE",null,3999,null,{"$f":"+G9/$G$13","v":0.11629394829441358},null,{"$f":"ROUND(I9*$M$13,2)","v":23689.759999999998},null,null,23689.759999999998,null,0]
[{"$f":"'[1]Distribution Factors'!F4","v":1},null,"City/Town",null,"DECATUR",null,9405,null,{"$f":"+G10/$G$13","v":0.27350452205775438},null,{"$f":"ROUND(I10*$M$13,2)","v":55714.47},null,null,55714.47,null,0]
[{"$f":"'[1]Distribution Factors'!F5","v":1},null,"City/Town",null,"GENEVA",null,1293,null,{"$f":"+G11/$G$13","v":3.7601419140954433E-2},null,{"$f":"ROUND(I11*$M$13,2)","v":7659.63},null,null,7659.63,null,0]
[{"$f":"'[1]Distribution Factors'!F6","v":1},null,"City/Town",null,"MONROE",null,842,null,{"$f":"+G12/$G$13","v":2.4485997615377904E-2},null,{"$f":"ROUND(I12*$M$13,2)","v":4987.9399999999996},null,null,4987.9399999999996,null,0]
[null,null,null,null,"Sub-Total ",null,{"$f":"SUM(G8:G12)","v":34387},null,{"$f":"SUM(I8:I12)","v":1},null,{"$f":"SUM(K8:K12)","v":203705.86},null,{"$f":"Calculation!I8","v":203705.86},{"$f":"SUM(N8:N12)","v":203705.86000000002},{"$f":"K13=M13","v":true},0,null,{"$f":"Calculation!E8","v":34387},{"$f":"R13-G13","v":0},null,{"$f":"K13=M13","v":true}]
[]
[{"$f":"'[1]Distribution Factors'!F7","v":2},null,"County",null,"ALLEN COUNTY",null,74496,null,{"$f":"+G15/$G$24","v":0.20965476870600883},null,{"$f":"M24-SUM(K16:K23)","v":441310.87999999989},null,"",441308.4,null,{"$f":"K15-N15","v":2.4799999998649582}]
[{"$f":"'[1]Distribution Factors'!F8","v":2},null,"City/Town",null,"FORTWAYNE",null,253689,null,{"$f":"+G16/$G$24","v":0.71395925443324038},null,{"$f":"ROUND(I16*$M$24,2)","v":1502841.98},null,"",1502833.52,null,8.4599999999627471]
[{"$f":"'[1]Distribution Factors'!F9","v":2},null,"City/Town",null,"GRABILL",null,1053,null,2.9634674539227245E-3,null,{"$f":"ROUND(I17*$M$24,2)","v":6237.92},null,"",6237.89,null,2.9999999999745341E-2]
[{"$f":"'[1]Distribution Factors'!F10","v":2},null,"City/Town",null,"HUNTERTOWN",null,4810,null,1.3536826641375409E-2,null,{"$f":"ROUND(I18*$M$24,2)","v":28494.22},null,"",28494.06,null,0.15999999999985448]
[{"$f":"'[1]Distribution Factors'!F11","v":2},null,"City/Town",null,"LEO-CEDARVILLE",null,3603,null,1.0139955590202827E-2,null,{"$f":"ROUND(I19*$M$24,2)","v":21344.01},null,"",21343.89,null,0.11999999999898137]
[{"$f":"'[1]Distribution Factors'!F12","v":2},null,"City/Town",null,"MONROEVILLE",null,1235,null,{"$f":"+G20/$G$24","v":3.4756717052180103E-3},null,{"$f":"ROUND(I20*$M$24,2)","v":7316.08},null,"",7316.04,null,3.999999999996362E-2]
[{"$f":"'[1]Distribution Factors'!F13","v":2},null,"City/Town",null,"NEW HAVEN",null,14794,null,4.1634888426716796E-2,null,{"$f":"ROUND(I21*$M$24,2)","v":87638.98},null,"",87638.48,null,0.5]
[{"$f":"'[1]Distribution Factors'!F14","v":2},null,"City/Town",null,"WOODBURN",null,1520,null,{"$f":"+G22/$G$24","v":4.2777497910375514E-3},null,{"$f":"ROUND(I22*$M$24,2)","v":9004.41},null,null,9004.36,null,4.9999999999272404E-2]
[{"$f":"'[1]Distribution Factors'!F15","v":2},null,"City/Town",null,"ZANESVILLE",null,127,null,3.5741725227747962E-4,null,{"$f":"ROUND(I23*$M$24,2)","v":752.34},null,null,752.34,null,0]
[null,null,null,null,"Sub-Total ",null,{"$f":"SUM(G15:G23)","v":355327},null,{"$f":"SUM(I15:I23)","v":1.0000000000000002},null,{"$f":"SUM(K15:K23)","v":2104940.8199999998},null,{"$f":"Calculation!I9","v":2104940.8199999998},null,{"$f":"K24=M24","v":true},2104940.8199999998,null,{"$f":"Calculation!E9","v":355329},{"$f":"R24-G24","v":2},null,{"$f":"K24=M24","v":true}]
[]
[{"$f":"'[1]Distribution Factors'!F16","v":3},null,"County",null,"BARTHOLOMEW ",null,28979,null,{"$f":"G26/$G$34","v":0.37736021043310675},null,{"$f":"M34-SUM(K27:K33)","v":171669.30999999994},null,"",171669.3,null,{"$f":"K26-N26","v":9.9999999511055648E-3}]
[{"$f":"'[1]Distribution Factors'!F17","v":3},null,"City/Town",null,"CLIFFORD ",null,233,null,{"$f":"G27/$G$34","v":3.0340912050420606E-3},null,{"$f":"ROUND(I27*$M$34,2)","v":1380.27},null,"",1380.27,null,0]
[{"$f":"'[1]Distribution Factors'!F18","v":3},null,"City/Town",null,"COLUMBUS ",null,44061,null,0.57375576216891944,null,{"$f":"ROUND(I28*$M$34,2)","v":261013.87},null,"",261013.87,null,0]
[{"$f":"'[1]Distribution Factors'!F19","v":3},null,"City/Town",null,"EDINBURGH ",null,376,null,4.8962158501966299E-3,null,{"$f":"ROUND(I29*$M$34,2)","v":2227.39},null,"",2227.39,null,0]
[{"$f":"'[1]Distribution Factors'!F20","v":3},null,"City/Town",null,"ELIZABETHTOWN ",null,504,null,6.5630127353699507E-3,null,{"$f":"ROUND(I30*$M$34,2)","v":2985.66},null,"",2985.66,null,0]
[{"$f":"'[1]Distribution Factors'!F21","v":3},null,"City/Town",null,"HARTSVILLE ",null,362,null,4.7139099408807983E-3,null,{"$f":"ROUND(I31*$M$34,2)","v":2144.46},null,"",2144.46,null,0]
[{"$f":"'[1]Distribution Factors'!F22","v":3},null,"City/Town",null,"HOPE ",null,2102,null,2.737193009870563E-2,null,{"$f":"ROUND(I32*$M$34,2)","v":12452.08},null,"",12452.08,null,0]
[{"$f":"'[1]Distribution Factors'!F23","v":3},null,"City/Town",null,"JONESVILLE ",null,177,null,2.3048675677787328E-3,null,{"$f":"ROUND(I33*$M$34,2)","v":1048.53},null,null,1048.53,null,0]
[null,null," ",null,"Sub-Total ",null,{"$f":"SUM(G26:G33)","v":76794},null,{"$f":"SUM(I25:I33)","v":1},null,{"$f":"SUM(K26:K33)","v":454921.57},null,{"$f":"Calculation!I10","v":454921.57},null,{"$f":"K34=M34","v":true},null,null,{"$f":"Calculation!E10","v":76794},{"$f":"R34-G34","v":0},null,{"$f":"K34=M34","v":true}]
[]
[{"$f":"'[1]Distribution Factors'!F24","v":4},null,"County",null,"BENTON ",null,3115,null,{"$f":"+G36/$G$43","v":0.35181838716964087},null,{"$f":"M43-SUM(K37:K42)","v":18453.010000000002},null,"",18453.009999999998,null,{"$f":"K36-N36","v":0}]
[{"$f":"'[1]Distribution Factors'!F25","v":4},null,"City/Town",null,"AMBIA ",null,239,null,{"$f":"+G37/$G$43","v":2.6993449288457195E-2},null,{"$f":"ROUND(I37*$M$43,2)","v":1415.82},null,"",1415.82,null,0]
[{"$f":"'[1]Distribution Factors'!F26","v":4},null,"City/Town",null,"BOSWELL ",null,778,null,8.7869889315563582E-2,null,{"$f":"ROUND(I38*$M$43,2)","v":4608.8100000000004},null,"",4608.8100000000004,null,0]
[{"$f":"'[1]Distribution Factors'!F27","v":4},null,"City/Town",null,"EARL PARK ",null,348,null,3.9304269256833071E-2,null,{"$f":"ROUND(I39*$M$43,2)","v":2061.52},null,"",2061.52,null,0]
[{"$f":"'[1]Distribution Factors'!F28","v":4},null,"City/Town",null,"FOWLER ",null,2317,null,0.26168963180483396,null,{"$f":"ROUND(I40*$M$43,2)","v":13725.72},null,"",13725.72,null,0]
[{"$f":"'[1]Distribution Factors'!F29","v":4},null,"City/Town",null,"OTTERBEIN ",null,895,null,0.10108425570363677,null,{"$f":"ROUND(I41*$M$43,2)","v":5301.91},null,"",5301.91,null,0]
[{"$f":"'[1]Distribution Factors'!F30","v":4},null,"City/Town",null,"OXFORD ",null,1162,null,0.13124011746103456,null,{"$f":"ROUND(I42*$M$43,2)","v":6883.6},null,null,6883.6,null,0]
[null,null," ",null,"Sub-Total ",null,{"$f":"SUM(G36:G42)","v":8854},null,{"$f":"SUM(I36:I42)","v":1},null,{"$f":"SUM(K36:K42)","v":52450.390000000007},null,{"$f":"Calculation!I11","v":52450.39},null,{"$f":"K43=M43","v":true},null,null,{"$f":"Calculation!E11","v":8854},{"$f":"R43-G43","v":0},null,{"$f":"K43=M43","v":true}]
[]
[{"$f":"'[1]Distribution Factors'!F31","v":5},null,"County",null,"BLACKFORD ",null,4365,null,{"$f":"+G45/$G$50","v":0.34192386025379917},null,{"$f":"M50-SUM(K46:K49)","v":25857.9},null,"",25857.91,null,{"$f":"K45-N45","v":-9.9999999983992893E-3}]
[{"$f":"'[1]Distribution Factors'!F32","v":5},null,"City/Town",null,"DUNKIRK ",null,145,null,{"$f":"+G46/$G$50","v":1.1358295472348425E-2},null,{"$f":"ROUND(I46*$M$50,2)","v":858.97},null,"",858.97,null,0]
[{"$f":"'[1]Distribution Factors'!F33","v":5},null,"City/Town",null,"HARTFORD ",null,6220,null,0.48723170922763592,null,{"$f":"ROUND(I47*$M$50,2)","v":36846.79},null,"",36846.79,null,0]
[{"$f":"'[1]Distribution Factors'!F34","v":5},null,"City/Town",null,"MONTPELIER ",null,1805,null,0.14139119536268213,null,{"$f":"ROUND(I48*$M$50,2)","v":10692.68},null,"",10692.68,null,0]
[{"$f":"'[1]Distribution Factors'!F35","v":5},null,"City/Town",null,"SHAMROCK LAKES ",null,231,null,1.809493968353439E-2,null,{"$f":"ROUND(I49*$M$50,2)","v":1368.43},null,null,1368.43,null,0]
[null,null,null,null,"Sub-Total ",null,{"$f":"SUM(G45:G49)","v":12766},null,{"$f":"SUM(I45:I49)","v":1},null,{"$f":"SUM(K45:K49)","v":75624.76999999999},null,{"$f":"Calculation!I12","v":75624.77},null,{"$f":"K50=M50","v":true},null,null,{"$f":"Calculation!E12","v":12766},{"$f":"R50-G50","v":0},null,{"$f":"K50=M50","v":true}]
[null,null,null,null,null,null,null,null,null,null,null,null,null,null,null,{"$f":"K51-N51","v":0}]
[{"$f":"'[1]Distribution Factors'!F36","v":6},null,"County",null,"BOONE ",null,20774,null,{"$f":"+G52/$G$60","v":0.36677259887005648},null,{"$f":"M60-SUM(K53:K59)","v":123063.51999999999},null,"",123063.53,null,-1.0000000009313226E-2]
[{"$f":"'[1]Distribution Factors'!F37","v":6},null,"City/Town",null,"ADVANCE ",null,477,null,{"$f":"+G53/$G$60","v":8.4216101694915262E-3},null,{"$f":"ROUND(I53*$M$60,2)","v":2825.71},null,"",2825.71,null,0]
[{"$f":"'[1]Distribution Factors'!F38","v":6},null,"City/Town",null,"JAMESTOWN ",null,933,null,1.6472457627118645E-2,null,{"$f":"ROUND(I54*$M$60,2)","v":5527.02},null,"",5527.02,null,0]
[{"$f":"'[1]Distribution Factors'!F39","v":6},null,"City/Town",null,"LEBANON ",null,15792,null,0.27881355932203389,null,{"$f":"ROUND(I55*$M$60,2)","v":93550.56},null,"",93550.56,null,0]
[{"$f":"'[1]Distribution Factors'!F40","v":6},null,"City/Town",null,"THORNTOWN ",null,1520,null,2.6836158192090395E-2,null,{"$f":"ROUND(I56*$M$60,2)","v":9004.36},null,"",9004.36,null,0]
[{"$f":"'[1]Distribution Factors'!F41","v":6},null,"City/Town",null,"ULEN ",null,117,null,2.0656779661016949E-3,null,{"$f":"ROUND(I57*$M$60,2)","v":693.1},null,"",693.1,null,0]
[{"$f":"'[1]Distribution Factors'!F42","v":6},null,"City/Town",null,"WHITESTOWN ",null,2867,null,5.0617937853107343E-2,null,{"$f":"ROUND(I58*$M$60,2)","v":16983.88},null,"",16983.88,null,0]
[{"$f":"'[1]Distribution Factors'!F43","v":6},null,"City/Town",null,"ZIONSVILLE ",null,14160,null,0.25,null,{"$f":"ROUND(I59*$M$60,2)","v":83882.720000000001},null," ",83882.720000000001,null,0]
[null,null,null,null,"Sub-Total ",null,{"$f":"SUM(G52:G59)","v":56640},null,{"$f":"SUM(I52:I59)","v":0.99999999999999989},null,{"$f":"SUM(K52:K59)","v":335530.87},null,{"$f":"Calculation!I13","v":335530.87},null,{"$f":"K60=M60","v":true},null,null,{"$f":"Calculation!E13","v":56640},{"$f":"R60-G60","v":0},null,{"$f":"K60=M60","v":true}]
[]
[{"$f":"'[1]Distribution Factors'!F44","v":7},null,"County",null,"BROWN ",null,14439,null,{"$f":"+G62/$G$64","v":0.94731662511481429},null,{"$f":"M64-SUM(K63)","v":85535.489999999991},null,"",85535.49,null,{"$f":"K62-N62","v":0}]
[{"$f":"'[1]Distribution Factors'!F45","v":7},null,"City/Town",null,"NASHVILLE ",null,803,null,{"$f":"+G63/$G$64","v":5.2683374885185673E-2},null,{"$f":"ROUND(I63*$M$64,2)","v":4756.91},null," ",4756.91,null,0]
[null,null,null,null,"Sub-Total ",null,{"$f":"SUM(G62:G63)","v":15242},null,{"$f":"SUM(I62:I63)","v":1},null,{"$f":"SUM(K62:K63)","v":90292.4},null,{"$f":"Calculation!I14","v":90292.4},{"$f":"M64-K64","v":0},{"$f":"K64=M64","v":true},null,null,{"$f":"Calculation!E14","v":15242},{"$f":"R64-G64","v":0},null,{"$f":"K64=M64","v":true}]
[]
[{"$f":"'[1]Distribution Factors'!F46","v":8},null,"County",null,"CARROLL ",null,13873,null,{"$f":"+G66/$G$72","v":0.68831555445298931},null,{"$f":"M72-SUM(K67:K71)","v":82182.559999999998},null,"",82182.55,null,{"$f":"K66-N66","v":9.9999999947613105E-3}]
[{"$f":"'[1]Distribution Factors'!F47","v":8},null,"City/Town",null,"BURLINGTON ",null,603,null,{"$f":"+G67/$G$72","v":2.9918134457950881E-2},null,{"$f":"ROUND(I67*$M$72,2)","v":3572.12},null,"",3572.12,null,0]
[{"$f":"'[1]Distribution Factors'!F48","v":8},null,"City/Town",null,"CAMDEN ",null,611,null,3.0315058298189035E-2,null,{"$f":"ROUND(I68*$M$72,2)","v":3619.52},null,"",3619.52,null,0]
[{"$f":"'[1]Distribution Factors'!F49","v":8},null,"City/Town",null,"DELPHI ",null,2893,null,0.14353758372612255,null,{"$f":"ROUND(I69*$M$72,2)","v":17137.900000000001},null,"",17137.900000000001,null,0]
[{"$f":"'[1]Distribution Factors'!F50","v":8},null,"City/Town",null,"FLORA ",null,2036,null,0.10101711734061027,null,{"$f":"ROUND(I70*$M$72,2)","v":12061.1},null,"",12061.1,null,0]
[{"$f":"'[1]Distribution Factors'!F51","v":8},null,"City/Town",null,"YEOMAN ",null,139,null,6.8965517241379309E-3,null,{"$f":"ROUND(I71*$M$72,2)","v":823.42},null," ",823.42,null,0]
[null,null,null,null,"Sub-Total ",null,{"$f":"SUM(G66:G71)","v":20155},null,{"$f":"SUM(I66:I71)","v":1},null,{"$f":"SUM(K66:K71)","v":119396.62000000001},null,{"$f":"Calculation!I15","v":119396.62},null,{"$f":"K72=M72","v":true},{"$f":"K72-M72","v":0},null,{"$f":"Calculation!E15","v":20155},{"$f":"R72-G72","v":0},null,{"$f":"K72=M72","v":true}]
[]
[{"$f":"'[1]Distribution Factors'!F52","v":9},null,"County",null,"CASS ",null,17379,null,{"$f":"+G74/$G$80","v":0.44600420879741315},null,{"$f":"M80-SUM(K75:K79)","v":102951.81999999999},null,"",102951.82,null,{"$f":"K74-N74","v":0}]
[{"$f":"'[1]Distribution Factors'!F53","v":9},null,"City/Town",null,"GALVESTON ",null,1311,null,{"$f":"+G75/$G$80","v":3.3644715906174613E-2},null,{"$f":"ROUND(I75*$M$80,2)","v":7766.26},null,"",7766.26,null,0]
[{"$f":"'[1]Distribution Factors'!F54","v":9},null,"City/Town",null,"LOGANSPORT ",null,18266,null,{"$f":"+G76/$G$80","v":0.46876764358671663},null,{"$f":"ROUND(I76*$M$80,2)","v":108206.33},null,"",108206.34,null,-9.9999999947613105E-3]
[{"$f":"'[1]Distribution Factors'!F55","v":9},null,"City/Town",null,"ONWARD ",null,100,null,2.5663398860545092E-3,null,{"$f":"ROUND(I77*$M$80,2)","v":592.39},null,"",592.39,null,0]
[{"$f":"'[1]Distribution Factors'!F56","v":9},null,"City/Town",null,"ROYAL CENTER ",null,861,null,2.2096186418929322E-2,null,{"$f":"ROUND(I78*$M$80,2)","v":5100.5},null,"",5100.5,null,0]
[{"$f":"'[1]Distribution Factors'!F57","v":9},null,"City/Town",null,"WALTON ",null,1049,null,2.6920905404711801E-2,null,{"$f":"ROUND(I79*$M$80,2)","v":6214.19},null," ",6214.19,null,0]
[null,null,null,null,"Sub-Total ",null,{"$f":"SUM(G74:G79)","v":38966},null,{"$f":"SUM(I74:I79)","v":1},null,{"$f":"SUM(K74:K79)","v":230831.49},null,{"$f":"Calculation!I16","v":230831.49},{"$f":"M80-K80","v":0},{"$f":"K80=M80","v":true},{"$f":"K80-M80","v":0},null,{"$f":"Calculation!E16","v":38966},{"$f":"R80-G80","v":0},null,{"$f":"K80=M80","v":true}]
[]
[{"$f":"'[1]Distribution Factors'!F58","v":10},null,"County",null,"CLARK ",null,28258,null,{"$f":"+G82/$G$89","v":0.25635024312359389},null,{"$f":"M89-SUM(K83:K88)","v":167398.14999999997},null,"",167398.15,null,{"$f":"K82-N82","v":0}]
[{"$f":"'[1]Distribution Factors'!F59","v":10},null,"City/Town",null,"CHARLESTOWN ",null,7585,null,{"$f":"+G83/$G$89","v":6.8809420132085061E-2},null,{"$f":"ROUND(I83*$M$89,2)","v":44932.94},null,"",44932.94,null,0]
[{"$f":"'[1]Distribution Factors'!F60","v":10},null,"City/Town",null,"CLARKSVILLE ",null,21724,null,0.19707525945279047,null,{"$f":"ROUND(I84*$M$89,2)","v":128691.25},null,"",128691.25,null,0]
[{"$f":"'[1]Distribution Factors'!F61","v":10},null,"City/Town",null,"JEFFERSONVILLE ",null,44953,null,0.40780354162130777,null,{"$f":"ROUND(I85*$M$89,2)","v":266298.01},null,"",266298.01,null,0]
[{"$f":"'[1]Distribution Factors'!F62","v":10},null,"City/Town",null,"BORDEN ",null,808,null,7.3299949198055011E-3,null,{"$f":"ROUND(I86*$M$89,2)","v":4786.53},null,"",4786.53,null,0]
[{"$f":"'[1]Distribution Factors'!F63","v":10},null,"City/Town",null,"SELLERSBURG ",null,6128,null,5.5591842659118949E-2,null,{"$f":"ROUND(I87*$M$89,2)","v":36301.79},null,"",36301.79,null,0]
[{"$f":"'[1]Distribution Factors'!F64","v":10},null,"City/Town",null,"UTICA ",null,776,null,7.0396980912983522E-3,null,{"$f":"ROUND(I88*$M$89,2)","v":4596.96},null,null,4596.96,null,0]
[null,null,null,null,"Sub-Total ",null,{"$f":"SUM(G82:G88)","v":110232},null,{"$f":"SUM(I82:I88)","v":1},null,{"$f":"SUM(K82:K88)","v":653005.63},null,{"$f":"Calculation!I17","v":653005.63},{"$f":"M89-K89","v":0},{"$f":"K89=M89","v":true},{"$f":"K89-M89","v":0},null,{"$f":"Calculation!E17","v":110232},{"$f":"R89-G89","v":0},null,{"$f":"K89=M89","v":true}]
[]
[{"$f":"'[1]Distribution Factors'!F65","v":11},null,"County",null,"CLAY ",null,15416,null,{"$f":"+G91/$G$99","v":0.57329862402380072},null,{"$f":"M99-SUM(K92:K98)","v":91323.160000000018},null,"",91323.16,null,{"$f":"K91-N91","v":0}]
[{"$f":"'[1]Distribution Factors'!F66","v":11},null,"City/Town",null,"BRAZIL ",null,7912,null,{"$f":"+G92/$G$99","v":0.29423577538118262},null,{"$f":"ROUND(I92*$M$99,2)","v":46870.06},null,"",46870.06,null,0]
[{"$f":"'[1]Distribution Factors'!F67","v":11},null,"City/Town",null,"CARBON ",null,397,null,1.4763852733358125E-2,null,{"$f":"ROUND(I93*$M$99,2)","v":2351.8000000000002},null,"",2351.8000000000002,null,0]
[{"$f":"'[1]Distribution Factors'!F68","v":11},null,"City/Town",null,"CENTER POINT ",null,242,null,8.9996281145407215E-3,null,{"$f":"ROUND(I94*$M$99,2)","v":1433.59},null,"",1433.59,null,0]
[{"$f":"'[1]Distribution Factors'!F69","v":11},null,"City/Town",null,"CLAY ",null,861,null,3.2019338043882482E-2,null,{"$f":"ROUND(I95*$M$99,2)","v":5100.5},null,"",5100.5,null,0]
[{"$f":"'[1]Distribution Factors'!F70","v":11},null,"City/Town",null,"HARMONY ",null,656,null,2.4395686128672368E-2,null,{"$f":"ROUND(I96*$M$99,2)","v":3886.09},null,"",3886.09,null,0]
[{"$f":"'[1]Distribution Factors'!F71","v":11},null,"City/Town",null,"KNIGHTSVILLE ",null,872,null,3.2428412049088882E-2,null,{"$f":"ROUND(I97*$M$99,2)","v":5165.66},null,"",5165.66,null,0]
[{"$f":"'[1]Distribution Factors'!F72","v":11},null,"City/Town",null,"STAUNTON ",null,534,null,1.9858683525474152E-2,null,{"$f":"ROUND(I98*$M$99,2)","v":3163.37},null," ",3163.37,null,0]
[null,null,null,null,"Sub-Total ",null,{"$f":"SUM(G91:G98)","v":26890},null,{"$f":"SUM(I91:I98)","v":1},null,{"$f":"SUM(K91:K98)","v":159294.23000000001},null,{"$f":"Calculation!I18","v":159294.23000000001},{"$f":"M99-K99","v":0},null,{"$f":"K99-M99","v":0},null,{"$f":"Calculation!E18","v":26890},{"$f":"R99-G99","v":0},null,{"$f":"K99=M99","v":true}]
[null,null,null,null,null,null,"."]
[{"$f":"'[1]Distribution Factors'!F73","v":12},null,"County",null,"CLINTON ",null,11949,null,{"$f":"+G101/$G$108","v":0.35964965085480377},null,{"$f":"M108-SUM(K102:K107)","v":70784.919999999984},null,"",70784.929999999993,null,{"$f":"K101-N101","v":-1.0000000009313226E-2}]
[{"$f":"'[1]Distribution Factors'!F74","v":12},null,"City/Town",null,"COLFAX ",null,691,null,{"$f":"+G102/$G$108","v":2.0798218155550205E-2},null,{"$f":"ROUND(I102*$M$108,2)","v":4093.43},null,"",4093.43,null,0]
[{"$f":"'[1]Distribution Factors'!F75","v":12},null,"City/Town",null,"FRANKFORT ",null,16422,null,0.49428124247531907,null,{"$f":"ROUND(I103*$M$108,2)","v":97282.63},null,"",97282.63,null,0]
[{"$f":"'[1]Distribution Factors'!F76","v":12},null,"City/Town",null,"KIRKLIN ",null,788,null,2.3717794365518904E-2,null,{"$f":"ROUND(I104*$M$108,2)","v":4668.05},null,"",4668.05,null,0]
[{"$f":"'[1]Distribution Factors'!F77","v":12},null,"City/Town",null,"MICHIGANTOWN ",null,467,null,1.4056104021189501E-2,null,{"$f":"ROUND(I105*$M$108,2)","v":2766.47},null,"",2766.47,null,0]
[{"$f":"'[1]Distribution Factors'!F78","v":12},null,"City/Town",null,"MULBERRY ",null,1254,null,3.7743799662894296E-2,null,{"$f":"ROUND(I106*$M$108,2)","v":7428.6},null,"",7428.6,null,0]
[{"$f":"'[1]Distribution Factors'!F79","v":12},null,"City/Town",null,"ROSSVILLE ",null,1653,null,4.9753190464724296E-2,null,{"$f":"ROUND(I107*$M$108,2)","v":9792.24},null," ",9792.24,null,0]
[null,null,null,null,"Sub-Total ",null,{"$f":"SUM(G101:G107)","v":33224},null,{"$f":"SUM(I101:I107)","v":1},null,{"$f":"SUM(K101:K107)","v":196816.33999999997},null,{"$f":"Calculation!I19","v":196816.34},{"$f":"M108-K108","v":0},null,null,null,{"$f":"Calculation!E19","v":33224},{"$f":"R108-G108","v":0},null,{"$f":"K108=M108","v":true}]
[]
[{"$f":"'[1]Distribution Factors'!F80","v":13},null,"County",null,"CRAWFORD ",null,8502,null,{"$f":"+G110/$G$116","v":0.79361523382805932},null,{"$f":"M116-SUM(K111:K115)","v":50365.17},null,"",50365.17,null,{"$f":"K110-N110","v":0}]
[{"$f":"'[1]Distribution Factors'!F81","v":13},null,"City/Town",null,"ALTON ",null,55,null,5.1339494072622045E-3,null,{"$f":"ROUND(I111*$M$116,2)","v":325.82},null,"",325.82,null,0]
[{"$f":"'[1]Distribution Factors'!F82","v":13},null,"City/Town",null,"ENGLISH ",null,645,null,6.0207224866984037E-2,null,{"$f":"ROUND(I112*$M$116,2)","v":3820.93},null,"",3820.93,null,0]
[{"$f":"'[1]Distribution Factors'!F83","v":13},null,"City/Town",null,"LEAVENWORTH ",null,238,null,2.2215999253243721E-2,null,{"$f":"ROUND(I113*$M$116,2)","v":1409.89},null,"",1409.89,null,0]
[{"$f":"'[1]Distribution Factors'!F84","v":13},null,"City/Town",null,"MARENGO ",null,828,null,7.7289274712965553E-2,null,{"$f":"ROUND(I114*$M$116,2)","v":4905.01},null,"",4905.01,null,0]
[{"$f":"'[1]Distribution Factors'!F85","v":13},null,"City/Town",null,"MILLTOWN ",null,445,null,4.1538317931485109E-2,null,{"$f":"ROUND(I115*$M$116,2)","v":2636.14},null," ",2636.14,null,0]
[null,null," ",null,"Sub-Total ",null,{"$f":"SUM(G110:G115)","v":10713},null,{"$f":"SUM(I109:I115)","v":0.99999999999999989},null,{"$f":"SUM(K110:K115)","v":63462.96},null,{"$f":"Calculation!I20","v":63462.96},{"$f":"M116-K116","v":0},null,null,null,{"$f":"Calculation!E20","v":10713},{"$f":"R116-G116","v":0},null,{"$f":"K116=M116","v":true}]
[]
[{"$f":"'[1]Distribution Factors'!F86","v":14},null,"County",null,"DAVIESS ",null,17090,null,{"$f":"+G118/$G$126","v":0.54000252780586455},null,{"$f":"M126-SUM(K119:K125)","v":101239.79999999999},null,"",101239.8,null,{"$f":"K118-N118","v":0}]
[{"$f":"'[1]Distribution Factors'!F87","v":14},null,"City/Town",null,"ALFORDSVILLE ",null,101,null,{"$f":"+G119/$G$126","v":3.1913549039433772E-3},null,{"$f":"ROUND(I119*$M$126,2)","v":598.32000000000005},null,"",598.32000000000005,null,0]
[{"$f":"'[1]Distribution Factors'!F88","v":14},null,"City/Town",null,"CANNELBURG ",null,135,null,4.2656723963599595E-3,null,{"$f":"ROUND(I120*$M$126,2)","v":799.73},null,"",799.73,null,0]
[{"$f":"'[1]Distribution Factors'!F89","v":14},null,"City/Town",null,"ELNORA ",null,640,null,2.0222446916076844E-2,null,{"$f":"ROUND(I121*$M$126,2)","v":3791.31},null,"",3791.31,null,0]
[{"$f":"'[1]Distribution Factors'!F90","v":14},null,"City/Town",null,"MONTGOMERY ",null,343,null,1.0837967644084935E-2,null,{"$f":"ROUND(I122*$M$126,2)","v":2031.9},null,"",2031.9,null,0]
[{"$f":"'[1]Distribution Factors'!F91","v":14},null,"City/Town",null,"ODON ",null,1354,null,4.2783114256825079E-2,null,{"$f":"ROUND(I123*$M$126,2)","v":8020.99},null,"",8020.99,null,0]
[{"$f":"'[1]Distribution Factors'!F92","v":14},null,"City/Town",null,"PLAINVILLE ",null,476,null,1.5040444893832154E-2,null,{"$f":"ROUND(I124*$M$126,2)","v":2819.79},null,"",2819.79,null,0]
[{"$f":"'[1]Distribution Factors'!F93","v":14},null,"City/Town",null,"WASHINGTON ",null,11509,null,0.36365647118301314,null,{"$f":"ROUND(I125*$M$126,2)","v":68178.399999999994},null," ",68178.399999999994]
[null,null,null,null,"Sub-Total ",null,{"$f":"SUM(G118:G125)","v":31648},null,{"$f":"SUM(I118:I125)","v":1.0000000000000002},null,{"$f":"SUM(K118:K125)","v":187480.24},null,{"$f":"Calculation!I21","v":187480.24},{"$f":"M126-K126","v":0},null,null,null,{"$f":"Calculation!E21","v":31648},{"$f":"R126-G126","v":0},null,{"$f":"K126=M126","v":true}]
[]
[{"$f":"'[1]Distribution Factors'!F94","v":16},null,"County",null,"DECATUR ",null,11796,null,{"$f":"+G128/$G$134","v":0.45827505827505827},null,{"$f":"M134-SUM(K129:K133)","v":69878.559999999998},null,"",69878.570000000007,null,{"$f":"K128-N128","v":-1.0000000009313226E-2}]
[{"$f":"'[1]Distribution Factors'!F95","v":16},null,"City/Town",null,"GREENSBURG ",null,11492,null,{"$f":"+G129/$G$134","v":0.44646464646464645},null,{"$f":"ROUND(I129*$M$134,2)","v":68077.7},null,"",68077.7,null,0]
[{"$f":"'[1]Distribution Factors'!F96","v":16},null,"City/Town",null,"MILLHOUSEN ",null,127,null,4.9339549339549342E-3,null,{"$f":"ROUND(I130*$M$134,2)","v":752.34},null,"",752.34,null,0]
[{"$f":"'[1]Distribution Factors'!F97","v":16},null,"City/Town",null,"NEWPOINT ",null,331,null,1.285936285936286E-2,null,{"$f":"ROUND(I131*$M$134,2)","v":1960.82},null,"",1960.82,null,0]
[{"$f":"'[1]Distribution Factors'!F98","v":16},null,"City/Town",null,"ST. PAUL ",null,615,null,2.3892773892773892E-2,null,{"$f":"ROUND(I132*$M$134,2)","v":3643.21},null,"",3643.21,null,0]
[{"$f":"'[1]Distribution Factors'!F99","v":16},null,"City/Town",null,"WESTPORT ",null,1379,null,5.3574203574203574E-2,null,{"$f":"ROUND(I133*$M$134,2)","v":8169.09},null," ",8169.09,null,0]
[null,null,null,null,"Sub-Total ",null,{"$f":"SUM(G128:G133)","v":25740},null,{"$f":"SUM(I128:I133)","v":1},null,{"$f":"SUM(K128:K133)","v":152481.72},null,{"$f":"Calculation!I23","v":152481.72},{"$f":"M134-K134","v":0},null,null,null,{"$f":"Calculation!E23","v":25740},{"$f":"R134-G134","v":0},null,{"$f":"K134=M134","v":true}]
[]
[{"$f":"'[1]Distribution Factors'!F100","v":17},null,"County",null,"DEKALB ",null,16481,null,{"$f":"+G136/$G$146","v":0.39033228335267506},null,{"$f":"M146-SUM(K137:K145)","v":97632.150000000023},null,"",97632.14,null,{"$f":"K136-N136","v":1.0000000023865141E-2}]
[{"$f":"'[1]Distribution Factors'!F101","v":17},null,"City/Town",null,"ALTONA ",null,197,null,{"$f":"+G137/$G$146","v":4.6657035265139854E-3},null,{"$f":"ROUND(I137*$M$146,2)","v":1167.01},null,"",1167.01,null,0]
[{"$f":"'[1]Distribution Factors'!F102","v":17},null,"City/Town",null,"ASHLEY ",null,644,null,1.5252350614593941E-2,null,{"$f":"ROUND(I138*$M$146,2)","v":3815},null,"",3815,null,0]
[{"$f":"'[1]Distribution Factors'!F103","v":17},null,"City/Town",null,"AUBURN ",null,12731,null,0.30151812992918553,null,{"$f":"ROUND(I139*$M$146,2)","v":75417.429999999993},null,"",75417.429999999993,null,0]
[{"$f":"'[1]Distribution Factors'!F104","v":17},null,"City/Town",null,"BUTLER ",null,2684,null,6.3567250076972268E-2,null,{"$f":"ROUND(I140*$M$146,2)","v":15899.8},null,"",15899.8,null,0]
[{"$f":"'[1]Distribution Factors'!F105","v":17},null,"City/Town",null,"CORUNNA ",null,254,null,6.0156786585510271E-3,null,{"$f":"ROUND(I141*$M$146,2)","v":1504.68},null,"",1504.68,null,0]
[{"$f":"'[1]Distribution Factors'!F106","v":17},null,"City/Town",null,"GARRETT ",null,6286,null,0.14887620491201478,null,{"$f":"ROUND(I142*$M$146,2)","v":37237.760000000002},null,"",37237.769999999997,null,-9.9999999947613105E-3]
[{"$f":"'[1]Distribution Factors'!F107","v":17},null,"City/Town",null,"HAMILTON ",null,244,null,5.7788409160883878E-3,null,{"$f":"ROUND(I143*$M$146,2)","v":1445.44},null,"",1445.44,null,0]
[{"$f":"'[1]Distribution Factors'!F108","v":17},null,"City/Town",null,"ST. JOE ",null,460,null,1.0894536153281387E-2,null,{"$f":"ROUND(I144*$M$146,2)","v":2725},null,"",2725,null,0]
[{"$f":"'[1]Distribution Factors'!F109","v":17},null,"City/Town",null,"WATERLOO ",null,2242,null,5.3099021860123628E-2,null,{"$f":"ROUND(I145*$M$146,2)","v":13281.43},null," ",13281.43,null,0]
[null,null,null,null,"Sub-Total ",null,{"$f":"SUM(G136:G145)","v":42223},null,{"$f":"SUM(I136:I145)","v":1},null,{"$f":"SUM(K136:K145)","v":250125.7},null,{"$f":"Calculation!I24","v":250125.7},{"$f":"M146-K146","v":0},null,null,null,{"$f":"Calculation!E24","v":42223},{"$f":"R146-G146","v":0},null,{"$f":"K146=M146","v":true}]
[]
[{"$f":"'[1]Distribution Factors'!F110","v":18},null,"County",null,"DELAWARE ",null,31030,null,{"$f":"+G148/$G$157","v":0.2637013367779657},null,{"$f":"M157-SUM(K149:K156)","v":183819.26000000013},null,"",183819.26,null,{"$f":"K148-N148","v":0}]
[{"$f":"'[1]Distribution Factors'!F111","v":18},null,"City/Town",null,"ALBANY ",null,1961,null,{"$f":"+G149/$G$157","v":1.6665108650389646E-2},null,{"$f":"ROUND(I149*$M$157,2)","v":11616.81},null,"",11616.81,null,0]
[{"$f":"'[1]Distribution Factors'!F112","v":18},null,"City/Town",null,"CHESTERFIELD ",null,1,null,8.4982706019325062E-6,null,{"$f":"ROUND(I150*$M$157,2)","v":5.92},null,"",5.92,null,0]
[{"$f":"'[1]Distribution Factors'!F113","v":18},null,"City/Town",null,"DALEVILLE ",null,1647,null,1.3996651681382838E-2,null,{"$f":"ROUND(I151*$M$157,2)","v":9756.7000000000007},null,"",9756.7000000000007,null,0]
[{"$f":"'[1]Distribution Factors'!F114","v":18},null,"City/Town",null,"EATON ",null,1805,null,1.5339378436488174E-2,null,{"$f":"ROUND(I152*$M$157,2)","v":10692.68},null,"",10692.68,null,0]
[{"$f":"'[1]Distribution Factors'!F115","v":18},null,"City/Town",null,"GASTON ",null,871,null,7.4019936942832133E-3,null,{"$f":"ROUND(I153*$M$157,2)","v":5159.7299999999996},null,"",5159.7299999999996,null,0]
[{"$f":"'[1]Distribution Factors'!F116","v":18},null,"City/Town",null,"MUNCIE ",null,70085,null,0.59560129513643978,null,{"$f":"ROUND(I154*$M$157,2)","v":415177.98},null,"",415177.98,null,0]
[{"$f":"'[1]Distribution Factors'!F117","v":18},null,"City/Town",null,"SELMA ",null,866,null,7.3595023412735506E-3,null,{"$f":"ROUND(I155*$M$157,2)","v":5130.12},null," ",5130.12,null,0]
[{"$f":"'[1]Distribution Factors'!F118","v":18},null,"City/Town",null,"YORKTOWN ",null,9405,null,7.9926235011175226E-2,null,{"$f":"ROUND(I156*$M$157,2)","v":55714.47},null," ",55714.47,null,0]
[null,null,null,null,"Sub-Total ",null,{"$f":"SUM(G148:G156)","v":117671},null,{"$f":"SUM(I148:I156)","v":1.0000000000000002},null,{"$f":"SUM(K148:K156)","v":697073.67},null,{"$f":"Calculation!I25","v":697073.67},{"$f":"M157-K157","v":0},null,null,null,{"$f":"Calculation!E25","v":117671},{"$f":"R157-G157","v":0},null,{"$f":"K157=M157","v":true}]
[]
[{"$f":"'[1]Distribution Factors'!F119","v":19},null,"County",null,"DUBOIS ",null,17595,null,{"$f":"+G159/$G$165","v":0.42003867363747044},null,{"$f":"M165-SUM(K160:K164)","v":104231.38},null,"",104231.38,null,{"$f":"K159-N159","v":0}]
[{"$f":"'[1]Distribution Factors'!F120","v":19},null,"City/Town",null,"BIRDSEYE ",null,416,null,{"$f":"+G160/$G$165","v":9.9310081405619612E-3},null,{"$f":"ROUND(I160*$M$165,2)","v":2464.35},null,"",2464.35,null,0]
[{"$f":"'[1]Distribution Factors'!F121","v":19},null,"City/Town",null,"FERDINAND ",null,2157,null,5.1493232113442672E-2,null,{"$f":"ROUND(I161*$M$165,2)","v":12777.9},null,"",12777.9,null,0]
[{"$f":"'[1]Distribution Factors'!F122","v":19},null,"City/Town",null,"HOLLAND ",null,626,null,1.4944257442287952E-2,null,{"$f":"ROUND(I162*$M$165,2)","v":3708.37},null,"",3708.37,null,0]
[{"$f":"'[1]Distribution Factors'!F123","v":19},null,"City/Town",null,"HUNTINGBURG ",null,6057,null,0.14459643343121106,null,{"$f":"ROUND(I163*$M$165,2)","v":35881.19},null,"",35881.19,null,0]
[{"$f":"'[1]Distribution Factors'!F124","v":19},null,"City/Town",null,"JASPER ",null,15038,null,0.35899639523502591,null,{"$f":"ROUND(I164*$M$165,2)","v":89083.92},null," ",89083.92,null,0]
[null,null,null,null,"Sub-Total ",null,{"$f":"SUM(G159:G164)","v":41889},null,{"$f":"SUM(I159:I164)","v":1},null,{"$f":"SUM(K159:K164)","v":248147.11},null,{"$f":"Calculation!I26","v":248147.11},{"$f":"M165-K165","v":0},null,null,null,{"$f":"Calculation!E26","v":41889},{"$f":"R165-G165","v":0},null,{"$f":"K165=M165","v":true}]
[]
[{"$f":"'[1]Distribution Factors'!F125","v":20},null,"County",null,"ELKHART ",null,101046,null,{"$f":"+G167/$G$175","v":0.51147252213262873},null,{"$f":"M175-SUM(K168:K174)","v":598588.49000000011},null,"",598588.49,null,{"$f":"K167-N167","v":0}]
[{"$f":"'[1]Distribution Factors'!F126","v":20},null,"City/Town",null,"BRISTOL ",null,1602,null,{"$f":"+G168/$G$175","v":8.1089699785886742E-3},null,{"$f":"ROUND(I168*$M$175,2)","v":9490.1200000000008},null,"",9490.1200000000008,null,0]
[{"$f":"'[1]Distribution Factors'!F127","v":20},null,"City/Town",null,"ELKHART ",null,50949,null,0.25789257892578926,null,{"$f":"ROUND(I169*$M$175,2)","v":301817.84000000003},null,"",301817.84000000003,null,0]
[{"$f":"'[1]Distribution Factors'!F128","v":20},null,"City/Town",null,"GOSHEN ",null,31719,null,0.16055456850864805,null,{"$f":"ROUND(I170*$M$175,2)","v":187900.84},null,"",187900.84,null,0]
[{"$f":"'[1]Distribution Factors'!F129","v":20},null,"City/Town",null,"MIDDLEBURY ",null,3420,null,1.7311284223953352E-2,null,{"$f":"ROUND(I171*$M$175,2)","v":20259.810000000001},null,"",20259.810000000001,null,0]
[{"$f":"'[1]Distribution Factors'!F130","v":20},null,"City/Town",null,"MILLERSBURG ",null,903,null,4.570786448605227E-3,null,{"$f":"ROUND(I172*$M$175,2)","v":5349.3},null,"",5349.3,null,0]
[{"$f":"'[1]Distribution Factors'!F131","v":20},null,"City/Town",null,"NAPPANEE ",null,6162,null,3.1190682277193141E-2,null,{"$f":"ROUND(I173*$M$175,2)","v":36503.199999999997},null,"",36503.199999999997,null,0]
[{"$f":"'[1]Distribution Factors'!F132","v":20},null,"City/Town",null,"WAKARUSA ",null,1758,null,8.8986075045935642E-3,null,{"$f":"ROUND(I174*$M$175,2)","v":10414.25},null,null,10414.25,null,0]
[null,null,null,null,"Sub-Total ",null,{"$f":"SUM(G167:G174)","v":197559},null,{"$f":"SUM(I167:I174)","v":1},null,{"$f":"SUM(K167:K174)","v":1170323.8500000003},null,{"$f":"Calculation!I27","v":1170323.8500000001},{"$f":"M175-K175","v":0},null,null,null,{"$f":"Calculation!E27","v":197559},{"$f":"R175-G175","v":0},null,{"$f":"K175=M175","v":true}]
[]
[{"$f":"'[1]Distribution Factors'!F133","v":21},null,"County",null,"FAYETTE ",null,10720,null,{"$f":"+G177/$G$180","v":0.4415702104872925},null,{"$f":"M180-SUM(K178:K179)","v":63504.429999999993},null,"",63504.43,null,{"$f":"K177-N177","v":0}]
[{"$f":"'[1]Distribution Factors'!F134","v":21},null,"City/Town",null,"CONNERSVILLE ",null,13481,null,{"$f":"+G178/$G$180","v":0.55529925443835726},null,{"$f":"ROUND(I178*$M$180,2)","v":79860.37},null,"",79860.37,null,0]
[{"$f":"'[1]Distribution Factors'!F135","v":21},null,"City/Town",null,"GLENWOOD",null,76,null,{"$f":"+G179/$G$180","v":3.1305350743502081E-3},null,{"$f":"ROUND(I179*$M$180,2)","v":450.22},null," ",450.22,null,0]
[null,null,null,null,"Sub-Total ",null,{"$f":"SUM(G177:G179)","v":24277},null,{"$f":"SUM(I177:I179)","v":1},null,{"$f":"SUM(K177:K179)","v":143815.01999999999},null,{"$f":"Calculation!I28","v":143815.01999999999},{"$f":"M180-K180","v":0},null,null,null,{"$f":"Calculation!E28","v":24277},{"$f":"R180-G180","v":0},null,{"$f":"K180=M180","v":true}]
[]
[{"$f":"'[1]Distribution Factors'!F136","v":22},null,"County",null,"FLOYD ",null,34735,null,{"$f":"+G182/$G$186","v":0.46575397570329052},null,{"$f":"M186-SUM(K183:K185)","v":205767.38999999998},null,"",205767.39,null,{"$f":"K182-N182","v":0}]
[{"$f":"'[1]Distribution Factors'!F137","v":22},null,"City/Town",null,"GEORGETOWN ",null,2876,null,{"$f":"+G183/$G$186","v":3.8563651478988444E-2},null,{"$f":"ROUND(I183*$M$186,2)","v":17037.2},null,"",17037.2,null,0]
[{"$f":"'[1]Distribution Factors'!F138","v":22},null,"City/Town",null,"GREENVILLE ",null,595,null,{"$f":"+G184/$G$186","v":7.9782241411676374E-3},null,{"$f":"ROUND(I184*$M$186,2)","v":3524.73},null,"",3524.73,null,0]
[{"$f":"'[1]Distribution Factors'!F139","v":22},null,"City/Town",null,"NEW ALBANY ",null,36372,null,{"$f":"+G185/$G$186","v":0.48770414867655343},null,{"$f":"ROUND(I185*$M$186,2)","v":215464.84},null,null,215464.84,null,0]
[null,null,null,null,"Sub-Total ",null,{"$f":"SUM(G182:G185)","v":74578},null,{"$f":"SUM(I182:I185)","v":1},null,{"$f":"SUM(K182:K185)","v":441794.16000000003},null,{"$f":"Calculation!I29","v":441794.16},{"$f":"M186-K186","v":0},null,null,null,{"$f":"Calculation!E29","v":74578},{"$f":"R186-G186","v":0},null,{"$f":"K186=M186","v":true}]
[]
[{"$f":"'[1]Distribution Factors'!F140","v":23},null,"County",null,"FOUNTAIN ",null,7563,null,{"$f":"+G188/$G$197","v":0.43868909512761023},null,{"$f":"M197-SUM(K189:K196)","v":44802.619999999995},null,"",44802.61,null,{"$f":"K188-N188","v":9.9999999947613105E-3}]
[{"$f":"'[1]Distribution Factors'!F141","v":23},null,"City/Town",null,"ATTICA ",null,3245,null,{"$f":"+G189/$G$197","v":0.18822505800464037},null,{"$f":"ROUND(I189*$M$197,2)","v":19223.12},null,"",19223.12,null,0]
[{"$f":"'[1]Distribution Factors'!F142","v":23},null,"City/Town",null,"COVINGTON",null,2645,null,0.15342227378190254,null,{"$f":"ROUND(I190*$M$197,2)","v":15668.77},null,"",15668.77,null,0]
[{"$f":"'[1]Distribution Factors'!F143","v":23},null,"City/Town",null,"HILLSBORO ",null,538,null,3.1206496519721579E-2,null,{"$f":"ROUND(I191*$M$197,2)","v":3187.07},null,"",3187.07,null,0]
[{"$f":"'[1]Distribution Factors'!F144","v":23},null,"City/Town",null,"KINGMAN ",null,511,null,2.9640371229698377E-2,null,{"$f":"ROUND(I192*$M$197,2)","v":3027.12},null,"",3027.12,null,0]
[{"$f":"'[1]Distribution Factors'!F145","v":23},null,"City/Town",null,"MELLOTT ",null,197,null,1.142691415313225E-2,null,{"$f":"ROUND(I193*$M$197,2)","v":1167.01},null,"",1167.01,null,0]
[{"$f":"'[1]Distribution Factors'!F146","v":23},null,"City/Town",null,"NEWTOWN ",null,256,null,1.4849187935034803E-2,null,{"$f":"ROUND(I194*$M$197,2)","v":1516.52},null,"",1516.52,null,0]
[{"$f":"'[1]Distribution Factors'!F147","v":23},null,"City/Town",null,"VEEDERSBURG ",null,2180,null,0.12645011600928074,null,{"$f":"ROUND(I195*$M$197,2)","v":12914.15},null,"",12914.15,null,0]
[{"$f":"'[1]Distribution Factors'!F148","v":23},null,"City/Town",null,"WALLACE ",null,105,null,6.0904872389791181E-3,null,{"$f":"ROUND(I196*$M$197,2)","v":622.01},null,null,622.01,null,0]
[null,null,null,null,"Sub-Total ",null,{"$f":"SUM(G188:G196)","v":17240},null,{"$f":"SUM(I188:I196)","v":1},null,{"$f":"SUM(K188:K196)","v":102128.38999999998},null,{"$f":"Calculation!I30","v":102128.39},{"$f":"M197-K197","v":0},null,null,null,{"$f":"Calculation!E30","v":17240},{"$f":"R197-G197","v":0}]
[]
[{"$f":"'[1]Distribution Factors'!F149","v":24},null,"County",null,"FRANKLIN ",null,17424,null,{"$f":"+G199/$G$206","v":0.75471044310651014},null,{"$f":"M206-SUM(K200:K205)","v":103218.39},null,"",103218.39,null,{"$f":"K199-N199","v":0}]
[{"$f":"'[1]Distribution Factors'!F150","v":24},null,"City/Town",null,"BATESVILLE ",null,1639,null,{"$f":"+G200/$G$206","v":7.0992333347771469E-2},null,{"$f":"ROUND(I200*$M$206,2)","v":9709.31},null,"",9709.31,null,0]
[{"$f":"'[1]Distribution Factors'!F151","v":24},null,"City/Town",null,"BROOKVILLE ",null,2596,null,0.11244423268506086,null,{"$f":"ROUND(I201*$M$206,2)","v":15378.5},null,"",15378.5,null,0]
[{"$f":"'[1]Distribution Factors'!F152","v":24},null,"City/Town",null,"CEDAR GROVE ",null,156,null,6.7570494217525012E-3,null,{"$f":"ROUND(I202*$M$206,2)","v":924.13},null,"",924.13,null,0]
[{"$f":"'[1]Distribution Factors'!F153","v":24},null,"City/Town",null,"LAUREL ",null,512,null,2.2176982717546673E-2,null,{"$f":"ROUND(I203*$M$206,2)","v":3033.05},null,"",3033.05,null,0]
[{"$f":"'[1]Distribution Factors'!F154","v":24},null,"City/Town",null,"MOUNT CARMEL ",null,86,null,3.7250400658379174E-3,null,{"$f":"ROUND(I204*$M$206,2)","v":509.46},null,"",509.46,null,0]
[{"$f":"'[1]Distribution Factors'!F155","v":24},null,"City/Town",null,"OLDENBURG ",null,674,null,2.9193918655520422E-2,null,{"$f":"ROUND(I205*$M$206,2)","v":3992.72},null,null,3992.72,null,0]
[null,null,null,null,"Sub-Total ",null,{"$f":"SUM(G199:G205)","v":23087},null,{"$f":"SUM(I199:I205)","v":1},null,{"$f":"SUM(K199:K205)","v":136765.56},null,{"$f":"Calculation!I31","v":136765.56},{"$f":"M206-K206","v":0},null,null,null,{"$f":"Calculation!E31","v":23087},{"$f":"R206-G206","v":0}]
[]
[{"$f":"'[1]Distribution Factors'!F156","v":25},null,"County",null,"FULTON ",null,12505,null,{"$f":"+G208/$G$213","v":0.60016317911307349},null,{"$f":"M213-SUM(K209:K212)","v":74078.62},null,"",74078.63,null,{"$f":"K208-N208","v":-1.0000000009313226E-2}]
[{"$f":"'[1]Distribution Factors'!F157","v":25},null,"City/Town",null,"AKRON ",null,1167,null,{"$f":"+G209/$G$213","v":5.6008830869648682E-2},null,{"$f":"ROUND(I209*$M$213,2)","v":6913.22},null,"",6913.22,null,0]
[{"$f":"'[1]Distribution Factors'!F158","v":25},null,"City/Town",null,"FULTON ",null,333,null,1.5981954309848341E-2,null,{"$f":"ROUND(I210*$M$213,2)","v":1972.67},null,"",1972.67,null,0]
[{"$f":"'[1]Distribution Factors'!F159","v":25},null,"City/Town",null,"KEWANNA ",null,613,null,2.9420234210021119E-2,null,{"$f":"ROUND(I211*$M$213,2)","v":3631.36},null,null,3631.36,null,0]
[{"$f":"'[1]Distribution Factors'!F160","v":25},null,"City/Town",null,"ROCHESTER ",null,6218,null,0.29842580149740833,null,{"$f":"ROUND(I212*$M$213,2)","v":36834.94},null,null,36834.94,null,0]
[null,null,null,null,"Sub-Total ",null,{"$f":"SUM(G208:G212)","v":20836},null,{"$f":"SUM(I208:I212)","v":1},null,{"$f":"SUM(K208:K212)","v":123430.81},null,{"$f":"Calculation!I32","v":123430.81},{"$f":"M213-K213","v":0},null,null,null,{"$f":"Calculation!E32","v":20836},{"$f":"R213-G213","v":0}]
[]
[{"$f":"'[1]Distribution Factors'!F161","v":26},null,"County",null,"GIBSON ",null,14932,null,{"$f":"+G215/$G$226","v":0.44569143061815358},null,{"$f":"M226-SUM(K216:K225)","v":88455.999999999985},null,"",88455.98,null,{"$f":"K215-N215","v":1.9999999989522621E-2}]
[{"$f":"'[1]Distribution Factors'!F162","v":26},null,"City/Town",null,"FORT BRANCH ",null,2771,null,{"$f":"+G216/$G$226","v":8.2709011133331345E-2},null,{"$f":"ROUND(I216*$M$226,2)","v":16415.18},null,"",16415.18,null,0]
[{"$f":"'[1]Distribution Factors'!F163","v":26},null,"City/Town",null,"FRANCISCO ",null,469,null,1.3998746380921112E-2,null,{"$f":"ROUND(I217*$M$226,2)","v":2778.32},null,"",2778.32,null,0]
[{"$f":"'[1]Distribution Factors'!F164","v":26},null,"City/Town",null,"HAUBSTADT ",null,1577,null,4.7070411604930903E-2,null,{"$f":"ROUND(I218*$M$226,2)","v":9342.02},null,"",9342.02,null,0]
[{"$f":"'[1]Distribution Factors'!F165","v":26},null,"City/Town",null,"HAZELTON ",null,263,null,7.8500432797062956E-3,null,{"$f":"ROUND(I219*$M$226,2)","v":1557.99},null,"",1557.99,null,0]
[{"$f":"'[1]Distribution Factors'!F166","v":26},null,"City/Town",null,"MACKEY ",null,106,null,3.1638957705280124E-3,null,{"$f":"ROUND(I220*$M$226,2)","v":627.94000000000005},null,"",627.94000000000005,null,0]
[{"$f":"'[1]Distribution Factors'!F167","v":26},null,"City/Town",null,"OAKLAND CITY ",null,2429,null,7.2500970062382472E-2,null,{"$f":"ROUND(I221*$M$226,2)","v":14389.2},null,"",14389.2,null,0]
[{"$f":"'[1]Distribution Factors'!F168","v":26},null,"City/Town",null,"OWENSVILLE ",null,1284,null,3.8324926126018566E-2,null,{"$f":"ROUND(I222*$M$226,2)","v":7606.31},null,"",7606.31,null,0]
[{"$f":"'[1]Distribution Factors'!F169","v":26},null,"City/Town",null,"PATOKA ",null,735,null,2.193833388054801E-2,null,{"$f":"ROUND(I223*$M$226,2)","v":4354.08},null,"",4354.08,null,0]
[{"$f":"'[1]Distribution Factors'!F170","v":26},null,"City/Town",null,"PRINCETON ",null,8644,null,0.25800674566456733,null,{"$f":"ROUND(I224*$M$226,2)","v":51206.37},null,"",51206.37,null,0]
[{"$f":"'[1]Distribution Factors'!F171","v":26},null,"City/Town",null,"SOMERVILLE ",null,293,null,8.7454854789123359E-3,null,{"$f":"ROUND(I225*$M$226,2)","v":1735.71},null,null,1735.71,null,0]
[null,null,null,null,"Sub-Total ",null,{"$f":"SUM(G215:G225)","v":33503},null,{"$f":"SUM(I215:I225)","v":0.99999999999999989},null,{"$f":"SUM(K215:K225)","v":198469.12},null,{"$f":"Calculation!I33","v":198469.12},{"$f":"M226-K226","v":0},null,null,null,{"$f":"Calculation!E33","v":33503},{"$f":"R226-G226","v":0}]
[]
[{"$f":"'[1]Distribution Factors'!F172","v":27},null,"County",null,"GRANT ",null,21390,null,{"$f":"+G228/$G$240","v":0.30529666157601015},null,{"$f":"M240-SUM(K229:K239)","v":126709.04999999999},null,"",126712.66,null,{"$f":"K228-N228","v":-3.610000000015134}]
[{"$f":"'[1]Distribution Factors'!F173","v":27},null,"City/Town",null,"CONVERSE ",null,272,null,{"$f":"+G229/$G$240","v":3.8822202874555759E-3},null,{"$f":"ROUND(I229*$M$240,2)","v":1611.26},null,"",1611.31,null,-4.9999999999954525E-2]
[{"$f":"'[1]Distribution Factors'!F174","v":27},null,"City/Town",null,"FAIRMOUNT ",null,2954,null,4.216205415126386E-2,null,{"$f":"ROUND(I230*$M$240,2)","v":17498.759999999998},null,"",17499.259999999998,null,-0.5]
[{"$f":"'[1]Distribution Factors'!F175","v":27},null,"City/Town",null,"FOWLERTON ",null,261,null,3.7252187317128871E-3,null,{"$f":"ROUND(I231*$M$240,2)","v":1546.1},null,"",1546.14,null,-4.0000000000190994E-2]
[{"$f":"'[1]Distribution Factors'!F176","v":27},null,"City/Town",null,"GAS CITY ",null,5965,null,8.513766181864893E-2,null,{"$f":"ROUND(I232*$M$240,2)","v":35335.18},null,"",35336.19,null,-1.0100000000020373]
[{"$f":"'[1]Distribution Factors'!F177","v":27},null,"City/Town",null,"JONESBORO ",null,1756,null,2.5063157444014671E-2,null,{"$f":"ROUND(I233*$M$240,2)","v":10402.11},null,"",10402.4,null,-0.28999999999905413]
[{"$f":"'[1]Distribution Factors'!F178","v":27},null,"City/Town",null,"MARION ",null,29950,null,0.42747241768122973,null,{"$f":"ROUND(I234*$M$240,2)","v":177416.36},null,"",177421.43,null,-5.0700000000069849]
[{"$f":"'[1]Distribution Factors'!F179","v":27},null,"City/Town",null,"MATTHEWS ",null,596,null,8.5066297475129525E-3,null,{"$f":"ROUND(I235*$M$240,2)","v":3530.56},null,"",3530.66,null,-9.9999999999909051E-2]
[{"$f":"'[1]Distribution Factors'!F180","v":27},null,"City/Town",null,"SWAYZEE ",null,981,null,1.4001684198507058E-2,null,{"$f":"ROUND(I236*$M$240,2)","v":5811.2},null,"",5811.37,null,-0.17000000000007276]
[{"$f":"'[1]Distribution Factors'!F181","v":27},null,"City/Town",null,"SWEETSER ",null,1229,null,1.7541355637069496E-2,null,{"$f":"ROUND(I237*$M$240,2)","v":7280.29},null,"",7280.5,null,-0.21000000000003638]
[{"$f":"'[1]Distribution Factors'!F182","v":27},null,"City/Town",null,"UPLAND ",null,3845,null,5.4879180166421647E-2,null,{"$f":"ROUND(I238*$M$240,2)","v":22776.82},null,"",22777.48,null,-0.65999999999985448]
[{"$f":"'[1]Distribution Factors'!F183","v":27},null,"City/Town",null,"VAN BUREN ",null,864,null,1.2331758560153006E-2,null,{"$f":"ROUND(I239*$M$240,2)","v":5118.12},null,null,5118.2700000000004,null,-0.1500000000005457]
[null,null,null,null,"Sub-Total ",null,{"$f":"SUM(G228:G239)","v":70063},null,{"$f":"SUM(I228:I239)","v":0.99999999999999989},null,{"$f":"SUM(K228:K239)","v":415035.80999999994},null,{"$f":"Calculation!I34","v":415035.81},{"$f":"M240-K240","v":0},null,null,null,{"$f":"Calculation!E34","v":70061},{"$f":"R240-G240","v":-2}]
[]
[{"$f":"'[1]Distribution Factors'!F184","v":28},null,"County",null,"GREENE ",null,20434,null,{"$f":"+G242/$G$250","v":0.61613146389265794},null,{"$f":"M250-SUM(K243:K249)","v":121049.38999999998},null,"",121049.4,null,{"$f":"K242-N242","v":-1.0000000009313226E-2}]
[{"$f":"'[1]Distribution Factors'!F185","v":28},null,"City/Town",null,"BLOOMFIELD ",null,2405,null,{"$f":"+G243/$G$250","v":7.2516206844565056E-2},null,{"$f":"ROUND(I243*$M$250,2)","v":14247.03},null,"",14247.03,null,0]
[{"$f":"'[1]Distribution Factors'!F186","v":28},null,"City/Town",null,"JASONVILLE ",null,2222,null,6.6998341625207292E-2,null,{"$f":"ROUND(I244*$M$250,2)","v":13162.95},null,"",13162.95,null,0]
[{"$f":"'[1]Distribution Factors'!F187","v":28},null,"City/Town",null,"LINTON ",null,5413,null,0.1632142318709483,null,{"$f":"ROUND(I245*$M$250,2)","v":32066.18},null,"",32066.18,null,0]
[{"$f":"'[1]Distribution Factors'!F188","v":28},null,"City/Town",null,"LYONS ",null,742,null,2.2372983567013418E-2,null,{"$f":"ROUND(I246*$M$250,2)","v":4395.55},null,"",4395.55,null,0]
[{"$f":"'[1]Distribution Factors'!F189","v":28},null,"City/Town",null,"NEWBERRY ",null,193,null,5.8193879089401476E-3,null,{"$f":"ROUND(I247*$M$250,2)","v":1143.32},null,"",1143.32,null,0]
[{"$f":"'[1]Distribution Factors'!F190","v":28},null,"City/Town",null,"SWITZ ",null,293,null,8.8346148047640585E-3,null,{"$f":"ROUND(I248*$M$250,2)","v":1735.71},null,"",1735.71,null,0]
[{"$f":"'[1]Distribution Factors'!F191","v":28},null,"City/Town",null,"WORTHINGTON ",null,1463,null,4.4112769485903813E-2,null,{"$f":"ROUND(I249*$M$250,2)","v":8666.7000000000007},null,null,8666.7000000000007,null,0]
[null,null,null,null,"Sub-Total ",null,{"$f":"SUM(G242:G249)","v":33165},null,{"$f":"SUM(I242:I249)","v":1},null,{"$f":"SUM(K242:K249)","v":196466.83},null,{"$f":"Calculation!I35","v":196466.83},{"$f":"M250-K250","v":0},null,null,null,{"$f":"Calculation!E35","v":33165},{"$f":"R250-G250","v":0}]
[]
[{"$f":"'[1]Distribution Factors'!F192","v":29},null,"County",null,"HAMILTON ",null,26679,null,{"$f":"+G252/$G$261","v":9.7166832380931573E-2},null,{"$f":"M261-SUM(K253:K260)","v":158044.28000000003},null,"",158044.28,null,{"$f":"K252-N252","v":0}]
[{"$f":"'[1]Distribution Factors'!F193","v":29},null,"City/Town",null,"ARCADIA ",null,1666,null,{"$f":"+G253/$G$261","v":6.0676915456588324E-3},null,{"$f":"ROUND(I253*$M$261,2)","v":9869.25},null,"",9869.25,null,0]
[{"$f":"'[1]Distribution Factors'!F194","v":29},null,"City/Town",null,"ATLANTA ",null,725,null,2.6405020231708605E-3,null,{"$f":"ROUND(I254*$M$261,2)","v":4294.84},null,"",4294.84,null,0]
[{"$f":"'[1]Distribution Factors'!F195","v":29},null,"City/Town",null,"CARMEL ",null,79191,null,0.28841930443713604,null,{"$f":"ROUND(I255*$M$261,2)","v":469121.2},null,"",469121.2,null,0]
[{"$f":"'[1]Distribution Factors'!F196","v":29},null,"City/Town",null,"CICERO ",null,4812,null,1.7525649290342317E-2,null,{"$f":"ROUND(I256*$M$261,2)","v":28505.91},null,"",28505.91,null,0]
[{"$f":"'[1]Distribution Factors'!F197","v":29},null,"City/Town",null,"FISHERS ",null,76794,null,0.27968925843776976,null,{"$f":"ROUND(I257*$M$261,2)","v":454921.57},null,"",454921.57,null,0]
[{"$f":"'[1]Distribution Factors'!F198","v":29},null,"City/Town",null,"NOBLESVILLE ",null,51969,null,0.18927482709264337,null,{"$f":"ROUND(I258*$M$261,2)","v":307860.23},null,"",307860.23,null,0]
[{"$f":"'[1]Distribution Factors'!F199","v":29},null,"City/Town",null,"SHERIDAN ",null,2665,null,9.7061212300004734E-3,null,{"$f":"ROUND(I259*$M$261,2)","v":15787.25},null,"",15787.25,null,0]
[{"$f":"'[1]Distribution Factors'!F200","v":29},null,"City/Town",null,"WESTFIELD ",null,30068,null,0.10950981356234681,null,{"$f":"ROUND(I260*$M$261,2)","v":178120.45},null,null,178120.45,null,0]
[null,null,null,null,"Sub-Total ",null,{"$f":"SUM(G252:G260)","v":274569},null,{"$f":"SUM(I252:I260)","v":1.0000000000000002},null,{"$f":"SUM(K252:K260)","v":1626524.98},null,{"$f":"Calculation!I36","v":1626524.98},{"$f":"M261-K261","v":0},null,null,null,{"$f":"Calculation!E36","v":274569},{"$f":"R261-G261","v":0}]
[]
[{"$f":"'[1]Distribution Factors'!F201","v":30},null,"County",null,"HANCOCK ",null,34747,null,{"$f":"+G263/$G$272","v":0.49637153224193592},null,{"$f":"M272-SUM(K264:K271)","v":205838.48},null,"",205838.47,null,{"$f":"K263-N263","v":1.0000000009313226E-2}]
[{"$f":"'[1]Distribution Factors'!F202","v":30},null,"City/Town",null,"CUMBERLAND ",null,2572,null,{"$f":"+G264/$G$272","v":3.6741807376932091E-2},null,{"$f":"ROUND(I264*$M$272,2)","v":15236.32},null,"",15236.32,null,0]
[{"$f":"'[1]Distribution Factors'!F203","v":30},null,"City/Town",null,"FORTVILLE ",null,3929,null,5.6126967800919976E-2,null,{"$f":"ROUND(I265*$M$272,2)","v":23275.08},null,"",23275.08,null,0]
[{"$f":"'[1]Distribution Factors'!F204","v":30},null,"City/Town",null,"GREENFIELD ",null,20602,null,0.29430587697494359,null,{"$f":"ROUND(I266*$M$272,2)","v":122044.62},null,"",122044.61,null,9.9999999947613105E-3]
[{"$f":"'[1]Distribution Factors'!F205","v":30},null,"City/Town",null,"MCCORDSVILLE ",null,4797,null,6.8526613525327851E-2,null,{"$f":"ROUND(I267*$M$272,2)","v":28417.05},null,"",28417.05,null,0]
[{"$f":"'[1]Distribution Factors'!F206","v":30},null,"City/Town",null,"NEW PALESTINE ",null,2055,null,2.9356304105596982E-2,null,{"$f":"ROUND(I268*$M$272,2)","v":12173.66},null,"",12173.66,null,0]
[{"$f":"'[1]Distribution Factors'!F207","v":30},null,"City/Town",null,"SHIRLEY ",null,633,null,9.0425987828919169E-3,null,{"$f":"ROUND(I269*$M$272,2)","v":3749.84},null,"",3749.84,null,0]
[{"$f":"'[1]Distribution Factors'!F208","v":30},null,"City/Town",null,"SPRING LAKE ",null,218,null,3.1141967372360791E-3,null,{"$f":"ROUND(I270*$M$272,2)","v":1291.4100000000001},null,"",1291.4100000000001,null,0]
[{"$f":"'[1]Distribution Factors'!F209","v":30},null,"City/Town",null,"WILKINSON ",null,449,null,6.4141024542155936E-3,null,{"$f":"ROUND(I271*$M$272,2)","v":2659.84},null,null,2659.84,null,0]
[null,null,null,null,"Sub-Total ",null,{"$f":"SUM(G263:G271)","v":70002},null,{"$f":"SUM(I263:I271)","v":1},null,{"$f":"SUM(K263:K271)","v":414686.3},null,{"$f":"Calculation!I37","v":414686.3},{"$f":"M272-K272","v":0},null,null,null,{"$f":"Calculation!E37","v":70002},{"$f":"R272-G272","v":0}]
[]
[{"$f":"'[1]Distribution Factors'!F210","v":32},null,"County",null,"HENDRICKS ",null,68914,null,{"$f":"+G274/$G$287","v":0.47380507122820525},null,{"$f":"M287-SUM(K275:K286)","v":408241.08},null,"",408241.07,null,{"$f":"K274-N274","v":1.0000000009313226E-2}]
[{"$f":"'[1]Distribution Factors'!F211","v":32},null,"City/Town",null,"AMO ",null,401,null,{"$f":"+G275/$G$287","v":2.7569990649579231E-3},null,{"$f":"ROUND(I275*$M$287,2)","v":2375.4899999999998},null,"",2375.4899999999998,null,0]
[{"$f":"'[1]Distribution Factors'!F212","v":32},null,"City/Town",null,"AVON ",null,12446,null,8.5570100654529455E-2,null,{"$f":"ROUND(I276*$M$287,2)","v":73729.119999999995},null,"",73729.119999999995,null,0]
[{"$f":"'[1]Distribution Factors'!F213","v":32},null,"City/Town",null,"BROWNSBURG ",null,21285,null,0.14634096034321545,null,{"$f":"ROUND(I277*$M$287,2)","v":126090.65},null,"",126090.65,null,0]
[{"$f":"'[1]Distribution Factors'!F214","v":32},null,"City/Town",null,"CLAYTON ",null,972,null,6.6828007260326715E-3,null,{"$f":"ROUND(I278*$M$287,2)","v":5758.05},null,"",5758.05,null,0]
[{"$f":"'[1]Distribution Factors'!F215","v":32},null,"City/Town",null,"COATESVILLE ",null,523,null,3.5957868104064682E-3,null,{"$f":"ROUND(I279*$M$287,2)","v":3098.21},null,"",3098.21,null,0]
[{"$f":"'[1]Distribution Factors'!F216","v":32},null,"City/Town",null,"DANVILLE ",null,9001,null,6.1884659809691434E-2,null,{"$f":"ROUND(I280*$M$287,2)","v":53321.21},null,"",53321.21,null,0]
[{"$f":"'[1]Distribution Factors'!F217","v":32},null,"City/Town",null,"JAMESTOWN ",null,25,null,1.7188273472306255E-4,null,{"$f":"ROUND(I281*$M$287,2)","v":148.1},null,"",148.1,null,0]
[{"$f":"'[1]Distribution Factors'!F218","v":32},null,"City/Town",null,"LIZTON ",null,488,null,3.3551509817941806E-3,null,{"$f":"ROUND(I282*$M$287,2)","v":2890.87},null,"",2890.87,null,0]
[{"$f":"'[1]Distribution Factors'!F219","v":32},null,"City/Town",null,"NORTH SALEM ",null,518,null,3.5614102634618557E-3,null,{"$f":"ROUND(I283*$M$287,2)","v":3068.59},null,"",3068.59,null,0]
[{"$f":"'[1]Distribution Factors'!F220","v":32},null,"City/Town",null,"PITTSBORO ",null,2928,null,2.0130905890765084E-2,null,{"$f":"ROUND(I284*$M$287,2)","v":17345.240000000002},null,"",17345.240000000002,null,0]
[{"$f":"'[1]Distribution Factors'!F221","v":32},null,"City/Town",null,"PLAINFIELD ",null,27631,null,0.18997167372531765,null,{"$f":"ROUND(I285*$M$287,2)","v":163683.85},null,"",163683.85,null,0]
[{"$f":"'[1]Distribution Factors'!F222","v":32},null,"City/Town",null,"STILESVILLE ",null,316,null,2.1725977668995105E-3,null,{"$f":"ROUND(I286*$M$287,2)","v":1871.96},null,null,1871.96,null,0]
[null,null,null,null,"Sub-Total ",null,{"$f":"SUM(G274:G286)","v":145448},null,{"$f":"SUM(I274:I286)","v":1},null,{"$f":"SUM(K274:K286)","v":861622.41999999981},null,{"$f":"Calculation!I39","v":861622.42},{"$f":"M287-K287","v":0},null,null,null,{"$f":"Calculation!E39","v":145448},{"$f":"R287-G287","v":0}]
[]
[{"$f":"'[1]Distribution Factors'!F223","v":33},null,"County",null,"HENRY ",null,22819,null,{"$f":"+G289/$G$306","v":0.46134406210828516},null,{"$f":"M306-SUM(K290:K305)","v":135177.94999999995},null,"",135177.95000000001,null,{"$f":"K289-N289","v":0}]
[{"$f":"'[1]Distribution Factors'!F224","v":33},null,"City/Town",null,"BLOUNTSVILLE ",null,134,null,{"$f":"+G290/$G$306","v":2.7091504589381748E-3},null,{"$f":"ROUND(I290*$M$306,2)","v":793.81},null,"",793.81,null,0]
[{"$f":"'[1]Distribution Factors'!F225","v":33},null,"City/Town",null,"CADIZ ",null,150,null,3.0326311107516882E-3,null,{"$f":"ROUND(I291*$M$306,2)","v":888.59},null,"",888.59,null,0]
[{"$f":"'[1]Distribution Factors'!F226","v":33},null,"City/Town",null,"DUNREITH ",null,177,null,3.578504710686992E-3,null,{"$f":"ROUND(I292*$M$306,2)","v":1048.53},null,"",1048.53,null,0]
[{"$f":"'[1]Distribution Factors'!F227","v":33},null,"City/Town",null,"GREENSBORO ",null,143,null,2.8911083255832759E-3,null,{"$f":"ROUND(I293*$M$306,2)","v":847.12},null,"",847.12,null,0]
[{"$f":"'[1]Distribution Factors'!F228","v":33},null,"City/Town",null,"KENNARD ",null,471,null,9.5224616877603013E-3,null,{"$f":"ROUND(I294*$M$306,2)","v":2790.17},null,"",2790.17,null,0]
[{"$f":"'[1]Distribution Factors'!F229","v":33},null,"City/Town",null,"KNIGHTSTOWN ",null,2182,null,4.4114673891067893E-2,null,{"$f":"ROUND(I295*$M$306,2)","v":12926},null,"",12925.99,null,1.0000000000218279E-2]
[{"$f":"'[1]Distribution Factors'!F230","v":33},null,"City/Town",null,"LEWISVILLE ",null,366,null,7.3996199102341195E-3,null,{"$f":"ROUND(I296*$M$306,2)","v":2168.16},null,"",2168.15,null,9.9999999997635314E-3]
[{"$f":"'[1]Distribution Factors'!F231","v":33},null,"City/Town",null,"MIDDLETOWN ",null,2322,null,4.6945129594436134E-2,null,{"$f":"ROUND(I297*$M$306,2)","v":13755.34},null,"",13755.34,null,0]
[{"$f":"'[1]Distribution Factors'!F232","v":33},null,"City/Town",null,"MOORELAND ",null,375,null,7.5815777768792206E-3,null,{"$f":"ROUND(I298*$M$306,2)","v":2221.4699999999998},null,"",2221.4699999999998,null,0]
[{"$f":"'[1]Distribution Factors'!F233","v":33},null,"City/Town",null,"MOUNT SUMMIT ",null,352,null,7.1165743398972948E-3,null,{"$f":"ROUND(I299*$M$306,2)","v":2085.2199999999998},null,"",2085.2199999999998,null,0]
[{"$f":"'[1]Distribution Factors'!F234","v":33},null,"City/Town",null,"NEW CASTLE ",null,18114,null,0.36622053293437384,null,{"$f":"ROUND(I300*$M$306,2)","v":107305.9},null,"",107305.9,null,0]
[{"$f":"'[1]Distribution Factors'!F235","v":33},null,"City/Town",null,"SHIRLEY ",null,197,null,3.982855525453884E-3,null,{"$f":"ROUND(I301*$M$306,2)","v":1167.01},null,"",1167.01,null,0]
[{"$f":"'[1]Distribution Factors'!F236","v":33},null,"City/Town",null,"SPICELAND ",null,890,null,1.7993611257126684E-2,null,{"$f":"ROUND(I302*$M$306,2)","v":5272.29},null,"",5272.29,null,0]
[{"$f":"'[1]Distribution Factors'!F237","v":33},null,"City/Town",null,"SPRINGPORT ",null,149,null,3.0124135700133436E-3,null,{"$f":"ROUND(I303*$M$306,2)","v":882.66},null,"",882.66,null,0]
[{"$f":"'[1]Distribution Factors'!F238","v":33},null,"City/Town",null,"STRAUGHN ",null,222,null,4.4882940439124981E-3,null,{"$f":"ROUND(I304*$M$306,2)","v":1315.11},null,"",1315.11,null,0]
[{"$f":"'[1]Distribution Factors'!F239","v":33},null,"City/Town",null,"SULPHUR SPRINGS ",null,399,null,8.0667987545994906E-3,null,{"$f":"ROUND(I305*$M$306,2)","v":2363.64},null,null,2363.64,null,0]
[null,null,null,null,"Sub-Total ",null,{"$f":"SUM(G289:G305)","v":49462},null,{"$f":"SUM(I289:I305)","v":0.99999999999999989},null,{"$f":"SUM(K289:K305)","v":293008.96999999991},null,{"$f":"Calculation!I40","v":293008.96999999997},{"$f":"M306-K306","v":0},null,null,null,{"$f":"Calculation!E40","v":49462},{"$f":"R306-G306","v":0}]
[]
[{"$f":"'[1]Distribution Factors'!F240","v":34},null,"County",null,"HOWARD ",null,33775,null,{"$f":"+G308/$G$312","v":0.40814723511214229},null,{"$f":"M312-SUM(K309:K311)","v":200080.41999999993},null,"",200080.42,null,{"$f":"K308-N308","v":0}]
[{"$f":"'[1]Distribution Factors'!F241","v":34},null,"City/Town",null,"GREENTOWN ",null,2415,null,{"$f":"+G309/$G$312","v":2.9183584686774941E-2},null,{"$f":"ROUND(I309*$M$312,2)","v":14306.27},null,"",14306.27,null,0]
[{"$f":"'[1]Distribution Factors'!F242","v":34},null,"City/Town",null,"KOKOMO ",null,45468,null,{"$f":"+G310/$G$312","v":0.54944895591647336},null,{"$f":"ROUND(I310*$M$312,2)","v":269348.83},null,"",269348.83,null,0]
[{"$f":"'[1]Distribution Factors'!F243","v":34},null,"City/Town",null,"RUSSIAVILLE ",null,1094,null,1.3220224284609436E-2,null,{"$f":"ROUND(I311*$M$312,2)","v":6480.77},null,null,6480.77,null,0]
[null,null,null,null,"Sub-Total ",null,{"$f":"SUM(G308:G311)","v":82752},null,{"$f":"SUM(I308:I311)","v":1},null,{"$f":"SUM(K308:K311)","v":490216.28999999992},null,{"$f":"Calculation!I41","v":490216.29},{"$f":"M312-K312","v":0},null,null,null,{"$f":"Calculation!E41","v":82752},{"$f":"R312-G312","v":0}]
[]
[{"$f":"'[1]Distribution Factors'!F244","v":35},null,"County",null,"HUNTINGTON ",null,14882,null,{"$f":"+G314/$G$321","v":0.4008727507811658},null,{"$f":"M321-SUM(K315:K320)","v":88159.790000000008},null,"",88159.79,null,{"$f":"K314-N314","v":0}]
[{"$f":"'[1]Distribution Factors'!F245","v":35},null,"City/Town",null,"ANDREWS ",null,1149,null,{"$f":"+G315/$G$321","v":3.0950328628380562E-2},null,{"$f":"ROUND(I315*$M$321,2)","v":6806.58},null,"",6806.58,null,0]
[{"$f":"'[1]Distribution Factors'!F246","v":35},null,"City/Town",null,"HUNTINGTON ",null,17391,null,0.46845706281650684,null,{"$f":"ROUND(I316*$M$321,2)","v":103022.9},null,"",103022.9,null,0]
[{"$f":"'[1]Distribution Factors'!F247","v":35},null,"City/Town",null,"MARKLE ",null,647,null,1.7428078870811336E-2,null,{"$f":"ROUND(I317*$M$321,2)","v":3832.78},null,"",3832.78,null,0]
[{"$f":"'[1]Distribution Factors'!F248","v":35},null,"City/Town",null,"MOUNT ETNA ",null,94,null,2.5320547354810903E-3,null,{"$f":"ROUND(I318*$M$321,2)","v":556.85},null,"",556.85,null,0]
[{"$f":"'[1]Distribution Factors'!F249","v":35},null,"City/Town",null,"ROANOKE ",null,1722,null,4.6385087813813168E-2,null,{"$f":"ROUND(I319*$M$321,2)","v":10200.99},null,"",10200.99,null,0]
[{"$f":"'[1]Distribution Factors'!F250","v":35},null,"City/Town",null,"WARREN ",null,1239,null,3.3374636353841178E-2,null,{"$f":"ROUND(I320*$M$321,2)","v":7339.74},null,null,7339.74,null,0]
[null,null,null,null,"Sub-Total ",null,{"$f":"SUM(G314:G320)","v":37124},null,{"$f":"SUM(I314:I320)","v":0.99999999999999989},null,{"$f":"SUM(K314:K320)","v":219919.63},null,{"$f":"Calculation!I42","v":219919.63},{"$f":"M321-K321","v":0},null,null,null,{"$f":"Calculation!E42","v":37124},{"$f":"R321-G321","v":0}]
[]
[{"$f":"'[1]Distribution Factors'!F251","v":36},null,"County",null,"JACKSON ",null,19642,null,{"$f":"+G323/$G$328","v":0.46351708514253354},null,{"$f":"M328-SUM(K324:K327)","v":116357.65},null,"",116357.65,null,{"$f":"K323-N323","v":0}]
[{"$f":"'[1]Distribution Factors'!F252","v":36},null,"City/Town",null,"BROWNSTOWN ",null,2947,null,{"$f":"+G324/$G$328","v":6.9544081555597506E-2},null,{"$f":"ROUND(I324*$M$328,2)","v":17457.79},null,"",17457.79,null,0]
[{"$f":"'[1]Distribution Factors'!F253","v":36},null,"City/Town",null,"CROTHERSVILLE ",null,1591,null,3.7544836700018881E-2,null,{"$f":"ROUND(I325*$M$328,2)","v":9424.9599999999991},null,"",9424.9599999999991,null,0]
[{"$f":"'[1]Distribution Factors'!F254","v":36},null,"City/Town",null,"MEDORA ",null,693,null,1.6353596375306777E-2,null,{"$f":"ROUND(I326*$M$328,2)","v":4105.28},null,"",4105.28,null,0]
[{"$f":"'[1]Distribution Factors'!F255","v":36},null,"City/Town",null,"SEYMOUR ",null,17503,null,0.41304040022654331,null,{"$f":"ROUND(I327*$M$328,2)","v":103686.38},null,null,103686.38,null,0]
[null,null,null,null,"Sub-Total ",null,{"$f":"SUM(G323:G327)","v":42376},null,{"$f":"SUM(I323:I327)","v":1},null,{"$f":"SUM(K323:K327)","v":251032.06},null,{"$f":"Calculation!I43","v":251032.06},{"$f":"M328-K328","v":0},null,null,null,{"$f":"Calculation!E43","v":42376},{"$f":"R328-G328","v":0}]
[]
[{"$f":"'[1]Distribution Factors'!F256","v":37},null,"County",null,"JASPER ",null,21767,null,{"$f":"+G330/$G$335","v":0.65018818328454508},null,{"$f":"M335-SUM(K331:K334)","v":128945.98999999999},null,"",128945.98,null,{"$f":"K330-N330","v":9.9999999947613105E-3}]
[{"$f":"'[1]Distribution Factors'!F257","v":37},null,"City/Town",null,"DEMOTTE",null,3814,null,{"$f":"+G331/$G$335","v":0.1139255630563355},null,{"$f":"ROUND(I331*$M$335,2)","v":22593.83},null,"",22593.83,null,0]
[{"$f":"'[1]Distribution Factors'!F258","v":37},null,"City/Town",null,"REMINGTON ",null,1185,null,3.5396379712049703E-2,null,{"$f":"ROUND(I332*$M$335,2)","v":7019.85},null,"",7019.85,null,0]
[{"$f":"'[1]Distribution Factors'!F259","v":37},null,"City/Town",null,"RENSSELAER ",null,5859,null,0.17501045462691917,null,{"$f":"ROUND(I333*$M$335,2)","v":34708.25},null,"",34708.25,null,0]
[{"$f":"'[1]Distribution Factors'!F260","v":37},null,"City/Town",null,"WHEATFIELD ",null,853,null,2.5479419320150548E-2,null,{"$f":"ROUND(I334*$M$335,2)","v":5053.1000000000004},null,null,5053.1000000000004,null,0]
[null,null,null,null,"Sub-Total ",null,{"$f":"SUM(G330:G334)","v":33478},null,{"$f":"SUM(I330:I334)","v":0.99999999999999989},null,{"$f":"SUM(K330:K334)","v":198321.02000000002},null,{"$f":"Calculation!I44","v":198321.02},{"$f":"M335-K335","v":0},null,null,null,{"$f":"Calculation!E44","v":33478},{"$f":"R335-G335","v":0}]
[]
[{"$f":"'[1]Distribution Factors'!F261","v":38},null,"County",null,"JAY ",null,10350,null,{"$f":"+G337/$G$344","v":0.48699007198983674},null,{"$f":"M344-SUM(K338:K343)","v":61312.58},null,"",61312.58,null,{"$f":"K337-N337","v":0}]
[{"$f":"'[1]Distribution Factors'!F262","v":38},null,"City/Town",null,"BRYANT ",null,252,null,{"$f":"+G338/$G$344","v":1.1857149578882981E-2},null,{"$f":"ROUND(I338*$M$344,2)","v":1492.83},null,"",1492.83,null,0]
[{"$f":"'[1]Distribution Factors'!F263","v":38},null,"City/Town",null,"DUNKIRK ",null,2217,null,0.10431468498564908,null,{"$f":"ROUND(I339*$M$344,2)","v":13133.33},null,"",13133.33,null,0]
[{"$f":"'[1]Distribution Factors'!F264","v":38},null,"City/Town",null,"PENNVILLE ",null,701,null,3.2983578788876866E-2,null,{"$f":"ROUND(I340*$M$344,2)","v":4152.67},null,"",4152.67,null,0]
[{"$f":"'[1]Distribution Factors'!F265","v":38},null,"City/Town",null,"PORTLAND ",null,6223,null,0.29280572154519363,null,{"$f":"ROUND(I341*$M$344,2)","v":36864.559999999998},null,"",36864.559999999998,null,0]
[{"$f":"'[1]Distribution Factors'!F266","v":38},null,"City/Town",null,"REDKEY ",null,1353,null,6.3661600715193153E-2,null,{"$f":"ROUND(I342*$M$344,2)","v":8015.06},null,"",8015.06,null,0]
[{"$f":"'[1]Distribution Factors'!F267","v":38},null,"City/Town",null,"SALAMONIA ",null,157,null,7.3871923963675715E-3,null,{"$f":"ROUND(I343*$M$344,2)","v":930.06},null,null,930.06,null,0]
[null,null,null,null,"Sub-Total ",null,{"$f":"SUM(G337:G343)","v":21253},null,{"$f":"SUM(I337:I343)","v":1},null,{"$f":"SUM(K337:K343)","v":125901.09},null,{"$f":"Calculation!I45","v":125901.09},{"$f":"M344-K344","v":0},null,null,null,{"$f":"Calculation!E45","v":21253},{"$f":"R344-G344","v":0}]
[]
[{"$f":"'[1]Distribution Factors'!F268","v":39},null,"County",null,"JEFFERSON ",null,16495,null,{"$f":"+G346/$G$351","v":0.50866535093129395},null,{"$f":"M351-SUM(K347:K350)","v":97715.069999999992},null,"",97715.07,null,{"$f":"K346-N346","v":0}]
[{"$f":"'[1]Distribution Factors'!F269","v":39},null,"City/Town",null,"BROOKSBURG ",null,81,null,{"$f":"+G347/$G$351","v":2.4978413716541261E-3},null,{"$f":"ROUND(I347*$M$351,2)","v":479.84},null,"",479.84,null,0]
[{"$f":"'[1]Distribution Factors'!F270","v":39},null,"City/Town",null,"DUPONT ",null,339,null,1.045392870358949E-2,null,{"$f":"ROUND(I348*$M$351,2)","v":2008.21},null,"",2008.21,null,0]
[{"$f":"'[1]Distribution Factors'!F271","v":39},null,"City/Town",null,"HANOVER ",null,3546,null,0.10934994449241396,null,{"$f":"ROUND(I349*$M$351,2)","v":21006.22},null,"",21006.22,null,0]
[{"$f":"'[1]Distribution Factors'!F272","v":39},null,"City/Town",null,"MADISON ",null,11967,null,0.36903293450104846,null,{"$f":"ROUND(I350*$M$351,2)","v":70891.56},null,null,70891.56,null,0]
[null,null,null,null,"Sub-Total ",null,{"$f":"SUM(G346:G350)","v":32428},null,{"$f":"SUM(I346:I350)","v":1},null,{"$f":"SUM(K346:K350)","v":192100.9},null,{"$f":"Calculation!I46","v":192100.9},{"$f":"M351-K351","v":0},null,null,null,{"$f":"Calculation!E46","v":32428},{"$f":"R351-G351","v":0}]
[]
[{"$f":"'[1]Distribution Factors'!F273","v":40},null,"County",null,"JENNINGS ",null,21479,null,{"$f":"+G353/$G$356","v":0.752988606485539},null,{"$f":"M356-SUM(K354:K355)","v":127239.89},null,"",127239.89,null,{"$f":"K353-N353","v":0}]
[{"$f":"'[1]Distribution Factors'!F274","v":40},null,"City/Town",null,"NORTH VERNON ",null,6728,null,{"$f":"+G354/$G$356","v":0.23586327782646802},null,{"$f":"ROUND(I354*$M$356,2)","v":39856.14},null,"",39856.14,null,0]
[{"$f":"'[1]Distribution Factors'!F275","v":40},null,"City/Town",null,"VERNON ",null,318,null,1.1148115687992989E-2,null,{"$f":"ROUND(I355*$M$356,2)","v":1883.81},null,null,1883.81,null,0]
[null,null,null,null,"Sub-Total ",null,{"$f":"SUM(G353:G355)","v":28525},null,{"$f":"SUM(I353:I355)","v":1},null,{"$f":"SUM(K353:K355)","v":168979.84},null,{"$f":"Calculation!I47","v":168979.84},{"$f":"M356-K356","v":0},null,null,null,{"$f":"Calculation!E47","v":28525},{"$f":"R356-G356","v":0}]
[]
[{"$f":"'[1]Distribution Factors'!F276","v":41},null,"County",null,"JOHNSON ",null,46076,null,{"$f":"+G358/$G$367","v":0.32992968336030476},null,{"$f":"M367-SUM(K359:K366)","v":272950.56999999995},null,"",272950.57,null,{"$f":"K358-N358","v":0}]
[{"$f":"'[1]Distribution Factors'!F277","v":41},null,"City/Town",null,"BARGERSVILLE ",null,4013,null,{"$f":"+G359/$G$367","v":2.873530296303722E-2},null,{"$f":"ROUND(I359*$M$367,2)","v":23772.69},null,"",23772.69,null,0]
[{"$f":"'[1]Distribution Factors'!F278","v":41},null,"City/Town",null,"EDINBURGH ",null,4008,null,2.8699500193334955E-2,null,{"$f":"ROUND(I360*$M$367,2)","v":23743.07},null,"",23743.07,null,0]
[{"$f":"'[1]Distribution Factors'!F279","v":41},null,"City/Town",null,"FRANKLIN ",null,23712,null,0.16979105503601757,null,{"$f":"ROUND(I361*$M$367,2)","v":140468.01},null,"",140468.01,null,0]
[{"$f":"'[1]Distribution Factors'!F280","v":41},null,"City/Town",null,"GREENWOOD ",null,49791,null,0.35653114124908702,null,{"$f":"ROUND(I362*$M$367,2)","v":294957.94},null,"",294957.94,null,0]
[{"$f":"'[1]Distribution Factors'!F281","v":41},null,"City/Town",null,"NEW WHITELAND ",null,5472,null,3.9182551162157901E-2,null,{"$f":"ROUND(I363*$M$367,2)","v":32415.69},null,"",32415.69,null,0]
[{"$f":"'[1]Distribution Factors'!F282","v":41},null,"City/Town",null,"PRINCES LAKE ",null,1312,null,9.3946467698741171E-3,null,{"$f":"ROUND(I364*$M$367,2)","v":7772.18},null,"",7772.18,null,0]
[{"$f":"'[1]Distribution Factors'!F283","v":41},null,"City/Town",null,"TRAFALGAR ",null,1101,null,7.8837698884385698E-3,null,{"$f":"ROUND(I365*$M$367,2)","v":6522.24},null,"",6522.24,null,0]
[{"$f":"'[1]Distribution Factors'!F284","v":41},null,"City/Town",null,"WHITELAND ",null,4169,null,2.9852349377747861E-2,null,{"$f":"ROUND(I366*$M$367,2)","v":24696.83},null,null,24696.83,null,0]
[null,null,null,null,"Sub-Total ",null,{"$f":"SUM(G358:G366)","v":139654},null,{"$f":"SUM(I358:I366)","v":0.99999999999999989},null,{"$f":"SUM(K358:K366)","v":827299.22},null,{"$f":"Calculation!I48","v":827299.22},{"$f":"M367-K367","v":0},null,null,null,{"$f":"Calculation!E48","v":139654},{"$f":"R367-G367","v":0}]
[]
[{"$f":"'[1]Distribution Factors'!F285","v":42},null,"County",null,"KNOX ",null,14024,null,{"$f":"+G369/$G$379","v":0.36482830385015608},null,{"$f":"M379-SUM(K370:K378)","v":83077.06},null,"",83077.06,null,{"$f":"K369-N369","v":0}]
[{"$f":"'[1]Distribution Factors'!F286","v":42},null,"City/Town",null,"BICKNELL ",null,2915,null,{"$f":"+G370/$G$379","v":7.5832466181061389E-2},null,{"$f":"ROUND(I370*$M$379,2)","v":17268.23},null,"",17268.23,null,0]
[{"$f":"'[1]Distribution Factors'!F287","v":42},null,"City/Town",null,"BRUCEVILLE ",null,478,null,1.2434963579604578E-2,null,{"$f":"ROUND(I371*$M$379,2)","v":2831.63},null,"",2831.63,null,0]
[{"$f":"'[1]Distribution Factors'!F288","v":42},null,"City/Town",null,"DECKER ",null,249,null,6.4776274713839749E-3,null,{"$f":"ROUND(I372*$M$379,2)","v":1475.06},null,"",1475.06,null,0]
[{"$f":"'[1]Distribution Factors'!F289","v":42},null,"City/Town",null,"EDWARDSPORT ",null,303,null,7.8824141519250775E-3,null,{"$f":"ROUND(I373*$M$379,2)","v":1794.95},null,"",1794.95,null,0]
[{"$f":"'[1]Distribution Factors'!F290","v":42},null,"City/Town",null,"MONROE ",null,545,null,1.4177939646201874E-2,null,{"$f":"ROUND(I374*$M$379,2)","v":3228.54},null,"",3228.54,null,0]
[{"$f":"'[1]Distribution Factors'!F291","v":42},null,"City/Town",null,"OAKTOWN ",null,608,null,1.5816857440166494E-2,null,{"$f":"ROUND(I375*$M$379,2)","v":3601.74},null,"",3601.74,null,0]
[{"$f":"'[1]Distribution Factors'!F292","v":42},null,"City/Town",null,"SANDBORN ",null,415,null,1.0796045785639958E-2,null,{"$f":"ROUND(I376*$M$379,2)","v":2458.4299999999998},null,"",2458.4299999999998,null,0]
[{"$f":"'[1]Distribution Factors'!F293","v":42},null,"City/Town",null,"VINCENNES ",null,18423,null,0.47926638917793962,null,{"$f":"ROUND(I377*$M$379,2)","v":109136.39},null,"",109136.39,null,0]
[{"$f":"'[1]Distribution Factors'!F294","v":42},null,"City/Town",null,"WHEATLAND ",null,480,null,1.2486992715920915E-2,null,{"$f":"ROUND(I378*$M$379,2)","v":2843.48},null,null,2843.48,null,0]
[null,null,null,null,"Sub-Total ",null,{"$f":"SUM(G369:G378)","v":38440},null,{"$f":"SUM(I369:I378)","v":0.99999999999999989},null,{"$f":"SUM(K369:K378)","v":227715.50999999998},null,{"$f":"Calculation!I49","v":227715.51},{"$f":"M379-K379","v":0},null,null,null,{"$f":"Calculation!E49","v":38440},{"$f":"R379-G379","v":0}]
[]
[{"$f":"'[1]Distribution Factors'!F295","v":43},null,"County",null,"KOSCIUSKO ",null,48106,null,{"$f":"+G381/$G$396","v":0.62186199229556094},null,{"$f":"M396-SUM(K382:K395)","v":284976.13},null,"",284976.13,null,{"$f":"K381-N381","v":0}]
[{"$f":"'[1]Distribution Factors'!F296","v":43},null,"City/Town",null,"BURKET ",null,195,null,{"$f":"+G382/$G$396","v":2.520747692546343E-3},null,{"$f":"ROUND(I382*$M$396,2)","v":1155.1600000000001},null,"",1155.1600000000001,null,0]
[{"$f":"'[1]Distribution Factors'!F297","v":43},null,"City/Town",null,"CLAYPOOL ",null,431,null,5.5714987460896096E-3,null,{"$f":"ROUND(I383*$M$396,2)","v":2553.21},null,"",2553.21,null,0]
[{"$f":"'[1]Distribution Factors'!F298","v":43},null,"City/Town",null,"ETNA GREEN ",null,586,null,7.5751699888828563E-3,null,{"$f":"ROUND(I384*$M$396,2)","v":3471.42},null,"",3471.42,null,0]
[{"$f":"'[1]Distribution Factors'!F299","v":43},null,"City/Town",null,"LEESBURG ",null,555,null,7.1744357403242072E-3,null,{"$f":"ROUND(I385*$M$396,2)","v":3287.78},null,"",3287.78,null,0]
[{"$f":"'[1]Distribution Factors'!F300","v":43},null,"City/Town",null,"MENTONE ",null,1001,null,1.2939838155071227E-2,null,{"$f":"ROUND(I386*$M$396,2)","v":5929.84},null,"",5929.84,null,0]
[{"$f":"'[1]Distribution Factors'!F301","v":43},null,"City/Town",null,"MILFORD ",null,1562,null,2.0191835362858398E-2,null,{"$f":"ROUND(I387*$M$396,2)","v":9253.16},null,"",9253.16,null,0]
[{"$f":"'[1]Distribution Factors'!F302","v":43},null,"City/Town",null,"NAPPANEE ",null,486,null,6.2824788645001167E-3,null,{"$f":"ROUND(I388*$M$396,2)","v":2879.03},null,"",2879.03,null,0]
[{"$f":"'[1]Distribution Factors'!F303","v":43},null,"City/Town",null,"NORTH WEBSTER ",null,1146,null,1.4814240285426201E-2,null,{"$f":"ROUND(I389*$M$396,2)","v":6788.81},null,"",6788.81,null,0]
[{"$f":"'[1]Distribution Factors'!F304","v":43},null,"City/Town",null,"PIERCETON ",null,1015,null,1.3120814912484811E-2,null,{"$f":"ROUND(I390*$M$396,2)","v":6012.78},null,"",6012.78,null,0]
[{"$f":"'[1]Distribution Factors'!F305","v":43},null,"City/Town",null,"SIDNEY ",null,83,null,1.0729336332376742E-3,null,{"$f":"ROUND(I391*$M$396,2)","v":491.69},null,"",491.69,null,0]
[{"$f":"'[1]Distribution Factors'!F306","v":43},null,"City/Town",null,"SILVER LAKE ",null,915,null,1.1828123788102071E-2,null,{"$f":"ROUND(I392*$M$396,2)","v":5420.39},null,"",5420.39,null,0]
[{"$f":"'[1]Distribution Factors'!F307","v":43},null,"City/Town",null,"SYRACUSE ",null,2810,null,3.6324620595154997E-2,null,{"$f":"ROUND(I393*$M$396,2)","v":16646.22},null,"",16646.22,null,0]
[{"$f":"'[1]Distribution Factors'!F308","v":43},null,"City/Town",null,"WARSAW ",null,13559,null,0.17527598955505572,null,{"$f":"ROUND(I394*$M$396,2)","v":80322.44},null,"",80322.44,null,0]
[{"$f":"'[1]Distribution Factors'!F309","v":43},null,"City/Town",null,"WINONA LAKE ",null,4908,null,6.3445280384704872E-2,null,{"$f":"ROUND(I395*$M$396,2)","v":29074.6},null,null,29074.6,null,0]
[null,null,null,null,"Sub-Total ",null,{"$f":"SUM(G381:G395)","v":77358},null,{"$f":"SUM(I381:I395)","v":1},null,{"$f":"SUM(K381:K395)","v":458262.66000000009},null,{"$f":"Calculation!I50","v":458262.66},{"$f":"M396-K396","v":0},null,null,null,{"$f":"Calculation!E50","v":77358},{"$f":"R396-G396","v":0}]
[]
[{"$f":"'[1]Distribution Factors'!F310","v":44},null,"County",null,"LAGRANGE ",null,32223,null,{"$f":"+G398/$G$403","v":0.8678894634776988},null,{"$f":"M403-SUM(K399:K402)","v":190886.5},null,"",190886.5,null,{"$f":"K398-N398","v":0}]
[{"$f":"'[1]Distribution Factors'!F311","v":44},null,"City/Town",null,"LAGRANGE ",null,2625,null,{"$f":"+G399/$G$403","v":7.0701357466063347E-2},null,{"$f":"ROUND(I399*$M$403,2)","v":15550.29},null,"",15550.29,null,0]
[{"$f":"'[1]Distribution Factors'!F312","v":44},null,"City/Town",null,"SHIPSHEWANA ",null,658,null,1.7722473604826545E-2,null,{"$f":"ROUND(I400*$M$403,2)","v":3897.94},null,"",3897.94,null,0]
[{"$f":"'[1]Distribution Factors'!F313","v":44},null,"City/Town",null,"TOPEKA ",null,1153,null,3.105472958414135E-2,null,{"$f":"ROUND(I401*$M$403,2)","v":6830.28},null,"",6830.28,null,0]
[{"$f":"'[1]Distribution Factors'!F314","v":44},null,"City/Town",null,"WOLCOTTVILE ",null,469,null,1.2631975867269985E-2,null,{"$f":"ROUND(I402*$M$403,2)","v":2778.32},null,null,2778.32,null,0]
[null,null,null,null,"Sub-Total ",null,{"$f":"SUM(G398:G402)","v":37128},null,{"$f":"SUM(I398:I402)","v":1},null,{"$f":"SUM(K398:K402)","v":219943.33000000002},null,{"$f":"Calculation!I51","v":219943.33},{"$f":"M403-K403","v":0},null,null,null,{"$f":"Calculation!E51","v":37128},{"$f":"R403-G403","v":0}]
[]
[{"$f":"'[1]Distribution Factors'!F315","v":47},null,"County",null,"LAWRENCE ",null,27187,null,{"$f":"+G405/$G$409","v":0.58930506784584036},null,{"$f":"M409-SUM(K406:K408)","v":161053.62999999998},null,"",161053.63,null,{"$f":"K405-N405","v":0}]
[{"$f":"'[1]Distribution Factors'!F316","v":47},null,"City/Town",null,"BEDFORD ",null,13413,null,{"$f":"+G406/$G$409","v":0.29074001820782935},null,{"$f":"ROUND(I406*$M$409,2)","v":79457.55},null,"",79457.55,null,0]
[{"$f":"'[1]Distribution Factors'!F317","v":47},null,"City/Town",null,"MITCHELL ",null,4350,null,9.4290544934321763E-2,null,{"$f":"ROUND(I407*$M$409,2)","v":25769.06},null,"",25769.06,null,0]
[{"$f":"'[1]Distribution Factors'!F318","v":47},null,"City/Town",null,"OOLITIC ",null,1184,null,2.5664369012008498E-2,null,{"$f":"ROUND(I408*$M$409,2)","v":7013.92},null,null,7013.92,null,0]
[null,null,null,null,"Sub-Total ",null,{"$f":"SUM(G405:G408)","v":46134},null,{"$f":"SUM(I405:I408)","v":1},null,{"$f":"SUM(K405:K408)","v":273294.15999999997},null,{"$f":"Calculation!I54","v":273294.15999999997},{"$f":"M409-K409","v":0},null,null,null,{"$f":"Calculation!E54","v":46134},{"$f":"R409-G409","v":0}]
[]
[{"$f":"'[1]Distribution Factors'!F319","v":48},null,"County",null,"MADISON ",null,44629,null,{"$f":"+G411/$G$427","v":0.33903339511987601},null,{"$f":"M427-SUM(K412:K426)","v":264378.65999999997},null,"",264378.65999999997,null,{"$f":"K411-N411","v":0}]
[{"$f":"'[1]Distribution Factors'!F320","v":48},null,"City/Town",null,"ALEXANDRIA ",null,5145,null,{"$f":"+G412/$G$427","v":3.9085052721140115E-2},null,{"$f":"ROUND(I412*$M$427,2)","v":30478.57},null,"",30478.57,null,0]
[{"$f":"'[1]Distribution Factors'!F321","v":48},null,"City/Town",null,"ANDERSON ",null,56129,null,0.42639551490473732,null,{"$f":"ROUND(I413*$M$427,2)","v":332503.75},null,"",332503.75,null,0]
[{"$f":"'[1]Distribution Factors'!F322","v":48},null,"City/Town",null,"CHESTERFIELD ",null,2546,null,1.9341213649761463E-2,null,{"$f":"ROUND(I414*$M$427,2)","v":15082.3},null,"",15082.3,null,0]
[{"$f":"'[1]Distribution Factors'!F323","v":48},null,"City/Town",null,"COUNTRY CLUB HTS ",null,79,null,6.0013977939165578E-4,null,{"$f":"ROUND(I415*$M$427,2)","v":467.99},null,"",467.99,null,0]
[{"$f":"'[1]Distribution Factors'!F324","v":48},null,"City/Town",null,"EDGEWOOD ",null,1913,null,1.4532498708559969E-2,null,{"$f":"ROUND(I416*$M$427,2)","v":11332.46},null,"",11332.46,null,0]
[{"$f":"'[1]Distribution Factors'!F325","v":48},null,"City/Town",null,"ELWOOD",null,8608,null,6.539244583548573E-2,null,{"$f":"ROUND(I417*$M$427,2)","v":50993.11},null,"",50993.11,null,0]
[{"$f":"'[1]Distribution Factors'!F326","v":48},null,"City/Town",null,"FRANKTON ",null,1862,null,1.4145066699079278E-2,null,{"$f":"ROUND(I418*$M$427,2)","v":11030.34},null,"",11030.34,null,0]
[{"$f":"'[1]Distribution Factors'!F327","v":48},null,"City/Town",null,"INGALLS ",null,2394,null,1.8186514327387646E-2,null,{"$f":"ROUND(I419*$M$427,2)","v":14181.87},null,"",14181.87,null,0]
[{"$f":"'[1]Distribution Factors'!F328","v":48},null,"City/Town",null,"LAPEL ",null,2068,null,1.5709988149138533E-2,null,{"$f":"ROUND(I420*$M$427,2)","v":12250.67},null,"",12250.67,null,0]
[{"$f":"'[1]Distribution Factors'!F329","v":48},null,"City/Town",null,"MARKLEVILLE ",null,528,null,4.0110608040353699E-3,null,{"$f":"ROUND(I421*$M$427,2)","v":3127.83},null,"",3127.83,null,0]
[{"$f":"'[1]Distribution Factors'!F330","v":48},null,"City/Town",null,"ORESTES ",null,414,null,3.1450363122550061E-3,null,{"$f":"ROUND(I422*$M$427,2)","v":2452.5},null,"",2452.5,null,0]
[{"$f":"'[1]Distribution Factors'!F331","v":48},null,"City/Town",null,"PENDLETON ",null,4253,null,3.2308790908262178E-2,null,{"$f":"ROUND(I423*$M$427,2)","v":25194.43},null,"",25194.43,null,0]
[{"$f":"'[1]Distribution Factors'!F332","v":48},null,"City/Town",null,"RIVER FORREST R",null,22,null,1.6712753350147375E-4,null,{"$f":"ROUND(I424*$M$427,2)","v":130.33000000000001},null,"",130.33000000000001,null,0]
[{"$f":"'[1]Distribution Factors'!F333","v":48},null,"City/Town",null,"SUMMITVILLE ",null,967,null,7.3460147679965965E-3,null,{"$f":"ROUND(I425*$M$427,2)","v":5728.43},null,"",5728.43,null,0]
[{"$f":"'[1]Distribution Factors'!F334","v":48},null,"City/Town",null,"WOODLAWN HEIGHTS AS",null,79,null,6.0013977939165578E-4,null,{"$f":"ROUND(I426*$M$427,2)","v":467.99},null,null,467.99,null,0]
[null,null,null,null,"Sub-Total ",null,{"$f":"SUM(G411:G426)","v":131636},null,{"$f":"SUM(I411:I426)","v":1},null,{"$f":"SUM(K411:K426)","v":779801.23},null,{"$f":"Calculation!I55","v":779801.23},{"$f":"M427-K427","v":0},null,null,null,{"$f":"Calculation!E55","v":131636},{"$f":"R427-G427","v":0}]
[]
[{"$f":"'[1]Distribution Factors'!F335","v":49},null,"County",null,"MARION ",null,495880,null,{"$f":"+G429/$G$446","v":0.54890839313565631},null,{"$f":"(M446-SUM(K431:K445))/2","v":2430125.5500000003},null,"",2430125.56,null,{"$f":"K429-N429","v":-9.9999997764825821E-3}]
[{"$f":"'[1]Distribution Factors'!F341","v":49},null,"Con City",null,"INDIANAPOLIS ",null,324565,null,{"$f":"+G430/$G$446","v":0.35927331737128804},null,{"$f":"K429","v":2430125.5500000003},null,"",2430125.56,null,-9.9999997764825821E-3]
[{"$f":"'[1]Distribution Factors'!F336","v":49},null,"City/Town",null,"BEECH GROVE ",null,14192,null,{"$f":"+G431/$G$446","v":1.5709663457653535E-2},null,{"$f":"ROUND(I431*$M$446,2)","v":84072.28},null,"",84072.28,null,0]
[{"$f":"'[1]Distribution Factors'!F337","v":49},null,"City/Town",null,"CLERMONT ",null,1356,null,{"$f":"+G432/$G$446","v":1.5010078670080463E-3},null,{"$f":"ROUND(I432*$M$446,2)","v":8032.84},null,"",8032.84,null,0]
[{"$f":"'[1]Distribution Factors'!F338","v":49},null,"City/Town",null,"CROWS NEST ",null,73,null,8.0806470716509864E-5,null,{"$f":"ROUND(I433*$M$446,2)","v":432.45},null,"",432.45,null,0]
[{"$f":"'[1]Distribution Factors'!F339","v":49},null,"City/Town",null,"CUMBERLAND ",null,2597,null,2.8747178691887142E-3,null,{"$f":"ROUND(I434*$M$446,2)","v":15384.42},null,"",15384.42,null,0]
[{"$f":"'[1]Distribution Factors'!F340","v":49},null,"City/Town",null,"HOMECROFT ",null,722,null,7.9920920352493318E-4,null,{"$f":"ROUND(I435*$M$446,2)","v":4277.07},null,"",4277.07,null,0]
[{"$f":"'[1]Distribution Factors'!F342","v":49},null,"City/Town",null,"LAWRENCE ",null,46001,null,5.0920252868906446E-2,null,{"$f":"ROUND(I436*$M$446,2)","v":272506.28000000003},null,"",272506.28000000003,null,0]
[{"$f":"'[1]Distribution Factors'!F343","v":49},null,"City/Town",null,"MERIDIAN HILLS ",null,1616,null,1.788811735313424E-3,null,{"$f":"ROUND(I437*$M$446,2)","v":9573.06},null,"",9573.06,null,0]
[{"$f":"'[1]Distribution Factors'!F344","v":49},null,"City/Town",null,"NORTH CROWS NEST ",null,45,null,4.9812207975930738E-5,null,{"$f":"ROUND(I438*$M$446,2)","v":266.58},null,"",266.58,null,0]
[{"$f":"'[1]Distribution Factors'!F345","v":49},null,"City/Town",null,"ROCKY RIPPLE ",null,606,null,6.7080440074253399E-4,null,{"$f":"ROUND(I439*$M$446,2)","v":3589.9},null,"",3589.9,null,0]
[{"$f":"'[1]Distribution Factors'!F346","v":49},null,"City/Town",null,"SOUTHPORT ",null,1712,null,1.8950777789954096E-3,null,{"$f":"ROUND(I440*$M$446,2)","v":10141.75},null,"",10141.75,null,0]
[{"$f":"'[1]Distribution Factors'!F347","v":49},null,"City/Town",null,"SPEEDWAY ",null,11812,null,1.307515112470431E-2,null,{"$f":"ROUND(I441*$M$446,2)","v":69973.350000000006},null,"",69973.350000000006,null,0]
[{"$f":"'[1]Distribution Factors'!F348","v":49},null,"City/Town",null,"SPRING HILL ",null,98,null,1.0847991959202695E-4,null,{"$f":"ROUND(I442*$M$446,2)","v":580.54},null,"",580.54,null,0]
[{"$f":"'[1]Distribution Factors'!F349","v":49},null,"City/Town",null,"WARREN PARK ",null,1480,null,1.638268173430611E-3,null,{"$f":"ROUND(I443*$M$446,2)","v":8767.4},null,"",8767.4,null,0]
[{"$f":"'[1]Distribution Factors'!F350","v":49},null,"City/Town",null,"WILLIAMS CREEK R",null,407,null,4.5052374769341801E-4,null,{"$f":"ROUND(I444*$M$446,2)","v":2411.04},null,"",2411.04,null,0]
[{"$f":"'[1]Distribution Factors'!F351","v":49},null,"City/Town",null,"WYNNEDALE ",null,231,null,2.557026676097778E-4,null,{"$f":"ROUND(I445*$M$446,2)","v":1368.43},null,null,1368.43,null,0]
[null,null,null,null,"Sub-Total ",null,{"$f":"SUM(G429:G445)","v":903393},null,{"$f":"SUM(I429:I445)","v":0.99999999999999989},null,{"$f":"SUM(K429:K445)","v":5351628.4900000012},null,{"$f":"Calculation!I56","v":5351628.49},{"$f":"M446-K446","v":0},null,null,null,{"$f":"Calculation!E56","v":903393},{"$f":"R446-G446","v":0}]
[]
[{"$f":"'[1]Distribution Factors'!F352","v":50},null,"County",null,"MARSHALL ",null,27015,null,{"$f":"+G448/$G$455","v":0.57416420479904784},null,{"$f":"M455-SUM(K449:K454)","v":160034.71000000002},null,"",160034.72,null,{"$f":"K448-N448","v":-9.9999999802093953E-3}]
[{"$f":"'[1]Distribution Factors'!F353","v":50},null,"City/Town",null,"ARGOS ",null,1691,null,{"$f":"+G449/$G$455","v":3.5939724979277804E-2},null,{"$f":"ROUND(I449*$M$455,2)","v":10017.35},null,"",10017.35,null,0]
[{"$f":"'[1]Distribution Factors'!F354","v":50},null,"City/Town",null,"BOURBON ",null,1810,null,3.8468895453869209E-2,null,{"$f":"ROUND(I450*$M$455,2)","v":10722.3},null,"",10722.3,null,0]
[{"$f":"'[1]Distribution Factors'!F355","v":50},null,"City/Town",null,"BREMAN",null,4588,null,9.7511211238868467E-2,null,{"$f":"ROUND(I451*$M$455,2)","v":27178.95},null,"",27178.95,null,0]
[{"$f":"'[1]Distribution Factors'!F356","v":50},null,"City/Town",null,"CULVER ",null,1353,null,2.8756030690102231E-2,null,{"$f":"ROUND(I452*$M$455,2)","v":8015.06},null,"",8015.06,null,0]
[{"$f":"'[1]Distribution Factors'!F357","v":50},null,"City/Town",null,"LAPAZ ",null,561,null,1.1923232237359461E-2,null,{"$f":"ROUND(I453*$M$455,2)","v":3323.32},null,"",3323.32,null,0]
[{"$f":"'[1]Distribution Factors'!F358","v":50},null,"City/Town",null,"PLYMOUTH ",null,10033,null,0.21323670060147498,null,{"$f":"ROUND(I454*$M$455,2)","v":59434.7},null,null,59434.7,null,0]
[null,null,null,null,"Sub-Total ",null,{"$f":"SUM(G448:G454)","v":47051},null,{"$f":"SUM(I448:I454)","v":1},null,{"$f":"SUM(K448:K454)","v":278726.39},null,{"$f":"Calculation!I57","v":278726.39},{"$f":"M455-K455","v":0},null,null,null,{"$f":"Calculation!E57","v":47051},{"$f":"R455-G455","v":0}]
[]
[{"$f":"'[1]Distribution Factors'!F359","v":51},null,"County",null,"MARTIN ",null,6643,null,{"$f":"+G457/$G$461","v":0.64282949487129859},null,{"$f":"M461-SUM(K458:K460)","v":39352.61},null,"",39352.61,null,{"$f":"K457-N457","v":0}]
[{"$f":"'[1]Distribution Factors'!F360","v":51},null,"City/Town",null,"CRANE ",null,184,null,{"$f":"+G458/$G$461","v":1.7805302883684922E-2},null,{"$f":"ROUND(I458*$M$461,2)","v":1090},null,"",1090,null,0]
[{"$f":"'[1]Distribution Factors'!F361","v":51},null,"City/Town",null,"LOOGOOTEE ",null,2751,null,0.26620863170118059,null,{"$f":"ROUND(I459*$M$461,2)","v":16296.71},null,"",16296.71,null,0]
[{"$f":"'[1]Distribution Factors'!F362","v":51},null,"City/Town",null,"SHOALS ",null,756,null,7.3156570543835883E-2,null,{"$f":"ROUND(I460*$M$461,2)","v":4478.4799999999996},null,null,4478.4799999999996,null,0]
[null,null,null,null,"Sub-Total ",null,{"$f":"SUM(G457:G460)","v":10334},null,{"$f":"SUM(I457:I460)","v":0.99999999999999989},null,{"$f":"SUM(K457:K460)","v":61217.8},null,{"$f":"Calculation!I58","v":61217.8},{"$f":"M461-K461","v":0},null,null,null,{"$f":"Calculation!E58","v":10334},{"$f":"R461-G461","v":0}]
[]
[{"$f":"'[1]Distribution Factors'!F363","v":52},null,"County",null,"MIAMI ",null,22530,null,{"$f":"+G463/$G$470","v":0.61051946996179174},null,{"$f":"M470-SUM(K464:K469)","v":133465.94},null,"",133465.93,null,{"$f":"K463-N463","v":1.0000000009313226E-2}]
[{"$f":"'[1]Distribution Factors'!F364","v":52},null,"City/Town",null,"AMBOY ",null,384,null,{"$f":"+G464/$G$470","v":1.0405658076579141E-2},null,{"$f":"ROUND(I464*$M$470,2)","v":2274.79},null,"",2274.79,null,0]
[{"$f":"'[1]Distribution Factors'!F365","v":52},null,"City/Town",null,"BUNKER HILL ",null,888,null,2.4063084302089262E-2,null,{"$f":"ROUND(I465*$M$470,2)","v":5260.44},null,"",5260.44,null,0]
[{"$f":"'[1]Distribution Factors'!F366","v":52},null,"City/Town",null,"CONVERSE ",null,993,null,2.6908381432403868E-2,null,{"$f":"ROUND(I466*$M$470,2)","v":5882.45},null,"",5882.45,null,0]
[{"$f":"'[1]Distribution Factors'!F367","v":52},null,"City/Town",null,"DENVER ",null,482,null,1.3061268731539441E-2,null,{"$f":"ROUND(I467*$M$470,2)","v":2855.33},null,"",2855.33,null,0]
[{"$f":"'[1]Distribution Factors'!F368","v":52},null,"City/Town",null,"MACY ",null,209,null,5.6634961927214591E-3,null,{"$f":"ROUND(I468*$M$470,2)","v":1238.0999999999999},null,"",1238.0999999999999,null,0]
[{"$f":"'[1]Distribution Factors'!F369","v":52},null,"City/Town",null,"PERU ",null,11417,null,0.30937864130287512,null,{"$f":"ROUND(I469*$M$470,2)","v":67633.399999999994},null,null,67633.399999999994,null,0]
[null,null,null,null,"Sub-Total ",null,{"$f":"SUM(G463:G469)","v":36903},null,{"$f":"SUM(I463:I469)","v":1},null,{"$f":"SUM(K463:K469)","v":218610.45},null,{"$f":"Calculation!I59","v":218610.45},{"$f":"M470-K470","v":0},null,null,null,{"$f":"Calculation!E59","v":36903},{"$f":"R470-G470","v":0}]
[]
[{"$f":"'[1]Distribution Factors'!F370","v":53},null,"County",null,"MONROE ",null,50993,null,{"$f":"+G472/$G$476","v":0.36958412454520417},null,{"$f":"M476-SUM(K473:K475)","v":302078.48},null,"",302078.49,null,{"$f":"K472-N472","v":-1.0000000009313226E-2}]
[{"$f":"'[1]Distribution Factors'!F371","v":53},null,"City/Town",null,"BLOOMINGTON ",null,80405,null,{"$f":"+G473/$G$476","v":0.58275472190412692},null,{"$f":"ROUND(I473*$M$476,2)","v":476312.84},null,"",476312.84,null,0]
[{"$f":"'[1]Distribution Factors'!F372","v":53},null,"City/Town",null,"ELLETTSVILLE ",null,6378,null,4.6226100569672544E-2,null,{"$f":"ROUND(I474*$M$476,2)","v":37782.769999999997},null,"",37782.769999999997,null,0]
[{"$f":"'[1]Distribution Factors'!F373","v":53},null,"City/Town",null,"STINESVILLE ",null,198,null,1.4350529809964195E-3,null,{"$f":"ROUND(I475*$M$476,2)","v":1172.94},null,null,1172.94,null,0]
[null,null,null,null,"Sub-Total ",null,{"$f":"SUM(G472:G475)","v":137974},null,{"$f":"SUM(I472:I475)","v":1},null,{"$f":"SUM(K472:K475)","v":817347.03},null,{"$f":"Calculation!I60","v":817347.03},{"$f":"M476-K476","v":0},null,null,null,{"$f":"Calculation!E60","v":137974},{"$f":"R476-G476","v":0}]
[]
[{"$f":"'[1]Distribution Factors'!F374","v":54},null,"County",null,"MONTGOMERY ",null,16599,null,{"$f":"+G478/$G$490","v":0.43539502675480013},null,{"$f":"M490-SUM(J479:K489)","v":98331.14},null,"",98331.16,null,{"$f":"K478-N478","v":-2.0000000004074536E-2}]
[{"$f":"'[1]Distribution Factors'!F375","v":54},null,"City/Town",null,"ALAMO ",null,66,null,{"$f":"+G479/$G$490","v":1.7311929493232609E-3},null,{"$f":"ROUND(I479*$M$490,2)","v":390.98},null,"",390.98,null,0]
[{"$f":"'[1]Distribution Factors'!F376","v":54},null,"City/Town",null,"CRAWFORDSVILLE ",null,15915,null,0.4174535725527227,null,{"$f":"ROUND(I480*$M$490,2)","v":94279.2},null,"",94279.2,null,0]
[{"$f":"'[1]Distribution Factors'!F377","v":54},null,"City/Town",null,"DARLINGTON ",null,843,null,2.2112055398174377E-2,null,{"$f":"ROUND(I481*$M$490,2)","v":4993.87},null,"",4993.87,null,0]
[{"$f":"'[1]Distribution Factors'!F378","v":54},null,"City/Town",null,"LADOGA ",null,985,null,2.5836743258839577E-2,null,{"$f":"ROUND(I482*$M$490,2)","v":5835.06},null,"",5835.06,null,0]
[{"$f":"'[1]Distribution Factors'!F379","v":54},null,"City/Town",null,"LINDEN ",null,759,null,1.9908718917217502E-2,null,{"$f":"ROUND(I483*$M$490,2)","v":4496.26},null,"",4496.26,null,0]
[{"$f":"'[1]Distribution Factors'!F380","v":54},null,"City/Town",null,"NEW MARKET ",null,636,null,1.6682404784387789E-2,null,{"$f":"ROUND(I484*$M$490,2)","v":3767.61},null,"",3767.61,null,0]
[{"$f":"'[1]Distribution Factors'!F381","v":54},null,"City/Town",null,"NEW RICHMOND ",null,333,null,8.7346553352219067E-3,null,{"$f":"ROUND(I485*$M$490,2)","v":1972.67},null,"",1972.67,null,0]
[{"$f":"'[1]Distribution Factors'!F382","v":54},null,"City/Town",null,"NEW ROSS ",null,347,null,9.1018780820480531E-3,null,{"$f":"ROUND(I486*$M$490,2)","v":2055.6},null,"",2055.6,null,0]
[{"$f":"'[1]Distribution Factors'!F383","v":54},null,"City/Town",null,"WAVELAND ",null,420,null,1.1016682404784388E-2,null,{"$f":"ROUND(I487*$M$490,2)","v":2488.0500000000002},null,"",2488.0500000000002,null,0]
[{"$f":"'[1]Distribution Factors'!F384","v":54},null,"City/Town",null,"WAYNETOWN ",null,958,null,2.512852796138915E-2,null,{"$f":"ROUND(I488*$M$490,2)","v":5675.12},null,"",5675.12,null,0]
[{"$f":"'[1]Distribution Factors'!F385","v":54},null,"City/Town",null,"WINGATE ",null,263,null,6.8985416010911762E-3,null,{"$f":"ROUND(I489*$M$490,2)","v":1557.99},null,null,1557.99,null,0]
[null,null,null,null,"Sub-Total ",null,{"$f":"SUM(G478:G489)","v":38124},null,{"$f":"SUM(I478:I489)","v":1},null,{"$f":"SUM(K478:K489)","v":225843.55},null,{"$f":"Calculation!I61","v":225843.55},{"$f":"M490-K490","v":0},null,null,null,{"$f":"Calculation!E61","v":38124},{"$f":"R490-G490","v":0}]
[]
[{"$f":"'[1]Distribution Factors'!F386","v":55},null,"County",null,"MORGAN ",null,43353,null,{"$f":"+G492/$G$500","v":0.62927105408308415},null,{"$f":"M500-SUM(K493:K499)","v":256819.73000000004},null,"",256819.73,null,{"$f":"K492-N492","v":0}]
[{"$f":"'[1]Distribution Factors'!F387","v":55},null,"City/Town",null,"BETHANY ",null,81,null,{"$f":"+G493/$G$500","v":1.1757192208320028E-3},null,{"$f":"ROUND(I493*$M$500,2)","v":479.84},null,"",479.84,null,0]
[{"$f":"'[1]Distribution Factors'!F388","v":55},null,"City/Town",null,"BROOKLYN ",null,1598,null,2.3195053270241239E-2,null,{"$f":"ROUND(I494*$M$500,2)","v":9466.43},null,"",9466.43,null,0]
[{"$f":"'[1]Distribution Factors'!F389","v":55},null,"City/Town",null,"MARTINSVILLE ",null,11828,null,0.17168403634569049,null,{"$f":"ROUND(I495*$M$500,2)","v":70068.13},null,"",70068.13,null,0]
[{"$f":"'[1]Distribution Factors'!F390","v":55},null,"City/Town",null,"MONROVIA ",null,1063,null,1.5429500391906407E-2,null,{"$f":"ROUND(I496*$M$500,2)","v":6297.13},null,"",6297.13,null,0]
[{"$f":"'[1]Distribution Factors'!F391","v":55},null,"City/Town",null,"MOORESVILLE ",null,9326,null,0.13536737596887974,null,{"$f":"ROUND(I497*$M$500,2)","v":55246.48},null,"",55246.48,null,0]
[{"$f":"'[1]Distribution Factors'!F392","v":55},null,"City/Town",null,"MORGANTOWN ",null,986,null,1.4311841379510552E-2,null,{"$f":"ROUND(I498*$M$500,2)","v":5840.99},null,"",5840.99,null,0]
[{"$f":"'[1]Distribution Factors'!F393","v":55},null,"City/Town",null,"PARAGON ",null,659,null,9.5654193398554306E-3,null,{"$f":"ROUND(I499*$M$500,2)","v":3903.86},null,null,3903.86,null,0]
[null,null,null,null,"Sub-Total ",null,{"$f":"SUM(G492:G499)","v":68894},null,{"$f":"SUM(I492:I499)","v":1},null,{"$f":"SUM(K492:K499)","v":408122.59},null,{"$f":"Calculation!I62","v":408122.59},{"$f":"M500-K500","v":0},null,null,null,{"$f":"Calculation!E62","v":68894},{"$f":"R500-G500","v":0}]
[]
[{"$f":"'[1]Distribution Factors'!F394","v":56},null,"County",null,"NEWTON ",null,9205,null,{"$f":"+G502/$G$508","v":0.64623701207525974},null,{"$f":"M508-SUM(K503:K507)","v":54529.69},null,"",54529.69,null,{"$f":"K502-N502","v":0}]
[{"$f":"'[1]Distribution Factors'!F395","v":56},null,"City/Town",null,"BROOK ",null,997,null,{"$f":"+G503/$G$508","v":6.9994383600112328E-2},null,{"$f":"ROUND(I503*$M$508,2)","v":5906.15},null,"",5906.15,null,0]
[{"$f":"'[1]Distribution Factors'!F396","v":56},null,"City/Town",null,"GOODLAND ",null,1043,null,7.3223813535523735E-2,null,{"$f":"ROUND(I504*$M$508,2)","v":6178.65},null,"",6178.65,null,0]
[{"$f":"'[1]Distribution Factors'!F397","v":56},null,"City/Town",null,"KENTLAND ",null,1748,null,0.12271833754563324,null,{"$f":"ROUND(I505*$M$508,2)","v":10355.01},null,"",10355.01,null,0]
[{"$f":"'[1]Distribution Factors'!F398","v":56},null,"City/Town",null,"MOROCCO ",null,1129,null,7.9261443414771135E-2,null,{"$f":"ROUND(I506*$M$508,2)","v":6688.11},null,"",6688.11,null,0]
[{"$f":"'[1]Distribution Factors'!F399","v":56},null,"City/Town",null,"MOUNT AYR ",null,122,null,8.5650098286998034E-3,null,{"$f":"ROUND(I507*$M$508,2)","v":722.72},null,null,722.72,null,0]
[null,null,null,null,"Sub-Total ",null,{"$f":"SUM(G502:G507)","v":14244},null,{"$f":"SUM(I502:I507)","v":1},null,{"$f":"SUM(K502:K507)","v":84380.33},null,{"$f":"Calculation!I63","v":84380.33},{"$f":"M508-K508","v":0},null,null,null,{"$f":"Calculation!E63","v":14244},{"$f":"R508-G508","v":0}]
[]
[{"$f":"'[1]Distribution Factors'!F400","v":57},null,"County",null,"NOBLE ",null,26117,null,{"$f":"+G510/$G$518","v":0.5494151800740491},null,{"$f":"M518-SUM(K511:K517)","v":154715.02999999997},null,"",154715.04,null,{"$f":"K510-N510","v":-1.0000000038417056E-2}]
[{"$f":"'[1]Distribution Factors'!F401","v":57},null,"City/Town",null,"ALBION ",null,2349,null,{"$f":"+G511/$G$518","v":4.9415180074049145E-2},null,{"$f":"ROUND(I511*$M$518,2)","v":13915.29},null,"",13915.29,null,0]
[{"$f":"'[1]Distribution Factors'!F402","v":57},null,"City/Town",null,"AVILLA ",null,2401,null,5.0509087849209024E-2,null,{"$f":"ROUND(I512*$M$518,2)","v":14223.33},null,"",14223.33,null,0]
[{"$f":"'[1]Distribution Factors'!F403","v":57},null,"City/Town",null,"CROMWELL ",null,512,null,1.0770784247728038E-2,null,{"$f":"ROUND(I513*$M$518,2)","v":3033.05},null,"",3033.05,null,0]
[{"$f":"'[1]Distribution Factors'!F404","v":57},null,"City/Town",null,"KENDALLVILLE ",null,9862,null,0.20746381689666779,null,{"$f":"ROUND(I514*$M$518,2)","v":58421.71},null,"",58421.71,null,0]
[{"$f":"'[1]Distribution Factors'!F405","v":57},null,"City/Town",null,"LIGONIER ",null,4405,null,9.2666610568832047E-2,null,{"$f":"ROUND(I515*$M$518,2)","v":26094.87},null,"",26094.87,null,0]
[{"$f":"'[1]Distribution Factors'!F406","v":57},null,"City/Town",null,"ROME ",null,1361,null,2.8630932346011443E-2,null,{"$f":"ROUND(I516*$M$518,2)","v":8062.46},null,"",8062.46,null,0]
[{"$f":"'[1]Distribution Factors'!F407","v":57},null,"City/Town",null,"WOLCOTTVILLE ",null,529,null,1.1128407943453383E-2,null,{"$f":"ROUND(I517*$M$518,2)","v":3133.75},null,null,3133.75,null,0]
[null,null,null,null,"Sub-Total ",null,{"$f":"SUM(G510:G517)","v":47536},null,{"$f":"SUM(I510:I517)","v":1},null,{"$f":"SUM(K510:K517)","v":281599.49},null,{"$f":"Calculation!I64","v":281599.49},{"$f":"M518-K518","v":0},null,null,null,{"$f":"Calculation!E64","v":47536},{"$f":"R518-G518","v":0}]
[]
[{"$f":"'[1]Distribution Factors'!F408","v":60},null,"County",null,"OWEN ",null,18532,null,{"$f":"+G520/$G$523","v":0.85895712630359211},null,{"$f":"M523-SUM(K521:K522)","v":109782.1},null,"",109782.1,null,{"$f":"K520-N520","v":0}]
[{"$f":"'[1]Distribution Factors'!F409","v":60},null,"City/Town",null,"GOSPORT ",null,826,null,{"$f":"+G521/$G$523","v":3.8285052143684821E-2},null,{"$f":"ROUND(I521*$M$523,2)","v":4893.16},null,"",4893.16,null,0]
[{"$f":"'[1]Distribution Factors'!F410","v":60},null,"City/Town",null,"SPENCER ",null,2217,null,0.10275782155272306,null,{"$f":"ROUND(I522*$M$523,2)","v":13133.33},null,null,13133.33,null,0]
[null,null,null,null,"Sub-Total ",null,{"$f":"SUM(G520:G522)","v":21575},null,{"$f":"SUM(I520:I522)","v":1},null,{"$f":"SUM(K520:K522)","v":127808.59000000001},null,{"$f":"Calculation!I67","v":127808.59},{"$f":"M523-K523","v":0},null,null,null,{"$f":"Calculation!E67","v":21575},{"$f":"R523-G523","v":0}]
[]
[{"$f":"'[1]Distribution Factors'!F411","v":61},null,"County",null,"PARKE",null,11991,null,{"$f":"+G525/$G$532","v":0.69156237383932173},null,{"$f":"M532-SUM(K526:K531)","v":71033.740000000005},null,"",71033.73,null,{"$f":"K525-N525","v":1.0000000009313226E-2}]
[{"$f":"'[1]Distribution Factors'!F412","v":61},null,"City/Town",null,"BLOOMINGDALE",null,335,null,{"$f":"+G526/$G$532","v":1.9320606724724611E-2},null,{"$f":"ROUND(I526*$M$532,2)","v":1984.51},null,"",1984.51,null,0]
[{"$f":"'[1]Distribution Factors'!F413","v":61},null,"City/Town",null,"MARSHALL",null,324,null,1.8686198742718728E-2,null,{"$f":"ROUND(I527*$M$532,2)","v":1919.35},null,"",1919.35,null,0]
[{"$f":"'[1]Distribution Factors'!F414","v":61},null,"City/Town",null,"MECCA ",null,335,null,1.9320606724724611E-2,null,{"$f":"ROUND(I528*$M$532,2)","v":1984.51},null,"",1984.51,null,0]
[{"$f":"'[1]Distribution Factors'!F415","v":61},null,"City/Town",null,"MONTEZUMA ",null,1022,null,5.8942268873637467E-2,null,{"$f":"ROUND(I529*$M$532,2)","v":6054.25},null,"",6054.25,null,0]
[{"$f":"'[1]Distribution Factors'!F416","v":61},null,"City/Town",null,"ROCKVILLE ",null,2607,null,0.1503546917353942,null,{"$f":"ROUND(I530*$M$532,2)","v":15443.66},null,"",15443.66,null,0]
[{"$f":"'[1]Distribution Factors'!F417","v":61},null,"City/Town",null,"ROSEDALE ",null,725,null,4.1813253359478629E-2,null,{"$f":"ROUND(I531*$M$532,2)","v":4294.84},null,null,4294.84,null,0]
[null,null,null,null,"Sub-Total ",null,{"$f":"SUM(G525:G531)","v":17339},null,{"$f":"SUM(I525:I531)","v":0.99999999999999989},null,{"$f":"SUM(K525:K531)","v":102714.86},null,{"$f":"Calculation!I68","v":102714.86},{"$f":"M532-K532","v":0},null,null,null,{"$f":"Calculation!E68","v":17339},{"$f":"R532-G532","v":0}]
[]
[{"$f":"'[1]Distribution Factors'!F418","v":62},null,"County",null,"PERRY ",null,10118,null,{"$f":"+G534/$G$538","v":0.52321853345744129},null,{"$f":"M538-SUM(K535:K537)","v":59938.23},null,"",59938.23,null,{"$f":"K534-N534","v":0}]
[{"$f":"'[1]Distribution Factors'!F419","v":62},null,"City/Town",null,"CANNELTON ",null,1563,null,{"$f":"+G535/$G$538","v":8.0825318026683218E-2},null,{"$f":"ROUND(I535*$M$538,2)","v":9259.09},null,"",9259.09,null,0]
[{"$f":"'[1]Distribution Factors'!F420","v":62},null,"City/Town",null,"TELL ",null,7272,null,0.37604716103009617,null,{"$f":"ROUND(I536*$M$538,2)","v":43078.75},null,"",43078.75,null,0]
[{"$f":"'[1]Distribution Factors'!F421","v":62},null,"City/Town",null,"TROY ",null,385,null,1.9908987485779295E-2,null,{"$f":"ROUND(I537*$M$538,2)","v":2280.71},null,null,2280.71,null,0]
[null,null,null,null,"Sub-Total ",null,{"$f":"SUM(G534:G537)","v":19338},null,{"$f":"SUM(I534:I537)","v":1},null,{"$f":"SUM(K534:K537)","v":114556.78000000001},null,{"$f":"Calculation!I69","v":114556.78},{"$f":"M538-K538","v":0},null,null,null,{"$f":"Calculation!E69","v":19338},{"$f":"R538-G538","v":0}]
[]
[{"$f":"'[1]Distribution Factors'!F422","v":63},null,"County",null,"PIKE ",null,9391,null,{"$f":"+G540/$G$544","v":0.73110159595173219},null,{"$f":"M544-SUM(K541:K543)","v":55631.539999999994},null,"",55631.54,null,{"$f":"K540-N540","v":0}]
[{"$f":"'[1]Distribution Factors'!F423","v":63},null,"City/Town",null,"PETERSBURG ",null,2383,null,{"$f":"+G541/$G$544","v":0.18551965745426235},null,{"$f":"ROUND(I541*$M$544,2)","v":14116.7},null,"",14116.7,null,0]
[{"$f":"'[1]Distribution Factors'!F424","v":63},null,"City/Town",null,"SPURGEON ",null,207,null,1.6115219929933828E-2,null,{"$f":"ROUND(I542*$M$544,2)","v":1226.25},null,"",1226.25,null,0]
[{"$f":"'[1]Distribution Factors'!F425","v":63},null,"City/Town",null,"WINSLOW ",null,864,null,6.7263526664071621E-2,null,{"$f":"ROUND(I543*$M$544,2)","v":5118.2700000000004},null,null,5118.2700000000004,null,0]
[null,null,null,null,"Sub-Total ",null,{"$f":"SUM(G540:G543)","v":12845},null,{"$f":"SUM(I540:I543)","v":1},null,{"$f":"SUM(K540:K543)","v":76092.759999999995},null,{"$f":"Calculation!I70","v":76092.759999999995},{"$f":"M544-K544","v":0},null,null,null,{"$f":"Calculation!E70","v":12845},{"$f":"R544-G544","v":0}]
[]
[{"$f":"'[1]Distribution Factors'!F426","v":64},null,"County",null,"PORTER ",null,68487,null,{"$f":"+G546/$G$558","v":0.41673207864040451},null,{"$f":"M558-SUM(K547:K557)","v":405711.55999999994},null,"",405711.56,null,{"$f":"K546-N546","v":0}]
[{"$f":"'[1]Distribution Factors'!F427","v":64},null,"City/Town",null,"BEVERLY SHORES ",null,613,null,{"$f":"+G547/$G$558","v":3.7300037117492073E-3},null,{"$f":"ROUND(I547*$M$558,2)","v":3631.36},null,"",3631.36,null,0]
[{"$f":"'[1]Distribution Factors'!F428","v":64},null,"City/Town",null,"BURNS HARBOR ",null,1156,null,7.0340689898565805E-3,null,{"$f":"ROUND(I548*$M$558,2)","v":6848.05},null,"",6848.05,null,0]
[{"$f":"'[1]Distribution Factors'!F429","v":64},null,"City/Town",null,"CHESTERTON ",null,13068,null,7.9516620726164181E-2,null,{"$f":"ROUND(I549*$M$558,2)","v":77413.8},null,"",77413.8,null,0]
[{"$f":"'[1]Distribution Factors'!F430","v":64},null,"City/Town",null,"DUNE ACRES ",null,182,null,1.1074399274687695E-3,null,{"$f":"ROUND(I550*$M$558,2)","v":1078.1500000000001},null,"",1078.1500000000001,null,0]
[{"$f":"'[1]Distribution Factors'!F431","v":64},null,"City/Town",null,"HEBRON ",null,3724,null,2.2659924669745594E-2,null,{"$f":"ROUND(I551*$M$558,2)","v":22060.68},null,"",22060.68,null,0]
[{"$f":"'[1]Distribution Factors'!F432","v":64},null,"City/Town",null,"KOUTS ",null,1879,null,1.1433404525900099E-2,null,{"$f":"ROUND(I552*$M$558,2)","v":11131.05},null,"",11131.05,null,0]
[{"$f":"'[1]Distribution Factors'!F433","v":64},null,"City/Town",null,"OGDEN DUNES ",null,1110,null,6.7541665906062321E-3,null,{"$f":"ROUND(I553*$M$558,2)","v":6575.55},null,"",6575.55,null,0]
[{"$f":"'[1]Distribution Factors'!F434","v":64},null,"City/Town",null,"PORTAGE ",null,36828,null,0.22409229477373541,null,{"$f":"ROUND(I554*$M$558,2)","v":218166.15},null,"",218166.15,null,0]
[{"$f":"'[1]Distribution Factors'!F435","v":64},null,"City/Town",null,"PORTER ",null,4858,null,2.9560127294743312E-2,null,{"$f":"ROUND(I555*$M$558,2)","v":28778.41},null,"",28778.41,null,0]
[{"$f":"'[1]Distribution Factors'!F436","v":64},null,"City/Town",null,"PINES ",null,708,null,4.3080630145488396E-3,null,{"$f":"ROUND(I556*$M$558,2)","v":4194.1400000000003},null,"",4194.1400000000003,null,0]
[{"$f":"'[1]Distribution Factors'!F437","v":64},null,"City/Town",null,"VALPARAISO ",null,31730,null,0.19307180713507724,null,{"$f":"ROUND(I557*$M$558,2)","v":187966},null,null,187966,null,0]
[null,null,null,null,"Sub-Total ",null,{"$f":"SUM(G546:G557)","v":164343},null,{"$f":"SUM(I546:I557)","v":1.0000000000000002},null,{"$f":"SUM(K546:K557)","v":973554.9},null,{"$f":"Calculation!I71","v":973554.9},{"$f":"M558-K558","v":0},null,null,null,{"$f":"Calculation!E71","v":164343},{"$f":"R558-G558","v":0}]
[]
[{"$f":"'[1]Distribution Factors'!F438","v":65},null,"County",null,"POSEY ",null,16672,null,{"$f":"+G560/$G$566","v":0.64345812427634119},null,{"$f":"M566-SUM(K561:K565)","v":98763.610000000015},null,"",98763.61,null,{"$f":"K560-N560","v":0}]
[{"$f":"'[1]Distribution Factors'!F439","v":65},null,"City/Town",null,"CYNTHIANA ",null,545,null,{"$f":"+G561/$G$566","v":2.1034349671941337E-2},null,{"$f":"ROUND(I561*$M$566,2)","v":3228.54},null,"",3228.54,null,0]
[{"$f":"'[1]Distribution Factors'!F440","v":65},null,"City/Town",null,"GRIFFIN ",null,172,null,6.6383635661906599E-3,null,{"$f":"ROUND(I562*$M$566,2)","v":1018.91},null,"",1018.91,null,0]
[{"$f":"'[1]Distribution Factors'!F441","v":65},null,"City/Town",null,"MOUNT VERNON ",null,6687,null,0.25808568120416825,null,{"$f":"ROUND(I563*$M$566,2)","v":39613.26},null,"",39613.26,null,0]
[{"$f":"'[1]Distribution Factors'!F442","v":65},null,"City/Town",null,"NEW HARMONY ",null,789,null,3.0451563103049015E-2,null,{"$f":"ROUND(I564*$M$566,2)","v":4673.97},null,"",4673.97,null,0]
[{"$f":"'[1]Distribution Factors'!F443","v":65},null,"City/Town",null,"POSEYVILLE ",null,1045,null,4.0331918178309535E-2,null,{"$f":"ROUND(I565*$M$566,2)","v":6190.5},null,null,6190.5,null,0]
[null,null,null,null,"Sub-Total ",null,{"$f":"SUM(G560:G565)","v":25910},null,{"$f":"SUM(I560:I565)","v":0.99999999999999989},null,{"$f":"SUM(K560:K565)","v":153488.79},null,{"$f":"Calculation!I72","v":153488.79},{"$f":"M566-K566","v":0},null,null,null,{"$f":"Calculation!E72","v":25910},{"$f":"R566-G566","v":0}]
[]
[{"$f":"'[1]Distribution Factors'!F444","v":66},null,"County",null,"PULASKI ",null,9201,null,{"$f":"+G568/$G$573","v":0.6865393224891807},null,{"$f":"M573-SUM(K569:K572)","v":54506},null,"",54505.99,null,{"$f":"K568-N568","v":1.0000000002037268E-2}]
[{"$f":"'[1]Distribution Factors'!F445","v":66},null,"City/Town",null,"FRANCESVILLE ",null,879,null,{"$f":"+G569/$G$573","v":6.5587225787195946E-2},null,{"$f":"ROUND(I569*$M$573,2)","v":5207.13},null,"",5207.13,null,0]
[{"$f":"'[1]Distribution Factors'!F446","v":66},null,"City/Town",null,"MEDARYVILLE ",null,614,null,4.5814057603342784E-2,null,{"$f":"ROUND(I570*$M$573,2)","v":3637.29},null,"",3637.29,null,0]
[{"$f":"'[1]Distribution Factors'!F447","v":66},null,"City/Town",null,"MONTEREY ",null,218,null,1.6266228921056558E-2,null,{"$f":"ROUND(I571*$M$573,2)","v":1291.4100000000001},null,"",1291.4100000000001,null,0]
[{"$f":"'[1]Distribution Factors'!F448","v":66},null,"City/Town",null,"WINAMAC ",null,2490,null,0.18579316519922401,null,{"$f":"ROUND(I572*$M$573,2)","v":14750.56},null,null,14750.56,null,0]
[null,null,null,null,"Sub-Total ",null,{"$f":"SUM(G568:G572)","v":13402},null,{"$f":"SUM(I568:I572)","v":1},null,{"$f":"SUM(K568:K572)","v":79392.39},null,{"$f":"Calculation!I73","v":79392.39},{"$f":"M573-K573","v":0},null,null,null,{"$f":"Calculation!E73","v":13402},{"$f":"R573-G573","v":0}]
[]
[{"$f":"'[1]Distribution Factors'!F449","v":67},null,"County",null,"PUTNAM ",null,22902,null,{"$f":"+G575/$G$582","v":0.60327160656428624},null,{"$f":"M582-SUM(K576:K581)","v":135669.63999999998},null,"",135669.63,null,{"$f":"K575-N575","v":9.9999999802093953E-3}]
[{"$f":"'[1]Distribution Factors'!F450","v":67},null,"City/Town",null,"BAINBRIDGE ",null,746,null,{"$f":"+G576/$G$582","v":1.9650712535890208E-2},null,{"$f":"ROUND(I576*$M$582,2)","v":4419.24},null,"",4419.24,null,0]
[{"$f":"'[1]Distribution Factors'!F451","v":67},null,"City/Town",null,"CLOVERDALE ",null,2172,null,5.7213602718436375E-2,null,{"$f":"ROUND(I577*$M$582,2)","v":12866.76},null,"",12866.76,null,0]
[{"$f":"'[1]Distribution Factors'!F452","v":67},null,"City/Town",null,"FILLMORE ",null,533,null,1.4039986302452389E-2,null,{"$f":"ROUND(I578*$M$582,2)","v":3157.45},null,"",3157.45,null,0]
[{"$f":"'[1]Distribution Factors'!F453","v":67},null,"City/Town",null,"GREENCASTLE ",null,10326,null,0.27200168585201379,null,{"$f":"ROUND(I579*$M$582,2)","v":61170.400000000001},null,"",61170.41,null,-1.0000000002037268E-2]
[{"$f":"'[1]Distribution Factors'!F454","v":67},null,"City/Town",null,"ROACHDALE ",null,926,null,2.4392171324710901E-2,null,{"$f":"ROUND(I580*$M$582,2)","v":5485.55},null,"",5485.55,null,0]
[{"$f":"'[1]Distribution Factors'!F455","v":67},null,"City/Town",null,"RUSSELVILLE ",null,358,null,9.4302347022100462E-3,null,{"$f":"ROUND(I581*$M$582,2)","v":2120.7600000000002},null,null,2120.7600000000002,null,0]
[null,null,null,null,"Sub-Total ",null,{"$f":"SUM(G575:G581)","v":37963},null,{"$f":"SUM(I575:I581)","v":1},null,{"$f":"SUM(K575:K581)","v":224889.8},null,{"$f":"Calculation!I74","v":224889.8},{"$f":"M582-K582","v":0},null,null,null,{"$f":"Calculation!E74","v":37963},{"$f":"R582-G582","v":0}]
[]
[{"$f":"'[1]Distribution Factors'!F456","v":68},null,"County",null,"RANDOLPH ",null,12109,null,{"$f":"+G584/$G$595","v":0.46268770776814033},null,{"$f":"M595-SUM(K585:K594)","v":71732.75},null,"",71732.759999999995,null,{"$f":"K584-N584","v":-9.9999999947613105E-3}]
[{"$f":"'[1]Distribution Factors'!F457","v":68},null,"City/Town",null,"ALBANY ",null,204,null,{"$f":"+G585/$G$595","v":7.7948874708646974E-3},null,{"$f":"ROUND(I585*$M$595,2)","v":1208.48},null,"",1208.48,null,0]
[{"$f":"'[1]Distribution Factors'!F458","v":68},null,"City/Town",null,"FARMLAND ",null,1333,null,5.0934240189522757E-2,null,{"$f":"ROUND(I586*$M$595,2)","v":7896.59},null,"",7896.59,null,0]
[{"$f":"'[1]Distribution Factors'!F459","v":68},null,"City/Town",null,"LOSANTVILLE ",null,237,null,9.0558251499751625E-3,null,{"$f":"ROUND(I587*$M$595,2)","v":1403.97},null,"",1403.97,null,0]
[{"$f":"'[1]Distribution Factors'!F460","v":68},null,"City/Town",null,"LYNN ",null,1097,null,4.1916625272247911E-2,null,{"$f":"ROUND(I588*$M$595,2)","v":6498.54},null,"",6498.54,null,0]
[{"$f":"'[1]Distribution Factors'!F461","v":68},null,"City/Town",null,"MODOC ",null,196,null,7.4892056092621603E-3,null,{"$f":"ROUND(I589*$M$595,2)","v":1161.0899999999999},null,"",1161.0899999999999,null,0]
[{"$f":"'[1]Distribution Factors'!F462","v":68},null,"City/Town",null,"PARKER CITY ",null,1419,null,5.4220320201750029E-2,null,{"$f":"ROUND(I590*$M$595,2)","v":8406.0400000000009},null,"",8406.0400000000009,null,0]
[{"$f":"'[1]Distribution Factors'!F463","v":68},null,"City/Town",null,"RIDGEVILLE ",null,803,null,3.0682816858354667E-2,null,{"$f":"ROUND(I591*$M$595,2)","v":4756.91},null,"",4756.91,null,0]
[{"$f":"'[1]Distribution Factors'!F464","v":68},null,"City/Town",null,"SARATOGA ",null,254,null,9.7053991058805543E-3,null,{"$f":"ROUND(I592*$M$595,2)","v":1504.68},null,"",1504.68,null,0]
[{"$f":"'[1]Distribution Factors'!F465","v":68},null,"City/Town",null,"UNION CITY ",null,3584,null,0.13694547399793663,null,{"$f":"ROUND(I593*$M$595,2)","v":21231.33},null,"",21231.33,null,0]
[{"$f":"'[1]Distribution Factors'!F466","v":68},null,"City/Town",null,"WINCHESTER ",null,4935,null,0.18856749837606512,null,{"$f":"ROUND(I594*$M$595,2)","v":29234.55},null,null,29234.55,null,0]
[null,null,null,null,"Sub-Total ",null,{"$f":"SUM(G584:G594)","v":26171},null,{"$f":"SUM(I584:I594)","v":1},null,{"$f":"SUM(K584:K594)","v":155034.93},null,{"$f":"Calculation!I75","v":155034.93},{"$f":"M595-K595","v":0},null,null,null,{"$f":"Calculation!E75","v":26171},{"$f":"R595-G595","v":0}]
[]
[{"$f":"'[1]Distribution Factors'!F467","v":69},null,"County",null,"RIPLEY ",null,16538,null,{"$f":"+G597/$G$605","v":0.57387743771254074},null,{"$f":"M605-SUM(K598:K604)","v":97969.799999999988},null,"",97969.8,null,{"$f":"K597-N597","v":0}]
[{"$f":"'[1]Distribution Factors'!F468","v":69},null,"City/Town",null,"BATESVILLE ",null,4881,null,{"$f":"+G598/$G$605","v":0.16937330834894856},null,{"$f":"ROUND(I598*$M$605,2)","v":28914.66},null,"",28914.66,null,0]
[{"$f":"'[1]Distribution Factors'!F469","v":69},null,"City/Town",null,"HOLTON ",null,480,null,1.6656256506350199E-2,null,{"$f":"ROUND(I599*$M$605,2)","v":2843.48},null,"",2843.48,null,0]
[{"$f":"'[1]Distribution Factors'!F470","v":69},null,"City/Town",null,"MILAN ",null,1899,null,6.5896314803247966E-2,null,{"$f":"ROUND(I600*$M$605,2)","v":11249.53},null,"",11249.53,null,0]
[{"$f":"'[1]Distribution Factors'!F471","v":69},null,"City/Town",null,"NAPOLEON ",null,234,null,8.1199250468457218E-3,null,{"$f":"ROUND(I601*$M$605,2)","v":1386.2},null,"",1386.2,null,0]
[{"$f":"'[1]Distribution Factors'!F472","v":69},null,"City/Town",null,"OSGOOD ",null,1624,null,5.6353667846484837E-2,null,{"$f":"ROUND(I602*$M$605,2)","v":9620.4500000000007},null,"",9620.4500000000007,null,0]
[{"$f":"'[1]Distribution Factors'!F473","v":69},null,"City/Town",null,"SUNMAN ",null,1049,null,3.6400860573252827E-2,null,{"$f":"ROUND(I603*$M$605,2)","v":6214.19},null,"",6214.19,null,0]
[{"$f":"'[1]Distribution Factors'!F474","v":69},null,"City/Town",null,"VERSAILLES ",null,2113,null,7.3322229162329097E-2,null,{"$f":"ROUND(I604*$M$605,2)","v":12517.24},null,null,12517.24,null,0]
[null,null,null,null,"Sub-Total ",null,{"$f":"SUM(G597:G604)","v":28818},null,{"$f":"SUM(I597:I604)","v":1},null,{"$f":"SUM(K597:K604)","v":170715.55000000002},null,{"$f":"Calculation!I76","v":170715.55},{"$f":"M605-K605","v":0},null,null,null,{"$f":"Calculation!E76","v":28818},{"$f":"R605-G605","v":0}]
[]
[{"$f":"'[1]Distribution Factors'!F475","v":70},null,"County",null,"RUSH ",null,9950,null,{"$f":"+G607/$G$611","v":0.57210211591536342},null,{"$f":"M611-SUM(K608:K610)","v":58943.02},null,"",58943.01,null,{"$f":"K607-N607","v":9.9999999947613105E-3}]
[{"$f":"'[1]Distribution Factors'!F476","v":70},null,"City/Town",null,"CARTHAGE ",null,927,null,{"$f":"+G608/$G$611","v":5.3300367985280588E-2},null,{"$f":"ROUND(I608*$M$611,2)","v":5491.47},null,"",5491.47,null,0]
[{"$f":"'[1]Distribution Factors'!F477","v":70},null,"City/Town",null,"GLENWOOD ",null,174,null,1.000459981600736E-2,null,{"$f":"ROUND(I609*$M$611,2)","v":1030.76},null,"",1030.76,null,0]
[{"$f":"'[1]Distribution Factors'!F478","v":70},null,"City/Town",null,"RUSHVILLE ",null,6341,null,0.36459291628334867,null,{"$f":"ROUND(I610*$M$611,2)","v":37563.58},null,null,37563.58,null,0]
[null,null,null,null,"Sub-Total ",null,{"$f":"SUM(G607:G610)","v":17392},null,{"$f":"SUM(I607:I610)","v":1},null,{"$f":"SUM(K607:K610)","v":103028.83},null,{"$f":"Calculation!I77","v":103028.83},{"$f":"M611-K611","v":0},null,null,null,{"$f":"Calculation!E77","v":17392},{"$f":"R611-G611","v":0}]
[]
[{"$f":"'[1]Distribution Factors'!F479","v":71},null,"County",null,"ST. JOSEPH ",null,107646,null,{"$f":"+G613/$G$623","v":0.40327275588073325},null,{"$f":"M623-SUM(K614:K622)","v":637686.37},null,"",637686.37,null,{"$f":"K613-N613","v":0}]
[{"$f":"'[1]Distribution Factors'!F480","v":71},null,"City/Town",null,"INDIAN VILLAGE ",null,133,null,{"$f":"+G614/$G$623","v":4.9825610363726954E-4},null,{"$f":"ROUND(I614*$M$623,2)","v":787.88},null,"",787.88,null,0]
[{"$f":"'[1]Distribution Factors'!F481","v":71},null,"City/Town",null,"LAKEVILLE ",null,786,null,2.9445811839014578E-3,null,{"$f":"ROUND(I615*$M$623,2)","v":4656.2},null,"",4656.2,null,0]
[{"$f":"'[1]Distribution Factors'!F482","v":71},null,"City/Town",null,"MISHAWAKA ",null,48252,null,0.18076581588500398,null,{"$f":"ROUND(I616*$M$623,2)","v":285841.02},null,"",285841.02,null,0]
[{"$f":"'[1]Distribution Factors'!F483","v":71},null,"City/Town",null,"NEW CARLISLE ",null,1861,null,6.9718391644282606E-3,null,{"$f":"ROUND(I617*$M$623,2)","v":11024.42},null,"",11024.42,null,0]
[{"$f":"'[1]Distribution Factors'!F484","v":71},null,"City/Town",null,"NORTH LIBERTY ",null,1896,null,7.1029591917012259E-3,null,{"$f":"ROUND(I618*$M$623,2)","v":11231.75},null,"",11231.75,null,0]
[{"$f":"'[1]Distribution Factors'!F485","v":71},null,"City/Town",null,"OSCEOLA ",null,2463,null,9.2271036335232707E-3,null,{"$f":"ROUND(I619*$M$623,2)","v":14590.62},null,"",14590.62,null,0]
[{"$f":"'[1]Distribution Factors'!F486","v":71},null,"City/Town",null,"ROSELAND ",null,630,null,2.360160490913382E-3,null,{"$f":"ROUND(I620*$M$623,2)","v":3732.07},null,"",3732.07,null,0]
[{"$f":"'[1]Distribution Factors'!F487","v":71},null,"City/Town",null,"SOUTH BEND ",null,101120,null,0.37882449022406539,null,{"$f":"ROUND(I621*$M$623,2)","v":599026.86},null,"",599026.86,null,0]
[{"$f":"'[1]Distribution Factors'!F488","v":71},null,"City/Town",null,"WALKERTON ",null,2144,null,8.0320382420925266E-3,null,{"$f":"ROUND(I622*$M$623,2)","v":12700.89},null,null,12700.89]
[null,null,null,null,"Sub-Total ",null,{"$f":"SUM(G613:G622)","v":266931},null,{"$f":"SUM(I613:I622)","v":1},null,{"$f":"SUM(K613:K622)","v":1581278.0799999998},null,{"$f":"Calculation!I78","v":1581278.08},{"$f":"M623-K623","v":0},null,null,null,{"$f":"Calculation!E78","v":266931},{"$f":"R623-G623","v":0}]
[]
[{"$f":"'[1]Distribution Factors'!F489","v":72},null,"County",null,"SCOTT ",null,{"$f":"'[1]Distribution Factors'!I489","v":13139},null,{"$f":"+G625/$G$628","v":0.54336048964062689},null,{"$f":"M628-SUM(K626:K627)","v":77834.39999999998},null,"",77834.39,null,{"$f":"K625-N625","v":9.9999999802093953E-3}]
[{"$f":"'[1]Distribution Factors'!F490","v":72},null,"City/Town",null,"AUSTIN ",null,{"$f":"'[1]Distribution Factors'!I490","v":4295},null,{"$f":"+G626/$G$628","v":0.17761879161325006},null,{"$f":"ROUND(I626*$M$628,2)","v":25443.24},null,"",25443.24,null,0]
[{"$f":"'[1]Distribution Factors'!F491","v":72},null,"City/Town",null,"SCOTTSBURG ",null,{"$f":"'[1]Distribution Factors'!I491","v":6747},null,0.279020718746123,null,{"$f":"ROUND(I627*$M$628,2)","v":39968.69},null," ",39968.69,null,0]
[null,null," ",null,"Sub-Total ",null,{"$f":"SUM(G625:G627)","v":24181},null,{"$f":"SUM(I625:I627)","v":0.99999999999999989},null,{"$f":"SUM(K625:K627)","v":143246.32999999999},null,{"$f":"Calculation!I79","v":143246.32999999999},{"$f":"M628-K628","v":0},null,null,null,{"$f":"Calculation!E79","v":24181},{"$f":"R628-G628","v":0}]
[]
[{"$f":"'[1]Distribution Factors'!F492","v":73},null,"County",null,"SHELBY ",null,23200,null,{"$f":"+G630/$G$636","v":0.52209919884778111},null,{"$f":"M636-SUM(K631:K635)","v":137434.95000000001},null,"",137434.96,null,{"$f":"K630-N630","v":-9.9999999802093953E-3}]
[{"$f":"'[1]Distribution Factors'!F493","v":73},null,"City/Town",null,"FAIRLAND",null,315,null,{"$f":"+G631/$G$636","v":7.0888468809073724E-3},null,{"$f":"ROUND(I631*$M$636,2)","v":1866.04},null,"",1866.04,null,0]
[{"$f":"'[1]Distribution Factors'!F494","v":73},null,"City/Town",null,"EDINBURGH ",null,96,null,2.1604104779908181E-3,null,{"$f":"ROUND(I632*$M$636,2)","v":568.70000000000005},null,"",568.70000000000005,null,0]
[{"$f":"'[1]Distribution Factors'!F495","v":73},null,"City/Town",null,"MORRISTOWN ",null,1218,null,2.7410207939508508E-2,null,{"$f":"ROUND(I633*$M$636,2)","v":7215.34},null,"",7215.34,null,0]
[{"$f":"'[1]Distribution Factors'!F496","v":73},null,"City/Town",null,"ST PAUL ",null,416,null,9.3617787379602132E-3,null,{"$f":"ROUND(I634*$M$636,2)","v":2464.35},null,"",2464.35,null,0]
[{"$f":"'[1]Distribution Factors'!F497","v":73},null,"City/Town",null,"SHELBYVILLE ",null,19191,null,0.43187955711585202,null,{"$f":"ROUND(I635*$M$636,2)","v":113685.96},null,null,113685.96,null,0]
[null,null,null,null,"Sub-Total ",null,{"$f":"SUM(G630:G635)","v":44436},null,{"$f":"SUM(I630:I635)","v":1},null,{"$f":"SUM(K630:K635)","v":263235.34000000003},null,{"$f":"Calculation!I80","v":263235.34000000003},{"$f":"M636-K636","v":0},null,null,null,{"$f":"Calculation!E80","v":44436},{"$f":"R636-G636","v":0}]
[]
[{"$f":"'[1]Distribution Factors'!F498","v":74},null,"County",null,"SPENCER ",null,12685,null,{"$f":"+G638/$G$646","v":0.60543146239022527},null,{"$f":"M646-SUM(K639:K645)","v":75144.920000000013},null,"",75144.929999999993,null,{"$f":"K638-N638","v":-9.9999999802093953E-3}]
[{"$f":"'[1]Distribution Factors'!F499","v":74},null,"City/Town",null,"CHRISNEY ",null,481,null,{"$f":"+G639/$G$646","v":2.2957235586101566E-2},null,{"$f":"ROUND(I639*$M$646,2)","v":2849.41},null,"",2849.41,null,0]
[{"$f":"'[1]Distribution Factors'!F500","v":74},null,"City/Town",null,"DALE ",null,1593,null,7.603092783505154E-2,null,{"$f":"ROUND(I640*$M$646,2)","v":9436.81},null,"",9436.81,null,0]
[{"$f":"'[1]Distribution Factors'!F501","v":74},null,"City/Town",null,"GENTRYVILLE ",null,268,null,1.2791141657121039E-2,null,{"$f":"ROUND(I641*$M$646,2)","v":1587.61},null,"",1587.61,null,0]
[{"$f":"'[1]Distribution Factors'!F502","v":74},null,"City/Town",null,"GRANDVIEW ",null,749,null,3.5748377243222607E-2,null,{"$f":"ROUND(I642*$M$646,2)","v":4437.0200000000004},null,"",4437.0200000000004,null,0]
[{"$f":"'[1]Distribution Factors'!F503","v":74},null,"City/Town",null,"RICHLAND",null,425,null,2.0284459717449407E-2,null,{"$f":"ROUND(I643*$M$646,2)","v":2517.67},null,"",2517.67,null,0]
[{"$f":"'[1]Distribution Factors'!F504","v":74},null,"City/Town",null,"ROCKPORT ",null,2270,null,0.10834287896143566,null,{"$f":"ROUND(I644*$M$646,2)","v":13447.3},null,"",13447.3,null,0]
[{"$f":"'[1]Distribution Factors'!F505","v":74},null,"City/Town",null,"SANTA CLAUS ",null,2481,null,0.11841351660939289,null,{"$f":"ROUND(I645*$M$646,2)","v":14697.25},null,null,14697.25,null,0]
[null,null,null,null,"Sub-Total ",null,{"$f":"SUM(G638:G645)","v":20952},null,{"$f":"SUM(I638:I645)","v":0.99999999999999989},null,{"$f":"SUM(K638:K645)","v":124117.99000000002},null,{"$f":"Calculation!I81","v":124117.99},{"$f":"M646-K646","v":0},null,null,null,{"$f":"Calculation!E81","v":20952},{"$f":"R646-G646","v":0}]
[]
[]
[{"$f":"'[1]Distribution Factors'!F506","v":75},null,"County",null,"STARKE ",null,17087,null,{"$f":"+G649/$G$653","v":0.73137011513932282},null,{"$f":"M653-SUM(K650:K652)","v":101222.03},null,"",101222.03,null,{"$f":"K649-N649","v":0}]
[{"$f":"'[1]Distribution Factors'!F507","v":75},null,"City/Town",null,"HAMLET ",null,800,null,{"$f":"+G650/$G$653","v":3.4242177802508239E-2},null,{"$f":"ROUND(I650*$M$653,2)","v":4739.1400000000003},null,"",4739.1400000000003,null,0]
[{"$f":"'[1]Distribution Factors'!F508","v":75},null,"City/Town",null,"KNOX ",null,3704,null,0.15854128322561314,null,{"$f":"ROUND(I651*$M$653,2)","v":21942.2},null,"",21942.2,null,0]
[{"$f":"'[1]Distribution Factors'!F509","v":75},null,"City/Town",null,"NORTH JUDSON ",null,1772,null,7.5846423832555757E-2,null,{"$f":"ROUND(I652*$M$653,2)","v":10497.19},null,null,10497.19,null,0]
[null,null,null,null,"Sub-Total ",null,{"$f":"SUM(G649:G652)","v":23363},null,{"$f":"SUM(I649:I652)","v":1},null,{"$f":"SUM(K649:K652)","v":138400.56},null,{"$f":"Calculation!I82","v":138400.56},{"$f":"M653-K653","v":0},null,null,null,{"$f":"Calculation!E82","v":23363},{"$f":"R653-G653","v":0}]
[]
[{"$f":"'[1]Distribution Factors'!F510","v":76},null,"County",null,"STEUBEN ",null,20517,null,{"$f":"+G655/$G$663","v":0.60017551557700743},null,{"$f":"M663-SUM(K656:K662)","v":121541.08000000003},null,"",121541.08,null,{"$f":"K655-N655","v":0}]
[{"$f":"'[1]Distribution Factors'!F511","v":76},null,"City/Town",null,"ANGOLA ",null,8612,null,{"$f":"+G656/$G$663","v":0.25192335819804007},null,{"$f":"ROUND(I656*$M$663,2)","v":51016.81},null,"",51016.81,null,0]
[{"$f":"'[1]Distribution Factors'!F512","v":76},null,"City/Town",null,"ASHLEY ",null,339,null,9.9166301009214562E-3,null,{"$f":"ROUND(I657*$M$663,2)","v":2008.21},null,"",2008.21,null,0]
[{"$f":"'[1]Distribution Factors'!F513","v":76},null,"City/Town",null,"CLEAR LAKE ",null,339,null,9.9166301009214562E-3,null,{"$f":"ROUND(I658*$M$663,2)","v":2008.21},null,"",2008.21,null,0]
[{"$f":"'[1]Distribution Factors'!F514","v":76},null,"City/Town",null,"FREMONT ",null,2138,null,6.2542050606991376E-2,null,{"$f":"ROUND(I659*$M$663,2)","v":12665.34},null,"",12665.34,null,0]
[{"$f":"'[1]Distribution Factors'!F515","v":76},null,"City/Town",null,"HAMILTON ",null,1288,null,3.7677343864267951E-2,null,{"$f":"ROUND(I660*$M$663,2)","v":7630.01},null,"",7630.01,null,0]
[{"$f":"'[1]Distribution Factors'!F516","v":76},null,"City/Town",null,"HUDSON ",null,518,null,1.5152844814977329E-2,null,{"$f":"ROUND(I661*$M$663,2)","v":3068.59},null,"",3068.59,null,0]
[{"$f":"'[1]Distribution Factors'!F517","v":76},null,"City/Town",null,"ORLAND ",null,434,null,1.2695626736872898E-2,null,{"$f":"ROUND(I662*$M$663,2)","v":2570.98},null,null,2570.98,null,0]
[null,null,null,null,"Sub-Total ",null,{"$f":"SUM(G655:G662)","v":34185},null,{"$f":"SUM(I655:I662)","v":0.99999999999999989},null,{"$f":"SUM(K655:K662)","v":202509.23},null,{"$f":"Calculation!I83","v":202509.23},{"$f":"M663-K663","v":0},null,null,null,{"$f":"Calculation!E83","v":34185},{"$f":"R663-G663","v":0}]
[]
[{"$f":"'[1]Distribution Factors'!F518","v":77},null,"County",null,"SULLIVAN ",null,12215,null,{"$f":"+G665/$G$673","v":0.56880093131548315},null,{"$f":"M673-SUM(K666:K672)","v":72360.7},null,"",72360.69,null,{"$f":"K665-N665","v":9.9999999947613105E-3}]
[{"$f":"'[1]Distribution Factors'!F519","v":77},null,"City/Town",null,"CARLISLE ",null,692,null,{"$f":"+G666/$G$673","v":3.2223515715948781E-2},null,{"$f":"ROUND(I666*$M$673,2)","v":4099.3500000000004},null,"",4099.3500000000004,null,0]
[{"$f":"'[1]Distribution Factors'!F520","v":77},null,"City/Town",null,"DUGGER ",null,920,null,4.2840512223515717E-2,null,{"$f":"ROUND(I667*$M$673,2)","v":5450.01},null,"",5450.01,null,0]
[{"$f":"'[1]Distribution Factors'!F521","v":77},null,"City/Town",null,"FARMERSBURG ",null,1118,null,5.2060535506402793E-2,null,{"$f":"ROUND(I668*$M$673,2)","v":6622.94},null,"",6622.94,null,0]
[{"$f":"'[1]Distribution Factors'!F522","v":77},null,"City/Town",null,"HYMERA ",null,801,null,3.7299185098952269E-2,null,{"$f":"ROUND(I669*$M$673,2)","v":4745.0600000000004},null,"",4745.0600000000004,null,0]
[{"$f":"'[1]Distribution Factors'!F523","v":77},null,"City/Town",null,"MEROM ",null,228,null,1.0616996507566938E-2,null,{"$f":"ROUND(I670*$M$673,2)","v":1350.65},null,"",1350.65,null,0]
[{"$f":"'[1]Distribution Factors'!F524","v":77},null,"City/Town",null,"SHELBURN ",null,1252,null,5.8300349243306168E-2,null,{"$f":"ROUND(I671*$M$673,2)","v":7416.75},null,"",7416.75,null,0]
[{"$f":"'[1]Distribution Factors'!F525","v":77},null,"City/Town",null,"SULLIVAN ",null,4249,null,0.19785797438882421,null,{"$f":"ROUND(I672*$M$673,2)","v":25170.74},null,null,25170.74,null,0]
[null,null,null,null,"Sub-Total ",null,{"$f":"SUM(G665:G672)","v":21475},null,{"$f":"SUM(I665:I672)","v":1},null,{"$f":"SUM(K665:K672)","v":127216.2},null,{"$f":"Calculation!I84","v":127216.2},{"$f":"M673-K673","v":0},null,null,null,{"$f":"Calculation!E84","v":21475},{"$f":"R673-G673","v":0}]
[]
[{"$f":"'[1]Distribution Factors'!F526","v":79},null,"County",null,"TIPPECANOE ",null,70702,null,{"$f":"+G675/$G$683","v":0.40920245398773009},null,{"$f":"M683-SUM(K676:K682)","v":418833.03},null,"",418833.04,null,{"$f":"K675-N675","v":-9.9999999511055648E-3}]
[{"$f":"'[1]Distribution Factors'!F527","v":79},null,"City/Town",null,"BATTLE GROUND ",null,1334,null,{"$f":"+G676/$G$683","v":7.7208010186364164E-3},null,{"$f":"ROUND(I676*$M$683,2)","v":7902.51},null,"",7902.51,null,0]
[{"$f":"'[1]Distribution Factors'!F528","v":79},null,"City/Town",null,"CLARKS HILL ",null,611,null,3.5362889223289735E-3,null,{"$f":"ROUND(I677*$M$683,2)","v":3619.52},null,"",3619.52,null,0]
[{"$f":"'[1]Distribution Factors'!F529","v":79},null,"City/Town",null,"DAYTON ",null,1420,null,8.2185438129413133E-3,null,{"$f":"ROUND(I678*$M$683,2)","v":8411.9699999999993},null,"",8411.9699999999993,null,0]
[{"$f":"'[1]Distribution Factors'!F530","v":79},null,"City/Town",null,"LAFAYETTE ",null,67140,null,0.38858664197245052,null,{"$f":"ROUND(I679*$M$683,2)","v":397732.04},null,"",397732.04,null,0]
[{"$f":"'[1]Distribution Factors'!F531","v":79},null,"City/Town",null,"OTTERBEIN ",null,367,null,2.1240884361615926E-3,null,{"$f":"ROUND(I680*$M$683,2)","v":2174.08},null,"",2174.08,null,0]
[{"$f":"'[1]Distribution Factors'!F532","v":79},null,"City/Town",null,"SHADELAND ",null,1610,null,9.3182081259405025E-3,null,{"$f":"ROUND(I681*$M$683,2)","v":9537.51},null,"",9537.51,null,0]
[{"$f":"'[1]Distribution Factors'!F533","v":79},null,"City/Town",null,"WEST LAFAYETTE ",null,29596,null,0.17129297372381064,null,{"$f":"ROUND(I682*$M$683,2)","v":175324.36},null,null,175324.36,null,0]
[null,null,null,null,"Sub-Total ",null,{"$f":"SUM(G675:G682)","v":172780},null,{"$f":"SUM(I675:I682)","v":1.0000000000000002},null,{"$f":"SUM(K675:K682)","v":1023535.02},null,{"$f":"Calculation!I86","v":1023535.02},{"$f":"M683-K683","v":0},null,null,null,{"$f":"Calculation!E86","v":172780},{"$f":"R683-G683","v":0}]
[]
[{"$f":"'[1]Distribution Factors'!F534","v":80},null,"County",null,"TIPTON ",null,9174,null,{"$f":"+G685/$G$691","v":0.57567771084337349},null,{"$f":"M691-SUM(K686:K690)","v":54346.05},null,"",54346.05,null,{"$f":"K685-N685","v":0}]
[{"$f":"'[1]Distribution Factors'!F535","v":80},null,"City/Town",null,"ELWOOD ",null,6,null,{"$f":"+G686/$G$691","v":3.7650602409638556E-4},null,{"$f":"ROUND(I686*$M$691,2)","v":35.54},null,"",35.54,null,0]
[{"$f":"'[1]Distribution Factors'!F536","v":80},null,"City/Town",null,"KEMPTON ",null,335,null,2.1021586345381527E-2,null,{"$f":"ROUND(I687*$M$691,2)","v":1984.51},null,"",1984.51,null,0]
[{"$f":"'[1]Distribution Factors'!F537","v":80},null,"City/Town",null,"SHARPSVILLE ",null,607,null,3.8089859437751006E-2,null,{"$f":"ROUND(I688*$M$691,2)","v":3595.82},null,"",3595.82,null,0]
[{"$f":"'[1]Distribution Factors'!F538","v":80},null,"City/Town",null,"TIPTON ",null,5106,null,0.32040662650602408,null,{"$f":"ROUND(I689*$M$691,2)","v":30247.54},null,"",30247.54,null,0]
[{"$f":"'[1]Distribution Factors'!F539","v":80},null,"City/Town",null,"WINDFALL ",null,708,null,4.4427710843373491E-2,null,{"$f":"ROUND(I690*$M$691,2)","v":4194.1400000000003},null,null,4194.1400000000003,null,0]
[null,null,null,null,"Sub-Total ",null,{"$f":"SUM(G684:G690)","v":15936},null,{"$f":"SUM(I684:I690)","v":1},null,{"$f":"SUM(K684:K690)","v":94403.6},null,{"$f":"Calculation!I87","v":94403.6},{"$f":"M691-K691","v":0},null,null,null,{"$f":"Calculation!E87","v":15936},{"$f":"R691-G691","v":0}]
[]
[{"$f":"'[1]Distribution Factors'!F540","v":81},null,"County",null,"UNION ",null,4707,null,{"$f":"+G693/$G$696","v":0.62626397019691327},null,{"$f":"M696-SUM(K694:K695)","v":27883.9},null,"",27883.89,null,{"$f":"K693-N693","v":1.0000000002037268E-2}]
[{"$f":"'[1]Distribution Factors'!F541","v":81},null,"City/Town",null,"LIBERTY ",null,2133,null,{"$f":"+G694/$G$696","v":0.28379457158062799},null,{"$f":"ROUND(I694*$M$696,2)","v":12635.72},null,"",12635.72,null,0]
[{"$f":"'[1]Distribution Factors'!F542","v":81},null,"City/Town",null,"W. COLLEGE CORNER",null,676,null,8.9941458222458748E-2,null,{"$f":"ROUND(I695*$M$696,2)","v":4004.57},null,null,4004.57,null,0]
[null,null,null,null,"Sub-Total ",null,{"$f":"SUM(G693:G695)","v":7516},null,{"$f":"SUM(I693:I695)","v":1},null,{"$f":"SUM(K693:K695)","v":44524.19},null,{"$f":"Calculation!I88","v":44524.19},{"$f":"M696-K696","v":0},null,null,null,{"$f":"Calculation!E88","v":7516},{"$f":"R696-G696","v":0}]
[]
[{"$f":"'[1]Distribution Factors'!F543","v":83},null,"County",null,"VERMILLION ",null,6830,null,{"$f":"+G698/$G$706","v":0.42129286947939798},null,{"$f":"M706-SUM(K699:K705)","v":40460.380000000005},null,"",40460.379999999997,null,{"$f":"K698-N698","v":0}]
[{"$f":"'[1]Distribution Factors'!F544","v":83},null,"City/Town",null,"CAYUGA ",null,1162,null,{"$f":"+G699/$G$706","v":7.1675302245250427E-2},null,{"$f":"ROUND(I699*$M$706,2)","v":6883.6},null,"",6883.6,null,0]
[{"$f":"'[1]Distribution Factors'!F545","v":83},null,"City/Town",null,"CLINTON ",null,4893,null,0.30181347150259069,null,{"$f":"ROUND(I700*$M$706,2)","v":28985.74},null,"",28985.74,null,0]
[{"$f":"'[1]Distribution Factors'!F546","v":83},null,"City/Town",null,"DANA ",null,608,null,3.7503084135208489E-2,null,{"$f":"ROUND(I701*$M$706,2)","v":3601.74},null,"",3601.74,null,0]
[{"$f":"'[1]Distribution Factors'!F547","v":83},null,"City/Town",null,"FAIRVIEW PARK ",null,1386,null,8.549222797927461E-2,null,{"$f":"ROUND(I702*$M$706,2)","v":8210.5499999999993},null,"",8210.5499999999993,null,0]
[{"$f":"'[1]Distribution Factors'!F548","v":83},null,"City/Town",null,"NEWPORT ",null,515,null,3.1766592647421661E-2,null,{"$f":"ROUND(I703*$M$706,2)","v":3050.82},null,"",3050.82,null,0]
[{"$f":"'[1]Distribution Factors'!F549","v":83},null,"City/Town",null,"PERRYSVILLE ",null,456,null,2.8127313101406367E-2,null,{"$f":"ROUND(I704*$M$706,2)","v":2701.31},null,"",2701.31,null,0]
[{"$f":"'[1]Distribution Factors'!F550","v":83},null,"City/Town",null,"UNIVERSIAL ",null,362,null,2.2329138909449792E-2,null,{"$f":"ROUND(I705*$M$706,2)","v":2144.46},null,null,2144.46,null,0]
[null,null,null,null,"Sub-Total ",null,{"$f":"SUM(G698:G705)","v":16212},null,{"$f":"SUM(I698:I705)","v":1},null,{"$f":"SUM(K698:K705)","v":96038.60000000002},null,{"$f":"Calculation!I90","v":96038.6},{"$f":"M706-K706","v":0},null,null,null,{"$f":"Calculation!E90","v":16212},{"$f":"R706-G706","v":0}]
[]
[{"$f":"'[1]Distribution Factors'!F551","v":84},null,"County",null,"VIGO ",null,43577,null,{"$f":"+G708/$G$713","v":0.40405941695719905},null,{"$f":"M713-SUM(K709:K712)","v":258146.68999999994},null,"",258146.69,null,{"$f":"K708-N708","v":0}]
[{"$f":"'[1]Distribution Factors'!F552","v":84},null,"City/Town",null,"RILEY ",null,221,null,{"$f":"+G709/$G$713","v":2.0491803278688526E-3},null,{"$f":"ROUND(I709*$M$713,2)","v":1309.19},null,"",1309.19,null,0]
[{"$f":"'[1]Distribution Factors'!F553","v":84},null,"City/Town",null,"SEELYVILLE ",null,1029,null,9.5412061419775981E-3,null,{"$f":"ROUND(I710*$M$713,2)","v":6095.71},null,"",6095.71,null,0]
[{"$f":"'[1]Distribution Factors'!F554","v":84},null,"City/Town",null,"TERRE HAUTE ",null,60785,null,0.5636173132556932,null,{"$f":"ROUND(I711*$M$713,2)","v":360085.52},null,"",360085.52,null,0]
[{"$f":"'[1]Distribution Factors'!F555","v":84},null,"City/Town",null,"WEST TERRE HAUTE ",null,2236,null,2.0732883317261332E-2,null,{"$f":"ROUND(I712*$M$713,2)","v":13245.89},null,null,13245.89,null,0]
[null,null,null,null,"Sub-Total ",null,{"$f":"SUM(G708:G712)","v":107848},null,{"$f":"SUM(I708:I712)","v":1},null,{"$f":"SUM(K708:K712)","v":638883},null,{"$f":"Calculation!I91","v":638883},{"$f":"M713-K713","v":0},null,null,null,{"$f":"Calculation!E91","v":107848},{"$f":"R713-G713","v":0}]
[]
[{"$f":"'[1]Distribution Factors'!F556","v":85},null,"County",null,"WABASH ",null,14341,null,{"$f":"+G715/$G$721","v":0.43605570420822182},null,{"$f":"M721-SUM(K716:K720)","v":84954.94},null,"",84954.95,null,{"$f":"K715-N715","v":-9.9999999947613105E-3}]
[{"$f":"'[1]Distribution Factors'!F557","v":85},null,"City/Town",null,"LA FONTAINE ",null,875,null,{"$f":"+G716/$G$721","v":2.6605448795913401E-2},null,{"$f":"ROUND(I716*$M$721,2)","v":5183.43},null,"",5183.43,null,{"$f":"K716-N716","v":0}]
[{"$f":"'[1]Distribution Factors'!F558","v":85},null,"City/Town",null,"LAGRO ",null,415,null,1.2618584286061786E-2,null,{"$f":"ROUND(I717*$M$721,2)","v":2458.4299999999998},null,"",2458.4299999999998,null,{"$f":"K717-N717","v":0}]
[{"$f":"'[1]Distribution Factors'!F559","v":85},null,"City/Town",null,"NORTH MANCHESTER ",null,6112,null,0.18584286061785454,null,{"$f":"ROUND(I718*$M$721,2)","v":36207},null,"",36207,null,0]
[{"$f":"'[1]Distribution Factors'!F560","v":85},null,"City/Town",null,"ROANN ",null,479,null,1.456458282656288E-2,null,{"$f":"ROUND(I719*$M$721,2)","v":2837.56},null,"",2837.56,null,0]
[{"$f":"'[1]Distribution Factors'!F561","v":85},null,"City/Town",null,"WABASH ",null,10666,null,0.32431281926538558,null,{"$f":"ROUND(I720*$M$721,2)","v":63184.54},null,null,63184.54,null,0]
[null,null,null,null,"Sub-Total ",null,{"$f":"SUM(G715:G720)","v":32888},null,{"$f":"SUM(I715:I720)","v":1},null,{"$f":"SUM(K715:K720)","v":194825.9},null,{"$f":"Calculation!I92","v":194825.9},{"$f":"M721-K721","v":0},null,null,null,{"$f":"Calculation!E92","v":32888},{"$f":"R721-G721","v":0}]
[]
[{"$f":"'[1]Distribution Factors'!F562","v":86},null,"County",null,"WARREN ",null,5527,null,{"$f":"+G723/$G$728","v":0.64962388340385524},null,{"$f":"M728-SUM(K724:K727)","v":32741.52},null,"",32741.51,null,{"$f":"K723-N723","v":1.0000000002037268E-2}]
[{"$f":"'[1]Distribution Factors'!F563","v":86},null,"City/Town",null,"PINE VILLAGE ",null,217,null,{"$f":"+G724/$G$728","v":2.550540667606958E-2},null,{"$f":"ROUND(I724*$M$728,2)","v":1285.49},null,"",1285.49,null,0]
[{"$f":"'[1]Distribution Factors'!F564","v":86},null,"City/Town",null,"STATE LINE ",null,143,null,1.680771039022097E-2,null,{"$f":"ROUND(I725*$M$728,2)","v":847.12},null,"",847.12,null,0]
[{"$f":"'[1]Distribution Factors'!F565","v":86},null,"City/Town",null,"WEST LEBANON ",null,723,null,8.4978843441466861E-2,null,{"$f":"ROUND(I726*$M$728,2)","v":4282.99},null,"",4282.99,null,0]
[{"$f":"'[1]Distribution Factors'!F566","v":86},null,"City/Town",null,"WILLIAMSPORT ",null,1898,null,0.22308415608838739,null,{"$f":"ROUND(I727*$M$728,2)","v":11243.6},null,null,11243.6,null,0]
[null,null,null,null,"Sub-Total ",null,{"$f":"SUM(G723:G727)","v":8508},null,{"$f":"SUM(I723:I727)","v":1},null,{"$f":"SUM(K723:K727)","v":50400.72},null,{"$f":"Calculation!I93","v":50400.72},{"$f":"M728-K728","v":0},null,null,null,{"$f":"Calculation!E93","v":8508},{"$f":"R728-G728","v":0}]
[]
[{"$f":"'[1]Distribution Factors'!F567","v":87},null,"County",null,"WARRICK ",null,45439,null,{"$f":"+G730/$G$737","v":0.76126254418737116},null,{"$f":"M737-SUM(K731:K736)","v":269177.03000000003},null,"",269177.03000000003,null,{"$f":"K730-N730","v":0}]
[{"$f":"'[1]Distribution Factors'!F568","v":87},null,"City/Town",null,"BOONVILLE ",null,6246,null,{"$f":"+G731/$G$737","v":0.10464239642145119},null,{"$f":"ROUND(I731*$M$737,2)","v":37000.81},null,"",37000.81,null,0]
[{"$f":"'[1]Distribution Factors'!F569","v":87},null,"City/Town",null,"CHANDLER ",null,2887,null,4.8367370872355042E-2,null,{"$f":"ROUND(I732*$M$737,2)","v":17102.36},null,"",17102.36,null,0]
[{"$f":"'[1]Distribution Factors'!F570","v":87},null,"City/Town",null,"ELBERFELD ",null,625,null,1.0470941044413543E-2,null,{"$f":"ROUND(I733*$M$737,2)","v":3702.45},null,"",3702.45,null,0]
[{"$f":"'[1]Distribution Factors'!F571","v":87},null,"City/Town",null,"LYNNVILLE ",null,888,null,1.4877113035902763E-2,null,{"$f":"ROUND(I734*$M$737,2)","v":5260.44},null,"",5260.44,null,0]
[{"$f":"'[1]Distribution Factors'!F572","v":87},null,"City/Town",null,"NEWBURGH ",null,3325,null,5.5705406356280053E-2,null,{"$f":"ROUND(I735*$M$737,2)","v":19697.04},null,"",19697.04,null,0]
[{"$f":"'[1]Distribution Factors'!F573","v":87},null,"City/Town",null,"TENNYSON ",null,279,null,4.6742280822262058E-3,null,{"$f":"ROUND(I736*$M$737,2)","v":1652.77},null,null,1652.77,null,0]
[null,null,null,null,"Sub-Total ",null,{"$f":"SUM(G730:G736)","v":59689},null,{"$f":"SUM(I730:I736)","v":1.0000000000000002},null,{"$f":"SUM(K730:K736)","v":353592.9},null,{"$f":"Calculation!I94","v":353592.9},{"$f":"M737-K737","v":0},null,null,null,{"$f":"Calculation!E94","v":59689},{"$f":"R737-G737","v":0}]
[]
[{"$f":"'[1]Distribution Factors'!F574","v":88},null,"County",null,"WASHINGTON ",null,19297,null,{"$f":"+G739/$G$747","v":0.68278961149246342},null,{"$f":"M747-SUM(K740:K746)","v":114313.91},null,"",114313.9,null,{"$f":"K739-N739","v":1.0000000009313226E-2}]
[{"$f":"'[1]Distribution Factors'!F575","v":88},null,"City/Town",null,"CAMPBELLSBURG ",null,585,null,{"$f":"+G740/$G$747","v":2.0699172033118676E-2},null,{"$f":"ROUND(I740*$M$747,2)","v":3465.49},null,"",3465.49,null,0]
[{"$f":"'[1]Distribution Factors'!F576","v":88},null,"City/Town",null,"HARDINSBURG ",null,248,null,8.775033614040053E-3,null,{"$f":"ROUND(I741*$M$747,2)","v":1469.13},null,"",1469.13,null,0]
[{"$f":"'[1]Distribution Factors'!F577","v":88},null,"City/Town",null,"LITTLE YORK ",null,192,null,6.7935744108697195E-3,null,{"$f":"ROUND(I742*$M$747,2)","v":1137.3900000000001},null,"",1137.3900000000001,null,0]
[{"$f":"'[1]Distribution Factors'!F578","v":88},null,"City/Town",null,"LIVONIA ",null,128,null,4.5290496072464791E-3,null,{"$f":"ROUND(I743*$M$747,2)","v":758.26},null,"",758.26,null,0]
[{"$f":"'[1]Distribution Factors'!F579","v":88},null,"City/Town",null,"NEW PEKIN ",null,1401,null,4.9571863279314982E-2,null,{"$f":"ROUND(I744*$M$747,2)","v":8299.41},null,"",8299.41,null,0]
[{"$f":"'[1]Distribution Factors'!F580","v":88},null,"City/Town",null,"SALEM ",null,6319,null,0.22358644115773832,null,{"$f":"ROUND(I745*$M$747,2)","v":37433.26},null,"",37433.25,null,1.0000000002037268E-2]
[{"$f":"'[1]Distribution Factors'!F581","v":88},null,"City/Town",null,"SALTILLO ",null,92,null,3.2552544052084072E-3,null,{"$f":"ROUND(I746*$M$747,2)","v":545},null,null,545,null,0]
[null,null,null,null,"Sub-Total ",null,{"$f":"SUM(G739:G746)","v":28262},null,{"$f":"SUM(I739:I746)","v":0.99999999999999989},null,{"$f":"SUM(K739:K746)","v":167421.85},null,{"$f":"Calculation!I95","v":167421.85},{"$f":"M747-K747","v":0},null,null,null,{"$f":"Calculation!E95","v":28262},{"$f":"R747-G747","v":0}]
[]
[{"$f":"'[1]Distribution Factors'!F582","v":89},null,"County",null,"WAYNE ",null,22118,null,{"$f":"+G749/$G$764","v":0.32093677902404344},null,{"$f":"M764-SUM(K750:K763)","v":131025.26000000001},null,"",131025.28,null,{"$f":"K749-N749","v":-1.9999999989522621E-2}]
[{"$f":"'[1]Distribution Factors'!F583","v":89},null,"City/Town",null,"BOSTON ",null,138,null,{"$f":"+G750/$G$764","v":2.0024086945165925E-3},null,{"$f":"ROUND(I750*$M$764,2)","v":817.5},null,"",817.5,null,0]
[{"$f":"'[1]Distribution Factors'!F584","v":89},null,"City/Town",null,"CAMBRIDGE ",null,1870,null,2.7134088831492955E-2,null,{"$f":"ROUND(I751*$M$764,2)","v":11077.73},null,"",11077.73,null,0]
[{"$f":"'[1]Distribution Factors'!F585","v":89},null,"City/Town",null,"CENTERVILLE ",null,2552,null,3.7030050640625679E-2,null,{"$f":"ROUND(I752*$M$764,2)","v":15117.85},null,"",15117.85,null,0]
[{"$f":"'[1]Distribution Factors'!F586","v":89},null,"City/Town",null,"DUBLIN ",null,790,null,1.1463064265710927E-2,null,{"$f":"ROUND(I753*$M$764,2)","v":4679.8999999999996},null,"",4679.8999999999996,null,0]
[{"$f":"'[1]Distribution Factors'!F587","v":89},null,"City/Town",null,"EAST GERMAN",null,410,null,5.9491852518246584E-3,null,{"$f":"ROUND(I754*$M$764,2)","v":2428.81},null,"",2428.81,null,0]
[{"$f":"'[1]Distribution Factors'!F588","v":89},null,"City/Town",null,"ECONOMY ",null,187,null,2.7134088831492955E-3,null,{"$f":"ROUND(I755*$M$764,2)","v":1107.77},null,"",1107.77,null,0]
[{"$f":"'[1]Distribution Factors'!F589","v":89},null,"City/Town",null,"FOUNTAIN ",null,796,null,1.1550125513298606E-2,null,{"$f":"ROUND(I756*$M$764,2)","v":4715.4399999999996},null,"",4715.4399999999996,null,0]
[{"$f":"'[1]Distribution Factors'!F590","v":89},null,"City/Town",null,"GREENSFORK ",null,423,null,6.137817954931294E-3,null,{"$f":"ROUND(I757*$M$764,2)","v":2505.8200000000002},null,"",2505.8200000000002,null,0]
[{"$f":"'[1]Distribution Factors'!F591","v":89},null,"City/Town",null,"HAGERSTOWN ",null,1787,null,2.5929741573196743E-2,null,{"$f":"ROUND(I758*$M$764,2)","v":10586.05},null,"",10586.05,null,0]
[{"$f":"'[1]Distribution Factors'!F592","v":89},null,"City/Town",null,"MILTON ",null,490,null,7.1100018863270312E-3,null,{"$f":"ROUND(I759*$M$764,2)","v":2902.72},null,"",2902.72,null,0]
[{"$f":"'[1]Distribution Factors'!F593","v":89},null,"City/Town",null,"MOUNT AUBURN ",null,117,null,1.6976943279597197E-3,null,{"$f":"ROUND(I760*$M$764,2)","v":693.1},null,"",693.1,null,0]
[{"$f":"'[1]Distribution Factors'!F594","v":89},null,"City/Town",null,"RICHMOND ",null,36812,null,0.53414977436626665,null,{"$f":"ROUND(I761*$M$764,2)","v":218071.37},null,"",218071.37,null,0]
[{"$f":"'[1]Distribution Factors'!F595","v":89},null,"City/Town",null,"SPRING GROVE ",null,344,null,4.9915115283602016E-3,null,{"$f":"ROUND(I762*$M$764,2)","v":2037.83},null,"",2037.83,null,0]
[{"$f":"'[1]Distribution Factors'!F596","v":89},null,"City/Town",null,"WHITEWATER ",null,83,null,1.2043472582962114E-3,null,{"$f":"ROUND(I763*$M$764,2)","v":491.69},null,null,491.69,null,0]
[null,null,null,null,"Sub-Total ",null,{"$f":"SUM(G749:G763)","v":68917},null,{"$f":"SUM(I749:I763)","v":1},null,{"$f":"SUM(K749:K763)","v":408258.84},null,{"$f":"Calculation!I96","v":408258.84},{"$f":"M764-K764","v":0},null,null,null,{"$f":"Calculation!E96","v":68917},{"$f":"R764-G764","v":0}]
[]
[{"$f":"'[1]Distribution Factors'!F597","v":90},null,"County",null,"WELLS ",null,12973,null,{"$f":"+G766/$G$774","v":0.46942393978868141},null,{"$f":"M774-SUM(K767:K773)","v":76851.030000000013},null,"",76851.02,null,{"$f":"K766-N766","v":1.0000000009313226E-2}]
[{"$f":"'[1]Distribution Factors'!F598","v":90},null,"City/Town",null,"BLUFFTON ",null,9897,null,{"$f":"+G767/$G$774","v":0.35811984368215372},null,{"$f":"ROUND(I767*$M$774,2)","v":58629.04},null,"",58629.04,null,0]
[{"$f":"'[1]Distribution Factors'!F599","v":90},null,"City/Town",null,"MARKLE ",null,448,null,1.6210739614994935E-2,null,{"$f":"ROUND(I768*$M$774,2)","v":2653.92},null,"",2653.92,null,0]
[{"$f":"'[1]Distribution Factors'!F600","v":90},null,"City/Town",null,"OSSIAN ",null,3289,null,0.11901143436097844,null,{"$f":"ROUND(I769*$M$774,2)","v":19483.77},null,"",19483.78,null,-9.9999999983992893E-3]
[{"$f":"'[1]Distribution Factors'!F601","v":90},null,"City/Town",null,"PONETO ",null,166,null,6.0066579823418731E-3,null,{"$f":"ROUND(I770*$M$774,2)","v":983.37},null,"",983.37,null,0]
[{"$f":"'[1]Distribution Factors'!F602","v":90},null,"City/Town",null,"UNIONDALE ",null,310,null,1.1217252858590245E-2,null,{"$f":"ROUND(I771*$M$774,2)","v":1836.42},null,"",1836.42,null,0]
[{"$f":"'[1]Distribution Factors'!F603","v":90},null,"City/Town",null,"VERA CRUZ ",null,80,null,2.8947749312490953E-3,null,{"$f":"ROUND(I772*$M$774,2)","v":473.91},null,"",473.91,null,0]
[{"$f":"'[1]Distribution Factors'!F604","v":90},null,"City/Town",null,"ZANESVILLE ",null,473,null,1.7115356781010276E-2,null,{"$f":"ROUND(I773*$M$774,2)","v":2802.01},null,null,2802.01,null,0]
[null,null,null,null,"Sub-Total ",null,{"$f":"SUM(G766:G773)","v":27636},null,{"$f":"SUM(I766:I773)","v":1},null,{"$f":"SUM(K766:K773)","v":163713.47000000003},null,{"$f":"Calculation!I97","v":163713.47},{"$f":"M774-K774","v":0},null,null,null,{"$f":"Calculation!E97","v":27636},{"$f":"R774-G774","v":0}]
[]
[{"$f":"'[1]Distribution Factors'!F605","v":91},null,"County",null,"WHITE ",null,13546,null,{"$f":"+G776/$G$784","v":0.54968956701700278},null,{"$f":"M784-SUM(K777:K783)","v":80245.429999999993},null,"",80245.429999999993,null,{"$f":"K776-N776","v":0}]
[{"$f":"'[1]Distribution Factors'!F606","v":91},null,"City/Town",null,"BROOKSTON ",null,1554,null,{"$f":"+G777/$G$784","v":6.3060503997078271E-2},null,{"$f":"ROUND(I777*$M$784,2)","v":9205.77},null,"",9205.77,null,0]
[{"$f":"'[1]Distribution Factors'!F607","v":91},null,"City/Town",null,"BURNETTSVILLE ",null,346,null,1.4040498315951791E-2,null,{"$f":"ROUND(I778*$M$784,2)","v":2049.6799999999998},null,"",2049.6799999999998,null,0]
[{"$f":"'[1]Distribution Factors'!F608","v":91},null,"City/Town",null,"CHALMERS ",null,508,null,2.0614373250010146E-2,null,{"$f":"ROUND(I779*$M$784,2)","v":3009.35},null,"",3009.35,null,0]
[{"$f":"'[1]Distribution Factors'!F609","v":91},null,"City/Town",null,"MONON ",null,1777,null,7.2109726900133911E-2,null,{"$f":"ROUND(I780*$M$784,2)","v":10526.81},null,"",10526.81,null,0]
[{"$f":"'[1]Distribution Factors'!F610","v":91},null,"City/Town",null,"MONTICELLO ",null,5378,null,0.2182364160207767,null,{"$f":"ROUND(I781*$M$784,2)","v":31858.85},null,"",31858.85,null,0]
[{"$f":"'[1]Distribution Factors'!F611","v":91},null,"City/Town",null,"REYNOLDS ",null,533,null,2.1628860122550015E-2,null,{"$f":"ROUND(I782*$M$784,2)","v":3157.45},null,"",3157.45,null,0]
[{"$f":"'[1]Distribution Factors'!F612","v":91},null,"City/Town",null,"WOLCOTT ",null,1001,null,4.0620054376496371E-2,null,{"$f":"ROUND(I783*$M$784,2)","v":5929.84},null,null,5929.84,null,0]
[null,null,null,null,"Sub-Total ",null,{"$f":"SUM(G776:G783)","v":24643},null,{"$f":"SUM(I776:I783)","v":1},null,{"$f":"SUM(K776:K783)","v":145983.18},null,{"$f":"Calculation!I98","v":145983.18},{"$f":"M784-K784","v":0},null,null,null,{"$f":"Calculation!E98","v":24643},{"$f":"R784-G784","v":0}]
[]
[{"$f":"'[1]Distribution Factors'!F613","v":92},null,"County",null,"WHITLEY ",null,20712,null,{"$f":"+G786/$G$791","v":0.62213144298930678},null,{"$f":"M791-SUM(K787:K790)","v":122696.24000000002},null,"",122696.25,null,{"$f":"K786-N786","v":-9.9999999802093953E-3}]
[{"$f":"'[1]Distribution Factors'!F614","v":92},null,"City/Town",null,"CHURUBUSCO ",null,1796,null,{"$f":"+G787/$G$791","v":5.3946894148744443E-2},null,{"$f":"ROUND(I787*$M$791,2)","v":10639.36},null,"",10639.36,null,0]
[{"$f":"'[1]Distribution Factors'!F615","v":92},null,"City/Town",null,"COLUMBIA CITY ",null,8750,null,0.26282590412111018,null,{"$f":"ROUND(I788*$M$791,2)","v":51834.3},null,"",51834.31,null,-9.9999999947613105E-3]
[{"$f":"'[1]Distribution Factors'!F616","v":92},null,"City/Town",null,"LARWILL ",null,283,null,8.5005406704313346E-3,null,{"$f":"ROUND(I789*$M$791,2)","v":1676.47},null,"",1676.47,null,0]
[{"$f":"'[1]Distribution Factors'!F617","v":92},null,"City/Town",null,"SOUTH WHITLEY ",null,1751,null,5.2595218070407304E-2,null,{"$f":"ROUND(I790*$M$791,2)","v":10372.780000000001},null,null,10372.74,null,4.0000000000873115E-2]
[null,null,null,null,"Sub-Total ",null,{"$f":"SUM(G786:G790)","v":33292},null,{"$f":"SUM(I786:I790)","v":1},null,{"$f":"SUM(K786:K790)","v":197219.15000000002},null,{"$f":"Calculation!I99","v":197219.15000000002},{"$f":"M791-K791","v":0},null,null,null,{"$f":"Calculation!E99","v":33292},{"$f":"R791-G791","v":0}]
[]
[null,null,null,null,"GRAND TOTAL ",null,{"$f":"SUM(G8:G791)/2","v":5570635},null,null,null,{"$f":"SUM(K8:K791)/2","v":32999999.999999981}]
[]
[]
[null,null,null,null,"PROOF",null,{"$f":"G791+G784+G774+G764+G747+G737+G728+G721+G713+G706+G696+G691+G683+G673+G663+G653+G646+G636+G628+G623+G611+G605+G595+G582+G573+G566+G558+G544+G538+G532+G523+G518+G508+G500+G490+G476+G470+G461+G455+G446+G427+G409+G403+G396+G379+G367+G356+G351+G344+G335+G328+G321+G312+G306+G287+G272+G261+G250+G240+G226+G213+G206+G197+G186+G175+G165+G157+G146+G134+G126+G116+G108+G99+G89+G80+G72+G64+G60+G50+G43+G34+G24+G13+G180","v":5570635},null,null,null,{"$f":"K791+K784+K774+K764+K747+K737+K728+K721+K713+K706+K696+K691+K683+K673+K663+K653+K646+K636+K628+K623+K611+K605+K595+K582+K573+K566+K558+K544+K538+K532+K523+K518+K508+K500+K490+K476+K470+K461+K455+K446+K427+K409+K403+K396+K379+K367+K356+K351+K344+K335+K328+K321+K312+K306+K287+K272+K261+K250+K240+K226+K213+K206+K197+K186+K175+K165+K157+K146+K134+K126+K116+K108+K99+K89+K80+K72+K64+K60+K50+K43+K34+K24+K13+K180","v":32999999.999999989},null,{"$f":"SUM(M13:M791)","v":32999999.999999993}]

{"sheet":"Calculation","index":2,"n_rows":103,"n_cols":9,"rows_kept":103,"cut":false,"hidden":true,"merged":[[0,0,0,8],[1,0,1,8],[2,0,2,8]]}
["State of Indiana Auditor of State "]
["Calcuation of Riverboat Revenue Sharing (Distribution to County Auditors) "]
["IC 4-33-13-5€"]
[]
["County ",null,"County",null,"2010 Cencus",null,"Percentage of",null,"County"]
["Number",null,"Name",null,"Population",null,"Total Population",null,"Share (1)"]
[]
[1,null,"ADAMS COUNTY",null,{"$f":"'County Population'!B2","v":34387},null,{"$f":"E8/$E$101","v":6.1729048842726186E-3},null,{"$f":"ROUND(G8*33000000,2)","v":203705.86}]
[{"$f":"A8+1","v":2},null,"ALLEN COUNTY",null,{"$f":"'County Population'!B3","v":355329},null,{"$f":"E9/$E$101","v":6.3786085428321912E-2},null,2104940.8199999998]
[{"$f":"A9+1","v":3},null,"BARTHOLOMEW COUNTY",null,{"$f":"'County Population'!B4","v":76794},null,1.378550201188913E-2,null,454921.57]
[4,null,"BENTON COUNTY",null,{"$f":"'County Population'!B5","v":8854},null,1.5894058756317727E-3,null,52450.39]
[5,null,"BLACKFORD COUNTY",null,{"$f":"'County Population'!B6","v":12766},null,2.2916597479461496E-3,null,75624.77]
[6,null,"BOONE COUNTY",null,{"$f":"'County Population'!B7","v":56640},null,1.0167602077680553E-2,null,335530.87]
[7,null,"BROWN COUNTY",null,{"$f":"'County Population'!B8","v":15242},null,2.7361333133475805E-3,null,90292.4]
[8,null,"CARROLL COUNTY",null,{"$f":"'County Population'!B9","v":20155},null,3.6180794469571243E-3,null,119396.62]
[9,null,"CASS COUNTY",null,{"$f":"'County Population'!B10","v":38966},null,6.994893759867591E-3,null,230831.49]
[10,null,"CLARK COUNTY",null,{"$f":"'County Population'!B11","v":110232},null,1.9788049297791006E-2,null,653005.63]
[11,null,"CLAY COUNTY",null,{"$f":"'County Population'!B12","v":26890},null,4.8270978084186096E-3,null,{"$f":"ROUND(G18*33000000,2)","v":159294.23000000001}]
[12,null,"CLINTON COUNTY",null,{"$f":"'County Population'!B13","v":33224},null,5.9641315577129003E-3,null,196816.34]
[13,null,"CRAWFORD COUNTY",null,{"$f":"'County Population'!B14","v":10713},null,1.923120075179939E-3,null,63462.96]
[14,null,"DAVIESS COUNTY",null,{"$f":"'County Population'!B15","v":31648},null,5.6812194660034272E-3,null,187480.24]
[15,null,"DEARBORN COUNTY",null,0,null,0,null,0]
[16,null,"DECATUR COUNTY",null,{"$f":"'County Population'!B17","v":25740},null,4.6206581475899964E-3,null,152481.72]
[17,null,"DEKALB COUNTY",null,{"$f":"'County Population'!B18","v":42223},null,7.5795667818839329E-3,null,250125.7]
[18,null,"DELAWARE COUNTY",null,{"$f":"'County Population'!B19","v":117671},null,2.1123444634229313E-2,null,697073.67]
[19,null,"DUBOIS COUNTY",null,{"$f":"'County Population'!B20","v":41889},null,7.5196095238693611E-3,null,248147.11]
[20,null,"ELKHART COUNTY",null,{"$f":"'County Population'!B21","v":197559},null,3.5464359090121682E-2,null,1170323.8500000001]
[21,null,"FAYETTE COUNTY",null,{"$f":"'County Population'!B22","v":24277},null,4.3580309964662911E-3,null,143815.01999999999]
[22,null,"FLOYD COUNTY",null,{"$f":"'County Population'!B23","v":74578},null,1.3387701761109819E-2,null,441794.16]
[23,null,"FOUNTAIN COUNTY",null,{"$f":"'County Population'!B24","v":17240},null,3.0947997849437273E-3,null,102128.39]
[24,null,"FRANKLIN COUNTY",null,{"$f":"'County Population'!B25","v":23087},null,4.1444108256958141E-3,null,136765.56]
[25,null,"FULTON COUNTY",null,{"$f":"'County Population'!B26","v":20836},null,3.7403276287173723E-3,null,123430.81]
[26,null,"GIBSON COUNTY",null,{"$f":"'County Population'!B27","v":33503},null,6.0142156145574065E-3,null,198469.12]
[27,null,"GRANT COUNTY",null,{"$f":"'County Population'!B28","v":70061},null,1.2576842675924738E-2,null,415035.81]
[28,null,"GREENE COUNTY",null,{"$f":"'County Population'!B29","v":33165},null,5.9535403055486491E-3,null,196466.83]
[29,null,"HAMILTON COUNTY",null,{"$f":"'County Population'!B30","v":274569},null,4.9288635855696879E-2,null,1626524.98]
[30,null,"HANCOCK COUNTY",null,{"$f":"'County Population'!B31","v":70002},null,1.2566251423760487E-2,null,414686.3]
[31,null,"HARRISON COUNTY",null,0,null,0,null,0]
[32,null,"HENDRICKS COUNTY",null,{"$f":"'County Population'!B33","v":145448},null,2.6109770250608774E-2,null,861622.42]
[33,null,"HENRY COUNTY",null,{"$f":"'County Population'!B34","v":49462},null,8.8790595686129136E-3,null,293008.96999999997]
[34,null,"HOWARD COUNTY",null,{"$f":"'County Population'!B35","v":82752},null,1.485503896772989E-2,null,490216.29]
[35,null,"HUNTINGTON COUNTY",null,{"$f":"'County Population'!B36","v":37124},null,6.6642312770447175E-3,null,219919.63]
[36,null,"JACKSON COUNTY",null,{"$f":"'County Population'!B37","v":42376},null,7.6070322324115654E-3,null,251032.06]
[37,null,"JASPER COUNTY",null,{"$f":"'County Population'!B38","v":33478},null,6.009727795843741E-3,null,198321.02]
[38,null,"JAY COUNTY",null,{"$f":"'County Population'!B39","v":21253},null,3.8151844448613128E-3,null,125901.09]
[39,null,"JEFFERSON COUNTY",null,{"$f":"'County Population'!B40","v":32428},null,5.8212394098697906E-3,null,192100.9]
[40,null,"JENNINGS COUNTY",null,{"$f":"'County Population'!B41","v":28525},null,5.1206011522923331E-3,null,168979.84]
[41,null,"JOHNSON COUNTY",null,{"$f":"'County Population'!B42","v":139654},null,2.5069673385529657E-2,null,827299.22]
[42,null,"KNOX COUNTY",null,{"$f":"'County Population'!B43","v":38440},null,6.9004700541320692E-3,null,227715.51]
[43,null,"KOSCIUSKO COUNTY",null,{"$f":"'County Population'!B44","v":77358},null,1.3886747202069423E-2,null,458262.66]
[44,null,"LA GRANGE COUNTY",null,{"$f":"'County Population'!B45","v":37128},null,6.6649493280389041E-3,null,219943.33]
[45,null,"LAKE COUNTY",null,0,null,0,null,0]
[46,null,"LA PORTE COUNTY",null,0,null,0,null,0]
[47,null,"LAWRENCE COUNTY",null,{"$f":"'County Population'!B48","v":46134},null,8.2816411414497627E-3,null,273294.15999999997]
[48,null,"MADISON COUNTY",null,{"$f":"'County Population'!B49","v":131636},null,2.3630340167682857E-2,null,779801.23]
[49,null,"MARION COUNTY",null,{"$f":"'County Population'!B50","v":903393},null,0.16217056044777661,null,5351628.49]
[50,null,"MARSHALL COUNTY",null,{"$f":"'County Population'!B51","v":47051},null,8.4462543318670133E-3,null,278726.39]
[51,null,"MARTIN COUNTY",null,{"$f":"'County Population'!B52","v":10334},null,1.8550847434807701E-3,null,61217.8]
[52,null,"MIAMI COUNTY",null,{"$f":"'County Population'!B53","v":36903},null,6.6245589596159145E-3,null,218610.45]
[53,null,"MONROE COUNTY",null,{"$f":"'County Population'!B54","v":137974},null,2.4768091967971334E-2,null,817347.03]
[54,null,"MONTGOMERY COUNTY",null,{"$f":"'County Population'!B55","v":38124},null,6.8437440255913378E-3,null,225843.55]
[55,null,"MORGAN COUNTY",null,{"$f":"'County Population'!B56","v":68894},null,1.2367351298370832E-2,null,408122.59]
[56,null,"NEWTON COUNTY",null,{"$f":"'County Population'!B57","v":14244},null,2.5569795902980539E-3,null,84380.33]
[57,null,"NOBLE COUNTY",null,{"$f":"'County Population'!B58","v":47536},null,8.5333180149121234E-3,null,281599.49]
[58,null,"OHIO COUNTY",null,0,null,0,null,0]
[59,null,"ORANGE COUNTY",null,0,null,0,null,0]
[60,null,"OWEN COUNTY",null,{"$f":"'County Population'!B61","v":21575},null,3.8729875498933245E-3,null,127808.59]
[61,null,"PARKE COUNTY",null,{"$f":"'County Population'!B62","v":17339},null,3.1125715470498427E-3,null,102714.86]
[62,null,"PERRY COUNTY",null,{"$f":"'County Population'!B63","v":19338},null,3.4714175313945357E-3,null,114556.78]
[63,null,"PIKE COUNTY",null,{"$f":"'County Population'!B64","v":12845},null,2.3058412550813327E-3,null,76092.759999999995]
[64,null,"PORTER COUNTY",null,{"$f":"'County Population'!B65","v":164343},null,2.9501663634397157E-2,null,973554.9]
[65,null,"POSEY COUNTY",null,{"$f":"'County Population'!B66","v":25910},null,4.6511753148429221E-3,null,153488.79]
[66,null,"PULASKI COUNTY",null,{"$f":"'County Population'!B67","v":13402},null,{"$f":"E73/$E$101","v":2.4058298560217998E-3},null,79392.39]
[{"$f":"A73+1","v":67},null,"PUTNAM COUNTY",null,{"$f":"'County Population'!B68","v":37963},null,6.8148424730753313E-3,null,224889.8]
[68,null,"RANDOLPH COUNTY",null,{"$f":"'County Population'!B69","v":26171},null,4.6980281422135898E-3,null,155034.93]
[69,null,"RIPLEY COUNTY",null,{"$f":"'County Population'!B70","v":28818},null,5.1731983876164922E-3,null,170715.55]
[70,null,"RUSH COUNTY",null,{"$f":"'County Population'!B71","v":17392},null,3.1220857227228136E-3,null,103028.83]
[71,null,"ST. JOSEPH COUNTY",null,{"$f":"'County Population'!B72","v":266931},null,4.7917517482297799E-2,null,1581278.08]
[72,null,"SCOTT COUNTY",null,{"$f":"'County Population'!B73","v":24181},null,4.3407977726058157E-3,null,143246.32999999999]
[73,null,"SHELBY COUNTY",null,{"$f":"'County Population'!B74","v":44436},null,7.9768284944176024E-3,null,263235.34000000003]
[74,null,"SPENCER COUNTY",null,{"$f":"'County Population'!B75","v":20952},null,3.7611511075487805E-3,null,124117.99]
[75,null,"STARKE COUNTY",null,{"$f":"'County Population'!B76","v":23363},null,4.1939563442946809E-3,null,{"$f":"ROUND(G82*33000000,2)","v":138400.56}]
[76,null,"STEUBEN COUNTY",null,{"$f":"'County Population'!B77","v":34185},null,6.1366433090662012E-3,null,202509.23]
[77,null,"SULLIVAN COUNTY",null,{"$f":"'County Population'!B78","v":21475},null,3.8550362750386625E-3,null,127216.2]
[78,null,"SWITZERLAND COUNTY",null,0,null,0,null,0]
[79,null,"TIPPECANOE COUNTY",null,{"$f":"'County Population'!B80","v":172780},null,3.1016212693884989E-2,null,1023535.02]
[80,null,"TIPTON COUNTY",null,{"$f":"'County Population'!B81","v":15936},null,2.8607151608389348E-3,null,94403.6]
[81,null,"UNION COUNTY",null,{"$f":"'County Population'!B82","v":7516},null,1.3492178180763952E-3,null,44524.19]
[82,null,"VANDERBURGH COUNTY",null,0,null,0,null,0]
[83,null,"VERMILLION COUNTY",null,{"$f":"'County Population'!B84","v":16212},null,2.910260679437802E-3,null,96038.6]
[84,null,"VIGO COUNTY",null,{"$f":"'County Population'!B85","v":107848},null,1.9360090905255863E-2,null,638883]
[85,null,"WABASH COUNTY",null,{"$f":"'County Population'!B86","v":32888},null,5.9038152742012353E-3,null,194825.9]
[86,null,"WARREN COUNTY",null,{"$f":"'County Population'!B87","v":8508},null,1.5272944646346422E-3,null,50400.72]
[87,null,"WARRICK COUNTY",null,{"$f":"'County Population'!B88","v":59689},null,1.0714936447999196E-2,null,353592.9]
[88,null,"WASHINGTON COUNTY",null,{"$f":"'County Population'!B89","v":28262},null,5.0733892994245721E-3,null,167421.85]
[89,null,"WAYNE COUNTY",null,{"$f":"'County Population'!B90","v":68917},null,1.2371480091587405E-2,null,408258.84]
[90,null,"WELLS COUNTY",null,{"$f":"'County Population'!B91","v":27636},null,4.9610143188343874E-3,null,163713.47]
[91,null,"WHITE COUNTY",null,{"$f":"'County Population'!B92","v":24643},null,4.4237326624343544E-3,null,145983.18]
[92,null,"WHITLEY COUNTY",null,{"$f":"'County Population'!B93","v":33292},null,5.9763384246140699E-3,null,{"$f":"ROUND(G99*33000000,2)-0.02","v":197219.15000000002}]
[]
[null,null,null,null,{"$f":"SUM(E8:E99)","v":5570635},null,{"$f":"SUM(G8:G99)","v":0.99999999999999989},null,{"$f":"SUM(I8:I99)","v":32999999.999999993}]
[]
["Note: Any rounding amounts were added or subtracted from the Whitley County distribution."]

{"sheet":"Main","index":3,"n_rows":103,"n_cols":16,"rows_kept":103,"cut":false,"hidden":true,"merged":[]}
["Date:","2019-08-15",{"$f":"IF(MONTH(B1)=1,\" In January, be sure to update distribution amounts\",IF(MONTH(B1)=12,\" Use December distribution amounts\",\"\"))","v":""}]
["WORKSHEET COMPLETED BY:","Janie Cope"]
["DISTRIBUTION NAME (invoice):",{"$f":"\"Riverboat Rev Sharing \"&UPPER(TEXT($B$1,\"yyyy-mm\"))","v":"Riverboat Rev Sharing 2019-08"},{"$f":"LEN(B3)&\" of 30 character max\"","v":"29 of 30 character max"}]
["REMITTANCE MESSAGE (ACH):",{"$f":"\"Riverboat Rev Sharing \"&UPPER(TEXT($B$1,\"yyyy-mm\"))","v":"Riverboat Rev Sharing 2019-08"},{"$f":"LEN(B4)&\" of 70 character max\"","v":"29 of 70 character max"}]
["TOTAL BATCH COUNT",{"$f":"COUNTIF(Main!E10:E101,\">0\")","v":84},{"$f":"IF(B5='Voucher Build'!B3,\"\",\"Error: Worksheet does not match Voucher Build\")","v":""}]
["TOTAL BATCH AMOUNT",{"$f":"SUM(Main!E10:E101)","v":32999999.999999993},{"$f":"IF(B6='Voucher Build'!B2,\"\",\"Error: Worksheet does not match Voucher Build\")","v":""}]
[]
["COUNTY NUMBER","COUNTY NAME","GROSS DISTRIBUTION","INTERCEPT","NET DISTRIBUTION",null,"Vendor","Vendor: Location","Vendor: Address","Remit Address","CF: Locality","Business Unit","Fund","Account","Program","Department"]
[]
["01","ADAMS COUNTY",{"$f":"Calculation!I8","v":203705.86},0,{"$f":"+C10-D10","v":203705.86},null,"0000082927","REMIT001",1,1,"C01","00050",37060,"562000",10000,"007005"]
["02","ALLEN COUNTY",{"$f":"Calculation!I9","v":2104940.8199999998},0,2104940.8199999998,null,"0000075752","REMIT001",1,1,"C02","00050",37060,"562000",10000,"007005"]
["03","BARTHOLOMEW COUNTY",{"$f":"Calculation!I10","v":454921.57},0,454921.57,null,"0000082929","REMIT001",1,1,"C03","00050",37060,"562000",10000,"007005"]
["04","BENTON COUNTY",{"$f":"Calculation!I11","v":52450.39},0,52450.39,null,"0000057928","REMIT001",1,1,"C04","00050",37060,"562000",10000,"007005"]
["05","BLACKFORD COUNTY",{"$f":"Calculation!I12","v":75624.77},0,75624.77,null,"0000076034","REMIT001",1,1,"C05","00050",37060,"562000",10000,"007005"]
["06","BOONE COUNTY",{"$f":"Calculation!I13","v":335530.87},0,335530.87,null,"0000082930","REMIT001",1,1,"C06","00050",37060,"562000",10000,"007005"]
["07","BROWN COUNTY",{"$f":"Calculation!I14","v":90292.4},0,90292.4,null,"0000082931","REMIT001",1,1,"C07","00050",37060,"562000",10000,"007005"]
["08","CARROLL COUNTY",{"$f":"Calculation!I15","v":119396.62},0,119396.62,null,"0000082932","REMIT001",1,1,"C08","00050",37060,"562000",10000,"007005"]
["09","CASS COUNTY",{"$f":"Calculation!I16","v":230831.49},0,230831.49,null,"0000079011","REMIT001",1,1,"C09","00050",37060,"562000",10000,"007005"]
["10","CLARK COUNTY",{"$f":"Calculation!I17","v":653005.63},0,653005.63,null,"0000082937","REMIT001",1,1,"C10","00050",37060,"562000",10000,"007005"]
["11","CLAY COUNTY",{"$f":"Calculation!I18","v":159294.23000000001},0,159294.23000000001,null,"0000082939","REMIT001",1,1,"C11","00050",37060,"562000",10000,"007005"]
["12","CLINTON COUNTY",{"$f":"Calculation!I19","v":196816.34},0,196816.34,null,"0000082940","REMIT001",1,1,"C12","00050",37060,"562000",10000,"007005"]
["13","CRAWFORD COUNTY",{"$f":"Calculation!I20","v":63462.96},0,63462.96,null,"0000082942","REMIT001",1,1,"C13","00050",37060,"562000",10000,"007005"]
["14","DAVIESS COUNTY",{"$f":"Calculation!I21","v":187480.24},0,187480.24,null,"0000082943","REMIT001",1,1,"C14","00050",37060,"562000",10000,"007005"]
["15","DEARBORN COUNTY",{"$f":"Calculation!I22","v":0},0,0,null,"0000082945","REMIT001",1,1,"C15","00050",37060,"562000",10000,"007005"]
["16","DECATUR COUNTY",{"$f":"Calculation!I23","v":152481.72},0,152481.72,null,"0000082946","REMIT001",1,1,"C16","00050",37060,"562000",10000,"007005"]
["17","DEKALB COUNTY",{"$f":"Calculation!I24","v":250125.7},0,250125.7,null,"0000082948","REMIT001",1,1,"C17","00050",37060,"562000",10000,"007005"]
["18","DELAWARE COUNTY",{"$f":"Calculation!I25","v":697073.67},0,697073.67,null,"0000076139","REMIT001",1,1,"C18","00050",37060,"562000",10000,"007005"]
["19","DUBOIS COUNTY",{"$f":"Calculation!I26","v":248147.11},0,248147.11,null,"0000075245","REMIT001",1,1,"C19","00050",37060,"562000",10000,"007005"]
["20","ELKHART COUNTY",{"$f":"Calculation!I27","v":1170323.8500000001},0,1170323.8500000001,null,"0000075247","REMIT001",1,1,"C20","00050",37060,"562000",10000,"007005"]
["21","FAYETTE COUNTY",{"$f":"Calculation!I28","v":143815.01999999999},0,143815.01999999999,null,"0000078425","REMIT001",1,1,"C21","00050",37060,"562000",10000,"007005"]
["22","FLOYD COUNTY",{"$f":"Calculation!I29","v":441794.16},0,441794.16,null,"0000077217","REMIT001",1,1,"C22","00050",37060,"562000",10000,"007005"]
["23","FOUNTAIN COUNTY",{"$f":"Calculation!I30","v":102128.39},0,102128.39,null,"0000075172","REMIT001",1,1,"C23","00050",37060,"562000",10000,"007005"]
["24","FRANKLIN COUNTY",{"$f":"Calculation!I31","v":136765.56},0,136765.56,null,"0000082949","REMIT001",1,1,"C24","00050",37060,"562000",10000,"007005"]
["25","FULTON COUNTY",{"$f":"Calculation!I32","v":123430.81},0,123430.81,null,"0000077206","REMIT001",1,1,"C25","00050",37060,"562000",10000,"007005"]
["26","GIBSON COUNTY",{"$f":"Calculation!I33","v":198469.12},0,198469.12,null,"0000079008","REMIT001",1,1,"C26","00050",37060,"562000",10000,"007005"]
["27","GRANT COUNTY",{"$f":"Calculation!I34","v":415035.81},0,415035.81,null,"0000076781","REMIT001",1,1,"C27","00050",37060,"562000",10000,"007005"]
["28","GREENE COUNTY",{"$f":"Calculation!I35","v":196466.83},0,196466.83,null,"0000082965","REMIT001",1,1,"C28","00050",37060,"562000",10000,"007005"]
["29","HAMILTON COUNTY",{"$f":"Calculation!I36","v":1626524.98},0,1626524.98,null,"0000075809","REMIT001",1,1,"C29","00050",37060,"562000",10000,"007005"]
["30","HANCOCK COUNTY",{"$f":"Calculation!I37","v":414686.3},0,414686.3,null,"0000082966","REMIT001",1,1,"C30","00050",37060,"562000",10000,"007005"]
["31","HARRISON COUNTY",{"$f":"Calculation!I38","v":0},0,0,null,"0000082967","REMIT001",1,1,"C31","00050",37060,"562000",10000,"007005"]
["32","HENDRICKS COUNTY",{"$f":"Calculation!I39","v":861622.42},0,861622.42,null,"0000082968","REMIT001",1,1,"C32","00050",37060,"562000",10000,"007005"]
["33","HENRY COUNTY",{"$f":"Calculation!I40","v":293008.96999999997},0,293008.96999999997,null,"0000082969","REMIT001",1,1,"C33","00050",37060,"562000",10000,"007005"]
["34","HOWARD COUNTY",{"$f":"Calculation!I41","v":490216.29},0,490216.29,null,"0000075284","REMIT001",1,1,"C34","00050",37060,"562000",10000,"007005"]
["35","HUNTINGTON COUNTY",{"$f":"Calculation!I42","v":219919.63},0,219919.63,null,"0000075168","REMIT001",1,1,"C35","00050",37060,"562000",10000,"007005"]
["36","JACKSON COUNTY",{"$f":"Calculation!I43","v":251032.06},0,251032.06,null,"0000075169","REMIT001",1,1,"C36","00050",37060,"562000",10000,"007005"]
["37","JASPER COUNTY",{"$f":"Calculation!I44","v":198321.02},0,198321.02,null,"0000082970","REMIT001",1,1,"C37","00050",37060,"562000",10000,"007005"]
["38","JAY COUNTY",{"$f":"Calculation!I45","v":125901.09},0,125901.09,null,"0000082971","REMIT001",1,1,"C38","00050",37060,"562000",10000,"007005"]
["39","JEFFERSON COUNTY",{"$f":"Calculation!I46","v":192100.9},0,192100.9,null,"0000082972","REMIT001",1,1,"C39","00050",37060,"562000",10000,"007005"]
["40","JENNINGS COUNTY",{"$f":"Calculation!I47","v":168979.84},0,168979.84,null,"0000076144","REMIT001",1,1,"C40","00050",37060,"562000",10000,"007005"]
["41","JOHNSON COUNTY",{"$f":"Calculation!I48","v":827299.22},0,827299.22,null,"0000077904","REMIT001",1,1,"C41","00050",37060,"562000",10000,"007005"]
["42","KNOX COUNTY",{"$f":"Calculation!I49","v":227715.51},0,227715.51,null,"0000077216","REMIT001",1,1,"C42","00050",37060,"562000",10000,"007005"]
["43","KOSCIUSKO COUNTY",{"$f":"Calculation!I50","v":458262.66},0,458262.66,null,"0000075246","REMIT001",1,1,"C43","00050",37060,"562000",10000,"007005"]
["44","LA GRANGE COUNTY",{"$f":"Calculation!I51","v":219943.33},0,219943.33,null,"0000077908","REMIT001",1,1,"C44","00050",37060,"562000",10000,"007005"]
["45","LAKE COUNTY",{"$f":"Calculation!I52","v":0},0,0,null,"0000075244","REMIT001",1,1,"C45","00050",37060,"562000",10000,"007005"]
["46","LA PORTE COUNTY",{"$f":"Calculation!I53","v":0},0,0,null,"0000082973","REMIT001",1,1,"C46","00050",37060,"562000",10000,"007005"]
["47","LAWRENCE COUNTY",{"$f":"Calculation!I54","v":273294.15999999997},0,273294.15999999997,null,"0000077084","REMIT001",1,1,"C47","00050",37060,"562000",10000,"007005"]
["48","MADISON COUNTY",{"$f":"Calculation!I55","v":779801.23},0,779801.23,null,"0000075404","REMIT001",1,1,"C48","00050",37060,"562000",10000,"007005"]
["49","MARION COUNTY",{"$f":"Calculation!I56","v":5351628.49},0,5351628.49,null,"0000076138","REMIT001",1,1,"C49","00050",37060,"562000",10000,"007005"]
["50","MARSHALL COUNTY",{"$f":"Calculation!I57","v":278726.39},0,278726.39,null,"0000075755","REMIT001",1,1,"C50","00050",37060,"562000",10000,"007005"]
["51","MARTIN COUNTY",{"$f":"Calculation!I58","v":61217.8},0,61217.8,null,"0000082950","REMIT001",1,1,"C51","00050",37060,"562000",10000,"007005"]
["52","MIAMI COUNTY",{"$f":"Calculation!I59","v":218610.45},0,218610.45,null,"0000075197","REMIT001",1,1,"C52","00050",37060,"562000",10000,"007005"]
["53","MONROE COUNTY",{"$f":"Calculation!I60","v":817347.03},0,817347.03,null,"0000082923","REMIT001",1,1,"C53","00050",37060,"562000",10000,"007005"]
["54","MONTGOMERY COUNTY",{"$f":"Calculation!I61","v":225843.55},0,225843.55,null,"0000076687","REMIT001",1,1,"C54","00050",37060,"562000",10000,"007005"]
["55","MORGAN COUNTY",{"$f":"Calculation!I62","v":408122.59},0,408122.59,null,"0000077086","REMIT001",1,1,"C55","00050",37060,"562000",10000,"007005"]
["56","NEWTON COUNTY",{"$f":"Calculation!I63","v":84380.33},0,84380.33,null,"0000082924","REMIT001",1,1,"C56","00050",37060,"562000",10000,"007005"]
["57","NOBLE COUNTY",{"$f":"Calculation!I64","v":281599.49},0,281599.49,null,"0000082974","REMIT001",1,1,"C57","00050",37060,"562000",10000,"007005"]
["58","OHIO COUNTY",{"$f":"Calculation!I65","v":0},0,0,null,"0000075167","REMIT001",1,1,"C58","00050",37060,"562000",10000,"007005"]
["59","ORANGE COUNTY",{"$f":"Calculation!I66","v":0},0,0,null,"0000082975","REMIT001",1,1,"C59","00050",37060,"562000",10000,"007005"]
["60","OWEN COUNTY",{"$f":"Calculation!I67","v":127808.59},0,127808.59,null,"0000082976","REMIT001",1,1,"C60","00050",37060,"562000",10000,"007005"]
["61","PARKE COUNTY",{"$f":"Calculation!I68","v":102714.86},0,102714.86,null,"0000075192","REMIT001",1,1,"C61","00050",37060,"562000",10000,"007005"]
["62","PERRY COUNTY",{"$f":"Calculation!I69","v":114556.78},0,114556.78,null,"0000081432","REMIT001",1,1,"C62","00050",37060,"562000",10000,"007005"]
["63","PIKE COUNTY",{"$f":"Calculation!I70","v":76092.759999999995},0,76092.759999999995,null,"0000082977","REMIT001",1,1,"C63","00050",37060,"562000",10000,"007005"]
["64","PORTER COUNTY",{"$f":"Calculation!I71","v":973554.9},0,973554.9,null,"0000082978","REMIT001",1,1,"C64","00050",37060,"562000",10000,"007005"]
["65","POSEY COUNTY",{"$f":"Calculation!I72","v":153488.79},0,{"$f":"+C74-D74","v":153488.79},null,"0000075465","REMIT001",1,1,"C65","00050",37060,"562000",10000,"007005"]
["66","PULASKI COUNTY",{"$f":"Calculation!I73","v":79392.39},0,79392.39,null,"0000075464","REMIT001",1,1,"C66","00050",37060,"562000",10000,"007005"]
["67","PUTNAM COUNTY",{"$f":"Calculation!I74","v":224889.8},0,224889.8,null,"0000077906","REMIT001",1,1,"C67","00050",37060,"562000",10000,"007005"]
["68","RANDOLPH COUNTY",{"$f":"Calculation!I75","v":155034.93},0,155034.93,null,"0000075352","REMIT001",1,1,"C68","00050",37060,"562000",10000,"007005"]
["69","RIPLEY COUNTY",{"$f":"Calculation!I76","v":170715.55},0,170715.55,null,"0000082979","REMIT001",1,1,"C69","00050",37060,"562000",10000,"007005"]
["70","RUSH COUNTY",{"$f":"Calculation!I77","v":103028.83},0,103028.83,null,"0000077690","REMIT001",1,1,"C70","00050",37060,"562000",10000,"007005"]
["71","ST. JOSEPH COUNTY",{"$f":"Calculation!I78","v":1581278.08},0,1581278.08,null,"0000082980","REMIT001",1,1,"C71","00050",37060,"562000",10000,"007005"]
["72","SCOTT COUNTY",{"$f":"Calculation!I79","v":143246.32999999999},0,143246.32999999999,null,"0000075171","REMIT001",1,1,"C72","00050",37060,"562000",10000,"007005"]
["73","SHELBY COUNTY",{"$f":"Calculation!I80","v":263235.34000000003},0,263235.34000000003,null,"0000076143","REMIT001",1,1,"C73","00050",37060,"562000",10000,"007005"]
["74","SPENCER COUNTY",{"$f":"Calculation!I81","v":124117.99},0,124117.99,null,"0000082981","REMIT001",1,1,"C74","00050",37060,"562000",10000,"007005"]
["75","STARKE COUNTY",{"$f":"Calculation!I82","v":138400.56},0,138400.56,null,"0000075170","REMIT001",1,1,"C75","00050",37060,"562000",10000,"007005"]
["76","STEUBEN COUNTY",{"$f":"Calculation!I83","v":202509.23},0,202509.23,null,"0000082982","REMIT001",1,1,"C76","00050",37060,"562000",10000,"007005"]
["77","SULLIVAN COUNTY",{"$f":"Calculation!I84","v":127216.2},0,127216.2,null,"0000079009","REMIT001",1,1,"C77","00050",37060,"562000",10000,"007005"]
["78","SWITZERLAND COUNTY",{"$f":"Calculation!I85","v":0},0,0,null,"0000075193","REMIT001",1,1,"C78","00050",37060,"562000",10000,"007005"]
["79","TIPPECANOE COUNTY",{"$f":"Calculation!I86","v":1023535.02},0,1023535.02,null,"0000079010","REMIT001",1,1,"C79","00050",37060,"562000",10000,"007005"]
["80","TIPTON COUNTY",{"$f":"Calculation!I87","v":94403.6},0,94403.6,null,"0000082983","REMIT001",1,1,"C80","00050",37060,"562000",10000,"007005"]
["81","UNION COUNTY",{"$f":"Calculation!I88","v":44524.19},0,44524.19,null,"0000082984","REMIT001",1,1,"C81","00050",37060,"562000",10000,"007005"]
["82","VANDERBURGH COUNTY",{"$f":"Calculation!I89","v":0},0,0,null,"0000076188","REMIT001",1,1,"C82","00050",37060,"562000",10000,"007005"]
["83","VERMILLION COUNTY",{"$f":"Calculation!I90","v":96038.6},0,96038.6,null,"0000075194","REMIT001",1,1,"C83","00050",37060,"562000",10000,"007005"]
["84","VIGO COUNTY",{"$f":"Calculation!I91","v":638883},0,638883,null,"0000082985","REMIT001",1,1,"C84","00050",37060,"562000",10000,"007005"]
["85","WABASH COUNTY",{"$f":"Calculation!I92","v":194825.9},0,194825.9,null,"0000082986","REMIT001",1,1,"C85","00050",37060,"562000",10000,"007005"]
["86","WARREN COUNTY",{"$f":"Calculation!I93","v":50400.72},0,50400.72,null,"0000075196","REMIT001",1,1,"C86","00050",37060,"562000",10000,"007005"]
["87","WARRICK COUNTY",{"$f":"Calculation!I94","v":353592.9},0,353592.9,null,"0000077907","REMIT001",1,1,"C87","00050",37060,"562000",10000,"007005"]
["88","WASHINGTON COUNTY",{"$f":"Calculation!I95","v":167421.85},0,167421.85,null,"0000082987","REMIT001",1,1,"C88","00050",37060,"562000",10000,"007005"]
["89","WAYNE COUNTY",{"$f":"Calculation!I96","v":408258.84},0,408258.84,null,"0000082952","REMIT001",1,1,"C89","00050",37060,"562000",10000,"007005"]
["90","WELLS COUNTY",{"$f":"Calculation!I97","v":163713.47},0,163713.47,null,"0000082953","REMIT001",1,1,"C90","00050",37060,"562000",10000,"007005"]
["91","WHITE COUNTY",{"$f":"Calculation!I98","v":145983.18},0,145983.18,null,"0000082954","REMIT001",1,1,"C91","00050",37060,"562000",10000,"007005"]
["92","WHITLEY COUNTY",{"$f":"Calculation!I99","v":197219.15000000002},0,197219.15000000002,null,"0000076691","REMIT001",1,1,"C92","00050",37060,"562000",10000,"007005"]
[]
[null,null,{"$f":"SUM(C10:C101)","v":32999999.999999993},{"$f":"SUM(D10:D101)","v":0},{"$f":"SUM(E10:E101)","v":32999999.999999993}]

{"sheet":"Voucher Build","index":4,"n_rows":101,"n_cols":36,"rows_kept":101,"cut":false,"hidden":true,"merged":[]}
["V2015.07.30",null,null,null,"SAVE FILE TO LOCATION",null,"\\\\10.1.43.237\\shared\\peoplesoft\\DEPARTMENTS\\SETTLEMENTS\\Distributions"]
["TOTAL BATCH AMOUNT",{"$f":"SUM(D10:D65000)","v":32999999.999999993},null,null,"SAVE FILE TO NAME",null,"RIVERBOAT_REVENUE_SHARING.TXT"]
["TOTAL BATCH COUNT",{"$f":"COUNTIF(D10:D65000,\"> 0\")","v":84}]
["EMAIL ID","localgovernment@auditor.in.gov"]
["BUSINESS UNIT AP","00050"]
["BUILD CONTROL GROUP?","Y"]
[]
["1",2,3,4,5,6,7,8,9,10,11,12,13,14,15,16,17,18,19,20,21,22,23,24,25,26,27,28,29,30,31,32,33,34,35,36]
["INVOICE NUMBER*","INVOICE DATE (YYYY-MM-DD)*","ORIGIN*","TOTAL INVOICE AMOUNT (Calculated)","Voucher Source","VENDOR ID*","VENDOR LOCATION","INVOICE FROM ADDRESS SEQ NBR","REMITTING TO ADDRESS SEQ NBR","ACCOUNTING DATE","SCHEDULED TO PAY (YYYY-MM-DD)","PACKING SLIP NUMBER","PAYMENT MESSAGE","PAYMENT HANDLING CODE","LINE DESCRIPTION*","RECEIPT DATE  (YYYY-MM-DD)*","MERCHANDISE AMOUNT (Calculated)","Merchandise Amount*","DISTRIBUTION DESCRIPTION*","BUSINESS UNIT GL*","ACCOUNT*","FUND*","PROGRAM*","LOCALITY","BUDGET REFERENCE*","BUDGET DATE (YYYY-MM-DD)*","DEPARTMENT*","PRODUCT","PROJECT","PC BUSINESS UNIT","ACTIVITY","Source Type","Category","Subcategory","ANALYSIS TYPE","INCIDENT"]
[{"$f":"Support!I16","v":"050SD081519RRS0001"},{"$f":"Support!$B$1","v":"2019-08-15"},"EXT",203705.86,"ONL",{"$f":"Main!G10","v":"0000082927"},{"$f":"Main!H10","v":"REMIT001"},{"$f":"Main!I10","v":1},{"$f":"Main!J10","v":1},null,{"$f":"Support!$B$3","v":"2019-08-15"},null,{"$f":"Main!$B$4","v":"Riverboat Rev Sharing 2019-08"},"AS",{"$f":"Main!$B$3","v":"Riverboat Rev Sharing 2019-08"},{"$f":"Support!$B$2","v":"2019-08-15"},203705.86,{"$f":"Main!E10","v":203705.86},{"$f":"Main!$B$3","v":"Riverboat Rev Sharing 2019-08"},{"$f":"Main!L10","v":"00050"},{"$f":"Main!N10","v":"562000"},{"$f":"Main!M10","v":37060},{"$f":"Main!O10","v":10000},{"$f":"Main!K10","v":"C01"},{"$f":"Support!$B$10","v":2020},{"$f":"Support!$B$4","v":"2019-08-15"},{"$f":"Main!P10","v":"007005"}]
[{"$f":"Support!I17","v":"050SD081519RRS0002"},{"$f":"Support!$B$1","v":"2019-08-15"},"EXT",2104940.8199999998,"ONL",{"$f":"Main!G11","v":"0000075752"},{"$f":"Main!H11","v":"REMIT001"},{"$f":"Main!I11","v":1},{"$f":"Main!J11","v":1},null,{"$f":"Support!$B$3","v":"2019-08-15"},null,{"$f":"Main!$B$4","v":"Riverboat Rev Sharing 2019-08"},"AS",{"$f":"Main!$B$3","v":"Riverboat Rev Sharing 2019-08"},{"$f":"Support!$B$2","v":"2019-08-15"},2104940.8199999998,{"$f":"Main!E11","v":2104940.8199999998},{"$f":"Main!$B$3","v":"Riverboat Rev Sharing 2019-08"},{"$f":"Main!L11","v":"00050"},{"$f":"Main!N11","v":"562000"},{"$f":"Main!M11","v":37060},{"$f":"Main!O11","v":10000},{"$f":"Main!K11","v":"C02"},{"$f":"Support!$B$10","v":2020},{"$f":"Support!$B$4","v":"2019-08-15"},{"$f":"Main!P11","v":"007005"}]
[{"$f":"Support!I18","v":"050SD081519RRS0003"},{"$f":"Support!$B$1","v":"2019-08-15"},"EXT",454921.57,"ONL",{"$f":"Main!G12","v":"0000082929"},{"$f":"Main!H12","v":"REMIT001"},{"$f":"Main!I12","v":1},{"$f":"Main!J12","v":1},null,{"$f":"Support!$B$3","v":"2019-08-15"},null,{"$f":"Main!$B$4","v":"Riverboat Rev Sharing 2019-08"},"AS",{"$f":"Main!$B$3","v":"Riverboat Rev Sharing 2019-08"},{"$f":"Support!$B$2","v":"2019-08-15"},454921.57,{"$f":"Main!E12","v":454921.57},{"$f":"Main!$B$3","v":"Riverboat Rev Sharing 2019-08"},{"$f":"Main!L12","v":"00050"},{"$f":"Main!N12","v":"562000"},{"$f":"Main!M12","v":37060},{"$f":"Main!O12","v":10000},{"$f":"Main!K12","v":"C03"},{"$f":"Support!$B$10","v":2020},{"$f":"Support!$B$4","v":"2019-08-15"},{"$f":"Main!P12","v":"007005"}]
[{"$f":"Support!I19","v":"050SD081519RRS0004"},{"$f":"Support!$B$1","v":"2019-08-15"},"EXT",52450.39,"ONL",{"$f":"Main!G13","v":"0000057928"},{"$f":"Main!H13","v":"REMIT001"},{"$f":"Main!I13","v":1},{"$f":"Main!J13","v":1},null,{"$f":"Support!$B$3","v":"2019-08-15"},null,{"$f":"Main!$B$4","v":"Riverboat Rev Sharing 2019-08"},"AS",{"$f":"Main!$B$3","v":"Riverboat Rev Sharing 2019-08"},{"$f":"Support!$B$2","v":"2019-08-15"},52450.39,{"$f":"Main!E13","v":52450.39},{"$f":"Main!$B$3","v":"Riverboat Rev Sharing 2019-08"},{"$f":"Main!L13","v":"00050"},{"$f":"Main!N13","v":"562000"},{"$f":"Main!M13","v":37060},{"$f":"Main!O13","v":10000},{"$f":"Main!K13","v":"C04"},{"$f":"Support!$B$10","v":2020},{"$f":"Support!$B$4","v":"2019-08-15"},{"$f":"Main!P13","v":"007005"}]
[{"$f":"Support!I20","v":"050SD081519RRS0005"},{"$f":"Support!$B$1","v":"2019-08-15"},"EXT",75624.77,"ONL",{"$f":"Main!G14","v":"0000076034"},{"$f":"Main!H14","v":"REMIT001"},{"$f":"Main!I14","v":1},{"$f":"Main!J14","v":1},null,{"$f":"Support!$B$3","v":"2019-08-15"},null,{"$f":"Main!$B$4","v":"Riverboat Rev Sharing 2019-08"},"AS",{"$f":"Main!$B$3","v":"Riverboat Rev Sharing 2019-08"},{"$f":"Support!$B$2","v":"2019-08-15"},75624.77,{"$f":"Main!E14","v":75624.77},{"$f":"Main!$B$3","v":"Riverboat Rev Sharing 2019-08"},{"$f":"Main!L14","v":"00050"},{"$f":"Main!N14","v":"562000"},{"$f":"Main!M14","v":37060},{"$f":"Main!O14","v":10000},{"$f":"Main!K14","v":"C05"},{"$f":"Support!$B$10","v":2020},{"$f":"Support!$B$4","v":"2019-08-15"},{"$f":"Main!P14","v":"007005"}]
[{"$f":"Support!I21","v":"050SD081519RRS0006"},{"$f":"Support!$B$1","v":"2019-08-15"},"EXT",335530.87,"ONL",{"$f":"Main!G15","v":"0000082930"},{"$f":"Main!H15","v":"REMIT001"},{"$f":"Main!I15","v":1},{"$f":"Main!J15","v":1},null,{"$f":"Support!$B$3","v":"2019-08-15"},null,{"$f":"Main!$B$4","v":"Riverboat Rev Sharing 2019-08"},"AS",{"$f":"Main!$B$3","v":"Riverboat Rev Sharing 2019-08"},{"$f":"Support!$B$2","v":"2019-08-15"},335530.87,{"$f":"Main!E15","v":335530.87},{"$f":"Main!$B$3","v":"Riverboat Rev Sharing 2019-08"},{"$f":"Main!L15","v":"00050"},{"$f":"Main!N15","v":"562000"},{"$f":"Main!M15","v":37060},{"$f":"Main!O15","v":10000},{"$f":"Main!K15","v":"C06"},{"$f":"Support!$B$10","v":2020},{"$f":"Support!$B$4","v":"2019-08-15"},{"$f":"Main!P15","v":"007005"}]
[{"$f":"Support!I22","v":"050SD081519RRS0007"},{"$f":"Support!$B$1","v":"2019-08-15"},"EXT",90292.4,"ONL",{"$f":"Main!G16","v":"0000082931"},{"$f":"Main!H16","v":"REMIT001"},{"$f":"Main!I16","v":1},{"$f":"Main!J16","v":1},null,{"$f":"Support!$B$3","v":"2019-08-15"},null,{"$f":"Main!$B$4","v":"Riverboat Rev Sharing 2019-08"},"AS",{"$f":"Main!$B$3","v":"Riverboat Rev Sharing 2019-08"},{"$f":"Support!$B$2","v":"2019-08-15"},90292.4,{"$f":"Main!E16","v":90292.4},{"$f":"Main!$B$3","v":"Riverboat Rev Sharing 2019-08"},{"$f":"Main!L16","v":"00050"},{"$f":"Main!N16","v":"562000"},{"$f":"Main!M16","v":37060},{"$f":"Main!O16","v":10000},{"$f":"Main!K16","v":"C07"},{"$f":"Support!$B$10","v":2020},{"$f":"Support!$B$4","v":"2019-08-15"},{"$f":"Main!P16","v":"007005"}]
[{"$f":"Support!I23","v":"050SD081519RRS0008"},{"$f":"Support!$B$1","v":"2019-08-15"},"EXT",119396.62,"ONL",{"$f":"Main!G17","v":"0000082932"},{"$f":"Main!H17","v":"REMIT001"},{"$f":"Main!I17","v":1},{"$f":"Main!J17","v":1},null,{"$f":"Support!$B$3","v":"2019-08-15"},null,{"$f":"Main!$B$4","v":"Riverboat Rev Sharing 2019-08"},"AS",{"$f":"Main!$B$3","v":"Riverboat Rev Sharing 2019-08"},{"$f":"Support!$B$2","v":"2019-08-15"},119396.62,{"$f":"Main!E17","v":119396.62},{"$f":"Main!$B$3","v":"Riverboat Rev Sharing 2019-08"},{"$f":"Main!L17","v":"00050"},{"$f":"Main!N17","v":"562000"},{"$f":"Main!M17","v":37060},{"$f":"Main!O17","v":10000},{"$f":"Main!K17","v":"C08"},{"$f":"Support!$B$10","v":2020},{"$f":"Support!$B$4","v":"2019-08-15"},{"$f":"Main!P17","v":"007005"}]
[{"$f":"Support!I24","v":"050SD081519RRS0009"},{"$f":"Support!$B$1","v":"2019-08-15"},"EXT",230831.49,"ONL",{"$f":"Main!G18","v":"0000079011"},{"$f":"Main!H18","v":"REMIT001"},{"$f":"Main!I18","v":1},{"$f":"Main!J18","v":1},null,{"$f":"Support!$B$3","v":"2019-08-15"},null,{"$f":"Main!$B$4","v":"Riverboat Rev Sharing 2019-08"},"AS",{"$f":"Main!$B$3","v":"Riverboat Rev Sharing 2019-08"},{"$f":"Support!$B$2","v":"2019-08-15"},230831.49,{"$f":"Main!E18","v":230831.49},{"$f":"Main!$B$3","v":"Riverboat Rev Sharing 2019-08"},{"$f":"Main!L18","v":"00050"},{"$f":"Main!N18","v":"562000"},{"$f":"Main!M18","v":37060},{"$f":"Main!O18","v":10000},{"$f":"Main!K18","v":"C09"},{"$f":"Support!$B$10","v":2020},{"$f":"Support!$B$4","v":"2019-08-15"},{"$f":"Main!P18","v":"007005"}]
[{"$f":"Support!I25","v":"050SD081519RRS0010"},{"$f":"Support!$B$1","v":"2019-08-15"},"EXT",653005.63,"ONL",{"$f":"Main!G19","v":"0000082937"},{"$f":"Main!H19","v":"REMIT001"},{"$f":"Main!I19","v":1},{"$f":"Main!J19","v":1},null,{"$f":"Support!$B$3","v":"2019-08-15"},null,{"$f":"Main!$B$4","v":"Riverboat Rev Sharing 2019-08"},"AS",{"$f":"Main!$B$3","v":"Riverboat Rev Sharing 2019-08"},{"$f":"Support!$B$2","v":"2019-08-15"},653005.63,{"$f":"Main!E19","v":653005.63},{"$f":"Main!$B$3","v":"Riverboat Rev Sharing 2019-08"},{"$f":"Main!L19","v":"00050"},{"$f":"Main!N19","v":"562000"},{"$f":"Main!M19","v":37060},{"$f":"Main!O19","v":10000},{"$f":"Main!K19","v":"C10"},{"$f":"Support!$B$10","v":2020},{"$f":"Support!$B$4","v":"2019-08-15"},{"$f":"Main!P19","v":"007005"}]
[{"$f":"Support!I26","v":"050SD081519RRS0011"},{"$f":"Support!$B$1","v":"2019-08-15"},"EXT",159294.23000000001,"ONL",{"$f":"Main!G20","v":"0000082939"},{"$f":"Main!H20","v":"REMIT001"},{"$f":"Main!I20","v":1},{"$f":"Main!J20","v":1},null,{"$f":"Support!$B$3","v":"2019-08-15"},null,{"$f":"Main!$B$4","v":"Riverboat Rev Sharing 2019-08"},"AS",{"$f":"Main!$B$3","v":"Riverboat Rev Sharing 2019-08"},{"$f":"Support!$B$2","v":"2019-08-15"},159294.23000000001,{"$f":"Main!E20","v":159294.23000000001},{"$f":"Main!$B$3","v":"Riverboat Rev Sharing 2019-08"},{"$f":"Main!L20","v":"00050"},{"$f":"Main!N20","v":"562000"},{"$f":"Main!M20","v":37060},{"$f":"Main!O20","v":10000},{"$f":"Main!K20","v":"C11"},{"$f":"Support!$B$10","v":2020},{"$f":"Support!$B$4","v":"2019-08-15"},{"$f":"Main!P20","v":"007005"}]
[{"$f":"Support!I27","v":"050SD081519RRS0012"},{"$f":"Support!$B$1","v":"2019-08-15"},"EXT",196816.34,"ONL",{"$f":"Main!G21","v":"0000082940"},{"$f":"Main!H21","v":"REMIT001"},{"$f":"Main!I21","v":1},{"$f":"Main!J21","v":1},null,{"$f":"Support!$B$3","v":"2019-08-15"},null,{"$f":"Main!$B$4","v":"Riverboat Rev Sharing 2019-08"},"AS",{"$f":"Main!$B$3","v":"Riverboat Rev Sharing 2019-08"},{"$f":"Support!$B$2","v":"2019-08-15"},196816.34,{"$f":"Main!E21","v":196816.34},{"$f":"Main!$B$3","v":"Riverboat Rev Sharing 2019-08"},{"$f":"Main!L21","v":"00050"},{"$f":"Main!N21","v":"562000"},{"$f":"Main!M21","v":37060},{"$f":"Main!O21","v":10000},{"$f":"Main!K21","v":"C12"},{"$f":"Support!$B$10","v":2020},{"$f":"Support!$B$4","v":"2019-08-15"},{"$f":"Main!P21","v":"007005"}]
[{"$f":"Support!I28","v":"050SD081519RRS0013"},{"$f":"Support!$B$1","v":"2019-08-15"},"EXT",63462.96,"ONL",{"$f":"Main!G22","v":"0000082942"},{"$f":"Main!H22","v":"REMIT001"},{"$f":"Main!I22","v":1},{"$f":"Main!J22","v":1},null,{"$f":"Support!$B$3","v":"2019-08-15"},null,{"$f":"Main!$B$4","v":"Riverboat Rev Sharing 2019-08"},"AS",{"$f":"Main!$B$3","v":"Riverboat Rev Sharing 2019-08"},{"$f":"Support!$B$2","v":"2019-08-15"},63462.96,{"$f":"Main!E22","v":63462.96},{"$f":"Main!$B$3","v":"Riverboat Rev Sharing 2019-08"},{"$f":"Main!L22","v":"00050"},{"$f":"Main!N22","v":"562000"},{"$f":"Main!M22","v":37060},{"$f":"Main!O22","v":10000},{"$f":"Main!K22","v":"C13"},{"$f":"Support!$B$10","v":2020},{"$f":"Support!$B$4","v":"2019-08-15"},{"$f":"Main!P22","v":"007005"}]
[{"$f":"Support!I29","v":"050SD081519RRS0014"},{"$f":"Support!$B$1","v":"2019-08-15"},"EXT",187480.24,"ONL",{"$f":"Main!G23","v":"0000082943"},{"$f":"Main!H23","v":"REMIT001"},{"$f":"Main!I23","v":1},{"$f":"Main!J23","v":1},null,{"$f":"Support!$B$3","v":"2019-08-15"},null,{"$f":"Main!$B$4","v":"Riverboat Rev Sharing 2019-08"},"AS",{"$f":"Main!$B$3","v":"Riverboat Rev Sharing 2019-08"},{"$f":"Support!$B$2","v":"2019-08-15"},187480.24,{"$f":"Main!E23","v":187480.24},{"$f":"Main!$B$3","v":"Riverboat Rev Sharing 2019-08"},{"$f":"Main!L23","v":"00050"},{"$f":"Main!N23","v":"562000"},{"$f":"Main!M23","v":37060},{"$f":"Main!O23","v":10000},{"$f":"Main!K23","v":"C14"},{"$f":"Support!$B$10","v":2020},{"$f":"Support!$B$4","v":"2019-08-15"},{"$f":"Main!P23","v":"007005"}]
[{"$f":"Support!I30","v":"050SD081519RRS0015"},{"$f":"Support!$B$1","v":"2019-08-15"},"EXT",0,"ONL",{"$f":"Main!G24","v":"0000082945"},{"$f":"Main!H24","v":"REMIT001"},{"$f":"Main!I24","v":1},{"$f":"Main!J24","v":1},null,{"$f":"Support!$B$3","v":"2019-08-15"},null,{"$f":"Main!$B$4","v":"Riverboat Rev Sharing 2019-08"},"AS",{"$f":"Main!$B$3","v":"Riverboat Rev Sharing 2019-08"},{"$f":"Support!$B$2","v":"2019-08-15"},0,{"$f":"Main!E24","v":0},{"$f":"Main!$B$3","v":"Riverboat Rev Sharing 2019-08"},{"$f":"Main!L24","v":"00050"},{"$f":"Main!N24","v":"562000"},{"$f":"Main!M24","v":37060},{"$f":"Main!O24","v":10000},{"$f":"Main!K24","v":"C15"},{"$f":"Support!$B$10","v":2020},{"$f":"Support!$B$4","v":"2019-08-15"},{"$f":"Main!P24","v":"007005"}]
[{"$f":"Support!I31","v":"050SD081519RRS0016"},{"$f":"Support!$B$1","v":"2019-08-15"},"EXT",152481.72,"ONL",{"$f":"Main!G25","v":"0000082946"},{"$f":"Main!H25","v":"REMIT001"},{"$f":"Main!I25","v":1},{"$f":"Main!J25","v":1},null,{"$f":"Support!$B$3","v":"2019-08-15"},null,{"$f":"Main!$B$4","v":"Riverboat Rev Sharing 2019-08"},"AS",{"$f":"Main!$B$3","v":"Riverboat Rev Sharing 2019-08"},{"$f":"Support!$B$2","v":"2019-08-15"},152481.72,{"$f":"Main!E25","v":152481.72},{"$f":"Main!$B$3","v":"Riverboat Rev Sharing 2019-08"},{"$f":"Main!L25","v":"00050"},{"$f":"Main!N25","v":"562000"},{"$f":"Main!M25","v":37060},{"$f":"Main!O25","v":10000},{"$f":"Main!K25","v":"C16"},{"$f":"Support!$B$10","v":2020},{"$f":"Support!$B$4","v":"2019-08-15"},{"$f":"Main!P25","v":"007005"}]
[{"$f":"Support!I32","v":"050SD081519RRS0017"},{"$f":"Support!$B$1","v":"2019-08-15"},"EXT",250125.7,"ONL",{"$f":"Main!G26","v":"0000082948"},{"$f":"Main!H26","v":"REMIT001"},{"$f":"Main!I26","v":1},{"$f":"Main!J26","v":1},null,{"$f":"Support!$B$3","v":"2019-08-15"},null,{"$f":"Main!$B$4","v":"Riverboat Rev Sharing 2019-08"},"AS",{"$f":"Main!$B$3","v":"Riverboat Rev Sharing 2019-08"},{"$f":"Support!$B$2","v":"2019-08-15"},250125.7,{"$f":"Main!E26","v":250125.7},{"$f":"Main!$B$3","v":"Riverboat Rev Sharing 2019-08"},{"$f":"Main!L26","v":"00050"},{"$f":"Main!N26","v":"562000"},{"$f":"Main!M26","v":37060},{"$f":"Main!O26","v":10000},{"$f":"Main!K26","v":"C17"},{"$f":"Support!$B$10","v":2020},{"$f":"Support!$B$4","v":"2019-08-15"},{"$f":"Main!P26","v":"007005"}]
[{"$f":"Support!I33","v":"050SD081519RRS0018"},{"$f":"Support!$B$1","v":"2019-08-15"},"EXT",697073.67,"ONL",{"$f":"Main!G27","v":"0000076139"},{"$f":"Main!H27","v":"REMIT001"},{"$f":"Main!I27","v":1},{"$f":"Main!J27","v":1},null,{"$f":"Support!$B$3","v":"2019-08-15"},null,{"$f":"Main!$B$4","v":"Riverboat Rev Sharing 2019-08"},"AS",{"$f":"Main!$B$3","v":"Riverboat Rev Sharing 2019-08"},{"$f":"Support!$B$2","v":"2019-08-15"},697073.67,{"$f":"Main!E27","v":697073.67},{"$f":"Main!$B$3","v":"Riverboat Rev Sharing 2019-08"},{"$f":"Main!L27","v":"00050"},{"$f":"Main!N27","v":"562000"},{"$f":"Main!M27","v":37060},{"$f":"Main!O27","v":10000},{"$f":"Main!K27","v":"C18"},{"$f":"Support!$B$10","v":2020},{"$f":"Support!$B$4","v":"2019-08-15"},{"$f":"Main!P27","v":"007005"}]
[{"$f":"Support!I34","v":"050SD081519RRS0019"},{"$f":"Support!$B$1","v":"2019-08-15"},"EXT",248147.11,"ONL",{"$f":"Main!G28","v":"0000075245"},{"$f":"Main!H28","v":"REMIT001"},{"$f":"Main!I28","v":1},{"$f":"Main!J28","v":1},null,{"$f":"Support!$B$3","v":"2019-08-15"},null,{"$f":"Main!$B$4","v":"Riverboat Rev Sharing 2019-08"},"AS",{"$f":"Main!$B$3","v":"Riverboat Rev Sharing 2019-08"},{"$f":"Support!$B$2","v":"2019-08-15"},248147.11,{"$f":"Main!E28","v":248147.11},{"$f":"Main!$B$3","v":"Riverboat Rev Sharing 2019-08"},{"$f":"Main!L28","v":"00050"},{"$f":"Main!N28","v":"562000"},{"$f":"Main!M28","v":37060},{"$f":"Main!O28","v":10000},{"$f":"Main!K28","v":"C19"},{"$f":"Support!$B$10","v":2020},{"$f":"Support!$B$4","v":"2019-08-15"},{"$f":"Main!P28","v":"007005"}]
[{"$f":"Support!I35","v":"050SD081519RRS0020"},{"$f":"Support!$B$1","v":"2019-08-15"},"EXT",1170323.8500000001,"ONL",{"$f":"Main!G29","v":"0000075247"},{"$f":"Main!H29","v":"REMIT001"},{"$f":"Main!I29","v":1},{"$f":"Main!J29","v":1},null,{"$f":"Support!$B$3","v":"2019-08-15"},null,{"$f":"Main!$B$4","v":"Riverboat Rev Sharing 2019-08"},"AS",{"$f":"Main!$B$3","v":"Riverboat Rev Sharing 2019-08"},{"$f":"Support!$B$2","v":"2019-08-15"},1170323.8500000001,{"$f":"Main!E29","v":1170323.8500000001},{"$f":"Main!$B$3","v":"Riverboat Rev Sharing 2019-08"},{"$f":"Main!L29","v":"00050"},{"$f":"Main!N29","v":"562000"},{"$f":"Main!M29","v":37060},{"$f":"Main!O29","v":10000},{"$f":"Main!K29","v":"C20"},{"$f":"Support!$B$10","v":2020},{"$f":"Support!$B$4","v":"2019-08-15"},{"$f":"Main!P29","v":"007005"}]
[{"$f":"Support!I36","v":"050SD081519RRS0021"},{"$f":"Support!$B$1","v":"2019-08-15"},"EXT",143815.01999999999,"ONL",{"$f":"Main!G30","v":"0000078425"},{"$f":"Main!H30","v":"REMIT001"},{"$f":"Main!I30","v":1},{"$f":"Main!J30","v":1},null,{"$f":"Support!$B$3","v":"2019-08-15"},null,{"$f":"Main!$B$4","v":"Riverboat Rev Sharing 2019-08"},"AS",{"$f":"Main!$B$3","v":"Riverboat Rev Sharing 2019-08"},{"$f":"Support!$B$2","v":"2019-08-15"},143815.01999999999,{"$f":"Main!E30","v":143815.01999999999},{"$f":"Main!$B$3","v":"Riverboat Rev Sharing 2019-08"},{"$f":"Main!L30","v":"00050"},{"$f":"Main!N30","v":"562000"},{"$f":"Main!M30","v":37060},{"$f":"Main!O30","v":10000},{"$f":"Main!K30","v":"C21"},{"$f":"Support!$B$10","v":2020},{"$f":"Support!$B$4","v":"2019-08-15"},{"$f":"Main!P30","v":"007005"}]
[{"$f":"Support!I37","v":"050SD081519RRS0022"},{"$f":"Support!$B$1","v":"2019-08-15"},"EXT",441794.16,"ONL",{"$f":"Main!G31","v":"0000077217"},{"$f":"Main!H31","v":"REMIT001"},{"$f":"Main!I31","v":1},{"$f":"Main!J31","v":1},null,{"$f":"Support!$B$3","v":"2019-08-15"},null,{"$f":"Main!$B$4","v":"Riverboat Rev Sharing 2019-08"},"AS",{"$f":"Main!$B$3","v":"Riverboat Rev Sharing 2019-08"},{"$f":"Support!$B$2","v":"2019-08-15"},441794.16,{"$f":"Main!E31","v":441794.16},{"$f":"Main!$B$3","v":"Riverboat Rev Sharing 2019-08"},{"$f":"Main!L31","v":"00050"},{"$f":"Main!N31","v":"562000"},{"$f":"Main!M31","v":37060},{"$f":"Main!O31","v":10000},{"$f":"Main!K31","v":"C22"},{"$f":"Support!$B$10","v":2020},{"$f":"Support!$B$4","v":"2019-08-15"},{"$f":"Main!P31","v":"007005"}]
[{"$f":"Support!I38","v":"050SD081519RRS0023"},{"$f":"Support!$B$1","v":"2019-08-15"},"EXT",102128.39,"ONL",{"$f":"Main!G32","v":"0000075172"},{"$f":"Main!H32","v":"REMIT001"},{"$f":"Main!I32","v":1},{"$f":"Main!J32","v":1},null,{"$f":"Support!$B$3","v":"2019-08-15"},null,{"$f":"Main!$B$4","v":"Riverboat Rev Sharing 2019-08"},"AS",{"$f":"Main!$B$3","v":"Riverboat Rev Sharing 2019-08"},{"$f":"Support!$B$2","v":"2019-08-15"},102128.39,{"$f":"Main!E32","v":102128.39},{"$f":"Main!$B$3","v":"Riverboat Rev Sharing 2019-08"},{"$f":"Main!L32","v":"00050"},{"$f":"Main!N32","v":"562000"},{"$f":"Main!M32","v":37060},{"$f":"Main!O32","v":10000},{"$f":"Main!K32","v":"C23"},{"$f":"Support!$B$10","v":2020},{"$f":"Support!$B$4","v":"2019-08-15"},{"$f":"Main!P32","v":"007005"}]
[{"$f":"Support!I39","v":"050SD081519RRS0024"},{"$f":"Support!$B$1","v":"2019-08-15"},"EXT",136765.56,"ONL",{"$f":"Main!G33","v":"0000082949"},{"$f":"Main!H33","v":"REMIT001"},{"$f":"Main!I33","v":1},{"$f":"Main!J33","v":1},null,{"$f":"Support!$B$3","v":"2019-08-15"},null,{"$f":"Main!$B$4","v":"Riverboat Rev Sharing 2019-08"},"AS",{"$f":"Main!$B$3","v":"Riverboat Rev Sharing 2019-08"},{"$f":"Support!$B$2","v":"2019-08-15"},136765.56,{"$f":"Main!E33","v":136765.56},{"$f":"Main!$B$3","v":"Riverboat Rev Sharing 2019-08"},{"$f":"Main!L33","v":"00050"},{"$f":"Main!N33","v":"562000"},{"$f":"Main!M33","v":37060},{"$f":"Main!O33","v":10000},{"$f":"Main!K33","v":"C24"},{"$f":"Support!$B$10","v":2020},{"$f":"Support!$B$4","v":"2019-08-15"},{"$f":"Main!P33","v":"007005"}]
[{"$f":"Support!I40","v":"050SD081519RRS0025"},{"$f":"Support!$B$1","v":"2019-08-15"},"EXT",123430.81,"ONL",{"$f":"Main!G34","v":"0000077206"},{"$f":"Main!H34","v":"REMIT001"},{"$f":"Main!I34","v":1},{"$f":"Main!J34","v":1},null,{"$f":"Support!$B$3","v":"2019-08-15"},null,{"$f":"Main!$B$4","v":"Riverboat Rev Sharing 2019-08"},"AS",{"$f":"Main!$B$3","v":"Riverboat Rev Sharing 2019-08"},{"$f":"Support!$B$2","v":"2019-08-15"},123430.81,{"$f":"Main!E34","v":123430.81},{"$f":"Main!$B$3","v":"Riverboat Rev Sharing 2019-08"},{"$f":"Main!L34","v":"00050"},{"$f":"Main!N34","v":"562000"},{"$f":"Main!M34","v":37060},{"$f":"Main!O34","v":10000},{"$f":"Main!K34","v":"C25"},{"$f":"Support!$B$10","v":2020},{"$f":"Support!$B$4","v":"2019-08-15"},{"$f":"Main!P34","v":"007005"}]
[{"$f":"Support!I41","v":"050SD081519RRS0026"},{"$f":"Support!$B$1","v":"2019-08-15"},"EXT",198469.12,"ONL",{"$f":"Main!G35","v":"0000079008"},{"$f":"Main!H35","v":"REMIT001"},{"$f":"Main!I35","v":1},{"$f":"Main!J35","v":1},null,{"$f":"Support!$B$3","v":"2019-08-15"},null,{"$f":"Main!$B$4","v":"Riverboat Rev Sharing 2019-08"},"AS",{"$f":"Main!$B$3","v":"Riverboat Rev Sharing 2019-08"},{"$f":"Support!$B$2","v":"2019-08-15"},198469.12,{"$f":"Main!E35","v":198469.12},{"$f":"Main!$B$3","v":"Riverboat Rev Sharing 2019-08"},{"$f":"Main!L35","v":"00050"},{"$f":"Main!N35","v":"562000"},{"$f":"Main!M35","v":37060},{"$f":"Main!O35","v":10000},{"$f":"Main!K35","v":"C26"},{"$f":"Support!$B$10","v":2020},{"$f":"Support!$B$4","v":"2019-08-15"},{"$f":"Main!P35","v":"007005"}]
[{"$f":"Support!I42","v":"050SD081519RRS0027"},{"$f":"Support!$B$1","v":"2019-08-15"},"EXT",415035.81,"ONL",{"$f":"Main!G36","v":"0000076781"},{"$f":"Main!H36","v":"REMIT001"},{"$f":"Main!I36","v":1},{"$f":"Main!J36","v":1},null,{"$f":"Support!$B$3","v":"2019-08-15"},null,{"$f":"Main!$B$4","v":"Riverboat Rev Sharing 2019-08"},"AS",{"$f":"Main!$B$3","v":"Riverboat Rev Sharing 2019-08"},{"$f":"Support!$B$2","v":"2019-08-15"},415035.81,{"$f":"Main!E36","v":415035.81},{"$f":"Main!$B$3","v":"Riverboat Rev Sharing 2019-08"},{"$f":"Main!L36","v":"00050"},{"$f":"Main!N36","v":"562000"},{"$f":"Main!M36","v":37060},{"$f":"Main!O36","v":10000},{"$f":"Main!K36","v":"C27"},{"$f":"Support!$B$10","v":2020},{"$f":"Support!$B$4","v":"2019-08-15"},{"$f":"Main!P36","v":"007005"}]
[{"$f":"Support!I43","v":"050SD081519RRS0028"},{"$f":"Support!$B$1","v":"2019-08-15"},"EXT",196466.83,"ONL",{"$f":"Main!G37","v":"0000082965"},{"$f":"Main!H37","v":"REMIT001"},{"$f":"Main!I37","v":1},{"$f":"Main!J37","v":1},null,{"$f":"Support!$B$3","v":"2019-08-15"},null,{"$f":"Main!$B$4","v":"Riverboat Rev Sharing 2019-08"},"AS",{"$f":"Main!$B$3","v":"Riverboat Rev Sharing 2019-08"},{"$f":"Support!$B$2","v":"2019-08-15"},196466.83,{"$f":"Main!E37","v":196466.83},{"$f":"Main!$B$3","v":"Riverboat Rev Sharing 2019-08"},{"$f":"Main!L37","v":"00050"},{"$f":"Main!N37","v":"562000"},{"$f":"Main!M37","v":37060},{"$f":"Main!O37","v":10000},{"$f":"Main!K37","v":"C28"},{"$f":"Support!$B$10","v":2020},{"$f":"Support!$B$4","v":"2019-08-15"},{"$f":"Main!P37","v":"007005"}]
[{"$f":"Support!I44","v":"050SD081519RRS0029"},{"$f":"Support!$B$1","v":"2019-08-15"},"EXT",1626524.98,"ONL",{"$f":"Main!G38","v":"0000075809"},{"$f":"Main!H38","v":"REMIT001"},{"$f":"Main!I38","v":1},{"$f":"Main!J38","v":1},null,{"$f":"Support!$B$3","v":"2019-08-15"},null,{"$f":"Main!$B$4","v":"Riverboat Rev Sharing 2019-08"},"AS",{"$f":"Main!$B$3","v":"Riverboat Rev Sharing 2019-08"},{"$f":"Support!$B$2","v":"2019-08-15"},1626524.98,{"$f":"Main!E38","v":1626524.98},{"$f":"Main!$B$3","v":"Riverboat Rev Sharing 2019-08"},{"$f":"Main!L38","v":"00050"},{"$f":"Main!N38","v":"562000"},{"$f":"Main!M38","v":37060},{"$f":"Main!O38","v":10000},{"$f":"Main!K38","v":"C29"},{"$f":"Support!$B$10","v":2020},{"$f":"Support!$B$4","v":"2019-08-15"},{"$f":"Main!P38","v":"007005"}]
[{"$f":"Support!I45","v":"050SD081519RRS0030"},{"$f":"Support!$B$1","v":"2019-08-15"},"EXT",414686.3,"ONL",{"$f":"Main!G39","v":"0000082966"},{"$f":"Main!H39","v":"REMIT001"},{"$f":"Main!I39","v":1},{"$f":"Main!J39","v":1},null,{"$f":"Support!$B$3","v":"2019-08-15"},null,{"$f":"Main!$B$4","v":"Riverboat Rev Sharing 2019-08"},"AS",{"$f":"Main!$B$3","v":"Riverboat Rev Sharing 2019-08"},{"$f":"Support!$B$2","v":"2019-08-15"},414686.3,{"$f":"Main!E39","v":414686.3},{"$f":"Main!$B$3","v":"Riverboat Rev Sharing 2019-08"},{"$f":"Main!L39","v":"00050"},{"$f":"Main!N39","v":"562000"},{"$f":"Main!M39","v":37060},{"$f":"Main!O39","v":10000},{"$f":"Main!K39","v":"C30"},{"$f":"Support!$B$10","v":2020},{"$f":"Support!$B$4","v":"2019-08-15"},{"$f":"Main!P39","v":"007005"}]
[{"$f":"Support!I46","v":"050SD081519RRS0031"},{"$f":"Support!$B$1","v":"2019-08-15"},"EXT",0,"ONL",{"$f":"Main!G40","v":"0000082967"},{"$f":"Main!H40","v":"REMIT001"},{"$f":"Main!I40","v":1},{"$f":"Main!J40","v":1},null,{"$f":"Support!$B$3","v":"2019-08-15"},null,{"$f":"Main!$B$4","v":"Riverboat Rev Sharing 2019-08"},"AS",{"$f":"Main!$B$3","v":"Riverboat Rev Sharing 2019-08"},{"$f":"Support!$B$2","v":"2019-08-15"},0,{"$f":"Main!E40","v":0},{"$f":"Main!$B$3","v":"Riverboat Rev Sharing 2019-08"},{"$f":"Main!L40","v":"00050"},{"$f":"Main!N40","v":"562000"},{"$f":"Main!M40","v":37060},{"$f":"Main!O40","v":10000},{"$f":"Main!K40","v":"C31"},{"$f":"Support!$B$10","v":2020},{"$f":"Support!$B$4","v":"2019-08-15"},{"$f":"Main!P40","v":"007005"}]
[{"$f":"Support!I47","v":"050SD081519RRS0032"},{"$f":"Support!$B$1","v":"2019-08-15"},"EXT",861622.42,"ONL",{"$f":"Main!G41","v":"0000082968"},{"$f":"Main!H41","v":"REMIT001"},{"$f":"Main!I41","v":1},{"$f":"Main!J41","v":1},null,{"$f":"Support!$B$3","v":"2019-08-15"},null,{"$f":"Main!$B$4","v":"Riverboat Rev Sharing 2019-08"},"AS",{"$f":"Main!$B$3","v":"Riverboat Rev Sharing 2019-08"},{"$f":"Support!$B$2","v":"2019-08-15"},861622.42,{"$f":"Main!E41","v":861622.42},{"$f":"Main!$B$3","v":"Riverboat Rev Sharing 2019-08"},{"$f":"Main!L41","v":"00050"},{"$f":"Main!N41","v":"562000"},{"$f":"Main!M41","v":37060},{"$f":"Main!O41","v":10000},{"$f":"Main!K41","v":"C32"},{"$f":"Support!$B$10","v":2020},{"$f":"Support!$B$4","v":"2019-08-15"},{"$f":"Main!P41","v":"007005"}]
[{"$f":"Support!I48","v":"050SD081519RRS0033"},{"$f":"Support!$B$1","v":"2019-08-15"},"EXT",293008.96999999997,"ONL",{"$f":"Main!G42","v":"0000082969"},{"$f":"Main!H42","v":"REMIT001"},{"$f":"Main!I42","v":1},{"$f":"Main!J42","v":1},null,{"$f":"Support!$B$3","v":"2019-08-15"},null,{"$f":"Main!$B$4","v":"Riverboat Rev Sharing 2019-08"},"AS",{"$f":"Main!$B$3","v":"Riverboat Rev Sharing 2019-08"},{"$f":"Support!$B$2","v":"2019-08-15"},293008.96999999997,{"$f":"Main!E42","v":293008.96999999997},{"$f":"Main!$B$3","v":"Riverboat Rev Sharing 2019-08"},{"$f":"Main!L42","v":"00050"},{"$f":"Main!N42","v":"562000"},{"$f":"Main!M42","v":37060},{"$f":"Main!O42","v":10000},{"$f":"Main!K42","v":"C33"},{"$f":"Support!$B$10","v":2020},{"$f":"Support!$B$4","v":"2019-08-15"},{"$f":"Main!P42","v":"007005"}]
[{"$f":"Support!I49","v":"050SD081519RRS0034"},{"$f":"Support!$B$1","v":"2019-08-15"},"EXT",490216.29,"ONL",{"$f":"Main!G43","v":"0000075284"},{"$f":"Main!H43","v":"REMIT001"},{"$f":"Main!I43","v":1},{"$f":"Main!J43","v":1},null,{"$f":"Support!$B$3","v":"2019-08-15"},null,{"$f":"Main!$B$4","v":"Riverboat Rev Sharing 2019-08"},"AS",{"$f":"Main!$B$3","v":"Riverboat Rev Sharing 2019-08"},{"$f":"Support!$B$2","v":"2019-08-15"},490216.29,{"$f":"Main!E43","v":490216.29},{"$f":"Main!$B$3","v":"Riverboat Rev Sharing 2019-08"},{"$f":"Main!L43","v":"00050"},{"$f":"Main!N43","v":"562000"},{"$f":"Main!M43","v":37060},{"$f":"Main!O43","v":10000},{"$f":"Main!K43","v":"C34"},{"$f":"Support!$B$10","v":2020},{"$f":"Support!$B$4","v":"2019-08-15"},{"$f":"Main!P43","v":"007005"}]
[{"$f":"Support!I50","v":"050SD081519RRS0035"},{"$f":"Support!$B$1","v":"2019-08-15"},"EXT",219919.63,"ONL",{"$f":"Main!G44","v":"0000075168"},{"$f":"Main!H44","v":"REMIT001"},{"$f":"Main!I44","v":1},{"$f":"Main!J44","v":1},null,{"$f":"Support!$B$3","v":"2019-08-15"},null,{"$f":"Main!$B$4","v":"Riverboat Rev Sharing 2019-08"},"AS",{"$f":"Main!$B$3","v":"Riverboat Rev Sharing 2019-08"},{"$f":"Support!$B$2","v":"2019-08-15"},219919.63,{"$f":"Main!E44","v":219919.63},{"$f":"Main!$B$3","v":"Riverboat Rev Sharing 2019-08"},{"$f":"Main!L44","v":"00050"},{"$f":"Main!N44","v":"562000"},{"$f":"Main!M44","v":37060},{"$f":"Main!O44","v":10000},{"$f":"Main!K44","v":"C35"},{"$f":"Support!$B$10","v":2020},{"$f":"Support!$B$4","v":"2019-08-15"},{"$f":"Main!P44","v":"007005"}]
[{"$f":"Support!I51","v":"050SD081519RRS0036"},{"$f":"Support!$B$1","v":"2019-08-15"},"EXT",251032.06,"ONL",{"$f":"Main!G45","v":"0000075169"},{"$f":"Main!H45","v":"REMIT001"},{"$f":"Main!I45","v":1},{"$f":"Main!J45","v":1},null,{"$f":"Support!$B$3","v":"2019-08-15"},null,{"$f":"Main!$B$4","v":"Riverboat Rev Sharing 2019-08"},"AS",{"$f":"Main!$B$3","v":"Riverboat Rev Sharing 2019-08"},{"$f":"Support!$B$2","v":"2019-08-15"},251032.06,{"$f":"Main!E45","v":251032.06},{"$f":"Main!$B$3","v":"Riverboat Rev Sharing 2019-08"},{"$f":"Main!L45","v":"00050"},{"$f":"Main!N45","v":"562000"},{"$f":"Main!M45","v":37060},{"$f":"Main!O45","v":10000},{"$f":"Main!K45","v":"C36"},{"$f":"Support!$B$10","v":2020},{"$f":"Support!$B$4","v":"2019-08-15"},{"$f":"Main!P45","v":"007005"}]
[{"$f":"Support!I52","v":"050SD081519RRS0037"},{"$f":"Support!$B$1","v":"2019-08-15"},"EXT",198321.02,"ONL",{"$f":"Main!G46","v":"0000082970"},{"$f":"Main!H46","v":"REMIT001"},{"$f":"Main!I46","v":1},{"$f":"Main!J46","v":1},null,{"$f":"Support!$B$3","v":"2019-08-15"},null,{"$f":"Main!$B$4","v":"Riverboat Rev Sharing 2019-08"},"AS",{"$f":"Main!$B$3","v":"Riverboat Rev Sharing 2019-08"},{"$f":"Support!$B$2","v":"2019-08-15"},198321.02,{"$f":"Main!E46","v":198321.02},{"$f":"Main!$B$3","v":"Riverboat Rev Sharing 2019-08"},{"$f":"Main!L46","v":"00050"},{"$f":"Main!N46","v":"562000"},{"$f":"Main!M46","v":37060},{"$f":"Main!O46","v":10000},{"$f":"Main!K46","v":"C37"},{"$f":"Support!$B$10","v":2020},{"$f":"Support!$B$4","v":"2019-08-15"},{"$f":"Main!P46","v":"007005"}]
[{"$f":"Support!I53","v":"050SD081519RRS0038"},{"$f":"Support!$B$1","v":"2019-08-15"},"EXT",125901.09,"ONL",{"$f":"Main!G47","v":"0000082971"},{"$f":"Main!H47","v":"REMIT001"},{"$f":"Main!I47","v":1},{"$f":"Main!J47","v":1},null,{"$f":"Support!$B$3","v":"2019-08-15"},null,{"$f":"Main!$B$4","v":"Riverboat Rev Sharing 2019-08"},"AS",{"$f":"Main!$B$3","v":"Riverboat Rev Sharing 2019-08"},{"$f":"Support!$B$2","v":"2019-08-15"},125901.09,{"$f":"Main!E47","v":125901.09},{"$f":"Main!$B$3","v":"Riverboat Rev Sharing 2019-08"},{"$f":"Main!L47","v":"00050"},{"$f":"Main!N47","v":"562000"},{"$f":"Main!M47","v":37060},{"$f":"Main!O47","v":10000},{"$f":"Main!K47","v":"C38"},{"$f":"Support!$B$10","v":2020},{"$f":"Support!$B$4","v":"2019-08-15"},{"$f":"Main!P47","v":"007005"}]
[{"$f":"Support!I54","v":"050SD081519RRS0039"},{"$f":"Support!$B$1","v":"2019-08-15"},"EXT",192100.9,"ONL",{"$f":"Main!G48","v":"0000082972"},{"$f":"Main!H48","v":"REMIT001"},{"$f":"Main!I48","v":1},{"$f":"Main!J48","v":1},null,{"$f":"Support!$B$3","v":"2019-08-15"},null,{"$f":"Main!$B$4","v":"Riverboat Rev Sharing 2019-08"},"AS",{"$f":"Main!$B$3","v":"Riverboat Rev Sharing 2019-08"},{"$f":"Support!$B$2","v":"2019-08-15"},192100.9,{"$f":"Main!E48","v":192100.9},{"$f":"Main!$B$3","v":"Riverboat Rev Sharing 2019-08"},{"$f":"Main!L48","v":"00050"},{"$f":"Main!N48","v":"562000"},{"$f":"Main!M48","v":37060},{"$f":"Main!O48","v":10000},{"$f":"Main!K48","v":"C39"},{"$f":"Support!$B$10","v":2020},{"$f":"Support!$B$4","v":"2019-08-15"},{"$f":"Main!P48","v":"007005"}]
[{"$f":"Support!I55","v":"050SD081519RRS0040"},{"$f":"Support!$B$1","v":"2019-08-15"},"EXT",168979.84,"ONL",{"$f":"Main!G49","v":"0000076144"},{"$f":"Main!H49","v":"REMIT001"},{"$f":"Main!I49","v":1},{"$f":"Main!J49","v":1},null,{"$f":"Support!$B$3","v":"2019-08-15"},null,{"$f":"Main!$B$4","v":"Riverboat Rev Sharing 2019-08"},"AS",{"$f":"Main!$B$3","v":"Riverboat Rev Sharing 2019-08"},{"$f":"Support!$B$2","v":"2019-08-15"},168979.84,{"$f":"Main!E49","v":168979.84},{"$f":"Main!$B$3","v":"Riverboat Rev Sharing 2019-08"},{"$f":"Main!L49","v":"00050"},{"$f":"Main!N49","v":"562000"},{"$f":"Main!M49","v":37060},{"$f":"Main!O49","v":10000},{"$f":"Main!K49","v":"C40"},{"$f":"Support!$B$10","v":2020},{"$f":"Support!$B$4","v":"2019-08-15"},{"$f":"Main!P49","v":"007005"}]
[{"$f":"Support!I56","v":"050SD081519RRS0041"},{"$f":"Support!$B$1","v":"2019-08-15"},"EXT",827299.22,"ONL",{"$f":"Main!G50","v":"0000077904"},{"$f":"Main!H50","v":"REMIT001"},{"$f":"Main!I50","v":1},{"$f":"Main!J50","v":1},null,{"$f":"Support!$B$3","v":"2019-08-15"},null,{"$f":"Main!$B$4","v":"Riverboat Rev Sharing 2019-08"},"AS",{"$f":"Main!$B$3","v":"Riverboat Rev Sharing 2019-08"},{"$f":"Support!$B$2","v":"2019-08-15"},827299.22,{"$f":"Main!E50","v":827299.22},{"$f":"Main!$B$3","v":"Riverboat Rev Sharing 2019-08"},{"$f":"Main!L50","v":"00050"},{"$f":"Main!N50","v":"562000"},{"$f":"Main!M50","v":37060},{"$f":"Main!O50","v":10000},{"$f":"Main!K50","v":"C41"},{"$f":"Support!$B$10","v":2020},{"$f":"Support!$B$4","v":"2019-08-15"},{"$f":"Main!P50","v":"007005"}]
[{"$f":"Support!I57","v":"050SD081519RRS0042"},{"$f":"Support!$B$1","v":"2019-08-15"},"EXT",227715.51,"ONL",{"$f":"Main!G51","v":"0000077216"},{"$f":"Main!H51","v":"REMIT001"},{"$f":"Main!I51","v":1},{"$f":"Main!J51","v":1},null,{"$f":"Support!$B$3","v":"2019-08-15"},null,{"$f":"Main!$B$4","v":"Riverboat Rev Sharing 2019-08"},"AS",{"$f":"Main!$B$3","v":"Riverboat Rev Sharing 2019-08"},{"$f":"Support!$B$2","v":"2019-08-15"},227715.51,{"$f":"Main!E51","v":227715.51},{"$f":"Main!$B$3","v":"Riverboat Rev Sharing 2019-08"},{"$f":"Main!L51","v":"00050"},{"$f":"Main!N51","v":"562000"},{"$f":"Main!M51","v":37060},{"$f":"Main!O51","v":10000},{"$f":"Main!K51","v":"C42"},{"$f":"Support!$B$10","v":2020},{"$f":"Support!$B$4","v":"2019-08-15"},{"$f":"Main!P51","v":"007005"}]
[{"$f":"Support!I58","v":"050SD081519RRS0043"},{"$f":"Support!$B$1","v":"2019-08-15"},"EXT",458262.66,"ONL",{"$f":"Main!G52","v":"0000075246"},{"$f":"Main!H52","v":"REMIT001"},{"$f":"Main!I52","v":1},{"$f":"Main!J52","v":1},null,{"$f":"Support!$B$3","v":"2019-08-15"},null,{"$f":"Main!$B$4","v":"Riverboat Rev Sharing 2019-08"},"AS",{"$f":"Main!$B$3","v":"Riverboat Rev Sharing 2019-08"},{"$f":"Support!$B$2","v":"2019-08-15"},458262.66,{"$f":"Main!E52","v":458262.66},{"$f":"Main!$B$3","v":"Riverboat Rev Sharing 2019-08"},{"$f":"Main!L52","v":"00050"},{"$f":"Main!N52","v":"562000"},{"$f":"Main!M52","v":37060},{"$f":"Main!O52","v":10000},{"$f":"Main!K52","v":"C43"},{"$f":"Support!$B$10","v":2020},{"$f":"Support!$B$4","v":"2019-08-15"},{"$f":"Main!P52","v":"007005"}]
[{"$f":"Support!I59","v":"050SD081519RRS0044"},{"$f":"Support!$B$1","v":"2019-08-15"},"EXT",219943.33,"ONL",{"$f":"Main!G53","v":"0000077908"},{"$f":"Main!H53","v":"REMIT001"},{"$f":"Main!I53","v":1},{"$f":"Main!J53","v":1},null,{"$f":"Support!$B$3","v":"2019-08-15"},null,{"$f":"Main!$B$4","v":"Riverboat Rev Sharing 2019-08"},"AS",{"$f":"Main!$B$3","v":"Riverboat Rev Sharing 2019-08"},{"$f":"Support!$B$2","v":"2019-08-15"},219943.33,{"$f":"Main!E53","v":219943.33},{"$f":"Main!$B$3","v":"Riverboat Rev Sharing 2019-08"},{"$f":"Main!L53","v":"00050"},{"$f":"Main!N53","v":"562000"},{"$f":"Main!M53","v":37060},{"$f":"Main!O53","v":10000},{"$f":"Main!K53","v":"C44"},{"$f":"Support!$B$10","v":2020},{"$f":"Support!$B$4","v":"2019-08-15"},{"$f":"Main!P53","v":"007005"}]
[{"$f":"Support!I60","v":"050SD081519RRS0045"},{"$f":"Support!$B$1","v":"2019-08-15"},"EXT",0,"ONL",{"$f":"Main!G54","v":"0000075244"},{"$f":"Main!H54","v":"REMIT001"},{"$f":"Main!I54","v":1},{"$f":"Main!J54","v":1},null,{"$f":"Support!$B$3","v":"2019-08-15"},null,{"$f":"Main!$B$4","v":"Riverboat Rev Sharing 2019-08"},"AS",{"$f":"Main!$B$3","v":"Riverboat Rev Sharing 2019-08"},{"$f":"Support!$B$2","v":"2019-08-15"},0,{"$f":"Main!E54","v":0},{"$f":"Main!$B$3","v":"Riverboat Rev Sharing 2019-08"},{"$f":"Main!L54","v":"00050"},{"$f":"Main!N54","v":"562000"},{"$f":"Main!M54","v":37060},{"$f":"Main!O54","v":10000},{"$f":"Main!K54","v":"C45"},{"$f":"Support!$B$10","v":2020},{"$f":"Support!$B$4","v":"2019-08-15"},{"$f":"Main!P54","v":"007005"}]
[{"$f":"Support!I61","v":"050SD081519RRS0046"},{"$f":"Support!$B$1","v":"2019-08-15"},"EXT",0,"ONL",{"$f":"Main!G55","v":"0000082973"},{"$f":"Main!H55","v":"REMIT001"},{"$f":"Main!I55","v":1},{"$f":"Main!J55","v":1},null,{"$f":"Support!$B$3","v":"2019-08-15"},null,{"$f":"Main!$B$4","v":"Riverboat Rev Sharing 2019-08"},"AS",{"$f":"Main!$B$3","v":"Riverboat Rev Sharing 2019-08"},{"$f":"Support!$B$2","v":"2019-08-15"},0,{"$f":"Main!E55","v":0},{"$f":"Main!$B$3","v":"Riverboat Rev Sharing 2019-08"},{"$f":"Main!L55","v":"00050"},{"$f":"Main!N55","v":"562000"},{"$f":"Main!M55","v":37060},{"$f":"Main!O55","v":10000},{"$f":"Main!K55","v":"C46"},{"$f":"Support!$B$10","v":2020},{"$f":"Support!$B$4","v":"2019-08-15"},{"$f":"Main!P55","v":"007005"}]
[{"$f":"Support!I62","v":"050SD081519RRS0047"},{"$f":"Support!$B$1","v":"2019-08-15"},"EXT",273294.15999999997,"ONL",{"$f":"Main!G56","v":"0000077084"},{"$f":"Main!H56","v":"REMIT001"},{"$f":"Main!I56","v":1},{"$f":"Main!J56","v":1},null,{"$f":"Support!$B$3","v":"2019-08-15"},null,{"$f":"Main!$B$4","v":"Riverboat Rev Sharing 2019-08"},"AS",{"$f":"Main!$B$3","v":"Riverboat Rev Sharing 2019-08"},{"$f":"Support!$B$2","v":"2019-08-15"},273294.15999999997,{"$f":"Main!E56","v":273294.15999999997},{"$f":"Main!$B$3","v":"Riverboat Rev Sharing 2019-08"},{"$f":"Main!L56","v":"00050"},{"$f":"Main!N56","v":"562000"},{"$f":"Main!M56","v":37060},{"$f":"Main!O56","v":10000},{"$f":"Main!K56","v":"C47"},{"$f":"Support!$B$10","v":2020},{"$f":"Support!$B$4","v":"2019-08-15"},{"$f":"Main!P56","v":"007005"}]
[{"$f":"Support!I63","v":"050SD081519RRS0048"},{"$f":"Support!$B$1","v":"2019-08-15"},"EXT",779801.23,"ONL",{"$f":"Main!G57","v":"0000075404"},{"$f":"Main!H57","v":"REMIT001"},{"$f":"Main!I57","v":1},{"$f":"Main!J57","v":1},null,{"$f":"Support!$B$3","v":"2019-08-15"},null,{"$f":"Main!$B$4","v":"Riverboat Rev Sharing 2019-08"},"AS",{"$f":"Main!$B$3","v":"Riverboat Rev Sharing 2019-08"},{"$f":"Support!$B$2","v":"2019-08-15"},779801.23,{"$f":"Main!E57","v":779801.23},{"$f":"Main!$B$3","v":"Riverboat Rev Sharing 2019-08"},{"$f":"Main!L57","v":"00050"},{"$f":"Main!N57","v":"562000"},{"$f":"Main!M57","v":37060},{"$f":"Main!O57","v":10000},{"$f":"Main!K57","v":"C48"},{"$f":"Support!$B$10","v":2020},{"$f":"Support!$B$4","v":"2019-08-15"},{"$f":"Main!P57","v":"007005"}]
[{"$f":"Support!I64","v":"050SD081519RRS0049"},{"$f":"Support!$B$1","v":"2019-08-15"},"EXT",5351628.49,"ONL",{"$f":"Main!G58","v":"0000076138"},{"$f":"Main!H58","v":"REMIT001"},{"$f":"Main!I58","v":1},{"$f":"Main!J58","v":1},null,{"$f":"Support!$B$3","v":"2019-08-15"},null,{"$f":"Main!$B$4","v":"Riverboat Rev Sharing 2019-08"},"AS",{"$f":"Main!$B$3","v":"Riverboat Rev Sharing 2019-08"},{"$f":"Support!$B$2","v":"2019-08-15"},5351628.49,{"$f":"Main!E58","v":5351628.49},{"$f":"Main!$B$3","v":"Riverboat Rev Sharing 2019-08"},{"$f":"Main!L58","v":"00050"},{"$f":"Main!N58","v":"562000"},{"$f":"Main!M58","v":37060},{"$f":"Main!O58","v":10000},{"$f":"Main!K58","v":"C49"},{"$f":"Support!$B$10","v":2020},{"$f":"Support!$B$4","v":"2019-08-15"},{"$f":"Main!P58","v":"007005"}]
[{"$f":"Support!I65","v":"050SD081519RRS0050"},{"$f":"Support!$B$1","v":"2019-08-15"},"EXT",278726.39,"ONL",{"$f":"Main!G59","v":"0000075755"},{"$f":"Main!H59","v":"REMIT001"},{"$f":"Main!I59","v":1},{"$f":"Main!J59","v":1},null,{"$f":"Support!$B$3","v":"2019-08-15"},null,{"$f":"Main!$B$4","v":"Riverboat Rev Sharing 2019-08"},"AS",{"$f":"Main!$B$3","v":"Riverboat Rev Sharing 2019-08"},{"$f":"Support!$B$2","v":"2019-08-15"},278726.39,{"$f":"Main!E59","v":278726.39},{"$f":"Main!$B$3","v":"Riverboat Rev Sharing 2019-08"},{"$f":"Main!L59","v":"00050"},{"$f":"Main!N59","v":"562000"},{"$f":"Main!M59","v":37060},{"$f":"Main!O59","v":10000},{"$f":"Main!K59","v":"C50"},{"$f":"Support!$B$10","v":2020},{"$f":"Support!$B$4","v":"2019-08-15"},{"$f":"Main!P59","v":"007005"}]
[{"$f":"Support!I66","v":"050SD081519RRS0051"},{"$f":"Support!$B$1","v":"2019-08-15"},"EXT",61217.8,"ONL",{"$f":"Main!G60","v":"0000082950"},{"$f":"Main!H60","v":"REMIT001"},{"$f":"Main!I60","v":1},{"$f":"Main!J60","v":1},null,{"$f":"Support!$B$3","v":"2019-08-15"},null,{"$f":"Main!$B$4","v":"Riverboat Rev Sharing 2019-08"},"AS",{"$f":"Main!$B$3","v":"Riverboat Rev Sharing 2019-08"},{"$f":"Support!$B$2","v":"2019-08-15"},61217.8,{"$f":"Main!E60","v":61217.8},{"$f":"Main!$B$3","v":"Riverboat Rev Sharing 2019-08"},{"$f":"Main!L60","v":"00050"},{"$f":"Main!N60","v":"562000"},{"$f":"Main!M60","v":37060},{"$f":"Main!O60","v":10000},{"$f":"Main!K60","v":"C51"},{"$f":"Support!$B$10","v":2020},{"$f":"Support!$B$4","v":"2019-08-15"},{"$f":"Main!P60","v":"007005"}]
[{"$f":"Support!I67","v":"050SD081519RRS0052"},{"$f":"Support!$B$1","v":"2019-08-15"},"EXT",218610.45,"ONL",{"$f":"Main!G61","v":"0000075197"},{"$f":"Main!H61","v":"REMIT001"},{"$f":"Main!I61","v":1},{"$f":"Main!J61","v":1},null,{"$f":"Support!$B$3","v":"2019-08-15"},null,{"$f":"Main!$B$4","v":"Riverboat Rev Sharing 2019-08"},"AS",{"$f":"Main!$B$3","v":"Riverboat Rev Sharing 2019-08"},{"$f":"Support!$B$2","v":"2019-08-15"},218610.45,{"$f":"Main!E61","v":218610.45},{"$f":"Main!$B$3","v":"Riverboat Rev Sharing 2019-08"},{"$f":"Main!L61","v":"00050"},{"$f":"Main!N61","v":"562000"},{"$f":"Main!M61","v":37060},{"$f":"Main!O61","v":10000},{"$f":"Main!K61","v":"C52"},{"$f":"Support!$B$10","v":2020},{"$f":"Support!$B$4","v":"2019-08-15"},{"$f":"Main!P61","v":"007005"}]
[{"$f":"Support!I68","v":"050SD081519RRS0053"},{"$f":"Support!$B$1","v":"2019-08-15"},"EXT",817347.03,"ONL",{"$f":"Main!G62","v":"0000082923"},{"$f":"Main!H62","v":"REMIT001"},{"$f":"Main!I62","v":1},{"$f":"Main!J62","v":1},null,{"$f":"Support!$B$3","v":"2019-08-15"},null,{"$f":"Main!$B$4","v":"Riverboat Rev Sharing 2019-08"},"AS",{"$f":"Main!$B$3","v":"Riverboat Rev Sharing 2019-08"},{"$f":"Support!$B$2","v":"2019-08-15"},817347.03,{"$f":"Main!E62","v":817347.03},{"$f":"Main!$B$3","v":"Riverboat Rev Sharing 2019-08"},{"$f":"Main!L62","v":"00050"},{"$f":"Main!N62","v":"562000"},{"$f":"Main!M62","v":37060},{"$f":"Main!O62","v":10000},{"$f":"Main!K62","v":"C53"},{"$f":"Support!$B$10","v":2020},{"$f":"Support!$B$4","v":"2019-08-15"},{"$f":"Main!P62","v":"007005"}]
[{"$f":"Support!I69","v":"050SD081519RRS0054"},{"$f":"Support!$B$1","v":"2019-08-15"},"EXT",225843.55,"ONL",{"$f":"Main!G63","v":"0000076687"},{"$f":"Main!H63","v":"REMIT001"},{"$f":"Main!I63","v":1},{"$f":"Main!J63","v":1},null,{"$f":"Support!$B$3","v":"2019-08-15"},null,{"$f":"Main!$B$4","v":"Riverboat Rev Sharing 2019-08"},"AS",{"$f":"Main!$B$3","v":"Riverboat Rev Sharing 2019-08"},{"$f":"Support!$B$2","v":"2019-08-15"},225843.55,{"$f":"Main!E63","v":225843.55},{"$f":"Main!$B$3","v":"Riverboat Rev Sharing 2019-08"},{"$f":"Main!L63","v":"00050"},{"$f":"Main!N63","v":"562000"},{"$f":"Main!M63","v":37060},{"$f":"Main!O63","v":10000},{"$f":"Main!K63","v":"C54"},{"$f":"Support!$B$10","v":2020},{"$f":"Support!$B$4","v":"2019-08-15"},{"$f":"Main!P63","v":"007005"}]
[{"$f":"Support!I70","v":"050SD081519RRS0055"},{"$f":"Support!$B$1","v":"2019-08-15"},"EXT",408122.59,"ONL",{"$f":"Main!G64","v":"0000077086"},{"$f":"Main!H64","v":"REMIT001"},{"$f":"Main!I64","v":1},{"$f":"Main!J64","v":1},null,{"$f":"Support!$B$3","v":"2019-08-15"},null,{"$f":"Main!$B$4","v":"Riverboat Rev Sharing 2019-08"},"AS",{"$f":"Main!$B$3","v":"Riverboat Rev Sharing 2019-08"},{"$f":"Support!$B$2","v":"2019-08-15"},408122.59,{"$f":"Main!E64","v":408122.59},{"$f":"Main!$B$3","v":"Riverboat Rev Sharing 2019-08"},{"$f":"Main!L64","v":"00050"},{"$f":"Main!N64","v":"562000"},{"$f":"Main!M64","v":37060},{"$f":"Main!O64","v":10000},{"$f":"Main!K64","v":"C55"},{"$f":"Support!$B$10","v":2020},{"$f":"Support!$B$4","v":"2019-08-15"},{"$f":"Main!P64","v":"007005"}]
[{"$f":"Support!I71","v":"050SD081519RRS0056"},{"$f":"Support!$B$1","v":"2019-08-15"},"EXT",84380.33,"ONL",{"$f":"Main!G65","v":"0000082924"},{"$f":"Main!H65","v":"REMIT001"},{"$f":"Main!I65","v":1},{"$f":"Main!J65","v":1},null,{"$f":"Support!$B$3","v":"2019-08-15"},null,{"$f":"Main!$B$4","v":"Riverboat Rev Sharing 2019-08"},"AS",{"$f":"Main!$B$3","v":"Riverboat Rev Sharing 2019-08"},{"$f":"Support!$B$2","v":"2019-08-15"},84380.33,{"$f":"Main!E65","v":84380.33},{"$f":"Main!$B$3","v":"Riverboat Rev Sharing 2019-08"},{"$f":"Main!L65","v":"00050"},{"$f":"Main!N65","v":"562000"},{"$f":"Main!M65","v":37060},{"$f":"Main!O65","v":10000},{"$f":"Main!K65","v":"C56"},{"$f":"Support!$B$10","v":2020},{"$f":"Support!$B$4","v":"2019-08-15"},{"$f":"Main!P65","v":"007005"}]
[{"$f":"Support!I72","v":"050SD081519RRS0057"},{"$f":"Support!$B$1","v":"2019-08-15"},"EXT",281599.49,"ONL",{"$f":"Main!G66","v":"0000082974"},{"$f":"Main!H66","v":"REMIT001"},{"$f":"Main!I66","v":1},{"$f":"Main!J66","v":1},null,{"$f":"Support!$B$3","v":"2019-08-15"},null,{"$f":"Main!$B$4","v":"Riverboat Rev Sharing 2019-08"},"AS",{"$f":"Main!$B$3","v":"Riverboat Rev Sharing 2019-08"},{"$f":"Support!$B$2","v":"2019-08-15"},281599.49,{"$f":"Main!E66","v":281599.49},{"$f":"Main!$B$3","v":"Riverboat Rev Sharing 2019-08"},{"$f":"Main!L66","v":"00050"},{"$f":"Main!N66","v":"562000"},{"$f":"Main!M66","v":37060},{"$f":"Main!O66","v":10000},{"$f":"Main!K66","v":"C57"},{"$f":"Support!$B$10","v":2020},{"$f":"Support!$B$4","v":"2019-08-15"},{"$f":"Main!P66","v":"007005"}]
[{"$f":"Support!I73","v":"050SD081519RRS0058"},{"$f":"Support!$B$1","v":"2019-08-15"},"EXT",0,"ONL",{"$f":"Main!G67","v":"0000075167"},{"$f":"Main!H67","v":"REMIT001"},{"$f":"Main!I67","v":1},{"$f":"Main!J67","v":1},null,{"$f":"Support!$B$3","v":"2019-08-15"},null,{"$f":"Main!$B$4","v":"Riverboat Rev Sharing 2019-08"},"AS",{"$f":"Main!$B$3","v":"Riverboat Rev Sharing 2019-08"},{"$f":"Support!$B$2","v":"2019-08-15"},0,{"$f":"Main!E67","v":0},{"$f":"Main!$B$3","v":"Riverboat Rev Sharing 2019-08"},{"$f":"Main!L67","v":"00050"},{"$f":"Main!N67","v":"562000"},{"$f":"Main!M67","v":37060},{"$f":"Main!O67","v":10000},{"$f":"Main!K67","v":"C58"},{"$f":"Support!$B$10","v":2020},{"$f":"Support!$B$4","v":"2019-08-15"},{"$f":"Main!P67","v":"007005"}]
[{"$f":"Support!I74","v":"050SD081519RRS0059"},{"$f":"Support!$B$1","v":"2019-08-15"},"EXT",0,"ONL",{"$f":"Main!G68","v":"0000082975"},{"$f":"Main!H68","v":"REMIT001"},{"$f":"Main!I68","v":1},{"$f":"Main!J68","v":1},null,{"$f":"Support!$B$3","v":"2019-08-15"},null,{"$f":"Main!$B$4","v":"Riverboat Rev Sharing 2019-08"},"AS",{"$f":"Main!$B$3","v":"Riverboat Rev Sharing 2019-08"},{"$f":"Support!$B$2","v":"2019-08-15"},0,{"$f":"Main!E68","v":0},{"$f":"Main!$B$3","v":"Riverboat Rev Sharing 2019-08"},{"$f":"Main!L68","v":"00050"},{"$f":"Main!N68","v":"562000"},{"$f":"Main!M68","v":37060},{"$f":"Main!O68","v":10000},{"$f":"Main!K68","v":"C59"},{"$f":"Support!$B$10","v":2020},{"$f":"Support!$B$4","v":"2019-08-15"},{"$f":"Main!P68","v":"007005"}]
[{"$f":"Support!I75","v":"050SD081519RRS0060"},{"$f":"Support!$B$1","v":"2019-08-15"},"EXT",127808.59,"ONL",{"$f":"Main!G69","v":"0000082976"},{"$f":"Main!H69","v":"REMIT001"},{"$f":"Main!I69","v":1},{"$f":"Main!J69","v":1},null,{"$f":"Support!$B$3","v":"2019-08-15"},null,{"$f":"Main!$B$4","v":"Riverboat Rev Sharing 2019-08"},"AS",{"$f":"Main!$B$3","v":"Riverboat Rev Sharing 2019-08"},{"$f":"Support!$B$2","v":"2019-08-15"},127808.59,{"$f":"Main!E69","v":127808.59},{"$f":"Main!$B$3","v":"Riverboat Rev Sharing 2019-08"},{"$f":"Main!L69","v":"00050"},{"$f":"Main!N69","v":"562000"},{"$f":"Main!M69","v":37060},{"$f":"Main!O69","v":10000},{"$f":"Main!K69","v":"C60"},{"$f":"Support!$B$10","v":2020},{"$f":"Support!$B$4","v":"2019-08-15"},{"$f":"Main!P69","v":"007005"}]
[{"$f":"Support!I76","v":"050SD081519RRS0061"},{"$f":"Support!$B$1","v":"2019-08-15"},"EXT",102714.86,"ONL",{"$f":"Main!G70","v":"0000075192"},{"$f":"Main!H70","v":"REMIT001"},{"$f":"Main!I70","v":1},{"$f":"Main!J70","v":1},null,{"$f":"Support!$B$3","v":"2019-08-15"},null,{"$f":"Main!$B$4","v":"Riverboat Rev Sharing 2019-08"},"AS",{"$f":"Main!$B$3","v":"Riverboat Rev Sharing 2019-08"},{"$f":"Support!$B$2","v":"2019-08-15"},102714.86,{"$f":"Main!E70","v":102714.86},{"$f":"Main!$B$3","v":"Riverboat Rev Sharing 2019-08"},{"$f":"Main!L70","v":"00050"},{"$f":"Main!N70","v":"562000"},{"$f":"Main!M70","v":37060},{"$f":"Main!O70","v":10000},{"$f":"Main!K70","v":"C61"},{"$f":"Support!$B$10","v":2020},{"$f":"Support!$B$4","v":"2019-08-15"},{"$f":"Main!P70","v":"007005"}]
[{"$f":"Support!I77","v":"050SD081519RRS0062"},{"$f":"Support!$B$1","v":"2019-08-15"},"EXT",114556.78,"ONL",{"$f":"Main!G71","v":"0000081432"},{"$f":"Main!H71","v":"REMIT001"},{"$f":"Main!I71","v":1},{"$f":"Main!J71","v":1},null,{"$f":"Support!$B$3","v":"2019-08-15"},null,{"$f":"Main!$B$4","v":"Riverboat Rev Sharing 2019-08"},"AS",{"$f":"Main!$B$3","v":"Riverboat Rev Sharing 2019-08"},{"$f":"Support!$B$2","v":"2019-08-15"},114556.78,{"$f":"Main!E71","v":114556.78},{"$f":"Main!$B$3","v":"Riverboat Rev Sharing 2019-08"},{"$f":"Main!L71","v":"00050"},{"$f":"Main!N71","v":"562000"},{"$f":"Main!M71","v":37060},{"$f":"Main!O71","v":10000},{"$f":"Main!K71","v":"C62"},{"$f":"Support!$B$10","v":2020},{"$f":"Support!$B$4","v":"2019-08-15"},{"$f":"Main!P71","v":"007005"}]
[{"$f":"Support!I78","v":"050SD081519RRS0063"},{"$f":"Support!$B$1","v":"2019-08-15"},"EXT",76092.759999999995,"ONL",{"$f":"Main!G72","v":"0000082977"},{"$f":"Main!H72","v":"REMIT001"},{"$f":"Main!I72","v":1},{"$f":"Main!J72","v":1},null,{"$f":"Support!$B$3","v":"2019-08-15"},null,{"$f":"Main!$B$4","v":"Riverboat Rev Sharing 2019-08"},"AS",{"$f":"Main!$B$3","v":"Riverboat Rev Sharing 2019-08"},{"$f":"Support!$B$2","v":"2019-08-15"},76092.759999999995,{"$f":"Main!E72","v":76092.759999999995},{"$f":"Main!$B$3","v":"Riverboat Rev Sharing 2019-08"},{"$f":"Main!L72","v":"00050"},{"$f":"Main!N72","v":"562000"},{"$f":"Main!M72","v":37060},{"$f":"Main!O72","v":10000},{"$f":"Main!K72","v":"C63"},{"$f":"Support!$B$10","v":2020},{"$f":"Support!$B$4","v":"2019-08-15"},{"$f":"Main!P72","v":"007005"}]
[{"$f":"Support!I79","v":"050SD081519RRS0064"},{"$f":"Support!$B$1","v":"2019-08-15"},"EXT",973554.9,"ONL",{"$f":"Main!G73","v":"0000082978"},{"$f":"Main!H73","v":"REMIT001"},{"$f":"Main!I73","v":1},{"$f":"Main!J73","v":1},null,{"$f":"Support!$B$3","v":"2019-08-15"},null,{"$f":"Main!$B$4","v":"Riverboat Rev Sharing 2019-08"},"AS",{"$f":"Main!$B$3","v":"Riverboat Rev Sharing 2019-08"},{"$f":"Support!$B$2","v":"2019-08-15"},973554.9,{"$f":"Main!E73","v":973554.9},{"$f":"Main!$B$3","v":"Riverboat Rev Sharing 2019-08"},{"$f":"Main!L73","v":"00050"},{"$f":"Main!N73","v":"562000"},{"$f":"Main!M73","v":37060},{"$f":"Main!O73","v":10000},{"$f":"Main!K73","v":"C64"},{"$f":"Support!$B$10","v":2020},{"$f":"Support!$B$4","v":"2019-08-15"},{"$f":"Main!P73","v":"007005"}]
[{"$f":"Support!I80","v":"050SD081519RRS0065"},{"$f":"Support!$B$1","v":"2019-08-15"},"EXT",153488.79,"ONL",{"$f":"Main!G74","v":"0000075465"},{"$f":"Main!H74","v":"REMIT001"},{"$f":"Main!I74","v":1},{"$f":"Main!J74","v":1},null,{"$f":"Support!$B$3","v":"2019-08-15"},null,{"$f":"Main!$B$4","v":"Riverboat Rev Sharing 2019-08"},"AS",{"$f":"Main!$B$3","v":"Riverboat Rev Sharing 2019-08"},{"$f":"Support!$B$2","v":"2019-08-15"},153488.79,{"$f":"Main!E74","v":153488.79},{"$f":"Main!$B$3","v":"Riverboat Rev Sharing 2019-08"},{"$f":"Main!L74","v":"00050"},{"$f":"Main!N74","v":"562000"},{"$f":"Main!M74","v":37060},{"$f":"Main!O74","v":10000},{"$f":"Main!K74","v":"C65"},{"$f":"Support!$B$10","v":2020},{"$f":"Support!$B$4","v":"2019-08-15"},{"$f":"Main!P74","v":"007005"}]
[{"$f":"Support!I81","v":"050SD081519RRS0066"},{"$f":"Support!$B$1","v":"2019-08-15"},"EXT",79392.39,"ONL",{"$f":"Main!G75","v":"0000075464"},{"$f":"Main!H75","v":"REMIT001"},{"$f":"Main!I75","v":1},{"$f":"Main!J75","v":1},null,{"$f":"Support!$B$3","v":"2019-08-15"},null,{"$f":"Main!$B$4","v":"Riverboat Rev Sharing 2019-08"},"AS",{"$f":"Main!$B$3","v":"Riverboat Rev Sharing 2019-08"},{"$f":"Support!$B$2","v":"2019-08-15"},79392.39,{"$f":"Main!E75","v":79392.39},{"$f":"Main!$B$3","v":"Riverboat Rev Sharing 2019-08"},{"$f":"Main!L75","v":"00050"},{"$f":"Main!N75","v":"562000"},{"$f":"Main!M75","v":37060},{"$f":"Main!O75","v":10000},{"$f":"Main!K75","v":"C66"},{"$f":"Support!$B$10","v":2020},{"$f":"Support!$B$4","v":"2019-08-15"},{"$f":"Main!P75","v":"007005"}]
[{"$f":"Support!I82","v":"050SD081519RRS0067"},{"$f":"Support!$B$1","v":"2019-08-15"},"EXT",224889.8,"ONL",{"$f":"Main!G76","v":"0000077906"},{"$f":"Main!H76","v":"REMIT001"},{"$f":"Main!I76","v":1},{"$f":"Main!J76","v":1},null,{"$f":"Support!$B$3","v":"2019-08-15"},null,{"$f":"Main!$B$4","v":"Riverboat Rev Sharing 2019-08"},"AS",{"$f":"Main!$B$3","v":"Riverboat Rev Sharing 2019-08"},{"$f":"Support!$B$2","v":"2019-08-15"},224889.8,{"$f":"Main!E76","v":224889.8},{"$f":"Main!$B$3","v":"Riverboat Rev Sharing 2019-08"},{"$f":"Main!L76","v":"00050"},{"$f":"Main!N76","v":"562000"},{"$f":"Main!M76","v":37060},{"$f":"Main!O76","v":10000},{"$f":"Main!K76","v":"C67"},{"$f":"Support!$B$10","v":2020},{"$f":"Support!$B$4","v":"2019-08-15"},{"$f":"Main!P76","v":"007005"}]
[{"$f":"Support!I83","v":"050SD081519RRS0068"},{"$f":"Support!$B$1","v":"2019-08-15"},"EXT",155034.93,"ONL",{"$f":"Main!G77","v":"0000075352"},{"$f":"Main!H77","v":"REMIT001"},{"$f":"Main!I77","v":1},{"$f":"Main!J77","v":1},null,{"$f":"Support!$B$3","v":"2019-08-15"},null,{"$f":"Main!$B$4","v":"Riverboat Rev Sharing 2019-08"},"AS",{"$f":"Main!$B$3","v":"Riverboat Rev Sharing 2019-08"},{"$f":"Support!$B$2","v":"2019-08-15"},155034.93,{"$f":"Main!E77","v":155034.93},{"$f":"Main!$B$3","v":"Riverboat Rev Sharing 2019-08"},{"$f":"Main!L77","v":"00050"},{"$f":"Main!N77","v":"562000"},{"$f":"Main!M77","v":37060},{"$f":"Main!O77","v":10000},{"$f":"Main!K77","v":"C68"},{"$f":"Support!$B$10","v":2020},{"$f":"Support!$B$4","v":"2019-08-15"},{"$f":"Main!P77","v":"007005"}]
[{"$f":"Support!I84","v":"050SD081519RRS0069"},{"$f":"Support!$B$1","v":"2019-08-15"},"EXT",170715.55,"ONL",{"$f":"Main!G78","v":"0000082979"},{"$f":"Main!H78","v":"REMIT001"},{"$f":"Main!I78","v":1},{"$f":"Main!J78","v":1},null,{"$f":"Support!$B$3","v":"2019-08-15"},null,{"$f":"Main!$B$4","v":"Riverboat Rev Sharing 2019-08"},"AS",{"$f":"Main!$B$3","v":"Riverboat Rev Sharing 2019-08"},{"$f":"Support!$B$2","v":"2019-08-15"},170715.55,{"$f":"Main!E78","v":170715.55},{"$f":"Main!$B$3","v":"Riverboat Rev Sharing 2019-08"},{"$f":"Main!L78","v":"00050"},{"$f":"Main!N78","v":"562000"},{"$f":"Main!M78","v":37060},{"$f":"Main!O78","v":10000},{"$f":"Main!K78","v":"C69"},{"$f":"Support!$B$10","v":2020},{"$f":"Support!$B$4","v":"2019-08-15"},{"$f":"Main!P78","v":"007005"}]
[{"$f":"Support!I85","v":"050SD081519RRS0070"},{"$f":"Support!$B$1","v":"2019-08-15"},"EXT",103028.83,"ONL",{"$f":"Main!G79","v":"0000077690"},{"$f":"Main!H79","v":"REMIT001"},{"$f":"Main!I79","v":1},{"$f":"Main!J79","v":1},null,{"$f":"Support!$B$3","v":"2019-08-15"},null,{"$f":"Main!$B$4","v":"Riverboat Rev Sharing 2019-08"},"AS",{"$f":"Main!$B$3","v":"Riverboat Rev Sharing 2019-08"},{"$f":"Support!$B$2","v":"2019-08-15"},103028.83,{"$f":"Main!E79","v":103028.83},{"$f":"Main!$B$3","v":"Riverboat Rev Sharing 2019-08"},{"$f":"Main!L79","v":"00050"},{"$f":"Main!N79","v":"562000"},{"$f":"Main!M79","v":37060},{"$f":"Main!O79","v":10000},{"$f":"Main!K79","v":"C70"},{"$f":"Support!$B$10","v":2020},{"$f":"Support!$B$4","v":"2019-08-15"},{"$f":"Main!P79","v":"007005"}]
[{"$f":"Support!I86","v":"050SD081519RRS0071"},{"$f":"Support!$B$1","v":"2019-08-15"},"EXT",1581278.08,"ONL",{"$f":"Main!G80","v":"0000082980"},{"$f":"Main!H80","v":"REMIT001"},{"$f":"Main!I80","v":1},{"$f":"Main!J80","v":1},null,{"$f":"Support!$B$3","v":"2019-08-15"},null,{"$f":"Main!$B$4","v":"Riverboat Rev Sharing 2019-08"},"AS",{"$f":"Main!$B$3","v":"Riverboat Rev Sharing 2019-08"},{"$f":"Support!$B$2","v":"2019-08-15"},1581278.08,{"$f":"Main!E80","v":1581278.08},{"$f":"Main!$B$3","v":"Riverboat Rev Sharing 2019-08"},{"$f":"Main!L80","v":"00050"},{"$f":"Main!N80","v":"562000"},{"$f":"Main!M80","v":37060},{"$f":"Main!O80","v":10000},{"$f":"Main!K80","v":"C71"},{"$f":"Support!$B$10","v":2020},{"$f":"Support!$B$4","v":"2019-08-15"},{"$f":"Main!P80","v":"007005"}]
[{"$f":"Support!I87","v":"050SD081519RRS0072"},{"$f":"Support!$B$1","v":"2019-08-15"},"EXT",143246.32999999999,"ONL",{"$f":"Main!G81","v":"0000075171"},{"$f":"Main!H81","v":"REMIT001"},{"$f":"Main!I81","v":1},{"$f":"Main!J81","v":1},null,{"$f":"Support!$B$3","v":"2019-08-15"},null,{"$f":"Main!$B$4","v":"Riverboat Rev Sharing 2019-08"},"AS",{"$f":"Main!$B$3","v":"Riverboat Rev Sharing 2019-08"},{"$f":"Support!$B$2","v":"2019-08-15"},143246.32999999999,{"$f":"Main!E81","v":143246.32999999999},{"$f":"Main!$B$3","v":"Riverboat Rev Sharing 2019-08"},{"$f":"Main!L81","v":"00050"},{"$f":"Main!N81","v":"562000"},{"$f":"Main!M81","v":37060},{"$f":"Main!O81","v":10000},{"$f":"Main!K81","v":"C72"},{"$f":"Support!$B$10","v":2020},{"$f":"Support!$B$4","v":"2019-08-15"},{"$f":"Main!P81","v":"007005"}]
[{"$f":"Support!I88","v":"050SD081519RRS0073"},{"$f":"Support!$B$1","v":"2019-08-15"},"EXT",263235.34000000003,"ONL",{"$f":"Main!G82","v":"0000076143"},{"$f":"Main!H82","v":"REMIT001"},{"$f":"Main!I82","v":1},{"$f":"Main!J82","v":1},null,{"$f":"Support!$B$3","v":"2019-08-15"},null,{"$f":"Main!$B$4","v":"Riverboat Rev Sharing 2019-08"},"AS",{"$f":"Main!$B$3","v":"Riverboat Rev Sharing 2019-08"},{"$f":"Support!$B$2","v":"2019-08-15"},263235.34000000003,{"$f":"Main!E82","v":263235.34000000003},{"$f":"Main!$B$3","v":"Riverboat Rev Sharing 2019-08"},{"$f":"Main!L82","v":"00050"},{"$f":"Main!N82","v":"562000"},{"$f":"Main!M82","v":37060},{"$f":"Main!O82","v":10000},{"$f":"Main!K82","v":"C73"},{"$f":"Support!$B$10","v":2020},{"$f":"Support!$B$4","v":"2019-08-15"},{"$f":"Main!P82","v":"007005"}]
[{"$f":"Support!I89","v":"050SD081519RRS0074"},{"$f":"Support!$B$1","v":"2019-08-15"},"EXT",124117.99,"ONL",{"$f":"Main!G83","v":"0000082981"},{"$f":"Main!H83","v":"REMIT001"},{"$f":"Main!I83","v":1},{"$f":"Main!J83","v":1},null,{"$f":"Support!$B$3","v":"2019-08-15"},null,{"$f":"Main!$B$4","v":"Riverboat Rev Sharing 2019-08"},"AS",{"$f":"Main!$B$3","v":"Riverboat Rev Sharing 2019-08"},{"$f":"Support!$B$2","v":"2019-08-15"},124117.99,{"$f":"Main!E83","v":124117.99},{"$f":"Main!$B$3","v":"Riverboat Rev Sharing 2019-08"},{"$f":"Main!L83","v":"00050"},{"$f":"Main!N83","v":"562000"},{"$f":"Main!M83","v":37060},{"$f":"Main!O83","v":10000},{"$f":"Main!K83","v":"C74"},{"$f":"Support!$B$10","v":2020},{"$f":"Support!$B$4","v":"2019-08-15"},{"$f":"Main!P83","v":"007005"}]
[{"$f":"Support!I90","v":"050SD081519RRS0075"},{"$f":"Support!$B$1","v":"2019-08-15"},"EXT",138400.56,"ONL",{"$f":"Main!G84","v":"0000075170"},{"$f":"Main!H84","v":"REMIT001"},{"$f":"Main!I84","v":1},{"$f":"Main!J84","v":1},null,{"$f":"Support!$B$3","v":"2019-08-15"},null,{"$f":"Main!$B$4","v":"Riverboat Rev Sharing 2019-08"},"AS",{"$f":"Main!$B$3","v":"Riverboat Rev Sharing 2019-08"},{"$f":"Support!$B$2","v":"2019-08-15"},138400.56,{"$f":"Main!E84","v":138400.56},{"$f":"Main!$B$3","v":"Riverboat Rev Sharing 2019-08"},{"$f":"Main!L84","v":"00050"},{"$f":"Main!N84","v":"562000"},{"$f":"Main!M84","v":37060},{"$f":"Main!O84","v":10000},{"$f":"Main!K84","v":"C75"},{"$f":"Support!$B$10","v":2020},{"$f":"Support!$B$4","v":"2019-08-15"},{"$f":"Main!P84","v":"007005"}]
[{"$f":"Support!I91","v":"050SD081519RRS0076"},{"$f":"Support!$B$1","v":"2019-08-15"},"EXT",202509.23,"ONL",{"$f":"Main!G85","v":"0000082982"},{"$f":"Main!H85","v":"REMIT001"},{"$f":"Main!I85","v":1},{"$f":"Main!J85","v":1},null,{"$f":"Support!$B$3","v":"2019-08-15"},null,{"$f":"Main!$B$4","v":"Riverboat Rev Sharing 2019-08"},"AS",{"$f":"Main!$B$3","v":"Riverboat Rev Sharing 2019-08"},{"$f":"Support!$B$2","v":"2019-08-15"},202509.23,{"$f":"Main!E85","v":202509.23},{"$f":"Main!$B$3","v":"Riverboat Rev Sharing 2019-08"},{"$f":"Main!L85","v":"00050"},{"$f":"Main!N85","v":"562000"},{"$f":"Main!M85","v":37060},{"$f":"Main!O85","v":10000},{"$f":"Main!K85","v":"C76"},{"$f":"Support!$B$10","v":2020},{"$f":"Support!$B$4","v":"2019-08-15"},{"$f":"Main!P85","v":"007005"}]
[{"$f":"Support!I92","v":"050SD081519RRS0077"},{"$f":"Support!$B$1","v":"2019-08-15"},"EXT",127216.2,"ONL",{"$f":"Main!G86","v":"0000079009"},{"$f":"Main!H86","v":"REMIT001"},{"$f":"Main!I86","v":1},{"$f":"Main!J86","v":1},null,{"$f":"Support!$B$3","v":"2019-08-15"},null,{"$f":"Main!$B$4","v":"Riverboat Rev Sharing 2019-08"},"AS",{"$f":"Main!$B$3","v":"Riverboat Rev Sharing 2019-08"},{"$f":"Support!$B$2","v":"2019-08-15"},127216.2,{"$f":"Main!E86","v":127216.2},{"$f":"Main!$B$3","v":"Riverboat Rev Sharing 2019-08"},{"$f":"Main!L86","v":"00050"},{"$f":"Main!N86","v":"562000"},{"$f":"Main!M86","v":37060},{"$f":"Main!O86","v":10000},{"$f":"Main!K86","v":"C77"},{"$f":"Support!$B$10","v":2020},{"$f":"Support!$B$4","v":"2019-08-15"},{"$f":"Main!P86","v":"007005"}]
[{"$f":"Support!I93","v":"050SD081519RRS0078"},{"$f":"Support!$B$1","v":"2019-08-15"},"EXT",0,"ONL",{"$f":"Main!G87","v":"0000075193"},{"$f":"Main!H87","v":"REMIT001"},{"$f":"Main!I87","v":1},{"$f":"Main!J87","v":1},null,{"$f":"Support!$B$3","v":"2019-08-15"},null,{"$f":"Main!$B$4","v":"Riverboat Rev Sharing 2019-08"},"AS",{"$f":"Main!$B$3","v":"Riverboat Rev Sharing 2019-08"},{"$f":"Support!$B$2","v":"2019-08-15"},0,{"$f":"Main!E87","v":0},{"$f":"Main!$B$3","v":"Riverboat Rev Sharing 2019-08"},{"$f":"Main!L87","v":"00050"},{"$f":"Main!N87","v":"562000"},{"$f":"Main!M87","v":37060},{"$f":"Main!O87","v":10000},{"$f":"Main!K87","v":"C78"},{"$f":"Support!$B$10","v":2020},{"$f":"Support!$B$4","v":"2019-08-15"},{"$f":"Main!P87","v":"007005"}]
[{"$f":"Support!I94","v":"050SD081519RRS0079"},{"$f":"Support!$B$1","v":"2019-08-15"},"EXT",1023535.02,"ONL",{"$f":"Main!G88","v":"0000079010"},{"$f":"Main!H88","v":"REMIT001"},{"$f":"Main!I88","v":1},{"$f":"Main!J88","v":1},null,{"$f":"Support!$B$3","v":"2019-08-15"},null,{"$f":"Main!$B$4","v":"Riverboat Rev Sharing 2019-08"},"AS",{"$f":"Main!$B$3","v":"Riverboat Rev Sharing 2019-08"},{"$f":"Support!$B$2","v":"2019-08-15"},1023535.02,{"$f":"Main!E88","v":1023535.02},{"$f":"Main!$B$3","v":"Riverboat Rev Sharing 2019-08"},{"$f":"Main!L88","v":"00050"},{"$f":"Main!N88","v":"562000"},{"$f":"Main!M88","v":37060},{"$f":"Main!O88","v":10000},{"$f":"Main!K88","v":"C79"},{"$f":"Support!$B$10","v":2020},{"$f":"Support!$B$4","v":"2019-08-15"},{"$f":"Main!P88","v":"007005"}]
[{"$f":"Support!I95","v":"050SD081519RRS0080"},{"$f":"Support!$B$1","v":"2019-08-15"},"EXT",94403.6,"ONL",{"$f":"Main!G89","v":"0000082983"},{"$f":"Main!H89","v":"REMIT001"},{"$f":"Main!I89","v":1},{"$f":"Main!J89","v":1},null,{"$f":"Support!$B$3","v":"2019-08-15"},null,{"$f":"Main!$B$4","v":"Riverboat Rev Sharing 2019-08"},"AS",{"$f":"Main!$B$3","v":"Riverboat Rev Sharing 2019-08"},{"$f":"Support!$B$2","v":"2019-08-15"},94403.6,{"$f":"Main!E89","v":94403.6},{"$f":"Main!$B$3","v":"Riverboat Rev Sharing 2019-08"},{"$f":"Main!L89","v":"00050"},{"$f":"Main!N89","v":"562000"},{"$f":"Main!M89","v":37060},{"$f":"Main!O89","v":10000},{"$f":"Main!K89","v":"C80"},{"$f":"Support!$B$10","v":2020},{"$f":"Support!$B$4","v":"2019-08-15"},{"$f":"Main!P89","v":"007005"}]
[{"$f":"Support!I96","v":"050SD081519RRS0081"},{"$f":"Support!$B$1","v":"2019-08-15"},"EXT",44524.19,"ONL",{"$f":"Main!G90","v":"0000082984"},{"$f":"Main!H90","v":"REMIT001"},{"$f":"Main!I90","v":1},{"$f":"Main!J90","v":1},null,{"$f":"Support!$B$3","v":"2019-08-15"},null,{"$f":"Main!$B$4","v":"Riverboat Rev Sharing 2019-08"},"AS",{"$f":"Main!$B$3","v":"Riverboat Rev Sharing 2019-08"},{"$f":"Support!$B$2","v":"2019-08-15"},44524.19,{"$f":"Main!E90","v":44524.19},{"$f":"Main!$B$3","v":"Riverboat Rev Sharing 2019-08"},{"$f":"Main!L90","v":"00050"},{"$f":"Main!N90","v":"562000"},{"$f":"Main!M90","v":37060},{"$f":"Main!O90","v":10000},{"$f":"Main!K90","v":"C81"},{"$f":"Support!$B$10","v":2020},{"$f":"Support!$B$4","v":"2019-08-15"},{"$f":"Main!P90","v":"007005"}]
[{"$f":"Support!I97","v":"050SD081519RRS0082"},{"$f":"Support!$B$1","v":"2019-08-15"},"EXT",0,"ONL",{"$f":"Main!G91","v":"0000076188"},{"$f":"Main!H91","v":"REMIT001"},{"$f":"Main!I91","v":1},{"$f":"Main!J91","v":1},null,{"$f":"Support!$B$3","v":"2019-08-15"},null,{"$f":"Main!$B$4","v":"Riverboat Rev Sharing 2019-08"},"AS",{"$f":"Main!$B$3","v":"Riverboat Rev Sharing 2019-08"},{"$f":"Support!$B$2","v":"2019-08-15"},0,{"$f":"Main!E91","v":0},{"$f":"Main!$B$3","v":"Riverboat Rev Sharing 2019-08"},{"$f":"Main!L91","v":"00050"},{"$f":"Main!N91","v":"562000"},{"$f":"Main!M91","v":37060},{"$f":"Main!O91","v":10000},{"$f":"Main!K91","v":"C82"},{"$f":"Support!$B$10","v":2020},{"$f":"Support!$B$4","v":"2019-08-15"},{"$f":"Main!P91","v":"007005"}]
[{"$f":"Support!I98","v":"050SD081519RRS0083"},{"$f":"Support!$B$1","v":"2019-08-15"},"EXT",96038.6,"ONL",{"$f":"Main!G92","v":"0000075194"},{"$f":"Main!H92","v":"REMIT001"},{"$f":"Main!I92","v":1},{"$f":"Main!J92","v":1},null,{"$f":"Support!$B$3","v":"2019-08-15"},null,{"$f":"Main!$B$4","v":"Riverboat Rev Sharing 2019-08"},"AS",{"$f":"Main!$B$3","v":"Riverboat Rev Sharing 2019-08"},{"$f":"Support!$B$2","v":"2019-08-15"},96038.6,{"$f":"Main!E92","v":96038.6},{"$f":"Main!$B$3","v":"Riverboat Rev Sharing 2019-08"},{"$f":"Main!L92","v":"00050"},{"$f":"Main!N92","v":"562000"},{"$f":"Main!M92","v":37060},{"$f":"Main!O92","v":10000},{"$f":"Main!K92","v":"C83"},{"$f":"Support!$B$10","v":2020},{"$f":"Support!$B$4","v":"2019-08-15"},{"$f":"Main!P92","v":"007005"}]
[{"$f":"Support!I99","v":"050SD081519RRS0084"},{"$f":"Support!$B$1","v":"2019-08-15"},"EXT",638883,"ONL",{"$f":"Main!G93","v":"0000082985"},{"$f":"Main!H93","v":"REMIT001"},{"$f":"Main!I93","v":1},{"$f":"Main!J93","v":1},null,{"$f":"Support!$B$3","v":"2019-08-15"},null,{"$f":"Main!$B$4","v":"Riverboat Rev Sharing 2019-08"},"AS",{"$f":"Main!$B$3","v":"Riverboat Rev Sharing 2019-08"},{"$f":"Support!$B$2","v":"2019-08-15"},638883,{"$f":"Main!E93","v":638883},{"$f":"Main!$B$3","v":"Riverboat Rev Sharing 2019-08"},{"$f":"Main!L93","v":"00050"},{"$f":"Main!N93","v":"562000"},{"$f":"Main!M93","v":37060},{"$f":"Main!O93","v":10000},{"$f":"Main!K93","v":"C84"},{"$f":"Support!$B$10","v":2020},{"$f":"Support!$B$4","v":"2019-08-15"},{"$f":"Main!P93","v":"007005"}]
[{"$f":"Support!I100","v":"050SD081519RRS0085"},{"$f":"Support!$B$1","v":"2019-08-15"},"EXT",194825.9,"ONL",{"$f":"Main!G94","v":"0000082986"},{"$f":"Main!H94","v":"REMIT001"},{"$f":"Main!I94","v":1},{"$f":"Main!J94","v":1},null,{"$f":"Support!$B$3","v":"2019-08-15"},null,{"$f":"Main!$B$4","v":"Riverboat Rev Sharing 2019-08"},"AS",{"$f":"Main!$B$3","v":"Riverboat Rev Sharing 2019-08"},{"$f":"Support!$B$2","v":"2019-08-15"},194825.9,{"$f":"Main!E94","v":194825.9},{"$f":"Main!$B$3","v":"Riverboat Rev Sharing 2019-08"},{"$f":"Main!L94","v":"00050"},{"$f":"Main!N94","v":"562000"},{"$f":"Main!M94","v":37060},{"$f":"Main!O94","v":10000},{"$f":"Main!K94","v":"C85"},{"$f":"Support!$B$10","v":2020},{"$f":"Support!$B$4","v":"2019-08-15"},{"$f":"Main!P94","v":"007005"}]
[{"$f":"Support!I101","v":"050SD081519RRS0086"},{"$f":"Support!$B$1","v":"2019-08-15"},"EXT",50400.72,"ONL",{"$f":"Main!G95","v":"0000075196"},{"$f":"Main!H95","v":"REMIT001"},{"$f":"Main!I95","v":1},{"$f":"Main!J95","v":1},null,{"$f":"Support!$B$3","v":"2019-08-15"},null,{"$f":"Main!$B$4","v":"Riverboat Rev Sharing 2019-08"},"AS",{"$f":"Main!$B$3","v":"Riverboat Rev Sharing 2019-08"},{"$f":"Support!$B$2","v":"2019-08-15"},50400.72,{"$f":"Main!E95","v":50400.72},{"$f":"Main!$B$3","v":"Riverboat Rev Sharing 2019-08"},{"$f":"Main!L95","v":"00050"},{"$f":"Main!N95","v":"562000"},{"$f":"Main!M95","v":37060},{"$f":"Main!O95","v":10000},{"$f":"Main!K95","v":"C86"},{"$f":"Support!$B$10","v":2020},{"$f":"Support!$B$4","v":"2019-08-15"},{"$f":"Main!P95","v":"007005"}]
[{"$f":"Support!I102","v":"050SD081519RRS0087"},{"$f":"Support!$B$1","v":"2019-08-15"},"EXT",353592.9,"ONL",{"$f":"Main!G96","v":"0000077907"},{"$f":"Main!H96","v":"REMIT001"},{"$f":"Main!I96","v":1},{"$f":"Main!J96","v":1},null,{"$f":"Support!$B$3","v":"2019-08-15"},null,{"$f":"Main!$B$4","v":"Riverboat Rev Sharing 2019-08"},"AS",{"$f":"Main!$B$3","v":"Riverboat Rev Sharing 2019-08"},{"$f":"Support!$B$2","v":"2019-08-15"},353592.9,{"$f":"Main!E96","v":353592.9},{"$f":"Main!$B$3","v":"Riverboat Rev Sharing 2019-08"},{"$f":"Main!L96","v":"00050"},{"$f":"Main!N96","v":"562000"},{"$f":"Main!M96","v":37060},{"$f":"Main!O96","v":10000},{"$f":"Main!K96","v":"C87"},{"$f":"Support!$B$10","v":2020},{"$f":"Support!$B$4","v":"2019-08-15"},{"$f":"Main!P96","v":"007005"}]
[{"$f":"Support!I103","v":"050SD081519RRS0088"},{"$f":"Support!$B$1","v":"2019-08-15"},"EXT",167421.85,"ONL",{"$f":"Main!G97","v":"0000082987"},{"$f":"Main!H97","v":"REMIT001"},{"$f":"Main!I97","v":1},{"$f":"Main!J97","v":1},null,{"$f":"Support!$B$3","v":"2019-08-15"},null,{"$f":"Main!$B$4","v":"Riverboat Rev Sharing 2019-08"},"AS",{"$f":"Main!$B$3","v":"Riverboat Rev Sharing 2019-08"},{"$f":"Support!$B$2","v":"2019-08-15"},167421.85,{"$f":"Main!E97","v":167421.85},{"$f":"Main!$B$3","v":"Riverboat Rev Sharing 2019-08"},{"$f":"Main!L97","v":"00050"},{"$f":"Main!N97","v":"562000"},{"$f":"Main!M97","v":37060},{"$f":"Main!O97","v":10000},{"$f":"Main!K97","v":"C88"},{"$f":"Support!$B$10","v":2020},{"$f":"Support!$B$4","v":"2019-08-15"},{"$f":"Main!P97","v":"007005"}]
[{"$f":"Support!I104","v":"050SD081519RRS0089"},{"$f":"Support!$B$1","v":"2019-08-15"},"EXT",408258.84,"ONL",{"$f":"Main!G98","v":"0000082952"},{"$f":"Main!H98","v":"REMIT001"},{"$f":"Main!I98","v":1},{"$f":"Main!J98","v":1},null,{"$f":"Support!$B$3","v":"2019-08-15"},null,{"$f":"Main!$B$4","v":"Riverboat Rev Sharing 2019-08"},"AS",{"$f":"Main!$B$3","v":"Riverboat Rev Sharing 2019-08"},{"$f":"Support!$B$2","v":"2019-08-15"},408258.84,{"$f":"Main!E98","v":408258.84},{"$f":"Main!$B$3","v":"Riverboat Rev Sharing 2019-08"},{"$f":"Main!L98","v":"00050"},{"$f":"Main!N98","v":"562000"},{"$f":"Main!M98","v":37060},{"$f":"Main!O98","v":10000},{"$f":"Main!K98","v":"C89"},{"$f":"Support!$B$10","v":2020},{"$f":"Support!$B$4","v":"2019-08-15"},{"$f":"Main!P98","v":"007005"}]
[{"$f":"Support!I105","v":"050SD081519RRS0090"},{"$f":"Support!$B$1","v":"2019-08-15"},"EXT",163713.47,"ONL",{"$f":"Main!G99","v":"0000082953"},{"$f":"Main!H99","v":"REMIT001"},{"$f":"Main!I99","v":1},{"$f":"Main!J99","v":1},null,{"$f":"Support!$B$3","v":"2019-08-15"},null,{"$f":"Main!$B$4","v":"Riverboat Rev Sharing 2019-08"},"AS",{"$f":"Main!$B$3","v":"Riverboat Rev Sharing 2019-08"},{"$f":"Support!$B$2","v":"2019-08-15"},163713.47,{"$f":"Main!E99","v":163713.47},{"$f":"Main!$B$3","v":"Riverboat Rev Sharing 2019-08"},{"$f":"Main!L99","v":"00050"},{"$f":"Main!N99","v":"562000"},{"$f":"Main!M99","v":37060},{"$f":"Main!O99","v":10000},{"$f":"Main!K99","v":"C90"},{"$f":"Support!$B$10","v":2020},{"$f":"Support!$B$4","v":"2019-08-15"},{"$f":"Main!P99","v":"007005"}]
[{"$f":"Support!I106","v":"050SD081519RRS0091"},{"$f":"Support!$B$1","v":"2019-08-15"},"EXT",145983.18,"ONL",{"$f":"Main!G100","v":"0000082954"},{"$f":"Main!H100","v":"REMIT001"},{"$f":"Main!I100","v":1},{"$f":"Main!J100","v":1},null,{"$f":"Support!$B$3","v":"2019-08-15"},null,{"$f":"Main!$B$4","v":"Riverboat Rev Sharing 2019-08"},"AS",{"$f":"Main!$B$3","v":"Riverboat Rev Sharing 2019-08"},{"$f":"Support!$B$2","v":"2019-08-15"},145983.18,{"$f":"Main!E100","v":145983.18},{"$f":"Main!$B$3","v":"Riverboat Rev Sharing 2019-08"},{"$f":"Main!L100","v":"00050"},{"$f":"Main!N100","v":"562000"},{"$f":"Main!M100","v":37060},{"$f":"Main!O100","v":10000},{"$f":"Main!K100","v":"C91"},{"$f":"Support!$B$10","v":2020},{"$f":"Support!$B$4","v":"2019-08-15"},{"$f":"Main!P100","v":"007005"}]
[{"$f":"Support!I107","v":"050SD081519RRS0092"},{"$f":"Support!$B$1","v":"2019-08-15"},"EXT",197219.15000000002,"ONL",{"$f":"Main!G101","v":"0000076691"},{"$f":"Main!H101","v":"REMIT001"},{"$f":"Main!I101","v":1},{"$f":"Main!J101","v":1},null,{"$f":"Support!$B$3","v":"2019-08-15"},null,{"$f":"Main!$B$4","v":"Riverboat Rev Sharing 2019-08"},"AS",{"$f":"Main!$B$3","v":"Riverboat Rev Sharing 2019-08"},{"$f":"Support!$B$2","v":"2019-08-15"},197219.15000000002,{"$f":"Main!E101","v":197219.15000000002},{"$f":"Main!$B$3","v":"Riverboat Rev Sharing 2019-08"},{"$f":"Main!L101","v":"00050"},{"$f":"Main!N101","v":"562000"},{"$f":"Main!M101","v":37060},{"$f":"Main!O101","v":10000},{"$f":"Main!K101","v":"C92"},{"$f":"Support!$B$10","v":2020},{"$f":"Support!$B$4","v":"2019-08-15"},{"$f":"Main!P101","v":"007005"}]

{"sheet":"County Population","index":5,"n_rows":98,"n_cols":2,"rows_kept":98,"cut":false,"hidden":true,"merged":[]}
["County",2010]
["Adams",34387]
["Allen",355329]
["Bartholomew",76794]
["Benton",8854]
["Blackford",12766]
["Boone",56640]
["Brown",15242]
["Carroll",20155]
["Cass",38966]
["Clark",110232]
["Clay",26890]
["Clinton",33224]
["Crawford",10713]
["Daviess",31648]
["Dearborn",50047]
["Decatur",25740]
["DeKalb",42223]
["Delaware",117671]
["Dubois",41889]
["Elkhart",197559]
["Fayette",24277]
["Floyd",74578]
["Fountain",17240]
["Franklin",23087]
["Fulton",20836]
["Gibson",33503]
["Grant",70061]
["Greene",33165]
["Hamilton",274569]
["Hancock",70002]
["Harrison",39364]
["Hendricks",145448]
["Henry",49462]
["Howard",82752]
["Huntington",37124]
["Jackson",42376]
["Jasper",33478]
["Jay",21253]
["Jefferson",32428]
["Jennings",28525]
["Johnson",139654]
["Knox",38440]
["Kosciusko",77358]
["LaGrange",37128]
["Lake",496005]
["LaPorte",111467]
["Lawrence",46134]
["Madison",131636]
["Marion",903393]
["Marshall",47051]
["Martin",10334]
["Miami",36903]
["Monroe",137974]
["Montgomery",38124]
["Morgan",68894]
["Newton",14244]
["Noble",47536]
["Ohio",6128]
["Orange",19840]
["Owen",21575]
["Parke",17339]
["Perry",19338]
["Pike",12845]
["Porter",164343]
["Posey",25910]
["Pulaski",13402]
["Putnam",37963]
["Randolph",26171]
["Ripley",28818]
["Rush",17392]
["St. Joseph",266931]
["Scott",24181]
["Shelby",44436]
["Spencer",20952]
["Starke",23363]
["Steuben",34185]
["Sullivan",21475]
["Switzerland",10613]
["Tippecanoe",172780]
["Tipton",15936]
["Union",7516]
["Vanderburgh",179703]
["Vermillion",16212]
["Vigo",107848]
["Wabash",32888]
["Warren",8508]
["Warrick",59689]
["Washington",28262]
["Wayne",68917]
["Wells",27636]
["White",24643]
["Whitley",33292]
[null,{"$f":"SUM(B2:B93)","v":6483802}]
[]
["Source: 2010 Census Data"]
[]
["http://www.stats.indiana.edu/population/PopTotals/historic_counts_counties.asp"]

{"sheet":"City-Town Population","index":6,"n_rows":596,"n_cols":7,"rows_kept":596,"cut":false,"hidden":true,"merged":[[0,0,0,7],[1,0,1,7],[3,0,3,7],[5,2,5,6],[590,0,592,10]]}
["Auditor of State"]
["Population Base Distribution "]
[]
["City/Town Populations  "]
[]
[null,null,"Adjusted 2010 Population "]
["City/Town",null,"2010 Census",null,"Adjustments",null,"Adjusted Population"]
["Advance town",null,477,null,null,null,{"$f":"SUM(C8:E8)","v":477}]
["Akron town",null,1167,null,null,null,1167]
["Alamo town",null,66,null,null,null,66]
["Albany town",null,2165,null,null,null,2165]
["Albion town",null,2349,null,null,null,2349]
["Alexandria city",null,5145,null,null,null,5145]
["Alfordsville town",null,101,null,null,null,101]
["Alton town",null,55,null,null,null,55]
["Altona town",null,197,null,null,null,197]
["Ambia town",null,239,null,null,null,239]
["Amboy town",null,384,null,null,null,384]
["Amo town",null,401,null,null,null,401]
["Anderson city",null,56129,null,null,null,56129]
["Andrews town",null,1149,null,null,null,1149]
["Angola city",null,8612,null,null,null,8612]
["Arcadia town",null,1666,null,null,null,1666]
["Argos town",null,1691,null,null,null,1691]
["Ashley town",null,983,null,null,null,983]
["Atlanta town",null,725,null,null,null,725]
["Attica city",null,3245,null,null,null,3245]
["Auburn Town",null,12731,null,null,null,12731]
["Aurora city",null,3750,null,null,null,3750]
["Austin city",null,4295,null,null,null,4295]
["Avilla town",null,2401,null,null,null,2401]
["Avon town",null,12446,null,null,null,12446]
["Bainbridge town",null,746,null,null,null,746]
["Bargersville town",null,4013,null,null,null,4013]
["Batesville city",null,6520,null,null,null,6520]
["Battle Ground town",null,1334,null,null,null,1334]
["Bedford city",null,13413,null,null,null,13413]
["Beech Grove city",null,14192,null,null,null,14192]
["Berne city",null,3999,null,null,null,3999]
["Bethany town",null,81,null,null,null,81]
["Beverly Shores town",null,613,null,null,null,613]
["Bicknell city",null,2915,null,null,null,2915]
["Birdseye town",null,416,null,null,null,416]
["Bloomfield town",null,2405,null,null,null,2405]
["Bloomingdale town",null,335,null,null,null,335]
["Bloomington city",null,80405,null,null,null,80405]
["Blountsville town",null,134,null,null,null,134]
["Bluffton city",null,9897,null,null,null,9897]
["Boonville city",null,6246,null,null,null,6246]
["Borden town",null,808,null,null,null,808]
["Boston town",null,138,null,null,null,138]
["Boswell town",null,778,null,null,null,778]
["Bourbon town",null,1810,null,null,null,1810]
["Brazil city",null,7912,null,null,null,7912]
["Bremen town",null,4588,null,null,null,4588]
["Bristol town",null,1602,null,null,null,1602]
["Brook town",null,997,null,null,null,997]
["Brooklyn town",null,1598,null,null,null,1598]
["Brooksburg town",null,81,null,null,null,81]
["Brookston town",null,1554,null,null,null,1554]
["Brookville town",null,2596,null,null,null,2596]
["Brownsburg town",null,21285,null,null,null,21285]
["Brownstown town",null,2947,null,null,null,2947]
["Bruceville town",null,478,null,null,null,478]
["Bryant town",null,252,null,null,null,252]
["Bunker Hill town",null,888,null,null,null,888]
["Burket town",null,195,null,null,null,195]
["Burlington town",null,603,null,null,null,603]
["Burnettsville town",null,346,null,null,null,346]
["Burns Harbor town",null,1156,null,null,null,1156]
["Butler city",null,2684,null,null,null,2684]
["Cadiz town",null,150,null,null,null,{"$f":"SUM(C72:E72)","v":150}]
["Cambridge City",null,1870,null,null,null,1870]
["Camden town",null,611,null,null,null,611]
["Campbellsburg town",null,585,null,null,null,585]
["Cannelburg town",null,135,null,null,null,135]
["Cannelton city",null,1563,null,null,null,1563]
["Carbon town",null,397,null,null,null,397]
["Carlisle town",null,692,null,null,null,692]
["Carmel city (1)(13)",null,79191,null,{"$f":"91648-79191","v":12457},null,91648]
["Carthage town",null,927,null,null,null,927]
["Cayuga town",null,1162,null,null,null,1162]
["Cedar Grove town",null,156,null,null,null,156]
["Cedar Lake town",null,11560,null,null,null,11560]
["Center Point town",null,242,null,null,null,242]
["Centerville town",null,2552,null,null,null,2552]
["Chalmers town",null,508,null,null,null,508]
["Chandler town",null,2887,null,null,null,2887]
["Charlestown city",null,7585,null,null,null,7585]
["Chesterfield town",null,2547,null,null,null,2547]
["Chesterton town",null,13068,null,null,null,13068]
["Chrisney town",null,481,null,null,null,481]
["Churubusco town",null,1796,null,null,null,1796]
["Cicero town",null,4812,null,null,null,4812]
["Clarks Hill town",null,611,null,null,null,611]
["Clarksville town",null,21724,null,null,null,21724]
["Clay City",null,861,null,null,null,861]
["Claypool town",null,431,null,null,null,431]
["Clayton town",null,972,null,null,null,972]
["Clear Lake town",null,339,null,null,null,339]
["Clermont town",null,1356,null,null,null,1356]
["Clifford town",null,233,null,null,null,233]
["Clinton city",null,4893,null,null,null,4893]
["Cloverdale town",null,2172,null,null,null,2172]
["Coatesville town",null,523,null,null,null,523]
["Colfax town",null,691,null,null,null,691]
["Columbia City",null,8750,null,null,null,8750]
["Columbus city",null,44061,null,null,null,44061]
["Connersville city",null,13481,null,null,null,13481]
["Converse town",null,1265,null,null,null,1265]
["Corunna town",null,254,null,null,null,254]
["Corydon town",null,3122,null,null,null,3122]
["Country Club Heights town",null,79,null,null,null,79]
["Covington city",null,2645,null,null,null,2645]
["Crandall town",null,152,null,null,null,152]
["Crane town",null,184,null,null,null,184]
["Crawfordsville city",null,15915,null,null,null,15915]
["Cromwell town",null,512,null,null,null,512]
["Crothersville town",null,1591,null,null,null,1591]
["Crown Point city",null,27317,null,null,null,27317]
["Crows Nest town",null,73,null,null,null,73]
["Culver town",null,1353,null,null,null,1353]
["Cumberland town",null,5169,null,null,null,5169]
["Cynthiana town",null,545,null,null,null,545]
["Dale town",null,1593,null,null,null,1593]
["Daleville town",null,1647,null,null,null,1647]
["Dana town",null,608,null,null,null,608]
["Danville town",null,9001,null,null,null,9001]
["Darlington town",null,843,null,null,null,843]
["Darmstadt town",null,1407,null,null,null,1407]
["Dayton town",null,1420,null,null,null,1420]
["De Motte town",null,3814,null,null,null,3814]
["Decatur city",null,9405,null,null,null,9405]
["Decker town",null,249,null,null,null,249]
["Delphi city",null,2893,null,null,null,2893]
["Denver town",null,482,null,null,null,{"$f":"SUM(C136:E136)","v":482}]
["Dillsboro town",null,1327,null,null,null,1327]
["Dublin town",null,790,null,null,null,790]
["Dugger town",null,920,null,null,null,920]
["Dune Acres town",null,182,null,null,null,182]
["Dunkirk city",null,2362,null,null,null,2362]
["Dunreith town",null,177,null,null,null,177]
["Dupont town",null,339,null,null,null,339]
["Dyer town",null,16390,null,null,null,16390]
["Earl Park town",null,348,null,null,null,348]
["East Chicago city",null,29698,null,null,null,29698]
["East Germantown town",null,410,null,null,null,410]
["Eaton town",null,1805,null,null,null,1805]
["Economy town",null,187,null,null,null,187]
["Edgewood town",null,1913,null,null,null,1913]
["Edinburgh town",null,4480,null,null,null,4480]
["Edwardsport town",null,303,null,null,null,303]
["Elberfeld town",null,625,null,null,null,625]
["Elizabeth town",null,162,null,null,null,162]
["Elizabethtown town",null,504,null,null,null,504]
["Elkhart city",null,50949,null,null,null,50949]
["Ellettsville town",null,6378,null,null,null,6378]
["Elnora town",null,640,null,null,null,640]
["Elwood city",null,8614,null,null,null,8614]
["English town",null,645,null,null,null,645]
["Etna Green town",null,586,null,null,null,586]
["Evansville city",null,117429,null,null,null,117429]
["Fairland town (12)",null,315,null,272,null,587]
["Fairmount town",null,2954,null,null,null,2954]
["Fairview Park town",null,1386,null,null,null,1386]
["Farmersburg town",null,1118,null,null,null,1118]
["Farmland town",null,1333,null,null,null,1333]
["Ferdinand town",null,2157,null,null,null,2157]
["Fillmore town",null,533,null,null,null,533]
["Fishers town (2)",null,76794,null,9665,null,86459]
["Flora town",null,2036,null,null,null,2036]
["Fort Branch town",null,2771,null,null,null,2771]
["Fort Wayne city (11)",null,253691,null,-2,null,253689]
["Fortville town",null,3929,null,null,null,3929]
["Fountain City",null,796,null,null,null,796]
["Fowler town",null,2317,null,null,null,2317]
["Fowlerton town",null,261,null,null,null,261]
["Francesville town",null,879,null,null,null,879]
["Francisco town",null,469,null,null,null,469]
["Frankfort city",null,16422,null,null,null,16422]
["Franklin city",null,23712,null,null,null,23712]
["Frankton town",null,1862,null,null,null,1862]
["Fredericksburg town (3)",null,85,null,-85,null,0]
["Fremont town",null,2138,null,null,null,2138]
["French Lick town",null,1807,null,null,null,1807]
["Fulton town",null,333,null,null,null,333]
["Galveston town",null,1311,null,null,null,1311]
["Garrett city",null,6286,null,null,null,6286]
["Gary city",null,80294,null,null,null,80294]
["Gas City (4)",null,5965,null,202,null,6167]
["Gaston town",null,871,null,null,null,871]
["Geneva town",null,1293,null,null,null,1293]
["Gentryville town",null,268,null,null,null,268]
["Georgetown town (Floyd County)",null,2876,null,null,null,2876]
["Glenwood town",null,250,null,null,null,250]
["Goodland town",null,1043,null,null,null,1043]
["Goshen city",null,31719,null,null,null,31719]
["Gosport town",null,826,null,null,null,826]
["Grabill town",null,1053,null,null,null,1053]
["Grandview town",null,749,null,null,null,{"$f":"SUM(C200:E200)","v":749}]
["Greencastle city",null,10326,null,null,null,10326]
["Greendale city",null,4520,null,null,null,4520]
["Greenfield city",null,20602,null,null,null,20602]
["Greens Fork town",null,423,null,null,null,423]
["Greensboro town",null,143,null,null,null,143]
["Greensburg city",null,11492,null,null,null,11492]
["Greentown town",null,2415,null,null,null,2415]
["Greenville town",null,595,null,null,null,595]
["Greenwood city",null,49791,null,null,null,49791]
["Griffin town",null,172,null,null,null,172]
["Griffith town",null,16893,null,null,null,16893]
["Hagerstown town",null,1787,null,null,null,1787]
["Hamilton town",null,1532,null,null,null,1532]
["Hamlet town",null,800,null,null,null,800]
["Hammond city",null,80830,null,null,null,80830]
["Hanover town",null,3546,null,null,null,3546]
["Hardinsburg town",null,248,null,null,null,248]
["Harmony town",null,656,null,null,null,656]
["Hartford City",null,6220,null,null,null,6220]
["Hartsville town",null,362,null,null,null,362]
["Haubstadt town",null,1577,null,null,null,1577]
["Hazleton town",null,263,null,null,null,263]
["Hebron town",null,3724,null,null,null,3724]
["Highland town",null,23727,null,null,null,23727]
["Hillsboro town",null,538,null,null,null,538]
["Hobart city",null,29059,null,null,null,29059]
["Holland town",null,626,null,null,null,626]
["Holton town",null,480,null,null,null,480]
["Homecroft town",null,722,null,null,null,722]
["Hope town",null,2102,null,null,null,2102]
["Hudson town",null,518,null,null,null,518]
["Huntertown town (10)",null,4810,null,{"$f":"6399-C232","v":1589},null,6399]
["Huntingburg city",null,6057,null,null,null,6057]
["Huntington city",null,17391,null,null,null,17391]
["Hymera town",null,801,null,null,null,801]
["Indian Village town",null,133,null,null,null,133]
["Indianapolis city (balance)",null,820445,null,null,null,820445]
["Ingalls town",null,2394,null,null,null,2394]
["Jamestown town",null,958,null,null,null,958]
["Jasonville city",null,2222,null,null,null,2222]
["Jasper city",null,15038,null,null,null,15038]
["Jeffersonville city",null,44953,null,null,null,44953]
["Jonesboro city",null,1756,null,null,null,1756]
["Jonesville town",null,177,null,null,null,177]
["Kempton town",null,335,null,null,null,335]
["Kendallville city",null,9862,null,null,null,9862]
["Kennard town",null,471,null,null,null,471]
["Kentland town",null,1748,null,null,null,1748]
["Kewanna town",null,613,null,null,null,613]
["Kingman town",null,511,null,null,null,511]
["Kingsbury town",null,242,null,null,null,242]
["Kingsford Heights town",null,1435,null,null,null,1435]
["Kirklin town",null,788,null,null,null,788]
["Knightstown town",null,2182,null,null,null,2182]
["Knightsville town",null,872,null,null,null,872]
["Knox city",null,3704,null,null,null,3704]
["Kokomo city (5)",null,45468,null,12594,null,58062]
["Kouts town",null,1879,null,null,null,1879]
["La Crosse town",null,551,null,null,null,551]
["La Fontaine town",null,875,null,null,null,875]
["La Paz town",null,561,null,null,null,561]
["La Porte city",null,22053,null,null,null,22053]
["Laconia town",null,50,null,null,null,50]
["Ladoga town",null,985,null,null,null,{"$f":"SUM(C264:E264)","v":985}]
["Lafayette city",null,67140,null,null,null,67140]
["Lagrange town",null,2625,null,null,null,2625]
["Lagro town",null,415,null,null,null,415]
["Lake Station city",null,12572,null,null,null,12572]
["Lakeville town",null,786,null,null,null,786]
["Lanesville town",null,564,null,null,null,564]
["Lapel town",null,2068,null,null,null,2068]
["Larwill town",null,283,null,null,null,283]
["Laurel town",null,512,null,null,null,512]
["Lawrence city",null,46001,null,null,null,46001]
["Lawrenceburg city",null,5042,null,null,null,5042]
["Leavenworth town",null,238,null,null,null,238]
["Lebanon city",null,15792,null,null,null,15792]
["Leesburg town",null,555,null,null,null,555]
["Leo-Cedarville town",null,3603,null,null,null,3603]
["Lewisville town",null,366,null,null,null,366]
["Liberty town",null,2133,null,null,null,2133]
["Ligonier city",null,4405,null,null,null,4405]
["Linden town",null,759,null,null,null,759]
["Linton city",null,5413,null,null,null,5413]
["Little York town",null,192,null,null,null,192]
["Livonia town",null,128,null,null,null,128]
["Lizton town",null,488,null,null,null,488]
["Logansport city (11)",null,18396,null,-130,null,18266]
["Long Beach town",null,1179,null,null,null,1179]
["Loogootee city",null,2751,null,null,null,2751]
["Losantville town",null,237,null,null,null,237]
["Lowell town",null,9276,null,null,null,9276]
["Lynn town",null,1097,null,null,null,1097]
["Lynnville town",null,888,null,null,null,888]
["Lyons town",null,742,null,null,null,742]
["Mackey town",null,106,null,null,null,106]
["Macy town",null,209,null,null,null,209]
["Madison city",null,11967,null,null,null,11967]
["Marengo town",null,828,null,null,null,828]
["Marion city (11)",null,29948,null,2,null,29950]
["Markle town",null,1095,null,null,null,1095]
["Markleville town",null,528,null,null,null,528]
["Marshall town",null,324,null,null,null,324]
["Martinsville city",null,11828,null,null,null,11828]
["Matthews town",null,596,null,null,null,596]
["Mauckport town",null,81,null,null,null,81]
["McCordsville town",null,4797,null,null,null,4797]
["Mecca town",null,335,null,null,null,335]
["Medaryville town",null,614,null,null,null,614]
["Medora town",null,693,null,null,null,693]
["Mellott town",null,197,null,null,null,197]
["Mentone town",null,1001,null,null,null,1001]
["Meridian Hills town",null,1616,null,null,null,1616]
["Merom town",null,228,null,null,null,228]
["Merrillville town",null,35246,null,null,null,35246]
["Michiana Shores town",null,313,null,null,null,313]
["Michigan City",null,31479,null,null,null,31479]
["Michigantown town",null,467,null,null,null,467]
["Middlebury town",null,3420,null,null,null,3420]
["Middletown town",null,2322,null,null,null,2322]
["Milan town",null,1899,null,null,null,1899]
["Milford town (Kosciusko Co.)",null,1562,null,null,null,1562]
["Millersburg town",null,903,null,null,null,903]
["Millhousen town",null,127,null,null,null,127]
["Milltown town",null,818,null,null,null,818]
["Milton town",null,490,null,null,null,490]
["Mishawaka city",null,48252,null,null,null,48252]
["Mitchell city",null,4350,null,null,null,{"$f":"SUM(C328:E328)","v":4350}]
["Modoc town",null,196,null,null,null,196]
["Monon town",null,1777,null,null,null,1777]
["Monroe City",null,545,null,null,null,545]
["Monroe town",null,842,null,null,null,842]
["Monroeville town",null,1235,null,null,null,1235]
["Monrovia town",null,1063,null,null,null,1063]
["Monterey town",null,218,null,null,null,218]
["Montezuma town",null,1022,null,null,null,1022]
["Montgomery town",null,343,null,null,null,343]
["Monticello city",null,5378,null,null,null,5378]
["Montpelier city",null,1805,null,null,null,1805]
["Mooreland town",null,375,null,null,null,375]
["Moores Hill town",null,597,null,null,null,597]
["Mooresville town",null,9326,null,null,null,9326]
["Morgantown town",null,986,null,null,null,986]
["Morocco town",null,1129,null,null,null,1129]
["Morristown town",null,1218,null,null,null,1218]
["Mount Auburn town",null,117,null,null,null,117]
["Mount Ayr town",null,122,null,null,null,122]
["Mount Carmel town",null,86,null,null,null,86]
["Mount Etna town",null,94,null,null,null,94]
["Mount Summit town",null,352,null,null,null,352]
["Mount Vernon city",null,6687,null,null,null,6687]
["Mulberry town",null,1254,null,null,null,1254]
["Muncie city",null,70085,null,null,null,70085]
["Munster town",null,23603,null,null,null,23603]
["Napoleon town",null,234,null,null,null,234]
["Nappanee city",null,6648,null,null,null,6648]
["Nashville town",null,803,null,null,null,803]
["New Albany city",null,36372,null,null,null,36372]
["New Amsterdam town",null,27,null,null,null,27]
["New Carlisle town",null,1861,null,null,null,1861]
["New Castle city",null,18114,null,null,null,18114]
["New Chicago town",null,2035,null,null,null,2035]
["New Harmony town",null,789,null,null,null,789]
["New Haven city",null,14794,null,null,null,14794]
["New Market town",null,636,null,null,null,636]
["New Middletown town",null,93,null,null,null,93]
["New Palestine town",null,2055,null,null,null,2055]
["New Pekin town",null,1401,null,null,null,1401]
["New Point town",null,331,null,null,null,331]
["New Richmond town",null,333,null,null,null,333]
["New Ross town",null,347,null,null,null,347]
["New Whiteland town",null,5472,null,null,null,5472]
["Newberry town",null,193,null,null,null,193]
["Newburgh town",null,3325,null,null,null,3325]
["Newport town",null,515,null,null,null,515]
["Newtown town",null,256,null,null,null,256]
["Noblesville city",null,51969,null,null,null,51969]
["North Crows Nest town",null,45,null,null,null,45]
["North Judson town",null,1772,null,null,null,1772]
["North Liberty town",null,1896,null,null,null,1896]
["North Manchester town",null,6112,null,null,null,6112]
["North Salem town",null,518,null,null,null,518]
["North Vernon city",null,6728,null,null,null,6728]
["North Webster town",null,1146,null,null,null,1146]
["Oakland City",null,2429,null,null,null,2429]
["Oaktown town",null,608,null,null,null,608]
["Odon town",null,1354,null,null,null,1354]
["Ogden Dunes town",null,1110,null,null,null,1110]
["Oldenburg town",null,674,null,null,null,674]
["Onward town",null,100,null,null,null,100]
["Oolitic town",null,1184,null,null,null,1184]
["Orestes town",null,414,null,null,null,{"$f":"SUM(C392:E392)","v":414}]
["Orland town",null,434,null,null,null,434]
["Orleans town",null,2142,null,null,null,2142]
["Osceola town",null,2463,null,null,null,2463]
["Osgood town",null,1624,null,null,null,1624]
["Ossian town",null,3289,null,null,null,3289]
["Otterbein town",null,1262,null,null,null,1262]
["Owensville town",null,1284,null,null,null,1284]
["Oxford town",null,1162,null,null,null,1162]
["Palmyra town",null,930,null,null,null,930]
["Paoli town",null,3677,null,null,null,3677]
["Paragon town",null,659,null,null,null,659]
["Parker City",null,1419,null,null,null,1419]
["Patoka town",null,735,null,null,null,735]
["Patriot town",null,209,null,null,null,209]
["Pendleton town",null,4253,null,null,null,4253]
["Pennville town",null,701,null,null,null,701]
["Perrysville town",null,456,null,null,null,456]
["Peru city",null,11417,null,null,null,11417]
["Petersburg city",null,2383,null,null,null,2383]
["Pierceton town",null,1015,null,null,null,1015]
["Pine Village town",null,217,null,null,null,217]
["Pittsboro town",null,2928,null,null,null,2928]
["Plainfield town",null,27631,null,null,null,27631]
["Plainville town",null,476,null,null,null,476]
["Plymouth city",null,10033,null,null,null,10033]
["Poneto town",null,166,null,null,null,166]
["Portage city",null,36828,null,null,null,36828]
["Porter town",null,4858,null,null,null,4858]
["Portland city",null,6223,null,null,null,6223]
["Poseyville town",null,1045,null,null,null,1045]
["Pottawattamie Park town",null,235,null,null,null,235]
["Princes Lakes town",null,1312,null,null,null,1312]
["Princeton city",null,8644,null,null,null,8644]
["Redkey town",null,1353,null,null,null,1353]
["Remington town",null,1185,null,null,null,1185]
["Rensselaer city",null,5859,null,null,null,5859]
["Reynolds town",null,533,null,null,null,533]
["Richland town",null,425,null,null,null,425]
["Richmond city",null,36812,null,null,null,36812]
["Ridgeville town",null,803,null,null,null,803]
["Riley town",null,221,null,null,null,221]
["Rising Sun city",null,2304,null,null,null,2304]
["River Forest town",null,22,null,null,null,22]
["Roachdale town",null,926,null,null,null,926]
["Roann town",null,479,null,null,null,479]
["Roanoke town",null,1722,null,null,null,1722]
["Rochester city",null,6218,null,null,null,6218]
["Rockport city",null,2270,null,null,null,2270]
["Rockville town",null,2607,null,null,null,2607]
["Rocky Ripple town",null,606,null,null,null,606]
["Rome City",null,1361,null,null,null,1361]
["Rosedale town",null,725,null,null,null,725]
["Roseland town",null,630,null,null,null,630]
["Rossville town",null,1653,null,null,null,1653]
["Royal Center town",null,861,null,null,null,861]
["Rushville city",null,6341,null,null,null,6341]
["Russellville town",null,358,null,null,null,358]
["Russiaville town",null,1094,null,null,null,1094]
["Salamonia town",null,157,null,null,null,157]
["Salem city",null,6319,null,null,null,6319]
["Saltillo town",null,92,null,null,null,92]
["Sandborn town",null,415,null,null,null,415]
["Santa Claus town",null,2481,null,null,null,2481]
["Saratoga town",null,254,null,null,null,{"$f":"SUM(C456:E456)","v":254}]
["Schererville town",null,29243,null,null,null,29243]
["Schneider town",null,277,null,null,null,277]
["Scottsburg city",null,6747,null,null,null,6747]
["Seelyville town",null,1029,null,null,null,1029]
["Sellersburg town",null,6128,null,null,null,6128]
["Selma town",null,866,null,null,null,866]
["Seymour city",null,17503,null,null,null,17503]
["Shadeland town",null,1610,null,null,null,1610]
["Shamrock Lakes town",null,231,null,null,null,231]
["Sharpsville town",null,607,null,null,null,607]
["Shelburn town",null,1252,null,null,null,1252]
["Shelbyville city",null,19191,null,null,null,19191]
["Sheridan town",null,2665,null,null,null,2665]
["Shipshewana town",null,658,null,null,null,658]
["Shirley town",null,830,null,null,null,830]
["Shoals town",null,756,null,null,null,756]
["Sidney town",null,83,null,null,null,83]
["Silver Lake town",null,915,null,null,null,915]
["Somerville town",null,293,null,null,null,293]
["South Bend city (11)",null,101168,null,-48,null,101120]
["South Whitley town",null,1751,null,null,null,1751]
["Southport city",null,1712,null,null,null,1712]
["Speedway town",null,11812,null,null,null,11812]
["Spencer town",null,2217,null,null,null,2217]
["Spiceland town",null,890,null,null,null,890]
["Spring Grove town",null,344,null,null,null,344]
["Spring Hill town",null,98,null,null,null,98]
["Spring Lake town",null,218,null,null,null,218]
["Springport town",null,149,null,null,null,149]
["Spurgeon town",null,207,null,null,null,207]
["St. Joe town",null,460,null,null,null,460]
["St. John town",null,14850,null,null,null,14850]
["St. Leon town",null,678,null,null,null,678]
["St. Paul town",null,1031,null,null,null,1031]
["State Line City",null,143,null,null,null,143]
["Staunton town",null,534,null,null,null,534]
["Stilesville town",null,316,null,null,null,316]
["Stinesville town",null,198,null,null,null,198]
["Straughn town",null,222,null,null,null,222]
["Sullivan city",null,4249,null,null,null,4249]
["Sulphur Springs town",null,399,null,null,null,399]
["Summitville town",null,967,null,null,null,967]
["Sunman town",null,1049,null,null,null,1049]
["Swayzee town",null,981,null,null,null,981]
["Sweetser town",null,1229,null,null,null,1229]
["Switz City",null,293,null,null,null,293]
["Syracuse town",null,2810,null,null,null,2810]
["Tell City",null,7272,null,null,null,7272]
["Tennyson town",null,279,null,null,null,279]
["Terre Haute city",null,60785,null,null,null,60785]
["Thorntown town",null,1520,null,null,null,1520]
["Tipton city",null,5106,null,null,null,5106]
["Topeka town",null,1153,null,null,null,1153]
["Town of Pines town",null,708,null,null,null,708]
["Trafalgar town",null,1101,null,null,null,1101]
["Trail Creek town",null,2052,null,null,null,2052]
["Troy town",null,385,null,null,null,385]
["Ulen town",null,117,null,null,null,117]
["Union City",null,3584,null,null,null,3584]
["Uniondale town",null,310,null,null,null,310]
["Universal town",null,362,null,null,null,362]
["Upland town",null,3845,null,null,null,3845]
["Utica town",null,776,null,null,null,776]
["Valparaiso city",null,31730,null,null,null,{"$f":"SUM(C520:E520)","v":31730}]
["Van Buren town",null,864,null,null,null,864]
["Veedersburg town",null,2180,null,null,null,2180]
["Vera Cruz town",null,80,null,null,null,80]
["Vernon town",null,318,null,null,null,318]
["Versailles town",null,2113,null,null,null,2113]
["Vevay town",null,1683,null,null,null,1683]
["Vincennes city",null,18423,null,null,null,18423]
["Wabash city",null,10666,null,null,null,10666]
["Wakarusa town",null,1758,null,null,null,1758]
["Walkerton town",null,2144,null,null,null,2144]
["Wallace town",null,105,null,null,null,105]
["Walton town",null,1049,null,null,null,1049]
["Wanatah town",null,1048,null,null,null,1048]
["Warren Park town",null,1480,null,null,null,1480]
["Warren town",null,1239,null,null,null,1239]
["Warsaw city",null,13559,null,null,null,13559]
["Washington city",null,11509,null,null,null,11509]
["Waterloo town",null,2242,null,null,null,2242]
["Waveland town",null,420,null,null,null,420]
["Waynetown town",null,958,null,null,null,958]
["West Baden Springs town",null,574,null,null,null,574]
["West College Corner town",null,676,null,null,null,676]
["West Harrison town",null,289,null,null,null,289]
["West Lafayette city (11)",null,29596,null,12414,null,42010]
["West Lebanon town",null,723,null,null,null,723]
["West Terre Haute town",null,2236,null,null,null,2236]
["Westfield town (7)",null,30068,null,{"$f":"36854-C547","v":6786},null,36854]
["Westport town",null,1379,null,null,null,1379]
["Westville town",null,5853,null,null,null,5853]
["Wheatfield town",null,853,null,null,null,853]
["Wheatland town",null,480,null,null,null,480]
["Whiteland town",null,4169,null,null,null,4169]
["Whitestown town (9)",null,2867,null,{"$f":"7814-C553","v":4947},null,7814]
["Whitewater town",null,83,null,null,null,83]
["Whiting city",null,4997,null,null,null,4997]
["Wilkinson town",null,449,null,null,null,449]
["Williams Creek town",null,407,null,null,null,407]
["Williamsport town",null,1898,null,null,null,1898]
["Winamac town",null,2490,null,null,null,2490]
["Winchester city",null,4935,null,null,null,4935]
["Windfall City",null,708,null,null,null,708]
["Winfield town",null,4383,null,null,null,4383]
["Wingate town",null,263,null,null,null,263]
["Winona Lake town",null,4908,null,null,null,4908]
["Winslow town",null,864,null,null,null,864]
["Wolcott town",null,1001,null,null,null,1001]
["Wolcottville town",null,998,null,null,null,998]
["Woodburn city",null,1520,null,null,null,1520]
["Woodlawn Heights town",null,79,null,null,null,79]
["Worthington town",null,1463,null,null,null,1463]
["Wynnedale town",null,231,null,null,null,231]
["Yeoman town",null,139,null,null,null,139]
["Yorktown town",null,9405,null,null,null,9405]
["Zanesville town",null,600,null,null,null,600]
["Zionsville town (8)",null,14160,null,9373,null,23533]
[]
["(1) Per State of Indiana Executive Order 16-90 information from the US Census Bureau increased the population for the unit. "]
["(2) Per State of Indiana Executive Order 16-05 information from the US Census Bureau increased the population for the unit. "]
["(3) Per Ordinance No. 2012-03 Town of Fredericksburg has been dissolved. "]
["(4) Per State of Indiana Executive Order 15-10 information from the US Census Bureau increased the population for the unit. "]
["(5) Per State of Indiana Executive Order 15-11 information from the US Census Bureau increased the population for the unit. "]
["(6) Per State of Indiana Executive Order 16-04 information from the US Census Bureau increased the population for the unit. "]
["(7) Per State of Indiana Executive Order 16-04 information from the US Census Bureau increased the population for the unit. "]
["(8) Per State of Indiana Executive Order 16-07 information from the US Census Bureau increased the population for the unit. "]
["(9) Per State of Indiana Executive Order 17-19 information from the US Census Bureau increased the population for the unit. "]
["(10) Per State of Indiana Executive Order 17-30 information from the US Census Bureau increased the population for the unit. "]
["(11) Adjustment is due to population correction that occurred within first three of release of 2010 census"]
["(12) Per State of Indiana Executive Order 18-08 information from the US Census Bureau increased the population for the unit."]
["(13) Per State of Indiana Executive Order 18-10 information from the US Census Bureau incread the population for the unit."]
[]
["NOTE: Only the 2010 Census populations and adjustments due to correction were used in the report for Calculation of Riverboat Wagering Tax Revenue Sharing Distribution. Any increases due to executive orders were discarded. "]
[]
[]
[]
["Source: 2010 Census Data"]
["http://www.stats.indiana.edu/population/PopTotals/historic_counts_cities.asp"]

{"sheet":"Review","index":7,"n_rows":570,"n_cols":9,"rows_kept":570,"cut":false,"hidden":true,"merged":[[0,1,0,2],[0,4,0,5]]}
[null,"33 Million Report",null,null,"City-Town Population (adjusted balance)"]
[null,"City/Town","Population",null,"Population","City/Town",null,"Variance","Detail"]
[{"$f":"'Website Report'!C53","v":"City/Town"},{"$f":"'Website Report'!E53","v":"ADVANCE "},{"$f":"'Website Report'!G53","v":477},null,{"$f":"'City-Town Population'!G8","v":477},{"$f":"'City-Town Population'!A8","v":"Advance town"},null,{"$f":"E3-C3","v":0}]
[{"$f":"'Website Report'!C209","v":"City/Town"},{"$f":"'Website Report'!E209","v":"AKRON "},{"$f":"'Website Report'!G209","v":1167},null,{"$f":"'City-Town Population'!G9","v":1167},{"$f":"'City-Town Population'!A9","v":"Akron town"},null,0]
[{"$f":"'Website Report'!C479","v":"City/Town"},{"$f":"'Website Report'!E479","v":"ALAMO "},{"$f":"'Website Report'!G479","v":66},null,{"$f":"'City-Town Population'!G10","v":66},{"$f":"'City-Town Population'!A10","v":"Alamo town"},null,0]
[{"$f":"'Website Report'!C149","v":"City/Town"},{"$f":"'Website Report'!E149","v":"ALBANY "},{"$f":"'Website Report'!G149","v":1961},null,{"$f":"'City-Town Population'!G11","v":2165},{"$f":"'City-Town Population'!A11","v":"Albany town"},null,204,"Variance is due to City/Town being located in multiple taxing districtcs. "]
[{"$f":"'Website Report'!C511","v":"City/Town"},{"$f":"'Website Report'!E511","v":"ALBION "},{"$f":"'Website Report'!G511","v":2349},null,{"$f":"'City-Town Population'!G12","v":2349},{"$f":"'City-Town Population'!A12","v":"Albion town"},null,0]
[{"$f":"'Website Report'!C412","v":"City/Town"},{"$f":"'Website Report'!E412","v":"ALEXANDRIA "},{"$f":"'Website Report'!G412","v":5145},null,{"$f":"'City-Town Population'!G13","v":5145},{"$f":"'City-Town Population'!A13","v":"Alexandria city"},null,0]
[{"$f":"'Website Report'!C119","v":"City/Town"},{"$f":"'Website Report'!E119","v":"ALFORDSVILLE "},{"$f":"'Website Report'!G119","v":101},null,{"$f":"'City-Town Population'!G14","v":101},{"$f":"'City-Town Population'!A14","v":"Alfordsville town"},null,0]
[{"$f":"'Website Report'!C111","v":"City/Town"},{"$f":"'Website Report'!E111","v":"ALTON "},{"$f":"'Website Report'!G111","v":55},null,{"$f":"'City-Town Population'!G15","v":55},{"$f":"'City-Town Population'!A15","v":"Alton town"},null,0]
[{"$f":"'Website Report'!C137","v":"City/Town"},{"$f":"'Website Report'!E137","v":"ALTONA "},{"$f":"'Website Report'!G137","v":197},null,{"$f":"'City-Town Population'!G16","v":197},{"$f":"'City-Town Population'!A16","v":"Altona town"},null,0]
[{"$f":"'Website Report'!C37","v":"City/Town"},{"$f":"'Website Report'!E37","v":"AMBIA "},{"$f":"'Website Report'!G37","v":239},null,{"$f":"'City-Town Population'!G17","v":239},{"$f":"'City-Town Population'!A17","v":"Ambia town"},null,0]
[{"$f":"'Website Report'!C464","v":"City/Town"},{"$f":"'Website Report'!E464","v":"AMBOY "},{"$f":"'Website Report'!G464","v":384},null,{"$f":"'City-Town Population'!G18","v":384},{"$f":"'City-Town Population'!A18","v":"Amboy town"},null,0]
[{"$f":"'Website Report'!C275","v":"City/Town"},{"$f":"'Website Report'!E275","v":"AMO "},{"$f":"'Website Report'!G275","v":401},null,{"$f":"'City-Town Population'!G19","v":401},{"$f":"'City-Town Population'!A19","v":"Amo town"},null,0]
[{"$f":"'Website Report'!C413","v":"City/Town"},{"$f":"'Website Report'!E413","v":"ANDERSON "},{"$f":"'Website Report'!G413","v":56129},null,{"$f":"'City-Town Population'!G20","v":56129},{"$f":"'City-Town Population'!A20","v":"Anderson city"},null,0]
[{"$f":"'Website Report'!C315","v":"City/Town"},{"$f":"'Website Report'!E315","v":"ANDREWS "},{"$f":"'Website Report'!G315","v":1149},null,{"$f":"'City-Town Population'!G21","v":1149},{"$f":"'City-Town Population'!A21","v":"Andrews town"},null,0]
[{"$f":"'Website Report'!C656","v":"City/Town"},{"$f":"'Website Report'!E656","v":"ANGOLA "},{"$f":"'Website Report'!G656","v":8612},null,{"$f":"'City-Town Population'!G22","v":8612},{"$f":"'City-Town Population'!A22","v":"Angola city"},null,0]
[{"$f":"'Website Report'!C253","v":"City/Town"},{"$f":"'Website Report'!E253","v":"ARCADIA "},{"$f":"'Website Report'!G253","v":1666},null,{"$f":"'City-Town Population'!G23","v":1666},{"$f":"'City-Town Population'!A23","v":"Arcadia town"},null,0]
[{"$f":"'Website Report'!C449","v":"City/Town"},{"$f":"'Website Report'!E449","v":"ARGOS "},{"$f":"'Website Report'!G449","v":1691},null,{"$f":"'City-Town Population'!G24","v":1691},{"$f":"'City-Town Population'!A24","v":"Argos town"},null,0]
[{"$f":"'Website Report'!C138","v":"City/Town"},{"$f":"'Website Report'!E138","v":"ASHLEY "},{"$f":"'Website Report'!G138","v":644},null,{"$f":"'City-Town Population'!G25","v":983},{"$f":"'City-Town Population'!A25","v":"Ashley town"},null,339,"Variance is due to City/Town being located in multiple taxing districtcs. "]
[{"$f":"'Website Report'!C254","v":"City/Town"},{"$f":"'Website Report'!E254","v":"ATLANTA "},{"$f":"'Website Report'!G254","v":725},null,{"$f":"'City-Town Population'!G26","v":725},{"$f":"'City-Town Population'!A26","v":"Atlanta town"},null,0]
[{"$f":"'Website Report'!C189","v":"City/Town"},{"$f":"'Website Report'!E189","v":"ATTICA "},{"$f":"'Website Report'!G189","v":3245},null,{"$f":"'City-Town Population'!G27","v":3245},{"$f":"'City-Town Population'!A27","v":"Attica city"},null,0]
[{"$f":"'Website Report'!C139","v":"City/Town"},{"$f":"'Website Report'!E139","v":"AUBURN "},{"$f":"'Website Report'!G139","v":12731},null,{"$f":"'City-Town Population'!G28","v":12731},{"$f":"'City-Town Population'!A28","v":"Auburn Town"},null,0]
[null,"Blank",null,null,{"$f":"'City-Town Population'!G29","v":3750},{"$f":"'City-Town Population'!A29","v":"Aurora city"},null,3750,"Dearborn County - Does not receive riverboat sharing"]
[{"$f":"'Website Report'!C626","v":"City/Town"},{"$f":"'Website Report'!E626","v":"AUSTIN "},{"$f":"'Website Report'!G626","v":4295},null,{"$f":"'City-Town Population'!G30","v":4295},{"$f":"'City-Town Population'!A30","v":"Austin city"},null,0]
[{"$f":"'Website Report'!C512","v":"City/Town"},{"$f":"'Website Report'!E512","v":"AVILLA "},{"$f":"'Website Report'!G512","v":2401},null,{"$f":"'City-Town Population'!G31","v":2401},{"$f":"'City-Town Population'!A31","v":"Avilla town"},null,0]
[{"$f":"'Website Report'!C276","v":"City/Town"},{"$f":"'Website Report'!E276","v":"AVON "},{"$f":"'Website Report'!G276","v":12446},null,{"$f":"'City-Town Population'!G32","v":12446},{"$f":"'City-Town Population'!A32","v":"Avon town"},null,0]
[{"$f":"'Website Report'!C576","v":"City/Town"},{"$f":"'Website Report'!E576","v":"BAINBRIDGE "},{"$f":"'Website Report'!G576","v":746},null,{"$f":"'City-Town Population'!G33","v":746},{"$f":"'City-Town Population'!A33","v":"Bainbridge town"},null,0]
[{"$f":"'Website Report'!C359","v":"City/Town"},{"$f":"'Website Report'!E359","v":"BARGERSVILLE "},{"$f":"'Website Report'!G359","v":4013},null,{"$f":"'City-Town Population'!G34","v":4013},{"$f":"'City-Town Population'!A34","v":"Bargersville town"},null,0]
[{"$f":"'Website Report'!C200","v":"City/Town"},{"$f":"'Website Report'!E200","v":"BATESVILLE "},{"$f":"'Website Report'!G200","v":1639},null,{"$f":"'City-Town Population'!G35","v":6520},{"$f":"'City-Town Population'!A35","v":"Batesville city"},null,4881,"Variance is due to City/Town being located in multiple taxing districtcs. "]
[{"$f":"'Website Report'!C676","v":"City/Town"},{"$f":"'Website Report'!E676","v":"BATTLE GROUND "},{"$f":"'Website Report'!G676","v":1334},null,{"$f":"'City-Town Population'!G36","v":1334},{"$f":"'City-Town Population'!A36","v":"Battle Ground town"},null,0]
[{"$f":"'Website Report'!C406","v":"City/Town"},{"$f":"'Website Report'!E406","v":"BEDFORD "},{"$f":"'Website Report'!G406","v":13413},null,{"$f":"'City-Town Population'!G37","v":13413},{"$f":"'City-Town Population'!A37","v":"Bedford city"},null,0]
[{"$f":"'Website Report'!C431","v":"City/Town"},{"$f":"'Website Report'!E431","v":"BEECH GROVE "},{"$f":"'Website Report'!G431","v":14192},null,{"$f":"'City-Town Population'!G38","v":14192},{"$f":"'City-Town Population'!A38","v":"Beech Grove city"},null,0]
[{"$f":"'Website Report'!C9","v":"City/Town"},{"$f":"'Website Report'!E9","v":"BERNE"},{"$f":"'Website Report'!G9","v":3999},null,{"$f":"'City-Town Population'!G39","v":3999},{"$f":"'City-Town Population'!A39","v":"Berne city"},null,0]
[{"$f":"'Website Report'!C493","v":"City/Town"},{"$f":"'Website Report'!E493","v":"BETHANY "},{"$f":"'Website Report'!G493","v":81},null,{"$f":"'City-Town Population'!G40","v":81},{"$f":"'City-Town Population'!A40","v":"Bethany town"},null,0]
[{"$f":"'Website Report'!C547","v":"City/Town"},{"$f":"'Website Report'!E547","v":"BEVERLY SHORES "},{"$f":"'Website Report'!G547","v":613},null,{"$f":"'City-Town Population'!G41","v":613},{"$f":"'City-Town Population'!A41","v":"Beverly Shores town"},null,0]
[{"$f":"'Website Report'!C370","v":"City/Town"},{"$f":"'Website Report'!E370","v":"BICKNELL "},{"$f":"'Website Report'!G370","v":2915},null,{"$f":"'City-Town Population'!G42","v":2915},{"$f":"'City-Town Population'!A42","v":"Bicknell city"},null,0]
[{"$f":"'Website Report'!C160","v":"City/Town"},{"$f":"'Website Report'!E160","v":"BIRDSEYE "},{"$f":"'Website Report'!G160","v":416},null,{"$f":"'City-Town Population'!G43","v":416},{"$f":"'City-Town Population'!A43","v":"Birdseye town"},null,0]
[{"$f":"'Website Report'!C243","v":"City/Town"},{"$f":"'Website Report'!E243","v":"BLOOMFIELD "},{"$f":"'Website Report'!G243","v":2405},null,{"$f":"'City-Town Population'!G44","v":2405},{"$f":"'City-Town Population'!A44","v":"Bloomfield town"},null,0]
[{"$f":"'Website Report'!C526","v":"City/Town"},{"$f":"'Website Report'!E526","v":"BLOOMINGDALE"},{"$f":"'Website Report'!G526","v":335},null,{"$f":"'City-Town Population'!G45","v":335},{"$f":"'City-Town Population'!A45","v":"Bloomingdale town"},null,0]
[{"$f":"'Website Report'!C473","v":"City/Town"},{"$f":"'Website Report'!E473","v":"BLOOMINGTON "},{"$f":"'Website Report'!G473","v":80405},null,{"$f":"'City-Town Population'!G46","v":80405},{"$f":"'City-Town Population'!A46","v":"Bloomington city"},null,0]
[{"$f":"'Website Report'!C290","v":"City/Town"},{"$f":"'Website Report'!E290","v":"BLOUNTSVILLE "},{"$f":"'Website Report'!G290","v":134},null,{"$f":"'City-Town Population'!G47","v":134},{"$f":"'City-Town Population'!A47","v":"Blountsville town"},null,0]
[{"$f":"'Website Report'!C767","v":"City/Town"},{"$f":"'Website Report'!E767","v":"BLUFFTON "},{"$f":"'Website Report'!G767","v":9897},null,{"$f":"'City-Town Population'!G48","v":9897},{"$f":"'City-Town Population'!A48","v":"Bluffton city"},null,0]
[{"$f":"'Website Report'!C731","v":"City/Town"},{"$f":"'Website Report'!E731","v":"BOONVILLE "},{"$f":"'Website Report'!G731","v":6246},null,{"$f":"'City-Town Population'!G49","v":6246},{"$f":"'City-Town Population'!A49","v":"Boonville city"},null,0]
[{"$f":"'Website Report'!C86","v":"City/Town"},{"$f":"'Website Report'!E86","v":"BORDEN "},{"$f":"'Website Report'!G86","v":808},null,{"$f":"'City-Town Population'!G50","v":808},{"$f":"'City-Town Population'!A50","v":"Borden town"},null,0]
[{"$f":"'Website Report'!C750","v":"City/Town"},{"$f":"'Website Report'!E750","v":"BOSTON "},{"$f":"'Website Report'!G750","v":138},null,{"$f":"'City-Town Population'!G51","v":138},{"$f":"'City-Town Population'!A51","v":"Boston town"},null,0]
[{"$f":"'Website Report'!C38","v":"City/Town"},{"$f":"'Website Report'!E38","v":"BOSWELL "},{"$f":"'Website Report'!G38","v":778},null,{"$f":"'City-Town Population'!G52","v":778},{"$f":"'City-Town Population'!A52","v":"Boswell town"},null,0]
[{"$f":"'Website Report'!C450","v":"City/Town"},{"$f":"'Website Report'!E450","v":"BOURBON "},{"$f":"'Website Report'!G450","v":1810},null,{"$f":"'City-Town Population'!G53","v":1810},{"$f":"'City-Town Population'!A53","v":"Bourbon town"},null,0]
[{"$f":"'Website Report'!C92","v":"City/Town"},{"$f":"'Website Report'!E92","v":"BRAZIL "},{"$f":"'Website Report'!G92","v":7912},null,{"$f":"'City-Town Population'!G54","v":7912},{"$f":"'City-Town Population'!A54","v":"Brazil city"},null,0]
[{"$f":"'Website Report'!C451","v":"City/Town"},{"$f":"'Website Report'!E451","v":"BREMAN"},{"$f":"'Website Report'!G451","v":4588},null,{"$f":"'City-Town Population'!G55","v":4588},{"$f":"'City-Town Population'!A55","v":"Bremen town"},null,0]
[{"$f":"'Website Report'!C168","v":"City/Town"},{"$f":"'Website Report'!E168","v":"BRISTOL "},{"$f":"'Website Report'!G168","v":1602},null,{"$f":"'City-Town Population'!G56","v":1602},{"$f":"'City-Town Population'!A56","v":"Bristol town"},null,0]
[{"$f":"'Website Report'!C503","v":"City/Town"},{"$f":"'Website Report'!E503","v":"BROOK "},{"$f":"'Website Report'!G503","v":997},null,{"$f":"'City-Town Population'!G57","v":997},{"$f":"'City-Town Population'!A57","v":"Brook town"},null,0]
[{"$f":"'Website Report'!C494","v":"City/Town"},{"$f":"'Website Report'!E494","v":"BROOKLYN "},{"$f":"'Website Report'!G494","v":1598},null,{"$f":"'City-Town Population'!G58","v":1598},{"$f":"'City-Town Population'!A58","v":"Brooklyn town"},null,0]
[{"$f":"'Website Report'!C347","v":"City/Town"},{"$f":"'Website Report'!E347","v":"BROOKSBURG "},{"$f":"'Website Report'!G347","v":81},null,{"$f":"'City-Town Population'!G59","v":81},{"$f":"'City-Town Population'!A59","v":"Brooksburg town"},null,0]
[{"$f":"'Website Report'!C777","v":"City/Town"},{"$f":"'Website Report'!E777","v":"BROOKSTON "},{"$f":"'Website Report'!G777","v":1554},null,{"$f":"'City-Town Population'!G60","v":1554},{"$f":"'City-Town Population'!A60","v":"Brookston town"},null,0]
[{"$f":"'Website Report'!C201","v":"City/Town"},{"$f":"'Website Report'!E201","v":"BROOKVILLE "},{"$f":"'Website Report'!G201","v":2596},null,{"$f":"'City-Town Population'!G61","v":2596},{"$f":"'City-Town Population'!A61","v":"Brookville town"},null,0]
[{"$f":"'Website Report'!C277","v":"City/Town"},{"$f":"'Website Report'!E277","v":"BROWNSBURG "},{"$f":"'Website Report'!G277","v":21285},null,{"$f":"'City-Town Population'!G62","v":21285},{"$f":"'City-Town Population'!A62","v":"Brownsburg town"},null,0]
[{"$f":"'Website Report'!C324","v":"City/Town"},{"$f":"'Website Report'!E324","v":"BROWNSTOWN "},{"$f":"'Website Report'!G324","v":2947},null,{"$f":"'City-Town Population'!G63","v":2947},{"$f":"'City-Town Population'!A63","v":"Brownstown town"},null,0]
[{"$f":"'Website Report'!C371","v":"City/Town"},{"$f":"'Website Report'!E371","v":"BRUCEVILLE "},{"$f":"'Website Report'!G371","v":478},null,{"$f":"'City-Town Population'!G64","v":478},{"$f":"'City-Town Population'!A64","v":"Bruceville town"},null,0]
[{"$f":"'Website Report'!C338","v":"City/Town"},{"$f":"'Website Report'!E338","v":"BRYANT "},{"$f":"'Website Report'!G338","v":252},null,{"$f":"'City-Town Population'!G65","v":252},{"$f":"'City-Town Population'!A65","v":"Bryant town"},null,0]
[{"$f":"'Website Report'!C465","v":"City/Town"},{"$f":"'Website Report'!E465","v":"BUNKER HILL "},{"$f":"'Website Report'!G465","v":888},null,{"$f":"'City-Town Population'!G66","v":888},{"$f":"'City-Town Population'!A66","v":"Bunker Hill town"},null,0]
[{"$f":"'Website Report'!C382","v":"City/Town"},{"$f":"'Website Report'!E382","v":"BURKET "},{"$f":"'Website Report'!G382","v":195},null,{"$f":"'City-Town Population'!G67","v":195},{"$f":"'City-Town Population'!A67","v":"Burket town"},null,0]
[{"$f":"'Website Report'!C67","v":"City/Town"},{"$f":"'Website Report'!E67","v":"BURLINGTON "},{"$f":"'Website Report'!G67","v":603},null,{"$f":"'City-Town Population'!G68","v":603},{"$f":"'City-Town Population'!A68","v":"Burlington town"},null,0]
[{"$f":"'Website Report'!C778","v":"City/Town"},{"$f":"'Website Report'!E778","v":"BURNETTSVILLE "},{"$f":"'Website Report'!G778","v":346},null,{"$f":"'City-Town Population'!G69","v":346},{"$f":"'City-Town Population'!A69","v":"Burnettsville town"},null,{"$f":"E64-C64","v":0}]
[{"$f":"'Website Report'!C548","v":"City/Town"},{"$f":"'Website Report'!E548","v":"BURNS HARBOR "},{"$f":"'Website Report'!G548","v":1156},null,{"$f":"'City-Town Population'!G70","v":1156},{"$f":"'City-Town Population'!A70","v":"Burns Harbor town"},null,0]
[{"$f":"'Website Report'!C140","v":"City/Town"},{"$f":"'Website Report'!E140","v":"BUTLER "},{"$f":"'Website Report'!G140","v":2684},null,{"$f":"'City-Town Population'!G71","v":2684},{"$f":"'City-Town Population'!A71","v":"Butler city"},null,0]
[{"$f":"'Website Report'!C291","v":"City/Town"},{"$f":"'Website Report'!E291","v":"CADIZ "},{"$f":"'Website Report'!G291","v":150},null,{"$f":"'City-Town Population'!G72","v":150},{"$f":"'City-Town Population'!A72","v":"Cadiz town"},null,0]
[{"$f":"'Website Report'!C751","v":"City/Town"},{"$f":"'Website Report'!E751","v":"CAMBRIDGE "},{"$f":"'Website Report'!G751","v":1870},null,{"$f":"'City-Town Population'!G73","v":1870},{"$f":"'City-Town Population'!A73","v":"Cambridge City"},null,0]
[{"$f":"'Website Report'!C68","v":"City/Town"},{"$f":"'Website Report'!E68","v":"CAMDEN "},{"$f":"'Website Report'!G68","v":611},null,{"$f":"'City-Town Population'!G74","v":611},{"$f":"'City-Town Population'!A74","v":"Camden town"},null,0]
[{"$f":"'Website Report'!C740","v":"City/Town"},{"$f":"'Website Report'!E740","v":"CAMPBELLSBURG "},{"$f":"'Website Report'!G740","v":585},null,{"$f":"'City-Town Population'!G75","v":585},{"$f":"'City-Town Population'!A75","v":"Campbellsburg town"},null,0]
[{"$f":"'Website Report'!C120","v":"City/Town"},{"$f":"'Website Report'!E120","v":"CANNELBURG "},{"$f":"'Website Report'!G120","v":135},null,{"$f":"'City-Town Population'!G76","v":135},{"$f":"'City-Town Population'!A76","v":"Cannelburg town"},null,0]
[{"$f":"'Website Report'!C535","v":"City/Town"},{"$f":"'Website Report'!E535","v":"CANNELTON "},{"$f":"'Website Report'!G535","v":1563},null,{"$f":"'City-Town Population'!G77","v":1563},{"$f":"'City-Town Population'!A77","v":"Cannelton city"},null,0]
[{"$f":"'Website Report'!C93","v":"City/Town"},{"$f":"'Website Report'!E93","v":"CARBON "},{"$f":"'Website Report'!G93","v":397},null,{"$f":"'City-Town Population'!G78","v":397},{"$f":"'City-Town Population'!A78","v":"Carbon town"},null,0]
[{"$f":"'Website Report'!C666","v":"City/Town"},{"$f":"'Website Report'!E666","v":"CARLISLE "},{"$f":"'Website Report'!G666","v":692},null,{"$f":"'City-Town Population'!G79","v":692},{"$f":"'City-Town Population'!A79","v":"Carlisle town"},null,0]
[{"$f":"'Website Report'!C255","v":"City/Town"},{"$f":"'Website Report'!E255","v":"CARMEL "},{"$f":"'Website Report'!G255","v":79191},null,{"$f":"'City-Town Population'!G80","v":91648},{"$f":"'City-Town Population'!A80","v":"Carmel city (1)(13)"},null,12457,"Variance is due to state executive order increasing population"]
[{"$f":"'Website Report'!C608","v":"City/Town"},{"$f":"'Website Report'!E608","v":"CARTHAGE "},{"$f":"'Website Report'!G608","v":927},null,{"$f":"'City-Town Population'!G81","v":927},{"$f":"'City-Town Population'!A81","v":"Carthage town"},null,0]
[{"$f":"'Website Report'!C699","v":"City/Town"},{"$f":"'Website Report'!E699","v":"CAYUGA "},{"$f":"'Website Report'!G699","v":1162},null,{"$f":"'City-Town Population'!G82","v":1162},{"$f":"'City-Town Population'!A82","v":"Cayuga town"},null,0]
[{"$f":"'Website Report'!C202","v":"City/Town"},{"$f":"'Website Report'!E202","v":"CEDAR GROVE "},{"$f":"'Website Report'!G202","v":156},null,{"$f":"'City-Town Population'!G83","v":156},{"$f":"'City-Town Population'!A83","v":"Cedar Grove town"},null,0]
[null,"Blank",null,null,{"$f":"'City-Town Population'!G84","v":11560},{"$f":"'City-Town Population'!A84","v":"Cedar Lake town"},null,{"$f":"E79-C80","v":11318},"Lake County - Does not receive riverboat sharing"]
[{"$f":"'Website Report'!C94","v":"City/Town"},{"$f":"'Website Report'!E94","v":"CENTER POINT "},{"$f":"'Website Report'!G94","v":242},null,{"$f":"'City-Town Population'!G85","v":242},{"$f":"'City-Town Population'!A85","v":"Center Point town"},null,0]
[{"$f":"'Website Report'!C752","v":"City/Town"},{"$f":"'Website Report'!E752","v":"CENTERVILLE "},{"$f":"'Website Report'!G752","v":2552},null,{"$f":"'City-Town Population'!G86","v":2552},{"$f":"'City-Town Population'!A86","v":"Centerville town"},null,0]
[{"$f":"'Website Report'!C779","v":"City/Town"},{"$f":"'Website Report'!E779","v":"CHALMERS "},{"$f":"'Website Report'!G779","v":508},null,{"$f":"'City-Town Population'!G87","v":508},{"$f":"'City-Town Population'!A87","v":"Chalmers town"},null,0]
[{"$f":"'Website Report'!C732","v":"City/Town"},{"$f":"'Website Report'!E732","v":"CHANDLER "},{"$f":"'Website Report'!G732","v":2887},null,{"$f":"'City-Town Population'!G88","v":2887},{"$f":"'City-Town Population'!A88","v":"Chandler town"},null,0]
[{"$f":"'Website Report'!C83","v":"City/Town"},{"$f":"'Website Report'!E83","v":"CHARLESTOWN "},{"$f":"'Website Report'!G83","v":7585},null,{"$f":"'City-Town Population'!G89","v":7585},{"$f":"'City-Town Population'!A89","v":"Charlestown city"},null,0]
[{"$f":"'Website Report'!C150","v":"City/Town"},{"$f":"'Website Report'!E150","v":"CHESTERFIELD "},{"$f":"'Website Report'!G150","v":1},null,{"$f":"'City-Town Population'!G90","v":2547},{"$f":"'City-Town Population'!A90","v":"Chesterfield town"},null,2546,"Variance is due to City/Town being located in multiple taxing districtcs. "]
[{"$f":"'Website Report'!C549","v":"City/Town"},{"$f":"'Website Report'!E549","v":"CHESTERTON "},{"$f":"'Website Report'!G549","v":13068},null,{"$f":"'City-Town Population'!G91","v":13068},{"$f":"'City-Town Population'!A91","v":"Chesterton town"},null,0]
[{"$f":"'Website Report'!C639","v":"City/Town"},{"$f":"'Website Report'!E639","v":"CHRISNEY "},{"$f":"'Website Report'!G639","v":481},null,{"$f":"'City-Town Population'!G92","v":481},{"$f":"'City-Town Population'!A92","v":"Chrisney town"},null,0]
[{"$f":"'Website Report'!C787","v":"City/Town"},{"$f":"'Website Report'!E787","v":"CHURUBUSCO "},{"$f":"'Website Report'!G787","v":1796},null,{"$f":"'City-Town Population'!G93","v":1796},{"$f":"'City-Town Population'!A93","v":"Churubusco town"},null,0]
[{"$f":"'Website Report'!C256","v":"City/Town"},{"$f":"'Website Report'!E256","v":"CICERO "},{"$f":"'Website Report'!G256","v":4812},null,{"$f":"'City-Town Population'!G94","v":4812},{"$f":"'City-Town Population'!A94","v":"Cicero town"},null,0]
[{"$f":"'Website Report'!C677","v":"City/Town"},{"$f":"'Website Report'!E677","v":"CLARKS HILL "},{"$f":"'Website Report'!G677","v":611},null,{"$f":"'City-Town Population'!G95","v":611},{"$f":"'City-Town Population'!A95","v":"Clarks Hill town"},null,0]
[{"$f":"'Website Report'!C84","v":"City/Town"},{"$f":"'Website Report'!E84","v":"CLARKSVILLE "},{"$f":"'Website Report'!G84","v":21724},null,{"$f":"'City-Town Population'!G96","v":21724},{"$f":"'City-Town Population'!A96","v":"Clarksville town"},null,0]
[{"$f":"'Website Report'!C95","v":"City/Town"},{"$f":"'Website Report'!E95","v":"CLAY "},{"$f":"'Website Report'!G95","v":861},null,{"$f":"'City-Town Population'!G97","v":861},{"$f":"'City-Town Population'!A97","v":"Clay City"},null,0]
[{"$f":"'Website Report'!C383","v":"City/Town"},{"$f":"'Website Report'!E383","v":"CLAYPOOL "},{"$f":"'Website Report'!G383","v":431},null,{"$f":"'City-Town Population'!G98","v":431},{"$f":"'City-Town Population'!A98","v":"Claypool town"},null,0]
[{"$f":"'Website Report'!C278","v":"City/Town"},{"$f":"'Website Report'!E278","v":"CLAYTON "},{"$f":"'Website Report'!G278","v":972},null,{"$f":"'City-Town Population'!G99","v":972},{"$f":"'City-Town Population'!A99","v":"Clayton town"},null,0]
[{"$f":"'Website Report'!C658","v":"City/Town"},{"$f":"'Website Report'!E658","v":"CLEAR LAKE "},{"$f":"'Website Report'!G658","v":339},null,{"$f":"'City-Town Population'!G100","v":339},{"$f":"'City-Town Population'!A100","v":"Clear Lake town"},null,0]
[{"$f":"'Website Report'!C432","v":"City/Town"},{"$f":"'Website Report'!E432","v":"CLERMONT "},{"$f":"'Website Report'!G432","v":1356},null,{"$f":"'City-Town Population'!G101","v":1356},{"$f":"'City-Town Population'!A101","v":"Clermont town"},null,0]
[{"$f":"'Website Report'!C27","v":"City/Town"},{"$f":"'Website Report'!E27","v":"CLIFFORD "},{"$f":"'Website Report'!G27","v":233},null,{"$f":"'City-Town Population'!G102","v":233},{"$f":"'City-Town Population'!A102","v":"Clifford town"},null,0]
[{"$f":"'Website Report'!C700","v":"City/Town"},{"$f":"'Website Report'!E700","v":"CLINTON "},{"$f":"'Website Report'!G700","v":4893},null,{"$f":"'City-Town Population'!G103","v":4893},{"$f":"'City-Town Population'!A103","v":"Clinton city"},null,0]
[{"$f":"'Website Report'!C577","v":"City/Town"},{"$f":"'Website Report'!E577","v":"CLOVERDALE "},{"$f":"'Website Report'!G577","v":2172},null,{"$f":"'City-Town Population'!G104","v":2172},{"$f":"'City-Town Population'!A104","v":"Cloverdale town"},null,0]
[{"$f":"'Website Report'!C279","v":"City/Town"},{"$f":"'Website Report'!E279","v":"COATESVILLE "},{"$f":"'Website Report'!G279","v":523},null,{"$f":"'City-Town Population'!G105","v":523},{"$f":"'City-Town Population'!A105","v":"Coatesville town"},null,0]
[{"$f":"'Website Report'!C102","v":"City/Town"},{"$f":"'Website Report'!E102","v":"COLFAX "},{"$f":"'Website Report'!G102","v":691},null,{"$f":"'City-Town Population'!G106","v":691},{"$f":"'City-Town Population'!A106","v":"Colfax town"},null,0]
[{"$f":"'Website Report'!C788","v":"City/Town"},{"$f":"'Website Report'!E788","v":"COLUMBIA CITY "},{"$f":"'Website Report'!G788","v":8750},null,{"$f":"'City-Town Population'!G107","v":8750},{"$f":"'City-Town Population'!A107","v":"Columbia City"},null,0]
[{"$f":"'Website Report'!C28","v":"City/Town"},{"$f":"'Website Report'!E28","v":"COLUMBUS "},{"$f":"'Website Report'!G28","v":44061},null,{"$f":"'City-Town Population'!G108","v":44061},{"$f":"'City-Town Population'!A108","v":"Columbus city"},null,0]
[{"$f":"'Website Report'!C178","v":"City/Town"},{"$f":"'Website Report'!E178","v":"CONNERSVILLE "},{"$f":"'Website Report'!G178","v":13481},null,{"$f":"'City-Town Population'!G109","v":13481},{"$f":"'City-Town Population'!A109","v":"Connersville city"},null,0]
[{"$f":"'Website Report'!C229","v":"City/Town"},{"$f":"'Website Report'!E229","v":"CONVERSE "},{"$f":"'Website Report'!G229","v":272},null,{"$f":"'City-Town Population'!G110","v":1265},{"$f":"'City-Town Population'!A110","v":"Converse town"},null,{"$f":"E105-C105","v":993},"Variance is due to City/Town being located in multiple taxing districtcs. "]
[{"$f":"'Website Report'!C141","v":"City/Town"},{"$f":"'Website Report'!E141","v":"CORUNNA "},{"$f":"'Website Report'!G141","v":254},null,{"$f":"'City-Town Population'!G111","v":254},{"$f":"'City-Town Population'!A111","v":"Corunna town"},null,{"$f":"E106-C106","v":0}]
[null,"Blank",null,null,{"$f":"'City-Town Population'!G112","v":3122},{"$f":"'City-Town Population'!A112","v":"Corydon town"},null,{"$f":"E107-C108","v":3043},"Harrison County - Does not receive riverboat sharing"]
[{"$f":"'Website Report'!C415","v":"City/Town"},{"$f":"'Website Report'!E415","v":"COUNTRY CLUB HTS "},{"$f":"'Website Report'!G415","v":79},null,{"$f":"'City-Town Population'!G113","v":79},{"$f":"'City-Town Population'!A113","v":"Country Club Heights town"},null,{"$f":"E108-C108","v":0}]
[{"$f":"'Website Report'!C190","v":"City/Town"},{"$f":"'Website Report'!E190","v":"COVINGTON"},{"$f":"'Website Report'!G190","v":2645},null,{"$f":"'City-Town Population'!G114","v":2645},{"$f":"'City-Town Population'!A114","v":"Covington city"},null,{"$f":"E109-C109","v":0}]
[null,"Blank",null,null,{"$f":"'City-Town Population'!G115","v":152},{"$f":"'City-Town Population'!A115","v":"Crandall town"},null,{"$f":"E110-C110","v":152},"Harrison County - Does not receive riverboat sharing"]
[{"$f":"'Website Report'!C458","v":"City/Town"},{"$f":"'Website Report'!E458","v":"CRANE "},{"$f":"'Website Report'!G458","v":184},null,{"$f":"'City-Town Population'!G116","v":184},{"$f":"'City-Town Population'!A116","v":"Crane town"},null,{"$f":"E111-C111","v":0}]
[{"$f":"'Website Report'!C480","v":"City/Town"},{"$f":"'Website Report'!E480","v":"CRAWFORDSVILLE "},{"$f":"'Website Report'!G480","v":15915},null,{"$f":"'City-Town Population'!G117","v":15915},{"$f":"'City-Town Population'!A117","v":"Crawfordsville city"},null,{"$f":"E112-C112","v":0}]
[{"$f":"'Website Report'!C513","v":"City/Town"},{"$f":"'Website Report'!E513","v":"CROMWELL "},{"$f":"'Website Report'!G513","v":512},null,{"$f":"'City-Town Population'!G118","v":512},{"$f":"'City-Town Population'!A118","v":"Cromwell town"},null,0]
[{"$f":"'Website Report'!C325","v":"City/Town"},{"$f":"'Website Report'!E325","v":"CROTHERSVILLE "},{"$f":"'Website Report'!G325","v":1591},null,{"$f":"'City-Town Population'!G119","v":1591},{"$f":"'City-Town Population'!A119","v":"Crothersville town"},null,0]
[null,"Blank",null,null,{"$f":"'City-Town Population'!G120","v":27317},{"$f":"'City-Town Population'!A120","v":"Crown Point city"},null,27317,"Lake County - Does not receive riverboat sharing"]
[{"$f":"'Website Report'!C433","v":"City/Town"},{"$f":"'Website Report'!E433","v":"CROWS NEST "},{"$f":"'Website Report'!G433","v":73},null,{"$f":"'City-Town Population'!G121","v":73},{"$f":"'City-Town Population'!A121","v":"Crows Nest town"},null,0]
[{"$f":"'Website Report'!C452","v":"City/Town"},{"$f":"'Website Report'!E452","v":"CULVER "},{"$f":"'Website Report'!G452","v":1353},null,{"$f":"'City-Town Population'!G122","v":1353},{"$f":"'City-Town Population'!A122","v":"Culver town"},null,0]
[{"$f":"'Website Report'!C434","v":"City/Town"},{"$f":"'Website Report'!E434","v":"CUMBERLAND "},{"$f":"'Website Report'!G434","v":2597},null,{"$f":"'City-Town Population'!G123","v":5169},{"$f":"'City-Town Population'!A123","v":"Cumberland town"},null,2572,"Variance is due to City/Town being located in multiple taxing districtcs. "]
[{"$f":"'Website Report'!C561","v":"City/Town"},{"$f":"'Website Report'!E561","v":"CYNTHIANA "},{"$f":"'Website Report'!G561","v":545},null,{"$f":"'City-Town Population'!G124","v":545},{"$f":"'City-Town Population'!A124","v":"Cynthiana town"},null,0]
[{"$f":"'Website Report'!C640","v":"City/Town"},{"$f":"'Website Report'!E640","v":"DALE "},{"$f":"'Website Report'!G640","v":1593},null,{"$f":"'City-Town Population'!G125","v":1593},{"$f":"'City-Town Population'!A125","v":"Dale town"},null,0]
[{"$f":"'Website Report'!C151","v":"City/Town"},{"$f":"'Website Report'!E151","v":"DALEVILLE "},{"$f":"'Website Report'!G151","v":1647},null,{"$f":"'City-Town Population'!G126","v":1647},{"$f":"'City-Town Population'!A126","v":"Daleville town"},null,0]
[{"$f":"'Website Report'!C701","v":"City/Town"},{"$f":"'Website Report'!E701","v":"DANA "},{"$f":"'Website Report'!G701","v":608},null,{"$f":"'City-Town Population'!G127","v":608},{"$f":"'City-Town Population'!A127","v":"Dana town"},null,0]
[{"$f":"'Website Report'!C280","v":"City/Town"},{"$f":"'Website Report'!E280","v":"DANVILLE "},{"$f":"'Website Report'!G280","v":9001},null,{"$f":"'City-Town Population'!G128","v":9001},{"$f":"'City-Town Population'!A128","v":"Danville town"},null,0]
[{"$f":"'Website Report'!C481","v":"City/Town"},{"$f":"'Website Report'!E481","v":"DARLINGTON "},{"$f":"'Website Report'!G481","v":843},null,{"$f":"'City-Town Population'!G129","v":843},{"$f":"'City-Town Population'!A129","v":"Darlington town"},null,0]
[null,"Blank",null,null,{"$f":"'City-Town Population'!G130","v":1407},{"$f":"'City-Town Population'!A130","v":"Darmstadt town"},null,1407,"Vanderburgh County - Does not receive riverboat sharing"]
[{"$f":"'Website Report'!C678","v":"City/Town"},{"$f":"'Website Report'!E678","v":"DAYTON "},{"$f":"'Website Report'!G678","v":1420},null,{"$f":"'City-Town Population'!G131","v":1420},{"$f":"'City-Town Population'!A131","v":"Dayton town"},null,0]
[{"$f":"'Website Report'!C331","v":"City/Town"},{"$f":"'Website Report'!E331","v":"DEMOTTE"},{"$f":"'Website Report'!G331","v":3814},null,{"$f":"'City-Town Population'!G132","v":3814},{"$f":"'City-Town Population'!A132","v":"De Motte town"},null,0]
[{"$f":"'Website Report'!C10","v":"City/Town"},{"$f":"'Website Report'!E10","v":"DECATUR"},{"$f":"'Website Report'!G10","v":9405},null,{"$f":"'City-Town Population'!G133","v":9405},{"$f":"'City-Town Population'!A133","v":"Decatur city"},null,0]
[{"$f":"'Website Report'!C372","v":"City/Town"},{"$f":"'Website Report'!E372","v":"DECKER "},{"$f":"'Website Report'!G372","v":249},null,{"$f":"'City-Town Population'!G134","v":249},{"$f":"'City-Town Population'!A134","v":"Decker town"},null,0]
[{"$f":"'Website Report'!C69","v":"City/Town"},{"$f":"'Website Report'!E69","v":"DELPHI "},{"$f":"'Website Report'!G69","v":2893},null,{"$f":"'City-Town Population'!G135","v":2893},{"$f":"'City-Town Population'!A135","v":"Delphi city"},null,0]
[{"$f":"'Website Report'!C467","v":"City/Town"},{"$f":"'Website Report'!E467","v":"DENVER "},{"$f":"'Website Report'!G467","v":482},null,{"$f":"'City-Town Population'!G136","v":482},{"$f":"'City-Town Population'!A136","v":"Denver town"},null,0]
[null,"Blank",null,null,{"$f":"'City-Town Population'!G137","v":1327},{"$f":"'City-Town Population'!A137","v":"Dillsboro town"},null,1327,"Dearborn County - Does not receive riverboat sharing"]
[{"$f":"'Website Report'!C753","v":"City/Town"},{"$f":"'Website Report'!E753","v":"DUBLIN "},{"$f":"'Website Report'!G753","v":790},null,{"$f":"'City-Town Population'!G138","v":790},{"$f":"'City-Town Population'!A138","v":"Dublin town"},null,0]
[{"$f":"'Website Report'!C667","v":"City/Town"},{"$f":"'Website Report'!E667","v":"DUGGER "},{"$f":"'Website Report'!G667","v":920},null,{"$f":"'City-Town Population'!G139","v":920},{"$f":"'City-Town Population'!A139","v":"Dugger town"},null,0]
[{"$f":"'Website Report'!C550","v":"City/Town"},{"$f":"'Website Report'!E550","v":"DUNE ACRES "},{"$f":"'Website Report'!G550","v":182},null,{"$f":"'City-Town Population'!G140","v":182},{"$f":"'City-Town Population'!A140","v":"Dune Acres town"},null,0]
[{"$f":"'Website Report'!C46","v":"City/Town"},{"$f":"'Website Report'!E46","v":"DUNKIRK "},{"$f":"'Website Report'!G46","v":145},null,{"$f":"'City-Town Population'!G141","v":2362},{"$f":"'City-Town Population'!A141","v":"Dunkirk city"},null,2217,"Variance is due to City/Town being located in multiple taxing districtcs. "]
[{"$f":"'Website Report'!C292","v":"City/Town"},{"$f":"'Website Report'!E292","v":"DUNREITH "},{"$f":"'Website Report'!G292","v":177},null,{"$f":"'City-Town Population'!G142","v":177},{"$f":"'City-Town Population'!A142","v":"Dunreith town"},null,0]
[{"$f":"'Website Report'!C348","v":"City/Town"},{"$f":"'Website Report'!E348","v":"DUPONT "},{"$f":"'Website Report'!G348","v":339},null,{"$f":"'City-Town Population'!G143","v":339},{"$f":"'City-Town Population'!A143","v":"Dupont town"},null,0]
[null,"Blank",null,null,{"$f":"'City-Town Population'!G144","v":16390},{"$f":"'City-Town Population'!A144","v":"Dyer town"},null,16390,"Lake County - Does not receive riverboat sharing"]
[{"$f":"'Website Report'!C39","v":"City/Town"},{"$f":"'Website Report'!E39","v":"EARL PARK "},{"$f":"'Website Report'!G39","v":348},null,{"$f":"'City-Town Population'!G145","v":348},{"$f":"'City-Town Population'!A145","v":"Earl Park town"},null,0]
[null,"Blank",null,null,{"$f":"'City-Town Population'!G146","v":29698},{"$f":"'City-Town Population'!A146","v":"East Chicago city"},null,29698,"Lake County - Does not receive riverboat sharing"]
[{"$f":"'Website Report'!C754","v":"City/Town"},{"$f":"'Website Report'!E754","v":"EAST GERMAN"},{"$f":"'Website Report'!G754","v":410},null,{"$f":"'City-Town Population'!G147","v":410},{"$f":"'City-Town Population'!A147","v":"East Germantown town"},null,0]
[{"$f":"'Website Report'!C152","v":"City/Town"},{"$f":"'Website Report'!E152","v":"EATON "},{"$f":"'Website Report'!G152","v":1805},null,{"$f":"'City-Town Population'!G148","v":1805},{"$f":"'City-Town Population'!A148","v":"Eaton town"},null,0]
[{"$f":"'Website Report'!C755","v":"City/Town"},{"$f":"'Website Report'!E755","v":"ECONOMY "},{"$f":"'Website Report'!G755","v":187},null,{"$f":"'City-Town Population'!G149","v":187},{"$f":"'City-Town Population'!A149","v":"Economy town"},null,0]
[{"$f":"'Website Report'!C416","v":"City/Town"},{"$f":"'Website Report'!E416","v":"EDGEWOOD "},{"$f":"'Website Report'!G416","v":1913},null,{"$f":"'City-Town Population'!G150","v":1913},{"$f":"'City-Town Population'!A150","v":"Edgewood town"},null,0]
[{"$f":"'Website Report'!C29","v":"City/Town"},{"$f":"'Website Report'!E29","v":"EDINBURGH "},{"$f":"'Website Report'!G29","v":376},null,{"$f":"'City-Town Population'!G151","v":4480},{"$f":"'City-Town Population'!A151","v":"Edinburgh town"},null,4104,"Variance is due to City/Town being located in multiple taxing districtcs. "]
[{"$f":"'Website Report'!C373","v":"City/Town"},{"$f":"'Website Report'!E373","v":"EDWARDSPORT "},{"$f":"'Website Report'!G373","v":303},null,{"$f":"'City-Town Population'!G152","v":303},{"$f":"'City-Town Population'!A152","v":"Edwardsport town"},null,0]
[{"$f":"'Website Report'!C733","v":"City/Town"},{"$f":"'Website Report'!E733","v":"ELBERFELD "},{"$f":"'Website Report'!G733","v":625},null,{"$f":"'City-Town Population'!G153","v":625},{"$f":"'City-Town Population'!A153","v":"Elberfeld town"},null,0]
[null,"Blank",null,null,{"$f":"'City-Town Population'!G154","v":162},{"$f":"'City-Town Population'!A154","v":"Elizabeth town"},null,162,"Harrison County - Does not receive riverboat sharing"]
[{"$f":"'Website Report'!C30","v":"City/Town"},{"$f":"'Website Report'!E30","v":"ELIZABETHTOWN "},{"$f":"'Website Report'!G30","v":504},null,{"$f":"'City-Town Population'!G155","v":504},{"$f":"'City-Town Population'!A155","v":"Elizabethtown town"},null,0]
[{"$f":"'Website Report'!C169","v":"City/Town"},{"$f":"'Website Report'!E169","v":"ELKHART "},{"$f":"'Website Report'!G169","v":50949},null,{"$f":"'City-Town Population'!G156","v":50949},{"$f":"'City-Town Population'!A156","v":"Elkhart city"},null,0]
[{"$f":"'Website Report'!C474","v":"City/Town"},{"$f":"'Website Report'!E474","v":"ELLETTSVILLE "},{"$f":"'Website Report'!G474","v":6378},null,{"$f":"'City-Town Population'!G157","v":6378},{"$f":"'City-Town Population'!A157","v":"Ellettsville town"},null,0]
[{"$f":"'Website Report'!C121","v":"City/Town"},{"$f":"'Website Report'!E121","v":"ELNORA "},{"$f":"'Website Report'!G121","v":640},null,{"$f":"'City-Town Population'!G158","v":640},{"$f":"'City-Town Population'!A158","v":"Elnora town"},null,0]
[{"$f":"'Website Report'!C417","v":"City/Town"},{"$f":"'Website Report'!E417","v":"ELWOOD"},{"$f":"'Website Report'!G417","v":8608},null,{"$f":"'City-Town Population'!G159","v":8614},{"$f":"'City-Town Population'!A159","v":"Elwood city"},null,6,"Variance is due to City/Town being located in multiple taxing districtcs. "]
[{"$f":"'Website Report'!C112","v":"City/Town"},{"$f":"'Website Report'!E112","v":"ENGLISH "},{"$f":"'Website Report'!G112","v":645},null,{"$f":"'City-Town Population'!G160","v":645},{"$f":"'City-Town Population'!A160","v":"English town"},null,0]
[{"$f":"'Website Report'!C384","v":"City/Town"},{"$f":"'Website Report'!E384","v":"ETNA GREEN "},{"$f":"'Website Report'!G384","v":586},null,{"$f":"'City-Town Population'!G161","v":586},{"$f":"'City-Town Population'!A161","v":"Etna Green town"},null,0]
[null,"Blank",null,null,{"$f":"'City-Town Population'!G162","v":117429},{"$f":"'City-Town Population'!A162","v":"Evansville city"},null,117429,"Vanderburgh County - Does not receive riverboat sharing"]
[{"$f":"'Website Report'!C631","v":"City/Town"},{"$f":"'Website Report'!E631","v":"FAIRLAND"},{"$f":"'Website Report'!G631","v":315},null,{"$f":"'City-Town Population'!G163","v":587},{"$f":"'City-Town Population'!A163","v":"Fairland town (12)"},null,272,"Variance is due to state executive order increasing population"]
[{"$f":"'Website Report'!C230","v":"City/Town"},{"$f":"'Website Report'!E230","v":"FAIRMOUNT "},{"$f":"'Website Report'!G230","v":2954},null,{"$f":"'City-Town Population'!G164","v":2954},{"$f":"'City-Town Population'!A164","v":"Fairmount town"},null,0]
[{"$f":"'Website Report'!C702","v":"City/Town"},{"$f":"'Website Report'!E702","v":"FAIRVIEW PARK "},{"$f":"'Website Report'!G702","v":1386},null,{"$f":"'City-Town Population'!G165","v":1386},{"$f":"'City-Town Population'!A165","v":"Fairview Park town"},null,0]
[{"$f":"'Website Report'!C668","v":"City/Town"},{"$f":"'Website Report'!E668","v":"FARMERSBURG "},{"$f":"'Website Report'!G668","v":1118},null,{"$f":"'City-Town Population'!G166","v":1118},{"$f":"'City-Town Population'!A166","v":"Farmersburg town"},null,0]
[{"$f":"'Website Report'!C586","v":"City/Town"},{"$f":"'Website Report'!E586","v":"FARMLAND "},{"$f":"'Website Report'!G586","v":1333},null,{"$f":"'City-Town Population'!G167","v":1333},{"$f":"'City-Town Population'!A167","v":"Farmland town"},null,0]
[{"$f":"'Website Report'!C161","v":"City/Town"},{"$f":"'Website Report'!E161","v":"FERDINAND "},{"$f":"'Website Report'!G161","v":2157},null,{"$f":"'City-Town Population'!G168","v":2157},{"$f":"'City-Town Population'!A168","v":"Ferdinand town"},null,0]
[{"$f":"'Website Report'!C578","v":"City/Town"},{"$f":"'Website Report'!E578","v":"FILLMORE "},{"$f":"'Website Report'!G578","v":533},null,{"$f":"'City-Town Population'!G169","v":533},{"$f":"'City-Town Population'!A169","v":"Fillmore town"},null,0]
[{"$f":"'Website Report'!C257","v":"City/Town"},{"$f":"'Website Report'!E257","v":"FISHERS "},{"$f":"'Website Report'!G257","v":76794},null,{"$f":"'City-Town Population'!G170","v":86459},{"$f":"'City-Town Population'!A170","v":"Fishers town (2)"},null,9665,"Variance is due to state executive order increasing population"]
[{"$f":"'Website Report'!C70","v":"City/Town"},{"$f":"'Website Report'!E70","v":"FLORA "},{"$f":"'Website Report'!G70","v":2036},null,{"$f":"'City-Town Population'!G171","v":2036},{"$f":"'City-Town Population'!A171","v":"Flora town"},null,0]
[{"$f":"'Website Report'!C216","v":"City/Town"},{"$f":"'Website Report'!E216","v":"FORT BRANCH "},{"$f":"'Website Report'!G216","v":2771},null,{"$f":"'City-Town Population'!G172","v":2771},{"$f":"'City-Town Population'!A172","v":"Fort Branch town"},null,0]
[{"$f":"'Website Report'!C265","v":"City/Town"},{"$f":"'Website Report'!E16","v":"FORTWAYNE"},{"$f":"'Website Report'!G16","v":253689},null,{"$f":"'City-Town Population'!G173","v":253689},{"$f":"'City-Town Population'!A173","v":"Fort Wayne city (11)"},null,0]
[{"$f":"'Website Report'!C16","v":"City/Town"},{"$f":"'Website Report'!E265","v":"FORTVILLE "},{"$f":"'Website Report'!G265","v":3929},null,{"$f":"'City-Town Population'!G174","v":3929},{"$f":"'City-Town Population'!A174","v":"Fortville town"},null,0]
[{"$f":"'Website Report'!C756","v":"City/Town"},{"$f":"'Website Report'!E756","v":"FOUNTAIN "},{"$f":"'Website Report'!G756","v":796},null,{"$f":"'City-Town Population'!G175","v":796},{"$f":"'City-Town Population'!A175","v":"Fountain City"},null,0]
[{"$f":"'Website Report'!C40","v":"City/Town"},{"$f":"'Website Report'!E40","v":"FOWLER "},{"$f":"'Website Report'!G40","v":2317},null,{"$f":"'City-Town Population'!G176","v":2317},{"$f":"'City-Town Population'!A176","v":"Fowler town"},null,{"$f":"E171-C171","v":0}]
[{"$f":"'Website Report'!C231","v":"City/Town"},{"$f":"'Website Report'!E231","v":"FOWLERTON "},{"$f":"'Website Report'!G231","v":261},null,{"$f":"'City-Town Population'!G177","v":261},{"$f":"'City-Town Population'!A177","v":"Fowlerton town"},null,0]
[{"$f":"'Website Report'!C569","v":"City/Town"},{"$f":"'Website Report'!E569","v":"FRANCESVILLE "},{"$f":"'Website Report'!G569","v":879},null,{"$f":"'City-Town Population'!G178","v":879},{"$f":"'City-Town Population'!A178","v":"Francesville town"},null,0]
[{"$f":"'Website Report'!C217","v":"City/Town"},{"$f":"'Website Report'!E217","v":"FRANCISCO "},{"$f":"'Website Report'!G217","v":469},null,{"$f":"'City-Town Population'!G179","v":469},{"$f":"'City-Town Population'!A179","v":"Francisco town"},null,0]
[{"$f":"'Website Report'!C103","v":"City/Town"},{"$f":"'Website Report'!E103","v":"FRANKFORT "},{"$f":"'Website Report'!G103","v":16422},null,{"$f":"'City-Town Population'!G180","v":16422},{"$f":"'City-Town Population'!A180","v":"Frankfort city"},null,0]
[{"$f":"'Website Report'!C361","v":"City/Town"},{"$f":"'Website Report'!E361","v":"FRANKLIN "},{"$f":"'Website Report'!G361","v":23712},null,{"$f":"'City-Town Population'!G181","v":23712},{"$f":"'City-Town Population'!A181","v":"Franklin city"},null,0]
[{"$f":"'Website Report'!C418","v":"City/Town"},{"$f":"'Website Report'!E418","v":"FRANKTON "},{"$f":"'Website Report'!G418","v":1862},null,{"$f":"'City-Town Population'!G182","v":1862},{"$f":"'City-Town Population'!A182","v":"Frankton town"},null,0]
[null,"Blank",null,null,{"$f":"'City-Town Population'!G183","v":0},{"$f":"'City-Town Population'!A183","v":"Fredericksburg town (3)"},null,0,"Town was dissolved"]
[{"$f":"'Website Report'!C659","v":"City/Town"},{"$f":"'Website Report'!E659","v":"FREMONT "},{"$f":"'Website Report'!G659","v":2138},null,{"$f":"'City-Town Population'!G184","v":2138},{"$f":"'City-Town Population'!A184","v":"Fremont town"},null,0]
[null,"Blank",null,null,{"$f":"'City-Town Population'!G185","v":1807},{"$f":"'City-Town Population'!A185","v":"French Lick town"},null,1807,"Orange County - Does not receive riverboat sharing"]
[{"$f":"'Website Report'!C210","v":"City/Town"},{"$f":"'Website Report'!E210","v":"FULTON "},{"$f":"'Website Report'!G210","v":333},null,{"$f":"'City-Town Population'!G186","v":333},{"$f":"'City-Town Population'!A186","v":"Fulton town"},null,0]
[{"$f":"'Website Report'!C75","v":"City/Town"},{"$f":"'Website Report'!E75","v":"GALVESTON "},{"$f":"'Website Report'!G75","v":1311},null,{"$f":"'City-Town Population'!G187","v":1311},{"$f":"'City-Town Population'!A187","v":"Galveston town"},null,0]
[{"$f":"'Website Report'!C142","v":"City/Town"},{"$f":"'Website Report'!E142","v":"GARRETT "},{"$f":"'Website Report'!G142","v":6286},null,{"$f":"'City-Town Population'!G188","v":6286},{"$f":"'City-Town Population'!A188","v":"Garrett city"},null,0]
[null,"Blank",null,null,{"$f":"'City-Town Population'!G189","v":80294},{"$f":"'City-Town Population'!A189","v":"Gary city"},null,80294,"Lake County - Does not receive riverboat sharing"]
[{"$f":"'Website Report'!C232","v":"City/Town"},{"$f":"'Website Report'!E232","v":"GAS CITY "},{"$f":"'Website Report'!G232","v":5965},null,{"$f":"'City-Town Population'!G190","v":6167},{"$f":"'City-Town Population'!A190","v":"Gas City (4)"},null,202,"Variance is due to state executive order increasing population"]
[{"$f":"'Website Report'!C153","v":"City/Town"},{"$f":"'Website Report'!E153","v":"GASTON "},{"$f":"'Website Report'!G153","v":871},null,{"$f":"'City-Town Population'!G191","v":871},{"$f":"'City-Town Population'!A191","v":"Gaston town"},null,0]
[{"$f":"'Website Report'!C11","v":"City/Town"},{"$f":"'Website Report'!E11","v":"GENEVA"},{"$f":"'Website Report'!G11","v":1293},null,{"$f":"'City-Town Population'!G192","v":1293},{"$f":"'City-Town Population'!A192","v":"Geneva town"},null,0]
[{"$f":"'Website Report'!C641","v":"City/Town"},{"$f":"'Website Report'!E641","v":"GENTRYVILLE "},{"$f":"'Website Report'!G641","v":268},null,{"$f":"'City-Town Population'!G193","v":268},{"$f":"'City-Town Population'!A193","v":"Gentryville town"},null,0]
[{"$f":"'Website Report'!C183","v":"City/Town"},{"$f":"'Website Report'!E183","v":"GEORGETOWN "},{"$f":"'Website Report'!G183","v":2876},null,{"$f":"'City-Town Population'!G194","v":2876},{"$f":"'City-Town Population'!A194","v":"Georgetown town (Floyd County)"},null,0]
[{"$f":"'Website Report'!C179","v":"City/Town"},{"$f":"'Website Report'!E179","v":"GLENWOOD"},{"$f":"'Website Report'!G179","v":76},null,{"$f":"'City-Town Population'!G195","v":250},{"$f":"'City-Town Population'!A195","v":"Glenwood town"},null,174]
[{"$f":"'Website Report'!C504","v":"City/Town"},{"$f":"'Website Report'!E504","v":"GOODLAND "},{"$f":"'Website Report'!G504","v":1043},null,{"$f":"'City-Town Population'!G196","v":1043},{"$f":"'City-Town Population'!A196","v":"Goodland town"},null,0]
[{"$f":"'Website Report'!C170","v":"City/Town"},{"$f":"'Website Report'!E170","v":"GOSHEN "},{"$f":"'Website Report'!G170","v":31719},null,{"$f":"'City-Town Population'!G197","v":31719},{"$f":"'City-Town Population'!A197","v":"Goshen city"},null,0]
[{"$f":"'Website Report'!C521","v":"City/Town"},{"$f":"'Website Report'!E521","v":"GOSPORT "},{"$f":"'Website Report'!G521","v":826},null,{"$f":"'City-Town Population'!G198","v":826},{"$f":"'City-Town Population'!A198","v":"Gosport town"},null,0]
[{"$f":"'Website Report'!C17","v":"City/Town"},{"$f":"'Website Report'!E17","v":"GRABILL"},{"$f":"'Website Report'!G17","v":1053},null,{"$f":"'City-Town Population'!G199","v":1053},{"$f":"'City-Town Population'!A199","v":"Grabill town"},null,0]
[{"$f":"'Website Report'!C642","v":"City/Town"},{"$f":"'Website Report'!E642","v":"GRANDVIEW "},{"$f":"'Website Report'!G642","v":749},null,{"$f":"'City-Town Population'!G200","v":749},{"$f":"'City-Town Population'!A200","v":"Grandview town"},null,0]
[{"$f":"'Website Report'!C579","v":"City/Town"},{"$f":"'Website Report'!E579","v":"GREENCASTLE "},{"$f":"'Website Report'!G579","v":10326},null,{"$f":"'City-Town Population'!G201","v":10326},{"$f":"'City-Town Population'!A201","v":"Greencastle city"},null,0]
[null,"Blank",null,null,{"$f":"'City-Town Population'!G202","v":4520},{"$f":"'City-Town Population'!A202","v":"Greendale city"},null,4520,"Dearborn County - Does not receive riverboat sharing"]
[{"$f":"'Website Report'!C266","v":"City/Town"},{"$f":"'Website Report'!E266","v":"GREENFIELD "},{"$f":"'Website Report'!G266","v":20602},null,{"$f":"'City-Town Population'!G203","v":20602},{"$f":"'City-Town Population'!A203","v":"Greenfield city"},null,0]
[{"$f":"'Website Report'!C757","v":"City/Town"},{"$f":"'Website Report'!E757","v":"GREENSFORK "},{"$f":"'Website Report'!G757","v":423},null,{"$f":"'City-Town Population'!G204","v":423},{"$f":"'City-Town Population'!A204","v":"Greens Fork town"},null,0]
[{"$f":"'Website Report'!C293","v":"City/Town"},{"$f":"'Website Report'!E293","v":"GREENSBORO "},{"$f":"'Website Report'!G293","v":143},null,{"$f":"'City-Town Population'!G205","v":143},{"$f":"'City-Town Population'!A205","v":"Greensboro town"},null,0]
[{"$f":"'Website Report'!C129","v":"City/Town"},{"$f":"'Website Report'!E129","v":"GREENSBURG "},{"$f":"'Website Report'!G129","v":11492},null,{"$f":"'City-Town Population'!G206","v":11492},{"$f":"'City-Town Population'!A206","v":"Greensburg city"},null,0]
[{"$f":"'Website Report'!C309","v":"City/Town"},{"$f":"'Website Report'!E309","v":"GREENTOWN "},{"$f":"'Website Report'!G309","v":2415},null,{"$f":"'City-Town Population'!G207","v":2415},{"$f":"'City-Town Population'!A207","v":"Greentown town"},null,0]
[{"$f":"'Website Report'!C184","v":"City/Town"},{"$f":"'Website Report'!E184","v":"GREENVILLE "},{"$f":"'Website Report'!G184","v":595},null,{"$f":"'City-Town Population'!G208","v":595},{"$f":"'City-Town Population'!A208","v":"Greenville town"},null,0]
[{"$f":"'Website Report'!C362","v":"City/Town"},{"$f":"'Website Report'!E362","v":"GREENWOOD "},{"$f":"'Website Report'!G362","v":49791},null,{"$f":"'City-Town Population'!G209","v":49791},{"$f":"'City-Town Population'!A209","v":"Greenwood city"},null,0]
[{"$f":"'Website Report'!C562","v":"City/Town"},{"$f":"'Website Report'!E562","v":"GRIFFIN "},{"$f":"'Website Report'!G562","v":172},null,{"$f":"'City-Town Population'!G210","v":172},{"$f":"'City-Town Population'!A210","v":"Griffin town"},null,0]
[null,"Blank",null,null,{"$f":"'City-Town Population'!G211","v":16893},{"$f":"'City-Town Population'!A211","v":"Griffith town"},null,16893,"Lake County - Does not receive riverboat sharing"]
[{"$f":"'Website Report'!C758","v":"City/Town"},{"$f":"'Website Report'!E758","v":"HAGERSTOWN "},{"$f":"'Website Report'!G758","v":1787},null,{"$f":"'City-Town Population'!G212","v":1787},{"$f":"'City-Town Population'!A212","v":"Hagerstown town"},null,0]
[{"$f":"'Website Report'!C143","v":"City/Town"},{"$f":"'Website Report'!E143","v":"HAMILTON "},{"$f":"'Website Report'!G143","v":244},null,{"$f":"'City-Town Population'!G213","v":1532},{"$f":"'City-Town Population'!A213","v":"Hamilton town"},null,1288,"Variance is due to City/Town being located in multiple taxing districtcs. "]
[{"$f":"'Website Report'!C650","v":"City/Town"},{"$f":"'Website Report'!E650","v":"HAMLET "},{"$f":"'Website Report'!G650","v":800},null,{"$f":"'City-Town Population'!G214","v":800},{"$f":"'City-Town Population'!A214","v":"Hamlet town"},null,0]
[null,"Blank",null,null,{"$f":"'City-Town Population'!G215","v":80830},{"$f":"'City-Town Population'!A215","v":"Hammond city"},null,80830,"Lake County - Does not receive riverboat sharing"]
[{"$f":"'Website Report'!C349","v":"City/Town"},{"$f":"'Website Report'!E349","v":"HANOVER "},{"$f":"'Website Report'!G349","v":3546},null,{"$f":"'City-Town Population'!G216","v":3546},{"$f":"'City-Town Population'!A216","v":"Hanover town"},null,0]
[{"$f":"'Website Report'!C741","v":"City/Town"},{"$f":"'Website Report'!E741","v":"HARDINSBURG "},{"$f":"'Website Report'!G741","v":248},null,{"$f":"'City-Town Population'!G217","v":248},{"$f":"'City-Town Population'!A217","v":"Hardinsburg town"},null,0]
[{"$f":"'Website Report'!C96","v":"City/Town"},{"$f":"'Website Report'!E96","v":"HARMONY "},{"$f":"'Website Report'!G96","v":656},null,{"$f":"'City-Town Population'!G218","v":656},{"$f":"'City-Town Population'!A218","v":"Harmony town"},null,0]
[{"$f":"'Website Report'!C47","v":"City/Town"},{"$f":"'Website Report'!E47","v":"HARTFORD "},{"$f":"'Website Report'!G47","v":6220},null,{"$f":"'City-Town Population'!G219","v":6220},{"$f":"'City-Town Population'!A219","v":"Hartford City"},null,0]
[{"$f":"'Website Report'!C31","v":"City/Town"},{"$f":"'Website Report'!E31","v":"HARTSVILLE "},{"$f":"'Website Report'!G31","v":362},null,{"$f":"'City-Town Population'!G220","v":362},{"$f":"'City-Town Population'!A220","v":"Hartsville town"},null,0]
[{"$f":"'Website Report'!C218","v":"City/Town"},{"$f":"'Website Report'!E218","v":"HAUBSTADT "},{"$f":"'Website Report'!G218","v":1577},null,{"$f":"'City-Town Population'!G221","v":1577},{"$f":"'City-Town Population'!A221","v":"Haubstadt town"},null,0]
[{"$f":"'Website Report'!C219","v":"City/Town"},{"$f":"'Website Report'!E219","v":"HAZELTON "},{"$f":"'Website Report'!G219","v":263},null,{"$f":"'City-Town Population'!G222","v":263},{"$f":"'City-Town Population'!A222","v":"Hazleton town"},null,0]
[{"$f":"'Website Report'!C551","v":"City/Town"},{"$f":"'Website Report'!E551","v":"HEBRON "},{"$f":"'Website Report'!G551","v":3724},null,{"$f":"'City-Town Population'!G223","v":3724},{"$f":"'City-Town Population'!A223","v":"Hebron town"},null,0]
[null,"Blank",null,null,{"$f":"'City-Town Population'!G224","v":23727},{"$f":"'City-Town Population'!A224","v":"Highland town"},null,23727,"Lake County - Does not receive riverboat sharing"]
[{"$f":"'Website Report'!C191","v":"City/Town"},{"$f":"'Website Report'!E191","v":"HILLSBORO "},{"$f":"'Website Report'!G191","v":538},null,{"$f":"'City-Town Population'!G225","v":538},{"$f":"'City-Town Population'!A225","v":"Hillsboro town"},null,0]
[null,"Blank",null,null,{"$f":"'City-Town Population'!G226","v":29059},{"$f":"'City-Town Population'!A226","v":"Hobart city"},null,29059,"Lake County - Does not receive riverboat sharing"]
[{"$f":"'Website Report'!C162","v":"City/Town"},{"$f":"'Website Report'!E162","v":"HOLLAND "},{"$f":"'Website Report'!G162","v":626},null,{"$f":"'City-Town Population'!G227","v":626},{"$f":"'City-Town Population'!A227","v":"Holland town"},null,0]
[{"$f":"'Website Report'!C599","v":"City/Town"},{"$f":"'Website Report'!E599","v":"HOLTON "},{"$f":"'Website Report'!G599","v":480},null,{"$f":"'City-Town Population'!G228","v":480},{"$f":"'City-Town Population'!A228","v":"Holton town"},null,0]
[{"$f":"'Website Report'!C435","v":"City/Town"},{"$f":"'Website Report'!E435","v":"HOMECROFT "},{"$f":"'Website Report'!G435","v":722},null,{"$f":"'City-Town Population'!G229","v":722},{"$f":"'City-Town Population'!A229","v":"Homecroft town"},null,0]
[{"$f":"'Website Report'!C32","v":"City/Town"},{"$f":"'Website Report'!E32","v":"HOPE "},{"$f":"'Website Report'!G32","v":2102},null,{"$f":"'City-Town Population'!G230","v":2102},{"$f":"'City-Town Population'!A230","v":"Hope town"},null,0]
[{"$f":"'Website Report'!C661","v":"City/Town"},{"$f":"'Website Report'!E661","v":"HUDSON "},{"$f":"'Website Report'!G661","v":518},null,{"$f":"'City-Town Population'!G231","v":518},{"$f":"'City-Town Population'!A231","v":"Hudson town"},null,0]
[{"$f":"'Website Report'!C18","v":"City/Town"},{"$f":"'Website Report'!E18","v":"HUNTERTOWN"},{"$f":"'Website Report'!G18","v":4810},null,{"$f":"'City-Town Population'!G232","v":6399},{"$f":"'City-Town Population'!A232","v":"Huntertown town (10)"},null,1589,"Variance is due to state executive order increasing population"]
[{"$f":"'Website Report'!C163","v":"City/Town"},{"$f":"'Website Report'!E163","v":"HUNTINGBURG "},{"$f":"'Website Report'!G163","v":6057},null,{"$f":"'City-Town Population'!G233","v":6057},{"$f":"'City-Town Population'!A233","v":"Huntingburg city"},null,0]
[{"$f":"'Website Report'!C316","v":"City/Town"},{"$f":"'Website Report'!E316","v":"HUNTINGTON "},{"$f":"'Website Report'!G316","v":17391},null,{"$f":"'City-Town Population'!G234","v":17391},{"$f":"'City-Town Population'!A234","v":"Huntington city"},null,0]
[{"$f":"'Website Report'!C669","v":"City/Town"},{"$f":"'Website Report'!E669","v":"HYMERA "},{"$f":"'Website Report'!G669","v":801},null,{"$f":"'City-Town Population'!G235","v":801},{"$f":"'City-Town Population'!A235","v":"Hymera town"},null,0]
[{"$f":"'Website Report'!C614","v":"City/Town"},{"$f":"'Website Report'!E614","v":"INDIAN VILLAGE "},{"$f":"'Website Report'!G614","v":133},null,{"$f":"'City-Town Population'!G236","v":133},{"$f":"'City-Town Population'!A236","v":"Indian Village town"},null,0]
[{"$f":"'Website Report'!C430","v":"Con City"},{"$f":"'Website Report'!E430","v":"INDIANAPOLIS "},{"$f":"'Website Report'!G430","v":324565},null,{"$f":"'City-Town Population'!G237","v":820445},{"$f":"'City-Town Population'!A237","v":"Indianapolis city (balance)"},null,495880]
[{"$f":"'Website Report'!C419","v":"City/Town"},{"$f":"'Website Report'!E419","v":"INGALLS "},{"$f":"'Website Report'!G419","v":2394},null,{"$f":"'City-Town Population'!G238","v":2394},{"$f":"'City-Town Population'!A238","v":"Ingalls town"},null,{"$f":"E233-C233","v":0}]
[{"$f":"'Website Report'!C54","v":"City/Town"},{"$f":"'Website Report'!E54","v":"JAMESTOWN "},{"$f":"'Website Report'!G54","v":933},null,{"$f":"'City-Town Population'!G239","v":958},{"$f":"'City-Town Population'!A239","v":"Jamestown town"},null,25,"Variance is due to City/Town being located in multiple taxing districtcs. "]
[{"$f":"'Website Report'!C244","v":"City/Town"},{"$f":"'Website Report'!E244","v":"JASONVILLE "},{"$f":"'Website Report'!G244","v":2222},null,{"$f":"'City-Town Population'!G240","v":2222},{"$f":"'City-Town Population'!A240","v":"Jasonville city"},null,0]
[{"$f":"'Website Report'!C164","v":"City/Town"},{"$f":"'Website Report'!E164","v":"JASPER "},{"$f":"'Website Report'!G164","v":15038},null,{"$f":"'City-Town Population'!G241","v":15038},{"$f":"'City-Town Population'!A241","v":"Jasper city"},null,0]
[{"$f":"'Website Report'!C85","v":"City/Town"},{"$f":"'Website Report'!E85","v":"JEFFERSONVILLE "},{"$f":"'Website Report'!G85","v":44953},null,{"$f":"'City-Town Population'!G242","v":44953},{"$f":"'City-Town Population'!A242","v":"Jeffersonville city"},null,0]
[{"$f":"'Website Report'!C233","v":"City/Town"},{"$f":"'Website Report'!E233","v":"JONESBORO "},{"$f":"'Website Report'!G233","v":1756},null,{"$f":"'City-Town Population'!G243","v":1756},{"$f":"'City-Town Population'!A243","v":"Jonesboro city"},null,0]
[{"$f":"'Website Report'!C33","v":"City/Town"},{"$f":"'Website Report'!E33","v":"JONESVILLE "},{"$f":"'Website Report'!G33","v":177},null,{"$f":"'City-Town Population'!G244","v":177},{"$f":"'City-Town Population'!A244","v":"Jonesville town"},null,0]
[{"$f":"'Website Report'!C687","v":"City/Town"},{"$f":"'Website Report'!E687","v":"KEMPTON "},{"$f":"'Website Report'!G687","v":335},null,{"$f":"'City-Town Population'!G245","v":335},{"$f":"'City-Town Population'!A245","v":"Kempton town"},null,0]
[{"$f":"'Website Report'!C514","v":"City/Town"},{"$f":"'Website Report'!E514","v":"KENDALLVILLE "},{"$f":"'Website Report'!G514","v":9862},null,{"$f":"'City-Town Population'!G246","v":9862},{"$f":"'City-Town Population'!A246","v":"Kendallville city"},null,0]
[{"$f":"'Website Report'!C294","v":"City/Town"},{"$f":"'Website Report'!E294","v":"KENNARD "},{"$f":"'Website Report'!G294","v":471},null,{"$f":"'City-Town Population'!G247","v":471},{"$f":"'City-Town Population'!A247","v":"Kennard town"},null,0]
[{"$f":"'Website Report'!C505","v":"City/Town"},{"$f":"'Website Report'!E505","v":"KENTLAND "},{"$f":"'Website Report'!G505","v":1748},null,{"$f":"'City-Town Population'!G248","v":1748},{"$f":"'City-Town Population'!A248","v":"Kentland town"},null,0]
[{"$f":"'Website Report'!C211","v":"City/Town"},{"$f":"'Website Report'!E211","v":"KEWANNA "},{"$f":"'Website Report'!G211","v":613},null,{"$f":"'City-Town Population'!G249","v":613},{"$f":"'City-Town Population'!A249","v":"Kewanna town"},null,0]
[{"$f":"'Website Report'!C192","v":"City/Town"},{"$f":"'Website Report'!E192","v":"KINGMAN "},{"$f":"'Website Report'!G192","v":511},null,{"$f":"'City-Town Population'!G250","v":511},{"$f":"'City-Town Population'!A250","v":"Kingman town"},null,0]
[null,"Blank",null,null,{"$f":"'City-Town Population'!G251","v":242},{"$f":"'City-Town Population'!A251","v":"Kingsbury town"},null,242,"LaPorte County - Does not receive riverboat sharing"]
[null,"Blank",null,null,{"$f":"'City-Town Population'!G252","v":1435},{"$f":"'City-Town Population'!A252","v":"Kingsford Heights town"},null,1435,"LaPorte County - Does not receive riverboat sharing"]
[{"$f":"'Website Report'!C104","v":"City/Town"},{"$f":"'Website Report'!E104","v":"KIRKLIN "},{"$f":"'Website Report'!G104","v":788},null,{"$f":"'City-Town Population'!G253","v":788},{"$f":"'City-Town Population'!A253","v":"Kirklin town"},null,0]
[{"$f":"'Website Report'!C295","v":"City/Town"},{"$f":"'Website Report'!E295","v":"KNIGHTSTOWN "},{"$f":"'Website Report'!G295","v":2182},null,{"$f":"'City-Town Population'!G254","v":2182},{"$f":"'City-Town Population'!A254","v":"Knightstown town"},null,0]
[{"$f":"'Website Report'!C97","v":"City/Town"},{"$f":"'Website Report'!E97","v":"KNIGHTSVILLE "},{"$f":"'Website Report'!G97","v":872},null,{"$f":"'City-Town Population'!G255","v":872},{"$f":"'City-Town Population'!A255","v":"Knightsville town"},null,0]
[{"$f":"'Website Report'!C651","v":"City/Town"},{"$f":"'Website Report'!E651","v":"KNOX "},{"$f":"'Website Report'!G651","v":3704},null,{"$f":"'City-Town Population'!G256","v":3704},{"$f":"'City-Town Population'!A256","v":"Knox city"},null,0]
[{"$f":"'Website Report'!C310","v":"City/Town"},{"$f":"'Website Report'!E310","v":"KOKOMO "},{"$f":"'Website Report'!G310","v":45468},null,{"$f":"'City-Town Population'!G257","v":58062},{"$f":"'City-Town Population'!A257","v":"Kokomo city (5)"},null,12594,"Variance is due to state executive order increasing population"]
[{"$f":"'Website Report'!C552","v":"City/Town"},{"$f":"'Website Report'!E552","v":"KOUTS "},{"$f":"'Website Report'!G552","v":1879},null,{"$f":"'City-Town Population'!G258","v":1879},{"$f":"'City-Town Population'!A258","v":"Kouts town"},null,0]
[null,"Blank",null,null,{"$f":"'City-Town Population'!G259","v":551},{"$f":"'City-Town Population'!A259","v":"La Crosse town"},null,551,"LaPorte County - Does not receive riverboat sharing"]
[{"$f":"'Website Report'!C716","v":"City/Town"},{"$f":"'Website Report'!E716","v":"LA FONTAINE "},{"$f":"'Website Report'!G716","v":875},null,{"$f":"'City-Town Population'!G260","v":875},{"$f":"'City-Town Population'!A260","v":"La Fontaine town"},null,0]
[{"$f":"'Website Report'!C453","v":"City/Town"},{"$f":"'Website Report'!E453","v":"LAPAZ "},{"$f":"'Website Report'!G453","v":561},null,{"$f":"'City-Town Population'!G261","v":561},{"$f":"'City-Town Population'!A261","v":"La Paz town"},null,0]
[null,"Blank",null,null,{"$f":"'City-Town Population'!G262","v":22053},{"$f":"'City-Town Population'!A262","v":"La Porte city"},null,22053,"LaPorte County - Does not receive riverboat sharing"]
[null,"Blank",null,null,{"$f":"'City-Town Population'!G263","v":50},{"$f":"'City-Town Population'!A263","v":"Laconia town"},null,50,"Harrison County - Does not receive riverboat sharing"]
[{"$f":"'Website Report'!C482","v":"City/Town"},{"$f":"'Website Report'!E482","v":"LADOGA "},{"$f":"'Website Report'!G482","v":985},null,{"$f":"'City-Town Population'!G264","v":985},{"$f":"'City-Town Population'!A264","v":"Ladoga town"},null,0]
[{"$f":"'Website Report'!C679","v":"City/Town"},{"$f":"'Website Report'!E679","v":"LAFAYETTE "},{"$f":"'Website Report'!G679","v":67140},null,{"$f":"'City-Town Population'!G265","v":67140},{"$f":"'City-Town Population'!A265","v":"Lafayette city"},null,0]
[{"$f":"'Website Report'!C399","v":"City/Town"},{"$f":"'Website Report'!E399","v":"LAGRANGE "},{"$f":"'Website Report'!G399","v":2625},null,{"$f":"'City-Town Population'!G266","v":2625},{"$f":"'City-Town Population'!A266","v":"Lagrange town"},null,0]
[{"$f":"'Website Report'!C717","v":"City/Town"},{"$f":"'Website Report'!E717","v":"LAGRO "},{"$f":"'Website Report'!G717","v":415},null,{"$f":"'City-Town Population'!G267","v":415},{"$f":"'City-Town Population'!A267","v":"Lagro town"},null,0]
[null,"Blank",null,null,{"$f":"'City-Town Population'!G268","v":12572},{"$f":"'City-Town Population'!A268","v":"Lake Station city"},null,12572,"Lake County - Does not receive riverboat sharing"]
[{"$f":"'Website Report'!C615","v":"City/Town"},{"$f":"'Website Report'!E615","v":"LAKEVILLE "},{"$f":"'Website Report'!G615","v":786},null,{"$f":"'City-Town Population'!G269","v":786},{"$f":"'City-Town Population'!A269","v":"Lakeville town"},null,0]
[null,"Blank",null,null,{"$f":"'City-Town Population'!G270","v":564},{"$f":"'City-Town Population'!A270","v":"Lanesville town"},null,564,"Harrison County - Does not receive riverboat sharing"]
[{"$f":"'Website Report'!C420","v":"City/Town"},{"$f":"'Website Report'!E420","v":"LAPEL "},{"$f":"'Website Report'!G420","v":2068},null,{"$f":"'City-Town Population'!G271","v":2068},{"$f":"'City-Town Population'!A271","v":"Lapel town"},null,0]
[{"$f":"'Website Report'!C789","v":"City/Town"},{"$f":"'Website Report'!E789","v":"LARWILL "},{"$f":"'Website Report'!G789","v":283},null,{"$f":"'City-Town Population'!G272","v":283},{"$f":"'City-Town Population'!A272","v":"Larwill town"},null,0]
[{"$f":"'Website Report'!C203","v":"City/Town"},{"$f":"'Website Report'!E203","v":"LAUREL "},{"$f":"'Website Report'!G203","v":512},null,{"$f":"'City-Town Population'!G273","v":512},{"$f":"'City-Town Population'!A273","v":"Laurel town"},null,0]
[{"$f":"'Website Report'!C436","v":"City/Town"},{"$f":"'Website Report'!E436","v":"LAWRENCE "},{"$f":"'Website Report'!G436","v":46001},null,{"$f":"'City-Town Population'!G274","v":46001},{"$f":"'City-Town Population'!A274","v":"Lawrence city"},null,0]
[null,"Blank",null,null,{"$f":"'City-Town Population'!G275","v":5042},{"$f":"'City-Town Population'!A275","v":"Lawrenceburg city"},null,5042,"Dearborn County - Does not receive riverboat sharing"]
[{"$f":"'Website Report'!C113","v":"City/Town"},{"$f":"'Website Report'!E113","v":"LEAVENWORTH "},{"$f":"'Website Report'!G113","v":238},null,{"$f":"'City-Town Population'!G276","v":238},{"$f":"'City-Town Population'!A276","v":"Leavenworth town"},null,0]
[{"$f":"'Website Report'!C55","v":"City/Town"},{"$f":"'Website Report'!E55","v":"LEBANON "},{"$f":"'Website Report'!G55","v":15792},null,{"$f":"'City-Town Population'!G277","v":15792},{"$f":"'City-Town Population'!A277","v":"Lebanon city"},null,0]
[{"$f":"'Website Report'!C385","v":"City/Town"},{"$f":"'Website Report'!E385","v":"LEESBURG "},{"$f":"'Website Report'!G385","v":555},null,{"$f":"'City-Town Population'!G278","v":555},{"$f":"'City-Town Population'!A278","v":"Leesburg town"},null,0]
[{"$f":"'Website Report'!C19","v":"City/Town"},{"$f":"'Website Report'!E19","v":"LEO-CEDARVILLE"},{"$f":"'Website Report'!G19","v":3603},null,{"$f":"'City-Town Population'!G279","v":3603},{"$f":"'City-Town Population'!A279","v":"Leo-Cedarville town"},null,0]
[{"$f":"'Website Report'!C296","v":"City/Town"},{"$f":"'Website Report'!E296","v":"LEWISVILLE "},{"$f":"'Website Report'!G296","v":366},null,{"$f":"'City-Town Population'!G280","v":366},{"$f":"'City-Town Population'!A280","v":"Lewisville town"},null,0]
[{"$f":"'Website Report'!C694","v":"City/Town"},{"$f":"'Website Report'!E694","v":"LIBERTY "},{"$f":"'Website Report'!G694","v":2133},null,{"$f":"'City-Town Population'!G281","v":2133},{"$f":"'City-Town Population'!A281","v":"Liberty town"},null,0]
[{"$f":"'Website Report'!C515","v":"City/Town"},{"$f":"'Website Report'!E515","v":"LIGONIER "},{"$f":"'Website Report'!G515","v":4405},null,{"$f":"'City-Town Population'!G282","v":4405},{"$f":"'City-Town Population'!A282","v":"Ligonier city"},null,0]
[{"$f":"'Website Report'!C483","v":"City/Town"},{"$f":"'Website Report'!E483","v":"LINDEN "},{"$f":"'Website Report'!G483","v":759},null,{"$f":"'City-Town Population'!G283","v":759},{"$f":"'City-Town Population'!A283","v":"Linden town"},null,0]
[{"$f":"'Website Report'!C245","v":"City/Town"},{"$f":"'Website Report'!E245","v":"LINTON "},{"$f":"'Website Report'!G245","v":5413},null,{"$f":"'City-Town Population'!G284","v":5413},{"$f":"'City-Town Population'!A284","v":"Linton city"},null,0]
[{"$f":"'Website Report'!C742","v":"City/Town"},{"$f":"'Website Report'!E742","v":"LITTLE YORK "},{"$f":"'Website Report'!G742","v":192},null,{"$f":"'City-Town Population'!G285","v":192},{"$f":"'City-Town Population'!A285","v":"Little York town"},null,0]
[{"$f":"'Website Report'!C743","v":"City/Town"},{"$f":"'Website Report'!E743","v":"LIVONIA "},{"$f":"'Website Report'!G743","v":128},null,{"$f":"'City-Town Population'!G286","v":128},{"$f":"'City-Town Population'!A286","v":"Livonia town"},null,0]
[{"$f":"'Website Report'!C282","v":"City/Town"},{"$f":"'Website Report'!E282","v":"LIZTON "},{"$f":"'Website Report'!G282","v":488},null,{"$f":"'City-Town Population'!G287","v":488},{"$f":"'City-Town Population'!A287","v":"Lizton town"},null,0]
[{"$f":"'Website Report'!C76","v":"City/Town"},{"$f":"'Website Report'!E76","v":"LOGANSPORT "},{"$f":"'Website Report'!G76","v":18266},null,{"$f":"'City-Town Population'!G288","v":18266},{"$f":"'City-Town Population'!A288","v":"Logansport city (11)"},null,0]
[null,"Blank",null,null,{"$f":"'City-Town Population'!G289","v":1179},{"$f":"'City-Town Population'!A289","v":"Long Beach town"},null,1179,"LaPorte County - Does not receive riverboat sharing"]
[{"$f":"'Website Report'!C459","v":"City/Town"},{"$f":"'Website Report'!E459","v":"LOOGOOTEE "},{"$f":"'Website Report'!G459","v":2751},null,{"$f":"'City-Town Population'!G290","v":2751},{"$f":"'City-Town Population'!A290","v":"Loogootee city"},null,0]
[{"$f":"'Website Report'!C587","v":"City/Town"},{"$f":"'Website Report'!E587","v":"LOSANTVILLE "},{"$f":"'Website Report'!G587","v":237},null,{"$f":"'City-Town Population'!G291","v":237},{"$f":"'City-Town Population'!A291","v":"Losantville town"},null,0]
[null,"Blank",null,null,{"$f":"'City-Town Population'!G292","v":9276},{"$f":"'City-Town Population'!A292","v":"Lowell town"},null,9276,"Lake County - Does not receive riverboat sharing"]
[{"$f":"'Website Report'!C588","v":"City/Town"},{"$f":"'Website Report'!E588","v":"LYNN "},{"$f":"'Website Report'!G588","v":1097},null,{"$f":"'City-Town Population'!G293","v":1097},{"$f":"'City-Town Population'!A293","v":"Lynn town"},null,0]
[{"$f":"'Website Report'!C734","v":"City/Town"},{"$f":"'Website Report'!E734","v":"LYNNVILLE "},{"$f":"'Website Report'!G734","v":888},null,{"$f":"'City-Town Population'!G294","v":888},{"$f":"'City-Town Population'!A294","v":"Lynnville town"},null,0]
[{"$f":"'Website Report'!C246","v":"City/Town"},{"$f":"'Website Report'!E246","v":"LYONS "},{"$f":"'Website Report'!G246","v":742},null,{"$f":"'City-Town Population'!G295","v":742},{"$f":"'City-Town Population'!A295","v":"Lyons town"},null,0]
[{"$f":"'Website Report'!C220","v":"City/Town"},{"$f":"'Website Report'!E220","v":"MACKEY "},{"$f":"'Website Report'!G220","v":106},null,{"$f":"'City-Town Population'!G296","v":106},{"$f":"'City-Town Population'!A296","v":"Mackey town"},null,0]
[{"$f":"'Website Report'!C468","v":"City/Town"},{"$f":"'Website Report'!E468","v":"MACY "},{"$f":"'Website Report'!G468","v":209},null,{"$f":"'City-Town Population'!G297","v":209},{"$f":"'City-Town Population'!A297","v":"Macy town"},null,0]
[{"$f":"'Website Report'!C350","v":"City/Town"},{"$f":"'Website Report'!E350","v":"MADISON "},{"$f":"'Website Report'!G350","v":11967},null,{"$f":"'City-Town Population'!G298","v":11967},{"$f":"'City-Town Population'!A298","v":"Madison city"},null,0]
[{"$f":"'Website Report'!C114","v":"City/Town"},{"$f":"'Website Report'!E114","v":"MARENGO "},{"$f":"'Website Report'!G114","v":828},null,{"$f":"'City-Town Population'!G299","v":828},{"$f":"'City-Town Population'!A299","v":"Marengo town"},null,0]
[{"$f":"'Website Report'!C234","v":"City/Town"},{"$f":"'Website Report'!E234","v":"MARION "},{"$f":"'Website Report'!G234","v":29950},null,{"$f":"'City-Town Population'!G300","v":29950},{"$f":"'City-Town Population'!A300","v":"Marion city (11)"},null,0]
[{"$f":"'Website Report'!C317","v":"City/Town"},{"$f":"'Website Report'!E317","v":"MARKLE "},{"$f":"'Website Report'!G317","v":647},null,{"$f":"'City-Town Population'!G301","v":1095},{"$f":"'City-Town Population'!A301","v":"Markle town"},null,{"$f":"E296-C296","v":448},"Variance is due to City/Town being located in multiple taxing districtcs. "]
[{"$f":"'Website Report'!C421","v":"City/Town"},{"$f":"'Website Report'!E421","v":"MARKLEVILLE "},{"$f":"'Website Report'!G421","v":528},null,{"$f":"'City-Town Population'!G302","v":528},{"$f":"'City-Town Population'!A302","v":"Markleville town"},null,0]
[{"$f":"'Website Report'!C527","v":"City/Town"},{"$f":"'Website Report'!E527","v":"MARSHALL"},{"$f":"'Website Report'!G527","v":324},null,{"$f":"'City-Town Population'!G303","v":324},{"$f":"'City-Town Population'!A303","v":"Marshall town"},null,0]
[{"$f":"'Website Report'!C495","v":"City/Town"},{"$f":"'Website Report'!E495","v":"MARTINSVILLE "},{"$f":"'Website Report'!G495","v":11828},null,{"$f":"'City-Town Population'!G304","v":11828},{"$f":"'City-Town Population'!A304","v":"Martinsville city"},null,0]
[{"$f":"'Website Report'!C235","v":"City/Town"},{"$f":"'Website Report'!E235","v":"MATTHEWS "},{"$f":"'Website Report'!G235","v":596},null,{"$f":"'City-Town Population'!G305","v":596},{"$f":"'City-Town Population'!A305","v":"Matthews town"},null,0]
[null,"Blank",null,null,{"$f":"'City-Town Population'!G306","v":81},{"$f":"'City-Town Population'!A306","v":"Mauckport town"},null,81,"Harrison County - Does not receive riverboat sharing"]
[{"$f":"'Website Report'!C267","v":"City/Town"},{"$f":"'Website Report'!E267","v":"MCCORDSVILLE "},{"$f":"'Website Report'!G267","v":4797},null,{"$f":"'City-Town Population'!G307","v":4797},{"$f":"'City-Town Population'!A307","v":"McCordsville town"},null,0]
[{"$f":"'Website Report'!C528","v":"City/Town"},{"$f":"'Website Report'!E528","v":"MECCA "},{"$f":"'Website Report'!G528","v":335},null,{"$f":"'City-Town Population'!G308","v":335},{"$f":"'City-Town Population'!A308","v":"Mecca town"},null,0]
[{"$f":"'Website Report'!C570","v":"City/Town"},{"$f":"'Website Report'!E570","v":"MEDARYVILLE "},{"$f":"'Website Report'!G570","v":614},null,{"$f":"'City-Town Population'!G309","v":614},{"$f":"'City-Town Population'!A309","v":"Medaryville town"},null,0]
[{"$f":"'Website Report'!C326","v":"City/Town"},{"$f":"'Website Report'!E326","v":"MEDORA "},{"$f":"'Website Report'!G326","v":693},null,{"$f":"'City-Town Population'!G310","v":693},{"$f":"'City-Town Population'!A310","v":"Medora town"},null,0]
[{"$f":"'Website Report'!C193","v":"City/Town"},{"$f":"'Website Report'!E193","v":"MELLOTT "},{"$f":"'Website Report'!G193","v":197},null,{"$f":"'City-Town Population'!G311","v":197},{"$f":"'City-Town Population'!A311","v":"Mellott town"},null,0]
[{"$f":"'Website Report'!C386","v":"City/Town"},{"$f":"'Website Report'!E386","v":"MENTONE "},{"$f":"'Website Report'!G386","v":1001},null,{"$f":"'City-Town Population'!G312","v":1001},{"$f":"'City-Town Population'!A312","v":"Mentone town"},null,0]
[{"$f":"'Website Report'!C437","v":"City/Town"},{"$f":"'Website Report'!E437","v":"MERIDIAN HILLS "},{"$f":"'Website Report'!G437","v":1616},null,{"$f":"'City-Town Population'!G313","v":1616},{"$f":"'City-Town Population'!A313","v":"Meridian Hills town"},null,0]
[{"$f":"'Website Report'!C670","v":"City/Town"},{"$f":"'Website Report'!E670","v":"MEROM "},{"$f":"'Website Report'!G670","v":228},null,{"$f":"'City-Town Population'!G314","v":228},{"$f":"'City-Town Population'!A314","v":"Merom town"},null,0]
[null,"Blank",null,null,{"$f":"'City-Town Population'!G315","v":35246},{"$f":"'City-Town Population'!A315","v":"Merrillville town"},null,35246,"Lake County - Does not receive riverboat sharing"]
[null,"Blank",null,null,{"$f":"'City-Town Population'!G316","v":313},{"$f":"'City-Town Population'!A316","v":"Michiana Shores town"},null,313,"LaPorte County - Does not receive riverboat sharing"]
[null,"Blank",null,null,{"$f":"'City-Town Population'!G317","v":31479},{"$f":"'City-Town Population'!A317","v":"Michigan City"},null,31479,"LaPorte County - Does not receive riverboat sharing"]
[{"$f":"'Website Report'!C105","v":"City/Town"},{"$f":"'Website Report'!E105","v":"MICHIGANTOWN "},{"$f":"'Website Report'!G105","v":467},null,{"$f":"'City-Town Population'!G318","v":467},{"$f":"'City-Town Population'!A318","v":"Michigantown town"},null,0]
[{"$f":"'Website Report'!C171","v":"City/Town"},{"$f":"'Website Report'!E171","v":"MIDDLEBURY "},{"$f":"'Website Report'!G171","v":3420},null,{"$f":"'City-Town Population'!G319","v":3420},{"$f":"'City-Town Population'!A319","v":"Middlebury town"},null,0]
[{"$f":"'Website Report'!C297","v":"City/Town"},{"$f":"'Website Report'!E297","v":"MIDDLETOWN "},{"$f":"'Website Report'!G297","v":2322},null,{"$f":"'City-Town Population'!G320","v":2322},{"$f":"'City-Town Population'!A320","v":"Middletown town"},null,0]
[{"$f":"'Website Report'!C600","v":"City/Town"},{"$f":"'Website Report'!E600","v":"MILAN "},{"$f":"'Website Report'!G600","v":1899},null,{"$f":"'City-Town Population'!G321","v":1899},{"$f":"'City-Town Population'!A321","v":"Milan town"},null,0]
[{"$f":"'Website Report'!C387","v":"City/Town"},{"$f":"'Website Report'!E387","v":"MILFORD "},{"$f":"'Website Report'!G387","v":1562},null,{"$f":"'City-Town Population'!G322","v":1562},{"$f":"'City-Town Population'!A322","v":"Milford town (Kosciusko Co.)"},null,0]
[{"$f":"'Website Report'!C172","v":"City/Town"},{"$f":"'Website Report'!E172","v":"MILLERSBURG "},{"$f":"'Website Report'!G172","v":903},null,{"$f":"'City-Town Population'!G323","v":903},{"$f":"'City-Town Population'!A323","v":"Millersburg town"},null,0]
[{"$f":"'Website Report'!C130","v":"City/Town"},{"$f":"'Website Report'!E130","v":"MILLHOUSEN "},{"$f":"'Website Report'!G130","v":127},null,{"$f":"'City-Town Population'!G324","v":127},{"$f":"'City-Town Population'!A324","v":"Millhousen town"},null,0]
[{"$f":"'Website Report'!C115","v":"City/Town"},{"$f":"'Website Report'!E115","v":"MILLTOWN "},{"$f":"'Website Report'!G115","v":445},null,{"$f":"'City-Town Population'!G325","v":818},{"$f":"'City-Town Population'!A325","v":"Milltown town"},null,373,"Not sure, need to research"]
[{"$f":"'Website Report'!C759","v":"City/Town"},{"$f":"'Website Report'!E759","v":"MILTON "},{"$f":"'Website Report'!G759","v":490},null,{"$f":"'City-Town Population'!G326","v":490},{"$f":"'City-Town Population'!A326","v":"Milton town"},null,0]
[{"$f":"'Website Report'!C616","v":"City/Town"},{"$f":"'Website Report'!E616","v":"MISHAWAKA "},{"$f":"'Website Report'!G616","v":48252},null,{"$f":"'City-Town Population'!G327","v":48252},{"$f":"'City-Town Population'!A327","v":"Mishawaka city"},null,0]
[{"$f":"'Website Report'!C407","v":"City/Town"},{"$f":"'Website Report'!E407","v":"MITCHELL "},{"$f":"'Website Report'!G407","v":4350},null,{"$f":"'City-Town Population'!G328","v":4350},{"$f":"'City-Town Population'!A328","v":"Mitchell city"},null,0]
[{"$f":"'Website Report'!C589","v":"City/Town"},{"$f":"'Website Report'!E589","v":"MODOC "},{"$f":"'Website Report'!G589","v":196},null,{"$f":"'City-Town Population'!G329","v":196},{"$f":"'City-Town Population'!A329","v":"Modoc town"},null,0]
[{"$f":"'Website Report'!C780","v":"City/Town"},{"$f":"'Website Report'!E780","v":"MONON "},{"$f":"'Website Report'!G780","v":1777},null,{"$f":"'City-Town Population'!G330","v":1777},{"$f":"'City-Town Population'!A330","v":"Monon town"},null,0]
[{"$f":"'Website Report'!C12","v":"City/Town"},{"$f":"'Website Report'!E12","v":"MONROE"},{"$f":"'Website Report'!G12","v":842},null,{"$f":"'City-Town Population'!G331","v":545},{"$f":"'City-Town Population'!A331","v":"Monroe City"},null,-297,"Okay"]
[{"$f":"'Website Report'!C374","v":"City/Town"},{"$f":"'Website Report'!E374","v":"MONROE "},{"$f":"'Website Report'!G374","v":545},null,{"$f":"'City-Town Population'!G332","v":842},{"$f":"'City-Town Population'!A332","v":"Monroe town"},null,297,"Okay"]
[{"$f":"'Website Report'!C20","v":"City/Town"},{"$f":"'Website Report'!E20","v":"MONROEVILLE"},{"$f":"'Website Report'!G20","v":1235},null,{"$f":"'City-Town Population'!G333","v":1235},{"$f":"'City-Town Population'!A333","v":"Monroeville town"},null,0]
[{"$f":"'Website Report'!C496","v":"City/Town"},{"$f":"'Website Report'!E496","v":"MONROVIA "},{"$f":"'Website Report'!G496","v":1063},null,{"$f":"'City-Town Population'!G334","v":1063},{"$f":"'City-Town Population'!A334","v":"Monrovia town"},null,0]
[{"$f":"'Website Report'!C571","v":"City/Town"},{"$f":"'Website Report'!E571","v":"MONTEREY "},{"$f":"'Website Report'!G571","v":218},null,{"$f":"'City-Town Population'!G335","v":218},{"$f":"'City-Town Population'!A335","v":"Monterey town"},null,0]
[{"$f":"'Website Report'!C529","v":"City/Town"},{"$f":"'Website Report'!E529","v":"MONTEZUMA "},{"$f":"'Website Report'!G529","v":1022},null,{"$f":"'City-Town Population'!G336","v":1022},{"$f":"'City-Town Population'!A336","v":"Montezuma town"},null,0]
[{"$f":"'Website Report'!C122","v":"City/Town"},{"$f":"'Website Report'!E122","v":"MONTGOMERY "},{"$f":"'Website Report'!G122","v":343},null,{"$f":"'City-Town Population'!G337","v":343},{"$f":"'City-Town Population'!A337","v":"Montgomery town"},null,0]
[{"$f":"'Website Report'!C781","v":"City/Town"},{"$f":"'Website Report'!E781","v":"MONTICELLO "},{"$f":"'Website Report'!G781","v":5378},null,{"$f":"'City-Town Population'!G338","v":5378},{"$f":"'City-Town Population'!A338","v":"Monticello city"},null,0]
[{"$f":"'Website Report'!C48","v":"City/Town"},{"$f":"'Website Report'!E48","v":"MONTPELIER "},{"$f":"'Website Report'!G48","v":1805},null,{"$f":"'City-Town Population'!G339","v":1805},{"$f":"'City-Town Population'!A339","v":"Montpelier city"},null,0]
[{"$f":"'Website Report'!C298","v":"City/Town"},{"$f":"'Website Report'!E298","v":"MOORELAND "},{"$f":"'Website Report'!G298","v":375},null,{"$f":"'City-Town Population'!G340","v":375},{"$f":"'City-Town Population'!A340","v":"Mooreland town"},null,0]
[null,"Blank",null,null,{"$f":"'City-Town Population'!G341","v":597},{"$f":"'City-Town Population'!A341","v":"Moores Hill town"},null,597,"Dearborn County - Does not receive riverboat sharing"]
[{"$f":"'Website Report'!C497","v":"City/Town"},{"$f":"'Website Report'!E497","v":"MOORESVILLE "},{"$f":"'Website Report'!G497","v":9326},null,{"$f":"'City-Town Population'!G342","v":9326},{"$f":"'City-Town Population'!A342","v":"Mooresville town"},null,0]
[{"$f":"'Website Report'!C498","v":"City/Town"},{"$f":"'Website Report'!E498","v":"MORGANTOWN "},{"$f":"'Website Report'!G498","v":986},null,{"$f":"'City-Town Population'!G343","v":986},{"$f":"'City-Town Population'!A343","v":"Morgantown town"},null,0]
[{"$f":"'Website Report'!C506","v":"City/Town"},{"$f":"'Website Report'!E506","v":"MOROCCO "},{"$f":"'Website Report'!G506","v":1129},null,{"$f":"'City-Town Population'!G344","v":1129},{"$f":"'City-Town Population'!A344","v":"Morocco town"},null,0]
[{"$f":"'Website Report'!C633","v":"City/Town"},{"$f":"'Website Report'!E633","v":"MORRISTOWN "},{"$f":"'Website Report'!G633","v":1218},null,{"$f":"'City-Town Population'!G345","v":1218},{"$f":"'City-Town Population'!A345","v":"Morristown town"},null,0]
[{"$f":"'Website Report'!C760","v":"City/Town"},{"$f":"'Website Report'!E760","v":"MOUNT AUBURN "},{"$f":"'Website Report'!G760","v":117},null,{"$f":"'City-Town Population'!G346","v":117},{"$f":"'City-Town Population'!A346","v":"Mount Auburn town"},null,0]
[{"$f":"'Website Report'!C507","v":"City/Town"},{"$f":"'Website Report'!E507","v":"MOUNT AYR "},{"$f":"'Website Report'!G507","v":122},null,{"$f":"'City-Town Population'!G347","v":122},{"$f":"'City-Town Population'!A347","v":"Mount Ayr town"},null,0]
[{"$f":"'Website Report'!C204","v":"City/Town"},{"$f":"'Website Report'!E204","v":"MOUNT CARMEL "},{"$f":"'Website Report'!G204","v":86},null,{"$f":"'City-Town Population'!G348","v":86},{"$f":"'City-Town Population'!A348","v":"Mount Carmel town"},null,0]
[{"$f":"'Website Report'!C318","v":"City/Town"},{"$f":"'Website Report'!E318","v":"MOUNT ETNA "},{"$f":"'Website Report'!G318","v":94},null,{"$f":"'City-Town Population'!G349","v":94},{"$f":"'City-Town Population'!A349","v":"Mount Etna town"},null,0]
[{"$f":"'Website Report'!C299","v":"City/Town"},{"$f":"'Website Report'!E299","v":"MOUNT SUMMIT "},{"$f":"'Website Report'!G299","v":352},null,{"$f":"'City-Town Population'!G350","v":352},{"$f":"'City-Town Population'!A350","v":"Mount Summit town"},null,0]
[{"$f":"'Website Report'!C563","v":"City/Town"},{"$f":"'Website Report'!E563","v":"MOUNT VERNON "},{"$f":"'Website Report'!G563","v":6687},null,{"$f":"'City-Town Population'!G351","v":6687},{"$f":"'City-Town Population'!A351","v":"Mount Vernon city"},null,0]
[{"$f":"'Website Report'!C106","v":"City/Town"},{"$f":"'Website Report'!E106","v":"MULBERRY "},{"$f":"'Website Report'!G106","v":1254},null,{"$f":"'City-Town Population'!G352","v":1254},{"$f":"'City-Town Population'!A352","v":"Mulberry town"},null,0]
[{"$f":"'Website Report'!C154","v":"City/Town"},{"$f":"'Website Report'!E154","v":"MUNCIE "},{"$f":"'Website Report'!G154","v":70085},null,{"$f":"'City-Town Population'!G353","v":70085},{"$f":"'City-Town Population'!A353","v":"Muncie city"},null,0]
[null,"Blank",null,null,{"$f":"'City-Town Population'!G354","v":23603},{"$f":"'City-Town Population'!A354","v":"Munster town"},null,23603,"Lake County - Does not receive riverboat sharing"]
[{"$f":"'Website Report'!C601","v":"City/Town"},{"$f":"'Website Report'!E601","v":"NAPOLEON "},{"$f":"'Website Report'!G601","v":234},null,{"$f":"'City-Town Population'!G355","v":234},{"$f":"'City-Town Population'!A355","v":"Napoleon town"},null,0]
[{"$f":"'Website Report'!C173","v":"City/Town"},{"$f":"'Website Report'!E173","v":"NAPPANEE "},{"$f":"'Website Report'!G173","v":6162},null,{"$f":"'City-Town Population'!G356","v":6648},{"$f":"'City-Town Population'!A356","v":"Nappanee city"},null,486,"Variance is due to City/Town being located in multiple taxing districtcs. "]
[{"$f":"'Website Report'!C63","v":"City/Town"},{"$f":"'Website Report'!E63","v":"NASHVILLE "},{"$f":"'Website Report'!G63","v":803},null,{"$f":"'City-Town Population'!G357","v":803},{"$f":"'City-Town Population'!A357","v":"Nashville town"},null,0]
[{"$f":"'Website Report'!C185","v":"City/Town"},{"$f":"'Website Report'!E185","v":"NEW ALBANY "},{"$f":"'Website Report'!G185","v":36372},null,{"$f":"'City-Town Population'!G358","v":36372},{"$f":"'City-Town Population'!A358","v":"New Albany city"},null,0]
[null,"Blank",null,null,{"$f":"'City-Town Population'!G359","v":27},{"$f":"'City-Town Population'!A359","v":"New Amsterdam town"},null,27,"Harrison County - Does not receive riverboat sharing"]
[{"$f":"'Website Report'!C617","v":"City/Town"},{"$f":"'Website Report'!E617","v":"NEW CARLISLE "},{"$f":"'Website Report'!G617","v":1861},null,{"$f":"'City-Town Population'!G360","v":1861},{"$f":"'City-Town Population'!A360","v":"New Carlisle town"},null,0]
[{"$f":"'Website Report'!C300","v":"City/Town"},{"$f":"'Website Report'!E300","v":"NEW CASTLE "},{"$f":"'Website Report'!G300","v":18114},null,{"$f":"'City-Town Population'!G361","v":18114},{"$f":"'City-Town Population'!A361","v":"New Castle city"},null,0]
[null,"Blank",null,null,{"$f":"'City-Town Population'!G362","v":2035},{"$f":"'City-Town Population'!A362","v":"New Chicago town"},null,2035,"Lake County - Does not receive riverboat sharing"]
[{"$f":"'Website Report'!C564","v":"City/Town"},{"$f":"'Website Report'!E564","v":"NEW HARMONY "},{"$f":"'Website Report'!G564","v":789},null,{"$f":"'City-Town Population'!G363","v":789},{"$f":"'City-Town Population'!A363","v":"New Harmony town"},null,{"$f":"E358-C358","v":0}]
[{"$f":"'Website Report'!C21","v":"City/Town"},{"$f":"'Website Report'!E21","v":"NEW HAVEN"},{"$f":"'Website Report'!G21","v":14794},null,{"$f":"'City-Town Population'!G364","v":14794},{"$f":"'City-Town Population'!A364","v":"New Haven city"},null,0]
[{"$f":"'Website Report'!C484","v":"City/Town"},{"$f":"'Website Report'!E484","v":"NEW MARKET "},{"$f":"'Website Report'!G484","v":636},null,{"$f":"'City-Town Population'!G365","v":636},{"$f":"'City-Town Population'!A365","v":"New Market town"},null,0]
[null,"Blank",null,null,{"$f":"'City-Town Population'!G366","v":93},{"$f":"'City-Town Population'!A366","v":"New Middletown town"},null,93,"Harrison County - Does not receive riverboat sharing"]
[{"$f":"'Website Report'!C268","v":"City/Town"},{"$f":"'Website Report'!E268","v":"NEW PALESTINE "},{"$f":"'Website Report'!G268","v":2055},null,{"$f":"'City-Town Population'!G367","v":2055},{"$f":"'City-Town Population'!A367","v":"New Palestine town"},null,0]
[{"$f":"'Website Report'!C744","v":"City/Town"},{"$f":"'Website Report'!E744","v":"NEW PEKIN "},{"$f":"'Website Report'!G744","v":1401},null,{"$f":"'City-Town Population'!G368","v":1401},{"$f":"'City-Town Population'!A368","v":"New Pekin town"},null,0]
[{"$f":"'Website Report'!C131","v":"City/Town"},{"$f":"'Website Report'!E131","v":"NEWPOINT "},{"$f":"'Website Report'!G131","v":331},null,{"$f":"'City-Town Population'!G369","v":331},{"$f":"'City-Town Population'!A369","v":"New Point town"},null,0," "]
[{"$f":"'Website Report'!C485","v":"City/Town"},{"$f":"'Website Report'!E485","v":"NEW RICHMOND "},{"$f":"'Website Report'!G485","v":333},null,{"$f":"'City-Town Population'!G370","v":333},{"$f":"'City-Town Population'!A370","v":"New Richmond town"},null,0]
[{"$f":"'Website Report'!C486","v":"City/Town"},{"$f":"'Website Report'!E486","v":"NEW ROSS "},{"$f":"'Website Report'!G486","v":347},null,{"$f":"'City-Town Population'!G371","v":347},{"$f":"'City-Town Population'!A371","v":"New Ross town"},null,0]
[{"$f":"'Website Report'!C363","v":"City/Town"},{"$f":"'Website Report'!E363","v":"NEW WHITELAND "},{"$f":"'Website Report'!G363","v":5472},null,{"$f":"'City-Town Population'!G372","v":5472},{"$f":"'City-Town Population'!A372","v":"New Whiteland town"},null,0]
[{"$f":"'Website Report'!C247","v":"City/Town"},{"$f":"'Website Report'!E247","v":"NEWBERRY "},{"$f":"'Website Report'!G247","v":193},null,{"$f":"'City-Town Population'!G373","v":193},{"$f":"'City-Town Population'!A373","v":"Newberry town"},null,0]
[{"$f":"'Website Report'!C735","v":"City/Town"},{"$f":"'Website Report'!E735","v":"NEWBURGH "},{"$f":"'Website Report'!G735","v":3325},null,{"$f":"'City-Town Population'!G374","v":3325},{"$f":"'City-Town Population'!A374","v":"Newburgh town"},null,0]
[{"$f":"'Website Report'!C703","v":"City/Town"},{"$f":"'Website Report'!E703","v":"NEWPORT "},{"$f":"'Website Report'!G703","v":515},null,{"$f":"'City-Town Population'!G375","v":515},{"$f":"'City-Town Population'!A375","v":"Newport town"},null,0]
[{"$f":"'Website Report'!C194","v":"City/Town"},{"$f":"'Website Report'!E194","v":"NEWTOWN "},{"$f":"'Website Report'!G194","v":256},null,{"$f":"'City-Town Population'!G376","v":256},{"$f":"'City-Town Population'!A376","v":"Newtown town"},null,0]
[{"$f":"'Website Report'!C258","v":"City/Town"},{"$f":"'Website Report'!E258","v":"NOBLESVILLE "},{"$f":"'Website Report'!G258","v":51969},null,{"$f":"'City-Town Population'!G377","v":51969},{"$f":"'City-Town Population'!A377","v":"Noblesville city"},null,0]
[{"$f":"'Website Report'!C438","v":"City/Town"},{"$f":"'Website Report'!E438","v":"NORTH CROWS NEST "},{"$f":"'Website Report'!G438","v":45},null,{"$f":"'City-Town Population'!G378","v":45},{"$f":"'City-Town Population'!A378","v":"North Crows Nest town"},null,0]
[{"$f":"'Website Report'!C652","v":"City/Town"},{"$f":"'Website Report'!E652","v":"NORTH JUDSON "},{"$f":"'Website Report'!G652","v":1772},null,{"$f":"'City-Town Population'!G379","v":1772},{"$f":"'City-Town Population'!A379","v":"North Judson town"},null,0]
[{"$f":"'Website Report'!C618","v":"City/Town"},{"$f":"'Website Report'!E618","v":"NORTH LIBERTY "},{"$f":"'Website Report'!G618","v":1896},null,{"$f":"'City-Town Population'!G380","v":1896},{"$f":"'City-Town Population'!A380","v":"North Liberty town"},null,0]
[{"$f":"'Website Report'!C718","v":"City/Town"},{"$f":"'Website Report'!E718","v":"NORTH MANCHESTER "},{"$f":"'Website Report'!G718","v":6112},null,{"$f":"'City-Town Population'!G381","v":6112},{"$f":"'City-Town Population'!A381","v":"North Manchester town"},null,0]
[{"$f":"'Website Report'!C283","v":"City/Town"},{"$f":"'Website Report'!E283","v":"NORTH SALEM "},{"$f":"'Website Report'!G283","v":518},null,{"$f":"'City-Town Population'!G382","v":518},{"$f":"'City-Town Population'!A382","v":"North Salem town"},null,0]
[{"$f":"'Website Report'!C354","v":"City/Town"},{"$f":"'Website Report'!E354","v":"NORTH VERNON "},{"$f":"'Website Report'!G354","v":6728},null,{"$f":"'City-Town Population'!G383","v":6728},{"$f":"'City-Town Population'!A383","v":"North Vernon city"},null,0]
[{"$f":"'Website Report'!C389","v":"City/Town"},{"$f":"'Website Report'!E389","v":"NORTH WEBSTER "},{"$f":"'Website Report'!G389","v":1146},null,{"$f":"'City-Town Population'!G384","v":1146},{"$f":"'City-Town Population'!A384","v":"North Webster town"},null,0]
[{"$f":"'Website Report'!C221","v":"City/Town"},{"$f":"'Website Report'!E221","v":"OAKLAND CITY "},{"$f":"'Website Report'!G221","v":2429},null,{"$f":"'City-Town Population'!G385","v":2429},{"$f":"'City-Town Population'!A385","v":"Oakland City"},null,0]
[{"$f":"'Website Report'!C375","v":"City/Town"},{"$f":"'Website Report'!E375","v":"OAKTOWN "},{"$f":"'Website Report'!G375","v":608},null,{"$f":"'City-Town Population'!G386","v":608},{"$f":"'City-Town Population'!A386","v":"Oaktown town"},null,0]
[{"$f":"'Website Report'!C123","v":"City/Town"},{"$f":"'Website Report'!E123","v":"ODON "},{"$f":"'Website Report'!G123","v":1354},null,{"$f":"'City-Town Population'!G387","v":1354},{"$f":"'City-Town Population'!A387","v":"Odon town"},null,0]
[{"$f":"'Website Report'!C553","v":"City/Town"},{"$f":"'Website Report'!E553","v":"OGDEN DUNES "},{"$f":"'Website Report'!G553","v":1110},null,{"$f":"'City-Town Population'!G388","v":1110},{"$f":"'City-Town Population'!A388","v":"Ogden Dunes town"},null,0]
[{"$f":"'Website Report'!C205","v":"City/Town"},{"$f":"'Website Report'!E205","v":"OLDENBURG "},{"$f":"'Website Report'!G205","v":674},null,{"$f":"'City-Town Population'!G389","v":674},{"$f":"'City-Town Population'!A389","v":"Oldenburg town"},null,0]
[{"$f":"'Website Report'!C77","v":"City/Town"},{"$f":"'Website Report'!E77","v":"ONWARD "},{"$f":"'Website Report'!G77","v":100},null,{"$f":"'City-Town Population'!G390","v":100},{"$f":"'City-Town Population'!A390","v":"Onward town"},null,0]
[{"$f":"'Website Report'!C408","v":"City/Town"},{"$f":"'Website Report'!E408","v":"OOLITIC "},{"$f":"'Website Report'!G408","v":1184},null,{"$f":"'City-Town Population'!G391","v":1184},{"$f":"'City-Town Population'!A391","v":"Oolitic town"},null,0]
[{"$f":"'Website Report'!C422","v":"City/Town"},{"$f":"'Website Report'!E422","v":"ORESTES "},{"$f":"'Website Report'!G422","v":414},null,{"$f":"'City-Town Population'!G392","v":414},{"$f":"'City-Town Population'!A392","v":"Orestes town"},null,0]
[{"$f":"'Website Report'!C662","v":"City/Town"},{"$f":"'Website Report'!E662","v":"ORLAND "},{"$f":"'Website Report'!G662","v":434},null,{"$f":"'City-Town Population'!G393","v":434},{"$f":"'City-Town Population'!A393","v":"Orland town"},null,0]
[null,"Blank",null,null,{"$f":"'City-Town Population'!G394","v":2142},{"$f":"'City-Town Population'!A394","v":"Orleans town"},null,2142,"Orange County - Does not receive riverboat sharing"]
[{"$f":"'Website Report'!C619","v":"City/Town"},{"$f":"'Website Report'!E619","v":"OSCEOLA "},{"$f":"'Website Report'!G619","v":2463},null,{"$f":"'City-Town Population'!G395","v":2463},{"$f":"'City-Town Population'!A395","v":"Osceola town"},null,0]
[{"$f":"'Website Report'!C602","v":"City/Town"},{"$f":"'Website Report'!E602","v":"OSGOOD "},{"$f":"'Website Report'!G602","v":1624},null,{"$f":"'City-Town Population'!G396","v":1624},{"$f":"'City-Town Population'!A396","v":"Osgood town"},null,0]
[{"$f":"'Website Report'!C769","v":"City/Town"},{"$f":"'Website Report'!E769","v":"OSSIAN "},{"$f":"'Website Report'!G769","v":3289},null,{"$f":"'City-Town Population'!G397","v":3289},{"$f":"'City-Town Population'!A397","v":"Ossian town"},null,0]
[{"$f":"'Website Report'!C41","v":"City/Town"},{"$f":"'Website Report'!E41","v":"OTTERBEIN "},{"$f":"'Website Report'!G41","v":895},null,{"$f":"'City-Town Population'!G398","v":1262},{"$f":"'City-Town Population'!A398","v":"Otterbein town"},null,367,"Variance is due to City/Town being located in multiple taxing districtcs. "]
[{"$f":"'Website Report'!C222","v":"City/Town"},{"$f":"'Website Report'!E222","v":"OWENSVILLE "},{"$f":"'Website Report'!G222","v":1284},null,{"$f":"'City-Town Population'!G399","v":1284},{"$f":"'City-Town Population'!A399","v":"Owensville town"},null,0]
[{"$f":"'Website Report'!C42","v":"City/Town"},{"$f":"'Website Report'!E42","v":"OXFORD "},{"$f":"'Website Report'!G42","v":1162},null,{"$f":"'City-Town Population'!G400","v":1162},{"$f":"'City-Town Population'!A400","v":"Oxford town"},null,0]
[null,"Blank",null,null,{"$f":"'City-Town Population'!G401","v":930},{"$f":"'City-Town Population'!A401","v":"Palmyra town"},null,930,"Harrison County - Does not receive riverboat sharing"]
[null,"Blank",null,null,{"$f":"'City-Town Population'!G402","v":3677},{"$f":"'City-Town Population'!A402","v":"Paoli town"},null,3677,"Orange County - Does not receive riverboat sharing"]
[{"$f":"'Website Report'!C499","v":"City/Town"},{"$f":"'Website Report'!E499","v":"PARAGON "},{"$f":"'Website Report'!G499","v":659},null,{"$f":"'City-Town Population'!G403","v":659},{"$f":"'City-Town Population'!A403","v":"Paragon town"},null,0]
[{"$f":"'Website Report'!C590","v":"City/Town"},{"$f":"'Website Report'!E590","v":"PARKER CITY "},{"$f":"'Website Report'!G590","v":1419},null,{"$f":"'City-Town Population'!G404","v":1419},{"$f":"'City-Town Population'!A404","v":"Parker City"},null,0]
[{"$f":"'Website Report'!C223","v":"City/Town"},{"$f":"'Website Report'!E223","v":"PATOKA "},{"$f":"'Website Report'!G223","v":735},null,{"$f":"'City-Town Population'!G405","v":735},{"$f":"'City-Town Population'!A405","v":"Patoka town"},null,0]
[null,"Blank",null,null,{"$f":"'City-Town Population'!G406","v":209},{"$f":"'City-Town Population'!A406","v":"Patriot town"},null,209,"Switzerland County - Does not receive riverboat sharing"]
[{"$f":"'Website Report'!C423","v":"City/Town"},{"$f":"'Website Report'!E423","v":"PENDLETON "},{"$f":"'Website Report'!G423","v":4253},null,{"$f":"'City-Town Population'!G407","v":4253},{"$f":"'City-Town Population'!A407","v":"Pendleton town"},null,0]
[{"$f":"'Website Report'!C340","v":"City/Town"},{"$f":"'Website Report'!E340","v":"PENNVILLE "},{"$f":"'Website Report'!G340","v":701},null,{"$f":"'City-Town Population'!G408","v":701},{"$f":"'City-Town Population'!A408","v":"Pennville town"},null,0]
[{"$f":"'Website Report'!C704","v":"City/Town"},{"$f":"'Website Report'!E704","v":"PERRYSVILLE "},{"$f":"'Website Report'!G704","v":456},null,{"$f":"'City-Town Population'!G409","v":456},{"$f":"'City-Town Population'!A409","v":"Perrysville town"},null,0]
[{"$f":"'Website Report'!C469","v":"City/Town"},{"$f":"'Website Report'!E469","v":"PERU "},{"$f":"'Website Report'!G469","v":11417},null,{"$f":"'City-Town Population'!G410","v":11417},{"$f":"'City-Town Population'!A410","v":"Peru city"},null,0]
[{"$f":"'Website Report'!C541","v":"City/Town"},{"$f":"'Website Report'!E541","v":"PETERSBURG "},{"$f":"'Website Report'!G541","v":2383},null,{"$f":"'City-Town Population'!G411","v":2383},{"$f":"'City-Town Population'!A411","v":"Petersburg city"},null,0]
[{"$f":"'Website Report'!C390","v":"City/Town"},{"$f":"'Website Report'!E390","v":"PIERCETON "},{"$f":"'Website Report'!G390","v":1015},null,{"$f":"'City-Town Population'!G412","v":1015},{"$f":"'City-Town Population'!A412","v":"Pierceton town"},null,0]
[{"$f":"'Website Report'!C724","v":"City/Town"},{"$f":"'Website Report'!E724","v":"PINE VILLAGE "},{"$f":"'Website Report'!G724","v":217},null,{"$f":"'City-Town Population'!G413","v":217},{"$f":"'City-Town Population'!A413","v":"Pine Village town"},null,0]
[{"$f":"'Website Report'!C556","v":"City/Town"},{"$f":"'Website Report'!E556","v":"PINES "},{"$f":"'Website Report'!G556","v":708},null,{"$f":"'City-Town Population'!G510","v":708},{"$f":"'City-Town Population'!A510","v":"Town of Pines town"},null,0]
[{"$f":"'Website Report'!C284","v":"City/Town"},{"$f":"'Website Report'!E284","v":"PITTSBORO "},{"$f":"'Website Report'!G284","v":2928},null,{"$f":"'City-Town Population'!G414","v":2928},{"$f":"'City-Town Population'!A414","v":"Pittsboro town"},null,0]
[{"$f":"'Website Report'!C285","v":"City/Town"},{"$f":"'Website Report'!E285","v":"PLAINFIELD "},{"$f":"'Website Report'!G285","v":27631},null,{"$f":"'City-Town Population'!G415","v":27631},{"$f":"'City-Town Population'!A415","v":"Plainfield town"},null,0]
[{"$f":"'Website Report'!C124","v":"City/Town"},{"$f":"'Website Report'!E124","v":"PLAINVILLE "},{"$f":"'Website Report'!G124","v":476},null,{"$f":"'City-Town Population'!G416","v":476},{"$f":"'City-Town Population'!A416","v":"Plainville town"},null,0]
[{"$f":"'Website Report'!C454","v":"City/Town"},{"$f":"'Website Report'!E454","v":"PLYMOUTH "},{"$f":"'Website Report'!G454","v":10033},null,{"$f":"'City-Town Population'!G417","v":10033},{"$f":"'City-Town Population'!A417","v":"Plymouth city"},null,0]
[{"$f":"'Website Report'!C770","v":"City/Town"},{"$f":"'Website Report'!E770","v":"PONETO "},{"$f":"'Website Report'!G770","v":166},null,{"$f":"'City-Town Population'!G418","v":166},{"$f":"'City-Town Population'!A418","v":"Poneto town"},null,0]
[{"$f":"'Website Report'!C554","v":"City/Town"},{"$f":"'Website Report'!E554","v":"PORTAGE "},{"$f":"'Website Report'!G554","v":36828},null,{"$f":"'City-Town Population'!G419","v":36828},{"$f":"'City-Town Population'!A419","v":"Portage city"},null,0]
[{"$f":"'Website Report'!C555","v":"City/Town"},{"$f":"'Website Report'!E555","v":"PORTER "},{"$f":"'Website Report'!G555","v":4858},null,{"$f":"'City-Town Population'!G420","v":4858},{"$f":"'City-Town Population'!A420","v":"Porter town"},null,0]
[{"$f":"'Website Report'!C341","v":"City/Town"},{"$f":"'Website Report'!E341","v":"PORTLAND "},{"$f":"'Website Report'!G341","v":6223},null,{"$f":"'City-Town Population'!G421","v":6223},{"$f":"'City-Town Population'!A421","v":"Portland city"},null,0]
[{"$f":"'Website Report'!C565","v":"City/Town"},{"$f":"'Website Report'!E565","v":"POSEYVILLE "},{"$f":"'Website Report'!G565","v":1045},null,{"$f":"'City-Town Population'!G422","v":1045},{"$f":"'City-Town Population'!A422","v":"Poseyville town"},null,0]
[null,"Blank",null,null,{"$f":"'City-Town Population'!G423","v":235},{"$f":"'City-Town Population'!A423","v":"Pottawattamie Park town"},null,235,"LaPorte County - Does not receive riverboat sharing"]
[{"$f":"'Website Report'!C364","v":"City/Town"},{"$f":"'Website Report'!E364","v":"PRINCES LAKE "},{"$f":"'Website Report'!G364","v":1312},null,{"$f":"'City-Town Population'!G424","v":1312},{"$f":"'City-Town Population'!A424","v":"Princes Lakes town"},null,0]
[{"$f":"'Website Report'!C224","v":"City/Town"},{"$f":"'Website Report'!E224","v":"PRINCETON "},{"$f":"'Website Report'!G224","v":8644},null,{"$f":"'City-Town Population'!G425","v":8644},{"$f":"'City-Town Population'!A425","v":"Princeton city"},null,0]
[{"$f":"'Website Report'!C342","v":"City/Town"},{"$f":"'Website Report'!E342","v":"REDKEY "},{"$f":"'Website Report'!G342","v":1353},null,{"$f":"'City-Town Population'!G426","v":1353},{"$f":"'City-Town Population'!A426","v":"Redkey town"},null,{"$f":"E422-C422","v":0}]
[{"$f":"'Website Report'!C332","v":"City/Town"},{"$f":"'Website Report'!E332","v":"REMINGTON "},{"$f":"'Website Report'!G332","v":1185},null,{"$f":"'City-Town Population'!G427","v":1185},{"$f":"'City-Town Population'!A427","v":"Remington town"},null,0]
[{"$f":"'Website Report'!C333","v":"City/Town"},{"$f":"'Website Report'!E333","v":"RENSSELAER "},{"$f":"'Website Report'!G333","v":5859},null,{"$f":"'City-Town Population'!G428","v":5859},{"$f":"'City-Town Population'!A428","v":"Rensselaer city"},null,0]
[{"$f":"'Website Report'!C782","v":"City/Town"},{"$f":"'Website Report'!E782","v":"REYNOLDS "},{"$f":"'Website Report'!G782","v":533},null,{"$f":"'City-Town Population'!G429","v":533},{"$f":"'City-Town Population'!A429","v":"Reynolds town"},null,0]
[{"$f":"'Website Report'!C643","v":"City/Town"},{"$f":"'Website Report'!E643","v":"RICHLAND"},{"$f":"'Website Report'!G643","v":425},null,{"$f":"'City-Town Population'!G430","v":425},{"$f":"'City-Town Population'!A430","v":"Richland town"},null,0]
[{"$f":"'Website Report'!C761","v":"City/Town"},{"$f":"'Website Report'!E761","v":"RICHMOND "},{"$f":"'Website Report'!G761","v":36812},null,{"$f":"'City-Town Population'!G431","v":36812},{"$f":"'City-Town Population'!A431","v":"Richmond city"},null,0]
[{"$f":"'Website Report'!C591","v":"City/Town"},{"$f":"'Website Report'!E591","v":"RIDGEVILLE "},{"$f":"'Website Report'!G591","v":803},null,{"$f":"'City-Town Population'!G432","v":803},{"$f":"'City-Town Population'!A432","v":"Ridgeville town"},null,0]
[{"$f":"'Website Report'!C709","v":"City/Town"},{"$f":"'Website Report'!E709","v":"RILEY "},{"$f":"'Website Report'!G709","v":221},null,{"$f":"'City-Town Population'!G433","v":221},{"$f":"'City-Town Population'!A433","v":"Riley town"},null,0]
[null,"Blank",null,null,{"$f":"'City-Town Population'!G434","v":2304},{"$f":"'City-Town Population'!A434","v":"Rising Sun city"},null,2304,"Ohio County - Does not receive riverboat sharing"]
[{"$f":"'Website Report'!C424","v":"City/Town"},{"$f":"'Website Report'!E424","v":"RIVER FORREST R"},{"$f":"'Website Report'!G424","v":22},null,{"$f":"'City-Town Population'!G435","v":22},{"$f":"'City-Town Population'!A435","v":"River Forest town"},null,0]
[{"$f":"'Website Report'!C580","v":"City/Town"},{"$f":"'Website Report'!E580","v":"ROACHDALE "},{"$f":"'Website Report'!G580","v":926},null,{"$f":"'City-Town Population'!G436","v":926},{"$f":"'City-Town Population'!A436","v":"Roachdale town"},null,0]
[{"$f":"'Website Report'!C719","v":"City/Town"},{"$f":"'Website Report'!E719","v":"ROANN "},{"$f":"'Website Report'!G719","v":479},null,{"$f":"'City-Town Population'!G437","v":479},{"$f":"'City-Town Population'!A437","v":"Roann town"},null,0]
[{"$f":"'Website Report'!C319","v":"City/Town"},{"$f":"'Website Report'!E319","v":"ROANOKE "},{"$f":"'Website Report'!G319","v":1722},null,{"$f":"'City-Town Population'!G438","v":1722},{"$f":"'City-Town Population'!A438","v":"Roanoke town"},null,0]
[{"$f":"'Website Report'!C212","v":"City/Town"},{"$f":"'Website Report'!E212","v":"ROCHESTER "},{"$f":"'Website Report'!G212","v":6218},null,{"$f":"'City-Town Population'!G439","v":6218},{"$f":"'City-Town Population'!A439","v":"Rochester city"},null,0]
[{"$f":"'Website Report'!C644","v":"City/Town"},{"$f":"'Website Report'!E644","v":"ROCKPORT "},{"$f":"'Website Report'!G644","v":2270},null,{"$f":"'City-Town Population'!G440","v":2270},{"$f":"'City-Town Population'!A440","v":"Rockport city"},null,0]
[{"$f":"'Website Report'!C530","v":"City/Town"},{"$f":"'Website Report'!E530","v":"ROCKVILLE "},{"$f":"'Website Report'!G530","v":2607},null,{"$f":"'City-Town Population'!G441","v":2607},{"$f":"'City-Town Population'!A441","v":"Rockville town"},null,0]
[{"$f":"'Website Report'!C439","v":"City/Town"},{"$f":"'Website Report'!E439","v":"ROCKY RIPPLE "},{"$f":"'Website Report'!G439","v":606},null,{"$f":"'City-Town Population'!G442","v":606},{"$f":"'City-Town Population'!A442","v":"Rocky Ripple town"},null,0]
[{"$f":"'Website Report'!C516","v":"City/Town"},{"$f":"'Website Report'!E516","v":"ROME "},{"$f":"'Website Report'!G516","v":1361},null,{"$f":"'City-Town Population'!G443","v":1361},{"$f":"'City-Town Population'!A443","v":"Rome City"},null,0]
[{"$f":"'Website Report'!C531","v":"City/Town"},{"$f":"'Website Report'!E531","v":"ROSEDALE "},{"$f":"'Website Report'!G531","v":725},null,{"$f":"'City-Town Population'!G444","v":725},{"$f":"'City-Town Population'!A444","v":"Rosedale town"},null,0]
[{"$f":"'Website Report'!C620","v":"City/Town"},{"$f":"'Website Report'!E620","v":"ROSELAND "},{"$f":"'Website Report'!G620","v":630},null,{"$f":"'City-Town Population'!G445","v":630},{"$f":"'City-Town Population'!A445","v":"Roseland town"},null,0]
[{"$f":"'Website Report'!C107","v":"City/Town"},{"$f":"'Website Report'!E107","v":"ROSSVILLE "},{"$f":"'Website Report'!G107","v":1653},null,{"$f":"'City-Town Population'!G446","v":1653},{"$f":"'City-Town Population'!A446","v":"Rossville town"},null,0]
[{"$f":"'Website Report'!C78","v":"City/Town"},{"$f":"'Website Report'!E78","v":"ROYAL CENTER "},{"$f":"'Website Report'!G78","v":861},null,{"$f":"'City-Town Population'!G447","v":861},{"$f":"'City-Town Population'!A447","v":"Royal Center town"},null,0]
[{"$f":"'Website Report'!C610","v":"City/Town"},{"$f":"'Website Report'!E610","v":"RUSHVILLE "},{"$f":"'Website Report'!G610","v":6341},null,{"$f":"'City-Town Population'!G448","v":6341},{"$f":"'City-Town Population'!A448","v":"Rushville city"},null,0]
[{"$f":"'Website Report'!C581","v":"City/Town"},{"$f":"'Website Report'!E581","v":"RUSSELVILLE "},{"$f":"'Website Report'!G581","v":358},null,{"$f":"'City-Town Population'!G449","v":358},{"$f":"'City-Town Population'!A449","v":"Russellville town"},null,0]
[{"$f":"'Website Report'!C311","v":"City/Town"},{"$f":"'Website Report'!E311","v":"RUSSIAVILLE "},{"$f":"'Website Report'!G311","v":1094},null,{"$f":"'City-Town Population'!G450","v":1094},{"$f":"'City-Town Population'!A450","v":"Russiaville town"},null,0]
[{"$f":"'Website Report'!C343","v":"City/Town"},{"$f":"'Website Report'!E343","v":"SALAMONIA "},{"$f":"'Website Report'!G343","v":157},null,{"$f":"'City-Town Population'!G451","v":157},{"$f":"'City-Town Population'!A451","v":"Salamonia town"},null,0]
[{"$f":"'Website Report'!C745","v":"City/Town"},{"$f":"'Website Report'!E745","v":"SALEM "},{"$f":"'Website Report'!G745","v":6319},null,{"$f":"'City-Town Population'!G452","v":6319},{"$f":"'City-Town Population'!A452","v":"Salem city"},null,0]
[{"$f":"'Website Report'!C746","v":"City/Town"},{"$f":"'Website Report'!E746","v":"SALTILLO "},{"$f":"'Website Report'!G746","v":92},null,{"$f":"'City-Town Population'!G453","v":92},{"$f":"'City-Town Population'!A453","v":"Saltillo town"},null,0]
[{"$f":"'Website Report'!C376","v":"City/Town"},{"$f":"'Website Report'!E376","v":"SANDBORN "},{"$f":"'Website Report'!G376","v":415},null,{"$f":"'City-Town Population'!G454","v":415},{"$f":"'City-Town Population'!A454","v":"Sandborn town"},null,0]
[{"$f":"'Website Report'!C645","v":"City/Town"},{"$f":"'Website Report'!E645","v":"SANTA CLAUS "},{"$f":"'Website Report'!G645","v":2481},null,{"$f":"'City-Town Population'!G455","v":2481},{"$f":"'City-Town Population'!A455","v":"Santa Claus town"},null,0]
[{"$f":"'Website Report'!C592","v":"City/Town"},{"$f":"'Website Report'!E592","v":"SARATOGA "},{"$f":"'Website Report'!G592","v":254},null,{"$f":"'City-Town Population'!G456","v":254},{"$f":"'City-Town Population'!A456","v":"Saratoga town"},null,0]
[null,"Blank",null,null,{"$f":"'City-Town Population'!G457","v":29243},{"$f":"'City-Town Population'!A457","v":"Schererville town"},null,29243,"Lake County - Does not receive riverboat sharing"]
[null,"Blank",null,null,{"$f":"'City-Town Population'!G458","v":277},{"$f":"'City-Town Population'!A458","v":"Schneider town"},null,277,"Lake County - Does not receive riverboat sharing"]
[{"$f":"'Website Report'!C627","v":"City/Town"},{"$f":"'Website Report'!E627","v":"SCOTTSBURG "},{"$f":"'Website Report'!G627","v":6747},null,{"$f":"'City-Town Population'!G459","v":6747},{"$f":"'City-Town Population'!A459","v":"Scottsburg city"},null,0]
[{"$f":"'Website Report'!C710","v":"City/Town"},{"$f":"'Website Report'!E710","v":"SEELYVILLE "},{"$f":"'Website Report'!G710","v":1029},null,{"$f":"'City-Town Population'!G460","v":1029},{"$f":"'City-Town Population'!A460","v":"Seelyville town"},null,0]
[{"$f":"'Website Report'!C87","v":"City/Town"},{"$f":"'Website Report'!E87","v":"SELLERSBURG "},{"$f":"'Website Report'!G87","v":6128},null,{"$f":"'City-Town Population'!G461","v":6128},{"$f":"'City-Town Population'!A461","v":"Sellersburg town"},null,0]
[{"$f":"'Website Report'!C155","v":"City/Town"},{"$f":"'Website Report'!E155","v":"SELMA "},{"$f":"'Website Report'!G155","v":866},null,{"$f":"'City-Town Population'!G462","v":866},{"$f":"'City-Town Population'!A462","v":"Selma town"},null,0]
[{"$f":"'Website Report'!C327","v":"City/Town"},{"$f":"'Website Report'!E327","v":"SEYMOUR "},{"$f":"'Website Report'!G327","v":17503},null,{"$f":"'City-Town Population'!G463","v":17503},{"$f":"'City-Town Population'!A463","v":"Seymour city"},null,0]
[{"$f":"'Website Report'!C681","v":"City/Town"},{"$f":"'Website Report'!E681","v":"SHADELAND "},{"$f":"'Website Report'!G681","v":1610},null,{"$f":"'City-Town Population'!G464","v":1610},{"$f":"'City-Town Population'!A464","v":"Shadeland town"},null,0]
[{"$f":"'Website Report'!C49","v":"City/Town"},{"$f":"'Website Report'!E49","v":"SHAMROCK LAKES "},{"$f":"'Website Report'!G49","v":231},null,{"$f":"'City-Town Population'!G465","v":231},{"$f":"'City-Town Population'!A465","v":"Shamrock Lakes town"},null,0]
[{"$f":"'Website Report'!C688","v":"City/Town"},{"$f":"'Website Report'!E688","v":"SHARPSVILLE "},{"$f":"'Website Report'!G688","v":607},null,{"$f":"'City-Town Population'!G466","v":607},{"$f":"'City-Town Population'!A466","v":"Sharpsville town"},null,0]
[{"$f":"'Website Report'!C671","v":"City/Town"},{"$f":"'Website Report'!E671","v":"SHELBURN "},{"$f":"'Website Report'!G671","v":1252},null,{"$f":"'City-Town Population'!G467","v":1252},{"$f":"'City-Town Population'!A467","v":"Shelburn town"},null,0]
[{"$f":"'Website Report'!C635","v":"City/Town"},{"$f":"'Website Report'!E635","v":"SHELBYVILLE "},{"$f":"'Website Report'!G635","v":19191},null,{"$f":"'City-Town Population'!G468","v":19191},{"$f":"'City-Town Population'!A468","v":"Shelbyville city"},null,0]
[{"$f":"'Website Report'!C259","v":"City/Town"},{"$f":"'Website Report'!E259","v":"SHERIDAN "},{"$f":"'Website Report'!G259","v":2665},null,{"$f":"'City-Town Population'!G469","v":2665},{"$f":"'City-Town Population'!A469","v":"Sheridan town"},null,0]
[{"$f":"'Website Report'!C400","v":"City/Town"},{"$f":"'Website Report'!E400","v":"SHIPSHEWANA "},{"$f":"'Website Report'!G400","v":658},null,{"$f":"'City-Town Population'!G470","v":658},{"$f":"'City-Town Population'!A470","v":"Shipshewana town"},null,0]
[{"$f":"'Website Report'!C301","v":"City/Town"},{"$f":"'Website Report'!E301","v":"SHIRLEY "},{"$f":"'Website Report'!G301","v":197},null,{"$f":"'City-Town Population'!G471","v":830},{"$f":"'City-Town Population'!A471","v":"Shirley town"},null,633,"Variance is due to City/Town being located in multiple taxing districtcs. "]
[{"$f":"'Website Report'!C460","v":"City/Town"},{"$f":"'Website Report'!E460","v":"SHOALS "},{"$f":"'Website Report'!G460","v":756},null,{"$f":"'City-Town Population'!G472","v":756},{"$f":"'City-Town Population'!A472","v":"Shoals town"},null,0]
[{"$f":"'Website Report'!C391","v":"City/Town"},{"$f":"'Website Report'!E391","v":"SIDNEY "},{"$f":"'Website Report'!G391","v":83},null,{"$f":"'City-Town Population'!G473","v":83},{"$f":"'City-Town Population'!A473","v":"Sidney town"},null,0]
[{"$f":"'Website Report'!C392","v":"City/Town"},{"$f":"'Website Report'!E392","v":"SILVER LAKE "},{"$f":"'Website Report'!G392","v":915},null,{"$f":"'City-Town Population'!G474","v":915},{"$f":"'City-Town Population'!A474","v":"Silver Lake town"},null,0]
[{"$f":"'Website Report'!C225","v":"City/Town"},{"$f":"'Website Report'!E225","v":"SOMERVILLE "},{"$f":"'Website Report'!G225","v":293},null,{"$f":"'City-Town Population'!G475","v":293},{"$f":"'City-Town Population'!A475","v":"Somerville town"},null,0]
[{"$f":"'Website Report'!C621","v":"City/Town"},{"$f":"'Website Report'!E621","v":"SOUTH BEND "},{"$f":"'Website Report'!G621","v":101120},null,{"$f":"'City-Town Population'!G476","v":101120},{"$f":"'City-Town Population'!A476","v":"South Bend city (11)"},null,0]
[{"$f":"'Website Report'!C790","v":"City/Town"},{"$f":"'Website Report'!E790","v":"SOUTH WHITLEY "},{"$f":"'Website Report'!G790","v":1751},null,{"$f":"'City-Town Population'!G477","v":1751},{"$f":"'City-Town Population'!A477","v":"South Whitley town"},null,0]
[{"$f":"'Website Report'!C440","v":"City/Town"},{"$f":"'Website Report'!E440","v":"SOUTHPORT "},{"$f":"'Website Report'!G440","v":1712},null,{"$f":"'City-Town Population'!G478","v":1712},{"$f":"'City-Town Population'!A478","v":"Southport city"},null,0]
[{"$f":"'Website Report'!C441","v":"City/Town"},{"$f":"'Website Report'!E441","v":"SPEEDWAY "},{"$f":"'Website Report'!G441","v":11812},null,{"$f":"'City-Town Population'!G479","v":11812},{"$f":"'City-Town Population'!A479","v":"Speedway town"},null,0]
[{"$f":"'Website Report'!C522","v":"City/Town"},{"$f":"'Website Report'!E522","v":"SPENCER "},{"$f":"'Website Report'!G522","v":2217},null,{"$f":"'City-Town Population'!G480","v":2217},{"$f":"'City-Town Population'!A480","v":"Spencer town"},null,0]
[{"$f":"'Website Report'!C302","v":"City/Town"},{"$f":"'Website Report'!E302","v":"SPICELAND "},{"$f":"'Website Report'!G302","v":890},null,{"$f":"'City-Town Population'!G481","v":890},{"$f":"'City-Town Population'!A481","v":"Spiceland town"},null,0]
[{"$f":"'Website Report'!C762","v":"City/Town"},{"$f":"'Website Report'!E762","v":"SPRING GROVE "},{"$f":"'Website Report'!G762","v":344},null,{"$f":"'City-Town Population'!G482","v":344},{"$f":"'City-Town Population'!A482","v":"Spring Grove town"},null,0]
[{"$f":"'Website Report'!C442","v":"City/Town"},{"$f":"'Website Report'!E442","v":"SPRING HILL "},{"$f":"'Website Report'!G442","v":98},null,{"$f":"'City-Town Population'!G483","v":98},{"$f":"'City-Town Population'!A483","v":"Spring Hill town"},null,0]
[{"$f":"'Website Report'!C270","v":"City/Town"},{"$f":"'Website Report'!E270","v":"SPRING LAKE "},{"$f":"'Website Report'!G270","v":218},null,{"$f":"'City-Town Population'!G484","v":218},{"$f":"'City-Town Population'!A484","v":"Spring Lake town"},null,0]
[{"$f":"'Website Report'!C303","v":"City/Town"},{"$f":"'Website Report'!E303","v":"SPRINGPORT "},{"$f":"'Website Report'!G303","v":149},null,{"$f":"'City-Town Population'!G485","v":149},{"$f":"'City-Town Population'!A485","v":"Springport town"},null,0]
[{"$f":"'Website Report'!C542","v":"City/Town"},{"$f":"'Website Report'!E542","v":"SPURGEON "},{"$f":"'Website Report'!G542","v":207},null,{"$f":"'City-Town Population'!G486","v":207},{"$f":"'City-Town Population'!A486","v":"Spurgeon town"},null,0]
[{"$f":"'Website Report'!C144","v":"City/Town"},{"$f":"'Website Report'!E144","v":"ST. JOE "},{"$f":"'Website Report'!G144","v":460},null,{"$f":"'City-Town Population'!G487","v":460},{"$f":"'City-Town Population'!A487","v":"St. Joe town"},null,0]
[null,"Blank",null,null,{"$f":"'City-Town Population'!G488","v":14850},{"$f":"'City-Town Population'!A488","v":"St. John town"},null,14850,"Lake County - Does not receive riverboat sharing"]
[null,"Blank",null,null,{"$f":"'City-Town Population'!G489","v":678},{"$f":"'City-Town Population'!A489","v":"St. Leon town"},null,678,"Dearborn County - Does not receive riverboat sharing"]
[{"$f":"'Website Report'!C634","v":"City/Town"},{"$f":"'Website Report'!E634","v":"ST PAUL "},{"$f":"'Website Report'!G634","v":416},null,{"$f":"'City-Town Population'!G490","v":1031},{"$f":"'City-Town Population'!A490","v":"St. Paul town"},null,615,"Variance is due to City/Town being located in multiple taxing districtcs. "]
[{"$f":"'Website Report'!C725","v":"City/Town"},{"$f":"'Website Report'!E725","v":"STATE LINE "},{"$f":"'Website Report'!G725","v":143},null,{"$f":"'City-Town Population'!G491","v":143},{"$f":"'City-Town Population'!A491","v":"State Line City"},null,0]
[{"$f":"'Website Report'!C98","v":"City/Town"},{"$f":"'Website Report'!E98","v":"STAUNTON "},{"$f":"'Website Report'!G98","v":534},null,{"$f":"'City-Town Population'!G492","v":534},{"$f":"'City-Town Population'!A492","v":"Staunton town"},null,0]
[{"$f":"'Website Report'!C286","v":"City/Town"},{"$f":"'Website Report'!E286","v":"STILESVILLE "},{"$f":"'Website Report'!G286","v":316},null,{"$f":"'City-Town Population'!G493","v":316},{"$f":"'City-Town Population'!A493","v":"Stilesville town"},null,0]
[{"$f":"'Website Report'!C475","v":"City/Town"},{"$f":"'Website Report'!E475","v":"STINESVILLE "},{"$f":"'Website Report'!G475","v":198},null,{"$f":"'City-Town Population'!G494","v":198},{"$f":"'City-Town Population'!A494","v":"Stinesville town"},null,{"$f":"E490-C490","v":0}]
[{"$f":"'Website Report'!C304","v":"City/Town"},{"$f":"'Website Report'!E304","v":"STRAUGHN "},{"$f":"'Website Report'!G304","v":222},null,{"$f":"'City-Town Population'!G495","v":222},{"$f":"'City-Town Population'!A495","v":"Straughn town"},null,0]
[{"$f":"'Website Report'!C672","v":"City/Town"},{"$f":"'Website Report'!E672","v":"SULLIVAN "},{"$f":"'Website Report'!G672","v":4249},null,{"$f":"'City-Town Population'!G496","v":4249},{"$f":"'City-Town Population'!A496","v":"Sullivan city"},null,0]
[{"$f":"'Website Report'!C305","v":"City/Town"},{"$f":"'Website Report'!E305","v":"SULPHUR SPRINGS "},{"$f":"'Website Report'!G305","v":399},null,{"$f":"'City-Town Population'!G497","v":399},{"$f":"'City-Town Population'!A497","v":"Sulphur Springs town"},null,0]
[{"$f":"'Website Report'!C425","v":"City/Town"},{"$f":"'Website Report'!E425","v":"SUMMITVILLE "},{"$f":"'Website Report'!G425","v":967},null,{"$f":"'City-Town Population'!G498","v":967},{"$f":"'City-Town Population'!A498","v":"Summitville town"},null,0]
[{"$f":"'Website Report'!C603","v":"City/Town"},{"$f":"'Website Report'!E603","v":"SUNMAN "},{"$f":"'Website Report'!G603","v":1049},null,{"$f":"'City-Town Population'!G499","v":1049},{"$f":"'City-Town Population'!A499","v":"Sunman town"},null,0]
[{"$f":"'Website Report'!C236","v":"City/Town"},{"$f":"'Website Report'!E236","v":"SWAYZEE "},{"$f":"'Website Report'!G236","v":981},null,{"$f":"'City-Town Population'!G500","v":981},{"$f":"'City-Town Population'!A500","v":"Swayzee town"},null,0]
[{"$f":"'Website Report'!C237","v":"City/Town"},{"$f":"'Website Report'!E237","v":"SWEETSER "},{"$f":"'Website Report'!G237","v":1229},null,{"$f":"'City-Town Population'!G501","v":1229},{"$f":"'City-Town Population'!A501","v":"Sweetser town"},null,0]
[{"$f":"'Website Report'!C248","v":"City/Town"},{"$f":"'Website Report'!E248","v":"SWITZ "},{"$f":"'Website Report'!G248","v":293},null,{"$f":"'City-Town Population'!G502","v":293},{"$f":"'City-Town Population'!A502","v":"Switz City"},null,0]
[{"$f":"'Website Report'!C393","v":"City/Town"},{"$f":"'Website Report'!E393","v":"SYRACUSE "},{"$f":"'Website Report'!G393","v":2810},null,{"$f":"'City-Town Population'!G503","v":2810},{"$f":"'City-Town Population'!A503","v":"Syracuse town"},null,0]
[{"$f":"'Website Report'!C536","v":"City/Town"},{"$f":"'Website Report'!E536","v":"TELL "},{"$f":"'Website Report'!G536","v":7272},null,{"$f":"'City-Town Population'!G504","v":7272},{"$f":"'City-Town Population'!A504","v":"Tell City"},null,0]
[{"$f":"'Website Report'!C736","v":"City/Town"},{"$f":"'Website Report'!E736","v":"TENNYSON "},{"$f":"'Website Report'!G736","v":279},null,{"$f":"'City-Town Population'!G505","v":279},{"$f":"'City-Town Population'!A505","v":"Tennyson town"},null,0]
[{"$f":"'Website Report'!C711","v":"City/Town"},{"$f":"'Website Report'!E711","v":"TERRE HAUTE "},{"$f":"'Website Report'!G711","v":60785},null,{"$f":"'City-Town Population'!G506","v":60785},{"$f":"'City-Town Population'!A506","v":"Terre Haute city"},null,0]
[{"$f":"'Website Report'!C56","v":"City/Town"},{"$f":"'Website Report'!E56","v":"THORNTOWN "},{"$f":"'Website Report'!G56","v":1520},null,{"$f":"'City-Town Population'!G507","v":1520},{"$f":"'City-Town Population'!A507","v":"Thorntown town"},null,0]
[{"$f":"'Website Report'!C689","v":"City/Town"},{"$f":"'Website Report'!E689","v":"TIPTON "},{"$f":"'Website Report'!G689","v":5106},null,{"$f":"'City-Town Population'!G508","v":5106},{"$f":"'City-Town Population'!A508","v":"Tipton city"},null,0]
[{"$f":"'Website Report'!C401","v":"City/Town"},{"$f":"'Website Report'!E401","v":"TOPEKA "},{"$f":"'Website Report'!G401","v":1153},null,{"$f":"'City-Town Population'!G509","v":1153},{"$f":"'City-Town Population'!A509","v":"Topeka town"},null,0]
[{"$f":"'Website Report'!C365","v":"City/Town"},{"$f":"'Website Report'!E365","v":"TRAFALGAR "},{"$f":"'Website Report'!G365","v":1101},null,{"$f":"'City-Town Population'!G511","v":1101},{"$f":"'City-Town Population'!A511","v":"Trafalgar town"},null,0]
[null,"Blank",null,null,{"$f":"'City-Town Population'!G512","v":2052},{"$f":"'City-Town Population'!A512","v":"Trail Creek town"},null,2052,"LaPorte County - Does not receive riverboat sharing"]
[{"$f":"'Website Report'!C537","v":"City/Town"},{"$f":"'Website Report'!E537","v":"TROY "},{"$f":"'Website Report'!G537","v":385},null,{"$f":"'City-Town Population'!G513","v":385},{"$f":"'City-Town Population'!A513","v":"Troy town"},null,0]
[{"$f":"'Website Report'!C57","v":"City/Town"},{"$f":"'Website Report'!E57","v":"ULEN "},{"$f":"'Website Report'!G57","v":117},null,{"$f":"'City-Town Population'!G514","v":117},{"$f":"'City-Town Population'!A514","v":"Ulen town"},null,0]
[{"$f":"'Website Report'!C593","v":"City/Town"},{"$f":"'Website Report'!E593","v":"UNION CITY "},{"$f":"'Website Report'!G593","v":3584},null,{"$f":"'City-Town Population'!G515","v":3584},{"$f":"'City-Town Population'!A515","v":"Union City"},null,0]
[{"$f":"'Website Report'!C771","v":"City/Town"},{"$f":"'Website Report'!E771","v":"UNIONDALE "},{"$f":"'Website Report'!G771","v":310},null,{"$f":"'City-Town Population'!G516","v":310},{"$f":"'City-Town Population'!A516","v":"Uniondale town"},null,0]
[{"$f":"'Website Report'!C705","v":"City/Town"},{"$f":"'Website Report'!E705","v":"UNIVERSIAL "},{"$f":"'Website Report'!G705","v":362},null,{"$f":"'City-Town Population'!G517","v":362},{"$f":"'City-Town Population'!A517","v":"Universal town"},null,0]
[{"$f":"'Website Report'!C238","v":"City/Town"},{"$f":"'Website Report'!E238","v":"UPLAND "},{"$f":"'Website Report'!G238","v":3845},null,{"$f":"'City-Town Population'!G518","v":3845},{"$f":"'City-Town Population'!A518","v":"Upland town"},null,0]
[{"$f":"'Website Report'!C88","v":"City/Town"},{"$f":"'Website Report'!E88","v":"UTICA "},{"$f":"'Website Report'!G88","v":776},null,{"$f":"'City-Town Population'!G519","v":776},{"$f":"'City-Town Population'!A519","v":"Utica town"},null,0]
[{"$f":"'Website Report'!C557","v":"City/Town"},{"$f":"'Website Report'!E557","v":"VALPARAISO "},{"$f":"'Website Report'!G557","v":31730},null,{"$f":"'City-Town Population'!G520","v":31730},{"$f":"'City-Town Population'!A520","v":"Valparaiso city"},null,0]
[{"$f":"'Website Report'!C239","v":"City/Town"},{"$f":"'Website Report'!E239","v":"VAN BUREN "},{"$f":"'Website Report'!G239","v":864},null,{"$f":"'City-Town Population'!G521","v":864},{"$f":"'City-Town Population'!A521","v":"Van Buren town"},null,0]
[{"$f":"'Website Report'!C195","v":"City/Town"},{"$f":"'Website Report'!E195","v":"VEEDERSBURG "},{"$f":"'Website Report'!G195","v":2180},null,{"$f":"'City-Town Population'!G522","v":2180},{"$f":"'City-Town Population'!A522","v":"Veedersburg town"},null,0]
[{"$f":"'Website Report'!C772","v":"City/Town"},{"$f":"'Website Report'!E772","v":"VERA CRUZ "},{"$f":"'Website Report'!G772","v":80},null,{"$f":"'City-Town Population'!G523","v":80},{"$f":"'City-Town Population'!A523","v":"Vera Cruz town"},null,0]
[{"$f":"'Website Report'!C355","v":"City/Town"},{"$f":"'Website Report'!E355","v":"VERNON "},{"$f":"'Website Report'!G355","v":318},null,{"$f":"'City-Town Population'!G524","v":318},{"$f":"'City-Town Population'!A524","v":"Vernon town"},null,0]
[{"$f":"'Website Report'!C604","v":"City/Town"},{"$f":"'Website Report'!E604","v":"VERSAILLES "},{"$f":"'Website Report'!G604","v":2113},null,{"$f":"'City-Town Population'!G525","v":2113},{"$f":"'City-Town Population'!A525","v":"Versailles town"},null,0]
[null,"Blank",null,null,{"$f":"'City-Town Population'!G526","v":1683},{"$f":"'City-Town Population'!A526","v":"Vevay town"},null,1683,"Switzerland County - Does not receive riverboat sharing"]
[{"$f":"'Website Report'!C377","v":"City/Town"},{"$f":"'Website Report'!E377","v":"VINCENNES "},{"$f":"'Website Report'!G377","v":18423},null,{"$f":"'City-Town Population'!G527","v":18423},{"$f":"'City-Town Population'!A527","v":"Vincennes city"},null,{"$f":"E522-C522","v":0}]
[{"$f":"'Website Report'!C720","v":"City/Town"},{"$f":"'Website Report'!E720","v":"WABASH "},{"$f":"'Website Report'!G720","v":10666},null,{"$f":"'City-Town Population'!G528","v":10666},{"$f":"'City-Town Population'!A528","v":"Wabash city"},null,0]
[{"$f":"'Website Report'!C174","v":"City/Town"},{"$f":"'Website Report'!E174","v":"WAKARUSA "},{"$f":"'Website Report'!G174","v":1758},null,{"$f":"'City-Town Population'!G529","v":1758},{"$f":"'City-Town Population'!A529","v":"Wakarusa town"},null,0]
[{"$f":"'Website Report'!C622","v":"City/Town"},{"$f":"'Website Report'!E622","v":"WALKERTON "},{"$f":"'Website Report'!G622","v":2144},null,{"$f":"'City-Town Population'!G530","v":2144},{"$f":"'City-Town Population'!A530","v":"Walkerton town"},null,0]
[{"$f":"'Website Report'!C196","v":"City/Town"},{"$f":"'Website Report'!E196","v":"WALLACE "},{"$f":"'Website Report'!G196","v":105},null,{"$f":"'City-Town Population'!G531","v":105},{"$f":"'City-Town Population'!A531","v":"Wallace town"},null,0]
[{"$f":"'Website Report'!C79","v":"City/Town"},{"$f":"'Website Report'!E79","v":"WALTON "},{"$f":"'Website Report'!G79","v":1049},null,{"$f":"'City-Town Population'!G532","v":1049},{"$f":"'City-Town Population'!A532","v":"Walton town"},null,0]
[null,"Blank",null,null,{"$f":"'City-Town Population'!G533","v":1048},{"$f":"'City-Town Population'!A533","v":"Wanatah town"},null,1048,"LaPorte County - Does not receive riverboat sharing"]
[{"$f":"'Website Report'!C320","v":"City/Town"},{"$f":"'Website Report'!E320","v":"WARREN "},{"$f":"'Website Report'!G320","v":1239},null,{"$f":"'City-Town Population'!G534","v":1480},{"$f":"'City-Town Population'!A534","v":"Warren Park town"},null,241,"Okay"]
[{"$f":"'Website Report'!C443","v":"City/Town"},{"$f":"'Website Report'!E443","v":"WARREN PARK "},{"$f":"'Website Report'!G443","v":1480},null,{"$f":"'City-Town Population'!G535","v":1239},{"$f":"'City-Town Population'!A535","v":"Warren town"},null,-241,"Okay"]
[{"$f":"'Website Report'!C394","v":"City/Town"},{"$f":"'Website Report'!E394","v":"WARSAW "},{"$f":"'Website Report'!G394","v":13559},null,{"$f":"'City-Town Population'!G536","v":13559},{"$f":"'City-Town Population'!A536","v":"Warsaw city"},null,0]
[{"$f":"'Website Report'!C125","v":"City/Town"},{"$f":"'Website Report'!E125","v":"WASHINGTON "},{"$f":"'Website Report'!G125","v":11509},null,{"$f":"'City-Town Population'!G537","v":11509},{"$f":"'City-Town Population'!A537","v":"Washington city"},null,0]
[{"$f":"'Website Report'!C145","v":"City/Town"},{"$f":"'Website Report'!E145","v":"WATERLOO "},{"$f":"'Website Report'!G145","v":2242},null,{"$f":"'City-Town Population'!G538","v":2242},{"$f":"'City-Town Population'!A538","v":"Waterloo town"},null,0]
[{"$f":"'Website Report'!C487","v":"City/Town"},{"$f":"'Website Report'!E487","v":"WAVELAND "},{"$f":"'Website Report'!G487","v":420},null,{"$f":"'City-Town Population'!G539","v":420},{"$f":"'City-Town Population'!A539","v":"Waveland town"},null,0]
[{"$f":"'Website Report'!C488","v":"City/Town"},{"$f":"'Website Report'!E488","v":"WAYNETOWN "},{"$f":"'Website Report'!G488","v":958},null,{"$f":"'City-Town Population'!G540","v":958},{"$f":"'City-Town Population'!A540","v":"Waynetown town"},null,0]
[null,"Blank",null,null,{"$f":"'City-Town Population'!G541","v":574},{"$f":"'City-Town Population'!A541","v":"West Baden Springs town"},null,574,"Orange County - Does not receive riverboat sharing"]
[{"$f":"'Website Report'!C695","v":"City/Town"},{"$f":"'Website Report'!E695","v":"W. COLLEGE CORNER"},{"$f":"'Website Report'!G695","v":676},null,{"$f":"'City-Town Population'!G542","v":676},{"$f":"'City-Town Population'!A542","v":"West College Corner town"},null,0]
[null,"Blank",null,null,{"$f":"'City-Town Population'!G543","v":289},{"$f":"'City-Town Population'!A543","v":"West Harrison town"},null,289]
[{"$f":"'Website Report'!C682","v":"City/Town"},{"$f":"'Website Report'!E682","v":"WEST LAFAYETTE "},{"$f":"'Website Report'!G682","v":29596},null,{"$f":"'City-Town Population'!G544","v":42010},{"$f":"'City-Town Population'!A544","v":"West Lafayette city (11)"},null,12414,"I think 2010 should be adjusted due to this being a correction"]
[{"$f":"'Website Report'!C726","v":"City/Town"},{"$f":"'Website Report'!E726","v":"WEST LEBANON "},{"$f":"'Website Report'!G726","v":723},null,{"$f":"'City-Town Population'!G545","v":723},{"$f":"'City-Town Population'!A545","v":"West Lebanon town"},null,0]
[{"$f":"'Website Report'!C712","v":"City/Town"},{"$f":"'Website Report'!E712","v":"WEST TERRE HAUTE "},{"$f":"'Website Report'!G712","v":2236},null,{"$f":"'City-Town Population'!G546","v":2236},{"$f":"'City-Town Population'!A546","v":"West Terre Haute town"},null,0]
[{"$f":"'Website Report'!C260","v":"City/Town"},{"$f":"'Website Report'!E260","v":"WESTFIELD "},{"$f":"'Website Report'!G260","v":30068},null,{"$f":"'City-Town Population'!G547","v":36854},{"$f":"'City-Town Population'!A547","v":"Westfield town (7)"},null,6786,"Variance is due to state executive order increasing population"]
[{"$f":"'Website Report'!C133","v":"City/Town"},{"$f":"'Website Report'!E133","v":"WESTPORT "},{"$f":"'Website Report'!G133","v":1379},null,{"$f":"'City-Town Population'!G548","v":1379},{"$f":"'City-Town Population'!A548","v":"Westport town"},null,0]
[null,"Blank",null,null,{"$f":"'City-Town Population'!G549","v":5853},{"$f":"'City-Town Population'!A549","v":"Westville town"},null,5853,"LaPorte County - Does not receive riverboat sharing"]
[{"$f":"'Website Report'!C334","v":"City/Town"},{"$f":"'Website Report'!E334","v":"WHEATFIELD "},{"$f":"'Website Report'!G334","v":853},null,{"$f":"'City-Town Population'!G550","v":853},{"$f":"'City-Town Population'!A550","v":"Wheatfield town"},null,0]
[{"$f":"'Website Report'!C378","v":"City/Town"},{"$f":"'Website Report'!E378","v":"WHEATLAND "},{"$f":"'Website Report'!G378","v":480},null,{"$f":"'City-Town Population'!G551","v":480},{"$f":"'City-Town Population'!A551","v":"Wheatland town"},null,0]
[{"$f":"'Website Report'!C366","v":"City/Town"},{"$f":"'Website Report'!E366","v":"WHITELAND "},{"$f":"'Website Report'!G366","v":4169},null,{"$f":"'City-Town Population'!G552","v":4169},{"$f":"'City-Town Population'!A552","v":"Whiteland town"},null,0]
[{"$f":"'Website Report'!C58","v":"City/Town"},{"$f":"'Website Report'!E58","v":"WHITESTOWN "},{"$f":"'Website Report'!G58","v":2867},null,{"$f":"'City-Town Population'!G553","v":7814},{"$f":"'City-Town Population'!A553","v":"Whitestown town (9)"},null,4947,"Variance is due to state executive order increasing population"]
[{"$f":"'Website Report'!C763","v":"City/Town"},{"$f":"'Website Report'!E763","v":"WHITEWATER "},{"$f":"'Website Report'!G763","v":83},null,{"$f":"'City-Town Population'!G554","v":83},{"$f":"'City-Town Population'!A554","v":"Whitewater town"},null,0]
[null,"Blank",null,null,{"$f":"'City-Town Population'!G555","v":4997},{"$f":"'City-Town Population'!A555","v":"Whiting city"},null,4997,"Lake County - Does not receive riverboat sharing"]
[{"$f":"'Website Report'!C271","v":"City/Town"},{"$f":"'Website Report'!E271","v":"WILKINSON "},{"$f":"'Website Report'!G271","v":449},null,{"$f":"'City-Town Population'!G556","v":449},{"$f":"'City-Town Population'!A556","v":"Wilkinson town"},null,0]
[{"$f":"'Website Report'!C444","v":"City/Town"},{"$f":"'Website Report'!E444","v":"WILLIAMS CREEK R"},{"$f":"'Website Report'!G444","v":407},null,{"$f":"'City-Town Population'!G557","v":407},{"$f":"'City-Town Population'!A557","v":"Williams Creek town"},null,0]
[{"$f":"'Website Report'!C727","v":"City/Town"},{"$f":"'Website Report'!E727","v":"WILLIAMSPORT "},{"$f":"'Website Report'!G727","v":1898},null,{"$f":"'City-Town Population'!G558","v":1898},{"$f":"'City-Town Population'!A558","v":"Williamsport town"},null,0]
[{"$f":"'Website Report'!C572","v":"City/Town"},{"$f":"'Website Report'!E572","v":"WINAMAC "},{"$f":"'Website Report'!G572","v":2490},null,{"$f":"'City-Town Population'!G559","v":2490},{"$f":"'City-Town Population'!A559","v":"Winamac town"},null,{"$f":"E554-C554","v":0}]
[{"$f":"'Website Report'!C594","v":"City/Town"},{"$f":"'Website Report'!E594","v":"WINCHESTER "},{"$f":"'Website Report'!G594","v":4935},null,{"$f":"'City-Town Population'!G560","v":4935},{"$f":"'City-Town Population'!A560","v":"Winchester city"},null,0]
[{"$f":"'Website Report'!C690","v":"City/Town"},{"$f":"'Website Report'!E690","v":"WINDFALL "},{"$f":"'Website Report'!G690","v":708},null,{"$f":"'City-Town Population'!G561","v":708},{"$f":"'City-Town Population'!A561","v":"Windfall City"},null,0]
[null,"Blank",null,null,{"$f":"'City-Town Population'!G562","v":4383},{"$f":"'City-Town Population'!A562","v":"Winfield town"},null,4383,"Lake County - Does not receive riverboat sharing"]
[{"$f":"'Website Report'!C489","v":"City/Town"},{"$f":"'Website Report'!E489","v":"WINGATE "},{"$f":"'Website Report'!G489","v":263},null,{"$f":"'City-Town Population'!G563","v":263},{"$f":"'City-Town Population'!A563","v":"Wingate town"},null,0]
[{"$f":"'Website Report'!C395","v":"City/Town"},{"$f":"'Website Report'!E395","v":"WINONA LAKE "},{"$f":"'Website Report'!G395","v":4908},null,{"$f":"'City-Town Population'!G564","v":4908},{"$f":"'City-Town Population'!A564","v":"Winona Lake town"},null,0]
[{"$f":"'Website Report'!C543","v":"City/Town"},{"$f":"'Website Report'!E543","v":"WINSLOW "},{"$f":"'Website Report'!G543","v":864},null,{"$f":"'City-Town Population'!G565","v":864},{"$f":"'City-Town Population'!A565","v":"Winslow town"},null,0]
[{"$f":"'Website Report'!C783","v":"City/Town"},{"$f":"'Website Report'!E783","v":"WOLCOTT "},{"$f":"'Website Report'!G783","v":1001},null,{"$f":"'City-Town Population'!G566","v":1001},{"$f":"'City-Town Population'!A566","v":"Wolcott town"},null,0]
[{"$f":"'Website Report'!C402","v":"City/Town"},{"$f":"'Website Report'!E402","v":"WOLCOTTVILE "},{"$f":"'Website Report'!G402","v":469},null,{"$f":"'City-Town Population'!G567","v":998},{"$f":"'City-Town Population'!A567","v":"Wolcottville town"},null,529,"Variance is due to City/Town being located in multiple taxing districtcs. "]
[{"$f":"'Website Report'!C22","v":"City/Town"},{"$f":"'Website Report'!E22","v":"WOODBURN"},{"$f":"'Website Report'!G22","v":1520},null,{"$f":"'City-Town Population'!G568","v":1520},{"$f":"'City-Town Population'!A568","v":"Woodburn city"},null,0]
[{"$f":"'Website Report'!C426","v":"City/Town"},{"$f":"'Website Report'!E426","v":"WOODLAWN HEIGHTS AS"},{"$f":"'Website Report'!G426","v":79},null,{"$f":"'City-Town Population'!G569","v":79},{"$f":"'City-Town Population'!A569","v":"Woodlawn Heights town"},null,0]
[{"$f":"'Website Report'!C249","v":"City/Town"},{"$f":"'Website Report'!E249","v":"WORTHINGTON "},{"$f":"'Website Report'!G249","v":1463},null,{"$f":"'City-Town Population'!G570","v":1463},{"$f":"'City-Town Population'!A570","v":"Worthington town"},null,0]
[{"$f":"'Website Report'!C445","v":"City/Town"},{"$f":"'Website Report'!E445","v":"WYNNEDALE "},{"$f":"'Website Report'!G445","v":231},null,{"$f":"'City-Town Population'!G571","v":231},{"$f":"'City-Town Population'!A571","v":"Wynnedale town"},null,0]
[{"$f":"'Website Report'!C71","v":"City/Town"},{"$f":"'Website Report'!E71","v":"YEOMAN "},{"$f":"'Website Report'!G71","v":139},null,{"$f":"'City-Town Population'!G572","v":139},{"$f":"'City-Town Population'!A572","v":"Yeoman town"},null,{"$f":"E567-C567","v":0}]
[{"$f":"'Website Report'!C156","v":"City/Town"},{"$f":"'Website Report'!E156","v":"YORKTOWN "},{"$f":"'Website Report'!G156","v":9405},null,{"$f":"'City-Town Population'!G573","v":9405},{"$f":"'City-Town Population'!A573","v":"Yorktown town"},null,{"$f":"E568-C568","v":0}]
[{"$f":"'Website Report'!C23","v":"City/Town"},{"$f":"'Website Report'!E23","v":"ZANESVILLE"},{"$f":"'Website Report'!G23","v":127},null,{"$f":"'City-Town Population'!G574","v":600},{"$f":"'City-Town Population'!A574","v":"Zanesville town"},null,{"$f":"E569-C569","v":473},"Variance is due to City/Town being located in multiple taxing districtcs. "]
[{"$f":"'Website Report'!C59","v":"City/Town"},{"$f":"'Website Report'!E59","v":"ZIONSVILLE "},{"$f":"'Website Report'!G59","v":14160},null,{"$f":"'City-Town Population'!G575","v":23533},{"$f":"'City-Town Population'!A575","v":"Zionsville town (8)"},null,{"$f":"E570-C570","v":9373},"Variance is due to state executive order increasing population"]